BEGIN:VCALENDAR
VERSION:2.0
PRODID:-//Stetson Law Campus Announcements and Events - ECPv6.15.20//NONSGML v1.0//EN
CALSCALE:GREGORIAN
METHOD:PUBLISH
X-ORIGINAL-URL:https://www2.stetson.edu/law/docket
X-WR-CALDESC:Events for Stetson Law Campus Announcements and Events
REFRESH-INTERVAL;VALUE=DURATION:PT1H
X-Robots-Tag:noindex
X-PUBLISHED-TTL:PT1H
BEGIN:VTIMEZONE
TZID:America/New_York
BEGIN:DAYLIGHT
TZOFFSETFROM:-0500
TZOFFSETTO:-0400
TZNAME:EDT
DTSTART:20230312T070000
END:DAYLIGHT
BEGIN:STANDARD
TZOFFSETFROM:-0400
TZOFFSETTO:-0500
TZNAME:EST
DTSTART:20231105T060000
END:STANDARD
BEGIN:DAYLIGHT
TZOFFSETFROM:-0500
TZOFFSETTO:-0400
TZNAME:EDT
DTSTART:20240310T070000
END:DAYLIGHT
BEGIN:STANDARD
TZOFFSETFROM:-0400
TZOFFSETTO:-0500
TZNAME:EST
DTSTART:20241103T060000
END:STANDARD
BEGIN:DAYLIGHT
TZOFFSETFROM:-0500
TZOFFSETTO:-0400
TZNAME:EDT
DTSTART:20250309T070000
END:DAYLIGHT
BEGIN:STANDARD
TZOFFSETFROM:-0400
TZOFFSETTO:-0500
TZNAME:EST
DTSTART:20251102T060000
END:STANDARD
END:VTIMEZONE
BEGIN:VEVENT
DTSTART;TZID=America/New_York:20240619T160000
DTEND;TZID=America/New_York:20240619T180000
DTSTAMP:20260425T221655
CREATED:20240618T193422Z
LAST-MODIFIED:20240618T194347Z
UID:73134-1718812800-1718820000@www2.stetson.edu
SUMMARY:Juneteenth With BLSA
DESCRIPTION:A cookout and game night with BLSA in honor of Juneteenth. Come enjoy friends\, food\, and fun!! \nPlease RSVP on Engage   \nFood served at student organization events is for students who attend the entire program.   \nE-mail ada@law.stetson.edu should you need ADA accommodations for this program. 
URL:https://www2.stetson.edu/law/docket/events/juneteenth-with-blsa/
LOCATION:War Veterans’ Memorial Park\, 9600 Bay Pines Boulevard St. Petersburg\, Florida 33708 \, St. Pete\, FL
END:VEVENT
END:VCALENDAR