BEGIN:VCALENDAR
VERSION:2.0
PRODID:-//Stetson Law Campus Announcements and Events - ECPv6.15.20//NONSGML v1.0//EN
CALSCALE:GREGORIAN
METHOD:PUBLISH
X-WR-CALNAME:Stetson Law Campus Announcements and Events
X-ORIGINAL-URL:https://www2.stetson.edu/law/docket
X-WR-CALDESC:Events for Stetson Law Campus Announcements and Events
REFRESH-INTERVAL;VALUE=DURATION:PT1H
X-Robots-Tag:noindex
X-PUBLISHED-TTL:PT1H
BEGIN:VTIMEZONE
TZID:America/New_York
BEGIN:DAYLIGHT
TZOFFSETFROM:-0500
TZOFFSETTO:-0400
TZNAME:EDT
DTSTART:20230312T070000
END:DAYLIGHT
BEGIN:STANDARD
TZOFFSETFROM:-0400
TZOFFSETTO:-0500
TZNAME:EST
DTSTART:20231105T060000
END:STANDARD
BEGIN:DAYLIGHT
TZOFFSETFROM:-0500
TZOFFSETTO:-0400
TZNAME:EDT
DTSTART:20240310T070000
END:DAYLIGHT
BEGIN:STANDARD
TZOFFSETFROM:-0400
TZOFFSETTO:-0500
TZNAME:EST
DTSTART:20241103T060000
END:STANDARD
BEGIN:DAYLIGHT
TZOFFSETFROM:-0500
TZOFFSETTO:-0400
TZNAME:EDT
DTSTART:20250309T070000
END:DAYLIGHT
BEGIN:STANDARD
TZOFFSETFROM:-0400
TZOFFSETTO:-0500
TZNAME:EST
DTSTART:20251102T060000
END:STANDARD
END:VTIMEZONE
BEGIN:VEVENT
DTSTART;TZID=America/New_York:20240822T080000
DTEND;TZID=America/New_York:20240831T170000
DTSTAMP:20260425T190421
CREATED:20240822T144653Z
LAST-MODIFIED:20240822T144653Z
UID:73871-1724313600-1725123600@www2.stetson.edu
SUMMARY:Disability Allied Law Student Association – Open E-Board Position
DESCRIPTION:DALSA is seeking a Treasurer for the 2024-2025 school year. If you are interested\, please e-mail mbird1@law.stetson.edu for details.
URL:https://www2.stetson.edu/law/docket/events/disability-allied-law-student-association-open-e-board-position/
CATEGORIES:Disability Allied Law Student Association
END:VEVENT
BEGIN:VEVENT
DTSTART;TZID=America/New_York:20240823T130000
DTEND;TZID=America/New_York:20240823T160000
DTSTAMP:20260425T190421
CREATED:20240723T184318Z
LAST-MODIFIED:20240725T145622Z
UID:73383-1724418000-1724428800@www2.stetson.edu
SUMMARY:Student Organization Officer Training (Mandatory)
DESCRIPTION:August 23\, 1:00pm – 4:00pm.  SBA and the Office of Student Affairs will host a mandatory student organization training for Fall 2024. Student Organization Presidents and one other member of your Exec board are required to attend. We encourage all Executive Board members to attend\, but the training will be most beneficial for Presidents\, Treasurers\, and anyone in charge of planning events for your org. The training session will be recorded. Please RSVP here.\nIf no one on your executive board is able to attend the training\, you must email me at fpatel1@law.stetson.edu and Desmond Baker at dbaker2@law.stetson.edu. Organizations who cannot attend will be required to watch the recording and take a quiz before the organization will be eligible to receive funds from SBA.\n\n\nPlease RSVP on Engage \nFood served at student organization events is for students who attend the entire program. \nE-mail ada@law.stetson.edu should you need ADA accommodations for this program.
URL:https://www2.stetson.edu/law/docket/events/student-organization-officer-training-mandatory/
LOCATION:(A) Nemec
CATEGORIES:Student Bar Association,Student Organizations
END:VEVENT
END:VCALENDAR