BEGIN:VCALENDAR
VERSION:2.0
PRODID:-//Stetson Law Campus Announcements and Events - ECPv6.15.20//NONSGML v1.0//EN
CALSCALE:GREGORIAN
METHOD:PUBLISH
X-WR-CALNAME:Stetson Law Campus Announcements and Events
X-ORIGINAL-URL:https://www2.stetson.edu/law/docket
X-WR-CALDESC:Events for Stetson Law Campus Announcements and Events
REFRESH-INTERVAL;VALUE=DURATION:PT1H
X-Robots-Tag:noindex
X-PUBLISHED-TTL:PT1H
BEGIN:VTIMEZONE
TZID:America/New_York
BEGIN:DAYLIGHT
TZOFFSETFROM:-0500
TZOFFSETTO:-0400
TZNAME:EDT
DTSTART:20230312T070000
END:DAYLIGHT
BEGIN:STANDARD
TZOFFSETFROM:-0400
TZOFFSETTO:-0500
TZNAME:EST
DTSTART:20231105T060000
END:STANDARD
BEGIN:DAYLIGHT
TZOFFSETFROM:-0500
TZOFFSETTO:-0400
TZNAME:EDT
DTSTART:20240310T070000
END:DAYLIGHT
BEGIN:STANDARD
TZOFFSETFROM:-0400
TZOFFSETTO:-0500
TZNAME:EST
DTSTART:20241103T060000
END:STANDARD
BEGIN:DAYLIGHT
TZOFFSETFROM:-0500
TZOFFSETTO:-0400
TZNAME:EDT
DTSTART:20250309T070000
END:DAYLIGHT
BEGIN:STANDARD
TZOFFSETFROM:-0400
TZOFFSETTO:-0500
TZNAME:EST
DTSTART:20251102T060000
END:STANDARD
END:VTIMEZONE
BEGIN:VEVENT
DTSTART;TZID=America/New_York:20240910T080000
DTEND;TZID=America/New_York:20241130T170000
DTSTAMP:20260425T160630
CREATED:20240910T161811Z
LAST-MODIFIED:20240910T161811Z
UID:74121-1725955200-1732986000@www2.stetson.edu
SUMMARY:Intramural Sports Schedule
DESCRIPTION:Basketball: Monday 6 – 9 PM Tennis: Tuesday 6 – 8 PM Softball: Wednesdays 6 – 10 PM Pickleball: 6 – 8 PM Volleyball: 6 – 9 PM (Downtown Gulfport – 5500 Block on Shore Blvd.\, Gulfport\, FL) Soccer: Sundays 6 – 8 PM (Azalea Park – 1600 72nd St N\, St. Petersburg\, FL 33713)
URL:https://www2.stetson.edu/law/docket/events/intramural-sports-schedule/
CATEGORIES:Intramural Sports,SBA Intramurals
END:VEVENT
BEGIN:VEVENT
DTSTART;TZID=America/New_York:20240930T100000
DTEND;TZID=America/New_York:20240930T140000
DTSTAMP:20260425T160630
CREATED:20240726T191904Z
LAST-MODIFIED:20240726T191904Z
UID:73472-1727690400-1727704800@www2.stetson.edu
SUMMARY:University of Georgia Law School Fair
DESCRIPTION:
URL:https://www2.stetson.edu/law/docket/events/university-of-georgia-law-school-fair/
LOCATION:University of Georgia\, Athens\, GA
CATEGORIES:Admissions
END:VEVENT
BEGIN:VEVENT
DTSTART;TZID=America/New_York:20240930T180000
DTEND;TZID=America/New_York:20240930T210000
DTSTAMP:20260425T160630
CREATED:20240930T185321Z
LAST-MODIFIED:20240930T185321Z
UID:74392-1727719200-1727730000@www2.stetson.edu
SUMMARY:Just Mercy
DESCRIPTION:Join Us for a Special Screening of Just Mercy! \nOn September 30th at 6:00 PM in the Mann Lounge\, the Christian Legal Society\, Black Law Students Association\, and Innocence Initiative at Stetson University are proud to host a screening of the movie Just Mercy. This powerful drama tells the inspiring story of young defense attorney Bryan Stevenson and is based on his 2014 memoir. The film chronicles Stevenson’s early work and his dedication to providing legal representation to individuals in the criminal justice system who cannot afford proper legal counsel\, bringing attention to a critical issue in the criminal justice system. \nFREE pizza and snacks. We hope to see you there! \nPlease RSVP on Engage\nFood served at student organization events is for students who attend the entire program.\nE-mail ada@law.stetson.edu should you need ADA accommodations for this program.
URL:https://www2.stetson.edu/law/docket/events/just-mercy/
LOCATION:Mann Lounge\, Gulfport Campus
CATEGORIES:Christian Legal Society
END:VEVENT
END:VCALENDAR