BEGIN:VCALENDAR
VERSION:2.0
PRODID:-//Stetson Law Campus Announcements and Events - ECPv6.15.20//NONSGML v1.0//EN
CALSCALE:GREGORIAN
METHOD:PUBLISH
X-ORIGINAL-URL:https://www2.stetson.edu/law/docket
X-WR-CALDESC:Events for Stetson Law Campus Announcements and Events
REFRESH-INTERVAL;VALUE=DURATION:PT1H
X-Robots-Tag:noindex
X-PUBLISHED-TTL:PT1H
BEGIN:VTIMEZONE
TZID:America/New_York
BEGIN:DAYLIGHT
TZOFFSETFROM:-0500
TZOFFSETTO:-0400
TZNAME:EDT
DTSTART:20230312T070000
END:DAYLIGHT
BEGIN:STANDARD
TZOFFSETFROM:-0400
TZOFFSETTO:-0500
TZNAME:EST
DTSTART:20231105T060000
END:STANDARD
BEGIN:DAYLIGHT
TZOFFSETFROM:-0500
TZOFFSETTO:-0400
TZNAME:EDT
DTSTART:20240310T070000
END:DAYLIGHT
BEGIN:STANDARD
TZOFFSETFROM:-0400
TZOFFSETTO:-0500
TZNAME:EST
DTSTART:20241103T060000
END:STANDARD
BEGIN:DAYLIGHT
TZOFFSETFROM:-0500
TZOFFSETTO:-0400
TZNAME:EDT
DTSTART:20250309T070000
END:DAYLIGHT
BEGIN:STANDARD
TZOFFSETFROM:-0400
TZOFFSETTO:-0500
TZNAME:EST
DTSTART:20251102T060000
END:STANDARD
END:VTIMEZONE
BEGIN:VEVENT
DTSTART;TZID=America/New_York:20240910T080000
DTEND;TZID=America/New_York:20241130T170000
DTSTAMP:20260425T160740
CREATED:20240910T161811Z
LAST-MODIFIED:20240910T161811Z
UID:74121-1725955200-1732986000@www2.stetson.edu
SUMMARY:Intramural Sports Schedule
DESCRIPTION:Basketball: Monday 6 – 9 PM Tennis: Tuesday 6 – 8 PM Softball: Wednesdays 6 – 10 PM Pickleball: 6 – 8 PM Volleyball: 6 – 9 PM (Downtown Gulfport – 5500 Block on Shore Blvd.\, Gulfport\, FL) Soccer: Sundays 6 – 8 PM (Azalea Park – 1600 72nd St N\, St. Petersburg\, FL 33713)
URL:https://www2.stetson.edu/law/docket/events/intramural-sports-schedule/
CATEGORIES:Intramural Sports,SBA Intramurals
END:VEVENT
BEGIN:VEVENT
DTSTART;TZID=America/New_York:20241003T100000
DTEND;TZID=America/New_York:20241003T130000
DTSTAMP:20260425T160741
CREATED:20240726T160030Z
LAST-MODIFIED:20240726T160030Z
UID:73450-1727949600-1727960400@www2.stetson.edu
SUMMARY:University of Louisville Law School Fair
DESCRIPTION:
URL:https://www2.stetson.edu/law/docket/events/university-of-louisville-law-school-fair/
LOCATION:Louisville\, KY
CATEGORIES:Admissions
END:VEVENT
BEGIN:VEVENT
DTSTART;TZID=America/New_York:20241003T120000
DTEND;TZID=America/New_York:20241003T130000
DTSTAMP:20260425T160741
CREATED:20240930T203623Z
LAST-MODIFIED:20240930T203623Z
UID:74410-1727956800-1727960400@www2.stetson.edu
SUMMARY:Growing Possibilities: Celebrating Disability Employment Awareness Month
DESCRIPTION:Join us in celebrating National Disability Employment Awareness Month this October! Come for free cold brew\, green tea\, sweets\, succulents\, and more! \nPlease RSVP on Engage \nFood served at student organization events is for students who attend the entire program.\nE-mail ada@law.stetson.edu should you need ADA accommodations for this program.
URL:https://www2.stetson.edu/law/docket/events/growing-possibilities-celebrating-disability-employment-awareness-month/
LOCATION:Crummer Courtyard
CATEGORIES:SBA Diversity Committee,Stetson Law School Disability Allied Law Student Association,Student Bar Association
END:VEVENT
BEGIN:VEVENT
DTSTART;TZID=America/New_York:20241003T160000
DTEND;TZID=America/New_York:20241003T200000
DTSTAMP:20260425T160741
CREATED:20240710T160758Z
LAST-MODIFIED:20240710T160758Z
UID:73305-1727971200-1727985600@www2.stetson.edu
SUMMARY:17th Annual National Pretrial Competition (NPTC): Day 1
DESCRIPTION:The Seventeenth Annual National Pretrial Competition (NPTC) provides students with a forum to develop skills for properly researching\, analyzing\, and litigating important\, case-dispositive\, pretrial matters in an evidentiary hearing almost identical to a full trial.
URL:https://www2.stetson.edu/law/docket/events/17th-annual-national-pretrial-competition-nptc-day-1/
LOCATION:Stetson College of Law
CATEGORIES:Advocacy Center
END:VEVENT
END:VCALENDAR