BEGIN:VCALENDAR
VERSION:2.0
PRODID:-//Stetson Law Campus Announcements and Events - ECPv6.15.20//NONSGML v1.0//EN
CALSCALE:GREGORIAN
METHOD:PUBLISH
X-ORIGINAL-URL:https://www2.stetson.edu/law/docket
X-WR-CALDESC:Events for Stetson Law Campus Announcements and Events
REFRESH-INTERVAL;VALUE=DURATION:PT1H
X-Robots-Tag:noindex
X-PUBLISHED-TTL:PT1H
BEGIN:VTIMEZONE
TZID:America/New_York
BEGIN:DAYLIGHT
TZOFFSETFROM:-0500
TZOFFSETTO:-0400
TZNAME:EDT
DTSTART:20230312T070000
END:DAYLIGHT
BEGIN:STANDARD
TZOFFSETFROM:-0400
TZOFFSETTO:-0500
TZNAME:EST
DTSTART:20231105T060000
END:STANDARD
BEGIN:DAYLIGHT
TZOFFSETFROM:-0500
TZOFFSETTO:-0400
TZNAME:EDT
DTSTART:20240310T070000
END:DAYLIGHT
BEGIN:STANDARD
TZOFFSETFROM:-0400
TZOFFSETTO:-0500
TZNAME:EST
DTSTART:20241103T060000
END:STANDARD
BEGIN:DAYLIGHT
TZOFFSETFROM:-0500
TZOFFSETTO:-0400
TZNAME:EDT
DTSTART:20250309T070000
END:DAYLIGHT
BEGIN:STANDARD
TZOFFSETFROM:-0400
TZOFFSETTO:-0500
TZNAME:EST
DTSTART:20251102T060000
END:STANDARD
END:VTIMEZONE
BEGIN:VEVENT
DTSTART;TZID=America/New_York:20240910T080000
DTEND;TZID=America/New_York:20241130T170000
DTSTAMP:20260425T160711
CREATED:20240910T161811Z
LAST-MODIFIED:20240910T161811Z
UID:74121-1725955200-1732986000@www2.stetson.edu
SUMMARY:Intramural Sports Schedule
DESCRIPTION:Basketball: Monday 6 – 9 PM Tennis: Tuesday 6 – 8 PM Softball: Wednesdays 6 – 10 PM Pickleball: 6 – 8 PM Volleyball: 6 – 9 PM (Downtown Gulfport – 5500 Block on Shore Blvd.\, Gulfport\, FL) Soccer: Sundays 6 – 8 PM (Azalea Park – 1600 72nd St N\, St. Petersburg\, FL 33713)
URL:https://www2.stetson.edu/law/docket/events/intramural-sports-schedule/
CATEGORIES:Intramural Sports,SBA Intramurals
END:VEVENT
BEGIN:VEVENT
DTSTART;TZID=America/New_York:20241010T120000
DTEND;TZID=America/New_York:20241010T133000
DTSTAMP:20260425T160711
CREATED:20240930T204000Z
LAST-MODIFIED:20240930T204000Z
UID:74412-1728561600-1728567000@www2.stetson.edu
SUMMARY:Lunch with Seaside Seabird Sanctuary
DESCRIPTION:Come have lunch with the birds! Seaside Seabird Sanctuary is joining Stetson’s Student Animal Legal Defense Fund to share about the work they do protecting local wildlife. Seaside will put on an educational demonstration including live birds they have helped to rehabilitate. \nPlease RSVP on Engage \nFood served at student organization events is for students who attend the entire program.\nE-mail ada@law.stetson.edu should you need ADA accommodations for this program.
URL:https://www2.stetson.edu/law/docket/events/lunch-with-seaside-seabird-sanctuary/
LOCATION:Mann Lounge\, Gulfport 
CATEGORIES:Student Animal Legal Defense Fund
END:VEVENT
BEGIN:VEVENT
DTSTART;TZID=America/New_York:20241010T180000
DTEND;TZID=America/New_York:20241010T210000
DTSTAMP:20260425T160711
CREATED:20241001T192147Z
LAST-MODIFIED:20241001T192147Z
UID:74439-1728583200-1728594000@www2.stetson.edu
SUMMARY:Celebrating La Cultura: Law Mixer
DESCRIPTION:Join us for our Second Annual Celebrating La Cultura: Law Mixer! This mixer aims to highlight Hispanic culture and its profound contributions to our community and beyond. Come together with us to enjoy lively networking\, traditional cuisine\, and an opportunity to celebrate the history and achievements that shape our Hispanic heritage. \nWe are hosting this mixer to create an informal yet impactful environment where Stetson students can connect with law firms across Tampa Bay. It offers a fantastic opportunity for attorneys to engage with enthusiastic students eager to build relationships with local firms\, particularly those that resonate with their areas of interest and cultural backgrounds. \nIf there are any attorneys or professionals you would like to invite to the mixer\, please do so by sharing the following link: Celebrating La Cultura: Law Mixer. \nStudents must RSVP through engage\, if you are student please DO NOT use the RSVP link above. 
URL:https://www2.stetson.edu/law/docket/events/celebrating-la-cultura-law-mixer-2/
LOCATION:The Great Hall
CATEGORIES:Hispanic Bar Association
END:VEVENT
BEGIN:VEVENT
DTSTART;TZID=America/New_York:20241010T180000
DTEND;TZID=America/New_York:20241010T210000
DTSTAMP:20260425T160711
CREATED:20241003T201115Z
LAST-MODIFIED:20241003T201115Z
UID:74457-1728583200-1728594000@www2.stetson.edu
SUMMARY:Celebrating La Cultura: Law Mixer
DESCRIPTION:Join us for our Second Annual Celebrating La Cultura: Law Mixer! This mixer aims to highlight Hispanic culture and its profound contributions to our community and beyond. Come together with us to enjoy lively networking\, traditional cuisine\, and an opportunity to celebrate the history and achievements that shape our Hispanic heritage. \nWe are hosting this mixer to create an informal yet impactful environment where Stetson students can connect with law firms across Tampa Bay. It offers a fantastic opportunity for attorneys to engage with enthusiastic students eager to build relationships with local firms\, particularly those that resonate with their areas of interest and cultural backgrounds. \nIf there are any attorneys or professionals you would like to invite to the mixer\, please do so by sharing the following link: Celebrating La Cultura: Law Mixer. \nStudents must RSVP through engage\, if you are student please DO NOT use the RSVP link above. \nFood served at student organization events is for students who attend the entire program.\nE-mail ada@law.stetson.edu should you need ADA accommodations for this program.
URL:https://www2.stetson.edu/law/docket/events/celebrating-la-cultura-law-mixer-3/
LOCATION:Great Hall
CATEGORIES:Hispanic Bar Association
END:VEVENT
END:VCALENDAR