BEGIN:VCALENDAR
VERSION:2.0
PRODID:-//Stetson Law Campus Announcements and Events - ECPv6.15.20//NONSGML v1.0//EN
CALSCALE:GREGORIAN
METHOD:PUBLISH
X-ORIGINAL-URL:https://www2.stetson.edu/law/docket
X-WR-CALDESC:Events for Stetson Law Campus Announcements and Events
REFRESH-INTERVAL;VALUE=DURATION:PT1H
X-Robots-Tag:noindex
X-PUBLISHED-TTL:PT1H
BEGIN:VTIMEZONE
TZID:America/New_York
BEGIN:DAYLIGHT
TZOFFSETFROM:-0500
TZOFFSETTO:-0400
TZNAME:EDT
DTSTART:20230312T070000
END:DAYLIGHT
BEGIN:STANDARD
TZOFFSETFROM:-0400
TZOFFSETTO:-0500
TZNAME:EST
DTSTART:20231105T060000
END:STANDARD
BEGIN:DAYLIGHT
TZOFFSETFROM:-0500
TZOFFSETTO:-0400
TZNAME:EDT
DTSTART:20240310T070000
END:DAYLIGHT
BEGIN:STANDARD
TZOFFSETFROM:-0400
TZOFFSETTO:-0500
TZNAME:EST
DTSTART:20241103T060000
END:STANDARD
BEGIN:DAYLIGHT
TZOFFSETFROM:-0500
TZOFFSETTO:-0400
TZNAME:EDT
DTSTART:20250309T070000
END:DAYLIGHT
BEGIN:STANDARD
TZOFFSETFROM:-0400
TZOFFSETTO:-0500
TZNAME:EST
DTSTART:20251102T060000
END:STANDARD
END:VTIMEZONE
BEGIN:VEVENT
DTSTART;TZID=America/New_York:20240910T080000
DTEND;TZID=America/New_York:20241130T170000
DTSTAMP:20260425T160742
CREATED:20240910T161811Z
LAST-MODIFIED:20240910T161811Z
UID:74121-1725955200-1732986000@www2.stetson.edu
SUMMARY:Intramural Sports Schedule
DESCRIPTION:Basketball: Monday 6 – 9 PM Tennis: Tuesday 6 – 8 PM Softball: Wednesdays 6 – 10 PM Pickleball: 6 – 8 PM Volleyball: 6 – 9 PM (Downtown Gulfport – 5500 Block on Shore Blvd.\, Gulfport\, FL) Soccer: Sundays 6 – 8 PM (Azalea Park – 1600 72nd St N\, St. Petersburg\, FL 33713)
URL:https://www2.stetson.edu/law/docket/events/intramural-sports-schedule/
CATEGORIES:Intramural Sports,SBA Intramurals
END:VEVENT
BEGIN:VEVENT
DTSTART;TZID=America/New_York:20241014T170000
DTEND;TZID=America/New_York:20241014T200000
DTSTAMP:20260425T160742
CREATED:20241001T131615Z
LAST-MODIFIED:20241001T131615Z
UID:74419-1728925200-1728936000@www2.stetson.edu
SUMMARY:Gen Silent Screening and Panel
DESCRIPTION:Join ELS and Lambda for a special screening of Gen Silent\, a powerful documentary exploring the intersection of aging and the LGBTQ+ community. After the film\, stay for an engaging panel discussion to dive deeper into the themes presented. \nEnjoy a selection of concession-style snacks\, food\, and beverages as you mingle and reflect on the film! \nPlease RSVP on Engage \nFood served at student organization events is for students who attend the entire program.\nE-mail ada@law.stetson.edu should you need ADA accommodations for this program.
URL:https://www2.stetson.edu/law/docket/events/gen-silent-screening-and-panel/
LOCATION:Mann Lounge\, Gulfport Campus
CATEGORIES:Elder Law Society,Lambda Legal Society
END:VEVENT
BEGIN:VEVENT
DTSTART;TZID=America/New_York:20241014T180000
DTEND;TZID=America/New_York:20241014T193000
DTSTAMP:20260425T160742
CREATED:20240930T204940Z
LAST-MODIFIED:20240930T204940Z
UID:74416-1728928800-1728934200@www2.stetson.edu
SUMMARY:Internships and Clerkships... What are They and How Do I Get One?!?!?!
DESCRIPTION:Judicial Panel consisting of Judge Barber of the Middle District of Florida\, Judge Labrit of Florida’s 2d DCA\, and Chief Judge Sabella of Florida’s 13th Circuit discuss what students should consider when seeking internships and clerkships and the roles interns and clerks take in the various courts. \nPlease RSVP on Engage \nFood served at student organization events is for students who attend the entire program.\nE-mail ada@law.stetson.edu should you need ADA accommodations for this program.
URL:https://www2.stetson.edu/law/docket/events/internships-and-clerkships-what-are-they-and-how-do-i-get-one/
LOCATION:Classroom G\, Gulfport\, FL
CATEGORIES:Federalist Society
END:VEVENT
END:VCALENDAR