BEGIN:VCALENDAR
VERSION:2.0
PRODID:-//Stetson Law Campus Announcements and Events - ECPv6.15.20//NONSGML v1.0//EN
CALSCALE:GREGORIAN
METHOD:PUBLISH
X-WR-CALNAME:Stetson Law Campus Announcements and Events
X-ORIGINAL-URL:https://www2.stetson.edu/law/docket
X-WR-CALDESC:Events for Stetson Law Campus Announcements and Events
REFRESH-INTERVAL;VALUE=DURATION:PT1H
X-Robots-Tag:noindex
X-PUBLISHED-TTL:PT1H
BEGIN:VTIMEZONE
TZID:America/New_York
BEGIN:DAYLIGHT
TZOFFSETFROM:-0500
TZOFFSETTO:-0400
TZNAME:EDT
DTSTART:20230312T070000
END:DAYLIGHT
BEGIN:STANDARD
TZOFFSETFROM:-0400
TZOFFSETTO:-0500
TZNAME:EST
DTSTART:20231105T060000
END:STANDARD
BEGIN:DAYLIGHT
TZOFFSETFROM:-0500
TZOFFSETTO:-0400
TZNAME:EDT
DTSTART:20240310T070000
END:DAYLIGHT
BEGIN:STANDARD
TZOFFSETFROM:-0400
TZOFFSETTO:-0500
TZNAME:EST
DTSTART:20241103T060000
END:STANDARD
BEGIN:DAYLIGHT
TZOFFSETFROM:-0500
TZOFFSETTO:-0400
TZNAME:EDT
DTSTART:20250309T070000
END:DAYLIGHT
BEGIN:STANDARD
TZOFFSETFROM:-0400
TZOFFSETTO:-0500
TZNAME:EST
DTSTART:20251102T060000
END:STANDARD
END:VTIMEZONE
BEGIN:VEVENT
DTSTART;TZID=America/New_York:20240910T080000
DTEND;TZID=America/New_York:20241130T170000
DTSTAMP:20260425T160630
CREATED:20240910T161811Z
LAST-MODIFIED:20240910T161811Z
UID:74121-1725955200-1732986000@www2.stetson.edu
SUMMARY:Intramural Sports Schedule
DESCRIPTION:Basketball: Monday 6 – 9 PM Tennis: Tuesday 6 – 8 PM Softball: Wednesdays 6 – 10 PM Pickleball: 6 – 8 PM Volleyball: 6 – 9 PM (Downtown Gulfport – 5500 Block on Shore Blvd.\, Gulfport\, FL) Soccer: Sundays 6 – 8 PM (Azalea Park – 1600 72nd St N\, St. Petersburg\, FL 33713)
URL:https://www2.stetson.edu/law/docket/events/intramural-sports-schedule/
CATEGORIES:Intramural Sports,SBA Intramurals
END:VEVENT
BEGIN:VEVENT
DTSTART;TZID=America/New_York:20241015T100000
DTEND;TZID=America/New_York:20241015T130000
DTSTAMP:20260425T160630
CREATED:20240815T180428Z
LAST-MODIFIED:20240815T180428Z
UID:73754-1728986400-1728997200@www2.stetson.edu
SUMMARY:University of Maryland Law School Fair
DESCRIPTION:
URL:https://www2.stetson.edu/law/docket/events/university-of-maryland-law-school-fair/
LOCATION:University of Maryland\, College Park\, MD
CATEGORIES:Admissions
END:VEVENT
BEGIN:VEVENT
DTSTART;TZID=America/New_York:20241015T120000
DTEND;TZID=America/New_York:20241015T130000
DTSTAMP:20260425T160630
CREATED:20241001T132244Z
LAST-MODIFIED:20241001T132244Z
UID:74421-1728993600-1728997200@www2.stetson.edu
SUMMARY:SBA Legislative Council Meeting
DESCRIPTION:SBA Legislative Council Meeting \nBi-weekly general body meetings for members of SBA’s Executive Board and Legislative Council. All students are welcome to attend.  If you would like to attend this meeting virtually\, please get in touch with the SBA’s Secretary\, Francesca Littlejohn at flittlejohn@law.stetson.edu for the meeting link. \nPresident – Flora Patel fpatel1@law.stetson.edu \nVice President – Brooke Reeves breeves1@law.stetson.edu \nVice-President of Part-Time Students – Emily Sowa esowa@law.stetson.edu \nSecretary – Francesca Littlejohn flittlejohn@law.stetson.edu \nTreasurer – Jacob Gordon jdgordon@law.stetson.edu \nParliamentarian – Austin Dodson wadodson@law.stetson.edu \nABA-LSD Representative -Andrew Smiarowski asmiarowski@law.stetson.edu \nABA-LSD Vice-Representative – TBD \nSports Commissioner – Larry Sinibaldi lsinibaldi@law.stetson.edu \nPlease RSVP on Engage \nFood served at student organization events is for students who attend the entire program.\nE-mail ada@law.stetson.edu should you need ADA accommodations for this program.
URL:https://www2.stetson.edu/law/docket/events/sba-legislative-council-meeting-2/
LOCATION:Florin Roebig
CATEGORIES:Student Bar Association
END:VEVENT
END:VCALENDAR