BEGIN:VCALENDAR
VERSION:2.0
PRODID:-//Stetson Law Campus Announcements and Events - ECPv6.15.20//NONSGML v1.0//EN
CALSCALE:GREGORIAN
METHOD:PUBLISH
X-ORIGINAL-URL:https://www2.stetson.edu/law/docket
X-WR-CALDESC:Events for Stetson Law Campus Announcements and Events
REFRESH-INTERVAL;VALUE=DURATION:PT1H
X-Robots-Tag:noindex
X-PUBLISHED-TTL:PT1H
BEGIN:VTIMEZONE
TZID:America/New_York
BEGIN:DAYLIGHT
TZOFFSETFROM:-0500
TZOFFSETTO:-0400
TZNAME:EDT
DTSTART:20230312T070000
END:DAYLIGHT
BEGIN:STANDARD
TZOFFSETFROM:-0400
TZOFFSETTO:-0500
TZNAME:EST
DTSTART:20231105T060000
END:STANDARD
BEGIN:DAYLIGHT
TZOFFSETFROM:-0500
TZOFFSETTO:-0400
TZNAME:EDT
DTSTART:20240310T070000
END:DAYLIGHT
BEGIN:STANDARD
TZOFFSETFROM:-0400
TZOFFSETTO:-0500
TZNAME:EST
DTSTART:20241103T060000
END:STANDARD
BEGIN:DAYLIGHT
TZOFFSETFROM:-0500
TZOFFSETTO:-0400
TZNAME:EDT
DTSTART:20250309T070000
END:DAYLIGHT
BEGIN:STANDARD
TZOFFSETFROM:-0400
TZOFFSETTO:-0500
TZNAME:EST
DTSTART:20251102T060000
END:STANDARD
END:VTIMEZONE
BEGIN:VEVENT
DTSTART;TZID=America/New_York:20240910T080000
DTEND;TZID=America/New_York:20241130T170000
DTSTAMP:20260425T160711
CREATED:20240910T161811Z
LAST-MODIFIED:20240910T161811Z
UID:74121-1725955200-1732986000@www2.stetson.edu
SUMMARY:Intramural Sports Schedule
DESCRIPTION:Basketball: Monday 6 – 9 PM Tennis: Tuesday 6 – 8 PM Softball: Wednesdays 6 – 10 PM Pickleball: 6 – 8 PM Volleyball: 6 – 9 PM (Downtown Gulfport – 5500 Block on Shore Blvd.\, Gulfport\, FL) Soccer: Sundays 6 – 8 PM (Azalea Park – 1600 72nd St N\, St. Petersburg\, FL 33713)
URL:https://www2.stetson.edu/law/docket/events/intramural-sports-schedule/
CATEGORIES:Intramural Sports,SBA Intramurals
END:VEVENT
BEGIN:VEVENT
DTSTART;TZID=America/New_York:20241021T170000
DTEND;TZID=America/New_York:20241021T190000
DTSTAMP:20260425T160711
CREATED:20241018T143547Z
LAST-MODIFIED:20241018T143547Z
UID:74589-1729530000-1729537200@www2.stetson.edu
SUMMARY:Día de los Muertos Celebration
DESCRIPTION:Join SBA Diversity Committee\, HBA\, and Inclusive Excellence in an evening of fun as we celebrate Día de los Muertos. Enjoy sweet treats like horchata\, hot coco\, and churros\, get a Calavera ‘sugar skull’ face painting\, and honor your loved ones who have passed by making a picture frame to add to our community ofrenda (all materials provided). ALL are welcome and we hope to see you there! \nPlease RSVP on Engage\nFood served at student organization events is for students who attend the entire program.\nE-mail ada@law.stetson.edu should you need ADA accommodations for this program.
URL:https://www2.stetson.edu/law/docket/events/dia-de-los-muertos-celebration/
LOCATION:Crummer Courtyard
CATEGORIES:Hispanic Bar Association,SBA Diversity Committee,Student Bar Association
END:VEVENT
BEGIN:VEVENT
DTSTART;TZID=America/New_York:20241021T170000
DTEND;TZID=America/New_York:20241021T200000
DTSTAMP:20260425T160711
CREATED:20241018T143344Z
LAST-MODIFIED:20241018T143344Z
UID:74587-1729530000-1729540800@www2.stetson.edu
SUMMARY:The LL.M. Advantage: Insights\, Careers\, and Realities
DESCRIPTION:Join us for an engaging panel discussion featuring both current and former LL.M. students who will share their personal experiences and insights on the value of pursuing an LL.M. degree. Whether you’re considering applying to an LL.M. program or just curious about how it can enhance your legal career\, this event offers a rare opportunity to hear directly from those who have gone through the journey. \nPanelists will discuss a wide range of topics\, including the LL.M. application process\, how the program differs from the traditional J.D. curriculum\, and whether they found the investment to be worthwhile. Attendees will gain valuable perspectives on how an LL.M. can open up new employment opportunities\, expand career options\, and provide a competitive edge in the legal job market. Additionally\, panelists will address questions such as whether the LL.M. helped them secure positions they wouldn’t have otherwise had access to and how it compares to the rigor and workload of a 1L year. \nThis interactive session will also allow you to ask questions directly to the panelists\, making it an excellent opportunity to gather practical advice and guidance for anyone exploring advanced legal education. Whether you’re looking to enhance your expertise in a specialized area of law or considering the potential career benefits of an LL.M.\, this event will offer meaningful takeaways to help you make an informed decision. \nPlease RSVP on Engage\nFood served at student organization events is for students who attend the entire program.\nE-mail ada@law.stetson.edu should you need ADA accommodations for this program.
URL:https://www2.stetson.edu/law/docket/events/the-ll-m-advantage-insights-careers-and-realities/
LOCATION:Classroom A\, Gulfport\, United States
CATEGORIES:Tax Law Society
END:VEVENT
END:VCALENDAR