BEGIN:VCALENDAR
VERSION:2.0
PRODID:-//Stetson Law Campus Announcements and Events - ECPv6.15.20//NONSGML v1.0//EN
CALSCALE:GREGORIAN
METHOD:PUBLISH
X-ORIGINAL-URL:https://www2.stetson.edu/law/docket
X-WR-CALDESC:Events for Stetson Law Campus Announcements and Events
REFRESH-INTERVAL;VALUE=DURATION:PT1H
X-Robots-Tag:noindex
X-PUBLISHED-TTL:PT1H
BEGIN:VTIMEZONE
TZID:America/New_York
BEGIN:DAYLIGHT
TZOFFSETFROM:-0500
TZOFFSETTO:-0400
TZNAME:EDT
DTSTART:20230312T070000
END:DAYLIGHT
BEGIN:STANDARD
TZOFFSETFROM:-0400
TZOFFSETTO:-0500
TZNAME:EST
DTSTART:20231105T060000
END:STANDARD
BEGIN:DAYLIGHT
TZOFFSETFROM:-0500
TZOFFSETTO:-0400
TZNAME:EDT
DTSTART:20240310T070000
END:DAYLIGHT
BEGIN:STANDARD
TZOFFSETFROM:-0400
TZOFFSETTO:-0500
TZNAME:EST
DTSTART:20241103T060000
END:STANDARD
BEGIN:DAYLIGHT
TZOFFSETFROM:-0500
TZOFFSETTO:-0400
TZNAME:EDT
DTSTART:20250309T070000
END:DAYLIGHT
BEGIN:STANDARD
TZOFFSETFROM:-0400
TZOFFSETTO:-0500
TZNAME:EST
DTSTART:20251102T060000
END:STANDARD
END:VTIMEZONE
BEGIN:VEVENT
DTSTART;TZID=America/New_York:20240910T080000
DTEND;TZID=America/New_York:20241130T170000
DTSTAMP:20260425T143434
CREATED:20240910T161811Z
LAST-MODIFIED:20240910T161811Z
UID:74121-1725955200-1732986000@www2.stetson.edu
SUMMARY:Intramural Sports Schedule
DESCRIPTION:Basketball: Monday 6 – 9 PM Tennis: Tuesday 6 – 8 PM Softball: Wednesdays 6 – 10 PM Pickleball: 6 – 8 PM Volleyball: 6 – 9 PM (Downtown Gulfport – 5500 Block on Shore Blvd.\, Gulfport\, FL) Soccer: Sundays 6 – 8 PM (Azalea Park – 1600 72nd St N\, St. Petersburg\, FL 33713)
URL:https://www2.stetson.edu/law/docket/events/intramural-sports-schedule/
CATEGORIES:Intramural Sports,SBA Intramurals
END:VEVENT
BEGIN:VEVENT
DTSTART;TZID=America/New_York:20241025T080000
DTEND;TZID=America/New_York:20241111T170000
DTSTAMP:20260425T143434
CREATED:20241025T145529Z
LAST-MODIFIED:20241025T145529Z
UID:74760-1729843200-1731344400@www2.stetson.edu
SUMMARY:Apply to the Jacobs Law Clinic Spring 2025 - Deadline Nov. 11
DESCRIPTION:The Jacobs Law Clinic is approved for experiential credit and is an elective in the advocacy\, environmental law\, and social justice advocacy concentrations. Successful course completion earns students 30 hours of legal pro bono toward graduation requirements. Spring 2025 deadline is Nov. 11. Learn more here: https://www.stetson.edu/law/academics/clinical-education/jacobslawclinic.php
URL:https://www2.stetson.edu/law/docket/events/apply-to-the-jacobs-law-clinic-spring-2025-deadline-nov-11/
CATEGORIES:Academic,Clinical Education
END:VEVENT
BEGIN:VEVENT
DTSTART;TZID=America/New_York:20241104T110000
DTEND;TZID=America/New_York:20241108T130000
DTSTAMP:20260425T143434
CREATED:20241028T184139Z
LAST-MODIFIED:20241028T184139Z
UID:74810-1730718000-1731070800@www2.stetson.edu
SUMMARY:Calm After the Storm: Health & Wellness Week Fall 2024
DESCRIPTION:Mind over Matter! Please make sure to stop by and participate in some of the events going on throughout the week. \nPlease RSVP on Engage\nFood served at student organization events is for students who attend the entire program.\nE-mail ada@law.stetson.edu should you need ADA accommodations for this program.
URL:https://www2.stetson.edu/law/docket/events/calm-after-the-storm-health-wellness-week-fall-2024/
LOCATION:Stetson University College of Law\, The Mann Lounge
CATEGORIES:SBA Health and Wellness Committee,Student Bar Association
END:VEVENT
BEGIN:VEVENT
DTSTART;TZID=America/New_York:20241104T110000
DTEND;TZID=America/New_York:20241108T130000
DTSTAMP:20260425T143434
CREATED:20241031T172017Z
LAST-MODIFIED:20241031T172017Z
UID:74857-1730718000-1731070800@www2.stetson.edu
SUMMARY:Health & Wellness Week Fall 2024
DESCRIPTION:Monday\, November 4th\, 2024 \nCeramic Painting with Mini Cupcakes (11:00AM – 2:00PM) \nLocated: Mann Lounge \nHosted by: SBA Health & Wellness \nAcupuncture & Chiropractic Treatments (11:00AM – 2:00PM) \nLocated: Great Hall \nHosted by: SBA Health & Wellness \nTuesday\, November 5th\, 2024 \nGrab a Smoothie From the Breezeway (12:00PM) \nLocated: Breezeway \nHosted by: SBA Health & Wellness \nWednesday\, November 6th\, 2024 \nTrivia (12:00PM – 1:00PM) \nLocated: Mann Lounge \nHosted by: NAMI & SBA Health & Wellness \nThursday\, November 7th\, 2024 \nGrab & Go Breakfast Sandwiches (10:00AM) \nLocated: Breezeway \nHosted by: SBA Health & Wellness \nWellbeing Presentation & Luncheon (12:00PM – 1:00PM) \nLocated: Mann Lounge \nHosted by: Professor George and SBA Health & Wellness \nDrag Mixer Show (6:00PM – 9:00PM) \nLocated: Mann Lounge \nHosted by: LAMBDA and SBA Health & Wellness \nFriday\, November 8th\, 2024 \nFree Yoga Session (12:00PM – 1:00PM) \nLocated: Mann Lounge \nHosted by: SBA Health & Wellness
URL:https://www2.stetson.edu/law/docket/events/health-wellness-week-fall-2024/
LOCATION:Stetson University College of Law\, The Mann Lounge
CATEGORIES:SBA Health and Wellness Committee,Student Bar Association
ORGANIZER;CN="SBA":MAILTO:khamill@law.stetson.edu
END:VEVENT
BEGIN:VEVENT
DTSTART;TZID=America/New_York:20241107T110000
DTEND;TZID=America/New_York:20241107T150000
DTSTAMP:20260425T143434
CREATED:20240819T205315Z
LAST-MODIFIED:20241024T152630Z
UID:73802-1730977200-1730991600@www2.stetson.edu
SUMMARY:Texas A&M Law Fair
DESCRIPTION:
URL:https://www2.stetson.edu/law/docket/events/texas-am-law-fair/
LOCATION:Legends Event Center\, Bryan\, TX
CATEGORIES:Admissions
END:VEVENT
BEGIN:VEVENT
DTSTART;TZID=America/New_York:20241107T120000
DTEND;TZID=America/New_York:20241107T130000
DTSTAMP:20260425T143434
CREATED:20241107T135858Z
LAST-MODIFIED:20241107T135858Z
UID:74939-1730980800-1730984400@www2.stetson.edu
SUMMARY:Wellbeing Presentation by Professor George
DESCRIPTION:Join us Thursday\, November 7th at 12pm in the Mann Lounge for an insightful wellbeing presentation and luncheon led by the esteemed Professor George. Enjoy a delicious wrap\, catered by Go Greenlane\, as you settle in for this event. \nProfessor George is a visiting professor here at Stetson Law teaching legal writing. She specializes in lawyer well-being\, mindfulness\, and the cognitive science of learning. She is the author of The Law Student’s Guide to Doing Well and Being Well and co-author of Mindful Lawyering: The Key to Creative Problem Solving. Her research highlights the importance of mindfulness training for law students and addresses the challenges of distraction in legal education. \nRecently elected to the Executive Committee for the AALS Balance and Wellbeing in Law Section and recipient of its inaugural section award\, Professor George is deeply committed to enhancing well-being within the legal community. \nDon’t miss this opportunity to learn from a leading voice in legal education and well-being. We look forward to seeing you there! \nPlease RSVP on Engage\nFood served at student organization events is for students who attend the entire program.\nE-mail ada@law.stetson.edu should you need ADA accommodations for this program.
URL:https://www2.stetson.edu/law/docket/events/wellbeing-presentation-by-professor-george/
CATEGORIES:Student Bar Association
END:VEVENT
BEGIN:VEVENT
DTSTART;TZID=America/New_York:20241107T120500
DTEND;TZID=America/New_York:20241107T130500
DTSTAMP:20260425T143434
CREATED:20241107T135610Z
LAST-MODIFIED:20241107T135610Z
UID:74937-1730981100-1730984700@www2.stetson.edu
SUMMARY:Build Your Own Law Firm Panel Discussion
DESCRIPTION:Build Your Own Law Firm event featuring panelist that have their own firms! \nPlease RSVP on Engage\nFood served at student organization events is for students who attend the entire program.\nE-mail ada@law.stetson.edu should you need ADA accommodations for this program.
URL:https://www2.stetson.edu/law/docket/events/build-your-own-law-firm-panel-discussion/
LOCATION:Classroom G\, Gulfport\, FL
CATEGORIES:Business Law Society,Immigration Law Student Association
END:VEVENT
BEGIN:VEVENT
DTSTART;TZID=America/New_York:20241107T173000
DTEND;TZID=America/New_York:20241107T183000
DTSTAMP:20260425T143434
CREATED:20241018T145611Z
LAST-MODIFIED:20241018T145611Z
UID:74594-1731000600-1731004200@www2.stetson.edu
SUMMARY:AALSA Lantern Festival
DESCRIPTION:Join AALSA for a lantern festival to end your semester! As a part of Health and Wellness Week\, AALSA invites Stetson students and their guests to enjoy food\, create lanterns\, and release them into the Stetson Law Pool. \nLantern festivals and light are used in many Asian cultures to celebrate and welcome the new year\, promoting peace\, healing\, and strength. You can write your hopes\, wishes\, or dreams onto the lanterns and release them into the water. You can also write something you want to release. It is all about inviting peace. Come release your stress and bring good wishes for finals! \nPlease RSVP on Engage\nFood served at student organization events is for students who attend the entire program.\nE-mail ada@law.stetson.edu should you need ADA accommodations for this program.
URL:https://www2.stetson.edu/law/docket/events/aalsa-lantern-festival/
LOCATION:Stetson Law Pool
CATEGORIES:Asian American Law Student Association
END:VEVENT
BEGIN:VEVENT
DTSTART;TZID=America/New_York:20241107T180000
DTEND;TZID=America/New_York:20241107T190000
DTSTAMP:20260425T143434
CREATED:20241018T150613Z
LAST-MODIFIED:20241018T150613Z
UID:74598-1731002400-1731006000@www2.stetson.edu
SUMMARY:Drag Mixer
DESCRIPTION:Join us for our Lambda Drag Mixer hosted by Lambda Legal Society. Network with others while enjoying food\, drinks\, and entertainment! We will feature several members of the local drag community.  Hang with us for a special night filled with drag performances\, dinner\, and discussion about what it means to freely and creatively express one’s gender identity! \nPlease RSVP on Engage\nFood served at student organization events is for students who attend the entire program.\nE-mail ada@law.stetson.edu should you need ADA accommodations for this program.
URL:https://www2.stetson.edu/law/docket/events/drag-mixer/
LOCATION:Mann Lounge\, Gulfport \, United States
CATEGORIES:Lambda Legal Society
END:VEVENT
END:VCALENDAR