BEGIN:VCALENDAR
VERSION:2.0
PRODID:-//Stetson Law Campus Announcements and Events - ECPv6.15.20//NONSGML v1.0//EN
CALSCALE:GREGORIAN
METHOD:PUBLISH
X-ORIGINAL-URL:https://www2.stetson.edu/law/docket
X-WR-CALDESC:Events for Stetson Law Campus Announcements and Events
REFRESH-INTERVAL;VALUE=DURATION:PT1H
X-Robots-Tag:noindex
X-PUBLISHED-TTL:PT1H
BEGIN:VTIMEZONE
TZID:America/New_York
BEGIN:DAYLIGHT
TZOFFSETFROM:-0500
TZOFFSETTO:-0400
TZNAME:EDT
DTSTART:20240310T070000
END:DAYLIGHT
BEGIN:STANDARD
TZOFFSETFROM:-0400
TZOFFSETTO:-0500
TZNAME:EST
DTSTART:20241103T060000
END:STANDARD
BEGIN:DAYLIGHT
TZOFFSETFROM:-0500
TZOFFSETTO:-0400
TZNAME:EDT
DTSTART:20250309T070000
END:DAYLIGHT
BEGIN:STANDARD
TZOFFSETFROM:-0400
TZOFFSETTO:-0500
TZNAME:EST
DTSTART:20251102T060000
END:STANDARD
BEGIN:DAYLIGHT
TZOFFSETFROM:-0500
TZOFFSETTO:-0400
TZNAME:EDT
DTSTART:20260308T070000
END:DAYLIGHT
BEGIN:STANDARD
TZOFFSETFROM:-0400
TZOFFSETTO:-0500
TZNAME:EST
DTSTART:20261101T060000
END:STANDARD
END:VTIMEZONE
BEGIN:VEVENT
DTSTART;TZID=America/New_York:20250213T120000
DTEND;TZID=America/New_York:20250213T130000
DTSTAMP:20260425T095621
CREATED:20250107T170135Z
LAST-MODIFIED:20250107T170135Z
UID:75266-1739448000-1739451600@www2.stetson.edu
SUMMARY:Edward and Bonnie Foreman Biodiversity Lecture - Florida Springs: From Geography to Politics to Restoration
DESCRIPTION:The Institute for Biodiversity Law and Policy welcomes Dr. Christopher F. Meindl to speak about his recent book on Florida Springs at the first Biodiversity Lecture of the 2025 spring semester. \nDr. Meindl will discuss the complex geography\, history\, science\, and politics of Florida Springs including more recent efforts to restore these treasures of the Florida landscape. \nLunch will be served. \nRegister to attend here: https://forms.office.com/r/E5Zi7V6BMn \n 
URL:https://www2.stetson.edu/law/docket/events/edward-and-bonnie-foreman-biodiversity-lecture-florida-springs-from-geography-to-politics-to-restoration/
LOCATION:Mann Lounge\, 1401 61st St S\, Gulfport\, FL\, 33707
CATEGORIES:Foreman Biodiversity Lecture,Institute for Biodiversity Law and Policy
END:VEVENT
END:VCALENDAR