BEGIN:VCALENDAR
VERSION:2.0
PRODID:-//Stetson Law Campus Announcements and Events - ECPv6.15.20//NONSGML v1.0//EN
CALSCALE:GREGORIAN
METHOD:PUBLISH
X-ORIGINAL-URL:https://www2.stetson.edu/law/docket
X-WR-CALDESC:Events for Stetson Law Campus Announcements and Events
REFRESH-INTERVAL;VALUE=DURATION:PT1H
X-Robots-Tag:noindex
X-PUBLISHED-TTL:PT1H
BEGIN:VTIMEZONE
TZID:America/New_York
BEGIN:DAYLIGHT
TZOFFSETFROM:-0500
TZOFFSETTO:-0400
TZNAME:EDT
DTSTART:20240310T070000
END:DAYLIGHT
BEGIN:STANDARD
TZOFFSETFROM:-0400
TZOFFSETTO:-0500
TZNAME:EST
DTSTART:20241103T060000
END:STANDARD
BEGIN:DAYLIGHT
TZOFFSETFROM:-0500
TZOFFSETTO:-0400
TZNAME:EDT
DTSTART:20250309T070000
END:DAYLIGHT
BEGIN:STANDARD
TZOFFSETFROM:-0400
TZOFFSETTO:-0500
TZNAME:EST
DTSTART:20251102T060000
END:STANDARD
BEGIN:DAYLIGHT
TZOFFSETFROM:-0500
TZOFFSETTO:-0400
TZNAME:EDT
DTSTART:20260308T070000
END:DAYLIGHT
BEGIN:STANDARD
TZOFFSETFROM:-0400
TZOFFSETTO:-0500
TZNAME:EST
DTSTART:20261101T060000
END:STANDARD
END:VTIMEZONE
BEGIN:VEVENT
DTSTART;TZID=America/New_York:20250226T110000
DTEND;TZID=America/New_York:20250226T150000
DTSTAMP:20260425T080657
CREATED:20241114T183621Z
LAST-MODIFIED:20241114T183832Z
UID:75030-1740567600-1740582000@www2.stetson.edu
SUMMARY:Flagler College Career & Graduate School Expo
DESCRIPTION:
URL:https://www2.stetson.edu/law/docket/events/flagler-career-graduate-school-expo/
LOCATION:Ringhaver Student Center\, St. Augustine\, FL
CATEGORIES:Admissions
END:VEVENT
BEGIN:VEVENT
DTSTART;TZID=America/New_York:20250226T120000
DTEND;TZID=America/New_York:20250226T125000
DTSTAMP:20260425T080657
CREATED:20250210T144454Z
LAST-MODIFIED:20250210T144454Z
UID:75649-1740571200-1740574200@www2.stetson.edu
SUMMARY:Clinical Education Lunch & Learn!
DESCRIPTION:
URL:https://www2.stetson.edu/law/docket/events/clinical-education-lunch-learn-2/
LOCATION:Classroom F\, Gulfport
CATEGORIES:Clinical Education
END:VEVENT
END:VCALENDAR