BEGIN:VCALENDAR
VERSION:2.0
PRODID:-//Stetson Law Campus Announcements and Events - ECPv6.15.20//NONSGML v1.0//EN
CALSCALE:GREGORIAN
METHOD:PUBLISH
X-ORIGINAL-URL:https://www2.stetson.edu/law/docket
X-WR-CALDESC:Events for Stetson Law Campus Announcements and Events
REFRESH-INTERVAL;VALUE=DURATION:PT1H
X-Robots-Tag:noindex
X-PUBLISHED-TTL:PT1H
BEGIN:VTIMEZONE
TZID:America/New_York
BEGIN:DAYLIGHT
TZOFFSETFROM:-0500
TZOFFSETTO:-0400
TZNAME:EDT
DTSTART:20240310T070000
END:DAYLIGHT
BEGIN:STANDARD
TZOFFSETFROM:-0400
TZOFFSETTO:-0500
TZNAME:EST
DTSTART:20241103T060000
END:STANDARD
BEGIN:DAYLIGHT
TZOFFSETFROM:-0500
TZOFFSETTO:-0400
TZNAME:EDT
DTSTART:20250309T070000
END:DAYLIGHT
BEGIN:STANDARD
TZOFFSETFROM:-0400
TZOFFSETTO:-0500
TZNAME:EST
DTSTART:20251102T060000
END:STANDARD
BEGIN:DAYLIGHT
TZOFFSETFROM:-0500
TZOFFSETTO:-0400
TZNAME:EDT
DTSTART:20260308T070000
END:DAYLIGHT
BEGIN:STANDARD
TZOFFSETFROM:-0400
TZOFFSETTO:-0500
TZNAME:EST
DTSTART:20261101T060000
END:STANDARD
END:VTIMEZONE
BEGIN:VEVENT
DTSTART;TZID=America/New_York:20250305T080000
DTEND;TZID=America/New_York:20250306T170000
DTSTAMP:20260425T080732
CREATED:20250225T203148Z
LAST-MODIFIED:20250225T203221Z
UID:75879-1741161600-1741280400@www2.stetson.edu
SUMMARY:Mandatory Information Sessions for Prospective Ambassadors
DESCRIPTION:1Ls and 2Ls – Want to be a Stetson Law Ambassador? Attend one of two Mandatory Information Sessions! \nIf you want to attend the Wednesday\, March 5th session from 5-6 pm\, you can RSVP at this link: https://stetson.campuslabs.com/engage/event/11080376 \nIf you want to attend the Thursday\, March 6th session from 12-1 pm\, you can RSVP at this link: https://stetson.campuslabs.com/engage/event/11080345 \nMake sure you look at the details on Engage\, which explain what to do if you can’t attend one of the meetings!
URL:https://www2.stetson.edu/law/docket/events/mandatory-information-sessions-for-prospective-ambassadors/
LOCATION:Online
CATEGORIES:Ambassadors
END:VEVENT
BEGIN:VEVENT
DTSTART;TZID=America/New_York:20250305T120500
DTEND;TZID=America/New_York:20250305T125500
DTSTAMP:20260425T080732
CREATED:20250228T155105Z
LAST-MODIFIED:20250228T155105Z
UID:75931-1741176300-1741179300@www2.stetson.edu
SUMMARY:TIAA Lunch and Learn - Steps to Help Secure Your Income in Retirement - Mid Career Check -In
DESCRIPTION:The financial knowledge to help plan for whatever life brings. TIAA has experience helping people save and invest since 1918.We’re proud to share that knowledge with you. \nTIAA Financial Consultant\, Kimya Kamran will be onsite at Stetson\nUniversity – College of Law – Gulfport for the Lunch and learn session:\nTopic: Steps to Help Secure Your Income in Retirement a Mid-Career Check-in\nDate & Time: March 12th\, 2025\, 12:05 PM- 12:55 PM\nLocation: Classroom A \nTo RSVP\, use this link: https://forms.office.com/r/09AXX8u3gJ
URL:https://www2.stetson.edu/law/docket/events/tiaa-lunch-and-learn-steps-to-help-secure-your-income-in-retirement-mid-career-check-in/
LOCATION:Classroom A\, Gulfport\, United States
CATEGORIES:Employee
END:VEVENT
END:VCALENDAR