BEGIN:VCALENDAR
VERSION:2.0
PRODID:-//Stetson Law Campus Announcements and Events - ECPv6.15.20//NONSGML v1.0//EN
CALSCALE:GREGORIAN
METHOD:PUBLISH
X-ORIGINAL-URL:https://www2.stetson.edu/law/docket
X-WR-CALDESC:Events for Stetson Law Campus Announcements and Events
REFRESH-INTERVAL;VALUE=DURATION:PT1H
X-Robots-Tag:noindex
X-PUBLISHED-TTL:PT1H
BEGIN:VTIMEZONE
TZID:America/New_York
BEGIN:DAYLIGHT
TZOFFSETFROM:-0500
TZOFFSETTO:-0400
TZNAME:EDT
DTSTART:20240310T070000
END:DAYLIGHT
BEGIN:STANDARD
TZOFFSETFROM:-0400
TZOFFSETTO:-0500
TZNAME:EST
DTSTART:20241103T060000
END:STANDARD
BEGIN:DAYLIGHT
TZOFFSETFROM:-0500
TZOFFSETTO:-0400
TZNAME:EDT
DTSTART:20250309T070000
END:DAYLIGHT
BEGIN:STANDARD
TZOFFSETFROM:-0400
TZOFFSETTO:-0500
TZNAME:EST
DTSTART:20251102T060000
END:STANDARD
BEGIN:DAYLIGHT
TZOFFSETFROM:-0500
TZOFFSETTO:-0400
TZNAME:EDT
DTSTART:20260308T070000
END:DAYLIGHT
BEGIN:STANDARD
TZOFFSETFROM:-0400
TZOFFSETTO:-0500
TZNAME:EST
DTSTART:20261101T060000
END:STANDARD
END:VTIMEZONE
BEGIN:VEVENT
DTSTART;TZID=America/New_York:20250321T080000
DTEND;TZID=America/New_York:20250322T170000
DTSTAMP:20260425T080730
CREATED:20250106T152728Z
LAST-MODIFIED:20250106T152728Z
UID:75237-1742544000-1742662800@www2.stetson.edu
SUMMARY:Leadership Academy Intensive in Chicago
DESCRIPTION:Calling all law students – our next Leadership Academy Intensive is taking place on March 21-22\, 2025 at Northwestern Pritzker School of Law in Chicago! \nThis inspiring 2-day conference will feature incredible speakers\, leadership skill-building\, and the chance to network with other students. Applications close on February 9\, 2025. We hope to see you there! \nE-mail ada@law.stetson.edu should you need ADA accommodations for this program. \n\nhttps://msjdorg.lpages.co/leadership-academy-intensive/
URL:https://www2.stetson.edu/law/docket/events/leadership-academy-intensive-in-chicago/
LOCATION:Northwestern Pritzker School of Law in Chicago
END:VEVENT
END:VCALENDAR