BEGIN:VCALENDAR
VERSION:2.0
PRODID:-//Stetson Law Campus Announcements and Events - ECPv6.15.20//NONSGML v1.0//EN
CALSCALE:GREGORIAN
METHOD:PUBLISH
X-ORIGINAL-URL:https://www2.stetson.edu/law/docket
X-WR-CALDESC:Events for Stetson Law Campus Announcements and Events
REFRESH-INTERVAL;VALUE=DURATION:PT1H
X-Robots-Tag:noindex
X-PUBLISHED-TTL:PT1H
BEGIN:VTIMEZONE
TZID:America/New_York
BEGIN:DAYLIGHT
TZOFFSETFROM:-0500
TZOFFSETTO:-0400
TZNAME:EDT
DTSTART:20240310T070000
END:DAYLIGHT
BEGIN:STANDARD
TZOFFSETFROM:-0400
TZOFFSETTO:-0500
TZNAME:EST
DTSTART:20241103T060000
END:STANDARD
BEGIN:DAYLIGHT
TZOFFSETFROM:-0500
TZOFFSETTO:-0400
TZNAME:EDT
DTSTART:20250309T070000
END:DAYLIGHT
BEGIN:STANDARD
TZOFFSETFROM:-0400
TZOFFSETTO:-0500
TZNAME:EST
DTSTART:20251102T060000
END:STANDARD
BEGIN:DAYLIGHT
TZOFFSETFROM:-0500
TZOFFSETTO:-0400
TZNAME:EDT
DTSTART:20260308T070000
END:DAYLIGHT
BEGIN:STANDARD
TZOFFSETFROM:-0400
TZOFFSETTO:-0500
TZNAME:EST
DTSTART:20261101T060000
END:STANDARD
END:VTIMEZONE
BEGIN:VEVENT
DTSTART;TZID=America/New_York:20250326T120000
DTEND;TZID=America/New_York:20250326T130000
DTSTAMP:20260425T080730
CREATED:20250320T173505Z
LAST-MODIFIED:20250320T173505Z
UID:76141-1742990400-1742994000@www2.stetson.edu
SUMMARY:Federal Judges Association - Stetson Law Clerkship Chat
DESCRIPTION:A Judicial Clerkship serves as the capstone experience to your legal education – these opportunities require careful planning and informed decision-making in their pursuit. You now have an opportunity to hear directly from sitting judges on what they ask their clerks to do\, how to apply for positions\, and the keys to interview strategy \nThe Federal Judges Association is hosting a  Clerkship Chat\, exclusive to Stetson and featuring The Hon. Mary Scriven\, and the Hon. Christopher Tuite of the US Middle District of Florida (Tampa)\,  and the Hon. Grace Robson of the U.S. Bankruptcy Court for the Middle District of Florida\, Tampa. The panel chat and Q&A will be moderated by the Hon. Robin Rosenbaum of the Eleventh Circuit Court of Appeals. \nThis program affords a rare view into the judicial clerkship experience and application – we hope to have you join us. \nWednesday\, March 26\, 2025\n12:00pm – 1:00pm\nZoom\nJoin Zoom Meeting\nhttps://stetson-edu.zoom.us/j/93760967124?pwd=HwvSncccpgi1Cv2b2scGdphdRBVbsx.1 \nMeeting ID: 937 6096 7124\nPasscode: 980241 \nRSVP here and submit questions: https://forms.office.com/r/gy0j1u4cYJ \nContact Ryan Hoyle\, Senior Associate Director\, Office of Career and Professional Development with questions\nrhoyle1@law.stetson.ed
URL:https://www2.stetson.edu/law/docket/events/federal-judges-association-stetson-law-clerkship-chat/
LOCATION:Virtual\, United States
CATEGORIES:Career & Professional Development
END:VEVENT
BEGIN:VEVENT
DTSTART;TZID=America/New_York:20250326T170000
DTEND;TZID=America/New_York:20250326T203000
DTSTAMP:20260425T080730
CREATED:20250310T150145Z
LAST-MODIFIED:20250310T150145Z
UID:76076-1743008400-1743021000@www2.stetson.edu
SUMMARY:State of Sports Powered by Stetson EASL & Profluence
DESCRIPTION:Join Stetson’s EASL and Profluence Sports for an exclusive evening exploring the evolution of sports from youth to professional levels and the shifting legal landscape as athletes become more commercialized. \nThis high-impact panel discussion will take place Wednesday\, March 26th at Stetson University College of Law\, and will feature industry leaders\, including: \n• Dustin Drees\, Weatherford Capital\n• Patrick Murphy\, Vinik Sports Group- Chief Legal Counsel\n• Matt Joyce\, Pro Athlete Community (PAC)\n• Nicholas Lord\, CEO of NOCAP Sports\n• Mike Milliron\, Chief Operating Officer\, IMG Academy Campus \nFollowing the panel\, enjoy networking with top professionals in sports and business while participating in a silent auction with all proceeds benefiting Stetson’s Entertainment and Sports Law Society. \nThis free event is an invaluable opportunity for anyone working in sports or looking to gain insider knowledge. \nRSVP on Engage Required – Limited spots available. Secure Your Spot Today!
URL:https://www2.stetson.edu/law/docket/events/state-of-sports-powered-by-stetson-easl-profluence/
LOCATION:Mann Lounge\, Gulfport campus
CATEGORIES:Entertainment and Sports Law Society
END:VEVENT
END:VCALENDAR