BEGIN:VCALENDAR
VERSION:2.0
PRODID:-//Stetson Law Campus Announcements and Events - ECPv6.15.20//NONSGML v1.0//EN
CALSCALE:GREGORIAN
METHOD:PUBLISH
X-WR-CALNAME:Stetson Law Campus Announcements and Events
X-ORIGINAL-URL:https://www2.stetson.edu/law/docket
X-WR-CALDESC:Events for Stetson Law Campus Announcements and Events
REFRESH-INTERVAL;VALUE=DURATION:PT1H
X-Robots-Tag:noindex
X-PUBLISHED-TTL:PT1H
BEGIN:VTIMEZONE
TZID:America/New_York
BEGIN:DAYLIGHT
TZOFFSETFROM:-0500
TZOFFSETTO:-0400
TZNAME:EDT
DTSTART:20240310T070000
END:DAYLIGHT
BEGIN:STANDARD
TZOFFSETFROM:-0400
TZOFFSETTO:-0500
TZNAME:EST
DTSTART:20241103T060000
END:STANDARD
BEGIN:DAYLIGHT
TZOFFSETFROM:-0500
TZOFFSETTO:-0400
TZNAME:EDT
DTSTART:20250309T070000
END:DAYLIGHT
BEGIN:STANDARD
TZOFFSETFROM:-0400
TZOFFSETTO:-0500
TZNAME:EST
DTSTART:20251102T060000
END:STANDARD
BEGIN:DAYLIGHT
TZOFFSETFROM:-0500
TZOFFSETTO:-0400
TZNAME:EDT
DTSTART:20260308T070000
END:DAYLIGHT
BEGIN:STANDARD
TZOFFSETFROM:-0400
TZOFFSETTO:-0500
TZNAME:EST
DTSTART:20261101T060000
END:STANDARD
END:VTIMEZONE
BEGIN:VEVENT
DTSTART;TZID=America/New_York:20250414T080000
DTEND;TZID=America/New_York:20250418T170000
DTSTAMP:20260425T062143
CREATED:20250411T141637Z
LAST-MODIFIED:20250411T141658Z
UID:76503-1744617600-1744995600@www2.stetson.edu
SUMMARY:Spring 2025 SBA Health & Wellness Week Schedule
DESCRIPTION:
URL:https://www2.stetson.edu/law/docket/events/spring-2025-sba-health-wellness-week-schedule/
LOCATION:Stetson University College of Law\, The Mann Lounge
CATEGORIES:SBA Health and Wellness Committee
END:VEVENT
BEGIN:VEVENT
DTSTART;TZID=America/New_York:20250415T113000
DTEND;TZID=America/New_York:20250415T130000
DTSTAMP:20260425T062143
CREATED:20250414T191253Z
LAST-MODIFIED:20250414T191253Z
UID:76542-1744716600-1744722000@www2.stetson.edu
SUMMARY:National Student Employment Week - Donut Day!
DESCRIPTION:Come Celebrate our Student Employees with different events from April 15th to April 17th! \nPhoto opportunity and a chance to wine a Prize each day! \nApril 15th – Donut Day! Stop by the People Operations Office for a Donut! 11:30am – 1pm \nApril 16th – Pizza Party! Stop by the People Operations Office for Pizza from Hungry Howies! 12pm -2pm \nApril 17th – Trail Mix Making! Stop by the People Operations Office for DIY Trail Mix! 12pm – 2pm
URL:https://www2.stetson.edu/law/docket/events/national-student-employment-week-donut-day/
LOCATION:People Operations Office
CATEGORIES:Student Life
END:VEVENT
END:VCALENDAR