BEGIN:VCALENDAR
VERSION:2.0
PRODID:-//Stetson Law Campus Announcements and Events - ECPv6.15.20//NONSGML v1.0//EN
CALSCALE:GREGORIAN
METHOD:PUBLISH
X-WR-CALNAME:Stetson Law Campus Announcements and Events
X-ORIGINAL-URL:https://www2.stetson.edu/law/docket
X-WR-CALDESC:Events for Stetson Law Campus Announcements and Events
REFRESH-INTERVAL;VALUE=DURATION:PT1H
X-Robots-Tag:noindex
X-PUBLISHED-TTL:PT1H
BEGIN:VTIMEZONE
TZID:America/New_York
BEGIN:DAYLIGHT
TZOFFSETFROM:-0500
TZOFFSETTO:-0400
TZNAME:EDT
DTSTART:20240310T070000
END:DAYLIGHT
BEGIN:STANDARD
TZOFFSETFROM:-0400
TZOFFSETTO:-0500
TZNAME:EST
DTSTART:20241103T060000
END:STANDARD
BEGIN:DAYLIGHT
TZOFFSETFROM:-0500
TZOFFSETTO:-0400
TZNAME:EDT
DTSTART:20250309T070000
END:DAYLIGHT
BEGIN:STANDARD
TZOFFSETFROM:-0400
TZOFFSETTO:-0500
TZNAME:EST
DTSTART:20251102T060000
END:STANDARD
BEGIN:DAYLIGHT
TZOFFSETFROM:-0500
TZOFFSETTO:-0400
TZNAME:EDT
DTSTART:20260308T070000
END:DAYLIGHT
BEGIN:STANDARD
TZOFFSETFROM:-0400
TZOFFSETTO:-0500
TZNAME:EST
DTSTART:20261101T060000
END:STANDARD
END:VTIMEZONE
BEGIN:VEVENT
DTSTART;VALUE=DATE:20250425
DTEND;VALUE=DATE:20250426
DTSTAMP:20260425T062144
CREATED:20250226T151715Z
LAST-MODIFIED:20250226T151715Z
UID:75898-1745539200-1745625599@www2.stetson.edu
SUMMARY:Padilla v. Kentucky at 15 Years: Asserting the Constitutional Rights of Immigrant Defendants
DESCRIPTION:The Office of Clinical and Experiential Education at Stetson University College of Law is pleased to announce the conference Padilla v. Kentucky at 15 Years: Reflecting Upon the Promise and Practicalities of Asserting the Constitutional Rights of Immigrants\, to be held April 25\, 2025\, on the campus of the College of Law in Gulfport\, Florida.\n\nIt has been fifteen years since the Supreme Court recognized that immigrants’ constitutional rights in criminal proceedings included accurate advice regarding the immigration consequences that would result from their charges and conviction – whether by plea or after trial – so that defendants would understand the impact of those criminal proceedings on their deportability and eligibility for any discretionary relief in immigration proceedings.  Today\, Padilla remains an aspirational example\, but one with practical limitations\, with remaining questions of the zealous attorney’s minimum role in assuring due process\, (i.e.\, effective assistance vs. best practices)\, the intersection of constitutional questions and immigration law\, and challenges in moving the judiciary to further expand access to justice and avenues for redressing injustice.   Padilla’s mandate also presents immense practical challenges for the criminal defense bar to be conversant in the complexities of immigrant defense\, specifically the immigration consequences of crimes.\n\nJoin as expert panels reflect on the history of Padilla and the implementation of its mandate to thoroughly counsel immigrant criminal defendants in their plea and trial processes\, including: \n\nDiscussion among elected public defenders and non-governmental organizational leaders regarding structural changes\, post-Padilla\, and remaining institutional challenges to overcome.\nPresentation of academic papers prescriptive for improving outcomes and contemplating the vulnerabilities of fulfilling rights – direct and ancillary – recognized in Padilla.\n Practical discussion and workshop: analyzing the immigration consequences of specific crimes; in light of Padilla\, determining the appropriate advice when presented with specific criminal charges against defendants in full spectrum of immigration status; best practices in mitigating risk\, from the criminal and immigration perspective; properly conceiving post-conviction relief\, circa 2025.\n The pragmatic impacts of current events\, political changes\, and federal and state legislation (including the Laken Riley Act)\, upon criminal-immigrant defense.\n\nMore info about schedule/panel HERE\n\nStetson students\, staff\, and faculty get in free! If you are interested in attending this event\, please email clinicaled@law.stetson.edu
URL:https://www2.stetson.edu/law/docket/events/padilla-v-kentucky-at-15-years-asserting-the-constitutional-rights-of-immigrant-defendants/
LOCATION:Stetson College of Law
CATEGORIES:Clinical Education
ORGANIZER;CN="Kaylie Murphy":MAILTO:kjmurphy@law.stetson.edu
END:VEVENT
END:VCALENDAR