BEGIN:VCALENDAR
VERSION:2.0
PRODID:-//Stetson Law Campus Announcements and Events - ECPv6.15.20//NONSGML v1.0//EN
CALSCALE:GREGORIAN
METHOD:PUBLISH
X-WR-CALNAME:Stetson Law Campus Announcements and Events
X-ORIGINAL-URL:https://www2.stetson.edu/law/docket
X-WR-CALDESC:Events for Stetson Law Campus Announcements and Events
REFRESH-INTERVAL;VALUE=DURATION:PT1H
X-Robots-Tag:noindex
X-PUBLISHED-TTL:PT1H
BEGIN:VTIMEZONE
TZID:America/New_York
BEGIN:DAYLIGHT
TZOFFSETFROM:-0500
TZOFFSETTO:-0400
TZNAME:EDT
DTSTART:20240310T070000
END:DAYLIGHT
BEGIN:STANDARD
TZOFFSETFROM:-0400
TZOFFSETTO:-0500
TZNAME:EST
DTSTART:20241103T060000
END:STANDARD
BEGIN:DAYLIGHT
TZOFFSETFROM:-0500
TZOFFSETTO:-0400
TZNAME:EDT
DTSTART:20250309T070000
END:DAYLIGHT
BEGIN:STANDARD
TZOFFSETFROM:-0400
TZOFFSETTO:-0500
TZNAME:EST
DTSTART:20251102T060000
END:STANDARD
BEGIN:DAYLIGHT
TZOFFSETFROM:-0500
TZOFFSETTO:-0400
TZNAME:EDT
DTSTART:20260308T070000
END:DAYLIGHT
BEGIN:STANDARD
TZOFFSETFROM:-0400
TZOFFSETTO:-0500
TZNAME:EST
DTSTART:20261101T060000
END:STANDARD
END:VTIMEZONE
BEGIN:VEVENT
DTSTART;TZID=America/New_York:20250903T120000
DTEND;TZID=America/New_York:20250903T130000
DTSTAMP:20260424T223549
CREATED:20250826T165210Z
LAST-MODIFIED:20250826T165226Z
UID:77377-1756900800-1756904400@www2.stetson.edu
SUMMARY:Rabid Response: An International Dog Rescue Story
DESCRIPTION:Dear Faculty\, Students\, and Staff\, We are pleased to invite you to a special presentation by Professor Fitzgerald titled: Rabid Response: An International Dog Rescue Story Wednesday\, September 3\, 2025 12:00pm-1:00pm in Classroom E Lunch will be served! Join us for an inspiring and eye-opening talk as Professor Fitzgerald shares his experiences in international dog rescue efforts\, highlighting the challenges\, triumphs\, and global impact of his work. This event is open to all members of our community\, and we encourage you to attend and bring your curiosity and questions. Please scan the QR code on the flyer attached to RSVP by Friday\, August 29th. We look forward to seeing you there!
URL:https://www2.stetson.edu/law/docket/events/rabid-response-an-international-dog-rescue-story/
LOCATION:Classroom E
CATEGORIES:Gulfport Campus,Student Affairs
END:VEVENT
BEGIN:VEVENT
DTSTART;TZID=America/New_York:20250903T150000
DTEND;TZID=America/New_York:20250903T180000
DTSTAMP:20260424T223549
CREATED:20250902T201859Z
LAST-MODIFIED:20250902T202158Z
UID:77486-1756911600-1756922400@www2.stetson.edu
SUMMARY:Essentials for Law School Success Workshop
DESCRIPTION:1L Essentials for Law School Success workshop – Rule Synthesis and Revisiting Case Briefing Process for Synthesizing Legal Rules and “why” Briefing is Critical to Law School Success
URL:https://www2.stetson.edu/law/docket/events/essentials-for-law-school-success-workshop/
LOCATION:Classroom E
CATEGORIES:Academic Success
END:VEVENT
END:VCALENDAR