BEGIN:VCALENDAR
VERSION:2.0
PRODID:-//Stetson Law Campus Announcements and Events - ECPv6.15.20//NONSGML v1.0//EN
CALSCALE:GREGORIAN
METHOD:PUBLISH
X-ORIGINAL-URL:https://www2.stetson.edu/law/docket
X-WR-CALDESC:Events for Stetson Law Campus Announcements and Events
REFRESH-INTERVAL;VALUE=DURATION:PT1H
X-Robots-Tag:noindex
X-PUBLISHED-TTL:PT1H
BEGIN:VTIMEZONE
TZID:America/New_York
BEGIN:DAYLIGHT
TZOFFSETFROM:-0500
TZOFFSETTO:-0400
TZNAME:EDT
DTSTART:20240310T070000
END:DAYLIGHT
BEGIN:STANDARD
TZOFFSETFROM:-0400
TZOFFSETTO:-0500
TZNAME:EST
DTSTART:20241103T060000
END:STANDARD
BEGIN:DAYLIGHT
TZOFFSETFROM:-0500
TZOFFSETTO:-0400
TZNAME:EDT
DTSTART:20250309T070000
END:DAYLIGHT
BEGIN:STANDARD
TZOFFSETFROM:-0400
TZOFFSETTO:-0500
TZNAME:EST
DTSTART:20251102T060000
END:STANDARD
BEGIN:DAYLIGHT
TZOFFSETFROM:-0500
TZOFFSETTO:-0400
TZNAME:EDT
DTSTART:20260308T070000
END:DAYLIGHT
BEGIN:STANDARD
TZOFFSETFROM:-0400
TZOFFSETTO:-0500
TZNAME:EST
DTSTART:20261101T060000
END:STANDARD
END:VTIMEZONE
BEGIN:VEVENT
DTSTART;TZID=America/New_York:20250904T113000
DTEND;TZID=America/New_York:20250904T123000
DTSTAMP:20260424T223617
CREATED:20250828T130141Z
LAST-MODIFIED:20250828T130141Z
UID:77413-1756985400-1756989000@www2.stetson.edu
SUMMARY:Library Tailgate
DESCRIPTION:Kick off your 1L season with game-day snacks\, winning library tips\, and MVP-worthy gifts! Come meet the team! (No\, not the football team\, the library team. But we do tackle research like pros. ??)
URL:https://www2.stetson.edu/law/docket/events/library-tailgate/
LOCATION:Dolly & Homer Hand Law Library–Larkin Room\, 1401 61st Street South\, Gulfport\, FL\, 33707\, United States
CATEGORIES:Academic
END:VEVENT
BEGIN:VEVENT
DTSTART;TZID=America/New_York:20250904T113000
DTEND;TZID=America/New_York:20250904T130000
DTSTAMP:20260424T223617
CREATED:20250827T194810Z
LAST-MODIFIED:20250827T194810Z
UID:77411-1756985400-1756990800@www2.stetson.edu
SUMMARY:What is Textualism & Originalism?
DESCRIPTION:Join Stetson Law FedSoc alum and Florida 13th Circuit-Hillsborough County Court Judge Michael Bagge-Hernandez for a lunchtime conversation on the meaning of Textualism & Originalism. \nPlease RSVP on HattersConnect.\nFood served at student organization events is for students who attend the entire program.\nE-mail ada@law.stetson.edu should you need ADA accommodations for this program.
URL:https://www2.stetson.edu/law/docket/events/what-is-textualism-originalism/
LOCATION:Mann Lounge\, Gulfport campus
CATEGORIES:Federalist Society
END:VEVENT
END:VCALENDAR