BEGIN:VCALENDAR
VERSION:2.0
PRODID:-//Stetson Law Campus Announcements and Events - ECPv6.15.20//NONSGML v1.0//EN
CALSCALE:GREGORIAN
METHOD:PUBLISH
X-ORIGINAL-URL:https://www2.stetson.edu/law/docket
X-WR-CALDESC:Events for Stetson Law Campus Announcements and Events
REFRESH-INTERVAL;VALUE=DURATION:PT1H
X-Robots-Tag:noindex
X-PUBLISHED-TTL:PT1H
BEGIN:VTIMEZONE
TZID:America/New_York
BEGIN:DAYLIGHT
TZOFFSETFROM:-0500
TZOFFSETTO:-0400
TZNAME:EDT
DTSTART:20240310T070000
END:DAYLIGHT
BEGIN:STANDARD
TZOFFSETFROM:-0400
TZOFFSETTO:-0500
TZNAME:EST
DTSTART:20241103T060000
END:STANDARD
BEGIN:DAYLIGHT
TZOFFSETFROM:-0500
TZOFFSETTO:-0400
TZNAME:EDT
DTSTART:20250309T070000
END:DAYLIGHT
BEGIN:STANDARD
TZOFFSETFROM:-0400
TZOFFSETTO:-0500
TZNAME:EST
DTSTART:20251102T060000
END:STANDARD
BEGIN:DAYLIGHT
TZOFFSETFROM:-0500
TZOFFSETTO:-0400
TZNAME:EDT
DTSTART:20260308T070000
END:DAYLIGHT
BEGIN:STANDARD
TZOFFSETFROM:-0400
TZOFFSETTO:-0500
TZNAME:EST
DTSTART:20261101T060000
END:STANDARD
END:VTIMEZONE
BEGIN:VEVENT
DTSTART;VALUE=DATE:20250913
DTEND;VALUE=DATE:20250914
DTSTAMP:20260424T223614
CREATED:20250909T145447Z
LAST-MODIFIED:20250909T145447Z
UID:77588-1757721600-1757807999@www2.stetson.edu
SUMMARY:Pool Closed
DESCRIPTION:The pool will be closed on Saturday\, September 13th\, 2025.
URL:https://www2.stetson.edu/law/docket/events/pool-closed/
LOCATION:Student Center Pool
ORGANIZER;CN="Division of Student Affairs":MAILTO:studentaffairs@law.stetson.edu
END:VEVENT
BEGIN:VEVENT
DTSTART;TZID=America/New_York:20250913T100000
DTEND;TZID=America/New_York:20250913T130000
DTSTAMP:20260424T223614
CREATED:20250902T172336Z
LAST-MODIFIED:20250902T172336Z
UID:77468-1757757600-1757768400@www2.stetson.edu
SUMMARY:Boston Law Fair
DESCRIPTION:
URL:https://www2.stetson.edu/law/docket/events/boston-law-fair/
LOCATION:Suffolk University Law School\, Boston\, MA
CATEGORIES:Admissions
END:VEVENT
END:VCALENDAR