BEGIN:VCALENDAR
VERSION:2.0
PRODID:-//Stetson Law Campus Announcements and Events - ECPv6.15.20//NONSGML v1.0//EN
CALSCALE:GREGORIAN
METHOD:PUBLISH
X-ORIGINAL-URL:https://www2.stetson.edu/law/docket
X-WR-CALDESC:Events for Stetson Law Campus Announcements and Events
REFRESH-INTERVAL;VALUE=DURATION:PT1H
X-Robots-Tag:noindex
X-PUBLISHED-TTL:PT1H
BEGIN:VTIMEZONE
TZID:America/New_York
BEGIN:DAYLIGHT
TZOFFSETFROM:-0500
TZOFFSETTO:-0400
TZNAME:EDT
DTSTART:20240310T070000
END:DAYLIGHT
BEGIN:STANDARD
TZOFFSETFROM:-0400
TZOFFSETTO:-0500
TZNAME:EST
DTSTART:20241103T060000
END:STANDARD
BEGIN:DAYLIGHT
TZOFFSETFROM:-0500
TZOFFSETTO:-0400
TZNAME:EDT
DTSTART:20250309T070000
END:DAYLIGHT
BEGIN:STANDARD
TZOFFSETFROM:-0400
TZOFFSETTO:-0500
TZNAME:EST
DTSTART:20251102T060000
END:STANDARD
BEGIN:DAYLIGHT
TZOFFSETFROM:-0500
TZOFFSETTO:-0400
TZNAME:EDT
DTSTART:20260308T070000
END:DAYLIGHT
BEGIN:STANDARD
TZOFFSETFROM:-0400
TZOFFSETTO:-0500
TZNAME:EST
DTSTART:20261101T060000
END:STANDARD
END:VTIMEZONE
BEGIN:VEVENT
DTSTART;TZID=America/New_York:20250916T110000
DTEND;TZID=America/New_York:20250916T140000
DTSTAMP:20260424T223616
CREATED:20250902T172647Z
LAST-MODIFIED:20250902T172647Z
UID:77473-1758020400-1758031200@www2.stetson.edu
SUMMARY:University of Illinois Urbana-Champaign Law Fair
DESCRIPTION:
URL:https://www2.stetson.edu/law/docket/events/university-of-illinois-urbana-champaign-law-fair/
LOCATION:Illini Union\, Urbana\, IL
CATEGORIES:Admissions
END:VEVENT
BEGIN:VEVENT
DTSTART;TZID=America/New_York:20250916T120000
DTEND;TZID=America/New_York:20250916T130000
DTSTAMP:20260424T223616
CREATED:20250908T185357Z
LAST-MODIFIED:20250915T140656Z
UID:77555-1758024000-1758027600@www2.stetson.edu
SUMMARY:Criminal Law Practice Panel
DESCRIPTION:Explore the practice of criminal law! Join the Office of Career and Professional Development and the first-year Criminal Law Faculty for a special opportunity to hear insight and experiences from attorneys who are practicing in the field of criminal law today.  In this program our panelists will share their stories and will discuss the moments that helped shape their careers. Even if you attended the presentation with District Attorney Larry Krasner\, this panel is designed to offer unique perspectives on criminal practice in Florida\, private practice and white collar crime\, and juvenile law and its overlap with the criminal justice system. \nPanelists include: \n\nAssistant State Attorney\nPublic Defender – State\nPrivate Practice Criminal Defense – focus on white collar crime\n\nGain a better understanding of careers in criminal law\, learn about the pathways to these positions\, and understand the breadth of experiences you might have. \nLunch from Jimmy Johns will be provided\, including traditional sub sandwiches\, vegetarian sandwiches and wraps\, and gluten free (and dairy free) “unwiches” wrapped in lettuce. \nThis event is for Stetson students\, faculty\, and staff only.
URL:https://www2.stetson.edu/law/docket/events/criminal-law-practice-panel-2/
LOCATION:Great Hall
CATEGORIES:Career & Professional Development
END:VEVENT
BEGIN:VEVENT
DTSTART;TZID=America/New_York:20250916T173000
DTEND;TZID=America/New_York:20250916T210000
DTSTAMP:20260424T223616
CREATED:20250909T172424Z
LAST-MODIFIED:20250909T172424Z
UID:77591-1758043800-1758056400@www2.stetson.edu
SUMMARY:Screening of Just Mercy
DESCRIPTION:Join us for a Screening of Just Mercy. “It explores the work of young defense attorney Bryan Stevenson who represents poor people on death row in the south. Featured is his work with Walter McMillian\, who had been wrongfully convicted of the murder of a young woman. The film is based on Stevenson’s 2014 memoir\, in which he explored his journey to making his life’s work the defense of African American prisoners.” \nPlease RSVP on Engage\nFood served at student organization events is for students who attend the entire program.\nE-mail ada@law.stetson.edu should you need ADA accommodations for this program.
URL:https://www2.stetson.edu/law/docket/events/screening-of-just-mercy/
LOCATION:Classroom A\, Gulfport\, United States
END:VEVENT
END:VCALENDAR