BEGIN:VCALENDAR
VERSION:2.0
PRODID:-//Stetson Law Campus Announcements and Events - ECPv6.15.20//NONSGML v1.0//EN
CALSCALE:GREGORIAN
METHOD:PUBLISH
X-WR-CALNAME:Stetson Law Campus Announcements and Events
X-ORIGINAL-URL:https://www2.stetson.edu/law/docket
X-WR-CALDESC:Events for Stetson Law Campus Announcements and Events
REFRESH-INTERVAL;VALUE=DURATION:PT1H
X-Robots-Tag:noindex
X-PUBLISHED-TTL:PT1H
BEGIN:VTIMEZONE
TZID:America/New_York
BEGIN:DAYLIGHT
TZOFFSETFROM:-0500
TZOFFSETTO:-0400
TZNAME:EDT
DTSTART:20240310T070000
END:DAYLIGHT
BEGIN:STANDARD
TZOFFSETFROM:-0400
TZOFFSETTO:-0500
TZNAME:EST
DTSTART:20241103T060000
END:STANDARD
BEGIN:DAYLIGHT
TZOFFSETFROM:-0500
TZOFFSETTO:-0400
TZNAME:EDT
DTSTART:20250309T070000
END:DAYLIGHT
BEGIN:STANDARD
TZOFFSETFROM:-0400
TZOFFSETTO:-0500
TZNAME:EST
DTSTART:20251102T060000
END:STANDARD
BEGIN:DAYLIGHT
TZOFFSETFROM:-0500
TZOFFSETTO:-0400
TZNAME:EDT
DTSTART:20260308T070000
END:DAYLIGHT
BEGIN:STANDARD
TZOFFSETFROM:-0400
TZOFFSETTO:-0500
TZNAME:EST
DTSTART:20261101T060000
END:STANDARD
END:VTIMEZONE
BEGIN:VEVENT
DTSTART;TZID=America/New_York:20250924T110000
DTEND;TZID=America/New_York:20250924T150000
DTSTAMP:20260424T223550
CREATED:20250916T195930Z
LAST-MODIFIED:20250916T195930Z
UID:77632-1758711600-1758726000@www2.stetson.edu
SUMMARY:Community Connections 9.24.2025
DESCRIPTION:
URL:https://www2.stetson.edu/law/docket/events/community-connections-9-24-2025/
END:VEVENT
BEGIN:VEVENT
DTSTART;TZID=America/New_York:20250924T130000
DTEND;TZID=America/New_York:20250924T160000
DTSTAMP:20260424T223550
CREATED:20250902T174250Z
LAST-MODIFIED:20250902T174250Z
UID:77478-1758718800-1758729600@www2.stetson.edu
SUMMARY:University of South Carolina Law School Fair
DESCRIPTION:
URL:https://www2.stetson.edu/law/docket/events/university-of-south-carolina-law-school-fair-2/
LOCATION:University of South Carolina Coliseum\, Columbia\, SC
CATEGORIES:Admissions
END:VEVENT
BEGIN:VEVENT
DTSTART;TZID=America/New_York:20250924T150000
DTEND;TZID=America/New_York:20250924T163000
DTSTAMP:20260424T223550
CREATED:20250902T174122Z
LAST-MODIFIED:20250902T174308Z
UID:77475-1758726000-1758731400@www2.stetson.edu
SUMMARY:Florida Law School Fair
DESCRIPTION:
URL:https://www2.stetson.edu/law/docket/events/florida-law-school-fair/
LOCATION:Florida International University Campus\, Miami\, FL
CATEGORIES:Admissions
END:VEVENT
END:VCALENDAR