BEGIN:VCALENDAR
VERSION:2.0
PRODID:-//Stetson Law Campus Announcements and Events - ECPv6.15.20//NONSGML v1.0//EN
CALSCALE:GREGORIAN
METHOD:PUBLISH
X-ORIGINAL-URL:https://www2.stetson.edu/law/docket
X-WR-CALDESC:Events for Stetson Law Campus Announcements and Events
REFRESH-INTERVAL;VALUE=DURATION:PT1H
X-Robots-Tag:noindex
X-PUBLISHED-TTL:PT1H
BEGIN:VTIMEZONE
TZID:America/New_York
BEGIN:DAYLIGHT
TZOFFSETFROM:-0500
TZOFFSETTO:-0400
TZNAME:EDT
DTSTART:20240310T070000
END:DAYLIGHT
BEGIN:STANDARD
TZOFFSETFROM:-0400
TZOFFSETTO:-0500
TZNAME:EST
DTSTART:20241103T060000
END:STANDARD
BEGIN:DAYLIGHT
TZOFFSETFROM:-0500
TZOFFSETTO:-0400
TZNAME:EDT
DTSTART:20250309T070000
END:DAYLIGHT
BEGIN:STANDARD
TZOFFSETFROM:-0400
TZOFFSETTO:-0500
TZNAME:EST
DTSTART:20251102T060000
END:STANDARD
BEGIN:DAYLIGHT
TZOFFSETFROM:-0500
TZOFFSETTO:-0400
TZNAME:EDT
DTSTART:20260308T070000
END:DAYLIGHT
BEGIN:STANDARD
TZOFFSETFROM:-0400
TZOFFSETTO:-0500
TZNAME:EST
DTSTART:20261101T060000
END:STANDARD
END:VTIMEZONE
BEGIN:VEVENT
DTSTART;TZID=America/New_York:20250930T100000
DTEND;TZID=America/New_York:20250930T140000
DTSTAMP:20260424T210720
CREATED:20250904T183101Z
LAST-MODIFIED:20250904T183101Z
UID:77516-1759226400-1759240800@www2.stetson.edu
SUMMARY:University of Tennessee\, Knoxville Law Fair
DESCRIPTION:
URL:https://www2.stetson.edu/law/docket/events/university-of-tennessee-knoxville-law-fair/
LOCATION:Student Union\, Knoxville\, TN
CATEGORIES:Admissions
END:VEVENT
BEGIN:VEVENT
DTSTART;TZID=America/New_York:20250930T120000
DTEND;TZID=America/New_York:20250930T130000
DTSTAMP:20260424T210720
CREATED:20250826T151549Z
LAST-MODIFIED:20250826T151549Z
UID:77357-1759233600-1759237200@www2.stetson.edu
SUMMARY:Edward and Bonnie Foreman Biodiversity Lecture
DESCRIPTION:Join the Institute for Biodiversity Law and Policy for a lunchtime lecture from Casey Darling-Kniffin\, Conservation Policy Director for the Florida Wildlife Federation. She will be discussing her work on protecting Florida State Parks from development. \n12:00 p.m. on September 30\, 2025\, in the Great Hall \nLunch will be served. RSVP here.
URL:https://www2.stetson.edu/law/docket/events/edward-and-bonnie-foreman-biodiversity-lecture/
LOCATION:Great Hall
CATEGORIES:Foreman Biodiversity Lecture,Institute for Biodiversity Law and Policy
END:VEVENT
BEGIN:VEVENT
DTSTART;TZID=America/New_York:20250930T120000
DTEND;TZID=America/New_York:20250930T130000
DTSTAMP:20260424T210720
CREATED:20250828T192501Z
LAST-MODIFIED:20250903T184755Z
UID:77426-1759233600-1759237200@www2.stetson.edu
SUMMARY:Student Leadership Development September Luncheon
DESCRIPTION:Join SLDC for our first Luncheon of the year! Courtney Olivier\, National Director of Legal Education for BARBRI\, will be our speaker this month\, and lunch from Mr. Empanada will be provided! \nPlease RSVP so there is enough food for everyone. If you have questions\, please reach out to Annabella Tubbs\, Chair of Student Leadership Development Committee. \n1 Leadership Credit will be awarded to all students who sign in and stay for the majority of the luncheon. \nThe Leadership Development Program will offer opportunities for students to take part in a variety of Leadership Development Sessions. Students participating in the Leadership Development Program have the opportunity to receive a certificate of recognition at graduation. Successful completion of the program requires a total of 15 leadership credits plus a capstone essay before graduation.\n*LLM Students are required to complete 8 Credits plus the essay.
URL:https://www2.stetson.edu/law/docket/events/student-leadership-development-september-luncheon/
CATEGORIES:Student Affairs
END:VEVENT
BEGIN:VEVENT
DTSTART;TZID=America/New_York:20250930T170000
DTEND;TZID=America/New_York:20250930T180000
DTSTAMP:20260424T210720
CREATED:20250922T153134Z
LAST-MODIFIED:20250922T153134Z
UID:77689-1759251600-1759255200@www2.stetson.edu
SUMMARY:Guest Speaker: Berny Jacques
DESCRIPTION:Join Stetson Law Republicans in welcoming Florida House Representative Berny Jacques (District 59) to campus on Tuesday\, September 30th at 5:00 p.m. \nRepresentative Jacques will share insights on Florida policy\, leadership\, and the role of young attorneys in shaping our state’s future. In light of recent events\, this conversation will also highlight the importance of open dialogue\, free speech\, and ensuring that diverse voices are heard in today’s political climate. \nAll members of the Stetson Law community are invited to attend\, bring thoughtful questions\, and uphold the spirit of respectful dialogue. \nPlease RSVP on Engage\nFood served at student organization events is for students who attend the entire program.\nE-mail ada@law.stetson.edu should you need ADA accommodations for this program.
URL:https://www2.stetson.edu/law/docket/events/guest-speaker-berny-jacques/
LOCATION:Great Hall
END:VEVENT
END:VCALENDAR