BEGIN:VCALENDAR
VERSION:2.0
PRODID:-//Stetson Law Campus Announcements and Events - ECPv6.15.20//NONSGML v1.0//EN
CALSCALE:GREGORIAN
METHOD:PUBLISH
X-WR-CALNAME:Stetson Law Campus Announcements and Events
X-ORIGINAL-URL:https://www2.stetson.edu/law/docket
X-WR-CALDESC:Events for Stetson Law Campus Announcements and Events
REFRESH-INTERVAL;VALUE=DURATION:PT1H
X-Robots-Tag:noindex
X-PUBLISHED-TTL:PT1H
BEGIN:VTIMEZONE
TZID:America/New_York
BEGIN:DAYLIGHT
TZOFFSETFROM:-0500
TZOFFSETTO:-0400
TZNAME:EDT
DTSTART:20240310T070000
END:DAYLIGHT
BEGIN:STANDARD
TZOFFSETFROM:-0400
TZOFFSETTO:-0500
TZNAME:EST
DTSTART:20241103T060000
END:STANDARD
BEGIN:DAYLIGHT
TZOFFSETFROM:-0500
TZOFFSETTO:-0400
TZNAME:EDT
DTSTART:20250309T070000
END:DAYLIGHT
BEGIN:STANDARD
TZOFFSETFROM:-0400
TZOFFSETTO:-0500
TZNAME:EST
DTSTART:20251102T060000
END:STANDARD
BEGIN:DAYLIGHT
TZOFFSETFROM:-0500
TZOFFSETTO:-0400
TZNAME:EDT
DTSTART:20260308T070000
END:DAYLIGHT
BEGIN:STANDARD
TZOFFSETFROM:-0400
TZOFFSETTO:-0500
TZNAME:EST
DTSTART:20261101T060000
END:STANDARD
END:VTIMEZONE
BEGIN:VEVENT
DTSTART;TZID=America/New_York:20251008T120000
DTEND;TZID=America/New_York:20251008T130000
DTSTAMP:20260424T210555
CREATED:20250924T175405Z
LAST-MODIFIED:20250924T175405Z
UID:77711-1759924800-1759928400@www2.stetson.edu
SUMMARY:Clinical Education Lunch & Learn
DESCRIPTION:
URL:https://www2.stetson.edu/law/docket/events/clinical-education-lunch-learn-3/
LOCATION:F&R Courtoom
CATEGORIES:Clinical Education
ORGANIZER;CN="Kaylie Murphy":MAILTO:kjmurphy@law.stetson.edu
END:VEVENT
BEGIN:VEVENT
DTSTART;TZID=America/New_York:20251008T120000
DTEND;TZID=America/New_York:20251008T130000
DTSTAMP:20260424T210555
CREATED:20251006T184359Z
LAST-MODIFIED:20251006T184359Z
UID:77921-1759924800-1759928400@www2.stetson.edu
SUMMARY:FAWLS First General Body Meeting
DESCRIPTION:First General Body meeting for FAWLS. We will go over the events for the semester and discuss mentorship opportunities within FAWLS. \nPlease RSVP on Engage\nFood served at student organization events is for students who attend the entire program.\nE-mail ada@law.stetson.edu should you need ADA accommodations for this program.
URL:https://www2.stetson.edu/law/docket/events/fawls-first-general-body-meeting/
LOCATION:Classroom A\, Gulfport\, United States
END:VEVENT
BEGIN:VEVENT
DTSTART;TZID=America/New_York:20251008T120000
DTEND;TZID=America/New_York:20251008T130000
DTSTAMP:20260424T210555
CREATED:20251006T184451Z
LAST-MODIFIED:20251006T184451Z
UID:77923-1759924800-1759928400@www2.stetson.edu
SUMMARY:AALSA Fall General Body Meeting
DESCRIPTION:Join us at our Fall General Body Meeting! We will introduce our officer team\, cover upcoming events for the semester\, opportunities to get involved\, and hear your ideas too. Bonus: free poke bowls for lunch. Bring a friend\, grab some food\, and let’s kick off the new school year together! \nPlease RSVP on Engage\nFood served at student organization events is for students who attend the entire program.\nE-mail ada@law.stetson.edu should you need ADA accommodations for this program.
URL:https://www2.stetson.edu/law/docket/events/aalsa-fall-general-body-meeting/
LOCATION:Classroom D
END:VEVENT
BEGIN:VEVENT
DTSTART;TZID=America/New_York:20251008T170000
DTEND;TZID=America/New_York:20251008T190000
DTSTAMP:20260424T210555
CREATED:20251006T184237Z
LAST-MODIFIED:20251006T184237Z
UID:77919-1759942800-1759950000@www2.stetson.edu
SUMMARY:Pathways to the Firm Panel Discussion
DESCRIPTION:Join FGLA and Federalist Society for an engaging and insightful panel discussion designed to demystify the journey from law school to landing a position at a top law firm. Pathways to the Firm brings together partners from prominent firms who will share their unique career trajectories\, provide practical tips on navigating the recruitment process\, and offer candid advice on how to stand out as a candidate. \nPlease RSVP on Engage\nFood served at student organization events is for students who attend the entire program.\nE-mail ada@law.stetson.edu should you need ADA accommodations for this program.
URL:https://www2.stetson.edu/law/docket/events/pathways-to-the-firm-panel-discussion/
LOCATION:Mann Lounge\, Gulfport campus
END:VEVENT
END:VCALENDAR