BEGIN:VCALENDAR
VERSION:2.0
PRODID:-//Stetson Law Campus Announcements and Events - ECPv6.15.20//NONSGML v1.0//EN
CALSCALE:GREGORIAN
METHOD:PUBLISH
X-ORIGINAL-URL:https://www2.stetson.edu/law/docket
X-WR-CALDESC:Events for Stetson Law Campus Announcements and Events
REFRESH-INTERVAL;VALUE=DURATION:PT1H
X-Robots-Tag:noindex
X-PUBLISHED-TTL:PT1H
BEGIN:VTIMEZONE
TZID:America/New_York
BEGIN:DAYLIGHT
TZOFFSETFROM:-0500
TZOFFSETTO:-0400
TZNAME:EDT
DTSTART:20240310T070000
END:DAYLIGHT
BEGIN:STANDARD
TZOFFSETFROM:-0400
TZOFFSETTO:-0500
TZNAME:EST
DTSTART:20241103T060000
END:STANDARD
BEGIN:DAYLIGHT
TZOFFSETFROM:-0500
TZOFFSETTO:-0400
TZNAME:EDT
DTSTART:20250309T070000
END:DAYLIGHT
BEGIN:STANDARD
TZOFFSETFROM:-0400
TZOFFSETTO:-0500
TZNAME:EST
DTSTART:20251102T060000
END:STANDARD
BEGIN:DAYLIGHT
TZOFFSETFROM:-0500
TZOFFSETTO:-0400
TZNAME:EDT
DTSTART:20260308T070000
END:DAYLIGHT
BEGIN:STANDARD
TZOFFSETFROM:-0400
TZOFFSETTO:-0500
TZNAME:EST
DTSTART:20261101T060000
END:STANDARD
END:VTIMEZONE
BEGIN:VEVENT
DTSTART;TZID=America/New_York:20251016T050000
DTEND;TZID=America/New_York:20251016T190000
DTSTAMP:20260424T210722
CREATED:20251006T151706Z
LAST-MODIFIED:20251006T151706Z
UID:77840-1760590800-1760641200@www2.stetson.edu
SUMMARY:SLDC Fall Workshop
DESCRIPTION:Join SLDC for dinner and a fun evening of team-building activities! Our Fall Workshop will take place in Classroom A on Thursday\, October 16\, 2025\, from 5:00pm – 7:00pm! Students will earn 2 leadership credits for attendance at this event. \nDinner from Chipotle will be provided. *Please RSVP so we can order enough food for all attendees* \nThe Leadership Development Program will offer opportunities for students to take part in a variety of Leadership Development Sessions. Students participating in the Leadership Development Program have the opportunity to receive a certificate of recognition at graduation. Successful completion of the program requires a total of 15 leadership credits plus a capstone essay before graduation.\n*LLM Students are required to complete 8 Credits plus the essay. \nPlease RSVP on Engage\nFood served at student organization events is for students who attend the entire program.\nE-mail ada@law.stetson.edu should you need ADA accommodations for this program.
URL:https://www2.stetson.edu/law/docket/events/sldc-fall-workshop/
LOCATION:Classroom A\, Gulfport\, United States
END:VEVENT
BEGIN:VEVENT
DTSTART;TZID=America/New_York:20251016T120000
DTEND;TZID=America/New_York:20251016T130000
DTSTAMP:20260424T210722
CREATED:20251006T151830Z
LAST-MODIFIED:20251006T151830Z
UID:77842-1760616000-1760619600@www2.stetson.edu
SUMMARY:Kahoot & Craft
DESCRIPTION:Come join MENA LSA during lunch to play some MENA-themed Kahoot games and make your own evil eye bracelet! Food and crafting supplies will be provided. \nPlease RSVP on Engage\nFood served at student organization events is for students who attend the entire program.\nE-mail ada@law.stetson.edu should you need ADA accommodations for this program.
URL:https://www2.stetson.edu/law/docket/events/kahoot-craft/
LOCATION:Classroom F
END:VEVENT
BEGIN:VEVENT
DTSTART;TZID=America/New_York:20251016T120000
DTEND;TZID=America/New_York:20251016T130000
DTSTAMP:20260424T210722
CREATED:20251006T152015Z
LAST-MODIFIED:20251006T152015Z
UID:77844-1760616000-1760619600@www2.stetson.edu
SUMMARY:ELS & FLS Career Panel
DESCRIPTION:Please join the Environmental Law Society and Food Law Society for a career panel from 12-1pm on October 16th. This panelists will discuss breaking into the field of environmental law and current events with environmental attorneys. Feel free to interact with our panelists by bringing questions. \nLunch will be provided—while supplies last!  \nPlease RSVP on Engage\nFood served at student organization events is for students who attend the entire program.\nE-mail ada@law.stetson.edu should you need ADA accommodations for this program.
URL:https://www2.stetson.edu/law/docket/events/els-fls-career-panel/
LOCATION:Mann Lounge\, 1401 61st St S\, Gulfport\, FL\, 33707
END:VEVENT
BEGIN:VEVENT
DTSTART;TZID=America/New_York:20251016T120000
DTEND;TZID=America/New_York:20251016T130000
DTSTAMP:20260424T210722
CREATED:20251006T152253Z
LAST-MODIFIED:20251006T152253Z
UID:77846-1760616000-1760619600@www2.stetson.edu
SUMMARY:Student Veterans' Organization Health and Wellness Week Event
DESCRIPTION:The Student Veterans’ Organization will be providing an event focusing on mental health counseling for lawyers. We are hopping to partner with Florida Lawyers Assistance to bring in a guest speaker who will discuss how law students and new lawyers can use healthy coping strategies to deal with the stress of law. \nPlease RSVP on Engage\nFood served at student organization events is for students who attend the entire program.\nE-mail ada@law.stetson.edu should you need ADA accommodations for this program.
URL:https://www2.stetson.edu/law/docket/events/student-veterans-organization-health-and-wellness-week-event/
LOCATION:Classroom E
END:VEVENT
BEGIN:VEVENT
DTSTART;TZID=America/New_York:20251016T120000
DTEND;TZID=America/New_York:20251016T130000
DTSTAMP:20260424T210722
CREATED:20251006T152422Z
LAST-MODIFIED:20251006T152422Z
UID:77848-1760616000-1760619600@www2.stetson.edu
SUMMARY:LARA 1st GBM
DESCRIPTION:Join LARA at our first General Body Meeting of the semester! Meet your LARA E-Board\, learn about our upcoming plans\, play a fun Kahoot\, and grab some food! \nPlease RSVP on Engage\nFood served at student organization events is for students who attend the entire program.\nE-mail ada@law.stetson.edu should you need ADA accommodations for this program.
URL:https://www2.stetson.edu/law/docket/events/lara-1st-gbm/
LOCATION:Law Library\, 3rd Floor Classroom
END:VEVENT
BEGIN:VEVENT
DTSTART;TZID=America/New_York:20251016T120000
DTEND;TZID=America/New_York:20251016T130000
DTSTAMP:20260424T210722
CREATED:20251006T153009Z
LAST-MODIFIED:20251006T153009Z
UID:77852-1760616000-1760619600@www2.stetson.edu
SUMMARY:Space Law NASA Guest Speaker Event
DESCRIPTION:Come to this Space Law event to meet NASA Attorney Trevor Tezel. This event is open to all students that want to know more about working for NASA and ask questions. Free food will be provided. \nPlease RSVP on Engage\nFood served at student organization events is for students who attend the entire program.\nE-mail ada@law.stetson.edu should you need ADA accommodations for this program.
URL:https://www2.stetson.edu/law/docket/events/space-law-nasa-guest-speaker-event/
LOCATION:Classroom G\, Gulfport\, FL
END:VEVENT
END:VCALENDAR