BEGIN:VCALENDAR
VERSION:2.0
PRODID:-//Stetson Law Campus Announcements and Events - ECPv6.15.20//NONSGML v1.0//EN
CALSCALE:GREGORIAN
METHOD:PUBLISH
X-WR-CALNAME:Stetson Law Campus Announcements and Events
X-ORIGINAL-URL:https://www2.stetson.edu/law/docket
X-WR-CALDESC:Events for Stetson Law Campus Announcements and Events
REFRESH-INTERVAL;VALUE=DURATION:PT1H
X-Robots-Tag:noindex
X-PUBLISHED-TTL:PT1H
BEGIN:VTIMEZONE
TZID:America/New_York
BEGIN:DAYLIGHT
TZOFFSETFROM:-0500
TZOFFSETTO:-0400
TZNAME:EDT
DTSTART:20240310T070000
END:DAYLIGHT
BEGIN:STANDARD
TZOFFSETFROM:-0400
TZOFFSETTO:-0500
TZNAME:EST
DTSTART:20241103T060000
END:STANDARD
BEGIN:DAYLIGHT
TZOFFSETFROM:-0500
TZOFFSETTO:-0400
TZNAME:EDT
DTSTART:20250309T070000
END:DAYLIGHT
BEGIN:STANDARD
TZOFFSETFROM:-0400
TZOFFSETTO:-0500
TZNAME:EST
DTSTART:20251102T060000
END:STANDARD
BEGIN:DAYLIGHT
TZOFFSETFROM:-0500
TZOFFSETTO:-0400
TZNAME:EDT
DTSTART:20260308T070000
END:DAYLIGHT
BEGIN:STANDARD
TZOFFSETFROM:-0400
TZOFFSETTO:-0500
TZNAME:EST
DTSTART:20261101T060000
END:STANDARD
END:VTIMEZONE
BEGIN:VEVENT
DTSTART;TZID=America/New_York:20251020T120000
DTEND;TZID=America/New_York:20251020T130000
DTSTAMP:20260424T210554
CREATED:20251006T151236Z
LAST-MODIFIED:20251006T151236Z
UID:77836-1760961600-1760965200@www2.stetson.edu
SUMMARY:What to Know About Pro Bono with Director Storke
DESCRIPTION:Join FLAP and the Office of Career and Professional Development for an informational session on everything you need to know regarding the Pro Bono Graduation Requirement here at Stetson! Learn about what qualifies as legal or non-legal pro bono\, the process of submitting pro bono hours\, and resources to find pro bono opportunities. \n  \nThis session will be presented by Director Stephanie Storke\, Associate Director of Public Interest Careers & Pro Bono. \n  \nPlease RSVP on Engage\nFood served at student organization events is for students who attend the entire program.\nE-mail ada@law.stetson.edu should you need ADA accommodations for this program.
URL:https://www2.stetson.edu/law/docket/events/what-to-know-about-pro-bono-with-director-storke/
LOCATION:Great Hall & Mann Lounge
END:VEVENT
BEGIN:VEVENT
DTSTART;TZID=America/New_York:20251020T173000
DTEND;TZID=America/New_York:20251020T183000
DTSTAMP:20260424T210554
CREATED:20251006T151052Z
LAST-MODIFIED:20251006T151052Z
UID:77833-1760981400-1760985000@www2.stetson.edu
SUMMARY:BLSA Presents Student Membership in Bar Associations
DESCRIPTION:Come learn about bar associations and the benefits to joining as a student. We will have representatives from the Virgil Hawkins Florida Chapter of the National Bar Association\, Fred G. Minnis Bar Association\, and George Edgecomb Bar Association to speak about their organizations and how students can get involved. \n  \nPlease RSVP on Engage\nFood served at student organization events is for students who attend the entire program.\nE-mail ada@law.stetson.edu should you need ADA accommodations for this program.
URL:https://www2.stetson.edu/law/docket/events/blsa-presents-student-membership-in-bar-associations/
LOCATION:Advocacy Atrium (Trophy Room)
END:VEVENT
BEGIN:VEVENT
DTSTART;TZID=America/New_York:20251020T190000
DTEND;TZID=America/New_York:20251020T220000
DTSTAMP:20260424T210554
CREATED:20251006T150846Z
LAST-MODIFIED:20251006T150846Z
UID:77831-1760986800-1760997600@www2.stetson.edu
SUMMARY:Entertainment and Sports Trivia with EASL
DESCRIPTION:Join Stetson Law’s Entertainment & Sports Law Society (EASL) for a lively evening of themed trivia\, friendly competition\, and plenty of game-day spirit! \nTest your knowledge of sports\, entertainment\, and pop culture in our trivia challenge while enjoying football-themed snacks and watching the Tampa Bay Buccaneers game with your fellow classmates. Come solo or bring a team—there will be prizes\, bragging rights\, and plenty of fun for everyone! Feel free to bring your own favorite snacks to share! \nWhether you’re a trivia pro\, a sports fan\, or just looking to hang out with EASL\, this is an event you won’t want to miss. \nPlease RSVP on Engage\nFood served at student organization events is for students who attend the entire program.\nE-mail ada@law.stetson.edu should you need ADA accommodations for this program.
URL:https://www2.stetson.edu/law/docket/events/entertainment-and-sports-trivia-with-easl/
LOCATION:Mann Lounge\, Gulfport Campus
END:VEVENT
END:VCALENDAR