BEGIN:VCALENDAR
VERSION:2.0
PRODID:-//Stetson Law Campus Announcements and Events - ECPv6.15.20//NONSGML v1.0//EN
CALSCALE:GREGORIAN
METHOD:PUBLISH
X-WR-CALNAME:Stetson Law Campus Announcements and Events
X-ORIGINAL-URL:https://www2.stetson.edu/law/docket
X-WR-CALDESC:Events for Stetson Law Campus Announcements and Events
REFRESH-INTERVAL;VALUE=DURATION:PT1H
X-Robots-Tag:noindex
X-PUBLISHED-TTL:PT1H
BEGIN:VTIMEZONE
TZID:America/New_York
BEGIN:DAYLIGHT
TZOFFSETFROM:-0500
TZOFFSETTO:-0400
TZNAME:EDT
DTSTART:20240310T070000
END:DAYLIGHT
BEGIN:STANDARD
TZOFFSETFROM:-0400
TZOFFSETTO:-0500
TZNAME:EST
DTSTART:20241103T060000
END:STANDARD
BEGIN:DAYLIGHT
TZOFFSETFROM:-0500
TZOFFSETTO:-0400
TZNAME:EDT
DTSTART:20250309T070000
END:DAYLIGHT
BEGIN:STANDARD
TZOFFSETFROM:-0400
TZOFFSETTO:-0500
TZNAME:EST
DTSTART:20251102T060000
END:STANDARD
BEGIN:DAYLIGHT
TZOFFSETFROM:-0500
TZOFFSETTO:-0400
TZNAME:EDT
DTSTART:20260308T070000
END:DAYLIGHT
BEGIN:STANDARD
TZOFFSETFROM:-0400
TZOFFSETTO:-0500
TZNAME:EST
DTSTART:20261101T060000
END:STANDARD
END:VTIMEZONE
BEGIN:VEVENT
DTSTART;TZID=America/New_York:20251023T120000
DTEND;TZID=America/New_York:20251023T130000
DTSTAMP:20260424T210631
CREATED:20251014T131512Z
LAST-MODIFIED:20251014T131512Z
UID:78070-1761220800-1761224400@www2.stetson.edu
SUMMARY:JLSA General Body Meeting
DESCRIPTION:Come join JLSA for our General Body Meeting! Meet fellow members\, learn what we have planned for the semester\, and grab some food from Publix! \nPlease RSVP on Engage\nFood served at student organization events is for students who attend the entire program.\nE-mail ada@law.stetson.edu should you need ADA accommodations for this program.
URL:https://www2.stetson.edu/law/docket/events/jlsa-general-body-meeting/
LOCATION:Classroom F
END:VEVENT
BEGIN:VEVENT
DTSTART;TZID=America/New_York:20251023T120000
DTEND;TZID=America/New_York:20251023T130000
DTSTAMP:20260424T210631
CREATED:20251021T150417Z
LAST-MODIFIED:20251021T150417Z
UID:78175-1761220800-1761224400@www2.stetson.edu
SUMMARY:Miami-Style Smart Justice: Lunch & Learn with Stephen Talpins
DESCRIPTION:Join us for a Lunch and Learn with Stephen Talpins\, Chief Assistant State Attorney from the State Attorney’s Office\, 11th Judicial Circuit. \nPlease RSVP on Engage\nFood served at student organization events is for students who attend the entire program.\nE-mail ada@law.stetson.edu should you need ADA accommodations for this program.
URL:https://www2.stetson.edu/law/docket/events/miami-style-smart-justice-lunch-learn-with-stephen-talpins/
LOCATION:Florin and Roebig Courtroom\, Gulfport Campus
END:VEVENT
BEGIN:VEVENT
DTSTART;TZID=America/New_York:20251023T120000
DTEND;TZID=America/New_York:20251023T133000
DTSTAMP:20260424T210631
CREATED:20251021T150926Z
LAST-MODIFIED:20251021T150926Z
UID:78177-1761220800-1761226200@www2.stetson.edu
SUMMARY:TAMBA Panel
DESCRIPTION:We will be inviting two attorneys (Hassan Shibley and Lama Alqasemi) associated with the Tampa Arab and Muslim Bar Association (TAMBA) to talk about their careers and interact with students. \nPlease RSVP on Engage\nFood served at student organization events is for students who attend the entire program.\nE-mail ada@law.stetson.edu should you need ADA accommodations for this program.
URL:https://www2.stetson.edu/law/docket/events/tamba-panel/
LOCATION:Classroom A\, Gulfport\, United States
END:VEVENT
BEGIN:VEVENT
DTSTART;TZID=America/New_York:20251023T173000
DTEND;TZID=America/New_York:20251023T190000
DTSTAMP:20260424T210631
CREATED:20251014T131355Z
LAST-MODIFIED:20251014T131355Z
UID:78068-1761240600-1761246000@www2.stetson.edu
SUMMARY:Lantern Festival
DESCRIPTION:Please join us for our annual lantern festival on October 23rd at 5:30 pm at the Student Center Pool. \nPlease RSVP on Engage\nFood served at student organization events is for students who attend the entire program.\nE-mail ada@law.stetson.edu should you need ADA accommodations for this program.
URL:https://www2.stetson.edu/law/docket/events/lantern-festival/
LOCATION:Student Center Pool
END:VEVENT
END:VCALENDAR