BEGIN:VCALENDAR
VERSION:2.0
PRODID:-//Stetson Law Campus Announcements and Events - ECPv6.15.20//NONSGML v1.0//EN
CALSCALE:GREGORIAN
METHOD:PUBLISH
X-ORIGINAL-URL:https://www2.stetson.edu/law/docket
X-WR-CALDESC:Events for Stetson Law Campus Announcements and Events
REFRESH-INTERVAL;VALUE=DURATION:PT1H
X-Robots-Tag:noindex
X-PUBLISHED-TTL:PT1H
BEGIN:VTIMEZONE
TZID:America/New_York
BEGIN:DAYLIGHT
TZOFFSETFROM:-0500
TZOFFSETTO:-0400
TZNAME:EDT
DTSTART:20240310T070000
END:DAYLIGHT
BEGIN:STANDARD
TZOFFSETFROM:-0400
TZOFFSETTO:-0500
TZNAME:EST
DTSTART:20241103T060000
END:STANDARD
BEGIN:DAYLIGHT
TZOFFSETFROM:-0500
TZOFFSETTO:-0400
TZNAME:EDT
DTSTART:20250309T070000
END:DAYLIGHT
BEGIN:STANDARD
TZOFFSETFROM:-0400
TZOFFSETTO:-0500
TZNAME:EST
DTSTART:20251102T060000
END:STANDARD
BEGIN:DAYLIGHT
TZOFFSETFROM:-0500
TZOFFSETTO:-0400
TZNAME:EDT
DTSTART:20260308T070000
END:DAYLIGHT
BEGIN:STANDARD
TZOFFSETFROM:-0400
TZOFFSETTO:-0500
TZNAME:EST
DTSTART:20261101T060000
END:STANDARD
END:VTIMEZONE
BEGIN:VEVENT
DTSTART;TZID=America/New_York:20251028T170000
DTEND;TZID=America/New_York:20251028T183000
DTSTAMP:20260424T193124
CREATED:20250908T185639Z
LAST-MODIFIED:20250908T185639Z
UID:77558-1761670800-1761676200@www2.stetson.edu
SUMMARY:A Talk by Guest Speaker Tony Banout
DESCRIPTION:Live from the DeLand Campus! Join us for a talk and interactive livestream Q&A by Tony Banout\, Executive Director of Chicago Forum on Free Inquiry and Expression\, exploring the timely topic of free expression on college and university campuses in the United States. This event is supported in part by the Chicago Forum on Free Inquiry and Expression. Beverages and snacks provided. All Faculty\, Students\, and Staff welcome!
URL:https://www2.stetson.edu/law/docket/events/a-talk-by-guest-speaker-tony-banout/
LOCATION:Great Hall
CATEGORIES:Dean's Office
END:VEVENT
BEGIN:VEVENT
DTSTART;TZID=America/New_York:20251028T193000
DTEND;TZID=America/New_York:20251028T220000
DTSTAMP:20260424T193124
CREATED:20250922T153853Z
LAST-MODIFIED:20250922T153853Z
UID:77695-1761679800-1761688800@www2.stetson.edu
SUMMARY:Halloween Karaoke Mixer
DESCRIPTION:Join Lambda\, Stetson Law Democrats\, MENA\, and SLAMS for a fun night of food\, drinks\, and karaoke! Come celebrate Halloween with us and sing a song or two! \nPlease RSVP on Engage\nFood served at student organization events is for students who attend the entire program.\nE-mail ada@law.stetson.edu should you need ADA accommodations for this program.
URL:https://www2.stetson.edu/law/docket/events/halloween-karaoke-mixer/
LOCATION:Mann Lounge\, Gulfport campus
END:VEVENT
END:VCALENDAR