BEGIN:VCALENDAR
VERSION:2.0
PRODID:-//Stetson Law Campus Announcements and Events - ECPv6.15.20//NONSGML v1.0//EN
CALSCALE:GREGORIAN
METHOD:PUBLISH
X-ORIGINAL-URL:https://www2.stetson.edu/law/docket
X-WR-CALDESC:Events for Stetson Law Campus Announcements and Events
REFRESH-INTERVAL;VALUE=DURATION:PT1H
X-Robots-Tag:noindex
X-PUBLISHED-TTL:PT1H
BEGIN:VTIMEZONE
TZID:America/New_York
BEGIN:DAYLIGHT
TZOFFSETFROM:-0500
TZOFFSETTO:-0400
TZNAME:EDT
DTSTART:20240310T070000
END:DAYLIGHT
BEGIN:STANDARD
TZOFFSETFROM:-0400
TZOFFSETTO:-0500
TZNAME:EST
DTSTART:20241103T060000
END:STANDARD
BEGIN:DAYLIGHT
TZOFFSETFROM:-0500
TZOFFSETTO:-0400
TZNAME:EDT
DTSTART:20250309T070000
END:DAYLIGHT
BEGIN:STANDARD
TZOFFSETFROM:-0400
TZOFFSETTO:-0500
TZNAME:EST
DTSTART:20251102T060000
END:STANDARD
BEGIN:DAYLIGHT
TZOFFSETFROM:-0500
TZOFFSETTO:-0400
TZNAME:EDT
DTSTART:20260308T070000
END:DAYLIGHT
BEGIN:STANDARD
TZOFFSETFROM:-0400
TZOFFSETTO:-0500
TZNAME:EST
DTSTART:20261101T060000
END:STANDARD
END:VTIMEZONE
BEGIN:VEVENT
DTSTART;TZID=America/New_York:20251030T120000
DTEND;TZID=America/New_York:20251030T130000
DTSTAMP:20260424T193126
CREATED:20251021T151158Z
LAST-MODIFIED:20251021T151158Z
UID:78180-1761825600-1761829200@www2.stetson.edu
SUMMARY:Halloween Pro-BOO-no Event
DESCRIPTION:Come make Halloween cards and candy bags for the senior center! \nPlease RSVP on Engage\nFood served at student organization events is for students who attend the entire program.\nE-mail ada@law.stetson.edu should you need ADA accommodations for this program.
URL:https://www2.stetson.edu/law/docket/events/halloween-pro-boo-no-event/
LOCATION:Classroom F
END:VEVENT
BEGIN:VEVENT
DTSTART;TZID=America/New_York:20251030T120000
DTEND;TZID=America/New_York:20251030T130000
DTSTAMP:20260424T193126
CREATED:20251021T151255Z
LAST-MODIFIED:20251021T151255Z
UID:78182-1761825600-1761829200@www2.stetson.edu
SUMMARY:LELA Halloween Trivia
DESCRIPTION:Celebrate Halloween with LELA at our lunchtime trivia event! Enjoy a Chipotle-catered lunch while competing in a Kahoot filled with Halloween trivia and employment law–themed hypotheticals. Gift cards will be awarded to the winners! This is a great chance to take a break\, grab lunch with friends\, and get into the Halloween spirit. \nPlease RSVP on Engage\nFood served at student organization events is for students who attend the entire program.\nE-mail ada@law.stetson.edu should you need ADA accommodations for this program.
URL:https://www2.stetson.edu/law/docket/events/lela-halloween-trivia/
LOCATION:Classroom A\, Gulfport\, United States
END:VEVENT
BEGIN:VEVENT
DTSTART;TZID=America/New_York:20251030T170000
DTEND;TZID=America/New_York:20251030T180000
DTSTAMP:20260424T193126
CREATED:20251021T151408Z
LAST-MODIFIED:20251021T151408Z
UID:78184-1761843600-1761847200@www2.stetson.edu
SUMMARY:Dia de los Muertos Celebration
DESCRIPTION:Dia de los Muertos celebration in the courtyard with HBA. \nPlease RSVP on Engage\nFood served at student organization events is for students who attend the entire program.\nE-mail ada@law.stetson.edu should you need ADA accommodations for this program.
URL:https://www2.stetson.edu/law/docket/events/dia-de-los-muertos-celebration-2/
LOCATION:Crummer Courtyard
END:VEVENT
BEGIN:VEVENT
DTSTART;TZID=America/New_York:20251030T170000
DTEND;TZID=America/New_York:20251030T190000
DTSTAMP:20260424T193126
CREATED:20250922T154204Z
LAST-MODIFIED:20251021T141241Z
UID:77699-1761843600-1761850800@www2.stetson.edu
SUMMARY:Young Alumni Panel Discussion
DESCRIPTION:Join Stetson FedSoc for an evening panel discussion with young alumni moderated by the Honorable Judge Thomas P. Barber! \nPlease RSVP on Engage\nFood served at student organization events is for students who attend the entire program.\nE-mail ada@law.stetson.edu should you need ADA accommodations for this program.
URL:https://www2.stetson.edu/law/docket/events/young-alumni-panel-discussion/
LOCATION:Great Hall
END:VEVENT
END:VCALENDAR