BEGIN:VCALENDAR
VERSION:2.0
PRODID:-//Stetson Law Campus Announcements and Events - ECPv6.15.20//NONSGML v1.0//EN
CALSCALE:GREGORIAN
METHOD:PUBLISH
X-WR-CALNAME:Stetson Law Campus Announcements and Events
X-ORIGINAL-URL:https://www2.stetson.edu/law/docket
X-WR-CALDESC:Events for Stetson Law Campus Announcements and Events
REFRESH-INTERVAL;VALUE=DURATION:PT1H
X-Robots-Tag:noindex
X-PUBLISHED-TTL:PT1H
BEGIN:VTIMEZONE
TZID:America/New_York
BEGIN:DAYLIGHT
TZOFFSETFROM:-0500
TZOFFSETTO:-0400
TZNAME:EDT
DTSTART:20240310T070000
END:DAYLIGHT
BEGIN:STANDARD
TZOFFSETFROM:-0400
TZOFFSETTO:-0500
TZNAME:EST
DTSTART:20241103T060000
END:STANDARD
BEGIN:DAYLIGHT
TZOFFSETFROM:-0500
TZOFFSETTO:-0400
TZNAME:EDT
DTSTART:20250309T070000
END:DAYLIGHT
BEGIN:STANDARD
TZOFFSETFROM:-0400
TZOFFSETTO:-0500
TZNAME:EST
DTSTART:20251102T060000
END:STANDARD
BEGIN:DAYLIGHT
TZOFFSETFROM:-0500
TZOFFSETTO:-0400
TZNAME:EDT
DTSTART:20260308T070000
END:DAYLIGHT
BEGIN:STANDARD
TZOFFSETFROM:-0400
TZOFFSETTO:-0500
TZNAME:EST
DTSTART:20261101T060000
END:STANDARD
END:VTIMEZONE
BEGIN:VEVENT
DTSTART;TZID=America/New_York:20251110T120000
DTEND;TZID=America/New_York:20251117T120000
DTSTAMP:20260424T193015
CREATED:20251105T160500Z
LAST-MODIFIED:20251105T160500Z
UID:78399-1762776000-1763380800@www2.stetson.edu
SUMMARY:SLAMS Student Art Gallery
DESCRIPTION:A gallery of student art held at the library atrium! Some snacks will be provided on the first day. \nPlease send an email to dhsmith@law.stetson.edu if you’re interested in putting anything on display! \nPlease RSVP on Engage\nFood served at student organization events is for students who attend the entire program.\nE-mail ada@law.stetson.edu should you need ADA accommodations for this program.
URL:https://www2.stetson.edu/law/docket/events/slams-student-art-gallery/
LOCATION:Hand Law Library Atrium
END:VEVENT
BEGIN:VEVENT
DTSTART;TZID=America/New_York:20251112T080000
DTEND;TZID=America/New_York:20251119T170000
DTSTAMP:20260424T193015
CREATED:20251112T215427Z
LAST-MODIFIED:20251112T215427Z
UID:78529-1762934400-1763571600@www2.stetson.edu
SUMMARY:Hurricane Melissa Relief Donation Drive
DESCRIPTION:The Division of Student Affairs\, along with a few other student organizations\, have decided to begin collecting relief materials for victims of Hurricane Melissa. Here are a few items we will be accepting: \n\n\nBottled drinking water \n\n\nNon-perishable goods (boxed\, canned\, or pre-packaged snacks) \n\n\nToothpaste and toothbrushes \n\n\nBar soap and body wash \n\n\nShampoo and conditioner \n\n\nBaby wipes and disinfectant wipes \n\n\nBatteries \n\n\nGarbage bags \n\n\nTowels \n\n\nFeminine hygiene products \n\n\nDisposable gloves \n\n\nGently used shirts\, pants\, and shoes \n\n\nThis is also an opportunity for students to earn pro-bono hours. Students may earn one pro bono hour for every three items donated\, up to a total of three hours. Please not that students are limited to earning a maximum of three hours for non-cash donation drives during their time at Stetson University College of Law.
URL:https://www2.stetson.edu/law/docket/events/hurricane-melissa-relief-donation-drive/
LOCATION:Student Affairs\, SC-207A
END:VEVENT
BEGIN:VEVENT
DTSTART;TZID=America/New_York:20251112T120000
DTEND;TZID=America/New_York:20251112T130000
DTSTAMP:20260424T193016
CREATED:20251105T162236Z
LAST-MODIFIED:20251105T162236Z
UID:78420-1762948800-1762952400@www2.stetson.edu
SUMMARY:Sip\, Savor\, and Thrive
DESCRIPTION:Take a break and recharge wuth us at Sip\, Savor\, and Thrive. We’re serving up brews that fueled minds and spirits throughout Middle East and Asia for centuries. Gear up for finals with some Arabic and Asian inspired relaxation and wellness goodies. \nCome by for: \nTraditional Arabic and Asian drink and snacks (Turkish coffe\, chai lattes\, matcha\, and candy/snacks) \nPlease RSVP on Engage\nFood served at student organization events is for students who attend the entire program.\nE-mail ada@law.stetson.edu should you need ADA accommodations for this program.
URL:https://www2.stetson.edu/law/docket/events/sip-savor-and-thrive/
LOCATION:Crummer Courtyard
END:VEVENT
BEGIN:VEVENT
DTSTART;TZID=America/New_York:20251112T120000
DTEND;TZID=America/New_York:20251112T130000
DTSTAMP:20260424T193016
CREATED:20251105T162606Z
LAST-MODIFIED:20251105T162606Z
UID:78422-1762948800-1762952400@www2.stetson.edu
SUMMARY:FAWLS Second General Body Meeting - Women in Government Panel
DESCRIPTION:Join us for FAWLS’s Second General Body Meeting and panel event featuring 13th Circuit State Attorney Susan Lopez\, Hillsborough County Attorney Julia Mandell\, and Tampa City Attorney Andrea Zelman. Hear their insights on building a career in government law! \nPlease RSVP on Engage\nFood served at student organization events is for students who attend the entire program.\nE-mail ada@law.stetson.edu should you need ADA accommodations for this program.
URL:https://www2.stetson.edu/law/docket/events/fawls-second-general-body-meeting-women-in-government-panel/
LOCATION:Mann Lounge\, Gulfport Campus
END:VEVENT
BEGIN:VEVENT
DTSTART;TZID=America/New_York:20251112T120000
DTEND;TZID=America/New_York:20251112T130000
DTSTAMP:20260424T193016
CREATED:20251105T162705Z
LAST-MODIFIED:20251105T162705Z
UID:78424-1762948800-1762952400@www2.stetson.edu
SUMMARY:Navigating the Shift: How Immigration Changes Are Transforming Law Practice
DESCRIPTION:Join us for a panel discussion exploring how recent immigration policy changes are reshaping the legal landscape. Practitioners from various fields  will share how evolving laws affect their work\, clients\, and strategies\, and what these shifts mean for the future of legal practice. \nPlease RSVP on Engage\nFood served at student organization events is for students who attend the entire program.\nE-mail ada@law.stetson.edu should you need ADA accommodations for this program.
URL:https://www2.stetson.edu/law/docket/events/navigating-the-shift-how-immigration-changes-are-transforming-law-practice/
LOCATION:Classroom A
END:VEVENT
BEGIN:VEVENT
DTSTART;TZID=America/New_York:20251112T120000
DTEND;TZID=America/New_York:20251112T130000
DTSTAMP:20260424T193016
CREATED:20251105T162848Z
LAST-MODIFIED:20251105T162848Z
UID:78426-1762948800-1762952400@www2.stetson.edu
SUMMARY:TLS 2nd GBM and VITA Introduction Session
DESCRIPTION:Tax Law Society’s 2nd General Body Meeting and Introduction to the Volunteer Income Tax Assistance program and volunteer opportunities. \nPlease RSVP on Engage\nFood served at student organization events is for students who attend the entire program.\nE-mail ada@law.stetson.edu should you need ADA accommodations for this program.
URL:https://www2.stetson.edu/law/docket/events/tls-2nd-gbm-and-vita-introduction-session/
LOCATION:Classroom E
END:VEVENT
BEGIN:VEVENT
DTSTART;TZID=America/New_York:20251112T120000
DTEND;TZID=America/New_York:20251112T130000
DTSTAMP:20260424T193016
CREATED:20251105T162952Z
LAST-MODIFIED:20251105T162952Z
UID:78428-1762948800-1762952400@www2.stetson.edu
SUMMARY:Student Veterans' Organization GBM
DESCRIPTION:The Student Veterans’ Organization will be hosting their closing general body meeting. During this meeting we will also be honoring the Stetson Alumni who are also Veterans through an informational session. \nPlease RSVP on Engage\nFood served at student organization events is for students who attend the entire program.\nE-mail ada@law.stetson.edu should you need ADA accommodations for this program.
URL:https://www2.stetson.edu/law/docket/events/student-veterans-organization-gbm/
LOCATION:Classroom D
END:VEVENT
BEGIN:VEVENT
DTSTART;TZID=America/New_York:20251112T120000
DTEND;TZID=America/New_York:20251112T130000
DTSTAMP:20260424T193016
CREATED:20251105T163052Z
LAST-MODIFIED:20251105T163052Z
UID:78430-1762948800-1762952400@www2.stetson.edu
SUMMARY:Intro to Human Trafficking: Jennifer Castaneda - Victim Specialist in the Metropolitan Bureau of Investigation
DESCRIPTION:Join the Anti-Trafficking Coalition in welcoming Ms. Jennifer Castaneda! Ms. Castaneda is a Victim Specialist in the Human Trafficking Department of the Metropolitan Bureau of Investigation in Orlando\, Florida. Ms. Castaneda will give students an introduction into the work that the MBI is involved in\, how they do the work they do\, and how\, we as future attorneys\, can help! \nFood (empanadas & tequeños) will be provided from One Chick One Bro! \nPlease RSVP on Engage\nFood served at student organization events is for students who attend the entire program.\nE-mail ada@law.stetson.edu should you need ADA accommodations for this program.
URL:https://www2.stetson.edu/law/docket/events/intro-to-human-trafficking-jennifer-castaneda-victim-specialist-in-the-metropolitan-bureau-of-investigation/
LOCATION:Classroom G\, Gulfport\, FL
END:VEVENT
BEGIN:VEVENT
DTSTART;TZID=America/New_York:20251112T173000
DTEND;TZID=America/New_York:20251112T183000
DTSTAMP:20260424T193016
CREATED:20251105T162134Z
LAST-MODIFIED:20251105T162134Z
UID:78418-1762968600-1762972200@www2.stetson.edu
SUMMARY:Clergy Confidentiality - Confession vs. Compulsion
DESCRIPTION:Can the State Break the Seal? \nJoin us for a compelling discussion on the clash between religious freedom and mandatory reporting laws. Our panel will unpack Washington’s SB 5375 and the pending case Etienne v. Ferguson\, exploring how courts balance faith\, ethics\, and opposing legitimate interests. \n  \nWhen: Wednesday \, November 12\, from 5:30–6:30 PM \nDinner: Enjoy a complimentary Italian-style dinner served during the event. \n  \nCome hungry as we dive into one of today’s most important conversations at the intersection of religious liberty. \nPlease RSVP on Engage\nFood served at student organization events is for students who attend the entire program.\nE-mail ada@law.stetson.edu should you need ADA accommodations for this program.
URL:https://www2.stetson.edu/law/docket/events/clergy-confidentiality-confession-vs-compulsion/
LOCATION:Mann Lounge\, Gulfport campus
END:VEVENT
END:VCALENDAR