BEGIN:VCALENDAR
VERSION:2.0
PRODID:-//Stetson Law Campus Announcements and Events - ECPv6.15.20//NONSGML v1.0//EN
CALSCALE:GREGORIAN
METHOD:PUBLISH
X-ORIGINAL-URL:https://www2.stetson.edu/law/docket
X-WR-CALDESC:Events for Stetson Law Campus Announcements and Events
REFRESH-INTERVAL;VALUE=DURATION:PT1H
X-Robots-Tag:noindex
X-PUBLISHED-TTL:PT1H
BEGIN:VTIMEZONE
TZID:America/New_York
BEGIN:DAYLIGHT
TZOFFSETFROM:-0500
TZOFFSETTO:-0400
TZNAME:EDT
DTSTART:20240310T070000
END:DAYLIGHT
BEGIN:STANDARD
TZOFFSETFROM:-0400
TZOFFSETTO:-0500
TZNAME:EST
DTSTART:20241103T060000
END:STANDARD
BEGIN:DAYLIGHT
TZOFFSETFROM:-0500
TZOFFSETTO:-0400
TZNAME:EDT
DTSTART:20250309T070000
END:DAYLIGHT
BEGIN:STANDARD
TZOFFSETFROM:-0400
TZOFFSETTO:-0500
TZNAME:EST
DTSTART:20251102T060000
END:STANDARD
BEGIN:DAYLIGHT
TZOFFSETFROM:-0500
TZOFFSETTO:-0400
TZNAME:EDT
DTSTART:20260308T070000
END:DAYLIGHT
BEGIN:STANDARD
TZOFFSETFROM:-0400
TZOFFSETTO:-0500
TZNAME:EST
DTSTART:20261101T060000
END:STANDARD
END:VTIMEZONE
BEGIN:VEVENT
DTSTART;TZID=America/New_York:20251110T120000
DTEND;TZID=America/New_York:20251117T120000
DTSTAMP:20260424T193148
CREATED:20251105T160500Z
LAST-MODIFIED:20251105T160500Z
UID:78399-1762776000-1763380800@www2.stetson.edu
SUMMARY:SLAMS Student Art Gallery
DESCRIPTION:A gallery of student art held at the library atrium! Some snacks will be provided on the first day. \nPlease send an email to dhsmith@law.stetson.edu if you’re interested in putting anything on display! \nPlease RSVP on Engage\nFood served at student organization events is for students who attend the entire program.\nE-mail ada@law.stetson.edu should you need ADA accommodations for this program.
URL:https://www2.stetson.edu/law/docket/events/slams-student-art-gallery/
LOCATION:Hand Law Library Atrium
END:VEVENT
BEGIN:VEVENT
DTSTART;TZID=America/New_York:20251112T080000
DTEND;TZID=America/New_York:20251119T170000
DTSTAMP:20260424T193148
CREATED:20251112T215427Z
LAST-MODIFIED:20251112T215427Z
UID:78529-1762934400-1763571600@www2.stetson.edu
SUMMARY:Hurricane Melissa Relief Donation Drive
DESCRIPTION:The Division of Student Affairs\, along with a few other student organizations\, have decided to begin collecting relief materials for victims of Hurricane Melissa. Here are a few items we will be accepting: \n\n\nBottled drinking water \n\n\nNon-perishable goods (boxed\, canned\, or pre-packaged snacks) \n\n\nToothpaste and toothbrushes \n\n\nBar soap and body wash \n\n\nShampoo and conditioner \n\n\nBaby wipes and disinfectant wipes \n\n\nBatteries \n\n\nGarbage bags \n\n\nTowels \n\n\nFeminine hygiene products \n\n\nDisposable gloves \n\n\nGently used shirts\, pants\, and shoes \n\n\nThis is also an opportunity for students to earn pro-bono hours. Students may earn one pro bono hour for every three items donated\, up to a total of three hours. Please not that students are limited to earning a maximum of three hours for non-cash donation drives during their time at Stetson University College of Law.
URL:https://www2.stetson.edu/law/docket/events/hurricane-melissa-relief-donation-drive/
LOCATION:Student Affairs\, SC-207A
END:VEVENT
BEGIN:VEVENT
DTSTART;TZID=America/New_York:20251113T110000
DTEND;TZID=America/New_York:20251113T130000
DTSTAMP:20260424T193148
CREATED:20251105T162022Z
LAST-MODIFIED:20251105T162022Z
UID:78416-1763031600-1763038800@www2.stetson.edu
SUMMARY:Self Care Fair
DESCRIPTION:Recharge your mind and body at the SBA Health & Wellness Committee’s Self Care Fair! Enjoy relaxing massages by Revival Cave\, refreshing electrolyte drinks (both caffeinated and non-caffeinated) from Storm Healthy Energy\, and treat yourself to delicious Grain & Berry samples and coupons. \nTake a moment to unwind\, refuel\, and focus on your well-being — you deserve it! \nPlease RSVP on Engage\nFood served at student organization events is for students who attend the entire program.\nE-mail ada@law.stetson.edu should you need ADA accommodations for this program.
URL:https://www2.stetson.edu/law/docket/events/self-care-fair/
LOCATION:Crummer Courtyard\, Gulfport Campus
END:VEVENT
BEGIN:VEVENT
DTSTART;TZID=America/New_York:20251113T120000
DTEND;TZID=America/New_York:20251113T130000
DTSTAMP:20260424T193148
CREATED:20251105T161920Z
LAST-MODIFIED:20251105T161920Z
UID:78414-1763035200-1763038800@www2.stetson.edu
SUMMARY:CPR/BLS Courses
DESCRIPTION:Learn hands-only CPR & other life-saving techniques\, including naloxone administration\, AED use\, and tourniquet instruction! \nPlease RSVP on Engage\nFood served at student organization events is for students who attend the entire program.\nE-mail ada@law.stetson.edu should you need ADA accommodations for this program.
URL:https://www2.stetson.edu/law/docket/events/cpr-bls-courses-2/
LOCATION:Classroom F
END:VEVENT
BEGIN:VEVENT
DTSTART;TZID=America/New_York:20251113T120000
DTEND;TZID=America/New_York:20251113T133000
DTSTAMP:20260424T193148
CREATED:20251105T161825Z
LAST-MODIFIED:20251105T161825Z
UID:78412-1763035200-1763040600@www2.stetson.edu
SUMMARY:Bagels and Cold Brew
DESCRIPTION:Annual event\, Bringing Pete’s Bagels and cold brew to the breezeway to destress before finals season \nPlease RSVP on Engage\nFood served at student organization events is for students who attend the entire program.\nE-mail ada@law.stetson.edu should you need ADA accommodations for this program.
URL:https://www2.stetson.edu/law/docket/events/bagels-and-cold-brew/
LOCATION:Breezeway
END:VEVENT
BEGIN:VEVENT
DTSTART;TZID=America/New_York:20251113T170000
DTEND;TZID=America/New_York:20251113T171500
DTSTAMP:20260424T193148
CREATED:20251105T161732Z
LAST-MODIFIED:20251105T161732Z
UID:78410-1763053200-1763054100@www2.stetson.edu
SUMMARY:Transgender Awareness Week Flag Raising
DESCRIPTION:Join Lambda Legal Society as we raise pride flags for Transgender Awareness Week. \nPlease RSVP on Engage\nFood served at student organization events is for students who attend the entire program.\nE-mail ada@law.stetson.edu should you need ADA accommodations for this program.
URL:https://www2.stetson.edu/law/docket/events/transgender-awareness-week-flag-raising/
LOCATION:Horseshoe\, 1401 61st street\, Gulfport
END:VEVENT
BEGIN:VEVENT
DTSTART;TZID=America/New_York:20251113T170000
DTEND;TZID=America/New_York:20251113T190000
DTSTAMP:20260424T193148
CREATED:20250922T154046Z
LAST-MODIFIED:20250922T154046Z
UID:77697-1763053200-1763060400@www2.stetson.edu
SUMMARY:Women Preserving Freedom Panel
DESCRIPTION:Join Stetson FedSoc for an evening panel discussion with the Hon. Maria Chapa Lopez; Hon. Lindsay Saxe-Griffin; and Deputy Assistant Attorney General Lanora Pettit. \nPlease RSVP on Engage\nFood served at student organization events is for students who attend the entire program.\nE-mail ada@law.stetson.edu should you need ADA accommodations for this program.
URL:https://www2.stetson.edu/law/docket/events/women-preserving-freedom-panel/
END:VEVENT
BEGIN:VEVENT
DTSTART;TZID=America/New_York:20251113T173000
DTEND;TZID=America/New_York:20251113T183000
DTSTAMP:20260424T193148
CREATED:20251105T161630Z
LAST-MODIFIED:20251105T161630Z
UID:78408-1763055000-1763058600@www2.stetson.edu
SUMMARY:Drag Bingo!
DESCRIPTION:Join us for some Drag Queen Bingo as the semester begins to wrap up! There will be free food and bingo in Classroom A from 5:30-6:30PM. \nLed by the one and only Petra Vibranz! \nPlease RSVP on Engage\nFood served at student organization events is for students who attend the entire program.\nE-mail ada@law.stetson.edu should you need ADA accommodations for this program.
URL:https://www2.stetson.edu/law/docket/events/drag-bingo/
LOCATION:Classroom A\, Gulfport\, United States
END:VEVENT
END:VCALENDAR