BEGIN:VCALENDAR
VERSION:2.0
PRODID:-//Stetson Law Campus Announcements and Events - ECPv6.15.20//NONSGML v1.0//EN
CALSCALE:GREGORIAN
METHOD:PUBLISH
X-ORIGINAL-URL:https://www2.stetson.edu/law/docket
X-WR-CALDESC:Events for Stetson Law Campus Announcements and Events
REFRESH-INTERVAL;VALUE=DURATION:PT1H
X-Robots-Tag:noindex
X-PUBLISHED-TTL:PT1H
BEGIN:VTIMEZONE
TZID:America/New_York
BEGIN:DAYLIGHT
TZOFFSETFROM:-0500
TZOFFSETTO:-0400
TZNAME:EDT
DTSTART:20250309T070000
END:DAYLIGHT
BEGIN:STANDARD
TZOFFSETFROM:-0400
TZOFFSETTO:-0500
TZNAME:EST
DTSTART:20251102T060000
END:STANDARD
BEGIN:DAYLIGHT
TZOFFSETFROM:-0500
TZOFFSETTO:-0400
TZNAME:EDT
DTSTART:20260308T070000
END:DAYLIGHT
BEGIN:STANDARD
TZOFFSETFROM:-0400
TZOFFSETTO:-0500
TZNAME:EST
DTSTART:20261101T060000
END:STANDARD
BEGIN:DAYLIGHT
TZOFFSETFROM:-0500
TZOFFSETTO:-0400
TZNAME:EDT
DTSTART:20270314T070000
END:DAYLIGHT
BEGIN:STANDARD
TZOFFSETFROM:-0400
TZOFFSETTO:-0500
TZNAME:EST
DTSTART:20271107T060000
END:STANDARD
END:VTIMEZONE
BEGIN:VEVENT
DTSTART;TZID=America/New_York:20260218T120000
DTEND;TZID=America/New_York:20260218T130000
DTSTAMP:20260424T144331
CREATED:20260204T195245Z
LAST-MODIFIED:20260204T195245Z
UID:79072-1771416000-1771419600@www2.stetson.edu
SUMMARY:Knitting Circle
DESCRIPTION:The knitting circle is open to anyone who wants to knit\, crochet\, do any other handcrafts\, learn how to do one of these handcrafts\, or just to show up and chat.\n\n \n\nThe circle will be hosted by Prof. Morgan and Prof. Adams.\n\n \n\nWhen: February 18th at Noon (12:00p)\n\n \n\nWhere: AD 109
URL:https://www2.stetson.edu/law/docket/events/knitting-circle/
LOCATION:AD 109
END:VEVENT
BEGIN:VEVENT
DTSTART;TZID=America/New_York:20260218T120000
DTEND;TZID=America/New_York:20260218T130000
DTSTAMP:20260424T144331
CREATED:20260210T203828Z
LAST-MODIFIED:20260213T212144Z
UID:79143-1771416000-1771419600@www2.stetson.edu
SUMMARY:Inside the Interviewer's Mind
DESCRIPTION:1Ls — Ready to understand interviews the way employers do? \nThe Office of Career & Professional Development is excited to host an interactive workshop just for first-year law students: \n🧠 Inside the Interviewer’s Mind \nThis is a hands-on\, practical session — not a philosophical talk. Through guided activities and real examples\, you’ll learn how interviewers evaluate candidates and how to respond with clarity and confidence. \nWhat you’ll gain: \n– Interactive exercises that mirror real interviews\n– Practical strategies for answering common questions\n– Insight into what interviewers listen for (and why)\n– Feedback to help you improve on the spot \n📍 Designed for 1Ls — no prior interview experience required. \n📅 Wednesday\, February 18\n🕛 12:00 PM – 1:00 PM\n📍 Mann Lounge \nRSVP Here \nIf you want to build strong interview skills early and feel more confident walking into your first legal interview\, this workshop is for you.
URL:https://www2.stetson.edu/law/docket/events/inside-the-interviewers-mind-2/
LOCATION:Mann Lounge\, Gulfport 
ORGANIZER;CN="Office of Career and Professional Development":MAILTO:pdconference@law.stetson.edu
END:VEVENT
END:VCALENDAR