BEGIN:VCALENDAR
VERSION:2.0
PRODID:-//Stetson Law Campus Announcements and Events - ECPv6.15.20//NONSGML v1.0//EN
CALSCALE:GREGORIAN
METHOD:PUBLISH
X-WR-CALNAME:Stetson Law Campus Announcements and Events
X-ORIGINAL-URL:https://www2.stetson.edu/law/docket
X-WR-CALDESC:Events for Stetson Law Campus Announcements and Events
REFRESH-INTERVAL;VALUE=DURATION:PT1H
X-Robots-Tag:noindex
X-PUBLISHED-TTL:PT1H
BEGIN:VTIMEZONE
TZID:America/New_York
BEGIN:DAYLIGHT
TZOFFSETFROM:-0500
TZOFFSETTO:-0400
TZNAME:EDT
DTSTART:20250309T070000
END:DAYLIGHT
BEGIN:STANDARD
TZOFFSETFROM:-0400
TZOFFSETTO:-0500
TZNAME:EST
DTSTART:20251102T060000
END:STANDARD
BEGIN:DAYLIGHT
TZOFFSETFROM:-0500
TZOFFSETTO:-0400
TZNAME:EDT
DTSTART:20260308T070000
END:DAYLIGHT
BEGIN:STANDARD
TZOFFSETFROM:-0400
TZOFFSETTO:-0500
TZNAME:EST
DTSTART:20261101T060000
END:STANDARD
BEGIN:DAYLIGHT
TZOFFSETFROM:-0500
TZOFFSETTO:-0400
TZNAME:EDT
DTSTART:20270314T070000
END:DAYLIGHT
BEGIN:STANDARD
TZOFFSETFROM:-0400
TZOFFSETTO:-0500
TZNAME:EST
DTSTART:20271107T060000
END:STANDARD
END:VTIMEZONE
BEGIN:VEVENT
DTSTART;TZID=America/New_York:20260126T173000
DTEND;TZID=America/New_York:20260126T193000
DTSTAMP:20260424T171929
CREATED:20251215T181748Z
LAST-MODIFIED:20251215T181748Z
UID:78771-1769448600-1769455800@www2.stetson.edu
SUMMARY:Emory University Law Fair
DESCRIPTION:
URL:https://www2.stetson.edu/law/docket/events/emory-university-law-fair-2/
LOCATION:Emory Student Center\, Atlanta\, GA
CATEGORIES:Admissions
END:VEVENT
BEGIN:VEVENT
DTSTART;TZID=America/New_York:20260127T170000
DTEND;TZID=America/New_York:20260127T190000
DTSTAMP:20260424T171929
CREATED:20251215T181854Z
LAST-MODIFIED:20251215T181854Z
UID:78773-1769533200-1769540400@www2.stetson.edu
SUMMARY:Tuskegee University Law Fair
DESCRIPTION:
URL:https://www2.stetson.edu/law/docket/events/tuskegee-university-law-fair/
LOCATION:Logan Hall\, Tuskegee\, AL
CATEGORIES:Admissions
END:VEVENT
BEGIN:VEVENT
DTSTART;TZID=America/New_York:20260128T120000
DTEND;TZID=America/New_York:20260128T150000
DTSTAMP:20260424T171929
CREATED:20251216T180837Z
LAST-MODIFIED:20251216T180837Z
UID:78803-1769601600-1769612400@www2.stetson.edu
SUMMARY:Auburn University Law Fair
DESCRIPTION:
URL:https://www2.stetson.edu/law/docket/events/auburn-university-law-fair-3/
LOCATION:Harbert Family Recruiting Center\, Auburn\, AL
CATEGORIES:Admissions
END:VEVENT
BEGIN:VEVENT
DTSTART;TZID=America/New_York:20260129T120000
DTEND;TZID=America/New_York:20260129T150000
DTSTAMP:20260424T171929
CREATED:20251216T184920Z
LAST-MODIFIED:20251216T184920Z
UID:78814-1769688000-1769698800@www2.stetson.edu
SUMMARY:University of Alabama Law Fair
DESCRIPTION:
URL:https://www2.stetson.edu/law/docket/events/university-of-alabama-law-fair-2/
LOCATION:Student Center Ballroom\, Tuscaloosa AL
CATEGORIES:Admissions
END:VEVENT
BEGIN:VEVENT
DTSTART;TZID=America/New_York:20260130T130000
DTEND;TZID=America/New_York:20260130T150000
DTSTAMP:20260424T171929
CREATED:20251216T185050Z
LAST-MODIFIED:20251216T185050Z
UID:78817-1769778000-1769785200@www2.stetson.edu
SUMMARY:University of West Florida Law Fair
DESCRIPTION:
URL:https://www2.stetson.edu/law/docket/events/university-of-west-florida-law-fair-2/
LOCATION:University of West Florida\, Pensacola\, FL
CATEGORIES:Admissions
END:VEVENT
END:VCALENDAR