BEGIN:VCALENDAR
VERSION:2.0
PRODID:-//Stetson Law Campus Announcements and Events - ECPv6.15.20//NONSGML v1.0//EN
CALSCALE:GREGORIAN
METHOD:PUBLISH
X-WR-CALNAME:Stetson Law Campus Announcements and Events
X-ORIGINAL-URL:https://www2.stetson.edu/law/docket
X-WR-CALDESC:Events for Stetson Law Campus Announcements and Events
REFRESH-INTERVAL;VALUE=DURATION:PT1H
X-Robots-Tag:noindex
X-PUBLISHED-TTL:PT1H
BEGIN:VTIMEZONE
TZID:America/New_York
BEGIN:DAYLIGHT
TZOFFSETFROM:-0500
TZOFFSETTO:-0400
TZNAME:EDT
DTSTART:20230312T070000
END:DAYLIGHT
BEGIN:STANDARD
TZOFFSETFROM:-0400
TZOFFSETTO:-0500
TZNAME:EST
DTSTART:20231105T060000
END:STANDARD
BEGIN:DAYLIGHT
TZOFFSETFROM:-0500
TZOFFSETTO:-0400
TZNAME:EDT
DTSTART:20240310T070000
END:DAYLIGHT
BEGIN:STANDARD
TZOFFSETFROM:-0400
TZOFFSETTO:-0500
TZNAME:EST
DTSTART:20241103T060000
END:STANDARD
BEGIN:DAYLIGHT
TZOFFSETFROM:-0500
TZOFFSETTO:-0400
TZNAME:EDT
DTSTART:20250309T070000
END:DAYLIGHT
BEGIN:STANDARD
TZOFFSETFROM:-0400
TZOFFSETTO:-0500
TZNAME:EST
DTSTART:20251102T060000
END:STANDARD
END:VTIMEZONE
BEGIN:VEVENT
DTSTART;TZID=America/New_York:20241101T120500
DTEND;TZID=America/New_York:20241106T125500
DTSTAMP:20260419T192457
CREATED:20241025T134103Z
LAST-MODIFIED:20241025T134103Z
UID:74741-1730462700-1730897700@www2.stetson.edu
SUMMARY:SLAMS Student Art Show
DESCRIPTION:SLAMS is hosting a multi-day event to showcase the talents of our fellow students by providing a space to put art on display. Come to the library to check out the hidden artistic talents all around us. \nNov 1 will have an Opening Day Reception at lunchtime. Art will be displayed in the Library Atrium for multiple days after. \nIf you have art you would like to display\, sign up on our google form at https://forms.gle/3ZjwKP57UFgyhtK76 or look out for one of our flyers with a QR code. \nPlease RSVP on Engage\nFood served at student organization events is for students who attend the entire program.\nE-mail ada@law.stetson.edu should you need ADA accommodations for this program.
URL:https://www2.stetson.edu/law/docket/events/slams-student-art-show/
LOCATION:Law Library Atrium
CATEGORIES:Stetson Law Arts & Music Society
END:VEVENT
END:VCALENDAR