BEGIN:VCALENDAR
VERSION:2.0
PRODID:-//Stetson Law Campus Announcements and Events - ECPv6.15.20//NONSGML v1.0//EN
CALSCALE:GREGORIAN
METHOD:PUBLISH
X-WR-CALNAME:Stetson Law Campus Announcements and Events
X-ORIGINAL-URL:https://www2.stetson.edu/law/docket
X-WR-CALDESC:Events for Stetson Law Campus Announcements and Events
REFRESH-INTERVAL;VALUE=DURATION:PT1H
X-Robots-Tag:noindex
X-PUBLISHED-TTL:PT1H
BEGIN:VTIMEZONE
TZID:America/New_York
BEGIN:DAYLIGHT
TZOFFSETFROM:-0500
TZOFFSETTO:-0400
TZNAME:EDT
DTSTART:20230312T070000
END:DAYLIGHT
BEGIN:STANDARD
TZOFFSETFROM:-0400
TZOFFSETTO:-0500
TZNAME:EST
DTSTART:20231105T060000
END:STANDARD
BEGIN:DAYLIGHT
TZOFFSETFROM:-0500
TZOFFSETTO:-0400
TZNAME:EDT
DTSTART:20240310T070000
END:DAYLIGHT
BEGIN:STANDARD
TZOFFSETFROM:-0400
TZOFFSETTO:-0500
TZNAME:EST
DTSTART:20241103T060000
END:STANDARD
BEGIN:DAYLIGHT
TZOFFSETFROM:-0500
TZOFFSETTO:-0400
TZNAME:EDT
DTSTART:20250309T070000
END:DAYLIGHT
BEGIN:STANDARD
TZOFFSETFROM:-0400
TZOFFSETTO:-0500
TZNAME:EST
DTSTART:20251102T060000
END:STANDARD
END:VTIMEZONE
BEGIN:VEVENT
DTSTART;TZID=America/New_York:20241119T120000
DTEND;TZID=America/New_York:20241119T130000
DTSTAMP:20260421T173434
CREATED:20241018T160048Z
LAST-MODIFIED:20241018T160048Z
UID:74610-1732017600-1732021200@www2.stetson.edu
SUMMARY:Desserts Around the World
DESCRIPTION:Grab a food passport and go around the world tasting sweet treats brought to you by our cultural organizations. Immerse yourself in a celebration of diversity through food\, music\, and community. You won’t want to miss it! \nPlease RSVP on Engage\nFood served at student organization events is for students who attend the entire program.\nE-mail ada@law.stetson.edu should you need ADA accommodations for this program.
URL:https://www2.stetson.edu/law/docket/events/desserts-around-the-world/
LOCATION:Crummer Courtyard
CATEGORIES:Asian American Law Student Association,Cuban American Bar Association (CABA),Hispanic Bar Association,MENA LSA
END:VEVENT
END:VCALENDAR