BEGIN:VCALENDAR
VERSION:2.0
PRODID:-//Stetson Law Campus Announcements and Events - ECPv6.15.20//NONSGML v1.0//EN
CALSCALE:GREGORIAN
METHOD:PUBLISH
X-ORIGINAL-URL:https://www2.stetson.edu/law/docket
X-WR-CALDESC:Events for Stetson Law Campus Announcements and Events
REFRESH-INTERVAL;VALUE=DURATION:PT1H
X-Robots-Tag:noindex
X-PUBLISHED-TTL:PT1H
BEGIN:VTIMEZONE
TZID:America/New_York
BEGIN:DAYLIGHT
TZOFFSETFROM:-0500
TZOFFSETTO:-0400
TZNAME:EDT
DTSTART:20230312T070000
END:DAYLIGHT
BEGIN:STANDARD
TZOFFSETFROM:-0400
TZOFFSETTO:-0500
TZNAME:EST
DTSTART:20231105T060000
END:STANDARD
BEGIN:DAYLIGHT
TZOFFSETFROM:-0500
TZOFFSETTO:-0400
TZNAME:EDT
DTSTART:20240310T070000
END:DAYLIGHT
BEGIN:STANDARD
TZOFFSETFROM:-0400
TZOFFSETTO:-0500
TZNAME:EST
DTSTART:20241103T060000
END:STANDARD
BEGIN:DAYLIGHT
TZOFFSETFROM:-0500
TZOFFSETTO:-0400
TZNAME:EDT
DTSTART:20250309T070000
END:DAYLIGHT
BEGIN:STANDARD
TZOFFSETFROM:-0400
TZOFFSETTO:-0500
TZNAME:EST
DTSTART:20251102T060000
END:STANDARD
END:VTIMEZONE
BEGIN:VEVENT
DTSTART;TZID=America/New_York:20241108T120000
DTEND;TZID=America/New_York:20241108T160000
DTSTAMP:20260419T223305
CREATED:20241018T150831Z
LAST-MODIFIED:20241018T150831Z
UID:74600-1731067200-1731081600@www2.stetson.edu
SUMMARY:Tech Tips with Seniors Date and Ti
DESCRIPTION:Join us for Tech Tips with Seniors at the Gulfport Senior Center! We’re looking for tech-savvy volunteers to assist seniors with their devices and tech questions. Help them learn the basics\, troubleshoot issues\, and explore new apps. You will receive non-legal pro-bono hours!  \nVolunteer Duties: \n\nAssist seniors with smartphones\, tablets\, and computers\nAnswer tech-related questions\nProvide tips and tricks for everyday tech use\n\nThe sign up sheet will be sent to all ELS members each month before the event. The event will run on the 2nd Friday of every month. \nPlease RSVP on Engage\nFood served at student organization events is for students who attend the entire program.\nE-mail ada@law.stetson.edu should you need ADA accommodations for this program.
URL:https://www2.stetson.edu/law/docket/events/tech-tips-with-seniors-date-and-ti/
LOCATION:Gulfport Senior Center
CATEGORIES:Elder Law Society
END:VEVENT
END:VCALENDAR