BEGIN:VCALENDAR
VERSION:2.0
PRODID:-//Stetson Law Campus Announcements and Events - ECPv6.15.20//NONSGML v1.0//EN
CALSCALE:GREGORIAN
METHOD:PUBLISH
X-WR-CALNAME:Stetson Law Campus Announcements and Events
X-ORIGINAL-URL:https://www2.stetson.edu/law/docket
X-WR-CALDESC:Events for Stetson Law Campus Announcements and Events
REFRESH-INTERVAL;VALUE=DURATION:PT1H
X-Robots-Tag:noindex
X-PUBLISHED-TTL:PT1H
BEGIN:VTIMEZONE
TZID:America/New_York
BEGIN:DAYLIGHT
TZOFFSETFROM:-0500
TZOFFSETTO:-0400
TZNAME:EDT
DTSTART:20230312T070000
END:DAYLIGHT
BEGIN:STANDARD
TZOFFSETFROM:-0400
TZOFFSETTO:-0500
TZNAME:EST
DTSTART:20231105T060000
END:STANDARD
BEGIN:DAYLIGHT
TZOFFSETFROM:-0500
TZOFFSETTO:-0400
TZNAME:EDT
DTSTART:20240310T070000
END:DAYLIGHT
BEGIN:STANDARD
TZOFFSETFROM:-0400
TZOFFSETTO:-0500
TZNAME:EST
DTSTART:20241103T060000
END:STANDARD
BEGIN:DAYLIGHT
TZOFFSETFROM:-0500
TZOFFSETTO:-0400
TZNAME:EDT
DTSTART:20250309T070000
END:DAYLIGHT
BEGIN:STANDARD
TZOFFSETFROM:-0400
TZOFFSETTO:-0500
TZNAME:EST
DTSTART:20251102T060000
END:STANDARD
END:VTIMEZONE
BEGIN:VEVENT
DTSTART;TZID=America/New_York:20240819T080000
DTEND;TZID=America/New_York:20240819T210000
DTSTAMP:20260425T223717
CREATED:20240715T191658Z
LAST-MODIFIED:20240726T165458Z
UID:73324-1724054400-1724101200@www2.stetson.edu
SUMMARY:First Day of Classes
DESCRIPTION:First day of classes for all students. Welcome!
URL:https://www2.stetson.edu/law/docket/events/first-day-of-classes/
CATEGORIES:Academic
END:VEVENT
BEGIN:VEVENT
DTSTART;VALUE=DATE:20240819
DTEND;VALUE=DATE:20240820
DTSTAMP:20260425T223717
CREATED:20240816T133235Z
LAST-MODIFIED:20240816T133235Z
UID:73775-1724025600-1724111999@www2.stetson.edu
SUMMARY:Florida Springs Summit Registration Now Open
DESCRIPTION:You are invited to attend the Florida Springs Summit\, Oct. 19\, at the College of Law. \nEvery two years the Florida Springs Council brings the springs advocacy community together. This year Stetson Law will host the summit\, convening seasoned experts and new advocates to learn and network together in the interest of restoring and protecting Florida’s springs and waterways. \nIt’s important to us that everyone is able to participate\, so this event is free to attend thanks to Stetson Law\, the Fish & Wildlife Foundation of Florida\, and title sponsor Save the Manatee Club. But space is limited so you must register. Registration includes admission\, breakfast\, lunch\, and access to the Banyan Bash after-party where there will be a band\, food trucks\, and First Magnitude Brewing springs-themed beer. \nhttps://www.floridaspringscouncil.org/summit
URL:https://www2.stetson.edu/law/docket/events/florida-springs-summit-registration-now-open/
CATEGORIES:Conferences/Workshops
END:VEVENT
BEGIN:VEVENT
DTSTART;TZID=America/New_York:20240818T100000
DTEND;TZID=America/New_York:20240818T180000
DTSTAMP:20260425T223717
CREATED:20240814T214346Z
LAST-MODIFIED:20240814T214346Z
UID:73731-1723975200-1724004000@www2.stetson.edu
SUMMARY:Stetson Pool Opened
DESCRIPTION:Stetson Pool is opened during this designed time period.
URL:https://www2.stetson.edu/law/docket/events/stetson-pool-opened-2/
LOCATION:Stetson Pool
END:VEVENT
BEGIN:VEVENT
DTSTART;TZID=America/New_York:20240817T100000
DTEND;TZID=America/New_York:20240817T180000
DTSTAMP:20260425T223717
CREATED:20240814T214012Z
LAST-MODIFIED:20240814T214036Z
UID:73728-1723888800-1723917600@www2.stetson.edu
SUMMARY:Stetson Pool Opened
DESCRIPTION:Stetson Pool is opened during this designed time period.
URL:https://www2.stetson.edu/law/docket/events/stetson-pool-opened/
LOCATION:Pool
END:VEVENT
BEGIN:VEVENT
DTSTART;TZID=America/New_York:20240815T164500
DTEND;TZID=America/New_York:20240815T184500
DTSTAMP:20260425T223717
CREATED:20240815T195605Z
LAST-MODIFIED:20240815T195605Z
UID:73764-1723740300-1723747500@www2.stetson.edu
SUMMARY:SAFE RIDES for Stetson Students to Hurricane Eddie's
DESCRIPTION:Safe rides picking up from the horseshoe to Hurricanes Eddies for Stetson students.
URL:https://www2.stetson.edu/law/docket/events/safe-rides-for-stetson-students-to-hurricane-eddies/
LOCATION:Horseshoe\, 1401 61st street\, Gulfport
CATEGORIES:Student Affairs
END:VEVENT
BEGIN:VEVENT
DTSTART;TZID=America/New_York:20240730T090000
DTEND;TZID=America/New_York:20240730T170000
DTSTAMP:20260425T223717
CREATED:20240715T192304Z
LAST-MODIFIED:20240724T190843Z
UID:73326-1722330000-1722358800@www2.stetson.edu
SUMMARY:Florida Bar Exam
DESCRIPTION:Florida Bar Exam testing begins today. Good luck!
URL:https://www2.stetson.edu/law/docket/events/florida-bar-exam/
LOCATION:Tampa Convention Center
CATEGORIES:Academic
END:VEVENT
BEGIN:VEVENT
DTSTART;TZID=America/New_York:20240713T100000
DTEND;TZID=America/New_York:20240713T160000
DTSTAMP:20260425T223717
CREATED:20240424T181549Z
LAST-MODIFIED:20240429T184245Z
UID:72768-1720864800-1720886400@www2.stetson.edu
SUMMARY:LSAC Washington DC Law School Forum
DESCRIPTION:
URL:https://www2.stetson.edu/law/docket/events/lsac-law-school-forum/
LOCATION:JW Marriott Washington DC
CATEGORIES:Admissions
END:VEVENT
BEGIN:VEVENT
DTSTART;TZID=America/New_York:20240623T120000
DTEND;TZID=America/New_York:20240623T170000
DTSTAMP:20260425T223717
CREATED:20240424T181143Z
LAST-MODIFIED:20240429T185149Z
UID:72764-1719144000-1719162000@www2.stetson.edu
SUMMARY:St. Pete Pride Street Fair
DESCRIPTION:
URL:https://www2.stetson.edu/law/docket/events/st-pete-pride-street-fair/
LOCATION:Grand Central District\, Downtown St. Petersburg\, FL
CATEGORIES:Admissions
END:VEVENT
BEGIN:VEVENT
DTSTART;TZID=America/New_York:20240622T180000
DTEND;TZID=America/New_York:20240622T200000
DTSTAMP:20260425T223717
CREATED:20240618T194227Z
LAST-MODIFIED:20240618T194227Z
UID:73139-1719079200-1719086400@www2.stetson.edu
SUMMARY:St. Pete Pride Parade (Hosted by Lambda)
DESCRIPTION:Join Lambda Legal as we celebrate PRIDE through walking in the 2024 St. Petersburg Pride Parade on Saturday\, June 22\, 2024!! We will have an ADA accessible float decorated with all our Lambda merch materials and toss beads and candy to the crowd. \nJoin Stetson University College of Law and the Lambda Legal Society as we participate in the 2023 Pride Parade to celebrate. All students\, staff\, faculty\, and alumni are invited as we represent our College of Law community. \nPlease RSVP on Engage   \nFood served at student organization events is for students who attend the entire program.   \nE-mail ada@law.stetson.edu should you need ADA accommodations for this program. 
URL:https://www2.stetson.edu/law/docket/events/st-pete-pride-parade-hosted-by-lambda/
LOCATION:Dali Blvd and 1st Ave S
END:VEVENT
BEGIN:VEVENT
DTSTART;TZID=America/New_York:20240622T163000
DTEND;TZID=America/New_York:20240622T170000
DTSTAMP:20260425T223717
CREATED:20240621T192145Z
LAST-MODIFIED:20240621T192145Z
UID:73156-1719073800-1719075600@www2.stetson.edu
SUMMARY:Lambda Pride Parade Pick-Up/Drop-Off Vans
DESCRIPTION:Join Lambda Legal as we celebrate PRIDE through walking in the 2024 St. Petersburg Pride Parade on Saturday\, June 22\, 2024!!  The Stetson University Vans will be taking students to the parade leaving at 4:00 pm and 4:30 pm.  Pick up location will be at the Horseshoe.
URL:https://www2.stetson.edu/law/docket/events/lambda-pride-parade-pick-up-drop-off-vans-2/
END:VEVENT
BEGIN:VEVENT
DTSTART;TZID=America/New_York:20240622T160000
DTEND;TZID=America/New_York:20240622T163000
DTSTAMP:20260425T223717
CREATED:20240621T191946Z
LAST-MODIFIED:20240621T191946Z
UID:73150-1719072000-1719073800@www2.stetson.edu
SUMMARY:Lambda Pride Parade Pick-up/Drop-Off Vans
DESCRIPTION:Join Lambda Legal as we celebrate PRIDE through walking in the 2024 St. Petersburg Pride Parade on Saturday\, June 22\, 2024!!  The Stetson University Vans will be taking students to the parade leaving at 4:00 pm and 4:30 pm.  Pick up location will be at the Horseshoe.
URL:https://www2.stetson.edu/law/docket/events/lambda-pride-parade-pick-up-drop-off-vans/
END:VEVENT
BEGIN:VEVENT
DTSTART;TZID=America/New_York:20240619T160000
DTEND;TZID=America/New_York:20240619T180000
DTSTAMP:20260425T223717
CREATED:20240618T193422Z
LAST-MODIFIED:20240618T194347Z
UID:73134-1718812800-1718820000@www2.stetson.edu
SUMMARY:Juneteenth With BLSA
DESCRIPTION:A cookout and game night with BLSA in honor of Juneteenth. Come enjoy friends\, food\, and fun!! \nPlease RSVP on Engage   \nFood served at student organization events is for students who attend the entire program.   \nE-mail ada@law.stetson.edu should you need ADA accommodations for this program. 
URL:https://www2.stetson.edu/law/docket/events/juneteenth-with-blsa/
LOCATION:War Veterans’ Memorial Park\, 9600 Bay Pines Boulevard St. Petersburg\, Florida 33708 \, St. Pete\, FL
END:VEVENT
BEGIN:VEVENT
DTSTART;TZID=America/New_York:20240617T120000
DTEND;TZID=America/New_York:20240617T123000
DTSTAMP:20260425T223717
CREATED:20240612T161532Z
LAST-MODIFIED:20240612T161814Z
UID:73093-1718625600-1718627400@www2.stetson.edu
SUMMARY:PRIDE Flag Raising Ceremony
DESCRIPTION:Join Lambda Legal Society as we recognize and celebrate PRIDE month by raising the Progressive Pride and the Transgender Pride Flags on campus! Hosting a flag-raising ceremony is symbolic of our campus community’s dedication to actively advocate for equality for all in love and life. Stetson Law is proud to show its support for the LGBTQ+ community during these trying times. PRIDE is about coming together and Lambda is honored to participate not only in the Flag Raising Ceremony on June 17th but also through walking in the St. Pete PRIDE parade on June 22nd. RSVP through Engage or reach out to Liam Cortez directly at lwcortez@law.stetson.edu \n  \n  \n  \nRSVP Here \n E-mail ada@law.stetson.edu should you need ADA accommodations for this program
URL:https://www2.stetson.edu/law/docket/events/pride-flag-raising-ceremony-2/
LOCATION:Horseshoe\, 1401 61st street\, Gulfport
CATEGORIES:Lambda Legal Society,Student Organizations
END:VEVENT
BEGIN:VEVENT
DTSTART;TZID=America/New_York:20240613T160000
DTEND;TZID=America/New_York:20240618T170000
DTSTAMP:20260425T223717
CREATED:20240613T200942Z
LAST-MODIFIED:20240613T200942Z
UID:73110-1718294400-1718730000@www2.stetson.edu
SUMMARY:Student Lounge Furniture (Available)
DESCRIPTION:All furniture\, except the pool table\, and some small appliances will be removed from the Student Lounge. If you are interested in any of the items\, please contact Student Affairs by next Wednesday\, June 18\, 2024\, at 5p.m. You may email studentaffairs@law.stetson.edu.
URL:https://www2.stetson.edu/law/docket/events/student-lounge-furniture-available/
LOCATION:Student Lounge
END:VEVENT
BEGIN:VEVENT
DTSTART;TZID=America/New_York:20240610T100000
DTEND;TZID=America/New_York:20240612T143000
DTSTAMP:20260425T223717
CREATED:20240522T184747Z
LAST-MODIFIED:20240528T201734Z
UID:72978-1718013600-1718202600@www2.stetson.edu
SUMMARY:Educating Advocacy Teachers (EATS) Conference
DESCRIPTION:The Educating Advocacy Teachers (EATS) Conference has been hosted by Stetson Law for almost two decades and is well-known in the Advocacy community as being a truly dynamic and collaborative experience. The unique conference invites educators from around the country to share their experiences\, while facilitating the exploration of new teaching techniques and technology in this specialized area. The 2024 conference will be comprised of various panels\, workshops\, and breakout sessions that promote small-group discussion and interaction based on trending topics identified by the trial advocacy community. \nEATS is also a celebration of achievement in advocacy teaching. At the 2024 Conference\, we will celebrate the recipients of the Annual Advocacy Writing Competition Award\, Edward D. Ohlbaum Professionalism Award\, and Lifetime Achievement Award. \nEATS is an interactive conference and we are planning EATS 2024 as an in-person experience; however\, we want to facilitate those who need to attend remotely. All sessions will be recorded\, and some sessions will be live-streamed for online participants to watch in real time. \nSchedule details:\nJune 10: 10:00 a.m. – 5:30 p.m.\nJune 11: 9:00 a.m. – 7:00 p.m.\nJune 12: 9:00 a.m. – 2:30 p.m.
URL:https://www2.stetson.edu/law/docket/events/educating-advocacy-teachers-eats-conference/
LOCATION:Various locations on Gulfport Campus. Check-in at The Great Hall.
CATEGORIES:Conference
ORGANIZER;CN="Center for Excellence in Advocacy":MAILTO:advocacy@law.stetson.edu
END:VEVENT
BEGIN:VEVENT
DTSTART;TZID=America/New_York:20240522T120000
DTEND;TZID=America/New_York:20240522T153000
DTSTAMP:20260425T223717
CREATED:20240521T140658Z
LAST-MODIFIED:20240521T140658Z
UID:72937-1716379200-1716391800@www2.stetson.edu
SUMMARY:Admitted Student Open House
DESCRIPTION:
URL:https://www2.stetson.edu/law/docket/events/admitted-student-open-house/
CATEGORIES:Admissions - Internal Events
END:VEVENT
BEGIN:VEVENT
DTSTART;TZID=America/New_York:20240430T180000
DTEND;TZID=America/New_York:20240430T200000
DTSTAMP:20260425T223717
CREATED:20240430T142315Z
LAST-MODIFIED:20240430T142315Z
UID:72827-1714500000-1714507200@www2.stetson.edu
SUMMARY:Take a Study Break with Student Affairs
DESCRIPTION:April 30\, 6:00 pm – 8:00 pm Mann Lounge\n \n\nThe Office of Student Affairs will be kicking off finals week by hosting a Taco Bar. Please come out an enjoy a comforting meal as we support and encourage our students through a tough period.  Breakfast will be served for your enjoyment.\n\n \n\nFood is available on a first come first serve basis.\n\n \n\n 
URL:https://www2.stetson.edu/law/docket/events/take-a-study-break-with-student-affairs/
CATEGORIES:Student Affairs
END:VEVENT
BEGIN:VEVENT
DTSTART;TZID=America/New_York:20240430T180000
DTEND;TZID=America/New_York:20240430T200000
DTSTAMP:20260425T223717
CREATED:20240205T175621Z
LAST-MODIFIED:20240205T175621Z
UID:69333-1714500000-1714507200@www2.stetson.edu
SUMMARY:Student Affairs Exam Study Break with Students
DESCRIPTION:Please join the Office of Student Affairs for delicious food for an exam study break. \nPlease RSVP on Engage  \nFood served at student organization events is for students who attend the entire program. \nE-mail ada@law.stetson.edu should you need ADA accommodations for this program.
URL:https://www2.stetson.edu/law/docket/events/student-affairs-exam-study-break-with-students/
CATEGORIES:Gulfport Campus,Student Affairs,Student Affairs Activity
END:VEVENT
END:VCALENDAR