BEGIN:VCALENDAR
VERSION:2.0
PRODID:-//Stetson Law Campus Announcements and Events - ECPv6.15.20//NONSGML v1.0//EN
CALSCALE:GREGORIAN
METHOD:PUBLISH
X-WR-CALNAME:Stetson Law Campus Announcements and Events
X-ORIGINAL-URL:https://www2.stetson.edu/law/docket
X-WR-CALDESC:Events for Stetson Law Campus Announcements and Events
REFRESH-INTERVAL;VALUE=DURATION:PT1H
X-Robots-Tag:noindex
X-PUBLISHED-TTL:PT1H
BEGIN:VTIMEZONE
TZID:America/New_York
BEGIN:DAYLIGHT
TZOFFSETFROM:-0500
TZOFFSETTO:-0400
TZNAME:EDT
DTSTART:20230312T070000
END:DAYLIGHT
BEGIN:STANDARD
TZOFFSETFROM:-0400
TZOFFSETTO:-0500
TZNAME:EST
DTSTART:20231105T060000
END:STANDARD
BEGIN:DAYLIGHT
TZOFFSETFROM:-0500
TZOFFSETTO:-0400
TZNAME:EDT
DTSTART:20240310T070000
END:DAYLIGHT
BEGIN:STANDARD
TZOFFSETFROM:-0400
TZOFFSETTO:-0500
TZNAME:EST
DTSTART:20241103T060000
END:STANDARD
BEGIN:DAYLIGHT
TZOFFSETFROM:-0500
TZOFFSETTO:-0400
TZNAME:EDT
DTSTART:20250309T070000
END:DAYLIGHT
BEGIN:STANDARD
TZOFFSETFROM:-0400
TZOFFSETTO:-0500
TZNAME:EST
DTSTART:20251102T060000
END:STANDARD
END:VTIMEZONE
BEGIN:VEVENT
DTSTART;TZID=America/New_York:20240424T170000
DTEND;TZID=America/New_York:20240424T220000
DTSTAMP:20260424T223613
CREATED:20240311T152954Z
LAST-MODIFIED:20240311T152954Z
UID:71005-1713978000-1713996000@www2.stetson.edu
SUMMARY:Intramural Softball
DESCRIPTION:Come out to compete\, socialize\, and have fun playing sports with students of all ability levels! \nThe Intramural Sports program is free and open to current Stetson Law students. \nContact Zachary Borello zborello@law.stetson.edu or Tyler Goldberg tgoldberg@law.stetson.edu for additional information. Intramural participants are required to complete a Roster and provide to the Softball IM Chairs. \nIn addition\, every player and participant MUST complete a Recreational Event\, Activity or Program Risk Acknowledgement and Liability Waiver form to participate https://stetson.campuslabs.com/engage/submitter/form/start/376806  \nIf you have any questions\, please do not hesitate to ask.  Email your Sports Commissioner\, Jessica Organ for more information.
URL:https://www2.stetson.edu/law/docket/events/intramural-softball-10/
LOCATION:Gulfport Hoyt Field
CATEGORIES:Intramural Sports,Student Bar Association
END:VEVENT
END:VCALENDAR