BEGIN:VCALENDAR
VERSION:2.0
PRODID:-//Stetson Law Campus Announcements and Events - ECPv6.15.20//NONSGML v1.0//EN
CALSCALE:GREGORIAN
METHOD:PUBLISH
X-WR-CALNAME:Stetson Law Campus Announcements and Events
X-ORIGINAL-URL:https://www2.stetson.edu/law/docket
X-WR-CALDESC:Events for Stetson Law Campus Announcements and Events
REFRESH-INTERVAL;VALUE=DURATION:PT1H
X-Robots-Tag:noindex
X-PUBLISHED-TTL:PT1H
BEGIN:VTIMEZONE
TZID:America/New_York
BEGIN:DAYLIGHT
TZOFFSETFROM:-0500
TZOFFSETTO:-0400
TZNAME:EDT
DTSTART:20240310T070000
END:DAYLIGHT
BEGIN:STANDARD
TZOFFSETFROM:-0400
TZOFFSETTO:-0500
TZNAME:EST
DTSTART:20241103T060000
END:STANDARD
BEGIN:DAYLIGHT
TZOFFSETFROM:-0500
TZOFFSETTO:-0400
TZNAME:EDT
DTSTART:20250309T070000
END:DAYLIGHT
BEGIN:STANDARD
TZOFFSETFROM:-0400
TZOFFSETTO:-0500
TZNAME:EST
DTSTART:20251102T060000
END:STANDARD
BEGIN:DAYLIGHT
TZOFFSETFROM:-0500
TZOFFSETTO:-0400
TZNAME:EDT
DTSTART:20260308T070000
END:DAYLIGHT
BEGIN:STANDARD
TZOFFSETFROM:-0400
TZOFFSETTO:-0500
TZNAME:EST
DTSTART:20261101T060000
END:STANDARD
END:VTIMEZONE
BEGIN:VEVENT
DTSTART;TZID=America/New_York:20250204T120000
DTEND;TZID=America/New_York:20250204T130000
DTSTAMP:20260425T080659
CREATED:20250122T204229Z
LAST-MODIFIED:20250122T204229Z
UID:75431-1738670400-1738674000@www2.stetson.edu
SUMMARY:Study Abroad Fair
DESCRIPTION:The Office of International & Graduate Programs invites you to join us for the Study Abroad Fair on Tuesday\, February 4\, 12:00-1:00pm in Mann Lounge.\nStop by to learn more about Stetson Law’s exciting study abroad programs\, meet the faculty & learn about the courses\, try some delicious refreshments\, and enjoy a Flamenco dance performance. There will also be raffles and prizes! \nFor more information regarding our study abroad programs\, please visit https://www.stetson.edu/law/academics/home/international-programs.php\nFor questions\, please contact us at InternationalProgram@law.stetson.edu \nWe are looking forward to seeing you at the fair!
URL:https://www2.stetson.edu/law/docket/events/study-abroad-fair/
CATEGORIES:International Programs
END:VEVENT
BEGIN:VEVENT
DTSTART;VALUE=DATE:20250210
DTEND;VALUE=DATE:20250211
DTSTAMP:20260425T080659
CREATED:20250131T184009Z
LAST-MODIFIED:20250131T184009Z
UID:75519-1739145600-1739231999@www2.stetson.edu
SUMMARY:Summer Clinic & Externship Applications Open February 10th
DESCRIPTION:
URL:https://www2.stetson.edu/law/docket/events/summer-clinic-externship-applications-open-february-10th/
CATEGORIES:Clinical Education
ORGANIZER;CN="Kaylie Murphy":MAILTO:kjmurphy@law.stetson.edu
END:VEVENT
BEGIN:VEVENT
DTSTART;TZID=America/New_York:20250210T120000
DTEND;TZID=America/New_York:20250210T133000
DTSTAMP:20260425T080659
CREATED:20250129T140657Z
LAST-MODIFIED:20250129T140657Z
UID:75493-1739188800-1739194200@www2.stetson.edu
SUMMARY:LIVE: U.S. Court of Appeals for Veterans Claims Oral Argument
DESCRIPTION:Join us in the Great Hall to watch a live oral argument! The U.S. Court of Appeals for Veterans Claims is an Article 1 federal appellate court that reviews decisions from the Board of Veterans’ Appeals\, a part of the VA. This is a rare opportunity\, and we hope you can make it! \nThe argument will be followed by a short Q&A session with the judges and counsel. \nIf you plan to attend\, please be in your seats before 12:00\, as the doors will close and the argument will begin promptly at that time.
URL:https://www2.stetson.edu/law/docket/events/live-u-s-court-of-appeals-for-veterans-claims-oral-argument/
LOCATION:The Great Hall\, Gulfport
CATEGORIES:Academic
END:VEVENT
BEGIN:VEVENT
DTSTART;TZID=America/New_York:20250213T120000
DTEND;TZID=America/New_York:20250213T130000
DTSTAMP:20260425T080659
CREATED:20250107T170135Z
LAST-MODIFIED:20250107T170135Z
UID:75266-1739448000-1739451600@www2.stetson.edu
SUMMARY:Edward and Bonnie Foreman Biodiversity Lecture - Florida Springs: From Geography to Politics to Restoration
DESCRIPTION:The Institute for Biodiversity Law and Policy welcomes Dr. Christopher F. Meindl to speak about his recent book on Florida Springs at the first Biodiversity Lecture of the 2025 spring semester. \nDr. Meindl will discuss the complex geography\, history\, science\, and politics of Florida Springs including more recent efforts to restore these treasures of the Florida landscape. \nLunch will be served. \nRegister to attend here: https://forms.office.com/r/E5Zi7V6BMn \n 
URL:https://www2.stetson.edu/law/docket/events/edward-and-bonnie-foreman-biodiversity-lecture-florida-springs-from-geography-to-politics-to-restoration/
LOCATION:Mann Lounge\, 1401 61st St S\, Gulfport\, FL\, 33707
CATEGORIES:Foreman Biodiversity Lecture,Institute for Biodiversity Law and Policy
END:VEVENT
BEGIN:VEVENT
DTSTART;TZID=America/New_York:20250214T120000
DTEND;TZID=America/New_York:20250214T130000
DTSTAMP:20260425T080659
CREATED:20250206T182007Z
LAST-MODIFIED:20250206T182007Z
UID:75604-1739534400-1739538000@www2.stetson.edu
SUMMARY:Dogs & Dogs
DESCRIPTION:Dogs and Dogs is a fun lunch event where students can bring their own dogs\, enjoy a hot dog\, and learn more about the Elder Law concentration.
URL:https://www2.stetson.edu/law/docket/events/dogs-dogs/
LOCATION:Center for Elder Justice Patio
CATEGORIES:Gulfport Campus
ORGANIZER;CN="Daniel Gerdon":MAILTO:dgerdon@law.stetson.edu
END:VEVENT
BEGIN:VEVENT
DTSTART;TZID=America/New_York:20250217T163000
DTEND;TZID=America/New_York:20250217T180000
DTSTAMP:20260425T080659
CREATED:20250213T165647Z
LAST-MODIFIED:20250213T165647Z
UID:75693-1739809800-1739815200@www2.stetson.edu
SUMMARY:Open Forum with the ABA Site Team
DESCRIPTION:Students\, \nThe ABA wants to hear from you! There will be an Open Forum with the ABA site team on Monday at 4:30 p.m. in the Mann Lounge. Please stop by if you can.
URL:https://www2.stetson.edu/law/docket/events/open-forum-with-the-aba-site-team/
LOCATION:Mann Lounge\, 1401 61st St S\, Gulfport\, FL\, United States
END:VEVENT
BEGIN:VEVENT
DTSTART;TZID=America/New_York:20250218T080000
DTEND;TZID=America/New_York:20250221T160000
DTSTAMP:20260425T080659
CREATED:20250218T185636Z
LAST-MODIFIED:20250218T185636Z
UID:75776-1739865600-1740153600@www2.stetson.edu
SUMMARY:Random Acts of KINDness Week (February 17-21)
DESCRIPTION:Join us to give a little extra love and kindness during the Random Acts of KINDness Week. Check out our events below: \nTuesday – Friday (February 18-21): Sign the OurKINDofStetson Banner in the foyer between Great Hall and Mann Lounge. Pick up Kindness* swag in the People Operations Conference Room. \nWednesday (February 19): Carnation Giveaway from 11 am – 1 pm in the foyer between Great Hall and Mann Lounge. \nFriday (February 21): Group picture with Kindness T-shirt at 11:30 am at the Banyan Courtyard. \n*T-shirt is first come first serve
URL:https://www2.stetson.edu/law/docket/events/random-acts-of-kindness-week-february-17-21/
LOCATION:People Operations Conference Room/ Great Hall foyer/ Banyan Courtyard
CATEGORIES:People Operations/ Human Resources
END:VEVENT
BEGIN:VEVENT
DTSTART;TZID=America/New_York:20250221T120000
DTEND;TZID=America/New_York:20250221T150000
DTSTAMP:20260425T080659
CREATED:20250203T200000Z
LAST-MODIFIED:20250203T200000Z
UID:75564-1740139200-1740150000@www2.stetson.edu
SUMMARY:Stetson University Spring Expo
DESCRIPTION:
URL:https://www2.stetson.edu/law/docket/events/stetson-university-spring-expo/
LOCATION:Stetson University\, DeLand\, FL
CATEGORIES:Admissions
END:VEVENT
BEGIN:VEVENT
DTSTART;TZID=America/New_York:20250226T110000
DTEND;TZID=America/New_York:20250226T150000
DTSTAMP:20260425T080659
CREATED:20241114T183621Z
LAST-MODIFIED:20241114T183832Z
UID:75030-1740567600-1740582000@www2.stetson.edu
SUMMARY:Flagler College Career & Graduate School Expo
DESCRIPTION:
URL:https://www2.stetson.edu/law/docket/events/flagler-career-graduate-school-expo/
LOCATION:Ringhaver Student Center\, St. Augustine\, FL
CATEGORIES:Admissions
END:VEVENT
BEGIN:VEVENT
DTSTART;TZID=America/New_York:20250226T120000
DTEND;TZID=America/New_York:20250226T125000
DTSTAMP:20260425T080659
CREATED:20250210T144454Z
LAST-MODIFIED:20250210T144454Z
UID:75649-1740571200-1740574200@www2.stetson.edu
SUMMARY:Clinical Education Lunch & Learn!
DESCRIPTION:
URL:https://www2.stetson.edu/law/docket/events/clinical-education-lunch-learn-2/
LOCATION:Classroom F\, Gulfport
CATEGORIES:Clinical Education
END:VEVENT
END:VCALENDAR