BEGIN:VCALENDAR
VERSION:2.0
PRODID:-//Stetson Law Campus Announcements and Events - ECPv6.15.20//NONSGML v1.0//EN
CALSCALE:GREGORIAN
METHOD:PUBLISH
X-ORIGINAL-URL:https://www2.stetson.edu/law/docket
X-WR-CALDESC:Events for Stetson Law Campus Announcements and Events
REFRESH-INTERVAL;VALUE=DURATION:PT1H
X-Robots-Tag:noindex
X-PUBLISHED-TTL:PT1H
BEGIN:VTIMEZONE
TZID:America/New_York
BEGIN:DAYLIGHT
TZOFFSETFROM:-0500
TZOFFSETTO:-0400
TZNAME:EDT
DTSTART:20240310T070000
END:DAYLIGHT
BEGIN:STANDARD
TZOFFSETFROM:-0400
TZOFFSETTO:-0500
TZNAME:EST
DTSTART:20241103T060000
END:STANDARD
BEGIN:DAYLIGHT
TZOFFSETFROM:-0500
TZOFFSETTO:-0400
TZNAME:EDT
DTSTART:20250309T070000
END:DAYLIGHT
BEGIN:STANDARD
TZOFFSETFROM:-0400
TZOFFSETTO:-0500
TZNAME:EST
DTSTART:20251102T060000
END:STANDARD
BEGIN:DAYLIGHT
TZOFFSETFROM:-0500
TZOFFSETTO:-0400
TZNAME:EDT
DTSTART:20260308T070000
END:DAYLIGHT
BEGIN:STANDARD
TZOFFSETFROM:-0400
TZOFFSETTO:-0500
TZNAME:EST
DTSTART:20261101T060000
END:STANDARD
END:VTIMEZONE
BEGIN:VEVENT
DTSTART;TZID=America/New_York:20250820T120000
DTEND;TZID=America/New_York:20250820T130000
DTSTAMP:20260424T223706
CREATED:20250729T124932Z
LAST-MODIFIED:20250729T124932Z
UID:77110-1755691200-1755694800@www2.stetson.edu
SUMMARY:Veterans Law Institute Info Session
DESCRIPTION:Join the VLI team for an information session on Tuesday\, August 20th from 12–1 PM. This session is open to all incoming student veterans\, veteran dependents using educational benefits\, and students interested in learning more about the Veterans Advocacy Clinic. Lunch will be provided! \nPlease RSVP on Engage\nFood served at student organization events is for students who attend the entire program.\nE-mail ada@law.stetson.edu should you need ADA accommodations for this program.
URL:https://www2.stetson.edu/law/docket/events/veterans-law-institute-info-session/
LOCATION:Veterans Law Institute
CATEGORIES:Veterans Law Institute
END:VEVENT
BEGIN:VEVENT
DTSTART;TZID=America/New_York:20250821T113000
DTEND;TZID=America/New_York:20250821T130000
DTSTAMP:20260424T223706
CREATED:20250714T202502Z
LAST-MODIFIED:20250714T202502Z
UID:77026-1755775800-1755781200@www2.stetson.edu
SUMMARY:Hurricane Info Session - Please RSVP by August 18\, 2025
DESCRIPTION:Dear Stetson COL Faculty\, Staff\, and Students: \nJoin us for an informative session with Chief Pridemore on Thursday\, August 21\, from 11:30 a.m. to 1:00 p.m. in the Great Hall. Learn what to expect during hurricane season and how to stay safe and prepared. \nNew students: This is a MANDATORY event for all new students residing in Stetson owned housing – a sign in table will be at the event. \n \nPlease RSVP by noon on  August 18\, 2025 by clicking here or below:
URL:https://www2.stetson.edu/law/docket/events/hurricane-info-session-please-rsvp-by-august-18-2025/
LOCATION:Great Hall
CATEGORIES:Public Safety
END:VEVENT
BEGIN:VEVENT
DTSTART;TZID=America/New_York:20250822T130000
DTEND;TZID=America/New_York:20250822T160000
DTSTAMP:20260424T223706
CREATED:20250725T151907Z
LAST-MODIFIED:20250728T190626Z
UID:77097-1755867600-1755878400@www2.stetson.edu
SUMMARY:Student Organization Leadership Training
DESCRIPTION:This leadership training is designed to equip student leaders with essential programming skills and deepen their understanding of the resources available through Student Affairs. Beyond programming\, the training will focus on helping students navigate and utilize key on-campus resources to better serve their organizations and peers. Special emphasis will be placed on familiarizing attendees with the services\, support systems\, and collaborative opportunities available through the Division of Student Affairs. \nThis training is mandatory for incoming presidents and treasurers of your respective organizations. If you think your organization will be unable to send representatives to the training\, please email our Director\, Desmond Baker (dbaker2@law.stetson.edu) and our Student Affairs Coordinator\, Jose Lois (jllois@law.stetson.edu). \nWe will be serving Chick-fil-A. 🐄❤️ \nPlease RSVP on Engage\nFood served at student organization events is for students who attend the entire program.\nE-mail ada@law.stetson.edu should you need ADA accommodations for this program.
URL:https://www2.stetson.edu/law/docket/events/student-organization-leadership-training/
LOCATION:Classroom A\, Gulfport\, United States
CATEGORIES:Student Affairs
ORGANIZER;CN="Division of Student Affairs":MAILTO:studentaffairs@law.stetson.edu
END:VEVENT
END:VCALENDAR