BEGIN:VCALENDAR
VERSION:2.0
PRODID:-//Stetson Law Campus Announcements and Events - ECPv6.15.20//NONSGML v1.0//EN
CALSCALE:GREGORIAN
METHOD:PUBLISH
X-WR-CALNAME:Stetson Law Campus Announcements and Events
X-ORIGINAL-URL:https://www2.stetson.edu/law/docket
X-WR-CALDESC:Events for Stetson Law Campus Announcements and Events
REFRESH-INTERVAL;VALUE=DURATION:PT1H
X-Robots-Tag:noindex
X-PUBLISHED-TTL:PT1H
BEGIN:VTIMEZONE
TZID:America/New_York
BEGIN:DAYLIGHT
TZOFFSETFROM:-0500
TZOFFSETTO:-0400
TZNAME:EDT
DTSTART:20250309T070000
END:DAYLIGHT
BEGIN:STANDARD
TZOFFSETFROM:-0400
TZOFFSETTO:-0500
TZNAME:EST
DTSTART:20251102T060000
END:STANDARD
BEGIN:DAYLIGHT
TZOFFSETFROM:-0500
TZOFFSETTO:-0400
TZNAME:EDT
DTSTART:20260308T070000
END:DAYLIGHT
BEGIN:STANDARD
TZOFFSETFROM:-0400
TZOFFSETTO:-0500
TZNAME:EST
DTSTART:20261101T060000
END:STANDARD
BEGIN:DAYLIGHT
TZOFFSETFROM:-0500
TZOFFSETTO:-0400
TZNAME:EDT
DTSTART:20270314T070000
END:DAYLIGHT
BEGIN:STANDARD
TZOFFSETFROM:-0400
TZOFFSETTO:-0500
TZNAME:EST
DTSTART:20271107T060000
END:STANDARD
END:VTIMEZONE
BEGIN:VEVENT
DTSTART;VALUE=DATE:20260425
DTEND;VALUE=DATE:20260426
DTSTAMP:20260424T094012
CREATED:20260317T131522Z
LAST-MODIFIED:20260317T131522Z
UID:79494-1777075200-1777161599@www2.stetson.edu
SUMMARY:23rd Annual Illinois Latinx Law Student Association Forum
DESCRIPTION:
URL:https://www2.stetson.edu/law/docket/events/23rd-annual-illinois-latinx-law-student-association-forum/
LOCATION:DePaul Center\, 25 E Jackson Blvd Ste 100\, Chicago\, 60604\, United States
CATEGORIES:Admissions
END:VEVENT
BEGIN:VEVENT
DTSTART;VALUE=DATE:20260425
DTEND;VALUE=DATE:20260426
DTSTAMP:20260424T094012
CREATED:20260422T144025Z
LAST-MODIFIED:20260422T144025Z
UID:79876-1777075200-1777161599@www2.stetson.edu
SUMMARY:23rd Annual Illinois Latino Law Student Association Forum
DESCRIPTION:
URL:https://www2.stetson.edu/law/docket/events/23rd-annual-illinois-latino-law-student-association-forum/
LOCATION:DePaul Center\, 25 E Jackson Blvd Ste 100\, Chicago\, 60604\, United States
CATEGORIES:Admissions
END:VEVENT
END:VCALENDAR