{"text_format":"1","workbook":"xlsx","n_sheets":3,"sheets":["DASHBOARD","Sheet1","List"],"not_rendered":{"charts":0,"images":0,"macros":1,"external_links":0,"defined_names":5,"comments":0,"pivot_tables":0},"unopened":[],"bounds":{"document_bytes":16777216,"sheet_cells":100000,"rows_first":2000,"rows_last":500,"rows_between":2000,"halvings":0,"cell_chars":16384,"cell_head_chars":4096},"cells_cut":0,"cells_raw":0,"read":"whole","date_system":"1900"}

{"sheet":"DASHBOARD","index":0,"n_rows":10,"n_cols":6,"rows_kept":10,"cut":false,"hidden":false,"merged":[[0,0,1,5],[2,0,3,5],[4,0,5,5]]}
["STETSON UNIVERSITY"]
[]
["FACULTY BULLETIN LIST\n1885 - 2014"]
[]
["This list reflects faculty members' names as published in the Stetson University Bulletin.\nFaculty members may have started employment with Stetson the year before they first appear in the Bulletin"]
[]
[]
[]
[]
["Select A Year","       OR       ","Select A Name","       OR       ",null,"Type A Job Title [Press Enter]"]

{"sheet":"Sheet1","index":1,"n_rows":2568,"n_cols":122,"rows_kept":1125,"cut":true,"hidden":false,"merged":[],"bounds":{"rows_first":500,"rows_last":125,"rows_between":500,"halvings":2}}
["ID","LASTNAME","FIRSTNAME","TITLE / DEGREES","1885 / 1886","1886 / 1887","1887 / 1888","1888 / 1889","1889 / 1890","1891 / 1892","1892 / 1893","1894 / 1895","1895 / 1896","1896 / 1897","1897 / 1898","1898 / 1899","1899 / 1900","1900 / 1901","1901 / 1902","1902 / 1903","1903 / 1904","1904 / 1905","1905 / 1906","1906 / 1907","1907 / 1908","1908 / 1909","1909 / 1910","1910 / 1911","1911 / 1912","1912 / 1913","1913 / 1914","1914 / 1915","1915 / 1916","1916 / 1917","1917 / 1918","1918 / 1919","1919 / 1920","1920 / 1921","1921 / 1922","1922 / 1923","1923 / 1924","1924 / 1925","1925 / 1926","1926 / 1927","1927 / 1928","1928 / 1929","1929 / 1930","1930 / 1931","1931 / 1932","1932 / 1933","1933 / 1934","1934 / 1935","1935 / 1936","1937 / 1938","1938 / 1939","1939 / 1940","1940 / 1941","1941 / 1942","1942 / 1943","1943 / 1944","1944 / 1945","1945 / 1946","1946 / 1947","1947 / 1948","1948 / 1949","1949 / 1950","1950 / 1951","1951 / 1952","1952 / 1953","1953 / 1954","1954 / 1955","1955 / 1956","1957 / 1958","1958 / 1959","1959 / 1960","1960 / 1961","1962 / 1963","1963 / 1964","1964 / 1965","1965 / 1966","1967 / 1968","1968 / 1969","1969 / 1970","1970 / 1971","1971 / 1972","1973 / 1974","1974 / 1975","1975 / 1976","1978 / 1979","1979 / 1980","1980 / 1981","1981 / 1982","1982 / 1983","1983 / 1984","1984 / 1985","1985 / 1986","1986 / 1987","1987 / 1988","1988 / 1989","1989 / 1990","1990 / 1991","1991 / 1992","1993 / 1994","1994 / 1995","1995 / 1996","1996 / 1997","1997 / 1998","1999 / 2000","2000 / 2001","2001 / 2002","2002 / 2003","2003 / 2004","2004 / 2005","2005 / 2006","2006 / 2007","2007 / 2008","2008 / 2009","2009 / 2010","2010 / 2011","2011 / 2012","2012 / 2013","2013 / 2014"]
[3960,"Abberger","Sigfried","Paedagogishe Hochschule, Doktor VEV. NAT.",null,null,null,null,null,null,null,null,null,null,null,null,null,null,null,null,null,null,null,null,null,null,null,null,null,null,null,null,null,null,null,null,null,null,null,null,null,null,null,null,null,null,null,null,null,null,null,null,null,null,null,null,null,null,null,null,null,null,null,null,null,null,null,null,null,null,null,null,null,null,null,null,null,null,null,null,null,null,null,null,null,null,null,null,null,null,null,null,null,"Professor of Chemistry, Exchange Professor (Freiburg)"]
[3576,"Abbott","David W","B.A., M.S., Ph.D.",null,null,null,null,null,null,null,null,null,null,null,null,null,null,null,null,null,null,null,null,null,null,null,null,null,null,null,null,null,null,null,null,null,null,null,null,null,null,null,null,null,null,null,null,null,null,null,null,null,null,null,null,null,null,null,null,null,null,null,null,null,null,null,null,null,null,null,null,null,null,null,null,null,null,null,"Assistant Professor of Psychology","Assistant Professor of Psychology"]
[4550,"Abbott","J. Anthony","B.S., M.A., Ph.D.",null,null,null,null,null,null,null,null,null,null,null,null,null,null,null,null,null,null,null,null,null,null,null,null,null,null,null,null,null,null,null,null,null,null,null,null,null,null,null,null,null,null,null,null,null,null,null,null,null,null,null,null,null,null,null,null,null,null,null,null,null,null,null,null,null,null,null,null,null,null,null,null,null,null,null,null,null,null,null,null,null,null,null,null,null,null,null,null,null,null,null,null,null,null,null,null,null,null,null,null,null,null,null,null,null,null,null,null,null,"Assistant Professor of Geography / Environment Sciences","Assistant Professor of Geography / Environment Sciences","Assistant Professor of Geography / Environment Sciences","Assistant Professor of Geography / Environment Sciences","Assistant Professor of Geography / Environment Sciences","Associate Professor of Geography / Environmental Science","Associate Professor of Geography & Environmental \nScience","Associate Professor / Chair of Geography & \nEnvironmental Science","Associate Professor / Chair of Geography \n& Environmental Science"]
[21,"Abernethy","Mabel",null,null,null,null,null,"Teacher of Vocal & Instrumental Music / In charge of \nMusic Department"]
[null,"Abu El-Haj","Samia","B.A., M.A.",null,null,null,null,null,null,null,null,null,null,null,null,null,null,null,null,null,null,null,null,null,null,null,null,null,null,null,null,null,null,null,null,null,null,null,null,null,null,null,null,null,null,null,null,null,null,null,null,null,null,null,null,null,null,null,null,null,null,null,null,null,null,null,null,null,null,null,null,null,null,null,null,null,null,null,null,null,null,null,null,null,null,null,null,null,null,null,null,null,null,null,null,null,null,null,null,null,null,null,null,null,null,null,null,null,null,null,null,null,null,null,null,null,null,null,"Fulbright Language Teaching Assistant"]
[422,"Ackley","Laura Wheaton",null,null,null,null,null,null,null,null,null,null,null,null,null,null,null,null,null,null,null,null,null,null,null,null,null,null,null,null,null,null,null,null,null,"Instructor in Voice"]
[3470,"Adamian","Paul S.","M.A.",null,null,null,null,null,null,null,null,null,null,null,null,null,null,null,null,null,null,null,null,null,null,null,null,null,null,null,null,null,null,null,null,null,null,null,null,null,null,null,null,null,null,null,null,null,null,null,null,null,null,null,null,null,null,null,null,null,null,null,null,null,null,null,null,null,null,null,null,null,"Instructor in English","Instructor in English"]
[4452,"Adams","Ann","B.M., M.M., M.M.E., D.M.",null,null,null,null,null,null,null,null,null,null,null,null,null,null,null,null,null,null,null,null,null,null,null,null,null,null,null,null,null,null,null,null,null,null,null,null,null,null,null,null,null,null,null,null,null,null,null,null,null,null,null,null,null,null,null,null,null,null,null,null,null,null,null,null,null,null,null,null,null,null,null,null,null,null,null,null,null,null,null,null,null,null,null,null,null,null,null,null,null,null,null,null,null,null,null,null,null,null,null,null,null,null,null,null,null,"Lecturer in Music","Lecturer in Music","Lecturer in Music","Lecturer in Music","Lecturer in Music","Lecturer in Music","Lecturer in Music","Lecturer in Music","Lecturer in Music","Visiting Lecturer in Music","Visiting Lecturer in Music","Visiting Lecturer in Music"]
[4058,"Adams","Bobby L.","B.A., M.M.E., Ph.D.",null,null,null,null,null,null,null,null,null,null,null,null,null,null,null,null,null,null,null,null,null,null,null,null,null,null,null,null,null,null,null,null,null,null,null,null,null,null,null,null,null,null,null,null,null,null,null,null,null,null,null,null,null,null,null,null,null,null,null,null,null,null,null,null,null,null,null,null,null,null,null,null,null,null,null,null,null,null,null,null,null,null,null,null,null,null,null,null,null,null,null,null,null,null,"Assistant Professor of Music","Assistant Professor of Music","Assistant Professor of Music","Assistant Professor of Music","Assistant Professor of Music","Associate Professor of Music (Sabbatical Academic Year)","Associate Professor of Music","Associate Professor of Music","Associate Professor of Music","Associate Professor of Music","Professor of Music","Professor of Music","Professor of Music","Professor of Music","Professor of Music","Professor of Music","Professor of Music","Professor of Music","Professor of Music","Professor of Music","Professor of Music","Professor of Music","Professor of Music"]
[3326,"Adams","John Bowman","A.B., M.A., Ph.D.",null,null,null,null,null,null,null,null,null,null,null,null,null,null,null,null,null,null,null,null,null,null,null,null,null,null,null,null,null,null,null,null,null,null,null,null,null,null,null,null,null,null,null,null,null,null,null,null,null,null,null,null,null,null,null,null,null,null,null,null,null,"Assistant Professor of Sociology","Assistant Professor of Sociology"]
[3566,"Adams","Joseph V","B.A., M.A.",null,null,null,null,null,null,null,null,null,null,null,null,null,null,null,null,null,null,null,null,null,null,null,null,null,null,null,null,null,null,null,null,null,null,null,null,null,null,null,null,null,null,null,null,null,null,null,null,null,null,null,null,null,null,null,null,null,null,null,null,null,null,null,null,null,null,null,null,null,null,null,null,null,null,"Assistant Professor of Psychology",null,"Assistant Professor of Psychology","Assistant Professor of Psychology","Assistant Professor of Psychology","Assistant Professor of Psychology","Associate Professor of Psychology"]
[4488,"Adams","Kristen D.","B.A., J.D., LL.M.",null,null,null,null,null,null,null,null,null,null,null,null,null,null,null,null,null,null,null,null,null,null,null,null,null,null,null,null,null,null,null,null,null,null,null,null,null,null,null,null,null,null,null,null,null,null,null,null,null,null,null,null,null,null,null,null,null,null,null,null,null,null,null,null,null,null,null,null,null,null,null,null,null,null,null,null,null,null,null,null,null,null,null,null,null,null,null,null,null,null,null,null,null,null,null,null,null,null,null,null,null,null,null,null,null,null,"Assistant Professor of Law","Associate Professor of Law","Associate Professor of Law / Highbaugh Chair \nFaculty Research","Associate Professor of Law / Highbaugh Senior \nChair Faculty Research","Professor of Law","Professor of Law","Professor of Law","Professor of Law","Professor of Law / Associate Dean for Academics, \nCollege of Law","Professor of Law / Associate Dean for Academics, \nCollege of Law","Professor of Law / Associate Dean for \nAcademics, College of Law","Professor of Law"]
[2776,"Adams","Mary",null,null,null,null,null,null,null,null,null,null,null,null,null,null,null,null,null,null,null,null,null,null,null,null,null,null,null,null,null,null,"Assistant in Library"]
[3327,"Adams","Mildred D.","A.B.",null,null,null,null,null,null,null,null,null,null,null,null,null,null,null,null,null,null,null,null,null,null,null,null,null,null,null,null,null,null,null,null,null,null,null,null,null,null,null,null,null,null,null,null,null,null,null,null,null,null,null,null,null,null,null,null,null,null,null,null,null,"Instructor in English"]
[4561,"Adams","William J.","B.A., M.S., ABD",null,null,null,null,null,null,null,null,null,null,null,null,null,null,null,null,null,null,null,null,null,null,null,null,null,null,null,null,null,null,null,null,null,null,null,null,null,null,null,null,null,null,null,null,null,null,null,null,null,null,null,null,null,null,null,null,null,null,null,null,null,null,null,null,null,null,null,null,null,null,null,null,null,null,null,null,null,null,null,null,null,null,null,null,null,null,null,null,null,null,null,null,null,null,null,null,null,null,null,null,null,null,null,null,null,null,null,null,null,"Lecturer in Mathematics","Lecturer in Mathematics","Lecturer in Mathematics & Computer Science","Lecturer in Mathematics & Computer Science","Lecturer in Mathematics & Computer Science"]
[4275,"Aimone","Steven","B.A., M.F.A.",null,null,null,null,null,null,null,null,null,null,null,null,null,null,null,null,null,null,null,null,null,null,null,null,null,null,null,null,null,null,null,null,null,null,null,null,null,null,null,null,null,null,null,null,null,null,null,null,null,null,null,null,null,null,null,null,null,null,null,null,null,null,null,null,null,null,null,null,null,null,null,null,null,null,null,null,null,null,null,null,null,null,null,null,null,null,null,null,null,null,null,null,null,null,null,null,null,null,null,null,null,"Visit Instructor in Art / Acting Director Duncan Gallery"]
[3172,"Akers","Jimmie Sue","B.B.A.",null,null,null,null,null,null,null,null,null,null,null,null,null,null,null,null,null,null,null,null,null,null,null,null,null,null,null,null,null,null,null,null,null,null,null,null,null,null,null,null,null,null,null,null,null,null,null,null,null,null,null,null,null,null,null,null,"Assistant Professor of Secretarial Science","Assistant Professor of Secretarial Science","Assistant Professor of Secretarial Science (Resigned)"]
[4589,"Al Qaisi","Yazan","B.A., M.A.",null,null,null,null,null,null,null,null,null,null,null,null,null,null,null,null,null,null,null,null,null,null,null,null,null,null,null,null,null,null,null,null,null,null,null,null,null,null,null,null,null,null,null,null,null,null,null,null,null,null,null,null,null,null,null,null,null,null,null,null,null,null,null,null,null,null,null,null,null,null,null,null,null,null,null,null,null,null,null,null,null,null,null,null,null,null,null,null,null,null,null,null,null,null,null,null,null,null,null,null,null,null,null,null,null,null,null,null,null,null,"Fulbright Language Teaching Assistant in Arabic"]
[4562,"Al Raqqad","Yahya M.","B.A., M.A.",null,null,null,null,null,null,null,null,null,null,null,null,null,null,null,null,null,null,null,null,null,null,null,null,null,null,null,null,null,null,null,null,null,null,null,null,null,null,null,null,null,null,null,null,null,null,null,null,null,null,null,null,null,null,null,null,null,null,null,null,null,null,null,null,null,null,null,null,null,null,null,null,null,null,null,null,null,null,null,null,null,null,null,null,null,null,null,null,null,null,null,null,null,null,null,null,null,null,null,null,null,null,null,null,null,null,null,null,null,"Fulbright Foreign Language Teaching Assistant in Arabic"]
[4014,"Albano","Maria","B.A.",null,null,null,null,null,null,null,null,null,null,null,null,null,null,null,null,null,null,null,null,null,null,null,null,null,null,null,null,null,null,null,null,null,null,null,null,null,null,null,null,null,null,null,null,null,null,null,null,null,null,null,null,null,null,null,null,null,null,null,null,null,null,null,null,null,null,null,null,null,null,null,null,null,null,null,null,null,null,null,null,null,null,null,null,null,null,null,null,null,null,null,"Graduate Assistant of Volleyball & Softball"]
[957,"Albee","Becca","B.A., M.F.A.",null,null,null,null,null,null,null,null,null,null,null,null,null,null,null,null,null,null,null,null,null,null,null,null,null,null,null,null,null,null,null,null,null,null,null,null,null,null,null,null,null,null,null,null,null,null,null,null,null,null,null,null,null,null,null,null,null,null,null,null,null,null,null,null,null,null,null,"Director of Guidance / Dean of Men",null,null,null,null,null,null,null,null,null,null,null,null,null,null,null,null,null,null,null,null,null,null,null,null,null,null,null,null,null,null,null,null,null,null,null,"Assistant Professor of Digital Arts","Assistant Professor of Digital Arts","Assistant Professor of Digital Arts","Assistant Professor of Digital Arts"]
[4653,"Albin","Edgar A.","A.B., M.A.",null,null,null,null,null,null,null,null,null,null,null,null,null,null,null,null,null,null,null,null,null,null,null,null,null,null,null,null,null,null,null,null,null,null,null,null,null,null,null,null,null,null,null,null,null,null,null,null,null,null,null,null,null,null,null,null,null,null,null,null,null,null,"Visiting Associate Professor of Art"]
[801,"Albritton","Barbara Peden","Mus. B.",null,null,null,null,null,null,null,null,null,null,null,null,null,null,null,null,null,null,null,null,null,null,null,null,null,null,null,null,null,null,null,null,null,null,null,null,null,null,null,null,null,null,null,null,null,null,null,null,null,null,null,null,null,null,null,null,null,"Instructor in Voice"]
[3176,"Albritton","J.M.","Jr., B.S.",null,null,null,null,null,null,null,null,null,null,null,null,null,null,null,null,null,null,null,null,null,null,null,null,null,null,null,null,null,null,null,null,null,null,null,null,null,null,null,null,null,null,null,null,null,null,null,null,null,null,null,null,null,null,null,null,null,"Alumni Secretary","Alumni Secretary"]
[4132,"Alcalde","Javier G.","B.A., M.A., M.Sc., Ph.D.",null,null,null,null,null,null,null,null,null,null,null,null,null,null,null,null,null,null,null,null,null,null,null,null,null,null,null,null,null,null,null,null,null,null,null,null,null,null,null,null,null,null,null,null,null,null,null,null,null,null,null,null,null,null,null,null,null,null,null,null,null,null,null,null,null,null,null,null,null,null,null,null,null,null,null,null,null,null,null,null,null,null,null,null,null,null,null,null,null,null,null,null,null,null,null,null,null,"Assistant Professor of Political Science"]
[3836,"Aldana","Mario F.","B.A., Ph.D.",null,null,null,null,null,null,null,null,null,null,null,null,null,null,null,null,null,null,null,null,null,null,null,null,null,null,null,null,null,null,null,null,null,null,null,null,null,null,null,null,null,null,null,null,null,null,null,null,null,null,null,null,null,null,null,null,null,null,null,null,null,null,null,null,null,null,null,null,null,null,null,null,null,null,null,null,null,null,null,null,null,null,null,null,"Visiting Assistant Professor of Foreign Languages","Assistant Professor of Foreign Languages","Assistant Professor of Foreign Languages","Assistant Professor of Foreign Languages","Assistant Professor of Foreign Languages","Assistant Professor of Foreign Languages","Assistant Professor of Foreign Languages","Associate Professor of Foreign Languages","Associate Professor of Foreign Languages \n(Spring Sabbatical)","Associate Professor of Foreign Languages","Associate Professor of Foreign Languages","Associate Professor of Foreign Languages","Associate Professor of Foreign Languages","Associate Professor of Foreign Languages","Associate Professor of Foreign Languages \n(Spring Sabbatical)","Associate Professor of Foreign Languages","Associate Professor of Foreign Languages","Associate Professor of Foreign Languages","Associate Professor of Foreign Languages / Chair","Associate Professor of Foreign Languages / Chair","Associate Professor of Modern Languages & Literatures","Associate Professor of Modern Languages & Literatures","Associate Professor of Modern Languages & Literatures","Associate Professor of Modern Languages & Literatures","Associate Professor of Modern Languages & Literatures","Associate Professor of Modern Languages & Literatures","Associate Professor of Modern Languages & Literatures","Associate Professor of Modern Languages & Literatures","Associate Professor of Modern Languages & Literatures"]
[4367,"Aldrich-McCleery","Carole","B.S., M.S.(Economics),M.S.(Ind \nAdministration), Ph.D..",null,null,null,null,null,null,null,null,null,null,null,null,null,null,null,null,null,null,null,null,null,null,null,null,null,null,null,null,null,null,null,null,null,null,null,null,null,null,null,null,null,null,null,null,null,null,null,null,null,null,null,null,null,null,null,null,null,null,null,null,null,null,null,null,null,null,null,null,null,null,null,null,null,null,null,null,null,null,null,null,null,null,null,null,null,null,null,null,null,null,null,null,null,null,null,null,null,null,null,null,null,null,null,null,"Associate Professor of Sociology / Anthropology",null,null,null,null,null,null,"Visiting Professor of Economics","Visiting Professor of Economics"]
[3850,"Alexander","Bill E.","A.B., M.Ed.",null,null,null,null,null,null,null,null,null,null,null,null,null,null,null,null,null,null,null,null,null,null,null,null,null,null,null,null,null,null,null,null,null,null,null,null,null,null,null,null,null,null,null,null,null,null,null,null,null,null,null,null,null,null,null,null,null,null,null,null,null,null,null,null,null,null,null,null,null,null,null,null,null,null,null,null,null,null,null,null,null,null,null,null,"Assistant Coach of Basketball",null,null,"Assistant Coach of Basketball"]
[null,"Alexander","Casey","M.S.",null,null,null,null,null,null,null,null,null,null,null,null,null,null,null,null,null,null,null,null,null,null,null,null,null,null,null,null,null,null,null,null,null,null,null,null,null,null,null,null,null,null,null,null,null,null,null,null,null,null,null,null,null,null,null,null,null,null,null,null,null,null,null,null,null,null,null,null,null,null,null,null,null,null,null,null,null,null,null,null,null,null,null,null,null,null,null,null,null,null,null,null,null,null,null,null,null,null,null,null,null,null,null,null,null,null,null,null,null,null,null,null,null,null,null,"Head Men’s Basketball Coach"]
[653,"Alexander","Dorothy Jane","A.B., A.B. in L.S.",null,null,null,null,null,null,null,null,null,null,null,null,null,null,null,null,null,null,null,null,null,null,null,null,null,null,null,null,null,null,null,null,null,null,null,null,null,null,null,null,null,null,null,null,null,null,null,null,"Reference Librarian Cataloguer","Cataloger"]
[3942,"Alexander","George","Major USA, B.S., M.M.",null,null,null,null,null,null,null,null,null,null,null,null,null,null,null,null,null,null,null,null,null,null,null,null,null,null,null,null,null,null,null,null,null,null,null,null,null,null,null,null,null,null,null,null,null,null,null,null,null,null,null,null,null,null,null,null,null,null,null,null,null,null,null,null,null,null,null,null,null,null,null,null,null,null,null,null,null,null,null,null,null,null,null,null,null,null,null,null,"Assistant Professor of Military Science","Assistant Professor of Military Science","Assistant Professor of Military Science"]
[3646,"Alexander","Richard B.","A.B., M.A.",null,null,null,null,null,null,null,null,null,null,null,null,null,null,null,null,null,null,null,null,null,null,null,null,null,null,null,null,null,null,null,null,null,null,null,null,null,null,null,null,null,null,null,null,null,null,null,null,null,null,null,null,null,null,null,null,null,null,null,null,null,null,null,null,null,null,null,null,null,null,null,null,null,null,null,null,"Assistant Professor of Modern Languages"]
[4453,"Alfonzo","Jesus","M.M., D.M.A.",null,null,null,null,null,null,null,null,null,null,null,null,null,null,null,null,null,null,null,null,null,null,null,null,null,null,null,null,null,null,null,null,null,null,null,null,null,null,null,null,null,null,null,null,null,null,null,null,null,null,null,null,null,null,null,null,null,null,null,null,null,null,null,null,null,null,null,null,null,null,null,null,null,null,null,null,null,null,null,null,null,null,null,null,null,null,null,null,null,null,null,null,null,null,null,null,null,null,null,null,null,null,null,null,null,"Assistant Professor of Music","Assistant Professor of Music","Assistant Professor of Music","Assistant Professor of Music","Assistant Professor of Music","Assistant Professor of Music","Associate Professor of Music","Assistant Professor of Music","Associate Professor of Music","Associate Professor of Music","Associate Professor of Music","Associate Professor of Music","Associate Professor of Music"]
[4296,"Alford-Cooper","Finnegan","B.A., Ph.D.",null,null,null,null,null,null,null,null,null,null,null,null,null,null,null,null,null,null,null,null,null,null,null,null,null,null,null,null,null,null,null,null,null,null,null,null,null,null,null,null,null,null,null,null,null,null,null,null,null,null,null,null,null,null,null,null,null,null,null,null,null,null,null,null,null,null,null,null,null,null,null,null,null,null,null,null,null,null,null,null,null,null,null,null,null,null,null,null,null,null,null,null,null,null,null,null,null,null,null,null,null,null,"Associate Professor of Sociology / Anthropology","Associate Professor of Sociology / Anthropology","Associate Professor of Sociology / Anthropology / Chair","Associate Professor of Sociology / Anthropology / Chair","Associate Professor of Sociology / Anthropology / Chair","Associate Professor of Sociology / Anthropology / Chair","Associate Professor of Sociology / Anthropology / Chair","Associate Professor of Sociology / Anthropology","Associate Professor of Sociology / Anthropology","Associate Professor of Sociology / Anthropology","Associate Professor of Sociology / Anthropology","Associate Professor of Sociology / Anthropology","Associate Professor of Sociology, Emeritus","Associate Professor of Sociology, Emeritus","Associate Professor of Sociology, Emeritus","Associate Professor of Sociology, Emeritus"]
[2394,"Alger","E.H.",null,"Faculty"]
[null,"Al-Khatari","Saba","B.A",null,null,null,null,null,null,null,null,null,null,null,null,null,null,null,null,null,null,null,null,null,null,null,null,null,null,null,null,null,null,null,null,null,null,null,null,null,null,null,null,null,null,null,null,null,null,null,null,null,null,null,null,null,null,null,null,null,null,null,null,null,null,null,null,null,null,null,null,null,null,null,null,null,null,null,null,null,null,null,null,null,null,null,null,null,null,null,null,null,null,null,null,null,null,null,null,null,null,null,null,null,null,null,null,null,null,null,null,null,null,null,null,null,null,"Fulbright Language Teaching Assistant","Fulbright Language Teaching Assistant"]
[170,"Alldis","J. Frank",null,null,null,null,null,null,null,null,null,null,null,null,null,null,null,null,"Secretary to the President"]
[2842,"Allen","Abby Dyer","M.D., A.B.",null,null,null,null,null,null,null,null,null,null,null,null,null,null,null,null,null,null,null,null,null,null,null,null,null,null,null,null,null,null,null,null,null,"In Charge of DeLand Hall","In Charge of DeLand Hall","In Charge of DeLand Hall","Dean of Women / Instructor in French","Dean of Women / Instructor in French"]
[null,"Allen","Albert","B.S",null,null,null,null,null,null,null,null,null,null,null,null,null,null,null,null,null,null,null,null,null,null,null,null,null,null,null,null,null,null,null,null,null,null,null,null,null,null,null,null,null,null,null,null,null,null,null,null,null,null,null,null,null,null,null,null,null,null,null,null,null,null,null,null,null,null,null,null,null,null,null,null,null,null,null,null,null,null,null,null,null,null,null,null,null,null,null,null,null,null,null,null,null,null,null,null,null,null,null,null,null,null,null,null,null,null,null,null,null,null,null,null,null,null,"Associate Vice President Facilities Management","Associate Vice President Facilities Management","Associate Vice President Facilities Management"]
[3645,"Allen","Ann L.","A.B.",null,null,null,null,null,null,null,null,null,null,null,null,null,null,null,null,null,null,null,null,null,null,null,null,null,null,null,null,null,null,null,null,null,null,null,null,null,null,null,null,null,null,null,null,null,null,null,null,null,null,null,null,null,null,null,null,null,null,null,null,null,null,null,null,null,null,null,null,null,null,null,null,null,null,null,null,null,"Instructor in Mathematics","Instructor in Mathematics","Instructor in Mathematics"]
[3528,"Allen","Eliot D.","B.A., M.A., M.A., Ph.D.",null,null,null,null,null,null,null,null,null,null,null,null,null,null,null,null,null,null,null,null,null,null,null,null,null,null,null,null,null,null,null,null,null,null,null,null,null,null,null,null,null,null,null,null,null,null,null,null,null,null,null,null,null,null,null,null,null,null,null,null,null,null,null,null,null,null,null,null,null,null,null,null,"Associate Professor of English","Professor of English","Professor of English","Professor of English","Professor of English","Professor of English / Dean of Humanities & Liberal Arts","Professor of English","Professor of English / Dean of Humanities","Professor of English / Dean of Humanities","Professor of English (Leave of Absence)"]
[3128,"Allen","Ezra","A.B., M.A., Sc.D., Ph.D.",null,null,null,null,null,null,null,null,null,null,null,null,null,null,null,null,null,null,null,null,null,null,null,null,null,null,null,null,null,null,null,null,null,null,null,null,null,null,null,null,null,null,null,null,null,null,null,null,null,null,null,null,null,"Visiting Professor of Biology","Visiting Professor of Biology","Visiting Professor of Biology","Visiting Professor of Biology","Visiting Professor of Biology / Curator of Museum","Visiting Professor of Biology / Curator of Museum","Visiting Professor of Biology / Curator of Museum","Visiting Professor of Biology / Curator of Museum","Visiting Professor of Biology / Curator of Museum","Visiting Professor of Biology / Curator of Museum","Visiting Professor of Biology / Curator of Museum","Visiting Professor of Biology / Curator of Museum","Visiting Professor of Biology / Curator of Museum","Visiting Professor of Biology / Curator of Museum","Visiting Professor of Biology / Curator of Museum","Visiting Professor of Biology / Curator of Museum","Visiting Professor of Biology / Curator of Museum"]
[4059,"Allen","Jeffrey W.","B.S., B.A., M.B.A., Ph.D.",null,null,null,null,null,null,null,null,null,null,null,null,null,null,null,null,null,null,null,null,null,null,null,null,null,null,null,null,null,null,null,null,null,null,null,null,null,null,null,null,null,null,null,null,null,null,null,null,null,null,null,null,null,null,null,null,null,null,null,null,null,null,null,null,null,null,null,null,null,null,null,null,null,null,null,null,null,null,null,null,null,null,null,null,null,null,null,null,null,null,null,null,null,null,"Assistant Professor of Marketing","Assistant Professor of Marketing","Assistant Professor of Marketing"]
[4454,"Allen","Michael P.","B.A., J.D.",null,null,null,null,null,null,null,null,null,null,null,null,null,null,null,null,null,null,null,null,null,null,null,null,null,null,null,null,null,null,null,null,null,null,null,null,null,null,null,null,null,null,null,null,null,null,null,null,null,null,null,null,null,null,null,null,null,null,null,null,null,null,null,null,null,null,null,null,null,null,null,null,null,null,null,null,null,null,null,null,null,null,null,null,null,null,null,null,null,null,null,null,null,null,null,null,null,null,null,null,null,null,null,null,null,"Assistant Professor of Law","Assistant Professor of Law","Assistant Professor of Law","Associate Professor of Law","Associate Professor of Law","Associate Professor of Law","Professor of Law","Professor of Law","Professor of Law","Professor of Law","Professor of Law","Professor of Law / Associate Dean for Faculty \nDevelopment & Strategic Initiatives / Director, \nVeterans Law Institute","Professor of Law / Associate Dean for Academics \n/ Director, Veterans Law Institute"]
[329,"Allen","Philip Loring","Mrs., A.B., L.S.",null,null,null,null,null,null,null,null,null,null,null,null,null,null,null,null,null,null,null,null,null,null,null,null,null,"Librarian","Librarian"]
[567,"Allen","Robert Ivey","M.S.",null,null,null,null,null,null,null,null,null,null,null,null,null,null,null,null,null,null,null,null,null,null,null,null,null,null,null,null,null,null,null,null,null,null,null,null,null,null,null,"Professor of Electrical Engineering","Professor of Physics & Electrical Engineering","Professor of Physics & Electrical Engineering","Professor of Physics & Electrical Engineering","Professor of Engineering & Physics","Associate Professor of Engineering & Physics","Associate Professor of Engineering & Physics","Professor of Physics & Electrical Engineering","Professor of Physics & Electrical Engineering","Professor of Physics","Professor of Physics","Professor of Physics","Professor of Physics","Professor of Physics","Professor of Physics","Professor of Physics","Professor of Physics","Professor of Physics","Professor of Physics","Professor of Physics","Professor of Physics","Professor of Physics"]
[3592,"Allen","Thomas Eugene","B.A., M.A.",null,null,null,null,null,null,null,null,null,null,null,null,null,null,null,null,null,null,null,null,null,null,null,null,null,null,null,null,null,null,null,null,null,null,null,null,null,null,null,null,null,null,null,null,null,null,null,null,null,null,null,null,null,null,null,null,null,null,null,null,null,null,null,null,null,null,null,null,null,null,null,null,null,null,null,null,null,"Instructor in Political Science","Instructor in Political Science","Instructor in Political Science"]
[2997,"Allen","Thomas Robert","Jr.",null,null,null,null,null,null,null,null,null,null,null,null,null,null,null,null,null,null,null,null,null,null,null,null,null,null,null,null,null,null,null,null,null,null,null,null,null,null,null,null,null,null,"Assistant in Chemical Laboratory"]
[633,"Allen","William Sims","A.M., Ph.D., LL.D.",null,null,null,null,null,null,null,null,null,null,null,null,null,null,null,null,null,null,null,null,null,null,null,null,null,null,null,null,null,null,null,null,null,null,null,null,null,null,null,null,null,null,null,null,null,null,null,"President of the University","President of the University","President of the University","President of the University","President of the University","President of the University","President of the University","President of the University","President of the University","President of the University","President of the University","President of the University","President Emeritus of the University","President Emeritus of the University","President Emeritus of the University"]
[3418,"Alley","Granville Mason, Jr.","B.A., LL.B., LL.M.",null,null,null,null,null,null,null,null,null,null,null,null,null,null,null,null,null,null,null,null,null,null,null,null,null,null,null,null,null,null,null,null,null,null,null,null,null,null,null,null,null,null,null,null,null,null,null,null,null,null,null,null,null,null,null,null,null,null,null,null,null,null,null,null,null,null,null,"Lecturer in Law","Lecturer in Law","Lecturer in Law","Lecturer in Law","Lecturer in Law","Visiting Professor of Law","Visiting Professor of Law","Visiting Professor of Law","Visiting Professor of Law","Visiting Professor of Law","Visiting Professor of Law","Visiting Professor of Law","Visiting Professor of Law","Visiting Professor of Law","Visiting Professor of Law","Visiting Professor of Law","Adjunct Professor of Law"]
[3120,"Allinger","Helen","B.M., M.S.M.",null,null,null,null,null,null,null,null,null,null,null,null,null,null,null,null,null,null,null,null,null,null,null,null,null,null,null,null,null,null,null,null,null,null,null,null,null,null,null,null,null,null,null,null,null,null,null,null,null,null,null,null,"Instructor in Voice","Instructor in Voice",null,"Assistant Professor of Voice","Assistant Professor of Voice","Associate Professor of Voice / Head of the Department \nof Sacred Music","Professor of Organ / Head of the Department of \nSacred Music",null,"Professor of Organ","Professor of Organ","Professor of Organ"]
[4154,"Allison","Ron","B.A., M.A.",null,null,null,null,null,null,null,null,null,null,null,null,null,null,null,null,null,null,null,null,null,null,null,null,null,null,null,null,null,null,null,null,null,null,null,null,null,null,null,null,null,null,null,null,null,null,null,null,null,null,null,null,null,null,null,null,null,null,null,null,null,null,null,null,null,null,null,null,null,null,null,null,null,null,null,null,null,null,null,null,null,null,null,null,null,null,null,null,null,null,null,null,null,null,null,null,null,"Men's Cross Country Coach"]
[4023,"Allison","Thomas E.","B.S., M.B.A., J.D., LL.M.",null,null,null,null,null,null,null,null,null,null,null,null,null,null,null,null,null,null,null,null,null,null,null,null,null,null,null,null,null,null,null,null,null,null,null,null,null,null,null,null,null,null,null,null,null,null,null,null,null,null,null,null,null,null,null,null,null,null,null,null,null,null,null,null,null,null,null,null,null,null,null,null,null,null,null,null,null,null,null,null,null,null,null,null,null,null,null,null,null,null,null,null,"Assistant Professor of Law","Assistant Professor of Law","Assistant Professor of Law","Assistant Professor of Law","Assistant Professor of Law","Associate Professor of Law","Associate Professor of Law","Associate Professor of Law","Professor of Law","Professor of Law","Associate Dean / Professor of Law","Associate Dean / Professor of Law","Vice Dean / Professor of Law","Vice Dean / Professor of Law","Professor of Law","Professor of Law","Professor of Law","Professor of Law","Professor of Law","Professor of Law","Professor of Law","Professor of Law, Emeritus","Professor of Law, Emeritus","Professor of Law, Emeritus","Professor of Law, Emeritus","Professor of Law, Emeritus"]
[899,"Allison","William E.","B.S.",null,null,null,null,null,null,null,null,null,null,null,null,null,null,null,null,null,null,null,null,null,null,null,null,null,null,null,null,null,null,null,null,null,null,null,null,null,null,null,null,null,null,null,null,null,null,null,null,null,null,null,null,null,null,null,null,null,null,null,"Instructor in Business Administration"]
[3346,"Almand","Claude M.","A.B., B.M., M.M., Ph.D.",null,null,null,null,null,null,null,null,null,null,null,null,null,null,null,null,null,null,null,null,null,null,null,null,null,null,null,null,null,null,null,null,null,null,null,null,null,null,null,null,null,null,null,null,null,null,null,null,null,null,null,null,null,null,null,null,null,null,null,null,null,null,null,null,null,"Professor of Music / Dean of the School of Music","Professor of Music / Dean of the School of Music","Dean of the School of Music / Professor of Music","Dean of the School of Music / Professor of Music","Dean of the School of Music / Professor of Music"]
[3488,"Almand","Lenoir Patton","B.A.; Diploma, Juilliard School of Music",null,null,null,null,null,null,null,null,null,null,null,null,null,null,null,null,null,null,null,null,null,null,null,null,null,null,null,null,null,null,null,null,null,null,null,null,null,null,null,null,null,null,null,null,null,null,null,null,null,null,null,null,null,null,null,null,null,null,null,null,null,null,null,null,null,null,null,null,null,null,"Assistant Professor of Spanish","Assistant Professor of Piano","Assistant Professor of Piano","Assistant Professor of Piano","Assistant Professor of Piano","Assistant Professor of Piano","Assistant Professor of Piano","Assistant Professor of Piano","Assistant Professor of Piano","Assistant Professor of Piano","Assistant Professor of Piano","Assistant Professor of Piano","Assistant Professor of Piano","Associate Professor of Piano"]
[3872,"Alpert","Jonathan L.","B.A., J.D., LL.M.",null,null,null,null,null,null,null,null,null,null,null,null,null,null,null,null,null,null,null,null,null,null,null,null,null,null,null,null,null,null,null,null,null,null,null,null,null,null,null,null,null,null,null,null,null,null,null,null,null,null,null,null,null,null,null,null,null,null,null,null,null,null,null,null,null,null,null,null,null,null,null,null,null,null,null,null,null,null,null,null,null,null,null,null,null,"Associate Professor of Law","Associate Professor of Law","Associate Professor of Law","Associate Professor of Law"]
[3593,"Alssen","Nicholas E","M.A.",null,null,null,null,null,null,null,null,null,null,null,null,null,null,null,null,null,null,null,null,null,null,null,null,null,null,null,null,null,null,null,null,null,null,null,null,null,null,null,null,null,null,null,null,null,null,null,null,null,null,null,null,null,null,null,null,null,null,null,null,null,null,null,null,null,null,null,null,null,null,null,null,null,null,null,null,"Associate Professor of Modern Languages","Associate Professor of Modern Languages","Associate Professor of Modern Languages","Associate Professor of Modern Languages","Associate Professor of Foreign Languages","Associate Professor of Foreign Languages","Associate Professor of Foreign Languages",null,null,null,null,null,null,null,null,null,null,"Chair"]
[4084,"Altier","Jeff","B.A., M.Ed.",null,null,null,null,null,null,null,null,null,null,null,null,null,null,null,null,null,null,null,null,null,null,null,null,null,null,null,null,null,null,null,null,null,null,null,null,null,null,null,null,null,null,null,null,null,null,null,null,null,null,null,null,null,null,null,null,null,null,null,null,null,null,null,null,null,null,null,null,null,null,null,null,null,null,null,null,null,null,null,null,null,null,null,null,null,null,null,null,null,null,null,null,null,null,"Assistant Baseball Coach",null,null,"Director Athletic Promotion / Ticket Manager",null,null,null,null,null,null,null,null,null,null,null,null,null,null,null,null,"Director of Athletics","Director of Athletics","Director of Athletics","Director of Athletics"]
[4316,"Alvarez","Maria","B.A., M.A.",null,null,null,null,null,null,null,null,null,null,null,null,null,null,null,null,null,null,null,null,null,null,null,null,null,null,null,null,null,null,null,null,null,null,null,null,null,null,null,null,null,null,null,null,null,null,null,null,null,null,null,null,null,null,null,null,null,null,null,null,null,null,null,null,null,null,null,null,null,null,null,null,null,null,null,null,null,null,null,null,null,null,null,null,null,null,null,null,null,null,null,null,null,null,null,null,null,null,null,null,null,null,null,"Lecturer in Foreign Languages","Lecturer in Modern Languages & Literatures","Lecturer in Modern Languages & Literatures","Lecturer in Modern Languages & Literatures","Lecturer in Modern Languages & Literatures"]
[761,"Amidon","Betty Jane","B.S.",null,null,null,null,null,null,null,null,null,null,null,null,null,null,null,null,null,null,null,null,null,null,null,null,null,null,null,null,null,null,null,null,null,null,null,null,null,null,null,null,null,null,null,null,null,null,null,null,null,null,null,null,null,null,null,"Secretary to the Dean of the University","Secretary to the Dean of the University","Secretary to the Dean of the University (Resigned)"]
[4317,"Amiri","Shahram","B.S., M.S., Ed.D.",null,null,null,null,null,null,null,null,null,null,null,null,null,null,null,null,null,null,null,null,null,null,null,null,null,null,null,null,null,null,null,null,null,null,null,null,null,null,null,null,null,null,null,null,null,null,null,null,null,null,null,null,null,null,null,null,null,null,null,null,null,null,null,null,null,null,null,null,null,null,null,null,null,null,null,null,null,null,null,null,null,null,null,null,null,null,null,null,null,null,null,null,null,null,null,null,null,null,null,null,null,null,null,"Associate Professor of Computer Information Systems / \nVice President for Information Technology","Professor of Decision & Information Sciences / Vice \nPresident for Information Technology","Associate Professor of Decision & Information \nSciences / Vice President for Information Technology","Associate Professor of Decision & Information \nSciences / Vice President for Information Technology","Associate Professor of Decision & Information Sciences","Associate Professor of Decision & Information Sciences","Associate Professor of Decision & Information Sciences","Associate Professor of Decision & Information Sciences","Associate Professor of Decision & Information Sciences","Associate Professor of Decision & Information Sciences","Associate Professor of Decision & Information Sciences","Associate Professor of Information Systems","Associate Professor of Information Systems","Associate Professor / Chair of Information Systems","Associate Professor / Chair of Information Systems"]
[3471,"Anderson","Amos McIntyre","M.A, Ph.D",null,null,null,null,null,null,null,null,null,null,null,null,null,null,null,null,null,null,null,null,null,null,null,null,null,null,null,null,null,null,null,null,null,null,null,null,null,null,null,null,null,null,null,null,null,null,null,null,null,null,null,null,null,null,null,null,null,null,null,null,null,null,null,null,null,null,null,null,null,"Associate Professor in Education"]
[2740,"Anderson","Francis R.",null,null,null,null,null,null,null,null,null,null,null,null,null,null,null,null,null,null,null,null,null,null,null,null,null,null,null,"Assistant in Bursar's Office"]
[3529,"Anderson","Gerald F.","B.A., M.S., Ph.D",null,null,null,null,null,null,null,null,null,null,null,null,null,null,null,null,null,null,null,null,null,null,null,null,null,null,null,null,null,null,null,null,null,null,null,null,null,null,null,null,null,null,null,null,null,null,null,null,null,null,null,null,null,null,null,null,null,null,null,null,null,null,null,null,null,null,null,null,null,null,null,null,"Assistant Professor of Modern Languages","Assistant Professor of Modern Languages","Assistant Professor of Modern Languages","Assistant Professor of Modern Languages","Associate Professor of Modern Languages",null,"Professor of Modern Languages","Professor of Modern Languages","Professor of Foreign Languages","Professor of Foreign Languages","Professor of Foreign Languages","Professor of Foreign Languages","Professor of Foreign Languages / Chair","Professor of Foreign Languages","Professor of Foreign Languages","Professor of Foreign Languages","Professor of Foreign Languages","Professor of Foreign Languages","Professor of Foreign Languages","Professor of Foreign Languages","Professor of Foreign Languages"]
[3668,"Anderson","Janet C.","B.A.",null,null,null,null,null,null,null,null,null,null,null,null,null,null,null,null,null,null,null,null,null,null,null,null,null,null,null,null,null,null,null,null,null,null,null,null,null,null,null,null,null,null,null,null,null,null,null,null,null,null,null,null,null,null,null,null,null,null,null,null,null,null,null,null,null,null,null,null,null,null,null,null,null,null,null,null,null,null,null,"Instructor in Foreign Languages","Instructor in Foreign Languages","Instructor in Foreign Languages","Instructor in Foreign Languages","Instructor in Foreign Languages","Instructor in Foreign Languages","Instructor in Foreign Languages","Instructor in Foreign Languages","Instructor in Foreign Languages","Instructor in Foreign Languages","Instructor in Foreign Languages","Instructor in Foreign Languages","Instructor in Foreign Languages","Instructor in Foreign Languages","Instructor in Foreign Languages","Instructor in Foreign Languages","Instructor in Foreign Languages","Instructor in Foreign Languages","Instructor in Foreign Languages","Instructor in Foreign Languages, Emeritus","Instructor in Foreign Languages, Emeritus","Instructor in Foreign Languages, Emeritus","Instructor in Foreign Languages, Emeritus","Instructor in Foreign Languages, Emeritus","Instructor in Foreign Languages, Emeritus","Instructor in Foreign Languages, Emeritus","Instructor in Foreign Languages, Emeritus","Instructor in Foreign Languages, Emeritus","Instructor in Foreign Languages, Emeritus","Instructor in Foreign Languages, Emeritus","Instructor in Foreign Languages, Emeritus"]
[4703,"Anderson","Jeannie",null,null,null,null,null,null,null,null,null,null,null,null,null,null,null,null,null,null,null,null,null,null,null,null,null,null,null,null,null,null,null,null,null,null,null,null,null,null,null,null,null,null,null,null,null,null,null,null,null,null,null,null,null,null,null,null,null,null,null,null,null,null,null,null,null,null,null,null,null,null,null,null,null,null,null,null,null,null,null,null,null,null,null,null,null,null,null,null,null,null,null,null,null,null,null,null,null,null,null,null,null,null,null,null,null,null,null,null,null,null,null,null,null,null,"Cheerleading Coach","Cheerleading Coach"]
[4609,"Anderson","Jerry L.","B.S., J.D.",null,null,null,null,null,null,null,null,null,null,null,null,null,null,null,null,null,null,null,null,null,null,null,null,null,null,null,null,null,null,null,null,null,null,null,null,null,null,null,null,null,null,null,null,null,null,null,null,null,null,null,null,null,null,null,null,null,null,null,null,null,null,null,null,null,null,null,null,null,null,null,null,null,null,null,null,null,null,null,null,null,null,null,null,null,null,null,null,null,null,null,null,null,null,null,null,null,null,null,null,null,null,null,null,null,null,null,null,null,null,null,"Visiting Professor of Law","Visiting Professor of Law","Visiting Professor of Law"]
[4590,"Anderson","Linda","A.B., J.D.",null,null,null,null,null,null,null,null,null,null,null,null,null,null,null,null,null,null,null,null,null,null,null,null,null,null,null,null,null,null,null,null,null,null,null,null,null,null,null,null,null,null,null,null,null,null,null,null,null,null,null,null,null,null,null,null,null,null,null,null,null,null,null,null,null,null,null,null,null,null,null,null,null,null,null,null,null,null,null,null,null,null,null,null,null,null,null,null,null,null,null,null,null,null,null,null,null,null,null,null,null,null,null,null,null,null,null,null,null,null,"Visiting Assistant Professor of Legal Skills","Assistant Professor of Legal Skills","Assistant Professor of Legal Skills","Assistant Professor of Legal Skills","Associate Professor of Legal Skills / Associate Director \nof Legal Research & Writing","Professor of Legal Skills / Associate Director of \nLegal Research & Writing","Professor of Legal Skills / Associate Director of \nLegal Research & Writing","Professor of Legal Skills"]
[769,"Anderson","Mary Ellen",null,null,null,null,null,null,null,null,null,null,null,null,null,null,null,null,null,null,null,null,null,null,null,null,null,null,null,null,null,null,null,null,null,null,null,null,null,null,null,null,null,null,null,null,null,null,null,null,null,null,null,null,null,null,null,null,null,"Hostess in Conrad Hall"]
[2718,"Anderson","R.H.",null,null,null,null,null,null,null,null,null,null,null,null,null,null,null,null,null,null,null,null,null,null,null,null,null,"Assistant in Bursar's Office","Assistant in Bursar's Office"]
[3594,"Anderson","Richard L.","Major, USA, B.S.",null,null,null,null,null,null,null,null,null,null,null,null,null,null,null,null,null,null,null,null,null,null,null,null,null,null,null,null,null,null,null,null,null,null,null,null,null,null,null,null,null,null,null,null,null,null,null,null,null,null,null,null,null,null,null,null,null,null,null,null,null,null,null,null,null,null,null,null,null,null,null,null,null,null,null,null,"Associate Professor in Military Science"]
[null,"Anderson","Susan","B.S.",null,null,null,null,null,null,null,null,null,null,null,null,null,null,null,null,null,null,null,null,null,null,null,null,null,null,null,null,null,null,null,null,null,null,null,null,null,null,null,null,null,null,null,null,null,null,null,null,null,null,null,null,null,null,null,null,null,null,null,null,null,null,null,null,null,null,null,null,null,null,null,null,null,null,null,null,null,null,null,null,null,null,null,null,null,null,null,null,null,null,null,null,null,null,null,null,null,null,null,null,null,null,null,null,null,null,null,null,null,null,null,null,null,null,"Associate Vice President for University Relations"]
[4435,"Anderson","Valerie",null,null,null,null,null,null,null,null,null,null,null,null,null,null,null,null,null,null,null,null,null,null,null,null,null,null,null,null,null,null,null,null,null,null,null,null,null,null,null,null,null,null,null,null,null,null,null,null,null,null,null,null,null,null,null,null,null,null,null,null,null,null,null,null,null,null,null,null,null,null,null,null,null,null,null,null,null,null,null,null,null,null,null,null,null,null,null,null,null,null,null,null,null,null,null,null,null,null,null,null,null,null,null,null,null,"Head Cheerleading Coach"]
[3595,"Anderson","William H.","B.S., M.A., Ph.D",null,null,null,null,null,null,null,null,null,null,null,null,null,null,null,null,null,null,null,null,null,null,null,null,null,null,null,null,null,null,null,null,null,null,null,null,null,null,null,null,null,null,null,null,null,null,null,null,null,null,null,null,null,null,null,null,null,null,null,null,null,null,null,null,null,null,null,null,null,null,null,null,null,null,null,null,"Professor of Business Administration & Economics","Professor of Business Administration & Economics","Professor of Business Administration & Economics",null,"Professor of Business Administration & Economics","Professor of Business Administration & Economics","Professor of Business Administration & Economics","Professor of Business Administration & Economics","Professor of Business Administration & Economics","Professor of Business Administration & Economics"]
[3567,"Andrews","Charles H.","B.A, Ph.D",null,null,null,null,null,null,null,null,null,null,null,null,null,null,null,null,null,null,null,null,null,null,null,null,null,null,null,null,null,null,null,null,null,null,null,null,null,null,null,null,null,null,null,null,null,null,null,null,null,null,null,null,null,null,null,null,null,null,null,null,null,null,null,null,null,null,null,null,null,null,null,null,null,null,"Assistant Professor of Economics","Assistant Professor of Economics","Assistant Professor of Economics","Assistant Professor of Economics","Assistant Professor of Economics","Assistant Professor of Economics","Assistant Professor of Economics","Assistant Professor of Economics","Associate Professor of Economics"]
[4207,"Andrews","William A.","B.B.A., M.I.M., Ph.D.",null,null,null,null,null,null,null,null,null,null,null,null,null,null,null,null,null,null,null,null,null,null,null,null,null,null,null,null,null,null,null,null,null,null,null,null,null,null,null,null,null,null,null,null,null,null,null,null,null,null,null,null,null,null,null,null,null,null,null,null,null,null,null,null,null,null,null,null,null,null,null,null,null,null,null,null,null,null,null,null,null,null,null,null,null,null,null,null,null,null,null,null,null,null,null,null,null,null,null,"Assistant Professor of Management","Assistant Professor of Music / Director of Prince \nEntrepreneurial Management Program","Assistant Professor of Music / Director of Prince \nEntrepreneurial Management Program","Assistant Professor of Music / Director of Prince \nEntrepreneurial Management Program","Assistant Professor of Management","Associate Professor of Management","Associate Professor of Management","Associate Professor of Management","Associate Professor of Management","Associate Professor of Management","Associate Professor of Management","Associate Professor of Management","Associate Professor of Management","Associate Professor of Management","Associate Professor of Management","Associate Professor of Management","Associate Professor of Management & International \nBusiness / Chair","Associate Professor / Chair of International Business","Associate Professor / Chair of International Business"]
[958,"Angell","John William","A.B., Th.M., Th.D., S.T.M.",null,null,null,null,null,null,null,null,null,null,null,null,null,null,null,null,null,null,null,null,null,null,null,null,null,null,null,null,null,null,null,null,null,null,null,null,null,null,null,null,null,null,null,null,null,null,null,null,null,null,null,null,null,null,null,null,null,null,null,null,null,null,null,"Assistant Professor of Religion","Assistant Professor of Religion","Assistant Professor of Religion","Associate Professor of Religion","Associate Professor of Religion"]
[4489,"Anglim","Jennifer M.","B.A., J.D.",null,null,null,null,null,null,null,null,null,null,null,null,null,null,null,null,null,null,null,null,null,null,null,null,null,null,null,null,null,null,null,null,null,null,null,null,null,null,null,null,null,null,null,null,null,null,null,null,null,null,null,null,null,null,null,null,null,null,null,null,null,null,null,null,null,null,null,null,null,null,null,null,null,null,null,null,null,null,null,null,null,null,null,null,null,null,null,null,null,null,null,null,null,null,null,null,null,null,null,null,null,null,null,null,null,null,"Instructor of Legal Research & Writing","Instructor of Legal Research & Writing"]
[3489,"Apgar","Harry E.","Lt Col, USA LLB, B.A,",null,null,null,null,null,null,null,null,null,null,null,null,null,null,null,null,null,null,null,null,null,null,null,null,null,null,null,null,null,null,null,null,null,null,null,null,null,null,null,null,null,null,null,null,null,null,null,null,null,null,null,null,null,null,null,null,null,null,null,null,null,null,null,null,null,null,null,null,null,null,null,"Professor of Military Science & Tactics","Professor of Military Science & Tactics","Professor of Military Science & Tactics"]
[null,"Areheart","Bradley A.","B.A, J.D",null,null,null,null,null,null,null,null,null,null,null,null,null,null,null,null,null,null,null,null,null,null,null,null,null,null,null,null,null,null,null,null,null,null,null,null,null,null,null,null,null,null,null,null,null,null,null,null,null,null,null,null,null,null,null,null,null,null,null,null,null,null,null,null,null,null,null,null,null,null,null,null,null,null,null,null,null,null,null,null,null,null,null,null,null,null,null,null,null,null,null,null,null,null,null,null,null,null,null,null,null,null,null,null,null,null,null,null,null,null,null,null,null,null,"Bruce R. Jacob Fellow, College of Law","Bruce R. Jacob Visiting Assistant Professor, \nCollege of Law"]
[3063,"Arjona","Doris King","A.B., M.A., Ph.D., Litt.D.",null,null,null,null,null,null,null,null,null,null,null,null,null,null,null,null,null,null,null,null,null,null,null,null,null,null,null,null,null,null,null,null,null,null,null,null,null,null,null,null,null,null,null,null,null,null,null,null,null,"Professor of Spanish","Professor of Spanish","Professor of Spanish","Professor of Spanish","Professor of Spanish","Professor of Spanish","Professor of Spanish","Professor of Spanish (Leave of Absence)","Professor of Spanish (Leave of Absence)","Professor of Spanish","Professor of Spanish (Leave of Absence)","Professor of Spanish","Professor of Spanish","Professor of Spanish","Professor of Spanish","Professor of Spanish","Professor of Spanish","Professor of Spanish","Professor of Spanish","Professor of Spanish","Professor of Spanish",null,"Professor of Spanish"]
[3530,"Armour","Rollin S.","B.A., B.D., S.T.M., Th.D",null,null,null,null,null,null,null,null,null,null,null,null,null,null,null,null,null,null,null,null,null,null,null,null,null,null,null,null,null,null,null,null,null,null,null,null,null,null,null,null,null,null,null,null,null,null,null,null,null,null,null,null,null,null,null,null,null,null,null,null,null,null,null,null,null,null,null,null,null,null,null,null,"Assistant Professor of Religion","Assistant Professor of Religion","Assistant Professor of Religion","Assistant Professor of Religion","Associate Professor of Religion","Professor of Religion","Professor of Religion","Professor of Religion","Professor of Religion","Professor of Religion","Professor of Religion"]
[3973,"Armstrong","Ruth C.","B.A., M.A.",null,null,null,null,null,null,null,null,null,null,null,null,null,null,null,null,null,null,null,null,null,null,null,null,null,null,null,null,null,null,null,null,null,null,null,null,null,null,null,null,null,null,null,null,null,null,null,null,null,null,null,null,null,null,null,null,null,null,null,null,null,null,null,null,null,null,null,null,null,null,null,null,null,null,null,null,null,null,null,null,null,null,null,null,null,null,null,null,null,null,"Periodicals Librarian / Instructor","Periodicals Librarian / Instructor","Periodicals Librarian / Instructor","Periodicals Librarian / Instructor"]
[3974,"Armstrong","Suzanne R.","B.A., M.A., J.D.",null,null,null,null,null,null,null,null,null,null,null,null,null,null,null,null,null,null,null,null,null,null,null,null,null,null,null,null,null,null,null,null,null,null,null,null,null,null,null,null,null,null,null,null,null,null,null,null,null,null,null,null,null,null,null,null,null,null,null,null,null,null,null,null,null,null,null,null,null,null,null,null,null,null,null,null,null,null,null,null,null,null,null,null,null,null,null,null,null,null,"Assistant Professor of Law","Assistant Professor of Law","Assistant Professor of Law","Assistant Professor of Law","Associate Professor of Law","Associate Professor of Law","Professor of Law"]
[861,"Arnold","Earl Caspar","A.B., LL.B., LL. D.",null,null,null,null,null,null,null,null,null,null,null,null,null,null,null,null,null,null,null,null,null,null,null,null,null,null,null,null,null,null,null,null,null,null,null,null,null,null,null,null,null,null,null,null,null,null,null,null,null,null,null,null,null,null,null,null,null,null,"Visiting Professor of Law","Visiting Professor of Law","Visiting Professor of Law"]
[359,"Arnold","Lillian",null,null,null,null,null,null,null,null,null,null,null,null,null,null,null,null,null,null,null,null,null,null,null,null,null,null,null,null,"Assistant in Library",null,null,"Assistant in Library"]
[4448,"Arnold","Murray","B.A., M.A.",null,null,null,null,null,null,null,null,null,null,null,null,null,null,null,null,null,null,null,null,null,null,null,null,null,null,null,null,null,null,null,null,null,null,null,null,null,null,null,null,null,null,null,null,null,null,null,null,null,null,null,null,null,null,null,null,null,null,null,null,null,null,null,null,null,null,null,null,null,null,null,null,null,null,null,null,null,null,null,null,null,null,null,null,null,null,null,null,null,null,null,null,null,null,null,null,null,null,null,null,null,null,null,"Head Men's Basketball Coach"]
[3703,"Arnold","Ruth Cobb","B.A., M.S., Ed.D.",null,null,null,null,null,null,null,null,null,null,null,null,null,null,null,null,null,null,null,null,null,null,null,null,null,null,null,null,null,null,null,null,null,null,null,null,null,null,null,null,null,null,null,null,null,null,null,null,null,null,null,null,null,null,null,null,null,null,null,null,null,null,null,null,null,null,null,null,null,null,null,null,null,null,null,null,null,null,null,null,"Assistant Professor of Education","Assistant Professor of Education","Assistant Professor of Education","Assistant Professor of Education","Associate Professor of Education","Associate Professor of Education","Associate Professor of Education","Professor of Education","Professor of Education","Professor of Education","Professor of Education","Professor of Education","Professor of Education","Professor of Education","Professor of Education","Professor of Education","Professor of Education","Professor of Education","Professor of Education / Senior Active Status","Professor of Education, Emeritus","Professor of Education, Emeritus","Professor of Education, Emeritus","Professor of Education, Emeritus","Professor of Education, Emeritus","Professor of Education, Emeritus","Professor of Education, Emeritus","Professor of Education, Emeritus","Professor of Education, Emeritus","Professor of Education, Emeritus","Professor of Education, Emeritus","Professor of Education, Emeritus","Professor of Education, Emeritus","Professor of Education, Emeritus","Professor of Education, Emeritus","Professor of Education, Emeritus"]
[3223,"Arnold","Susan Vaughan","B.S., M.A.",null,null,null,null,null,null,null,null,null,null,null,null,null,null,null,null,null,null,null,null,null,null,null,null,null,null,null,null,null,null,null,null,null,null,null,null,null,null,null,null,null,null,null,null,null,null,null,null,null,null,null,null,null,null,null,null,null,null,"Associate Professor of English","Associate Professor of English","Associate Professor of English"]
[3328,"Arthur","William R.","A.B., LL.B.",null,null,null,null,null,null,null,null,null,null,null,null,null,null,null,null,null,null,null,null,null,null,null,null,null,null,null,null,null,null,null,null,null,null,null,null,null,null,null,null,null,null,null,null,null,null,null,null,null,null,null,null,null,null,null,null,null,null,null,null,null,"Visiting Professor of Law"]
[3329,"Ashcraft","Emmett S.","B.S., M.A.",null,null,null,null,null,null,null,null,null,null,null,null,null,null,null,null,null,null,null,null,null,null,null,null,null,null,null,null,null,null,null,null,null,null,null,null,null,null,null,null,null,null,null,null,null,null,null,null,null,null,null,null,null,null,null,null,null,null,null,null,null,"Assistant Professor of Mathematics","Assistant Professor of Mathematics","Associate Professor of Mathematics","Associate Professor of Mathematics","Associate Professor of Mathematics","Associate Professor of Mathematics","Associate Professor of Mathematics","Associate Professor of Mathematics","Associate Professor of Mathematics","Associate Professor of Mathematics","Associate Professor of Mathematics","Associate Professor of Mathematics",null,"Professor of Mathematics","Professor of Mathematics","Professor of Mathematics","Professor of Mathematics","Professor of Mathematics","Professor of Mathematics","Professor of Mathematics","Professor of Mathematics","Professor of Mathematics","Professor of Mathematics"]
[183,"Ashley","Frances H.",null,null,null,null,null,null,null,null,null,null,null,null,null,null,null,null,null,"Assistant in English"]
[4208,"Athey","Stephanie","B.A., Ph.D.",null,null,null,null,null,null,null,null,null,null,null,null,null,null,null,null,null,null,null,null,null,null,null,null,null,null,null,null,null,null,null,null,null,null,null,null,null,null,null,null,null,null,null,null,null,null,null,null,null,null,null,null,null,null,null,null,null,null,null,null,null,null,null,null,null,null,null,null,null,null,null,null,null,null,null,null,null,null,null,null,null,null,null,null,null,null,null,null,null,null,null,null,null,null,null,null,null,null,null,"Assistant Professor of English","Assistant Professor of English","Assistant Professor of English","Assistant Professor of English"]
[4047,"Augustine","Fred K., Jr.","B.A., M.B.A., Ph.D.",null,null,null,null,null,null,null,null,null,null,null,null,null,null,null,null,null,null,null,null,null,null,null,null,null,null,null,null,null,null,null,null,null,null,null,null,null,null,null,null,null,null,null,null,null,null,null,null,null,null,null,null,null,null,null,null,null,null,null,null,null,null,null,null,null,null,null,null,null,null,null,null,null,null,null,null,null,null,null,null,null,null,null,null,null,null,null,null,null,null,null,null,null,"Assistant Professor of Management Information Systems","Assistant Professor of Management Information Systems","Assistant Professor of Management Information Systems","Assistant Professor of Management Information Systems","Assistant Professor of Management Information Systems","Assistant Professor of Management Information Systems","Associate Professor of Information Systems","Associate Professor of Information Systems",null,"Associate Professor of Information Systems","Associate Professor of Decision & Information \nSciences (Spring Sabbatical)","Associate Professor of Decision & Information Sciences","Associate Professor of Decision & Information Sciences","Professor of Decision & Information Sciences","Professor of Decision & Information Sciences","Professor of Decision & Information Sciences","Professor of Decision & Information Sciences / Chair","Professor of Decision & Information Sciences / Chair","Professor of Decision & Information Sciences / Chair","Professor of Decision & Information Sciences / Chair","Professor of Decision & Information Sciences / Chair","Professor of Decision & Information Sciences / Director \nof Business Graduate Programs","Professor of Decision & Information Sciences / Director \nof Business Graduate Programs","Professor of Decision & Information Sciences / \nDirector of Business Graduate Programs","Professor of Decision & Information Sciences / \nDirector of Business Graduate Programs"]
[3839,"Aulick","Charles M.","B.S., M.S.",null,null,null,null,null,null,null,null,null,null,null,null,null,null,null,null,null,null,null,null,null,null,null,null,null,null,null,null,null,null,null,null,null,null,null,null,null,null,null,null,null,null,null,null,null,null,null,null,null,null,null,null,null,null,null,null,null,null,null,null,null,null,null,null,null,null,null,null,null,null,null,null,null,null,null,null,null,null,null,null,null,null,null,null,"Instructor in Mathematics"]
[3186,"Autrey","Elizabeth","B.S., M.S.",null,null,null,null,null,null,null,null,null,null,null,null,null,null,null,null,null,null,null,null,null,null,null,null,null,null,null,null,null,null,null,null,null,null,null,null,null,null,null,null,null,null,null,null,null,null,null,null,null,null,null,null,null,null,null,null,null,"Assistant Professor of Health & Physical Education \nFor Women","Assistant Professor of Health & Physical Education \nFor Women","Assistant Professor of Health & Physical Education \nFor Women","Assistant Professor of Physical Education","Assistant Professor of Physical Education","Assistant Professor of Physical Education","Assistant Professor of Physical Education","Associate Professor of Physical Education","Associate Professor of Physical Education","Associate Professor of Physical Education","Assistant Professor of Physical Education","Assistant Professor of Physical Education","Assistant Professor of Physical Education","Professor of Physical Education","Assistant Professor of Physical Education","Professor of Physical Education","Professor of Physical Education","Professor of Physical Education"]
[3350,"Avery","Albert M., Jr.","Captain, USA; B.S.C.",null,null,null,null,null,null,null,null,null,null,null,null,null,null,null,null,null,null,null,null,null,null,null,null,null,null,null,null,null,null,null,null,null,null,null,null,null,null,null,null,null,null,null,null,null,null,null,null,null,null,null,null,null,null,null,null,null,null,null,null,null,null,null,null,null,"Assistant Professor of Military Science & Tactics","Assistant Professor of Military Science & Tactics","Assistant Professor of Military Science & Tactics","Assistant Professor of Military Science & Tactics"]
[4251,"Avery","Michael L.","B.A., M.S.M.",null,null,null,null,null,null,null,null,null,null,null,null,null,null,null,null,null,null,null,null,null,null,null,null,null,null,null,null,null,null,null,null,null,null,null,null,null,null,null,null,null,null,null,null,null,null,null,null,null,null,null,null,null,null,null,null,null,null,null,null,null,null,null,null,null,null,null,null,null,null,null,null,null,null,null,null,null,null,null,null,null,null,null,null,null,null,null,null,null,null,null,null,null,null,null,null,null,null,null,null,"Visiting Instructor in Management / Director of Small \nBusiness Development Center"]
[3440,"Avery","Norma M.","MA",null,null,null,null,null,null,null,null,null,null,null,null,null,null,null,null,null,null,null,null,null,null,null,null,null,null,null,null,null,null,null,null,null,null,null,null,null,null,null,null,null,null,null,null,null,null,null,null,null,null,null,null,null,null,null,null,null,null,null,null,null,null,null,null,null,null,null,null,"Visiting Instructor of History & Political Science","Visiting Instructor of History & Political Science"]
[664,"Axtell","Mary","A.M.",null,null,null,null,null,null,null,null,null,null,null,null,null,null,null,null,null,null,null,null,null,null,null,null,null,null,null,null,null,null,null,null,null,null,null,null,null,null,null,null,null,null,null,null,null,null,null,null,null,"Assistant Director of Publicity / Instructor in Journalism","Assistant Director of Publicity / Instructor in Journalism"]
[2643,"Bacon","Roy Bayard","Litt.B., A.B.",null,null,null,null,null,null,null,null,null,null,null,null,null,null,null,null,null,null,null,null,"Instructor in English"]
[3045,"Baer","Willis Nissley","Ph.D.",null,null,null,null,null,null,null,null,null,null,null,null,null,null,null,null,null,null,null,null,null,null,null,null,null,null,null,null,null,null,null,null,null,null,null,null,null,null,null,null,null,null,null,null,null,null,null,null,"Assistant Professor of Business Administration & Economics","Assistant Professor of Economics","Professor of Economics","Professor of Economics","Professor of Economics","Professor of Economics"]
[2426,"Baerecke","J.F.","Ph. D., M.D.",null,null,null,null,null,null,null,"Professor of Biology & Physiology","Professor of Biology & Physiology","Professor of Biology & Physiology","Professor of Biology & Physiology","Professor of Biology & Physiology","Professor of Biology & Physiology","Professor of Biology & Physiology","University Physician / Professor of Biology & Physiology","University Physician / Professor of Biology & Physiology","University Physician / Professor of Biology & Physiology","University Physician / Professor of Biology & Physiology","University Physician / Professor of Biology & Physiology","University Physician / Professor of Biology & Physiology","University Physician / Professor of Biology & Physiology","University Physician / Professor of Biology & Physiology","University Physician / Professor of Biology & Physiology","Professor of Biology & Physiology","Professor of Biology & Physiology","University Physician / Professor of Biology & Physiology","University Physician / Professor of Biology & Physiology","University Physician / Professor of Biology & Physiology","Professor of Biology & Physiology","Professor of Biology & Physiology","Professor of Biology & Physiology","Professor of Biology & Physiology","Professor of Biology & Physiology"]
[2442,"Baerecke","Vida Z.","Mrs., M.D.",null,null,null,null,null,null,null,null,null,"Women's Physician","Women's Physician","Acting Professor of Biology & Physiology & \nWomen's Physician","Assistant in German & Women's Physician","Women's Physician","Women's Physician","Women's Physician","Women's Physician","Women's Physician","Women's Physician","Women's Physician","Women's Physician","Women's Physician","Women's Physician","Women's Physician","Women's Physician","Women's Physician"]
[null,"Baggett","Bill R.","M.A., Ed.D",null,null,null,null,null,null,null,null,null,null,null,null,null,null,null,null,null,null,null,null,null,null,null,null,null,null,null,null,null,null,null,null,null,null,null,null,null,null,null,null,null,null,null,null,null,null,null,null,null,null,null,null,null,null,null,null,null,null,null,null,null,null,null,null,null,null,null,null,null,null,null,null,null,null,null,null,null,"Dean of Men"]
[555,"Bailey","Cecil C.",null,null,null,null,null,null,null,null,null,null,null,null,null,null,null,null,null,null,null,null,null,null,null,null,null,null,null,null,null,null,null,null,null,null,null,null,null,null,null,"Assistant in Commercial English","Assistant in Commercial Mathematics / Assistant \nin Law Library"]
[3056,"Bailey","Mary Axtell","A.M.",null,null,null,null,null,null,null,null,null,null,null,null,null,null,null,null,null,null,null,null,null,null,null,null,null,null,null,null,null,null,null,null,null,null,null,null,null,null,null,null,null,null,null,null,null,null,null,null,null,null,null,"Assistant Director of Publicity / Instructor in Journalism","Instructor in Journalism","Instructor in Journalism","Instructor in Journalism (Leave of Absence)","Instructor in Journalism (Leave of Absence)","Instructor in Journalism (Leave of Absence)"]
[3568,"Bailey","T. Wayne","B.A., M.A., Ph.D",null,null,null,null,null,null,null,null,null,null,null,null,null,null,null,null,null,null,null,null,null,null,null,null,null,null,null,null,null,null,null,null,null,null,null,null,null,null,null,null,null,null,null,null,null,null,null,null,null,null,null,null,null,null,null,null,null,null,null,null,null,null,null,null,null,null,null,null,null,null,null,null,null,null,"Assistant Professor of Political Science","Assistant Professor of Political Science","Assistant Professor of Political Science","Associate Professor of Political Science","Associate Professor of Political Science","Associate Professor of Political Science","Associate Professor of Political Science","Associate Professor of Political Science","Professor of Political Science","Professor of Political Science / Chair","Professor of Political Science / Chair","Professor of Political Science / Chair","Professor of Political Science / Chair","Professor of Political Science / Chair","Professor of Political Science / Chair","Professor of Political Science / Chair","Professor of Political Science / Chair","Professor of Political Science / Chair","Professor of Political Science / Chair","Professor of Political Science / Chair","Professor of Political Science / Chair","Professor of Political Science / Chair","Professor of Political Science / Chair / Edmunds Chair","Professor of Political Science / Chair / Edmunds Chair","Professor of Political Science / Chair","Professor of Political Science / Chair","Professor of Political Science","Professor of Political Science","Professor of Political Science","Professor of Political Science","Professor of Political Science","Professor of Political Science","Professor of Political Science","Professor of Political Science","Professor of Political Science","Professor of Political Science","Professor of Political Science","Professor of Political Science","Professor of Political Science","Professor of Political Science","Professor of Political Science","Professor of Political Science","Professor of Political Science","Professor of Political Science"]
[683,"Bailey","William Horace","A.B., M.M.",null,null,null,null,null,null,null,null,null,null,null,null,null,null,null,null,null,null,null,null,null,null,null,null,null,null,null,null,null,null,null,null,null,null,null,null,null,null,null,null,null,null,null,null,null,null,null,null,null,"Professor of Violin & Theory","Professor of Violin & Theory","Professor of Violin & Theory","Professor of Violin & Theory","Professor of Violin & Theory","Professor of Violin & Theory (Leave of Absence)","Professor of Violin & Theory (Leave of Absence)","Professor of Violin & Theory (Leave of Absence)","Professor of Violin & Theory (Resigned)"]
[null,"Bakamitsos","Georgios","B.S., Ph.D.",null,null,null,null,null,null,null,null,null,null,null,null,null,null,null,null,null,null,null,null,null,null,null,null,null,null,null,null,null,null,null,null,null,null,null,null,null,null,null,null,null,null,null,null,null,null,null,null,null,null,null,null,null,null,null,null,null,null,null,null,null,null,null,null,null,null,null,null,null,null,null,null,null,null,null,null,null,null,null,null,null,null,null,null,null,null,null,null,null,null,null,null,null,null,null,null,null,null,null,null,null,null,null,null,null,null,null,null,null,null,null,null,null,null,null,null,"Associate Professor of Marketing / Associate Dean \nof Graduate Business Programs","Associate Professor of Marketing / Associate Dean \nof Graduate Business Programs"]
[3269,"Baker","Erin T.",null,null,null,null,null,null,null,null,null,null,null,null,null,null,null,null,null,null,null,null,null,null,null,null,null,null,null,null,null,null,null,null,null,null,null,null,null,null,null,null,null,null,null,null,null,null,null,null,null,null,null,null,null,null,null,null,null,null,null,null,"Hostess at the Air Base"]
[2685,"Baker","Eva Alma","Mus.B.",null,null,null,null,null,null,null,null,null,null,null,null,null,null,null,null,null,null,null,null,null,null,"Assistant in Organ","Assistant in Organ","Assistant in Organ","Assistant in Organ","Assistant in Organ","Assistant in Organ","Instructor in Pipe Organ","Instructor in Pipe Organ","Instructor in Pipe Organ","Instructor in Pipe Organ","Instructor in Pipe Organ","Instructor in Pipe Organ"]
[3212,"Baker","Florence M.",null,null,null,null,null,null,null,null,null,null,null,null,null,null,null,null,null,null,null,null,null,null,null,null,null,null,null,null,null,null,null,null,null,null,null,null,null,null,null,null,null,null,null,null,null,null,null,null,null,null,null,null,null,null,null,null,null,null,null,"Hostess in Palms Hall"]
[2655,"Baker","Jessie J.",null,null,null,null,null,null,null,null,null,null,null,null,null,null,null,null,null,null,null,null,null,"Assistant in Pianoforte"]
[3704,"Baker","Joseph D.","B.A., M.S.",null,null,null,null,null,null,null,null,null,null,null,null,null,null,null,null,null,null,null,null,null,null,null,null,null,null,null,null,null,null,null,null,null,null,null,null,null,null,null,null,null,null,null,null,null,null,null,null,null,null,null,null,null,null,null,null,null,null,null,null,null,null,null,null,null,null,null,null,null,null,null,null,null,null,null,null,null,null,null,null,"Instructor / Government Documents Librarian","Instructor / Government Documents Librarian"]
[3817,"Balderose","George","B.A., M.A.",null,null,null,null,null,null,null,null,null,null,null,null,null,null,null,null,null,null,null,null,null,null,null,null,null,null,null,null,null,null,null,null,null,null,null,null,null,null,null,null,null,null,null,null,null,null,null,null,null,null,null,null,null,null,null,null,null,null,null,null,null,null,null,null,null,null,null,null,null,null,null,null,null,null,null,null,null,null,null,null,null,null,null,"Assistant Professor of Political Science"]
[98,"Baldwin","Edwin G.","A.M.",null,null,null,null,null,null,null,null,null,null,null,null,null,"Instructor in German & Latin","Director of Athletics / Instructor in German & Latin","Director of Athletics / Instructor in German","Director of Athletics / Professor of Latin","Director of Athletics / Professor of Latin","Director of Athletics / Professor of Latin","Director of Athletics / Professor of Latin","Director of Athletics / Professor of Latin","Director of Athletics / Professor of Latin","Director of Athletics / Professor of Latin","Director of Athletics / Professor of Latin","Director of Athletics / Professor of Latin","Professor of Latin","Professor of Latin","Professor of Latin","Professor of Latin","Professor of Latin"]
[3351,"Baldwin","Mary Eugenia","B.M., M.M.",null,null,null,null,null,null,null,null,null,null,null,null,null,null,null,null,null,null,null,null,null,null,null,null,null,null,null,null,null,null,null,null,null,null,null,null,null,null,null,null,null,null,null,null,null,null,null,null,null,null,null,null,null,null,null,null,null,null,null,null,null,null,null,null,null,"Assistant Professor of Voice","Assistant Professor of Voice","Assistant Professor of Voice"]
[540,"Ball","William","B.A., M.A., Ph.D.",null,null,null,null,null,null,null,null,null,null,null,null,null,null,null,null,null,null,null,null,null,null,null,null,null,null,null,null,null,null,null,null,null,null,null,null,null,null,null,null,null,null,null,null,null,null,null,null,null,null,null,null,null,null,null,null,null,null,null,null,null,null,null,null,null,null,null,null,null,null,null,null,null,null,null,null,null,null,null,null,null,null,null,null,null,null,null,null,null,null,null,null,null,null,null,null,null,null,null,null,null,null,null,null,null,null,null,null,null,null,null,null,null,null,"Visiting Associate Professor of Political Science","Visiting Associate Professor of Political Science","Visiting Associate Professor of Political Science","Visiting Associate Professor of Political Science"]
[4591,"Ballard","Captain Jonathan","B.A.",null,null,null,null,null,null,null,null,null,null,null,null,null,null,null,null,null,null,null,null,null,null,null,null,null,null,null,null,null,null,null,null,null,null,null,null,null,null,null,null,null,null,null,null,null,null,null,null,null,null,null,null,null,null,null,null,null,null,null,null,null,null,null,null,null,null,null,null,null,null,null,null,null,null,null,null,null,null,null,null,null,null,null,null,null,null,null,null,null,null,null,null,null,null,null,null,null,null,null,null,null,null,null,null,null,null,null,null,null,null,"Assistant Professor of Military Science"]
[2521,"Ballard","Myrtle Frances",null,null,null,null,null,null,null,null,null,null,null,null,null,null,null,"Assistant in Practice School"]
[4318,"Ballenger","Grady","A.B., M.A., Ph.D.",null,null,null,null,null,null,null,null,null,null,null,null,null,null,null,null,null,null,null,null,null,null,null,null,null,null,null,null,null,null,null,null,null,null,null,null,null,null,null,null,null,null,null,null,null,null,null,null,null,null,null,null,null,null,null,null,null,null,null,null,null,null,null,null,null,null,null,null,null,null,null,null,null,null,null,null,null,null,null,null,null,null,null,null,null,null,null,null,null,null,null,null,null,null,null,null,null,null,null,null,null,null,null,"Professor of English / Dean of the College of \nArts & Sciences","Professor of English / Dean of the College of \nArts & Sciences","Professor of English / Dean of the College of \nArts & Sciences","Professor of English / Dean of the College of \nArts & Sciences","Professor of English / Dean of the College of \nArts & Sciences","Professor of English / Dean of the College of \nArts & Sciences","Professor of English / Dean of the College of \nArts & Sciences","Professor of English / Dean of the College of \nArts & Sciences","Professor of English / Dean of the College of \nArts & Sciences","Professor of English / Dean of the College of \nArts & Sciences","Professor of English / Dean of the College of \nArts & Sciences","Professor of English / Dean of the College of \nArts & Sciences","Professor of English / Dean of the College of \nArts & Sciences","Professor of English","Professor of English"]
[905,"Ballenger","Kenneth L.","A.B., B.M., M.M.",null,null,null,null,null,null,null,null,null,null,null,null,null,null,null,null,null,null,null,null,null,null,null,null,null,null,null,null,null,null,null,null,null,null,null,null,null,null,null,null,null,null,null,null,null,null,null,null,null,null,null,null,null,null,null,null,null,null,null,null,"Associate Professor of Voice","Associate Professor of Voice","Associate Professor of Voice","Associate Professor of Voice","Associate Professor of Voice"]
[317,"Bangs","Sarah Elizabeth","A.B.",null,null,null,null,null,null,null,null,null,null,null,null,null,null,null,null,null,null,null,null,null,null,null,null,"Instructor in German","Instructor in German","Instructor in German","Instructor in German","Instructor in German","Instructor in German & French","Librarian",null,"Librarian"]
[null,"Bann","Erin","B.A, M.A., Ed.D.",null,null,null,null,null,null,null,null,null,null,null,null,null,null,null,null,null,null,null,null,null,null,null,null,null,null,null,null,null,null,null,null,null,null,null,null,null,null,null,null,null,null,null,null,null,null,null,null,null,null,null,null,null,null,null,null,null,null,null,null,null,null,null,null,null,null,null,null,null,null,null,null,null,null,null,null,null,null,null,null,null,null,null,null,null,null,null,null,null,null,null,null,null,null,null,null,null,null,null,null,null,null,null,null,null,null,null,null,null,null,null,null,null,null,"Visiting Assistant Professor of Integrative \nHealth Science","Visiting Assistant Professor of Integrative \nHealth Science"]
[4604,"Banse","Andrew","M.A.",null,null,null,null,null,null,null,null,null,null,null,null,null,null,null,null,null,null,null,null,null,null,null,null,null,null,null,null,null,null,null,null,null,null,null,null,null,null,null,null,null,null,null,null,null,null,null,null,null,null,null,null,null,null,null,null,null,null,null,null,null,null,null,null,null,null,null,null,null,null,null,null,null,null,null,null,null,null,null,null,null,null,null,null,null,null,null,null,null,null,null,null,null,null,null,null,null,null,null,null,null,null,null,null,null,null,null,null,null,null,"Assistant Athletics Director for Compliance"]
[null,"Banta","Natalie M.","B.S., J.D.",null,null,null,null,null,null,null,null,null,null,null,null,null,null,null,null,null,null,null,null,null,null,null,null,null,null,null,null,null,null,null,null,null,null,null,null,null,null,null,null,null,null,null,null,null,null,null,null,null,null,null,null,null,null,null,null,null,null,null,null,null,null,null,null,null,null,null,null,null,null,null,null,null,null,null,null,null,null,null,null,null,null,null,null,null,null,null,null,null,null,null,null,null,null,null,null,null,null,null,null,null,null,null,null,null,null,null,null,null,null,null,null,null,null,null,null,"Visiting Assistant Professor of Law","Visiting Assistant Professor of Law"]
[3420,"Barber","J. David","A.B., M.A.",null,null,null,null,null,null,null,null,null,null,null,null,null,null,null,null,null,null,null,null,null,null,null,null,null,null,null,null,null,null,null,null,null,null,null,null,null,null,null,null,null,null,null,null,null,null,null,null,null,null,null,null,null,null,null,null,null,null,null,null,null,null,null,null,null,null,null,"Assistant Professor of Political Science","Assistant Professor of Political Science"]
[4319,"Barber","Nancy","A.B., M.A., M.F.A.",null,null,null,null,null,null,null,null,null,null,null,null,null,null,null,null,null,null,null,null,null,null,null,null,null,null,null,null,null,null,null,null,null,null,null,null,null,null,null,null,null,null,null,null,null,null,null,null,null,null,null,null,null,null,null,null,null,null,null,null,null,null,null,null,null,null,null,null,null,null,null,null,null,null,null,null,null,null,null,null,null,null,null,null,null,null,null,null,null,null,null,null,null,null,null,null,null,null,null,null,null,null,null,"Visiting Instructor in English","Visiting Assistant Professor of English","Lecturer in English","Sullivan Lecturer in English","Sullivan Lecturer in English","Sullivan Lecturer in English","Sullivan Lecturer in English","Sullivan Lecturer in English","Sullivan Lecturer in English","Sullivan Lecturer in English","Sullivan Lecturer in English","Sullivan Visiting Lecturer in English","Sullivan Visiting Lecturer in English","Sullivan Visiting Lecturer in English","Sullivan Visiting Lecturer in English"]
[null,"Barbera","Francesco","B.A., M.A.",null,null,null,null,null,null,null,null,null,null,null,null,null,null,null,null,null,null,null,null,null,null,null,null,null,null,null,null,null,null,null,null,null,null,null,null,null,null,null,null,null,null,null,null,null,null,null,null,null,null,null,null,null,null,null,null,null,null,null,null,null,null,null,null,null,null,null,null,null,null,null,null,null,null,null,null,null,null,null,null,null,null,null,null,null,null,null,null,null,null,null,null,null,null,null,null,null,null,null,null,null,null,null,null,null,null,null,null,null,null,null,null,null,null,null,null,null,"Lecturer of Family Enterprise"]
[null,"Barclay","Raymond J.","B.A., M.Div., Ph.D.",null,null,null,null,null,null,null,null,null,null,null,null,null,null,null,null,null,null,null,null,null,null,null,null,null,null,null,null,null,null,null,null,null,null,null,null,null,null,null,null,null,null,null,null,null,null,null,null,null,null,null,null,null,null,null,null,null,null,null,null,null,null,null,null,null,null,null,null,null,null,null,null,null,null,null,null,null,null,null,null,null,null,null,null,null,null,null,null,null,null,null,null,null,null,null,null,null,null,null,null,null,null,null,null,null,null,null,null,null,null,null,null,null,null,null,null,"Director of Institutional Research"]
[3873,"Barkalow","Derek T.","B.S., M.S., Ph.D.",null,null,null,null,null,null,null,null,null,null,null,null,null,null,null,null,null,null,null,null,null,null,null,null,null,null,null,null,null,null,null,null,null,null,null,null,null,null,null,null,null,null,null,null,null,null,null,null,null,null,null,null,null,null,null,null,null,null,null,null,null,null,null,null,null,null,null,null,null,null,null,null,null,null,null,null,null,null,null,null,null,null,null,null,null,"Assistant Professor of Biology","Assistant Professor of Biology","Assistant Professor of Biology","Assistant Professor of Biology","Assistant Professor of Biology","Assistant Professor of Biology","Assistant Professor of Biology","Assistant Professor of Biology","Assistant Professor of Biology","Associate Professor of Biology","Associate Professor of Biology","Associate Professor of Biology","Associate Professor of Biology","Associate Professor of Biology / Chair",null,"Associate Professor of Biology / Chair","Associate Professor of Biology / Chair","Associate Professor of Biology / Chair","Associate Professor of Biology","Associate Professor of Biology","Associate Professor of Biology","Associate Professor of Biology","Associate Professor of Biology","Associate Professor of Biology","Associate Professor of Biology","Associate Professor of Biology","Associate Professor of Biology","Associate Professor of Biology","Associate Professor of Biology","Associate Professor of Biology","Associate Professor of Biology","Associate Professor of Biology","Associate Professor of Biology"]
[3647,"Barker","Philp Greeley","B.A.",null,null,null,null,null,null,null,null,null,null,null,null,null,null,null,null,null,null,null,null,null,null,null,null,null,null,null,null,null,null,null,null,null,null,null,null,null,null,null,null,null,null,null,null,null,null,null,null,null,null,null,null,null,null,null,null,null,null,null,null,null,null,null,null,null,null,null,null,null,null,null,null,null,null,null,null,null,"Instructor in Modern Languages","Instructor in Modern Languages"]
[4085,"Barnard","Katherine","B.A., M.Ed.",null,null,null,null,null,null,null,null,null,null,null,null,null,null,null,null,null,null,null,null,null,null,null,null,null,null,null,null,null,null,null,null,null,null,null,null,null,null,null,null,null,null,null,null,null,null,null,null,null,null,null,null,null,null,null,null,null,null,null,null,null,null,null,null,null,null,null,null,null,null,null,null,null,null,null,null,null,null,null,null,null,null,null,null,null,null,null,null,null,null,null,null,null,null,"Assistant Women's Basketball Coach",null,"Instructor in Physical Education","Director of Tennis","Director of Tennis","Director of Tennis","Director of Tennis","Director of Tennis"]
[3490,"Barnard","Paul","B.A., M.A., J.D.",null,null,null,null,null,null,null,null,null,null,null,null,null,null,null,null,null,null,null,null,null,null,null,null,null,null,null,null,null,null,null,null,null,null,null,null,null,null,null,null,null,null,null,null,null,null,null,null,null,null,null,null,null,null,null,null,null,null,null,null,null,null,null,null,null,null,null,null,null,null,"Assistant Professor of Law","Assistant Professor of Law","Associate Professor of Law","Associate Professor of Law","Professor of Law","Professor of Law","Professor of Law","Professor of Law","Professor of Law","Professor of Law","Professor of Law","Professor of Law","Professor of Law","Professor of Law"]
[4455,"Barnes","Michael C.","B.A., M.A., Ph.D.",null,null,null,null,null,null,null,null,null,null,null,null,null,null,null,null,null,null,null,null,null,null,null,null,null,null,null,null,null,null,null,null,null,null,null,null,null,null,null,null,null,null,null,null,null,null,null,null,null,null,null,null,null,null,null,null,null,null,null,null,null,null,null,null,null,null,null,null,null,null,null,null,null,null,null,null,null,null,null,null,null,null,null,null,null,null,null,null,null,null,null,null,null,null,null,null,null,null,null,null,null,null,null,null,null,"Assistant Professor of English","Assistant Professor of English","Assistant Professor of English","Assistant Professor of English","Assistant Professor of English","Assistant Professor of English","Associate Professor of English","Associate Professor of English","Associate Professor of English","Associate Professor of English","Associate Professor of English","Associate Professor of English","Associate Professor of English"]
[3669,"Barnett","Das Kelly","B.A., M.A., Th.M., Th.D.",null,null,null,null,null,null,null,null,null,null,null,null,null,null,null,null,null,null,null,null,null,null,null,null,null,null,null,null,null,null,null,null,null,null,null,null,null,null,null,null,null,null,null,null,null,null,null,null,null,null,null,null,null,null,null,null,null,null,null,null,null,null,null,null,null,null,null,null,null,null,null,null,null,null,null,null,null,null,"Associate Professor of Sociology","Associate Professor of Sociology",null,"Associate Professor of Sociology"]
[773,"Barnett","Elmer",null,null,null,null,null,null,null,null,null,null,null,null,null,null,null,null,null,null,null,null,null,null,null,null,null,null,null,null,null,null,null,null,null,null,null,null,null,null,null,null,null,null,null,null,null,null,null,null,null,null,null,null,null,null,null,null,null,"Superintendent of Buildings & Grounds","Superintendent of Buildings & Grounds","Superintendent of Buildings & Grounds","Superintendent of Buildings & Grounds"]
[3112,"Barnett","M. Robert","A.B.",null,null,null,null,null,null,null,null,null,null,null,null,null,null,null,null,null,null,null,null,null,null,null,null,null,null,null,null,null,null,null,null,null,null,null,null,null,null,null,null,null,null,null,null,null,null,null,null,null,null,null,null,"Director of Publicity","Director of Publicity","Director of Publicity"]
[4060,"Barnett","Stephen T.","A.B., M.B.A., Ph.D.",null,null,null,null,null,null,null,null,null,null,null,null,null,null,null,null,null,null,null,null,null,null,null,null,null,null,null,null,null,null,null,null,null,null,null,null,null,null,null,null,null,null,null,null,null,null,null,null,null,null,null,null,null,null,null,null,null,null,null,null,null,null,null,null,null,null,null,null,null,null,null,null,null,null,null,null,null,null,null,null,null,null,null,null,null,null,null,null,null,null,null,null,null,null,"Associate Professor of Marketing","Associate Professor of Marketing","Associate Professor of Marketing","Associate Professor of Marketing","Associate Professor of Marketing","Associate Professor of Marketing","Associate Professor of Marketing (Spring Sabbatical)","Associate Professor of Marketing / Acting Chair","Associate Professor of Marketing / Chair","Associate Professor of Marketing / Chair","Professor of Marketing / McNamara Chair of Marketing","Professor of Marketing / McNamara Chair of Marketing","Professor of Marketing / McNamara Chair of Marketing","Professor of Marketing / Director of Summer \nInnsbruck Program","Professor of Marketing / Chair / McNam Senior Chair \nMarketing / Director of Innsbruck Program","Professor of Marketing / Chair / McNam Senior Chair \nMarketing / Director of Innsbruck Program","Professor of Marketing / Chair / McNamara Senior \nChair of Marketing","Professor of Marketing, Emeritus","Professor of Marketing, Emeritus","Professor of Marketing, Emeritus","Professor of Marketing, Emeritus","Professor of Marketing, Emeritus","Professor of Marketing, Emeritus","Professor of Marketing, Emeritus"]
[3217,"Barnette","Henlee Hulix","A.B., Th.M., Th.D.",null,null,null,null,null,null,null,null,null,null,null,null,null,null,null,null,null,null,null,null,null,null,null,null,null,null,null,null,null,null,null,null,null,null,null,null,null,null,null,null,null,null,null,null,null,null,null,null,null,null,null,null,null,null,null,null,null,null,"Professor of Sociology","Professor of Sociology","Professor of Religion","Professor of Religion & Sociology","Professor of Religion & Sociology"]
[390,"Barrell","Edward Park","A.B., A.M.",null,null,null,null,null,null,null,null,null,null,null,null,null,null,null,null,null,null,null,null,null,null,null,null,null,null,null,null,null,null,"Professor of Chemistry","Professor of Chemistry","Professor of Chemistry","Professor of Chemistry","Professor of Chemistry","Professor of Chemistry","Professor of Chemistry","Professor of Chemistry","Professor of Chemistry","Professor of Chemistry","Professor of Chemistry","Professor of Chemistry"]
[2422,"Barrett","Anne L.","B.S.",null,null,null,null,null,null,null,"Lady Principal / German Language & Literature"]
[3421,"Barthel","John E.","Ph.D.",null,null,null,null,null,null,null,null,null,null,null,null,null,null,null,null,null,null,null,null,null,null,null,null,null,null,null,null,null,null,null,null,null,null,null,null,null,null,null,null,null,null,null,null,null,null,null,null,null,null,null,null,null,null,null,null,null,null,null,null,null,null,null,null,null,null,null,"Assistant Professor of Economics","Assistant Professor of Economics","Assistant Professor of Economics","Assistant Professor of Economics","Assistant Professor of Economics","Assistant Professor of Economics","Assistant Professor of Economics","Assistant Professor of Economics","Assistant Professor of Economics","Associate Professor of Economics"]
[2769,"Bashlin","Alzora M.","Mrs.",null,null,null,null,null,null,null,null,null,null,null,null,null,null,null,null,null,null,null,null,null,null,null,null,null,null,null,null,null,"Instructor in China Painting",null,null,null,"Instructor in Art / In charge of Chaudoin Hall","Dean of Women / Instructor in Fine Arts","Dean of Women"]
[2763,"Baskin","Hamden H.",null,null,null,null,null,null,null,null,null,null,null,null,null,null,null,null,null,null,null,null,null,null,null,null,null,null,null,null,null,"Assistant in Law Library"]
[4449,"Bataille","James","B.S., M.S.",null,null,null,null,null,null,null,null,null,null,null,null,null,null,null,null,null,null,null,null,null,null,null,null,null,null,null,null,null,null,null,null,null,null,null,null,null,null,null,null,null,null,null,null,null,null,null,null,null,null,null,null,null,null,null,null,null,null,null,null,null,null,null,null,null,null,null,null,null,null,null,null,null,null,null,null,null,null,null,null,null,null,null,null,null,null,null,null,null,null,null,null,null,null,null,null,null,null,null,null,null,null,null,"Assistant Sports Information Director"]
[4527,"Bataille","Vanessa","B.S.",null,null,null,null,null,null,null,null,null,null,null,null,null,null,null,null,null,null,null,null,null,null,null,null,null,null,null,null,null,null,null,null,null,null,null,null,null,null,null,null,null,null,null,null,null,null,null,null,null,null,null,null,null,null,null,null,null,null,null,null,null,null,null,null,null,null,null,null,null,null,null,null,null,null,null,null,null,null,null,null,null,null,null,null,null,null,null,null,null,null,null,null,null,null,null,null,null,null,null,null,null,null,null,null,null,null,null,"Assistant Softball Coach","Assistant Softball Coach","Assistant Softball Coach","Assistant Softball Coach","Associate Head Softball Coach","Associate Head Softball Coach","Associate Head Softball Coach","Associate Head Softball Coach","Associate Head Softball Coach"]
[396,"Bates","Anthony W.","LL.B., B.S.",null,null,null,null,null,null,null,null,null,null,null,null,null,null,null,null,null,null,null,null,null,null,null,null,null,null,null,null,null,null,"Instructor in Commercial Law","University Chimer",null,null,null,null,"Assistant in Business College","Instructor in Law / In charge of Stetson Hall"]
[397,"Bates","Anthony W.","Mrs.",null,null,null,null,null,null,null,null,null,null,null,null,null,null,null,null,null,null,null,null,null,null,null,null,null,null,null,null,null,null,null,null,null,null,null,null,null,"In Charge of Stetson Hall"]
[2745,"Bates","Carrie Helen","B.Mus.",null,null,null,null,null,null,null,null,null,null,null,null,null,null,null,null,null,null,null,null,null,null,null,null,null,null,null,"Instructor in Voice"]
[2760,"Bates","Mona",null,null,null,null,null,null,null,null,null,null,null,null,null,null,null,null,null,null,null,null,null,null,null,null,null,null,null,null,null,"Assistant in Library"]
[3069,"Bateson","Howard Lamoureux","A.B., M.A., Ph.D.",null,null,null,null,null,null,null,null,null,null,null,null,null,null,null,null,null,null,null,null,null,null,null,null,null,null,null,null,null,null,null,null,null,null,null,null,null,null,null,null,null,null,null,null,null,null,null,null,null,"Instructor in French","Assistant Professor of French","Assistant Professor of French","Assistant Professor of French (Leave of Absence)","Assistant Professor of French (Leave of Absence)","Assistant Professor of French (Leave of Absence)","Assistant Professor of French (Leave of Absence)","Assistant Professor of French (Leave of Absence)","Professor of Modern Languages / Head of the \nDepartment of Religion","Professor of Modern Languages / Head of the \nDepartment of Modern Languages","Professor of Modern Languages / Head of the \nDepartment of Modern Languages","Professor of Modern Languages","Professor of Modern Languages","Professor of Modern Languages","Professor of Modern Languages","Professor of Modern Languages"]
[3865,"Batey","Robert","B.A., J.D., L.L.M.",null,null,null,null,null,null,null,null,null,null,null,null,null,null,null,null,null,null,null,null,null,null,null,null,null,null,null,null,null,null,null,null,null,null,null,null,null,null,null,null,null,null,null,null,null,null,null,null,null,null,null,null,null,null,null,null,null,null,null,null,null,null,null,null,null,null,null,null,null,null,null,null,null,null,null,null,null,null,null,null,null,null,null,null,"Assistant Professor of Law","Associate Professor of Law","Associate Professor of Law","Associate Professor of Law","Professor of Law","Professor of Law","Associate Dean / Professor of Law","Associate Dean / Professor of Law (Summer Sabbatical)","Associate Dean / Professor of Law","Associate Dean / Professor of Law","Associate Dean / Professor of Law","Associate Dean / Professor of Law","Associate Dean / Professor of Law","Associate Dean / Professor of Law","Associate Dean / Professor of Law","Associate Dean / Professor of Law","Professor of Law","Professor of Law","Professor of Law","Professor of Law","Professor of Law","Professor of Law","Professor of Law","Professor of Law","Professor of Law","Professor of Law","Professor of Law","Professor of Law","Professor of Law","Professor of Law","Professor of Law","Professor of Law","Professor of Law, Emeritus","Professor of Law, Emeritus"]
[666,"Batson","Helen Louise","B.S.",null,null,null,null,null,null,null,null,null,null,null,null,null,null,null,null,null,null,null,null,null,null,null,null,null,null,null,null,null,null,null,null,null,null,null,null,null,null,null,null,null,null,null,null,null,null,null,null,null,"Dietitian","Dietitian","Dietitian","Dietitian"]
[null,"Batt","Cynthia","B.S., B.Ed., M.Ed., J.D.",null,null,null,null,null,null,null,null,null,null,null,null,null,null,null,null,null,null,null,null,null,null,null,null,null,null,null,null,null,null,null,null,null,null,null,null,null,null,null,null,null,null,null,null,null,null,null,null,null,null,null,null,null,null,null,null,null,null,null,null,null,null,null,null,null,null,null,null,null,null,null,null,null,null,null,null,null,null,null,null,null,null,null,null,null,null,null,null,null,null,null,null,null,null,null,null,null,null,null,null,null,null,null,null,null,null,null,null,null,null,null,null,null,null,null,"Associate Professor of Law / Director of \nClinical Education","Associate Professor of Law / Director of \nClinical Education","Associate Professor of Law & Director of Clinical \nEducation / Associate Director, Veterans Law Institute"]
[2585,"Bauder","Arthur R.","B.S., A.M.",null,null,null,null,null,null,null,null,null,null,null,null,null,null,null,null,null,"Dean of the School of Technology / Professor of \nMechanical & Electrical Engineering & Physics","Dean of the School of Technology / Professor of \nMechanical & Electrical Engineering & Physics"]
[4531,"Bauer","Mark D.","B.A., J.D.",null,null,null,null,null,null,null,null,null,null,null,null,null,null,null,null,null,null,null,null,null,null,null,null,null,null,null,null,null,null,null,null,null,null,null,null,null,null,null,null,null,null,null,null,null,null,null,null,null,null,null,null,null,null,null,null,null,null,null,null,null,null,null,null,null,null,null,null,null,null,null,null,null,null,null,null,null,null,null,null,null,null,null,null,null,null,null,null,null,null,null,null,null,null,null,null,null,null,null,null,null,null,null,null,null,null,null,null,"Assistant Professor of Law","Assistant Professor of Law","Assistant Professor of Law","Associate Professor of Law","Associate Professor of Law","Associate Professor of Law / Associate Dean of Academics","Professor of Law","Professor of Law","Professor of Law","Professor of Law"]
[2731,"Bauer","Ralph Stanley","A.B., A.M., J.D.",null,null,null,null,null,null,null,null,null,null,null,null,null,null,null,null,null,null,null,null,null,null,null,null,null,null,"Professor of Law","Professor of Law","Professor of Law","Professor of Law"]
[3705,"Baugh","Ronald L","B.S., M.S.",null,null,null,null,null,null,null,null,null,null,null,null,null,null,null,null,null,null,null,null,null,null,null,null,null,null,null,null,null,null,null,null,null,null,null,null,null,null,null,null,null,null,null,null,null,null,null,null,null,null,null,null,null,null,null,null,null,null,null,null,null,null,null,null,null,null,null,null,null,null,null,null,null,null,null,null,null,null,null,null,"Instructor in Speech & Theatre","Instructor in Speech & Theatre","Instructor in Speech & Theatre","Assistant Professor of Speech & Theatre","Assistant Professor of Speech & Theatre","Assistant Professor of Speech & Theatre"]
[null,"Bauman","Joel","B.A., M.A.",null,null,null,null,null,null,null,null,null,null,null,null,null,null,null,null,null,null,null,null,null,null,null,null,null,null,null,null,null,null,null,null,null,null,null,null,null,null,null,null,null,null,null,null,null,null,null,null,null,null,null,null,null,null,null,null,null,null,null,null,null,null,null,null,null,null,null,null,null,null,null,null,null,null,null,null,null,null,null,null,null,null,null,null,null,null,null,null,null,null,null,null,null,null,null,null,null,null,null,null,null,null,null,null,null,null,null,null,null,null,null,null,null,null,null,"Vice President for Enrollment Management","Vice President for Enrollment Management","Vice President for Enrollment Management"]
[3856,"Baur","Edward G.","B.A., M.B.A.",null,null,null,null,null,null,null,null,null,null,null,null,null,null,null,null,null,null,null,null,null,null,null,null,null,null,null,null,null,null,null,null,null,null,null,null,null,null,null,null,null,null,null,null,null,null,null,null,null,null,null,null,null,null,null,null,null,null,null,null,null,null,null,null,null,null,null,null,null,null,null,null,null,null,null,null,null,null,null,null,null,null,null,null,"Assistant Professor of Business Administration"]
[2686,"Baxter","Phoebe E.",null,null,null,null,null,null,null,null,null,null,null,null,null,null,null,null,null,null,null,null,null,null,null,"Assistant in the School of Music"]
[3015,"Beach","Evelyn Fleetwood",null,null,null,null,null,null,null,null,null,null,null,null,null,null,null,null,null,null,null,null,null,null,null,null,null,null,null,null,null,null,null,null,null,null,null,null,null,null,null,null,null,null,null,null,null,null,"Instructor in Secretarial Work","Instructor in Secretarial Work","Instructor in Secretarial Work (Resigned)"]
[3183,"Beall","Noble Y.","A.M., D.D.",null,null,null,null,null,null,null,null,null,null,null,null,null,null,null,null,null,null,null,null,null,null,null,null,null,null,null,null,null,null,null,null,null,null,null,null,null,null,null,null,null,null,null,null,null,null,null,null,null,null,null,null,null,null,null,null,null,"Professor of Religion / Head of the Department of Religion","Professor of Religion / Head of the Department \nof Religion (Resigned)"]
[658,"Bean","Sue McEachern","B.S.",null,null,null,null,null,null,null,null,null,null,null,null,null,null,null,null,null,null,null,null,null,null,null,null,null,null,null,null,null,null,null,null,null,null,null,null,null,null,null,null,null,null,null,null,null,null,null,null,"Instructor in Education & Psychology"]
[840,"Bean","Allene Marie Skinner","A.B.",null,null,null,null,null,null,null,null,null,null,null,null,null,null,null,null,null,null,null,null,null,null,null,null,null,null,null,null,null,null,null,null,null,null,null,null,null,null,null,null,null,null,null,null,null,null,null,null,null,null,null,null,null,null,null,null,null,null,"Instructor in English","Instructor in English (Resigned)"]
[3830,"Bean","Sandra K.","B.A., M.A.",null,null,null,null,null,null,null,null,null,null,null,null,null,null,null,null,null,null,null,null,null,null,null,null,null,null,null,null,null,null,null,null,null,null,null,null,null,null,null,null,null,null,null,null,null,null,null,null,null,null,null,null,null,null,null,null,null,null,null,null,null,null,null,null,null,null,null,null,null,null,null,null,null,null,null,null,null,null,null,null,null,null,null,null,"Instructor in Physical Education"]
[3203,"Bean","William K.","Th. M.",null,null,null,null,null,null,null,null,null,null,null,null,null,null,null,null,null,null,null,null,null,null,null,null,null,null,null,null,null,null,null,null,null,null,null,null,null,null,null,null,null,null,null,null,null,null,null,null,null,null,null,null,null,null,null,null,null,null,"Director of Religious Activities","Director of Religious Activities"]
[4133,"Beane","Dorothea A.","B.A., J.D.",null,null,null,null,null,null,null,null,null,null,null,null,null,null,null,null,null,null,null,null,null,null,null,null,null,null,null,null,null,null,null,null,null,null,null,null,null,null,null,null,null,null,null,null,null,null,null,null,null,null,null,null,null,null,null,null,null,null,null,null,null,null,null,null,null,null,null,null,null,null,null,null,null,null,null,null,null,null,null,null,null,null,null,null,null,null,null,null,null,null,null,null,null,null,null,null,null,"[no job title listed]","[no job title listed]","[no job title listed]","Associate Professor of Law","Professor of Law","Professor of Law","Professor of Law","Professor of Law","Professor of Law","Professor of Law","Professor of Law","Professor of Law","Professor of Law","Professor of Law","Professor of Law / Co-Director of the Institute of \nCaribbean Law & Policy","Professor of Law / Co-Director of the Institute of \nCaribbean Law & Policy","Professor of Law / Co-Director of the Institute of \nCaribbean Law & Policy","Professor of Law","Professor of Law / Co-Director of Institute for \nCaribbean Law & Policy","Professor of Law / Co-Director of Institute for \nCaribbean Law & Policy","Professor of Law / Co-Director of Institute for \nCaribbean Law & Policy"]
[3961,"Bear","F. Thomas","B.B.A., M.B.A., Ph.D.",null,null,null,null,null,null,null,null,null,null,null,null,null,null,null,null,null,null,null,null,null,null,null,null,null,null,null,null,null,null,null,null,null,null,null,null,null,null,null,null,null,null,null,null,null,null,null,null,null,null,null,null,null,null,null,null,null,null,null,null,null,null,null,null,null,null,null,null,null,null,null,null,null,null,null,null,null,null,null,null,null,null,null,null,null,null,null,null,null,"Associate Professor of Business Administration","Associate Professor of Business Administration","Associate Professor of Finance","Associate Professor of Finance","Associate Professor of Finance","Associate Professor of Finance","Associate Professor of Finance","Associate Professor of Finance","Associate Professor of Finance","Associate Professor of Finance","Associate Professor of Finance","Associate Professor of Finance","Associate Professor of Finance","Associate Professor of Finance","Associate Professor of Finance","Associate Professor of Finance, Emeritus","Associate Professor of Finance, Emeritus","Associate Professor of Finance, Emeritus","Associate Professor of Finance, Emeritus","Associate Professor of Finance, Emeritus","Associate Professor of Finance, Emeritus","Associate Professor of Finance, Emeritus","Associate Professor of Finance, Emeritus","Associate Professor of Finance, Emeritus","Associate Professor of Finance, Emeritus","Associate Professor of Finance, Emeritus","Associate Professor of Finance, Emeritus","Associate Professor of Finance, Emeritus","Associate Professor of Finance, Emeritus"]
[157,"Beardsley","W. Eugene",null,null,null,null,null,null,null,null,null,null,null,null,null,null,null,null,"Assistant in History & the Practice School","Assistant in Greek & Political Science"]
[3789,"Beasley","Donald","B.A., M.A.",null,null,null,null,null,null,null,null,null,null,null,null,null,null,null,null,null,null,null,null,null,null,null,null,null,null,null,null,null,null,null,null,null,null,null,null,null,null,null,null,null,null,null,null,null,null,null,null,null,null,null,null,null,null,null,null,null,null,null,null,null,null,null,null,null,null,null,null,null,null,null,null,null,null,null,null,null,null,null,null,null,null,null,"Assistant Basketball Coach"]
[3785,"Beasley","James R.","B.A., M.A., M.A., Ph.D",null,null,null,null,null,null,null,null,null,null,null,null,null,null,null,null,null,null,null,null,null,null,null,null,null,null,null,null,null,null,null,null,null,null,null,null,null,null,null,null,null,null,null,null,null,null,null,null,null,null,null,null,null,null,null,null,null,null,null,null,null,null,null,null,null,null,null,null,null,null,null,null,null,null,null,null,null,null,null,null,null,null,null,"Assistant Professor of Religion","Assistant Professor of Religion","Assistant Professor of Religion","Assistant Professor of Religion","Associate Professor of Religion","Associate Professor of Religion (Fall Sabbatical)","Associate Professor of Religion","Associate Professor of Religion","Associate Professor of Religion","Associate Professor of Religion","Associate Professor of Religion","Associate Professor of Religion","Associate Professor of Religion","Associate Professor of Religion","Professor of Religion / Vice President / Dean Campus Life","Professor of Religion / Vice President / Dean Campus Life","Professor of Religion / Vice President / Dean Campus Life","Professor of Religion / Vice President / Dean Campus Life","Professor of Religious Studies / Vice President for \nCampus Life / Interim Dean of Enrollment Management","Professor of Religious Studies / Vice President \nfor Campus Life","Professor of Religious Studies / Vice President for \nCampus Life & Enrollment Management","Professor of Religious Studies / Vice President for \nAdministration / Chief Operating Officer","Professor of Religious Studies / Vice President for \nAdministration / Chief Operating Officer","Professor of Religious Studies / Vice President for \nAdministration / Chief Operating Officer","Professor of Religious Studies / Vice President for \nAdministration / Chief Operating Officer","Professor of Religious Studies / Vice President for \nAdministration / Chief Operating Officer","Professor of Religious Studies / Vice President for \nAdministration / Chief Operating Officer","Professor of Religious Studies / Vice President for \nAdministration / Chief Operating Officer","Professor of Religious Studies / Vice President for \nAdministration / Chief Operating Officer","Professor of Religious Studies / Vice President for \nAdministration / Chief Operating Officer","Professor of Religious Studies / Vice President for \nAdministration / Chief Operating Officer","Professor of Business Administration","Professor of Business Administration","Professor of Business Administration","Professor of Business Administration"]
[3996,"Beck","Andrew F.",null,null,null,null,null,null,null,null,null,null,null,null,null,null,null,null,null,null,null,null,null,null,null,null,null,null,null,null,null,null,null,null,null,null,null,null,null,null,null,null,null,null,null,null,null,null,null,null,null,null,null,null,null,null,null,null,null,null,null,null,null,null,null,null,null,null,null,null,null,null,null,null,null,null,null,null,null,null,null,null,null,null,null,null,null,null,null,null,null,null,null,null,"Instructor in Biology"]
[null,"Bedi","Monu S.","A.B., M.Phil, J.D.",null,null,null,null,null,null,null,null,null,null,null,null,null,null,null,null,null,null,null,null,null,null,null,null,null,null,null,null,null,null,null,null,null,null,null,null,null,null,null,null,null,null,null,null,null,null,null,null,null,null,null,null,null,null,null,null,null,null,null,null,null,null,null,null,null,null,null,null,null,null,null,null,null,null,null,null,null,null,null,null,null,null,null,null,null,null,null,null,null,null,null,null,null,null,null,null,null,null,null,null,null,null,null,null,null,null,null,null,null,null,null,null,null,null,"Professor of Business Administration","Bruce R. Jacobs Visiting Assistant Professor, \nCollege of Law"]
[2525,"Beelar","B.F.",null,null,null,null,null,null,null,null,null,null,null,null,null,null,null,"Assistant in Business College"]
[null,"Begalla","Joseph","B.S., M.S.",null,null,null,null,null,null,null,null,null,null,null,null,null,null,null,null,null,null,null,null,null,null,null,null,null,null,null,null,null,null,null,null,null,null,null,null,null,null,null,null,null,null,null,null,null,null,null,null,null,null,null,null,null,null,null,null,null,null,null,null,null,null,null,null,null,null,null,null,null,null,null,null,null,null,null,null,null,null,null,null,null,null,null,null,null,null,null,null,null,null,null,null,null,null,null,null,null,null,null,null,null,null,null,null,null,null,null,null,null,null,null,null,null,null,null,null,null,"Visiting Lecturer of Family Enterprise"]
[3352,"Beights","David M.","A.B., M.S., Ph.D., C.P.A",null,null,null,null,null,null,null,null,null,null,null,null,null,null,null,null,null,null,null,null,null,null,null,null,null,null,null,null,null,null,null,null,null,null,null,null,null,null,null,null,null,null,null,null,null,null,null,null,null,null,null,null,null,null,null,null,null,null,null,null,null,null,null,null,null,"Professor of Accounting","Professor of Accounting","Professor of Accounting","Professor of Accounting","Professor of Accounting",null,"Professor of Accounting","Professor of Accounting","Professor of Accounting","Professor of Accounting","Professor of Accounting","Professor of Accounting",null,null,"Visiting Professor of Accounting"]
[3353,"Beiler","Theodore W.","B.S., M.A., Ph.D.",null,null,null,null,null,null,null,null,null,null,null,null,null,null,null,null,null,null,null,null,null,null,null,null,null,null,null,null,null,null,null,null,null,null,null,null,null,null,null,null,null,null,null,null,null,null,null,null,null,null,null,null,null,null,null,null,null,null,null,null,null,null,null,null,null,"Assistant Professor of Chemistry","Assistant Professor of Chemistry","Assistant Professor of Chemistry","Associate Professor of Chemistry","Associate Professor of Chemistry","Associate Professor of Chemistry","Associate Professor of Chemistry","Associate Professor of Chemistry","Associate Professor of Chemistry (Leave of Absence)","Professor of Chemistry","Professor of Chemistry","Professor of Chemistry","Professor of Chemistry","Professor of Chemistry","Kenan Professor of Chemistry","Kenan Professor of Chemistry","Kenan Professor of Chemistry","Kenan Professor of Chemistry","Kenan Professor of Chemistry","Kenan Professor of Chemistry / Chair","Kenan Professor of Chemistry / Chair","Professor of Chemistry / Chair","Professor of Chemistry / Chair","Professor of Chemistry / Chair","Professor of Chemistry / Chair","Professor of Chemistry / Chair","Professor of Chemistry / Chair","Professor of Chemistry / Chair","Professor of Chemistry / Chair","Professor of Chemistry / Chair","Professor of Chemistry / Chair","Professor of Chemistry, Emeritus","Professor of Chemistry, Emeritus","Professor of Chemistry, Emeritus","Professor of Chemistry, Emeritus","Professor of Chemistry, Emeritus","Professor of Chemistry, Emeritus","Professor of Chemistry, Emeritus","Professor of Chemistry, Emeritus","Professor of Chemistry, Emeritus","Professor of Chemistry, Emeritus","Professor of Chemistry, Emeritus","Professor of Chemistry, Emeritus","Professor of Chemistry, Emeritus","Professor of Chemistry, Emeritus","Professor of Chemistry, Emeritus","Professor of Chemistry, Emeritus","Professor of Chemistry, Emeritus","Professor of Chemistry, Emeritus","Professor of Chemistry, Emeritus","Professor of Chemistry, Emeritus","Professor of Chemistry, Emeritus","Professor of Chemistry, Emeritus"]
[4134,"Belcher","Lawrence J.","B.A., M.S., Ph.D.",null,null,null,null,null,null,null,null,null,null,null,null,null,null,null,null,null,null,null,null,null,null,null,null,null,null,null,null,null,null,null,null,null,null,null,null,null,null,null,null,null,null,null,null,null,null,null,null,null,null,null,null,null,null,null,null,null,null,null,null,null,null,null,null,null,null,null,null,null,null,null,null,null,null,null,null,null,null,null,null,null,null,null,null,null,null,null,null,null,null,null,null,null,null,null,null,null,"Assistant Professor of Finance","Assistant Professor of Finance","Assistant Professor of Finance","Assistant Professor of Finance","Associate Professor of Finance","Associate Professor of Finance","Associate Professor of Finance","Associate Professor of Finance / Chair","Associate Professor of Finance / Chair","Associate Professor Finance / Chair / Director of \nRoland & Sarah George Investments Institute","Associate Professor Finance / Chair / Director of \nRoland & Sarah George Investments Institute","Professor Finance / Chair / Director of Roland & \nSarah George Investments Institute","Professor Finance / Chair / Director of Roland & \nSarah George Investments Institute","Professor of Finance / Chair / Director Roland & \nSarah George Investments Institute","Professor of Finance / Chair / Director Roland & Sarah \nGeorge Investments Institute","Professor of Finance / Chair / Director Roland & \nSarah George Investments Institute","Professor of Finance / Chair / Director Roland & Sarah \nGeorge Investments Institute","Professor of Finance"]
[null,"Bell","Christopher","B.A., M.A., Ph.D",null,null,null,null,null,null,null,null,null,null,null,null,null,null,null,null,null,null,null,null,null,null,null,null,null,null,null,null,null,null,null,null,null,null,null,null,null,null,null,null,null,null,null,null,null,null,null,null,null,null,null,null,null,null,null,null,null,null,null,null,null,null,null,null,null,null,null,null,null,null,null,null,null,null,null,null,null,null,null,null,null,null,null,null,null,null,null,null,null,null,null,null,null,null,null,null,null,null,null,null,null,null,null,null,null,null,null,null,null,null,null,null,null,null,null,null,"Assistant Professor of Religious Studies","Assistant Professor of Religious Studies"]
[4490,"Bell","Pamela Cole","B.A., J.D.",null,null,null,null,null,null,null,null,null,null,null,null,null,null,null,null,null,null,null,null,null,null,null,null,null,null,null,null,null,null,null,null,null,null,null,null,null,null,null,null,null,null,null,null,null,null,null,null,null,null,null,null,null,null,null,null,null,null,null,null,null,null,null,null,null,null,null,null,null,null,null,null,null,null,null,null,null,null,null,null,null,null,null,null,null,null,null,null,null,null,null,null,null,null,null,null,null,null,null,null,null,null,null,null,null,null,"Trial Advocacy Fellow","Trial Advocacy Fellow","Trial Advocacy Fellow"]
[939,"Bellows","Susie Magdalene","A.B., M.A.",null,null,null,null,null,null,null,null,null,null,null,null,null,null,null,null,null,null,null,null,null,null,null,null,null,null,null,null,null,null,null,null,null,null,null,null,null,null,null,null,null,null,null,null,null,null,null,null,null,null,null,null,null,null,null,null,null,null,null,null,null,"Associate Professor of Elementary Education","Associate Professor of Elementary Education","Associate Professor of Elementary Education"]
[4450,"Belvin","G. Chris","B.A.",null,null,null,null,null,null,null,null,null,null,null,null,null,null,null,null,null,null,null,null,null,null,null,null,null,null,null,null,null,null,null,null,null,null,null,null,null,null,null,null,null,null,null,null,null,null,null,null,null,null,null,null,null,null,null,null,null,null,null,null,null,null,null,null,null,null,null,null,null,null,null,null,null,null,null,null,null,null,null,null,null,null,null,null,null,null,null,null,null,null,null,null,null,null,null,null,null,null,null,null,null,null,null,"Sports Information Director"]
[4166,"Belyi","Andrei","Diploma, Moscow State University",null,null,null,null,null,null,null,null,null,null,null,null,null,null,null,null,null,null,null,null,null,null,null,null,null,null,null,null,null,null,null,null,null,null,null,null,null,null,null,null,null,null,null,null,null,null,null,null,null,null,null,null,null,null,null,null,null,null,null,null,null,null,null,null,null,null,null,null,null,null,null,null,null,null,null,null,null,null,null,null,null,null,null,null,null,null,null,null,null,null,null,null,null,null,null,null,null,null,"Visiting Instructor in Foreign Languages"]
[2853,"Bendrat","Thomas Albert","Ph.B., B.S., M.S.",null,null,null,null,null,null,null,null,null,null,null,null,null,null,null,null,null,null,null,null,null,null,null,null,null,null,null,null,null,null,null,null,null,null,"Professor of Biology & Physiology","Professor of Biology & Geology","Professor of Biology & Geology"]
[2833,"Benjamin","Myrtle",null,null,null,null,null,null,null,null,null,null,null,null,null,null,null,null,null,null,null,null,null,null,null,null,null,null,null,null,null,null,null,null,null,null,"Instructor in Voice"]
[3841,"Benjamin","Richard D.","Major USA, B.S., M.E., M.S.",null,null,null,null,null,null,null,null,null,null,null,null,null,null,null,null,null,null,null,null,null,null,null,null,null,null,null,null,null,null,null,null,null,null,null,null,null,null,null,null,null,null,null,null,null,null,null,null,null,null,null,null,null,null,null,null,null,null,null,null,null,null,null,null,null,null,null,null,null,null,null,null,null,null,null,null,null,null,null,null,null,null,null,null,"Associate Professor of Military Science"]
[3354,"Bennett","Barbara","A.B., M.A., Ph.D.",null,null,null,null,null,null,null,null,null,null,null,null,null,null,null,null,null,null,null,null,null,null,null,null,null,null,null,null,null,null,null,null,null,null,null,null,null,null,null,null,null,null,null,null,null,null,null,null,null,null,null,null,null,null,null,null,null,null,null,null,null,null,null,null,null,"Assistant Professor of English","Assistant Professor of English","Assistant Professor of English"]
[3577,"Bennett","Walter W.","B.S., M.B.A., Ph.D.",null,null,null,null,null,null,null,null,null,null,null,null,null,null,null,null,null,null,null,null,null,null,null,null,null,null,null,null,null,null,null,null,null,null,null,null,null,null,null,null,null,null,null,null,null,null,null,null,null,null,null,null,null,null,null,null,null,null,null,null,null,null,null,null,null,null,null,null,null,null,null,null,null,null,null,"Assistant Professor of Business Administration","Assistant Professor of Business Administration"]
[4297,"Bennington","Cynthia","B.S., M.S., Ph.D.",null,null,null,null,null,null,null,null,null,null,null,null,null,null,null,null,null,null,null,null,null,null,null,null,null,null,null,null,null,null,null,null,null,null,null,null,null,null,null,null,null,null,null,null,null,null,null,null,null,null,null,null,null,null,null,null,null,null,null,null,null,null,null,null,null,null,null,null,null,null,null,null,null,null,null,null,null,null,null,null,null,null,null,null,null,null,null,null,null,null,null,null,null,null,null,null,null,null,null,null,null,null,"Assistant Professor of Biology","Assistant Professor of Biology","Assistant Professor of Biology","Assistant Professor of Biology","Associate Professor of Biology","Associate Professor of Biology","Associate Professor of Biology","Associate Professor of Biology","Associate Professor of Biology / Chair","Associate Professor of Biology / Chair","Associate Professor of Biology / Chair","Associate Professor of Biology / Chair","Associate Professor of Biology / Chair","Associate Professor of Biology / Chair","Professor of Biology","Professor of Biology"]
[null,"Bent","Jason R.","B.A., J.D.",null,null,null,null,null,null,null,null,null,null,null,null,null,null,null,null,null,null,null,null,null,null,null,null,null,null,null,null,null,null,null,null,null,null,null,null,null,null,null,null,null,null,null,null,null,null,null,null,null,null,null,null,null,null,null,null,null,null,null,null,null,null,null,null,null,null,null,null,null,null,null,null,null,null,null,null,null,null,null,null,null,null,null,null,null,null,null,null,null,null,null,null,null,null,null,null,null,null,null,null,null,null,null,null,null,null,null,null,null,null,null,null,null,null,null,"Assistant Professor of Law","Assistant Professor of Law","Associate Professor of Law"]
[3297,"Bergstresser","Clinton A.","A.B., M.A., M.S.",null,null,null,null,null,null,null,null,null,null,null,null,null,null,null,null,null,null,null,null,null,null,null,null,null,null,null,null,null,null,null,null,null,null,null,null,null,null,null,null,null,null,null,null,null,null,null,null,null,null,null,null,null,null,null,null,null,null,null,null,"Assistant Professor of Mathematics","Assistant Professor of Mathematics (Resigned)",null,null,null,null,null,"Visiting Assistant Professor of Business Administration"]
[3280,"Berner","Wesley Melvin","B.S., M.A.",null,null,null,null,null,null,null,null,null,null,null,null,null,null,null,null,null,null,null,null,null,null,null,null,null,null,null,null,null,null,null,null,null,null,null,null,null,null,null,null,null,null,null,null,null,null,null,null,null,null,null,null,null,null,null,null,null,null,null,"Instructor in Health & Physical Education for Men","Assistant Professor of Physical Education","Assistant Professor of Physical Education","Assistant Professor of Physical Education","Assistant Professor of Physical Education","Assistant Professor of Physical Education","Assistant Professor of Physical Education","Assistant Professor of Physical Education","Assistant Professor of Physical Education","Assistant Professor of Physical Education","Assistant Professor of Physical Education","Assistant Professor of Physical Education","Assistant Professor of Physical Education","Assistant Professor of Physical Education","Assistant Professor of Physical Education","Assistant Professor of Physical Education","Assistant Professor of Physical Education","Associate Professor of Physical Education"]
[4135,"Berry","Donald L.","B.A., M.Div., Ph.D.",null,null,null,null,null,null,null,null,null,null,null,null,null,null,null,null,null,null,null,null,null,null,null,null,null,null,null,null,null,null,null,null,null,null,null,null,null,null,null,null,null,null,null,null,null,null,null,null,null,null,null,null,null,null,null,null,null,null,null,null,null,null,null,null,null,null,null,null,null,null,null,null,null,null,null,null,null,null,null,null,null,null,null,null,null,null,null,null,null,null,null,null,null,null,null,null,null,"Visiting Instructor in Religion"]
[2656,"Berry","Fannie A.",null,null,null,null,null,null,null,null,null,null,null,null,null,null,null,null,null,null,null,null,null,"Assistant in Library","Assistant in Library"]
[3810,"Berry","Hertha A.","Dr. Phil, M.A.T., Ph.D.",null,null,null,null,null,null,null,null,null,null,null,null,null,null,null,null,null,null,null,null,null,null,null,null,null,null,null,null,null,null,null,null,null,null,null,null,null,null,null,null,null,null,null,null,null,null,null,null,null,null,null,null,null,null,null,null,null,null,null,null,null,null,null,null,null,null,null,null,null,null,null,null,null,null,null,null,null,null,null,null,null,null,null,"Instructor in Foreign Languages","Assistant Professor of Foreign Languages","Assistant Professor of Foreign Languages","Assistant Professor of Foreign Languages",null,"Associate Professor of Foreign Languages","Associate Professor of Foreign Languages \n(Spring Sabbatical)","Associate Professor of Foreign Languages","Associate Professor of Foreign Languages","Associate Professor of Foreign Languages","Associate Professor of Foreign Languages","Associate Professor of Foreign Languages","Associate Professor of Foreign Languages","Associate Professor of Foreign Languages","Associate Professor of Foreign Languages","Associate Professor of Foreign Languages","Associate Professor of Foreign Languages","Associate Professor of Foreign Languages","Professor of Foreign Languages, Emeritus","Professor of Foreign Languages, Emeritus","Professor of Foreign Languages, Emeritus","Professor of Foreign Languages, Emeritus","Professor of Foreign Languages, Emeritus","Professor of Foreign Languages, Emeritus","Professor of Foreign Languages, Emeritus","Professor of Foreign Languages, Emeritus","Professor of Foreign Languages, Emeritus","Professor of Foreign Languages, Emeritus","Professor of Foreign Languages, Emeritus","Professor of Foreign Languages, Emeritus","Professor of Foreign Languages, Emeritus","Professor of Foreign Languages, Emeritus","Professor of Foreign Languages, Emeritus","Professor of Foreign Languages, Emeritus","Professor of Foreign Languages, Emeritus"]
[3773,"Berry","Jesse L.","BA, Ph.D.",null,null,null,null,null,null,null,null,null,null,null,null,null,null,null,null,null,null,null,null,null,null,null,null,null,null,null,null,null,null,null,null,null,null,null,null,null,null,null,null,null,null,null,null,null,null,null,null,null,null,null,null,null,null,null,null,null,null,null,null,null,null,null,null,null,null,null,null,null,null,null,null,null,null,null,null,null,null,null,null,null,null,null,"Associate Professor of Foreign Languages","Professor of Languages","Professor of Foreign Languages / Chair","Professor of Foreign Languages / Chair","Professor of Foreign Languages / Chair","Professor of Foreign Languages / Chair","Professor of Foreign Languages / Chair","Professor of Foreign Languages / Chair","Professor of Foreign Languages / Chair","Professor of Foreign Languages / Chair","Professor of Foreign Languages / Chair","Professor of Foreign Languages","Professor of Foreign Languages (Fall Sabbatical)","Professor of Foreign Languages"]
[964,"Berry","Joe","B.S.",null,null,null,null,null,null,null,null,null,null,null,null,null,null,null,null,null,null,null,null,null,null,null,null,null,null,null,null,null,null,null,null,null,null,null,null,null,null,null,null,null,null,null,null,null,null,null,null,null,null,null,null,null,null,null,null,null,null,null,null,null,null,null,null,null,"Instructor in Physical Education","Instructor in Physical Education","Instructor in Physical Education"]
[4677,"Berson","Thomas","B.A., M.A., ABD",null,null,null,null,null,null,null,null,null,null,null,null,null,null,null,null,null,null,null,null,null,null,null,null,null,null,null,null,null,null,null,null,null,null,null,null,null,null,null,null,null,null,null,null,null,null,null,null,null,null,null,null,null,null,null,null,null,null,null,null,null,null,null,null,null,null,null,null,null,null,null,null,null,null,null,null,null,null,null,null,null,null,null,null,null,null,null,null,null,null,null,null,null,null,null,null,null,null,null,null,null,null,null,null,null,null,null,null,null,null,null,null,null,"Lecturer in History"]
[20,"Betteridge","Grace L.",null,null,null,null,null,"Teacher of Greek Language & Literature","Teacher of Greek Language & Literature"]
[3472,"Beutner","Harvey F.","M.A.",null,null,null,null,null,null,null,null,null,null,null,null,null,null,null,null,null,null,null,null,null,null,null,null,null,null,null,null,null,null,null,null,null,null,null,null,null,null,null,null,null,null,null,null,null,null,null,null,null,null,null,null,null,null,null,null,null,null,null,null,null,null,null,null,null,null,null,null,null,"Assistant Professor of English","Assistant Professor of English"]
[3874,"Bickel","Robert Dale","B.A., J.D.",null,null,null,null,null,null,null,null,null,null,null,null,null,null,null,null,null,null,null,null,null,null,null,null,null,null,null,null,null,null,null,null,null,null,null,null,null,null,null,null,null,null,null,null,null,null,null,null,null,null,null,null,null,null,null,null,null,null,null,null,null,null,null,null,null,null,null,null,null,null,null,null,null,null,null,null,null,null,null,null,null,null,null,null,null,"Assistant Dean / Associate Professor of Law","Assistant Dean / Associate Professor of Law","Professor of Law / Assistant Dean","Professor of Law / Assistant Dean","Professor of Law / Assistant Dean","Professor of Law","Professor of Law (Summer Sabbatical)","Professor of Law","Professor of Law","Professor of Law","Professor of Law","Professor of Law","Professor of Law","Professor of Law","Professor of Law","Professor of Law","Professor of Law","Professor of Law","Professor of Law","Professor of Law","Professor of Law","Professor of Law","Professor of Law","Professor of Law / Co-Director of the Center for \nExcellence in Higher Education Law","Professor of Law / Co-Director of the Center for \nExcellence in Higher Education Law","Professor of Law","Professor of Law","Professor of Law","Professor of Law","Professor of Law","Professor of Law","Professor of Law","Professor of Law"]
[4368,"Biernacki","Christine","B.A., M.A.T., Ed.D.",null,null,null,null,null,null,null,null,null,null,null,null,null,null,null,null,null,null,null,null,null,null,null,null,null,null,null,null,null,null,null,null,null,null,null,null,null,null,null,null,null,null,null,null,null,null,null,null,null,null,null,null,null,null,null,null,null,null,null,null,null,null,null,null,null,null,null,null,null,null,null,null,null,null,null,null,null,null,null,null,null,null,null,null,null,null,null,null,null,null,null,null,null,null,null,null,null,null,null,null,null,null,null,null,"Lecturer in Biology","Lecturer in Biology","Lecturer in Biology","Lecturer in Biology","Visiting Assistant Professor of Biology","Visiting Assistant Professor of Biology","Visiting Assistant Professor of Biology","Visiting Assistant Professor of Biology","Visiting Assistant Professor of Biology","Visiting Assistant Professor of Biology","Visiting Assistant Professor of Biology","Visiting Assistant Professor of Biology"]
[null,"Bigelow","Fannie",null,"Faculty"]
[4210,"Billings","Major Roger S.","B.A., M.A.",null,null,null,null,null,null,null,null,null,null,null,null,null,null,null,null,null,null,null,null,null,null,null,null,null,null,null,null,null,null,null,null,null,null,null,null,null,null,null,null,null,null,null,null,null,null,null,null,null,null,null,null,null,null,null,null,null,null,null,null,null,null,null,null,null,null,null,null,null,null,null,null,null,null,null,null,null,null,null,null,null,null,null,null,null,null,null,null,null,null,null,null,null,null,null,null,null,null,null,"Assistant Professor of Military Science","Assistant Professor of Military Science","Assistant Professor of Military Science"]
[null,"Billingsley","Nancy","B.S., M.A., Ph.D",null,null,null,null,null,null,null,null,null,null,null,null,null,null,null,null,null,null,null,null,null,null,null,null,null,null,null,null,null,null,null,null,null,null,null,null,null,null,null,null,null,null,null,null,null,null,null,null,null,null,null,null,null,null,null,null,null,null,null,null,null,null,null,null,null,null,null,null,null,null,null,null,null,null,null,null,null,null,null,null,null,null,null,null,null,null,null,null,null,null,null,null,null,null,null,null,null,null,null,null,null,null,null,null,null,null,null,null,null,null,null,null,null,null,"Visiting Assistant Professor of Teacher Education","Visiting Assistant Professor of Teacher Education"]
[null,"Birney","Tom S.","B.S.",null,null,null,null,null,null,null,null,null,null,null,null,null,null,null,null,null,null,null,null,null,null,null,null,null,null,null,null,null,null,null,null,null,null,null,null,null,null,null,null,null,null,null,null,null,null,null,null,null,null,null,null,null,null,null,null,null,null,null,null,null,null,null,null,null,null,null,null,null,null,null,null,null,null,null,null,null,null,null,null,null,null,null,null,null,null,null,null,null,null,null,null,null,null,null,null,null,null,null,null,null,null,null,null,null,null,null,null,null,null,null,null,null,null,"Director of Marketing & Sales, Stetson Athletics","Director of Marketing & Sales, Stetson Athletics","Director of Marketing & Sales, Stetson Athletics"]
[null,"Bischof","Baerbel","B.A., M.S., Ph.D",null,null,null,null,null,null,null,null,null,null,null,null,null,null,null,null,null,null,null,null,null,null,null,null,null,null,null,null,null,null,null,null,null,null,null,null,null,null,null,null,null,null,null,null,null,null,null,null,null,null,null,null,null,null,null,null,null,null,null,null,null,null,null,null,null,null,null,null,null,null,null,null,null,null,null,null,null,null,null,null,null,null,null,null,null,null,null,null,null,null,null,null,null,null,null,null,null,null,null,null,null,null,null,null,null,null,null,null,null,null,null,null,null,null,null,null,"Visiting Assistant Professor of Geography & \nEnvironmental Science","Visiting Assistant Professor of Geography & \nEnvironmental Science"]
[4252,"Bitter","Michael E.","B.B.A., M.Acc., Ph.D., CPA",null,null,null,null,null,null,null,null,null,null,null,null,null,null,null,null,null,null,null,null,null,null,null,null,null,null,null,null,null,null,null,null,null,null,null,null,null,null,null,null,null,null,null,null,null,null,null,null,null,null,null,null,null,null,null,null,null,null,null,null,null,null,null,null,null,null,null,null,null,null,null,null,null,null,null,null,null,null,null,null,null,null,null,null,null,null,null,null,null,null,null,null,null,null,null,null,null,null,null,null,"Visiting Instructor in Accounting",null,"Assistant Professor of Accounting","Assistant Professor of Accounting","Associate Professor of Accounting","Associate Professor of Accounting","Associate Professor of Accounting","Associate Professor of Accounting","Associate Professor of Accounting","Associate Professor of Accounting","Professor of Accounting","Professor of Accounting","Professor of Accounting","Professor of Accounting","Professor of Accounting","Professor / Chair of Accounting Information Systems / \nRinker Distinguished Professor","Professor / Chair of Accounting Information Systems","Professor / Chair of Accounting / Rinker \nDistinguished Professor"]
[4211,"Bjella","David","B.M., M.M.",null,null,null,null,null,null,null,null,null,null,null,null,null,null,null,null,null,null,null,null,null,null,null,null,null,null,null,null,null,null,null,null,null,null,null,null,null,null,null,null,null,null,null,null,null,null,null,null,null,null,null,null,null,null,null,null,null,null,null,null,null,null,null,null,null,null,null,null,null,null,null,null,null,null,null,null,null,null,null,null,null,null,null,null,null,null,null,null,null,null,null,null,null,null,null,null,null,null,null,"Assistant Professor of Music","Assistant Professor of Music","Assistant Professor of Music","Assistant Professor of Music","Assistant Professor of Music","Associate Professor of Music","Associate Professor of Music","Associate Professor of Music","Associate Professor of Music","Associate Professor of Music","Associate Professor of Music","Associate Professor of Music","Associate Professor of Music","Associate Professor of Music","Associate Professor of Music","Associate Professor of Music","Associate Professor of Music","Professor of Music","Professor of Music"]
[3019,"Blachshear","David","A.B., LL.B.",null,null,null,null,null,null,null,null,null,null,null,null,null,null,null,null,null,null,null,null,null,null,null,null,null,null,null,null,null,null,null,null,null,null,null,null,null,null,null,null,null,null,null,null,null,"Lecturer - Appellate Procedure"]
[2703,"Blackiston","Jennie Pearl",null,null,null,null,null,null,null,null,null,null,null,null,null,null,null,null,null,null,null,null,null,null,null,null,"Assistant in Kindergarten"]
[2893,"Blain","Kirby W.","B.S.",null,null,null,null,null,null,null,null,null,null,null,null,null,null,null,null,null,null,null,null,null,null,null,null,null,null,null,null,null,null,null,null,null,null,null,"Assistant in Mathematics"]
[3491,"Blake","Robert G.","MA",null,null,null,null,null,null,null,null,null,null,null,null,null,null,null,null,null,null,null,null,null,null,null,null,null,null,null,null,null,null,null,null,null,null,null,null,null,null,null,null,null,null,null,null,null,null,null,null,null,null,null,null,null,null,null,null,null,null,null,null,null,null,null,null,null,null,null,null,null,null,null,"Assistant Professor of English","Assistant Professor of English"]
[2636,"Blake","Stephen Pierce",null,null,null,null,null,null,null,null,null,null,null,null,null,null,null,null,null,null,null,null,"Assistant in Latin","Assistant in Drawing in Model & Normal School","Instructor in Latin"]
[106,"Blanding","Elizabeth N.","B.S.",null,null,null,null,null,null,null,null,null,null,null,null,null,"Assistant in Chemical Laboratory","Assistant in Chemical Laboratory","Instructor in Chemistry","Instructor in Chemistry / University Recorder"]
[3875,"Blasdale","Justin","B.S., M.S.",null,null,null,null,null,null,null,null,null,null,null,null,null,null,null,null,null,null,null,null,null,null,null,null,null,null,null,null,null,null,null,null,null,null,null,null,null,null,null,null,null,null,null,null,null,null,null,null,null,null,null,null,null,null,null,null,null,null,null,null,null,null,null,null,null,null,null,null,null,null,null,null,null,null,null,null,null,null,null,null,null,null,null,null,null,"Assistant Professor of Piano","Assistant Professor of Piano","Assistant Professor of Piano","Assistant Professor of Piano"]
[4298,"Blevins","Timothy D.","B.S., J.D.",null,null,null,null,null,null,null,null,null,null,null,null,null,null,null,null,null,null,null,null,null,null,null,null,null,null,null,null,null,null,null,null,null,null,null,null,null,null,null,null,null,null,null,null,null,null,null,null,null,null,null,null,null,null,null,null,null,null,null,null,null,null,null,null,null,null,null,null,null,null,null,null,null,null,null,null,null,null,null,null,null,null,null,null,null,null,null,null,null,null,null,null,null,null,null,null,null,null,null,null,null,null,"Instructor of Legal Research & Writing"]
[3441,"Bliss","William D.","MA",null,null,null,null,null,null,null,null,null,null,null,null,null,null,null,null,null,null,null,null,null,null,null,null,null,null,null,null,null,null,null,null,null,null,null,null,null,null,null,null,null,null,null,null,null,null,null,null,null,null,null,null,null,null,null,null,null,null,null,null,null,null,null,null,null,null,null,null,"Assistant Professor of Psychology","Assistant Professor of Psychology","Assistant Professor of Psychology"]
[224,"Blocker","D.J.","Rev., A.B., A.M., B.D.",null,null,null,null,null,null,null,null,null,null,null,null,null,null,null,null,null,null,"Head of Stetson Hall","Head of Stetson Hall","Head of Stetson Hall","Head of Stetson Hall",null,null,"Professor of Philosophy","Professor of Philosophy & Pedagogy","Professor of Philosophy & Pedagogy","Professor of Philosophy & Pedagogy","Professor of Philosophy & Pedagogy","Professor of Philosophy & Pedagogy","Professor of Philosophy & Pedagogy","Dean of the Normal & Teacher's College / Professor \nof Philosophy & Pedagogy","Dean of the Normal & Teacher's College / Professor \nof Philosophy & Pedagogy","Dean of the Normal & Teacher's College / Professor \nof Philosophy & Pedagogy"]
[3637,"Bloden","Connie E.","B.S., LL.B.,M.S.",null,null,null,null,null,null,null,null,null,null,null,null,null,null,null,null,null,null,null,null,null,null,null,null,null,null,null,null,null,null,null,null,null,null,null,null,null,null,null,null,null,null,null,null,null,null,null,null,null,null,null,null,null,null,null,null,null,null,null,null,null,null,null,null,null,null,null,null,null,null,null,null,null,null,null,null,"Assistant Professor of Law"]
[191,"Bloxham","Clara",null,null,null,null,null,null,null,null,null,null,null,null,null,null,null,null,null,"Nurse","Nurse","Nurse"]
[4212,"Blum","Anthony J.","B.A., M.A., Ph.D.",null,null,null,null,null,null,null,null,null,null,null,null,null,null,null,null,null,null,null,null,null,null,null,null,null,null,null,null,null,null,null,null,null,null,null,null,null,null,null,null,null,null,null,null,null,null,null,null,null,null,null,null,null,null,null,null,null,null,null,null,null,null,null,null,null,null,null,null,null,null,null,null,null,null,null,null,null,null,null,null,null,null,null,null,null,null,null,null,null,null,null,null,null,null,null,null,null,null,null,"Visiting Instructor in Psychology",null,null,null,null,null,null,null,null,null,"Visiting Assistant Professor of Psychology"]
[3975,"Blum","Julius M.","B.A., M.A., M.B.A., Ph.D.",null,null,null,null,null,null,null,null,null,null,null,null,null,null,null,null,null,null,null,null,null,null,null,null,null,null,null,null,null,null,null,null,null,null,null,null,null,null,null,null,null,null,null,null,null,null,null,null,null,null,null,null,null,null,null,null,null,null,null,null,null,null,null,null,null,null,null,null,null,null,null,null,null,null,null,null,null,null,null,null,null,null,null,null,null,null,null,null,null,null,"Visiting Professor of Business Administration"]
[4167,"Blum","Toni L.","B.A., M.A., Ph.D.",null,null,null,null,null,null,null,null,null,null,null,null,null,null,null,null,null,null,null,null,null,null,null,null,null,null,null,null,null,null,null,null,null,null,null,null,null,null,null,null,null,null,null,null,null,null,null,null,null,null,null,null,null,null,null,null,null,null,null,null,null,null,null,null,null,null,null,null,null,null,null,null,null,null,null,null,null,null,null,null,null,null,null,null,null,null,null,null,null,null,null,null,null,null,null,null,null,null,"Assistant Professor of Psychology","Assistant Professor of Psychology","Assistant Professor of Psychology","Assistant Professor of Psychology","Assistant Professor of Psychology","Assistant Professor of Psychology","Associate Professor of Psychology","Associate Professor of Psychology / Chair","Associate Professor of Psychology / Chair","Associate Professor of Psychology / Chair / \nCo-Director of the Honors Program","Associate Professor of Psychology / Chair","Associate Professor of Psychology / Associate Dean \nof the College of Arts & Science","Associate Professor of Psychology / Associate Dean \nof the College of Arts & Science","Associate Professor of Psychology / Associate Dean\nof the College of Arts & Science","Associate Professor of Psychology / Associate Dean \nof the College of Arts & Science","Associate Professor of Psychology / Associate Dean \nof the College of Arts & Science","Associate Professor of Psychology / Associate Dean of \nthe College of Arts & Science","Associate Professor of Psychology / Associate Dean \nof the College of Arts & Science","Associate Professor of Psychology"]
[118,"Bly","Egford","LL.B.",null,null,null,null,null,null,null,null,null,null,null,null,null,null,"Instructor in Florida Pleading & Practice & Statute Law","Instructor in Florida Pleading & Practice & Statute Law",null,null,null,null,null,null,"Professor of Florida Pleading & Practice","Professor of Florida Pleading & Practice","Professor of Florida Pleading & Practice","Professor of Florida Pleading & Practice","Professor of Florida Pleading & Practice"]
[159,"Board","Gertrude D.",null,null,null,null,null,null,null,null,null,null,null,null,null,null,null,null,"Assistant in Practice School"]
[4276,"Boerth","Robert","B.A., M.A., Ph.D.",null,null,null,null,null,null,null,null,null,null,null,null,null,null,null,null,null,null,null,null,null,null,null,null,null,null,null,null,null,null,null,null,null,null,null,null,null,null,null,null,null,null,null,null,null,null,null,null,null,null,null,null,null,null,null,null,null,null,null,null,null,null,null,null,null,null,null,null,null,null,null,null,null,null,null,null,null,null,null,null,null,null,null,null,null,null,null,null,null,null,null,null,null,null,null,null,null,null,null,null,null,"Assistant Professor of English","Assistant Professor of English","Assistant Professor of English","Assistant Professor of English","Assistant Professor of English"]
[3976,"Bogart","Jennifer E.","B.M., M.M.",null,null,null,null,null,null,null,null,null,null,null,null,null,null,null,null,null,null,null,null,null,null,null,null,null,null,null,null,null,null,null,null,null,null,null,null,null,null,null,null,null,null,null,null,null,null,null,null,null,null,null,null,null,null,null,null,null,null,null,null,null,null,null,null,null,null,null,null,null,null,null,null,null,null,null,null,null,null,null,null,null,null,null,null,null,null,null,null,null,null,"Instructor in Violin","Instructor in Violin","Instructor in Violin","Instructor in Violin","Assistant Professor of Violin"]
[4532,"Bohl","Catherine Joan","B.A., J.D.",null,null,null,null,null,null,null,null,null,null,null,null,null,null,null,null,null,null,null,null,null,null,null,null,null,null,null,null,null,null,null,null,null,null,null,null,null,null,null,null,null,null,null,null,null,null,null,null,null,null,null,null,null,null,null,null,null,null,null,null,null,null,null,null,null,null,null,null,null,null,null,null,null,null,null,null,null,null,null,null,null,null,null,null,null,null,null,null,null,null,null,null,null,null,null,null,null,null,null,null,null,null,null,null,null,null,null,null,"Instructor of Legal Research & Writing","Instructor of Legal Research & Writing","Assistant Professor of Legal Skills","Assistant Professor of Legal Skills","Assistant Professor of Legal Skills","Assistant Professor of Legal Skills","Professor of Legal Skills","Professor of Legal Skills","Professor of Legal Skills"]
[3531,"Bohon","John William","B.A., M.A.",null,null,null,null,null,null,null,null,null,null,null,null,null,null,null,null,null,null,null,null,null,null,null,null,null,null,null,null,null,null,null,null,null,null,null,null,null,null,null,null,null,null,null,null,null,null,null,null,null,null,null,null,null,null,null,null,null,null,null,null,null,null,null,null,null,null,null,null,null,null,null,null,"Instructor in History"]
[4106,"Bolding","Gary","B.A., M.F.A.",null,null,null,null,null,null,null,null,null,null,null,null,null,null,null,null,null,null,null,null,null,null,null,null,null,null,null,null,null,null,null,null,null,null,null,null,null,null,null,null,null,null,null,null,null,null,null,null,null,null,null,null,null,null,null,null,null,null,null,null,null,null,null,null,null,null,null,null,null,null,null,null,null,null,null,null,null,null,null,null,null,null,null,null,null,null,null,null,null,null,null,null,null,null,null,null,"Assistant Professor of Art","Assistant Professor of Art","Assistant Professor of Art","Assistant Professor of Art","Assistant Professor of Art","Associate Professor of Art (Academic Year Sabbatical)","Associate Professor of Art","Associate Professor of Art / Chair","Associate Professor of Art / Chair","Associate Professor of Art","Professor of Art","Professor of Art","Professor of Art","Professor of Art","Professor of Art","Professor of Art / Chair","Professor of Art / Chair","Professor of Art / Chair","Professor of Art / Chair","Professor of Art","Professor of Art","Professor of Art"]
[3706,"Bolton","William D","M.Ed",null,null,null,null,null,null,null,null,null,null,null,null,null,null,null,null,null,null,null,null,null,null,null,null,null,null,null,null,null,null,null,null,null,null,null,null,null,null,null,null,null,null,null,null,null,null,null,null,null,null,null,null,null,null,null,null,null,null,null,null,null,null,null,null,null,null,null,null,null,null,null,null,null,null,null,null,null,null,null,null,"Instructor in Physical Education"]
[3797,"Bond","J.D.","A.B., J.D.",null,null,null,null,null,null,null,null,null,null,null,null,null,null,null,null,null,null,null,null,null,null,null,null,null,null,null,null,null,null,null,null,null,null,null,null,null,null,null,null,null,null,null,null,null,null,null,null,null,null,null,null,null,null,null,null,null,null,null,null,null,null,null,null,null,null,null,null,null,null,null,null,null,null,null,null,null,null,null,null,null,null,null,"Visiting Professor of Business Administration"]
[4643,"Bonifay","Isaac F.","Lt. Col., MPC, A.B.",null,null,null,null,null,null,null,null,null,null,null,null,null,null,null,null,null,null,null,null,null,null,null,null,null,null,null,null,null,null,null,null,null,null,null,null,null,null,null,null,null,null,null,null,null,null,null,null,null,null,null,null,null,null,null,null,null,null,null,null,null,null,"Professor of Military Science & Tactics","Professor of Military Science & Tactics"]
[93,"Bonner","Robert J.","A.B.",null,null,null,null,null,null,null,null,null,null,null,null,null,"Professor of Latin / Instructor in College of Law","Professor of Latin","Professor of Latin / Instructor in Law"]
[3532,"Booker","Frank E.","LL.B.",null,null,null,null,null,null,null,null,null,null,null,null,null,null,null,null,null,null,null,null,null,null,null,null,null,null,null,null,null,null,null,null,null,null,null,null,null,null,null,null,null,null,null,null,null,null,null,null,null,null,null,null,null,null,null,null,null,null,null,null,null,null,null,null,null,null,null,null,null,null,null,null,"Associate Professor of Law","Associate Professor of Law","Associate Professor of Law","Professor of Law","Professor of Law","Professor of Law","Professor of Law"]
[374,"Boor","Alden Kinney","B.S.",null,null,null,null,null,null,null,null,null,null,null,null,null,null,null,null,null,null,null,null,null,null,null,null,null,null,null,null,null,"Instructor in Chemistry"]
[2746,"Boor","Marjorie Amelia",null,null,null,null,null,null,null,null,null,null,null,null,null,null,null,null,null,null,null,null,null,null,null,null,null,null,null,null,"Assistant in Music"]
[3794,"Booth","John M.","B.Sc., M.A., Ph.D.",null,null,null,null,null,null,null,null,null,null,null,null,null,null,null,null,null,null,null,null,null,null,null,null,null,null,null,null,null,null,null,null,null,null,null,null,null,null,null,null,null,null,null,null,null,null,null,null,null,null,null,null,null,null,null,null,null,null,null,null,null,null,null,null,null,null,null,null,null,null,null,null,null,null,null,null,null,null,null,null,null,null,null,"Assistant Professor of Business Administration","Assistant Professor of Business Administration","Assistant Professor of Business Administration","Associate Professor of Economics","Associate Professor of Economics (Full Year Sabbatical)","Associate Professor of Economics","Associate Professor of Economics","Associate Professor of Economics","Associate Professor of Economics","Associate Professor of Economics","Associate Professor of Economics","Associate Professor of Economics","Associate Professor of Economics","Associate Professor of Economics","Associate Professor of Economics","Associate Professor of Economics, Emeritus","Associate Professor of Economics, Emeritus","Associate Professor of Economics, Emeritus","Associate Professor of Economics, Emeritus","Associate Professor of Economics, Emeritus","Associate Professor of Economics, Emeritus","Associate Professor of Economics, Emeritus","Associate Professor of Economics, Emeritus","Associate Professor of Economics, Emeritus","Associate Professor of Economics, Emeritus","Associate Professor of Economics, Emeritus","Associate Professor of Economics, Emeritus","Associate Professor of Economics, Emeritus","Associate Professor of Economics, Emeritus","Associate Professor of Economics, Emeritus","Associate Professor of Economics, Emeritus","Associate Professor of Economics, Emeritus","Associate Professor of Economics, Emeritus","Associate Professor of Economics, Emeritus","Associate Professor of Economics, Emeritus"]
[4136,"Boozer","Robert W.","B.S.B.A., M.B.A., D.B.A.",null,null,null,null,null,null,null,null,null,null,null,null,null,null,null,null,null,null,null,null,null,null,null,null,null,null,null,null,null,null,null,null,null,null,null,null,null,null,null,null,null,null,null,null,null,null,null,null,null,null,null,null,null,null,null,null,null,null,null,null,null,null,null,null,null,null,null,null,null,null,null,null,null,null,null,null,null,null,null,null,null,null,null,null,null,null,null,null,null,null,null,null,null,null,null,null,null,"Associate Professor of Management","Associate Professor of Management","Associate Professor of Management","Associate Professor of Management","Associate Professor of Management","Associate Professor of Management","Associate Professor of Management (Fall Sabbatical)","Associate Professor of Management","Associate Professor of Management","Associate Professor of Management","Professor of Management","Professor of Management","Professor of Management","Professor of Management","Professor of Management","Professor of Management","Professor of Management","Professor of Management","Professor of Management","Professor of Management"]
[4563,"Born","Kristie R.","B.M., M.M., D.M.A.",null,null,null,null,null,null,null,null,null,null,null,null,null,null,null,null,null,null,null,null,null,null,null,null,null,null,null,null,null,null,null,null,null,null,null,null,null,null,null,null,null,null,null,null,null,null,null,null,null,null,null,null,null,null,null,null,null,null,null,null,null,null,null,null,null,null,null,null,null,null,null,null,null,null,null,null,null,null,null,null,null,null,null,null,null,null,null,null,null,null,null,null,null,null,null,null,null,null,null,null,null,null,null,null,null,null,null,null,null,"Lecturer in Music","Lecturer in Music","Lecturer in Music","Lecturer in Music","Lecturer in Music","Visiting Lecturer in Music","Visiting Lecturer in Music","Visiting Lecturer in Music","Visiting Lecturer in Music"]
[3298,"Bostick","Elizabeth Farmer","B.S.",null,null,null,null,null,null,null,null,null,null,null,null,null,null,null,null,null,null,null,null,null,null,null,null,null,null,null,null,null,null,null,null,null,null,null,null,null,null,null,null,null,null,null,null,null,null,null,null,null,null,null,null,null,null,null,null,null,null,null,null,"Assistant Professor of Secretarial Science","Assistant Professor of Secretarial Science (Resigned)","Assistant Professor of Secretarial Science"]
[null,"Botluk","Diana","J.D.",null,null,null,null,null,null,null,null,null,null,null,null,null,null,null,null,null,null,null,null,null,null,null,null,null,null,null,null,null,null,null,null,null,null,null,null,null,null,null,null,null,null,null,null,null,null,null,null,null,null,null,null,null,null,null,null,null,null,null,null,null,null,null,null,null,null,null,null,null,null,null,null,null,null,null,null,null,null,null,null,null,null,null,null,null,null,null,null,null,null,null,null,null,null,null,null,null,null,null,null,null,null,null,null,null,null,null,null,null,null,null,null,null,null,"Director of Research for the National Clearinghouse of \nScience, Technology & the Law"]
[null,"Botsford","Geo. W.","A.M.",null,"Principal of Academic Department / Professor of \nAncient & Modern Languages & English"]
[2670,"Botts","A.O.",null,null,null,null,null,null,null,null,null,null,null,null,null,null,null,null,null,null,null,null,null,null,"Instructor in Mathematics"]
[283,"Botts","Clifford",null,null,null,null,null,null,null,null,null,null,null,null,null,null,null,null,null,null,null,null,null,null,"Assistant in General Office","Assistant in General Office"]
[2577,"Botts","Fred W.","B.S., LL.B.",null,null,null,null,null,null,null,null,null,null,null,null,null,null,null,null,"Assistant in Practice School",null,"In Charge of University Book Store","Assistant in Mathematics","Assistant in Mathematics","Assistant in Mathematics","Assistant Professor of Law","Assistant Professor of Law"]
[258,"Botts","Lawrence",null,null,null,null,null,null,null,null,null,null,null,null,null,null,null,null,null,null,null,null,null,"Assistant in Business College"]
[4511,"Boudreaux","Paul","B.A., J.D., LL.M.",null,null,null,null,null,null,null,null,null,null,null,null,null,null,null,null,null,null,null,null,null,null,null,null,null,null,null,null,null,null,null,null,null,null,null,null,null,null,null,null,null,null,null,null,null,null,null,null,null,null,null,null,null,null,null,null,null,null,null,null,null,null,null,null,null,null,null,null,null,null,null,null,null,null,null,null,null,null,null,null,null,null,null,null,null,null,null,null,null,null,null,null,null,null,null,null,null,null,null,null,null,null,null,null,null,null,null,"Assistant Professor of Law","Assistant Professor of Law","Assistant Professor of Law","Associate Professor of Law","Associate Professor of Law","Associate Professor of Law","Associate Professor of Law / L.L. Highbaugh \nResearch Chair","Professor of Law","Professor of Law","Professor of Law","Professor of Law"]
[3032,"Bowden","J. Lawrence, Jr.","BS, MA",null,null,null,null,null,null,null,null,null,null,null,null,null,null,null,null,null,null,null,null,null,null,null,null,null,null,null,null,null,null,null,null,null,null,null,null,null,null,null,null,null,null,null,null,null,null,null,"Stewards","Stewards",null,null,null,null,null,null,null,null,null,null,null,null,null,null,null,null,null,null,null,null,null,null,null,null,null,null,null,null,null,null,null,null,null,null,"Assistant Professor of Physical Education","Assistant Professor of Education"]
[2855,"Bowen","Bertha Hollingsworth",null,null,null,null,null,null,null,null,null,null,null,null,null,null,null,null,null,null,null,null,null,null,null,null,null,null,null,null,null,null,null,null,null,null,null,"Librarian"]
[2831,"Bowen","Olga Ruth","A.M.",null,null,null,null,null,null,null,null,null,null,null,null,null,null,null,null,null,null,null,null,null,null,null,null,null,null,null,null,null,null,null,null,null,"Instructor in English","Instructor in English","Instructor in English","Instructor in English","Instructor in English","Instructor in English","Instructor in English","Registrar","Registrar","Assistant to the Dean","Assistant to the Dean","Assistant to the Dean",null,null,"Registrar","Registrar","Registrar","Registrar","Registrar","Registrar","Registrar","Registrar (Resigned)"]
[4491,"Bowman","Brooke J.","B.S.,M.S., J.D.",null,null,null,null,null,null,null,null,null,null,null,null,null,null,null,null,null,null,null,null,null,null,null,null,null,null,null,null,null,null,null,null,null,null,null,null,null,null,null,null,null,null,null,null,null,null,null,null,null,null,null,null,null,null,null,null,null,null,null,null,null,null,null,null,null,null,null,null,null,null,null,null,null,null,null,null,null,null,null,null,null,null,null,null,null,null,null,null,null,null,null,null,null,null,null,null,null,null,null,null,null,null,null,null,null,null,"Legal Writing Fellow","Instructor of Legal Research & Writing","Instructor of Legal Research & Writing","Instructor of Legal Research & Writing","Assistant Professor of Legal Skills / Special \nAssistant to Dean","Assistant Professor of Legal Skills / Special \nAssistant to Dean","Assistant Professor of Legal Skills / Special \nAssistant to Dean","Assistant Professor of Legal Skills","Professor of Legal Skills","Professor of Legal Skills","Professor of Legal Skills","Professor of Legal Skills"]
[3492,"Boyd","Elizabeth Nicely","B.S., M.A., Ph.D",null,null,null,null,null,null,null,null,null,null,null,null,null,null,null,null,null,null,null,null,null,null,null,null,null,null,null,null,null,null,null,null,null,null,null,null,null,null,null,null,null,null,null,null,null,null,null,null,null,null,null,null,null,null,null,null,null,null,null,null,null,null,null,null,null,null,null,null,null,null,null,"Assistant Professor of Mathematics","Assistant Professor of Mathematics","Associate Professor of Mathematics","Associate Professor of Mathematics","Associate Professor of Mathematics","Associate Professor of Mathematics","Associate Professor of Mathematics","Associate Professor of Mathematics","Associate Professor of Mathematics","Associate Professor of Mathematics"]
[3896,"Boyd","G. Michael","B.A., M.S., Ph.D",null,null,null,null,null,null,null,null,null,null,null,null,null,null,null,null,null,null,null,null,null,null,null,null,null,null,null,null,null,null,null,null,null,null,null,null,null,null,null,null,null,null,null,null,null,null,null,null,null,null,null,null,null,null,null,null,null,null,null,null,null,null,null,null,null,null,null,null,null,null,null,null,null,null,null,null,null,null,null,null,null,null,null,null,null,null,"Assistant Professor of Business Administration","Assistant Professor of Business Administration","Assistant Professor of Business Administration","Assistant Professor of Business Administration","Assistant Professor of Business Administration","Associate Professor of Finance","Associate Professor of Finance","Associate Professor of Finance","Associate Professor of Finance (Spring Sabbatical)","Associate Professor of Finance","Associate Professor of Finance","Associate Professor of Finance","Associate Professor of Finance","Professor of Finance","Professor of Finance","Professor of Finance","Professor of Finance","Professor of Finance","Professor of Finance","Professor of Finance","Professor of Finance","Professor of Finance","Professor of Finance","Professor of Finance, Emeritus","Professor of Finance, Emeritus","Professor of Finance, Emeritus","Professor of Finance, Emeritus","Professor of Finance, Emeritus","Professor of Finance, Emeritus","Professor of Finance, Emeritus","Professor of Finance, Emeritus","Professor of Finance, Emeritus"]
[2932,"Boydstun","Maude S.",null,null,null,null,null,null,null,null,null,null,null,null,null,null,null,null,null,null,null,null,null,null,null,null,null,null,null,null,null,null,null,null,null,null,null,null,null,null,"House Mother - Chaudoin Hall"]
[4237,"Boyle","John","B.S.",null,null,null,null,null,null,null,null,null,null,null,null,null,null,null,null,null,null,null,null,null,null,null,null,null,null,null,null,null,null,null,null,null,null,null,null,null,null,null,null,null,null,null,null,null,null,null,null,null,null,null,null,null,null,null,null,null,null,null,null,null,null,null,null,null,null,null,null,null,null,null,null,null,null,null,null,null,null,null,null,null,null,null,null,null,null,null,null,null,null,null,null,null,null,null,null,null,null,null,"Associate Head Cross Country Coach","Associate Head Cross Country Coach","Associate Head Cross Country Coach","Associate Head Cross Country Coach","Associate Head Cross Country Coach","Associate Head Cross Country Coach","Associate Head Cross Country Coach","Associate Head Cross Country Coach","Associate Head Cross Country Coach","Head Cross Country Coach","Head Cross Country Coach","Head Cross Country Coach","Head Cross Country Coach","Head Cross Country Coach","Head Cross Country Coach"]
[83,"Bradbury","Emma L.",null,null,null,null,null,null,null,null,null,null,null,null,null,"Instructor in Kindergarten","Instructor in Kindergarten","Instructor in Kindergarten Normal Course"]
[815,"Braddock","Libby Mae",null,null,null,null,null,null,null,null,null,null,null,null,null,null,null,null,null,null,null,null,null,null,null,null,null,null,null,null,null,null,null,null,null,null,null,null,null,null,null,null,null,null,null,null,null,null,null,null,null,null,null,null,null,null,null,null,null,null,null,"Assistant Secretary to the President"]
[2801,"Braddock","Roscoe",null,null,null,null,null,null,null,null,null,null,null,null,null,null,null,null,null,null,null,null,null,null,null,null,null,null,null,null,null,null,null,null,"In Charge of Men's Dormitories"]
[null,"Braden","John","B.S., M.S., Ed.D.",null,null,null,null,null,null,null,null,null,null,null,null,null,null,null,null,null,null,null,null,null,null,null,null,null,null,null,null,null,null,null,null,null,null,null,null,null,null,null,null,null,null,null,null,null,null,null,null,null,null,null,null,null,null,null,null,null,null,null,null,null,null,null,null,null,null,null,null,null,null,null,null,null,null,null,null,null,null,null,null,null,null,null,null,null,null,null,null,null,null,null,null,null,null,null,null,null,null,null,null,null,null,null,null,null,null,null,null,null,null,null,null,null,null,"Director of Professional Development Programs, \nCelebration","Director of Professional Development \nPrograms, Celebration"]
[3837,"Bradford","Bruce Carlton","B.A., M.S., Ph.D.",null,null,null,null,null,null,null,null,null,null,null,null,null,null,null,null,null,null,null,null,null,null,null,null,null,null,null,null,null,null,null,null,null,null,null,null,null,null,null,null,null,null,null,null,null,null,null,null,null,null,null,null,null,null,null,null,null,null,null,null,null,null,null,null,null,null,null,null,null,null,null,null,null,null,null,null,null,null,null,null,null,null,null,null,"Assistant Professor of Geography","Assistant Professor of Geography / Chair","Associate Professor of Geography / Chair","Associate Professor of Geography / Chair","Associate Professor of Geography / Chair","Associate Professor of Geography / Chair (Fall Sabbatical)","Associate Professor of Geography / Chair","Associate Professor of Geography / Chair","Associate Professor of Geography / Chair","Associate Professor of Geography / Chair","Professor of Geography / Chair","Professor of Geography / Chair","Professor of Geography / Chair","Professor of Geography / Chair","Professor of Geography / Chair","Professor of Geography / Chair","Professor of Geography / Chair","Professor of Geography / Chair","Professor of Geography / Chair","Professor of Geography / Chair","Professor of Geography / Chair","Professor of Geography / Chair","Professor of Geography / Chair / Director of \nGillespie Museum","Professor of Geography / Chair / Director of \nGillespie Museum","Professor of Geography / Chair / Director of \nGillespie Museum","Professor of Geography / Chair / Director of \nGillespie Museum","Professor of Geography / Chair / Director of \nGillespie Museum","Professor of Geography / Chair / Director of \nGillespie Museum","Professor of Geography / Chair / Director of \nGillespie Museum","Professor of Geography / Chair / Director of \nGillespie Museum","Professor of Geography & Environmental Science / Chair","Professor of Geography & Environmental Science / \nChair / Director of Gillespie Museum","Professor of Geography & Environmental \nScience, Emeritus","Professor of Geography & Environmental Science, \nEmeritus"]
[3977,"Bradford","Jane T.","B.A., M.A., M.S.",null,null,null,null,null,null,null,null,null,null,null,null,null,null,null,null,null,null,null,null,null,null,null,null,null,null,null,null,null,null,null,null,null,null,null,null,null,null,null,null,null,null,null,null,null,null,null,null,null,null,null,null,null,null,null,null,null,null,null,null,null,null,null,null,null,null,null,null,null,null,null,null,null,null,null,null,null,null,null,null,null,null,null,null,null,null,null,null,null,null,"Lecturer in English","Lecturer in English","Lecturer in English","Reference Librarian / Instructor",null,"Reference Librarian / Instructor","Reference Librarian / Instructor","Assistant Professor / Reference Librarian","Assistant Professor / Reference Librarian","Assistant Professor / Reference Librarian / Coordinator \nof Library Instruction","Assistant Professor / Reference Librarian / Coordinator \nof Library Instruction","Associate Professor / Reference Librarian / Coordinator \nof Library Instruction / Women's Advocate","Associate Professor / Reference Librarian / Coordinator \nof Library Instruction / Women's Advocate","Associate Professor / Reference Librarian / \nCoordinator of Library Instruction","Associate Professor / Acting Head of Reference Services","Associate Professor / Library Instruction Coordinator / \nReference Librarian","Associate Professor / Library Instruction Coordinator / \nReference Librarian","Associate Professor / Library Instruction Coordinator / \nReference Librarian","Associate Professor / Library Instruction Coordinator / \nReference Librarian","Associate Professor / Library Instruction Coordinator / \nReference Librarian","Professor / Library Instruction Coordinator / \nReference Librarian","Professor / Library Instruction Coordinator / \nReference Librarian","Professor / Library Instruction Coordinator /\nReference Librarian","Professor / Library Instruction Coordinator / \nReference Librarian","Professor / Library Instruction Coordinator / \nReference Librarian","Professor / Library Instruction Coordinator / \nReference Librarian"]
[null,"Bradley","Chastity","B.S.",null,null,null,null,null,null,null,null,null,null,null,null,null,null,null,null,null,null,null,null,null,null,null,null,null,null,null,null,null,null,null,null,null,null,null,null,null,null,null,null,null,null,null,null,null,null,null,null,null,null,null,null,null,null,null,null,null,null,null,null,null,null,null,null,null,null,null,null,null,null,null,null,null,null,null,null,null,null,null,null,null,null,null,null,null,null,null,null,null,null,null,null,null,null,null,null,null,null,null,null,null,null,null,null,null,null,null,null,null,null,null,null,null,null,null,"Associate Head Tennis Coach"]
[3782,"Brady","Rob","B.A., S.T.B., Ph.D.",null,null,null,null,null,null,null,null,null,null,null,null,null,null,null,null,null,null,null,null,null,null,null,null,null,null,null,null,null,null,null,null,null,null,null,null,null,null,null,null,null,null,null,null,null,null,null,null,null,null,null,null,null,null,null,null,null,null,null,null,null,null,null,null,null,null,null,null,null,null,null,null,null,null,null,null,null,null,null,null,null,null,null,"Assistant Professor of Philosophy / Chair","Assistant Professor of Philosophy / Chair","Associate Professor of Philosophy / Chair","Associate Professor of Philosophy / Chair","Associate Professor of Philosophy / Chair","Associate Professor of Philosophy / Chair","Associate Professor of Philosophy / Chair","Associate Professor of Philosophy / Chair","Associate Professor of Philosophy / Chair","Associate Professor of Philosophy","Associate Professor of Philosophy","Associate Professor of Philosophy (Spring Sabbatical)","Associate Professor of Philosophy","Professor of Philosophy","Professor of Philosophy","Professor of Philosophy","Professor of Philosophy","Professor of Philosophy (Academic Year Sabbatical)","Professor of Philosophy","Professor of Philosophy","Professor of Philosophy (Leave of Absence)","Professor of Philosophy / Chair","Professor of Philosophy / Chair","Professor of Philosophy / Chair","Professor of Philosophy"]
[3780,"Branch","James C.","Captain U.S.A., B.S.",null,null,null,null,null,null,null,null,null,null,null,null,null,null,null,null,null,null,null,null,null,null,null,null,null,null,null,null,null,null,null,null,null,null,null,null,null,null,null,null,null,null,null,null,null,null,null,null,null,null,null,null,null,null,null,null,null,null,null,null,null,null,null,null,null,null,null,null,null,null,null,null,null,null,null,null,null,null,null,null,null,null,null,"Assistant Professor of Military Science"]
[3494,"Brand","James T.","LLB",null,null,null,null,null,null,null,null,null,null,null,null,null,null,null,null,null,null,null,null,null,null,null,null,null,null,null,null,null,null,null,null,null,null,null,null,null,null,null,null,null,null,null,null,null,null,null,null,null,null,null,null,null,null,null,null,null,null,null,null,null,null,null,null,null,null,null,null,null,null,"Professor of Law","Professor of Law"]
[827,"Brand","Richard Clyde","A.B., M.A.",null,null,null,null,null,null,null,null,null,null,null,null,null,null,null,null,null,null,null,null,null,null,null,null,null,null,null,null,null,null,null,null,null,null,null,null,null,null,null,null,null,null,null,null,null,null,null,null,null,null,null,null,null,null,null,null,null,null,"Professor of Speech","Professor of Speech","Professor of Speech","Professor of Speech","Professor of Speech"]
[3442,"Brannen","Malcolm D.","Major",null,null,null,null,null,null,null,null,null,null,null,null,null,null,null,null,null,null,null,null,null,null,null,null,null,null,null,null,null,null,null,null,null,null,null,null,null,null,null,null,null,null,null,null,null,null,null,null,null,null,null,null,null,null,null,null,null,null,null,null,null,null,null,null,null,null,null,null,"Professor of Military Science & Tactics","Professor of Military Science & Tactics","Professor of Military Science & Tactics"]
[null,"Brantley","Kristina","M.A., M.Ed.",null,null,null,null,null,null,null,null,null,null,null,null,null,null,null,null,null,null,null,null,null,null,null,null,null,null,null,null,null,null,null,null,null,null,null,null,null,null,null,null,null,null,null,null,null,null,null,null,null,null,null,null,null,null,null,null,null,null,null,null,null,null,null,null,null,null,null,null,null,null,null,null,null,null,null,null,null,null,null,null,null,null,null,null,null,null,null,null,null,null,null,null,null,null,null,null,null,null,null,null,null,null,null,null,null,null,null,null,null,null,null,null,null,null,null,null,"Registrar"]
[3167,"Brantley","Louise D.","A.B.",null,null,null,null,null,null,null,null,null,null,null,null,null,null,null,null,null,null,null,null,null,null,null,null,null,null,null,null,null,null,null,null,null,null,null,null,null,null,null,null,null,null,null,null,null,null,null,null,null,null,null,null,null,null,null,null,"Instructor in English"]
[3168,"Brantley","Maurice E.","A.B.",null,null,null,null,null,null,null,null,null,null,null,null,null,null,null,null,null,null,null,null,null,null,null,null,null,null,null,null,null,null,null,null,null,null,null,null,null,null,null,null,null,null,null,null,null,null,null,null,null,null,null,null,null,null,null,null,"Instructor in Religion"]
[3962,"Branton","Deborah G.","B.S., M.S.",null,null,null,null,null,null,null,null,null,null,null,null,null,null,null,null,null,null,null,null,null,null,null,null,null,null,null,null,null,null,null,null,null,null,null,null,null,null,null,null,null,null,null,null,null,null,null,null,null,null,null,null,null,null,null,null,null,null,null,null,null,null,null,null,null,null,null,null,null,null,null,null,null,null,null,null,null,null,null,null,null,null,null,null,null,null,null,null,null,"Instructor in Mathematics & Computer Science","Instructor in Mathematics & Computer Science","Assistant Professor of Mathematics & Computer Science","Assistant Professor of Mathematics & Computer Science","Assistant Professor of Mathematics & Computer Science","Assistant Professor of Mathematics & Computer Science","Professor of Mathematics & Computer Science"]
[3963,"Branton","Michael G.","B.S., M.S., Ph.D.",null,null,null,null,null,null,null,null,null,null,null,null,null,null,null,null,null,null,null,null,null,null,null,null,null,null,null,null,null,null,null,null,null,null,null,null,null,null,null,null,null,null,null,null,null,null,null,null,null,null,null,null,null,null,null,null,null,null,null,null,null,null,null,null,null,null,null,null,null,null,null,null,null,null,null,null,null,null,null,null,null,null,null,null,null,null,null,null,null,"Assistant Professor of Mathematics & Computer Science","Assistant Professor of Mathematics & Computer Science","Assistant Professor of Mathematics & Computer Science","Assistant Professor of Mathematics & Computer Science","Assistant Professor of Mathematics & Computer Science","Assistant Professor of Mathematics & Computer Science","Associate Professor of Mathematics & Computer Science","Associate Professor of Mathematics & Computer Science","Associate Professor of Mathematics & Computer Science","Associate Professor of Mathematics & Computer Science","Associate Professor of Mathematics & Computer Science","Associate Professor of Mathematics & Computer Science","Associate Professor of Mathematics & Computer \nScience / Chair","Associate Professor of Mathematics & Computer \nScience / Chair","Professor of Mathematics & Computer Science / Chair","Professor of Mathematics & Computer Science","Professor of Mathematics & Computer Science","Senior Lecturer in Mathematics & Computer Science","Senior Lecturer in Mathematics & Computer Science","Senior Lecturer in Mathematics & Computer Science","Senior Lecturer in Mathematics & Computer Science","Senior Professor of Mathematics & Computer Science","Professor of Mathematics & Computer Science","Professor of Mathematics & Computer Science","Professor of Mathematics & Computer Science","Professor of Mathematics & Computer Science","Professor of Mathematics & Computer Science","Professor of Mathematics & Computer Science","Professor of Mathematics & Computer Science"]
[345,"Brass","B. Franklin",null,null,null,null,null,null,null,null,null,null,null,null,null,null,null,null,null,null,null,null,null,null,null,null,null,null,null,"Assistant in the Business College","In Charge of Men's Dormitories","In Charge of Men's Dormitories","Instructor In Law"]
[4061,"Braun","Diane","B.A., M.A.",null,null,null,null,null,null,null,null,null,null,null,null,null,null,null,null,null,null,null,null,null,null,null,null,null,null,null,null,null,null,null,null,null,null,null,null,null,null,null,null,null,null,null,null,null,null,null,null,null,null,null,null,null,null,null,null,null,null,null,null,null,null,null,null,null,null,null,null,null,null,null,null,null,null,null,null,null,null,null,null,null,null,null,null,null,null,null,null,null,null,null,null,null,null,"Instructor in Spanish","Instructor in Spanish","Instructor in Foreign Language"]
[3596,"Braxton","Leon E.","B.A., M.A.,",null,null,null,null,null,null,null,null,null,null,null,null,null,null,null,null,null,null,null,null,null,null,null,null,null,null,null,null,null,null,null,null,null,null,null,null,null,null,null,null,null,null,null,null,null,null,null,null,null,null,null,null,null,null,null,null,null,null,null,null,null,null,null,null,null,null,null,null,null,null,null,null,null,null,null,null,"Instructor in Modern Languages","Instructor in Modern Languages","Instructor in Modern Languages","Assistant Professor in Modern Languages","Assistant Professor of Foreign Languages","Assistant Professor of Foreign Languages"]
[2445,"Bray","J.W.","A.M.",null,null,null,null,null,null,null,null,null,null,"Professor of English"]
[4320,"Brenner","Vincent C.","B.S., M.B.A., Ph.D., CPA",null,null,null,null,null,null,null,null,null,null,null,null,null,null,null,null,null,null,null,null,null,null,null,null,null,null,null,null,null,null,null,null,null,null,null,null,null,null,null,null,null,null,null,null,null,null,null,null,null,null,null,null,null,null,null,null,null,null,null,null,null,null,null,null,null,null,null,null,null,null,null,null,null,null,null,null,null,null,null,null,null,null,null,null,null,null,null,null,null,null,null,null,null,null,null,null,null,null,null,null,null,null,null,"David M. Beights Professor of Accounting","David M. Beights Professor of Accounting / Chair","David M. Beights Professor of Accounting / Chair","David M. Beights Professor of Accounting / Chair","David M. Beights Professor of Accounting","David M. Beights Professor of Accounting","David M. Beights Professor of Accounting","David M. Beights Professor of Accounting","David M. Beights Professor of Accounting","David M. Beights Professor of Accounting","David M. Beights Professor of Accounting","The David M. Beights Professor of Accounting","The David M. Beights Professor of Accounting","The David M. Beights Professor of Accounting","The David M. Beights Professor of Accounting"]
[3670,"Breton","Concha","Doctora en Letras",null,null,null,null,null,null,null,null,null,null,null,null,null,null,null,null,null,null,null,null,null,null,null,null,null,null,null,null,null,null,null,null,null,null,null,null,null,null,null,null,null,null,null,null,null,null,null,null,null,null,null,null,null,null,null,null,null,null,null,null,null,null,null,null,null,null,null,null,null,null,null,null,null,null,null,null,null,null,null,"Visiting Professor of Foreign Languages","Visiting Professor of Foreign Languages"]
[900,"Brewster","William, Jr.","A.B., LL.B., M.A.",null,null,null,null,null,null,null,null,null,null,null,null,null,null,null,null,null,null,null,null,null,null,null,null,null,null,null,null,null,null,null,null,null,null,null,null,null,null,null,null,null,null,null,null,null,null,null,null,null,null,null,null,null,null,null,null,null,null,null,"Instructor in Business Administration","Instructor in Business Administration","Assistant Professor of Business Administration & Economics","Assistant Professor of Business Administration & Economics","Assistant Professor of Business Administration & Economics","Assistant Professor of Business Administration & Economics"]
[4704,"Bria","Lynn","B.A., M.A.",null,null,null,null,null,null,null,null,null,null,null,null,null,null,null,null,null,null,null,null,null,null,null,null,null,null,null,null,null,null,null,null,null,null,null,null,null,null,null,null,null,null,null,null,null,null,null,null,null,null,null,null,null,null,null,null,null,null,null,null,null,null,null,null,null,null,null,null,null,null,null,null,null,null,null,null,null,null,null,null,null,null,null,null,null,null,null,null,null,null,null,null,null,null,null,null,null,null,null,null,null,null,null,null,null,null,null,null,null,null,null,null,null,"Head Women's Basketball Coach","Head Women’s Basketball Coach","Head Women’s Basketball Coach"]
[null,"Briant","Tammy L.","B.S., B.A., J.D.",null,null,null,null,null,null,null,null,null,null,null,null,null,null,null,null,null,null,null,null,null,null,null,null,null,null,null,null,null,null,null,null,null,null,null,null,null,null,null,null,null,null,null,null,null,null,null,null,null,null,null,null,null,null,null,null,null,null,null,null,null,null,null,null,null,null,null,null,null,null,null,null,null,null,null,null,null,null,null,null,null,null,null,null,null,null,null,null,null,null,null,null,null,null,null,null,null,null,null,null,null,null,null,null,null,null,null,null,null,null,null,null,null,null,null,"Interim Director for Student Life","Director for Student Life, Law School"]
[null,"Brickey, ATC, LAT","Glenn","B.S., M.A.",null,null,null,null,null,null,null,null,null,null,null,null,null,null,null,null,null,null,null,null,null,null,null,null,null,null,null,null,null,null,null,null,null,null,null,null,null,null,null,null,null,null,null,null,null,null,null,null,null,null,null,null,null,null,null,null,null,null,null,null,null,null,null,null,null,null,null,null,null,null,null,null,null,null,null,null,null,null,null,null,null,null,null,null,null,null,null,null,null,null,null,null,null,null,null,null,null,null,null,null,null,null,null,null,null,null,null,null,null,null,null,null,null,null,"Director of Sports Medicine","Director of Sports Medicine","Director of Sports Medicine"]
[81,"Briggs","Thomas H.","Jr., A.B.",null,null,null,null,null,null,null,null,null,null,null,null,"Professor of English"]
[825,"Brinkley","Ellen McCrory",null,null,null,null,null,null,null,null,null,null,null,null,null,null,null,null,null,null,null,null,null,null,null,null,null,null,null,null,null,null,null,null,null,null,null,null,null,null,null,null,null,null,null,null,null,null,null,null,null,null,null,null,null,null,null,null,null,null,null,"Manager of University Book Store"]
[424,"Briscoe","Gladys Marion",null,null,null,null,null,null,null,null,null,null,null,null,null,null,null,null,null,null,null,null,null,null,null,null,null,null,null,null,null,null,null,null,null,"Instructor in Physical Culture","Instructor in Physical Culture"]
[3493,"Britt","Claude H., Jr.","MA",null,null,null,null,null,null,null,null,null,null,null,null,null,null,null,null,null,null,null,null,null,null,null,null,null,null,null,null,null,null,null,null,null,null,null,null,null,null,null,null,null,null,null,null,null,null,null,null,null,null,null,null,null,null,null,null,null,null,null,null,null,null,null,null,null,null,null,null,null,null,null,"Instructor in Modern Languages"]
[94,"Broadus","Edmund K.","A.M.",null,null,null,null,null,null,null,null,null,null,null,null,null,"Professor of English","Professor of English"]
[2487,"Broadus","Eleanor Hammond","Mrs.",null,null,null,null,null,null,null,null,null,null,null,null,null,"Director of the Normal & Practice School / Instructor \nin Physical Culture"]
[2574,"Brock","Letta","A.B.",null,null,null,null,null,null,null,null,null,null,null,null,null,null,null,null,"Assistant in English"]
[3356,"Brockett","Lenyth S.","A.B., M.A., Ph.D.",null,null,null,null,null,null,null,null,null,null,null,null,null,null,null,null,null,null,null,null,null,null,null,null,null,null,null,null,null,null,null,null,null,null,null,null,null,null,null,null,null,null,null,null,null,null,null,null,null,null,null,null,null,null,null,null,null,null,null,null,null,null,null,null,"Assistant Professor of Speech","Assistant Professor of Speech","Assistant Professor of Speech","Assistant Professor of Speech"]
[966,"Brockett","Oscar G.","A.B., M.A., Ph.D.",null,null,null,null,null,null,null,null,null,null,null,null,null,null,null,null,null,null,null,null,null,null,null,null,null,null,null,null,null,null,null,null,null,null,null,null,null,null,null,null,null,null,null,null,null,null,null,null,null,null,null,null,null,null,null,null,null,null,null,null,null,null,null,null,"Assistant Professor of Speech","Assistant Professor of Speech","Assistant Professor of Speech","Assistant Professor of Speech"]
[3088,"Brooks","Dora Sue","R.N.",null,null,null,null,null,null,null,null,null,null,null,null,null,null,null,null,null,null,null,null,null,null,null,null,null,null,null,null,null,null,null,null,null,null,null,null,null,null,null,null,null,null,null,null,null,null,null,null,null,"Assistant Nurse",null,"Assistant Nurse","Assistant Nurse"]
[3760,"Brooks","Peter D.","MA",null,null,null,null,null,null,null,null,null,null,null,null,null,null,null,null,null,null,null,null,null,null,null,null,null,null,null,null,null,null,null,null,null,null,null,null,null,null,null,null,null,null,null,null,null,null,null,null,null,null,null,null,null,null,null,null,null,null,null,null,null,null,null,null,null,null,null,null,null,null,null,null,null,null,null,null,null,null,null,null,null,null,"Instructor in Physical Education"]
[3039,"Broome","Jeanette M.","M.S.",null,null,null,null,null,null,null,null,null,null,null,null,null,null,null,null,null,null,null,null,null,null,null,null,null,null,null,null,null,null,null,null,null,null,null,null,null,null,null,null,null,null,null,null,null,null,null,"Instructor in Home Economics / Principles of Cooking \n& Nutrition (Resigned)"]
[4610,"Brosseder","Claudia","M.A., Ph.D.",null,null,null,null,null,null,null,null,null,null,null,null,null,null,null,null,null,null,null,null,null,null,null,null,null,null,null,null,null,null,null,null,null,null,null,null,null,null,null,null,null,null,null,null,null,null,null,null,null,null,null,null,null,null,null,null,null,null,null,null,null,null,null,null,null,null,null,null,null,null,null,null,null,null,null,null,null,null,null,null,null,null,null,null,null,null,null,null,null,null,null,null,null,null,null,null,null,null,null,null,null,null,null,null,null,null,null,null,null,null,null,"Visiting Assistant Professor of History","Visiting Assistant Professor of History"]
[2433,"Brown","Anna W.",null,null,null,null,null,null,null,null,null,null,"Instructor in Elocution & Physical Culture","Instructor in Elocution & Physical Culture","Instructor in English, Elocution & Physical Culture","Instructor in Elocution & Physical Culture"]
[null,"Brown","Benjamin","B.A., M.S., M.P.M.",null,null,null,null,null,null,null,null,null,null,null,null,null,null,null,null,null,null,null,null,null,null,null,null,null,null,null,null,null,null,null,null,null,null,null,null,null,null,null,null,null,null,null,null,null,null,null,null,null,null,null,null,null,null,null,null,null,null,null,null,null,null,null,null,null,null,null,null,null,null,null,null,null,null,null,null,null,null,null,null,null,null,null,null,null,null,null,null,null,null,null,null,null,null,null,null,null,null,null,null,null,null,null,null,null,null,null,null,null,null,null,null,null,null,null,null,"Visiting Lecturer of Teacher Education"]
[29,"Brown","Clara S.",null,null,null,null,null,null,null,"Teacher of Elocution & Physical Culture","Teacher of Elocution & Physical Culture","On Leave of Absence for Study"]
[689,"Brown","Claude Hilding","J.S.D.",null,null,null,null,null,null,null,null,null,null,null,null,null,null,null,null,null,null,null,null,null,null,null,null,null,null,null,null,null,null,null,null,null,null,null,null,null,null,null,null,null,null,null,null,null,null,null,null,null,"Professor of Law","Professor of Law","Professor of Law","Professor of Law (Leave of Absence)"]
[null,"Brown","Deborah C.","B.A., J.D.",null,null,null,null,null,null,null,null,null,null,null,null,null,null,null,null,null,null,null,null,null,null,null,null,null,null,null,null,null,null,null,null,null,null,null,null,null,null,null,null,null,null,null,null,null,null,null,null,null,null,null,null,null,null,null,null,null,null,null,null,null,null,null,null,null,null,null,null,null,null,null,null,null,null,null,null,null,null,null,null,null,null,null,null,null,null,null,null,null,null,null,null,null,null,null,null,null,null,null,null,null,null,null,null,null,null,null,null,null,null,null,null,null,null,"Associate Vice President for Legal Affairs & \nHuman Resources"]
[2943,"Brown","Elizabeth Florence","B.S.",null,null,null,null,null,null,null,null,null,null,null,null,null,null,null,null,null,null,null,null,null,null,null,null,null,null,null,null,null,null,null,null,null,null,null,null,null,null,"Assistant in Science"]
[null,"Brown","Euguene",null,null,null,null,null,null,null,null,null,null,null,null,null,null,null,null,null,null,null,null,null,null,null,null,null,null,null,null,null,null,null,null,null,null,null,null,null,null,null,null,null,null,null,null,null,null,null,null,null,null,null,null,null,null,null,null,null,null,null,null,null,null,null,null,null,null,null,null,null,null,null,null,null,null,null,null,null,null,null,null,null,null,null,null,null,null,null,null,null,null,null,null,null,null,null,null,null,null,null,null,null,null,null,null,null,null,null,null,null,null,null,null,null,null,null,"Military Science Instructor","Military Science Instructor"]
[747,"Brown","Frances",null,null,null,null,null,null,null,null,null,null,null,null,null,null,null,null,null,null,null,null,null,null,null,null,null,null,null,null,null,null,null,null,null,null,null,null,null,null,null,null,null,null,null,null,null,null,null,null,null,null,null,null,null,null,null,"Secretary to the Dean of the University","Secretary to the Dean of the University (Resigned)"]
[3707,"Brown","James E","B.S., M.A., Ph.D.",null,null,null,null,null,null,null,null,null,null,null,null,null,null,null,null,null,null,null,null,null,null,null,null,null,null,null,null,null,null,null,null,null,null,null,null,null,null,null,null,null,null,null,null,null,null,null,null,null,null,null,null,null,null,null,null,null,null,null,null,null,null,null,null,null,null,null,null,null,null,null,null,null,null,null,null,null,null,null,null,"Associate Professor of Business Administration","Associate Professor of Business Administration","Associate Professor of Business Administration"]
[3913,"Brown","James Jay","B.S., J.D., LL.M.",null,null,null,null,null,null,null,null,null,null,null,null,null,null,null,null,null,null,null,null,null,null,null,null,null,null,null,null,null,null,null,null,null,null,null,null,null,null,null,null,null,null,null,null,null,null,null,null,null,null,null,null,null,null,null,null,null,null,null,null,null,null,null,null,null,null,null,null,null,null,null,null,null,null,null,null,null,null,null,null,null,null,null,null,null,null,null,"Visiting Professor of Law","Professor of Law","Professor of Law","Professor of Law","Professor of Law","Professor of Law","Professor of Law","Professor of Law","Professor of Law","Professor of Law","Professor of Law","Professor of Law","Professor of Law","Professor of Law","Professor of Law","Professor of Law","Professor of Law","Professor of Law","Professor of Law","Professor of Law","Professor of Law","Professor of Law","Attorney's Title Insurance Fund Professor of Law","Attorney's Title Insurance Fund Professor of Law","Attorney's Title Insurance Fund Professor of Law","Attorney's Title Insurance Fund Professor of Law","Attorney's Title Insurance Fund Professor of Law","Professor of Law Emeritus / Attorneys’ Title \nInsurance Fund Professor of Law Emeritus","Professor of Law Emeritus / Attorneys’ Title \nInsurance Fund Professor of Law Emeritus","Professor of Law, Emeritus / Attorneys’ Title \nInsurance Fund Professor of Law, Emeritus","Professor of Law, Emeritus"]
[3578,"Brown","Joe A","Captain, B.S.",null,null,null,null,null,null,null,null,null,null,null,null,null,null,null,null,null,null,null,null,null,null,null,null,null,null,null,null,null,null,null,null,null,null,null,null,null,null,null,null,null,null,null,null,null,null,null,null,null,null,null,null,null,null,null,null,null,null,null,null,null,null,null,null,null,null,null,null,null,null,null,null,null,null,null,"Associate Professor of Military Science"]
[4137,"Brown","Joseph D.","B.S., M.S., Ph.D.",null,null,null,null,null,null,null,null,null,null,null,null,null,null,null,null,null,null,null,null,null,null,null,null,null,null,null,null,null,null,null,null,null,null,null,null,null,null,null,null,null,null,null,null,null,null,null,null,null,null,null,null,null,null,null,null,null,null,null,null,null,null,null,null,null,null,null,null,null,null,null,null,null,null,null,null,null,null,null,null,null,null,null,null,null,null,null,null,null,null,null,null,null,null,null,null,null,"Assistant Professor of Physical Education"]
[522,"Brown","Joyce",null,null,null,null,null,null,null,null,null,null,null,null,null,null,null,null,null,null,null,null,null,null,null,null,null,null,null,null,null,null,null,null,null,null,null,null,null,"Assistant in Library"]
[4048,"Brown","Mark R.","B.S., J.D., LL.M.",null,null,null,null,null,null,null,null,null,null,null,null,null,null,null,null,null,null,null,null,null,null,null,null,null,null,null,null,null,null,null,null,null,null,null,null,null,null,null,null,null,null,null,null,null,null,null,null,null,null,null,null,null,null,null,null,null,null,null,null,null,null,null,null,null,null,null,null,null,null,null,null,null,null,null,null,null,null,null,null,null,null,null,null,null,null,null,null,null,null,null,null,null,"Assistant Professor of Law","Assistant Professor of Law","Assistant Professor of Law","Assistant Professor of Law","Associate Professor of Law","Associate Professor of Law","Associate Professor of Law","Professor of Law","Professor of Law","Professor of Law","Professor of Law","Professor of Law","Professor of Law","Professor of Law"]
[2534,"Brown","Mary","Mrs.",null,null,null,null,null,null,null,null,null,null,null,null,null,null,"Matron-Chaudoin Hall","Matron-Chaudoin Hall","Matron-Chaudoin Hall"]
[4238,"Brown","Randall A.","B.A., M.Ed.",null,null,null,null,null,null,null,null,null,null,null,null,null,null,null,null,null,null,null,null,null,null,null,null,null,null,null,null,null,null,null,null,null,null,null,null,null,null,null,null,null,null,null,null,null,null,null,null,null,null,null,null,null,null,null,null,null,null,null,null,null,null,null,null,null,null,null,null,null,null,null,null,null,null,null,null,null,null,null,null,null,null,null,null,null,null,null,null,null,null,null,null,null,null,null,null,null,null,null,"Men's Assistant Basketball Coach","Men's Assistant Basketball Coach","Men's Basketball Coach","Head Men's Basketball Coach"]
[140,"Brown","Samuel I.",null,null,null,null,null,null,null,null,null,null,null,null,null,null,null,"Steward","Steward","Steward",null,null,null,null,null,null,null,null,null,null,null,null,null,"Steward","Steward","Steward","Steward","Steward","Steward","Steward","Steward","Steward","Steward","Steward","Steward"]
[3149,"Brown","Susie Persons","A.B, M.A., B.S. in L.S.",null,null,null,null,null,null,null,null,null,null,null,null,null,null,null,null,null,null,null,null,null,null,null,null,null,null,null,null,null,null,null,null,null,null,null,null,null,null,null,null,null,null,null,null,null,null,null,null,null,null,null,null,null,null,"Assistant Librarian","Assistant Librarian","Assistant Librarian","Assistant Librarian","Associate Librarian","Associate Librarian","Associate Librarian","Associate Librarian","Associate Librarian","Associate Librarian","Associate Librarian","Associate Librarian","Associate Librarian","Associate Librarian","Associate Librarian","Associate Librarian"]
[2912,"Brown","Thelma",null,null,null,null,null,null,null,null,null,null,null,null,null,null,null,null,null,null,null,null,null,null,null,null,null,null,null,null,null,null,null,null,null,null,null,null,null,"Assistant in Library"]
[497,"Browne","Mary E.L.",null,null,null,null,null,null,null,null,null,null,null,null,null,null,null,null,null,null,null,null,null,null,null,null,null,null,null,null,null,null,null,null,null,null,null,null,"Instructor in Pipe Organ & Harmony","Instructor in Pipe Organ & Harmony"]
[null,"Brownfield","Cindi","B.A.",null,null,null,null,null,null,null,null,null,null,null,null,null,null,null,null,null,null,null,null,null,null,null,null,null,null,null,null,null,null,null,null,null,null,null,null,null,null,null,null,null,null,null,null,null,null,null,null,null,null,null,null,null,null,null,null,null,null,null,null,null,null,null,null,null,null,null,null,null,null,null,null,null,null,null,null,null,null,null,null,null,null,null,null,null,null,null,null,null,null,null,null,null,null,null,null,null,null,null,null,null,null,null,null,null,null,null,null,null,null,null,null,null,null,"Director of News & Media Relations","Director of News & Media Relations"]
[null,"Browning","Lisa",null,null,null,null,null,null,null,null,null,null,null,null,null,null,null,null,null,null,null,null,null,null,null,null,null,null,null,null,null,null,null,null,null,null,null,null,null,null,null,null,null,null,null,null,null,null,null,null,null,null,null,null,null,null,null,null,null,null,null,null,null,null,null,null,null,null,null,null,null,null,null,null,null,null,null,null,null,null,null,null,null,null,null,null,null,null,null,null,null,null,null,null,null,null,null,null,null,null,null,null,null,null,null,null,null,null,null,null,null,null,null,null,null,null,null,null,"Volunteer Cheerleading Coach"]
[465,"Bruce","Frances Roberts",null,null,null,null,null,null,null,null,null,null,null,null,null,null,null,null,null,null,null,null,null,null,null,null,null,null,null,null,null,null,null,null,null,null,null,"Instructor in Domestic Science & Art","Instructor in Domestic Science & Art","Instructor in Domestic Science & Art","Instructor in Domestic Science & Art"]
[3861,"Bruce","Jon W.","B.A., J.D.",null,null,null,null,null,null,null,null,null,null,null,null,null,null,null,null,null,null,null,null,null,null,null,null,null,null,null,null,null,null,null,null,null,null,null,null,null,null,null,null,null,null,null,null,null,null,null,null,null,null,null,null,null,null,null,null,null,null,null,null,null,null,null,null,null,null,null,null,null,null,null,null,null,null,null,null,null,null,null,null,null,null,null,null,"Associate Professor of Law","Associate Professor of Law","Associate Professor of Law","Associate Professor of Law"]
[3422,"Brune","Audrey","M.A.",null,null,null,null,null,null,null,null,null,null,null,null,null,null,null,null,null,null,null,null,null,null,null,null,null,null,null,null,null,null,null,null,null,null,null,null,null,null,null,null,null,null,null,null,null,null,null,null,null,null,null,null,null,null,null,null,null,null,null,null,null,null,null,null,null,null,null,"Professor of English","Assistant Professor of English"]
[3831,"Brunk","Joyce E.","B.A., M.A.",null,null,null,null,null,null,null,null,null,null,null,null,null,null,null,null,null,null,null,null,null,null,null,null,null,null,null,null,null,null,null,null,null,null,null,null,null,null,null,null,null,null,null,null,null,null,null,null,null,null,null,null,null,null,null,null,null,null,null,null,null,null,null,null,null,null,null,null,null,null,null,null,null,null,null,null,null,null,null,null,null,null,null,null,"Instructor in Education","Instructor in Education","Instructor in Education"]
[3708,"Brunk","Paul W","B.A., M.A., Ph.D.",null,null,null,null,null,null,null,null,null,null,null,null,null,null,null,null,null,null,null,null,null,null,null,null,null,null,null,null,null,null,null,null,null,null,null,null,null,null,null,null,null,null,null,null,null,null,null,null,null,null,null,null,null,null,null,null,null,null,null,null,null,null,null,null,null,null,null,null,null,null,null,null,null,null,null,null,null,null,null,null,"Assistant Professor of Psychology","Assistant Professor of Psychology","Assistant Professor of Psychology","Assistant Professor of Psychology","Associate Professor of Psychology","Associate Professor of Psychology","Associate Professor of Psychology","Associate Professor of Psychology (Leave of Absence)"]
[null,"Brunnig","Sarah","B.A., M.S., M.P.H",null,null,null,null,null,null,null,null,null,null,null,null,null,null,null,null,null,null,null,null,null,null,null,null,null,null,null,null,null,null,null,null,null,null,null,null,null,null,null,null,null,null,null,null,null,null,null,null,null,null,null,null,null,null,null,null,null,null,null,null,null,null,null,null,null,null,null,null,null,null,null,null,null,null,null,null,null,null,null,null,null,null,null,null,null,null,null,null,null,null,null,null,null,null,null,null,null,null,null,null,null,null,null,null,null,null,null,null,null,null,null,null,null,null,null,null,null,"Visiting Lecturer of Integrative Health Science"]
[3978,"Bryson","Craig I.","B.S., M.S.",null,null,null,null,null,null,null,null,null,null,null,null,null,null,null,null,null,null,null,null,null,null,null,null,null,null,null,null,null,null,null,null,null,null,null,null,null,null,null,null,null,null,null,null,null,null,null,null,null,null,null,null,null,null,null,null,null,null,null,null,null,null,null,null,null,null,null,null,null,null,null,null,null,null,null,null,null,null,null,null,null,null,null,null,null,null,null,null,null,null,"Visiting Assistant Professor of Art"]
[3759,"Buchmann","Mary L.","MA",null,null,null,null,null,null,null,null,null,null,null,null,null,null,null,null,null,null,null,null,null,null,null,null,null,null,null,null,null,null,null,null,null,null,null,null,null,null,null,null,null,null,null,null,null,null,null,null,null,null,null,null,null,null,null,null,null,null,null,null,null,null,null,null,null,null,null,null,null,null,null,null,null,null,null,null,null,null,null,null,null,null,"Instructor in Foreign Languages","Assistant Professor of Foreign Languages"]
[2909,"Buck","Frederica Elizabeth Lane",null,null,null,null,null,null,null,null,null,null,null,null,null,null,null,null,null,null,null,null,null,null,null,null,null,null,null,null,null,null,null,null,null,null,null,null,null,null,"Instructor in Harp"]
[null,"Buckels","Carol","B.A., M.A.",null,null,null,null,null,null,null,null,null,null,null,null,null,null,null,null,null,null,null,null,null,null,null,null,null,null,null,null,null,null,null,null,null,null,null,null,null,null,null,null,null,null,null,null,null,null,null,null,null,null,null,null,null,null,null,null,null,null,null,null,null,null,null,null,null,null,null,null,null,null,null,null,null,null,null,null,null,null,null,null,null,null,null,null,null,null,null,null,null,null,null,null,null,null,null,null,null,null,null,null,null,null,null,null,null,null,null,null,null,null,null,null,null,null,null,null,"Director of Grants / Sponsor of Education Research \n& Strategic Initiatives"]
[545,"Buckles","Ruth",null,null,null,null,null,null,null,null,null,null,null,null,null,null,null,null,null,null,null,null,null,null,null,null,null,null,null,null,null,null,null,null,null,null,null,null,null,null,"In Charge of University Book Store"]
[3597,"Budina","John William","Jr., A.B., M.B.A., Ph.D",null,null,null,null,null,null,null,null,null,null,null,null,null,null,null,null,null,null,null,null,null,null,null,null,null,null,null,null,null,null,null,null,null,null,null,null,null,null,null,null,null,null,null,null,null,null,null,null,null,null,null,null,null,null,null,null,null,null,null,null,null,null,null,null,null,null,null,null,null,null,null,null,null,null,null,null,null,"Associate Professor of Business Administration","Associate Professor of Business Administration"]
[4253,"Bulger","Jeffrey W.","B.S., M.A.",null,null,null,null,null,null,null,null,null,null,null,null,null,null,null,null,null,null,null,null,null,null,null,null,null,null,null,null,null,null,null,null,null,null,null,null,null,null,null,null,null,null,null,null,null,null,null,null,null,null,null,null,null,null,null,null,null,null,null,null,null,null,null,null,null,null,null,null,null,null,null,null,null,null,null,null,null,null,null,null,null,null,null,null,null,null,null,null,null,null,null,null,null,null,null,null,null,null,null,null,"Visiting Assistant Professor in Philosophy"]
[767,"Bullock","Amy W.","A.B.",null,null,null,null,null,null,null,null,null,null,null,null,null,null,null,null,null,null,null,null,null,null,null,null,null,null,null,null,null,null,null,null,null,null,null,null,null,null,null,null,null,null,null,null,null,null,null,null,null,null,null,null,null,null,null,null,"Hostess / Director of Women's Dormitories","Hostess / Director of Women's Dormitories","Hostess / Director of Women's Dormitories","Hostess / Director of Women's Dormitories"]
[3495,"Bunker","Eugene F., Jr.","B.S., M.A.",null,null,null,null,null,null,null,null,null,null,null,null,null,null,null,null,null,null,null,null,null,null,null,null,null,null,null,null,null,null,null,null,null,null,null,null,null,null,null,null,null,null,null,null,null,null,null,null,null,null,null,null,null,null,null,null,null,null,null,null,null,null,null,null,null,null,null,null,null,null,null,"Assistant Professor of Art","Assistant Professor of Art","Assistant Professor of Art","Assistant Professor of Art"]
[null,"Burge","Herman","B.A.",null,null,null,null,null,null,null,null,null,null,null,null,null,null,null,null,null,null,null,null,null,null,null,null,null,null,null,null,null,null,null,null,null,null,null,null,null,null,null,null,null,null,null,null,null,null,null,null,null,null,null,null,null,null,null,null,null,null,null,null,null,null,null,null,null,null,null,null,null,null,null,null,null,null,null,null,null,null,null,null,null,null,null,null,null,null,null,null,null,null,null,null,null,null,null,null,null,null,null,null,null,null,null,null,null,null,null,null,null,null,null,null,null,null,null,"Assistant Women’s Basketball Coach"]
[4292,"Burkett","Terry","B.S.",null,null,null,null,null,null,null,null,null,null,null,null,null,null,null,null,null,null,null,null,null,null,null,null,null,null,null,null,null,null,null,null,null,null,null,null,null,null,null,null,null,null,null,null,null,null,null,null,null,null,null,null,null,null,null,null,null,null,null,null,null,null,null,null,null,null,null,null,null,null,null,null,null,null,null,null,null,null,null,null,null,null,null,null,null,null,null,null,null,null,null,null,null,null,null,null,null,null,null,null,null,"Assistant Men's Basketball Coach","Assistant Men's Basketball Coach"]
[3943,"Burlin","Ann Elizabeth","B.A., M.A.",null,null,null,null,null,null,null,null,null,null,null,null,null,null,null,null,null,null,null,null,null,null,null,null,null,null,null,null,null,null,null,null,null,null,null,null,null,null,null,null,null,null,null,null,null,null,null,null,null,null,null,null,null,null,null,null,null,null,null,null,null,null,null,null,null,null,null,null,null,null,null,null,null,null,null,null,null,null,null,null,null,null,null,null,null,null,null,null,"Instructor in Speech","Assistant Professor of Speech","Assistant Professor of Speech","Assistant Professor of Speech","Assistant Professor of Speech","Assistant Professor of Speech"]
[3443,"Burlingham","Ruth Diane","MM",null,null,null,null,null,null,null,null,null,null,null,null,null,null,null,null,null,null,null,null,null,null,null,null,null,null,null,null,null,null,null,null,null,null,null,null,null,null,null,null,null,null,null,null,null,null,null,null,null,null,null,null,null,null,null,null,null,null,null,null,null,null,null,null,null,null,null,null,"Instructor in Piano & Theory","Instructor in Piano & Theory","Visiting Instructor in Piano & Theory"]
[4086,"Burnell","Frank","B.A.",null,null,null,null,null,null,null,null,null,null,null,null,null,null,null,null,null,null,null,null,null,null,null,null,null,null,null,null,null,null,null,null,null,null,null,null,null,null,null,null,null,null,null,null,null,null,null,null,null,null,null,null,null,null,null,null,null,null,null,null,null,null,null,null,null,null,null,null,null,null,null,null,null,null,null,null,null,null,null,null,null,null,null,null,null,null,null,null,null,null,null,null,null,null,"Assistant Men's Basketball Coach",null,null,"Assistant Men's Basketball Coach","Assistant Men's Basketball Coach"]
[4369,"Burnett","Judith","A.B., M.S., Ph.D..",null,null,null,null,null,null,null,null,null,null,null,null,null,null,null,null,null,null,null,null,null,null,null,null,null,null,null,null,null,null,null,null,null,null,null,null,null,null,null,null,null,null,null,null,null,null,null,null,null,null,null,null,null,null,null,null,null,null,null,null,null,null,null,null,null,null,null,null,null,null,null,null,null,null,null,null,null,null,null,null,null,null,null,null,null,null,null,null,null,null,null,null,null,null,null,null,null,null,null,null,null,null,null,null,"Assistant Professor of Counselor Education","Assistant Professor of Counselor Education","Assistant Professor of Counselor Education","Assistant Professor of Counselor Education","Assistant Professor of Counselor Education","Associate Professor of Counselor Education","Associate Professor of Counselor Education","Associate Professor of Counselor Education","Associate Professor of Counselor Education","Associate Professor of Counselor Education","Associate Professor of Counselor Education","Associate Professor of Counselor Education","Associate Professor of Counselor Education","Associate Professor of Counselor Education"]
[3997,"Burns","Harold J.","Captain USA, B.S.",null,null,null,null,null,null,null,null,null,null,null,null,null,null,null,null,null,null,null,null,null,null,null,null,null,null,null,null,null,null,null,null,null,null,null,null,null,null,null,null,null,null,null,null,null,null,null,null,null,null,null,null,null,null,null,null,null,null,null,null,null,null,null,null,null,null,null,null,null,null,null,null,null,null,null,null,null,null,null,null,null,null,null,null,null,null,null,null,null,null,null,"Assistant Professor of Military Science"]
[4062,"Burns","Jeanne M.","B.A., M.Ed. Ph.D.",null,null,null,null,null,null,null,null,null,null,null,null,null,null,null,null,null,null,null,null,null,null,null,null,null,null,null,null,null,null,null,null,null,null,null,null,null,null,null,null,null,null,null,null,null,null,null,null,null,null,null,null,null,null,null,null,null,null,null,null,null,null,null,null,null,null,null,null,null,null,null,null,null,null,null,null,null,null,null,null,null,null,null,null,null,null,null,null,null,null,null,null,null,null,"Assistant Professor of Education","Assistant Professor of Education"]
[2991,"Burns","Lucille",null,null,null,null,null,null,null,null,null,null,null,null,null,null,null,null,null,null,null,null,null,null,null,null,null,null,null,null,null,null,null,null,null,null,null,null,null,null,null,null,null,null,null,"Assistant in Library"]
[2929,"Burns","Persis",null,null,null,null,null,null,null,null,null,null,null,null,null,null,null,null,null,null,null,null,null,null,null,null,null,null,null,null,null,null,null,null,null,null,null,null,null,null,"Practice Teacher & Vocal Department"]
[676,"Burns","Sue McEachern","A.M.",null,null,null,null,null,null,null,null,null,null,null,null,null,null,null,null,null,null,null,null,null,null,null,null,null,null,null,null,null,null,null,null,null,null,null,null,null,null,null,null,null,null,null,null,null,null,null,null,null,"Assistant Professor of Education & Psychology","Assistant Professor of Education & Psychology","Assistant Professor of Education & Psychology","Assistant Professor of Education & Psychology","Assistant Professor of Education & Psychology","Assistant Professor of Education & Psychology","Assistant Professor of Education & Psychology \n(Leave of Absence)","Assistant Professor of Education & Psychology \n(Leave of Absence)"]
[4395,"Burris","John P.","B.A., M.A., Ph.D",null,null,null,null,null,null,null,null,null,null,null,null,null,null,null,null,null,null,null,null,null,null,null,null,null,null,null,null,null,null,null,null,null,null,null,null,null,null,null,null,null,null,null,null,null,null,null,null,null,null,null,null,null,null,null,null,null,null,null,null,null,null,null,null,null,null,null,null,null,null,null,null,null,null,null,null,null,null,null,null,null,null,null,null,null,null,null,null,null,null,null,null,null,null,null,null,null,null,null,null,null,null,null,null,"Visiting Assistant Professor of Religious Studies"]
[2934,"Burt","Lucille",null,null,null,null,null,null,null,null,null,null,null,null,null,null,null,null,null,null,null,null,null,null,null,null,null,null,null,null,null,null,null,null,null,null,null,null,null,null,"Assistant in Library"]
[3084,"Bush","Alberta Williams","A.B.",null,null,null,null,null,null,null,null,null,null,null,null,null,null,null,null,null,null,null,null,null,null,null,null,null,null,null,null,null,null,null,null,null,null,null,null,null,null,null,null,null,null,null,null,null,null,null,null,null,"Reference Librarian (Resigned)"]
[144,"Bush","Emma L.","A.B.",null,null,null,null,null,null,null,null,null,null,null,null,null,null,null,"Dean of Women / Instructor of German & Latin","Dean of Women / Professor of German"]
[469,"Bush","Florence Lilian",null,null,null,null,null,null,null,null,null,null,null,null,null,null,null,null,null,null,null,null,null,null,null,null,null,null,null,null,null,null,null,null,null,null,null,"Instructor in Fine Arts"]
[3854,"Bush","Mary Wayne","B.M., M.M.",null,null,null,null,null,null,null,null,null,null,null,null,null,null,null,null,null,null,null,null,null,null,null,null,null,null,null,null,null,null,null,null,null,null,null,null,null,null,null,null,null,null,null,null,null,null,null,null,null,null,null,null,null,null,null,null,null,null,null,null,null,null,null,null,null,null,null,null,null,null,null,null,null,null,null,null,null,null,null,null,null,null,null,null,"Instructor in Violin & Viola","Instructor in Violin & Viola"]
[2988,"Bushnell","Roswell S., III","B.S., M.S.",null,null,null,null,null,null,null,null,null,null,null,null,null,null,null,null,null,null,null,null,null,null,null,null,null,null,null,null,null,null,null,null,null,null,null,null,null,null,null,null,null,null,"Instructor in Wind Instruments",null,null,null,null,null,null,null,null,null,null,null,null,null,null,null,null,null,null,null,null,"Instructor in Biology"]
[3322,"Buskirk","Golda Van","M.A., Ph.D.",null,null,null,null,null,null,null,null,null,null,null,null,null,null,null,null,null,null,null,null,null,null,null,null,null,null,null,null,null,null,null,null,null,null,null,null,null,null,null,null,null,null,null,null,null,null,null,null,null,null,null,null,null,null,null,null,null,null,null,null,"Professor of Psychology","Director of Guidance"]
[null,"Buthman","James","B.A., M.A., Ph.D.",null,null,null,null,null,null,null,null,null,null,null,null,null,null,null,null,null,null,null,null,null,null,null,null,null,null,null,null,null,null,null,null,null,null,null,null,null,null,null,null,null,null,null,null,null,null,null,null,null,null,null,null,null,null,null,null,null,null,null,null,null,null,null,null,null,null,null,null,null,null,null,null,null,null,null,null,null,null,null,null,null,null,null,null,null,null,null,null,null,null,null,null,null,null,null,null,null,null,null,null,null,null,null,null,null,null,null,null,null,null,null,null,null,null,null,null,"Visiting Lecturer in Political Science"]
[4678,"Butler","Fred","B.A., M.A., Ph.D.",null,null,null,null,null,null,null,null,null,null,null,null,null,null,null,null,null,null,null,null,null,null,null,null,null,null,null,null,null,null,null,null,null,null,null,null,null,null,null,null,null,null,null,null,null,null,null,null,null,null,null,null,null,null,null,null,null,null,null,null,null,null,null,null,null,null,null,null,null,null,null,null,null,null,null,null,null,null,null,null,null,null,null,null,null,null,null,null,null,null,null,null,null,null,null,null,null,null,null,null,null,null,null,null,null,null,null,null,null,null,null,null,null,"Lecturer in Modern Languages"]
[3944,"Butler","Jeffrey G.","B.M.",null,null,null,null,null,null,null,null,null,null,null,null,null,null,null,null,null,null,null,null,null,null,null,null,null,null,null,null,null,null,null,null,null,null,null,null,null,null,null,null,null,null,null,null,null,null,null,null,null,null,null,null,null,null,null,null,null,null,null,null,null,null,null,null,null,null,null,null,null,null,null,null,null,null,null,null,null,null,null,null,null,null,null,null,null,null,null,null,"Instructor in Music"]
[4015,"Butterfield","Terry","B.A.",null,null,null,null,null,null,null,null,null,null,null,null,null,null,null,null,null,null,null,null,null,null,null,null,null,null,null,null,null,null,null,null,null,null,null,null,null,null,null,null,null,null,null,null,null,null,null,null,null,null,null,null,null,null,null,null,null,null,null,null,null,null,null,null,null,null,null,null,null,null,null,null,null,null,null,null,null,null,null,null,null,null,null,null,null,null,null,null,null,null,null,"Graduate Assistant Coach"]
[310,"Buttorff","Mary Landes",null,null,null,null,null,null,null,null,null,null,null,null,null,null,null,null,null,null,null,null,null,null,null,null,"Assistant in the School of Music","Assistant in the School of Music","Assistant in the School of Music"]
[3142,"Buxton","Frances","B.M., M.M.",null,null,null,null,null,null,null,null,null,null,null,null,null,null,null,null,null,null,null,null,null,null,null,null,null,null,null,null,null,null,null,null,null,null,null,null,null,null,null,null,null,null,null,null,null,null,null,null,null,null,null,null,null,null,"Assistant Professor of Violin & Theory","Assistant Professor of Violin & Theory","Assistant Professor of Violin & Theory","Associate Professor of Violin & Theory / Conductor of \nUniversity Symphony Orchestra","Professor of Violin & Theory / Conductor of University \nSymphony Orchestra","Professor of Violin & Theory / Conductor of University \nSymphony Orchestra","Professor of Violin & Theory / Conductor of University \nSymphony Orchestra","Professor of Violin & Theory / Conductor of University \nSymphony Orchestra","Professor of Violin & Theory","Professor of Violin & Theory","Professor of Violin & Theory","Professor of Violin & Theory","Professor of Violin & Theory","Professor of Violin & Theory","Professor of Violin & Theory","Professor of Violin & Theory","Professor of Violin & Theory","Professor of Violin & Theory","Professor of Violin & Theory","Professor of Violin & Theory","Professor of Violin & Theory","Professor of Violin & Theory","Professor of Violin & Theory","Professor of Violin & Theory","Professor of Violin & Theory","Professor of Violin & Theory","Professor of Violin & Theory","Professor of Violin & Theory","Professor of Violin & Theory","Professor of Violin & Theory","Professor of Violin & Theory","Professor of Violin & Theory","Professor of Violin & Theory, Emeritus","Professor of Violin & Theory, Emeritus","Professor of Violin & Theory, Emeritus","Professor of Violin & Theory, Emeritus","Professor of Violin & Theory, Emeritus","Professor of Violin & Theory, Emeritus","Professor of Violin & Theory, Emeritus","Professor of Violin & Theory, Emeritus","Professor of Violin & Theory, Emeritus","Professor of Violin & Theory, Emeritus","Professor of Violin & Theory, Emeritus","Professor of Violin & Theory, Emeritus","Professor of Violin & Theory, Emeritus","Professor of Violin & Theory, Emeritus","Professor of Violin & Theory, Emeritus","Professor of Violin & Theory, Emeritus","Professor of Violin & Theory, Emeritus","Professor of Violin & Theory, Emeritus","Professor of Violin & Theory, Emeritus"]
[4396,"Byrne","James E.","B.A., J.D., Ph.D",null,null,null,null,null,null,null,null,null,null,null,null,null,null,null,null,null,null,null,null,null,null,null,null,null,null,null,null,null,null,null,null,null,null,null,null,null,null,null,null,null,null,null,null,null,null,null,null,null,null,null,null,null,null,null,null,null,null,null,null,null,null,null,null,null,null,null,null,null,null,null,null,null,null,null,null,null,null,null,null,null,null,null,null,null,null,null,null,null,null,null,null,null,null,null,null,null,null,null,null,null,null,null,null,"Visiting Professor of Law"]
[3299,"Cable","John Ray","A.B., B.S., M.A., Ph.D.",null,null,null,null,null,null,null,null,null,null,null,null,null,null,null,null,null,null,null,null,null,null,null,null,null,null,null,null,null,null,null,null,null,null,null,null,null,null,null,null,null,null,null,null,null,null,null,null,null,null,null,null,null,null,null,null,null,null,null,null,"Professor of Economics","Professor of Economics","Professor of Economics","Professor of Economics"]
[3156,"Cain","Florence E.",null,null,null,null,null,null,null,null,null,null,null,null,null,null,null,null,null,null,null,null,null,null,null,null,null,null,null,null,null,null,null,null,null,null,null,null,null,null,null,null,null,null,null,null,null,null,null,null,null,null,null,null,null,null,null,null,null,"Director of Publicity","Director of Publicity","Director of Publicity","Director of Publicity"]
[940,"Caldwell","Harry E.","A.B., M.D., M.A.",null,null,null,null,null,null,null,null,null,null,null,null,null,null,null,null,null,null,null,null,null,null,null,null,null,null,null,null,null,null,null,null,null,null,null,null,null,null,null,null,null,null,null,null,null,null,null,null,null,null,null,null,null,null,null,null,null,null,null,null,null,"Assistant Professor of Psychology","Assistant Professor of Psychology","Assistant Professor of Psychology"]
[3648,"Caldwell","Mymie","B.A.",null,null,null,null,null,null,null,null,null,null,null,null,null,null,null,null,null,null,null,null,null,null,null,null,null,null,null,null,null,null,null,null,null,null,null,null,null,null,null,null,null,null,null,null,null,null,null,null,null,null,null,null,null,null,null,null,null,null,null,null,null,null,null,null,null,null,null,null,null,null,null,null,null,null,null,null,null,"Instructor in Speech & Drama","Instructor in Speech & Drama"]
[967,"Calhoun","Barbara","A.B., M.A.",null,null,null,null,null,null,null,null,null,null,null,null,null,null,null,null,null,null,null,null,null,null,null,null,null,null,null,null,null,null,null,null,null,null,null,null,null,null,null,null,null,null,null,null,null,null,null,null,null,null,null,null,null,null,null,null,null,null,null,null,null,null,null,null,"Instructor in Biology","Instructor in Biology","Instructor in Biology","Instructor in Biology"]
[2597,"Calhoun","George M.",null,null,null,null,null,null,null,null,null,null,null,null,null,null,null,null,null,null,"Assistant in Practice School","Assistant in Latin"]
[2512,"Calhoun","Janet McMurray",null,null,null,null,null,null,null,null,null,null,null,null,null,null,null,"Instructor in Normal Department","Instructor in Normal & Practice School","Instructor in Normal & Practice School"]
[3671,"Callaway","Tucker N","ThM ThD",null,null,null,null,null,null,null,null,null,null,null,null,null,null,null,null,null,null,null,null,null,null,null,null,null,null,null,null,null,null,null,null,null,null,null,null,null,null,null,null,null,null,null,null,null,null,null,null,null,null,null,null,null,null,null,null,null,null,null,null,null,null,null,null,null,null,null,null,null,null,null,null,null,null,null,null,null,null,null,"Visiting Professor of Religion"]
[4533,"Cameron","Catherine","B.A., M.A., J.D.",null,null,null,null,null,null,null,null,null,null,null,null,null,null,null,null,null,null,null,null,null,null,null,null,null,null,null,null,null,null,null,null,null,null,null,null,null,null,null,null,null,null,null,null,null,null,null,null,null,null,null,null,null,null,null,null,null,null,null,null,null,null,null,null,null,null,null,null,null,null,null,null,null,null,null,null,null,null,null,null,null,null,null,null,null,null,null,null,null,null,null,null,null,null,null,null,null,null,null,null,null,null,null,null,null,null,null,null,"Instructor of Legal Research & Writing","Instructor of Legal Research & Writing","Assistant Professor of Legal Skills","Assistant Professor of Legal Skills","Assistant Professor of Legal Skills","Assistant Professor of Legal Skills","Professor of Legal Skills","Professor of Legal Skills","Professor of Legal Skills","Professor of Legal Skills"]
[2660,"Camp","Henry N.","Jr., LL.B.",null,null,null,null,null,null,null,null,null,null,null,null,null,null,null,null,null,null,null,null,null,"Assistant Professor of Law"]
[4654,"Campbell","Julia Kathryne","A.B., M.A.",null,null,null,null,null,null,null,null,null,null,null,null,null,null,null,null,null,null,null,null,null,null,null,null,null,null,null,null,null,null,null,null,null,null,null,null,null,null,null,null,null,null,null,null,null,null,null,null,null,null,null,null,null,null,null,null,null,null,null,null,null,null,"Visiting Lecturer in Education"]
[655,"Campbell","Nelle Burch","A.M.",null,null,null,null,null,null,null,null,null,null,null,null,null,null,null,null,null,null,null,null,null,null,null,null,null,null,null,null,null,null,null,null,null,null,null,null,null,null,null,null,null,null,null,null,null,null,null,null,"Assistant Professor of Health & Physical Education / \nDirector of Physical Education for Women","Assistant Professor of Health & Physical Education / \nDirector of Physical Education for Women","Assistant Professor of Health & Physical Education / \nDirector of Physical Education for Women","Assistant Professor of Health & Physical Education / \nDirector of Physical Education for Women"]
[4500,"Campbell (Miller)","Shawnrece D.","B.A., M.A., Ph.D.",null,null,null,null,null,null,null,null,null,null,null,null,null,null,null,null,null,null,null,null,null,null,null,null,null,null,null,null,null,null,null,null,null,null,null,null,null,null,null,null,null,null,null,null,null,null,null,null,null,null,null,null,null,null,null,null,null,null,null,null,null,null,null,null,null,null,null,null,null,null,null,null,null,null,null,null,null,null,null,null,null,null,null,null,null,null,null,null,null,null,null,null,null,null,null,null,null,null,null,null,null,null,null,null,null,null,"Assistant Professor of English","Assistant Professor of English","Assistant Professor of English","Assistant Professor of English","Assistant Professor of English","Assistant Professor of English","Assistant Professor of English","Assistant Professor of English","Associate Professor of English","Associate Professor of English","Associate Professor of English","Associate Professor of English"]
[3496,"Cann","Charles C.","BD",null,null,null,null,null,null,null,null,null,null,null,null,null,null,null,null,null,null,null,null,null,null,null,null,null,null,null,null,null,null,null,null,null,null,null,null,null,null,null,null,null,null,null,null,null,null,null,null,null,null,null,null,null,null,null,null,null,null,null,null,null,null,null,null,null,null,null,null,null,null,null,"Lecturer in Greek"]
[3812,"Cannon","Raymond J., Jr.","B.A., Ph.D.",null,null,null,null,null,null,null,null,null,null,null,null,null,null,null,null,null,null,null,null,null,null,null,null,null,null,null,null,null,null,null,null,null,null,null,null,null,null,null,null,null,null,null,null,null,null,null,null,null,null,null,null,null,null,null,null,null,null,null,null,null,null,null,null,null,null,null,null,null,null,null,null,null,null,null,null,null,null,null,null,null,null,null,"Assistant Professor of Mathematics","Associate Professor of Mathematics","Associate Professor of Mathematics","Associate Professor of Mathematics"]
[null,"Canny","Eric","B.F.A., M.A.",null,null,null,null,null,null,null,null,null,null,null,null,null,null,null,null,null,null,null,null,null,null,null,null,null,null,null,null,null,null,null,null,null,null,null,null,null,null,null,null,null,null,null,null,null,null,null,null,null,null,null,null,null,null,null,null,null,null,null,null,null,null,null,null,null,null,null,null,null,null,null,null,null,null,null,null,null,null,null,null,null,null,null,null,null,null,null,null,null,null,null,null,null,null,null,null,null,null,null,null,null,null,null,null,null,null,null,null,null,null,null,null,null,null,null,"Director of International Learning","Director of International Learning"]
[810,"Capell","Evone Wood",null,null,null,null,null,null,null,null,null,null,null,null,null,null,null,null,null,null,null,null,null,null,null,null,null,null,null,null,null,null,null,null,null,null,null,null,null,null,null,null,null,null,null,null,null,null,null,null,null,null,null,null,null,null,null,null,null,null,null,"Assistant to Registrar"]
[3735,"Capell","Mathew H.","B.M.E., M.M.",null,null,null,null,null,null,null,null,null,null,null,null,null,null,null,null,null,null,null,null,null,null,null,null,null,null,null,null,null,null,null,null,null,null,null,null,null,null,null,null,null,null,null,null,null,null,null,null,null,null,null,null,null,null,null,null,null,null,null,null,null,null,null,null,null,null,null,null,null,null,null,null,null,null,null,null,null,null,null,null,null,"Assistant Professor of Voice / Director of Opera Workshop","Assistant Professor of Voice / Director of Opera Workshop","Assistant Professor of Voice / Director of Opera Workshop"]
[4370,"Capitano","Carmen","B.A., M.A., Ph.D..",null,null,null,null,null,null,null,null,null,null,null,null,null,null,null,null,null,null,null,null,null,null,null,null,null,null,null,null,null,null,null,null,null,null,null,null,null,null,null,null,null,null,null,null,null,null,null,null,null,null,null,null,null,null,null,null,null,null,null,null,null,null,null,null,null,null,null,null,null,null,null,null,null,null,null,null,null,null,null,null,null,null,null,null,null,null,null,null,null,null,null,null,null,null,null,null,null,null,null,null,null,null,null,null,"Lecturer in Modern Languages & Literatures","Lecturer in Modern Languages & Literatures","Lecturer in Modern Languages & Literatures","Lecturer in Modern Languages & Literatures","Lecturer in Modern Languages & Literatures","Lecturer in Modern Languages & Literatures","Lecturer in Modern Languages & Literatures","Lecturer in Modern Languages & Literatures","Lecturer in Modern Languages & Literatures","Lecturer in Modern Languages & Literatures","Visiting Assistant Professor of Modern Languages \n& Literatures","Visiting Assistant Professor of Modern Languages \n& Literatures","Visiting Assistant Professor of Modern Languages \n& Literatures","Visiting Assistant Professor of Modern Languages \n& Literatures"]
[null,"Capko","Chris","B.A., M.S.",null,null,null,null,null,null,null,null,null,null,null,null,null,null,null,null,null,null,null,null,null,null,null,null,null,null,null,null,null,null,null,null,null,null,null,null,null,null,null,null,null,null,null,null,null,null,null,null,null,null,null,null,null,null,null,null,null,null,null,null,null,null,null,null,null,null,null,null,null,null,null,null,null,null,null,null,null,null,null,null,null,null,null,null,null,null,null,null,null,null,null,null,null,null,null,null,null,null,null,null,null,null,null,null,null,null,null,null,null,null,null,null,null,null,"Assistant Men’s Basketball Coach"]
[null,"Cappas-Toro","Pamela","B.A., M.A., ABD",null,null,null,null,null,null,null,null,null,null,null,null,null,null,null,null,null,null,null,null,null,null,null,null,null,null,null,null,null,null,null,null,null,null,null,null,null,null,null,null,null,null,null,null,null,null,null,null,null,null,null,null,null,null,null,null,null,null,null,null,null,null,null,null,null,null,null,null,null,null,null,null,null,null,null,null,null,null,null,null,null,null,null,null,null,null,null,null,null,null,null,null,null,null,null,null,null,null,null,null,null,null,null,null,null,null,null,null,null,null,null,null,null,null,null,null,"Assistant Professor of Modern Languages & Literatures","Assistant Professor of Modern Languages & Literatures"]
[3598,"Cardon","William R.","B.A., M.A., Ph.D",null,null,null,null,null,null,null,null,null,null,null,null,null,null,null,null,null,null,null,null,null,null,null,null,null,null,null,null,null,null,null,null,null,null,null,null,null,null,null,null,null,null,null,null,null,null,null,null,null,null,null,null,null,null,null,null,null,null,null,null,null,null,null,null,null,null,null,null,null,null,null,null,null,null,null,null,"Assistant Professor of History & Political Science"]
[4107,"Carey","Scott","B.A., M.S.B.A.",null,null,null,null,null,null,null,null,null,null,null,null,null,null,null,null,null,null,null,null,null,null,null,null,null,null,null,null,null,null,null,null,null,null,null,null,null,null,null,null,null,null,null,null,null,null,null,null,null,null,null,null,null,null,null,null,null,null,null,null,null,null,null,null,null,null,null,null,null,null,null,null,null,null,null,null,null,null,null,null,null,null,null,null,null,null,null,null,null,null,null,null,null,null,null,null,"Assistant Professor of Military Science","Assistant Professor of Military Science"]
[3497,"Carey","William H.","B.S., LLB",null,null,null,null,null,null,null,null,null,null,null,null,null,null,null,null,null,null,null,null,null,null,null,null,null,null,null,null,null,null,null,null,null,null,null,null,null,null,null,null,null,null,null,null,null,null,null,null,null,null,null,null,null,null,null,null,null,null,null,null,null,null,null,null,null,null,null,null,null,null,"Lecturer in Law","Lecturer in Law","Professor of Law","Visiting Professor of Law","Visiting Professor of Law","Visiting Professor of Law","Visiting Professor of Law","Visiting Professor of Law","Visiting Professor of Law","Visiting Professor of Law","Visiting Professor of Law","Visiting Professor of Law","Visiting Professor of Law"]
[4063,"Carlen","James R.","B.A., M.A.",null,null,null,null,null,null,null,null,null,null,null,null,null,null,null,null,null,null,null,null,null,null,null,null,null,null,null,null,null,null,null,null,null,null,null,null,null,null,null,null,null,null,null,null,null,null,null,null,null,null,null,null,null,null,null,null,null,null,null,null,null,null,null,null,null,null,null,null,null,null,null,null,null,null,null,null,null,null,null,null,null,null,null,null,null,null,null,null,null,null,null,null,null,null,"Assistant Professor of Military Science","Assistant Professor of Military Science"]
[4554,"Carlson","Cheryl","B.S., M.S.",null,null,null,null,null,null,null,null,null,null,null,null,null,null,null,null,null,null,null,null,null,null,null,null,null,null,null,null,null,null,null,null,null,null,null,null,null,null,null,null,null,null,null,null,null,null,null,null,null,null,null,null,null,null,null,null,null,null,null,null,null,null,null,null,null,null,null,null,null,null,null,null,null,null,null,null,null,null,null,null,null,null,null,null,null,null,null,null,null,null,null,null,null,null,null,null,null,null,null,null,null,null,null,null,null,null,null,null,"Head Volleyball Coach","Head Volleyball Coach","Head Volleyball Coach","Head Volleyball Coach","Head Volleyball Coach","Head Volleyball Coach","Head Volleyball Coach"]
[3498,"Carlton","Frances","BS",null,null,null,null,null,null,null,null,null,null,null,null,null,null,null,null,null,null,null,null,null,null,null,null,null,null,null,null,null,null,null,null,null,null,null,null,null,null,null,null,null,null,null,null,null,null,null,null,null,null,null,null,null,null,null,null,null,null,null,null,null,null,null,null,null,null,null,null,null,null,null,"Instructor in Health & Physical Education","Instructor in Health & Physical Education","Instructor in Health & Physical Education","Instructor in Health & Physical Education"]
[4512,"Carolan","Bruce","J.D., LL.M.",null,null,null,null,null,null,null,null,null,null,null,null,null,null,null,null,null,null,null,null,null,null,null,null,null,null,null,null,null,null,null,null,null,null,null,null,null,null,null,null,null,null,null,null,null,null,null,null,null,null,null,null,null,null,null,null,null,null,null,null,null,null,null,null,null,null,null,null,null,null,null,null,null,null,null,null,null,null,null,null,null,null,null,null,null,null,null,null,null,null,null,null,null,null,null,null,null,null,null,null,null,null,null,null,null,null,null,"Visiting Professor of Law"]
[2796,"Carpenter","Jacob Amos","B.S., LL.B.",null,null,null,null,null,null,null,null,null,null,null,null,null,null,null,null,null,null,null,null,null,null,null,null,null,null,null,null,null,null,null,"Instructor in Commercial Law & Business English",null,null,null,null,null,null,"Professor of Law","Professor of Law","Professor of Law","Professor of Law","Professor of Law","Associate Professor of Law","Professor of Law","Professor of Law","Professor of Law","Professor of Law","Professor of Law","Professor of Law (Resigned)"]
[4397,"Carpenter","Kristen D.A.","B .A., J.D. L.L.M",null,null,null,null,null,null,null,null,null,null,null,null,null,null,null,null,null,null,null,null,null,null,null,null,null,null,null,null,null,null,null,null,null,null,null,null,null,null,null,null,null,null,null,null,null,null,null,null,null,null,null,null,null,null,null,null,null,null,null,null,null,null,null,null,null,null,null,null,null,null,null,null,null,null,null,null,null,null,null,null,null,null,null,null,null,null,null,null,null,null,null,null,null,null,null,null,null,null,null,null,null,null,null,null,"Assistant Professor of Law","Assistant Professor of Law"]
[433,"Carpenter","Mary",null,null,null,null,null,null,null,null,null,null,null,null,null,null,null,null,null,null,null,null,null,null,null,null,null,null,null,null,null,null,null,null,null,"Assistant in Library"]
[null,"Carpenter","Rosalie","B.S., M.Ed., M.POD",null,null,null,null,null,null,null,null,null,null,null,null,null,null,null,null,null,null,null,null,null,null,null,null,null,null,null,null,null,null,null,null,null,null,null,null,null,null,null,null,null,null,null,null,null,null,null,null,null,null,null,null,null,null,null,null,null,null,null,null,null,null,null,null,null,null,null,null,null,null,null,null,null,null,null,null,null,null,null,null,null,null,null,null,null,null,null,null,null,null,null,null,null,null,null,null,null,null,null,null,null,null,null,null,null,null,null,null,null,null,null,null,null,null,"Director of First Year & Transition Programs","Director of First Year & Transition Programs","Assistant Dean of Students"]
[2971,"Carr","James William",null,null,null,null,null,null,null,null,null,null,null,null,null,null,null,null,null,null,null,null,null,null,null,null,null,null,null,null,null,null,null,null,null,null,null,null,null,null,null,null,null,"Assistant in Auditing & Income Tax Procedure"]
[3359,"Carr","Ruth Richardson","B.S., M.M.",null,null,null,null,null,null,null,null,null,null,null,null,null,null,null,null,null,null,null,null,null,null,null,null,null,null,null,null,null,null,null,null,null,null,null,null,null,null,null,null,null,null,null,null,null,null,null,null,null,null,null,null,null,null,null,null,null,null,null,null,null,null,null,"Assistant Professor of Voice","Assistant Professor of Voice","Assistant Professor of Voice","Assistant Professor of Church Music","Assistant Professor of Church Music","Assistant Professor of Church Music","Associate Professor of Church Music","Associate Professor of Church Music","Associate Professor of Church Music","Associate Professor of Church Music","Associate Professor of Church Music","Associate Professor of Church Music","Associate Professor of Church Music","Associate Professor of Church Music","Associate Professor of Church Music","Associate Professor of Church Music"]
[4669,"Carratt","Chris A.","A.B., M.A., Ph.D.",null,null,null,null,null,null,null,null,null,null,null,null,null,null,null,null,null,null,null,null,null,null,null,null,null,null,null,null,null,null,null,null,null,null,null,null,null,null,null,null,null,null,null,null,null,null,null,null,null,null,null,null,null,null,null,null,null,null,null,null,null,null,null,null,null,"Assistant Professor of Business Administration"]
[null,"Carrick","Jon","B.S., B.B.A., M.S., Ph.D.",null,null,null,null,null,null,null,null,null,null,null,null,null,null,null,null,null,null,null,null,null,null,null,null,null,null,null,null,null,null,null,null,null,null,null,null,null,null,null,null,null,null,null,null,null,null,null,null,null,null,null,null,null,null,null,null,null,null,null,null,null,null,null,null,null,null,null,null,null,null,null,null,null,null,null,null,null,null,null,null,null,null,null,null,null,null,null,null,null,null,null,null,null,null,null,null,null,null,null,null,null,null,null,null,null,null,null,null,null,null,null,null,null,null,null,"Assistant Professor of Management & \nInternational Business","Assistant Professor of Management & International Business","Assistant Professor of Management & International \nBusiness"]
[null,"Carroll","Gregory","B.S., M.S.Ed.",null,null,null,null,null,null,null,null,null,null,null,null,null,null,null,null,null,null,null,null,null,null,null,null,null,null,null,null,null,null,null,null,null,null,null,null,null,null,null,null,null,null,null,null,null,null,null,null,null,null,null,null,null,null,null,null,null,null,null,null,null,null,null,null,null,null,null,null,null,null,null,null,null,null,null,null,null,null,null,null,null,null,null,null,null,null,null,null,null,null,null,null,null,null,null,null,null,null,null,null,null,null,null,null,null,null,null,null,null,null,null,null,null,null,null,"Vice President for Marketing","Vice President for Marketing","Vice President for Marketing"]
[3855,"Carroll","Nansi","L.R.C., M.M., M.M.A.",null,null,null,null,null,null,null,null,null,null,null,null,null,null,null,null,null,null,null,null,null,null,null,null,null,null,null,null,null,null,null,null,null,null,null,null,null,null,null,null,null,null,null,null,null,null,null,null,null,null,null,null,null,null,null,null,null,null,null,null,null,null,null,null,null,null,null,null,null,null,null,null,null,null,null,null,null,null,null,null,null,null,null,null,"Instructor in Voice & Opera Workshop","Instructor in Voice & Opera Workshop"]
[10,"Carson","G. Prentice","A.M., A.B.","Faculty","Assistant in Mathematics & Science","Professor of Natural Sciences / In charge of \nCommercial Department","Professor of Natural Sciences / In charge of \nCommercial Department","Professor of Natural Sciences / In charge of \nCommercial Department","Professor of Natural & Political Sciences","Secretary of Faculty / Professor of Natural & \nPolitical Sciences","Secretary of Faculty & Registrar / Professor of Physical\n& Political Sciences","Secretary of Faculty / Professor of Physical & \nPolitical Sciences","Secretary of Faculty / Professor of Physical & \nPolitical Sciences","Secretary of Faculty / Professor of Physical & \nPolitical Sciences","Secretary of Faculty / Professor of Physical & \nPolitical Sciences","Secretary of Faculty / Professor of Chemistry \n& Political Science","Registrar / Professor of Chemistry & History","Secretary of Faculty / Professor of History","Secretary of Faculty / Professor of History & Economics","Secretary of the Faculty / Professor of History \n& Economics","Secretary of the Faculty / Professor of History \n& Economics","Dean of the College of Liberal Arts / Professor of \nHistory & Economics / Secretary of the Faculty","Dean of the College of Liberal Arts / Professor of \nHistory & Economics / Secretary of the Faculty","Dean of the College of Liberal Arts / Professor of \nHistory & Economics / Secretary of the Faculty","Dean of the College of Liberal Arts / Professor of \nHistory & Economics / Secretary of the Faculty","Dean of the College of Liberal Arts / Professor of \nHistory & Economics / Secretary of the Faculty","Dean of the College of Liberal Arts / Professor of \nHistory & Economics / Secretary of the Faculty","Dean of the College of Liberal Arts / Professor of \nHistory & Economics / Secretary of the Faculty","Dean of the College of Liberal Arts / Professor of \nHistory & Economics / Secretary of the Faculty","Dean of the College of Liberal Arts / Professor of \nHistory & Economics / Secretary of the Faculty","Dean of the College of Liberal Arts / Professor of \nHistory & Economics / Secretary of the Faculty",null,null,null,null,null,null,null,null,null,null,null,null,null,null,null,"Dean of the University / Professor of History & \nPolitical Science"]
[2610,"Carson","Marion Powell",null,null,null,null,null,null,null,null,null,null,null,null,null,null,null,null,null,"Instructor in Domestic Science","Instructor in Domestic Science","Instructor in Domestic Science","Instructor in Domestic Science","Instructor in Domestic Science","Instructor in Domestic Science","Instructor in Domestic Science","Instructor in Domestic Science","Instructor in Domestic Science","Instructor in Domestic Science","Instructor in Domestic Science","Instructor in Domestic Science","Instructor in Domestic Science","Instructor in Domestic Science","Instructor in Domestic Science","Instructor in Domestic Science","Instructor in Domestic Science","Instructor in Domestic Science",null,null,null,null,null,null,null,null,null,"Instructor in Domestic Science"]
[3224,"Carter","Beulah Coleman","B.S., M.A.",null,null,null,null,null,null,null,null,null,null,null,null,null,null,null,null,null,null,null,null,null,null,null,null,null,null,null,null,null,null,null,null,null,null,null,null,null,null,null,null,null,null,null,null,null,null,null,null,null,null,null,null,null,null,null,null,null,null,"Associate Professor of Education","Associate Professor of Education","Associate Professor of Education","Associate Professor of Education (Resigned)"]
[2439,"Carter","Julia S.",null,null,null,null,null,null,null,null,null,null,"Instructor in Voice"]
[3219,"Carter","Randolph Laurie","A.B., M.A., Ph.D.",null,null,null,null,null,null,null,null,null,null,null,null,null,null,null,null,null,null,null,null,null,null,null,null,null,null,null,null,null,null,null,null,null,null,null,null,null,null,null,null,null,null,null,null,null,null,null,null,null,null,null,null,null,null,null,"Professor of Education","Professor of Education","Professor of Education","Professor of Education","Professor of Education","Professor of Education","Professor of Education","Professor of Education","Professor of Education","Professor of Education","Professor of Education","Professor of Education","Professor of Education","Professor of Education","Professor of Education","Professor of Education","Professor of Education","Professor of Education","Professor of Education, Emeritus","Professor of Education, Emeritus","Professor of Education, Emeritus","Professor of Education, Emeritus","Professor of Education, Emeritus","Professor of Education, Emeritus","Professor of Education, Emeritus","Professor of Education, Emeritus","Professor of Education, Emeritus","Professor of Education, Emeritus","Professor of Education, Emeritus","Professor of Education, Emeritus","Professor of Education, Emeritus","Professor of Education, Emeritus","Professor of Education, Emeritus"]
[4513,"Cash","Tamra L.","B.S., M.S., M.A., Ed.D.",null,null,null,null,null,null,null,null,null,null,null,null,null,null,null,null,null,null,null,null,null,null,null,null,null,null,null,null,null,null,null,null,null,null,null,null,null,null,null,null,null,null,null,null,null,null,null,null,null,null,null,null,null,null,null,null,null,null,null,null,null,null,null,null,null,null,null,null,null,null,null,null,null,null,null,null,null,null,null,null,null,null,null,null,null,null,null,null,null,null,null,null,null,null,null,null,null,null,null,null,null,null,null,null,null,null,null,"Assistant Professor of Integrative Health Science \n& Sport Management","Assistant Professor of Integrative Health Science \n& Sport Management"]
[2667,"Cassell","Mary E.",null,null,null,null,null,null,null,null,null,null,null,null,null,null,null,null,null,null,null,null,null,null,"Instructor in Shorthand & Typewriting"]
[null,"Cassidy","Deborah","A.D.N",null,null,null,null,null,null,null,null,null,null,null,null,null,null,null,null,null,null,null,null,null,null,null,null,null,null,null,null,null,null,null,null,null,null,null,null,null,null,null,null,null,null,null,null,null,null,null,null,null,null,null,null,null,null,null,null,null,null,null,null,null,null,null,null,null,null,null,null,null,null,null,null,null,null,null,null,null,null,null,null,null,null,null,null,null,null,null,null,null,null,null,null,null,null,null,null,null,null,null,null,null,null,null,null,null,null,null,null,null,null,null,null,null,null,"Director of Student Health Services"]
[null,"Castillo","Toni","B.A., M.Ed.",null,null,null,null,null,null,null,null,null,null,null,null,null,null,null,null,null,null,null,null,null,null,null,null,null,null,null,null,null,null,null,null,null,null,null,null,null,null,null,null,null,null,null,null,null,null,null,null,null,null,null,null,null,null,null,null,null,null,null,null,null,null,null,null,null,null,null,null,null,null,null,null,null,null,null,null,null,null,null,null,null,null,null,null,null,null,null,null,null,null,null,null,null,null,null,null,null,null,null,null,null,null,null,null,null,null,null,null,null,null,null,null,null,null,null,null,"Executive Director of Stetson Center, Celebration"]
[4321,"Castle","Frank G.","B.S., M.B.A.",null,null,null,null,null,null,null,null,null,null,null,null,null,null,null,null,null,null,null,null,null,null,null,null,null,null,null,null,null,null,null,null,null,null,null,null,null,null,null,null,null,null,null,null,null,null,null,null,null,null,null,null,null,null,null,null,null,null,null,null,null,null,null,null,null,null,null,null,null,null,null,null,null,null,null,null,null,null,null,null,null,null,null,null,null,null,null,null,null,null,null,null,null,null,null,null,null,null,null,null,null,null,null,"Visiting George Professor of Applied Investments / \nGeorge Chair","Visiting George Professor of Applied Investments / \nGeorge Chair","Visiting George Professor of Applied Investments / \nGeorge Chair"]
[3289,"Castle","R. Woodrow","A.M.",null,null,null,null,null,null,null,null,null,null,null,null,null,null,null,null,null,null,null,null,null,null,null,null,null,null,null,null,null,null,null,null,null,null,null,null,null,null,null,null,null,null,null,null,null,null,null,null,null,null,null,null,null,null,null,null,null,null,null,"Assistant Professor of Business Administration & Economics"]
[4239,"Cemelich","Anthony J.","B.A.",null,null,null,null,null,null,null,null,null,null,null,null,null,null,null,null,null,null,null,null,null,null,null,null,null,null,null,null,null,null,null,null,null,null,null,null,null,null,null,null,null,null,null,null,null,null,null,null,null,null,null,null,null,null,null,null,null,null,null,null,null,null,null,null,null,null,null,null,null,null,null,null,null,null,null,null,null,null,null,null,null,null,null,null,null,null,null,null,null,null,null,null,null,null,null,null,null,null,null,"[no job title listed]","Women's Assistant Basketball Coach","Women's Assistant Basketball Coach","Women's Assistant Basketball Coach","Women's Assistant Basketball Coach","Women's Assistant Basketball Coach"]
[null,"Cerniglia","Christine","B.S., J.D.",null,null,null,null,null,null,null,null,null,null,null,null,null,null,null,null,null,null,null,null,null,null,null,null,null,null,null,null,null,null,null,null,null,null,null,null,null,null,null,null,null,null,null,null,null,null,null,null,null,null,null,null,null,null,null,null,null,null,null,null,null,null,null,null,null,null,null,null,null,null,null,null,null,null,null,null,null,null,null,null,null,null,null,null,null,null,null,null,null,null,null,null,null,null,null,null,null,null,null,null,null,null,null,null,null,null,null,null,null,null,null,null,null,null,"Visiting Assistant Professor of Legal Skill"]
[4322,"Chakkaphak","Lynnette","M.S., M.T.",null,null,null,null,null,null,null,null,null,null,null,null,null,null,null,null,null,null,null,null,null,null,null,null,null,null,null,null,null,null,null,null,null,null,null,null,null,null,null,null,null,null,null,null,null,null,null,null,null,null,null,null,null,null,null,null,null,null,null,null,null,null,null,null,null,null,null,null,null,null,null,null,null,null,null,null,null,null,null,null,null,null,null,null,null,null,null,null,null,null,null,null,null,null,null,null,null,null,null,null,null,null,null,"Adjunct Faculty for Education Technology / \nProgram Director School Education Technology","Adjunct Faculty for Education Technology / \nProgram Director School Education Technology","Adjunct Faculty for Education Technology / \nProgram Director School Education Technology","Adjunct Faculty for Education Technology / \nProgram Director School Education Technology","Adjunct Faculty for Education Technology / \nProgram Director School Education Technology","Adjunct Faculty for Education Technology / \nProgram Director School Education Technology","Adjunct Faculty for Education Technology / Program \nDirector School Education Technology","Adjunct Faculty for Education Technology / Program \nDirector School Education Technology"]
[3795,"Chamberlin","William A.","B.S., M.B.A, C.P.A.",null,null,null,null,null,null,null,null,null,null,null,null,null,null,null,null,null,null,null,null,null,null,null,null,null,null,null,null,null,null,null,null,null,null,null,null,null,null,null,null,null,null,null,null,null,null,null,null,null,null,null,null,null,null,null,null,null,null,null,null,null,null,null,null,null,null,null,null,null,null,null,null,null,null,null,null,null,null,null,null,null,null,null,"Assistant Professor of Business Administration"]
[null,"Chambers","Valrie","B.S., M.B.A., Ph.D",null,null,null,null,null,null,null,null,null,null,null,null,null,null,null,null,null,null,null,null,null,null,null,null,null,null,null,null,null,null,null,null,null,null,null,null,null,null,null,null,null,null,null,null,null,null,null,null,null,null,null,null,null,null,null,null,null,null,null,null,null,null,null,null,null,null,null,null,null,null,null,null,null,null,null,null,null,null,null,null,null,null,null,null,null,null,null,null,null,null,null,null,null,null,null,null,null,null,null,null,null,null,null,null,null,null,null,null,null,null,null,null,null,null,null,null,null,"Associate Professor of Tax & Accounting"]
[122,"Chase","Ethel W. Bennett",null,null,null,null,null,null,null,null,null,null,null,null,null,null,null,"Instructor in Physical Culture & Assistant in \nBiological Laboratory"]
[3360,"Chauvin","Robert S.","B.S., M.Ed., M.A., Ed.D., LL.D.",null,null,null,null,null,null,null,null,null,null,null,null,null,null,null,null,null,null,null,null,null,null,null,null,null,null,null,null,null,null,null,null,null,null,null,null,null,null,null,null,null,null,null,null,null,null,null,null,null,null,null,null,null,null,null,null,null,null,null,null,null,null,"Assistant Professor of Geography","Assistant Professor of Geography","Assistant Professor of Geography","Assistant Professor of Geography","Assistant Professor of Geography","Assistant Professor of Geography","Assistant Professor of Geography","Associate Professor of Geography","Associate Professor of Geography","Associate Professor of Geography","Professor of Geography","Professor of Geography","Professor of Geography","Professor of Geography","Professor of Geography","Professor of Geography / Dean of Sciences \n& Liberal Arts","Professor of Geography","Professor of Geography / Dean of Sciences","Professor of Geography / Dean of Sciences","Professor of Geography / Dean of Liberal Arts College","Professor of Geography / Dean of Liberal Arts College","Professor of Geography / Dean of Liberal Arts College","Professor of Geography / Dean of Liberal Arts College","Professor of Geography / Dean of Liberal Arts College","Professor of Geography / Dean of Liberal Arts College","Professor of Geography / Dean of Liberal Arts College","Professor of Geography / Dean of Liberal Arts College","Professor of Geography / Dean of Liberal Arts College","Professor of Geography / Dean of Liberal Arts College","Professor of Geography","Professor of Geography","Professor of Geography","Professor of Geography","Professor of Geography / Edmunds Chair","Professor of Geography / Edmunds Chair","Professor of Geography / Edmunds Chair","Professor of Geography, Emeritus","Professor of Geography, Emeritus","Professor of Geography, Emeritus","Professor of Geography, Emeritus","Professor of Geography, Emeritus","Professor of Geography, Emeritus","Professor of Geography, Emeritus","Professor of Geography, Emeritus","Professor of Geography, Emeritus","Professor of Geography, Emeritus","Professor of Geography, Emeritus","Professor of Geography, Emeritus","Professor of Geography, Emeritus","Professor of Geography, Emeritus","Professor of Geography, Emeritus","Professor of Geography, Emeritus","Professor of Geography, Emeritus","Professor of Geography, Emeritus","Professor of Geography, Emeritus","Professor of Geography, Emeritus"]
[2847,"Chavers","Lily Ethel",null,null,null,null,null,null,null,null,null,null,null,null,null,null,null,null,null,null,null,null,null,null,null,null,null,null,null,null,null,null,null,null,null,null,"Assistant in Library","Assistant in Library"]
[696,"Cheatham","Oveda",null,null,null,null,null,null,null,null,null,null,null,null,null,null,null,null,null,null,null,null,null,null,null,null,null,null,null,null,null,null,null,null,null,null,null,null,null,null,null,null,null,null,null,null,null,null,null,null,null,null,"Secretary of the College of Law / Law Librarian",null,"Law Librarian"]
[2401,"Cheney","Mary E.","Mrs.","Faculty","Principal of Music Department","In Charge of Music Department","Teacher of Vocal & Instrumental Music / In charge \nof Music Department"]
[2993,"Cheney","Virginia M.",null,null,null,null,null,null,null,null,null,null,null,null,null,null,null,null,null,null,null,null,null,null,null,null,null,null,null,null,null,null,null,null,null,null,null,null,null,null,null,null,null,null,null,"University Chimer"]
[3945,"Cherry","Richard L.","B.A., M.A., Ph.D.",null,null,null,null,null,null,null,null,null,null,null,null,null,null,null,null,null,null,null,null,null,null,null,null,null,null,null,null,null,null,null,null,null,null,null,null,null,null,null,null,null,null,null,null,null,null,null,null,null,null,null,null,null,null,null,null,null,null,null,null,null,null,null,null,null,null,null,null,null,null,null,null,null,null,null,null,null,null,null,null,null,null,null,null,null,null,null,null,"Associate Professor of Business Administration","Associate Professor of Business Administration","Associate Professor of Business Administration","Associate Professor of Management"]
[2435,"Child","Leila M.","A.B.",null,null,null,null,null,null,null,null,null,"Teacher in Grammar School"]
[3736,"Chitty","John H.","Jr., B.S., Colonel U.S.A",null,null,null,null,null,null,null,null,null,null,null,null,null,null,null,null,null,null,null,null,null,null,null,null,null,null,null,null,null,null,null,null,null,null,null,null,null,null,null,null,null,null,null,null,null,null,null,null,null,null,null,null,null,null,null,null,null,null,null,null,null,null,null,null,null,null,null,null,null,null,null,null,null,null,null,null,null,null,null,null,null,"Professor of Military Science","Professor of Military Science","Professor of Military Science"]
[3332,"Chitwood","Oliver Perry","A.B., LL.D., Ph.D.",null,null,null,null,null,null,null,null,null,null,null,null,null,null,null,null,null,null,null,null,null,null,null,null,null,null,null,null,null,null,null,null,null,null,null,null,null,null,null,null,null,null,null,null,null,null,null,null,null,null,null,null,null,null,null,null,null,null,null,null,null,"Visiting Professor of History","Visiting Professor of History","Visiting Professor of History"]
[null,"Choice","Anita Gail","B.S., M.Ed., Ed.D.",null,null,null,null,null,null,null,null,null,null,null,null,null,null,null,null,null,null,null,null,null,null,null,null,null,null,null,null,null,null,null,null,null,null,null,null,null,null,null,null,null,null,null,null,null,null,null,null,null,null,null,null,null,null,null,null,null,null,null,null,null,null,null,null,null,null,null,null,null,null,null,null,null,null,null,null,null,null,null,null,null,null,null,null,null,null,null,null,null,null,null,null,null,null,null,null,null,null,null,null,null,null,null,null,null,null,null,null,null,null,null,null,null,null,"Assistant Professor of Teacher Education","Assistant Professor of Teacher Education"]
[4088,"Cholka","Lynn Ann","B.F.A., M.M., D.M.",null,null,null,null,null,null,null,null,null,null,null,null,null,null,null,null,null,null,null,null,null,null,null,null,null,null,null,null,null,null,null,null,null,null,null,null,null,null,null,null,null,null,null,null,null,null,null,null,null,null,null,null,null,null,null,null,null,null,null,null,null,null,null,null,null,null,null,null,null,null,null,null,null,null,null,null,null,null,null,null,null,null,null,null,null,null,null,null,null,null,null,null,null,null,null,"Assistant Professor of Music","Assistant Professor of Music","Assistant Professor of Music","Assistant Professor of Music","Assistant Professor of Music","Associate Professor of Music","Associate Professor of Music","Associate Professor of Music","Associate Professor of Music","Associate Professor of Music"]
[3499,"Chorpening","C. H.","Maj. Gen (Retired), USA, BS",null,null,null,null,null,null,null,null,null,null,null,null,null,null,null,null,null,null,null,null,null,null,null,null,null,null,null,null,null,null,null,null,null,null,null,null,null,null,null,null,null,null,null,null,null,null,null,null,null,null,null,null,null,null,null,null,null,null,null,null,null,null,null,null,null,null,null,null,null,null,"Visiting Instructor in Mathematics","Visiting Instructor in Mathematics","Visiting Instructor in Mathematics","Visiting Instructor in Mathematics","Visiting Instructor in Mathematics","Visiting Instructor in Mathematics"]
[3737,"Christen","Wallace C.","B.A., M.A.",null,null,null,null,null,null,null,null,null,null,null,null,null,null,null,null,null,null,null,null,null,null,null,null,null,null,null,null,null,null,null,null,null,null,null,null,null,null,null,null,null,null,null,null,null,null,null,null,null,null,null,null,null,null,null,null,null,null,null,null,null,null,null,null,null,null,null,null,null,null,null,null,null,null,null,null,null,null,null,null,null,"Assistant Professor of Sociology",null,null,null,null,null,null,null,null,null,null,null,null,null,null,null,null,null,null,null,null,null,null,null,null,null,null,null,null,null,null,null,null,null,null,"Professor of Music"]
[4300,"Christeson","Jane","B.M., M.M.",null,null,null,null,null,null,null,null,null,null,null,null,null,null,null,null,null,null,null,null,null,null,null,null,null,null,null,null,null,null,null,null,null,null,null,null,null,null,null,null,null,null,null,null,null,null,null,null,null,null,null,null,null,null,null,null,null,null,null,null,null,null,null,null,null,null,null,null,null,null,null,null,null,null,null,null,null,null,null,null,null,null,null,null,null,null,null,null,null,null,null,null,null,null,null,null,null,null,null,null,null,null,"Assistant Professor of Music","Assistant Professor of Music","Assistant Professor of Music","Assistant Professor of Music","Associate Professor of Music","Associate Professor of Music","Associate Professor of Music","Associate Professor of Music","Associate Professor of Music","Associate Professor of Music","Associate Professor of Music","Associate Professor of Music","Professor of Music","Professor of Music","Professor of Music","Professor of Music"]
[4089,"Christie","N. Bradley","A.B., M.A., Ph.D.",null,null,null,null,null,null,null,null,null,null,null,null,null,null,null,null,null,null,null,null,null,null,null,null,null,null,null,null,null,null,null,null,null,null,null,null,null,null,null,null,null,null,null,null,null,null,null,null,null,null,null,null,null,null,null,null,null,null,null,null,null,null,null,null,null,null,null,null,null,null,null,null,null,null,null,null,null,null,null,null,null,null,null,null,null,null,null,null,null,null,null,null,null,null,null,"Instructor in English","Assistant Professor of English","Assistant Professor of English"]
[null,"Chung","Wingyan","B.B.A., M.S., Ph.D",null,null,null,null,null,null,null,null,null,null,null,null,null,null,null,null,null,null,null,null,null,null,null,null,null,null,null,null,null,null,null,null,null,null,null,null,null,null,null,null,null,null,null,null,null,null,null,null,null,null,null,null,null,null,null,null,null,null,null,null,null,null,null,null,null,null,null,null,null,null,null,null,null,null,null,null,null,null,null,null,null,null,null,null,null,null,null,null,null,null,null,null,null,null,null,null,null,null,null,null,null,null,null,null,null,null,null,null,null,null,null,null,null,null,null,null,"Associate Professor of Decision & Information Sciences","Associate Professor of Decision & \nInformation Sciences"]
[3232,"Clark","Annette Bolton","A.B.",null,null,null,null,null,null,null,null,null,null,null,null,null,null,null,null,null,null,null,null,null,null,null,null,null,null,null,null,null,null,null,null,null,null,null,null,null,null,null,null,null,null,null,null,null,null,null,null,null,null,null,null,null,null,null,null,null,null,"Instructor in English","Instructor in English (Resigned)"]
[3979,"Clark","Elizabeth D.","B.A., M.A., J.D.",null,null,null,null,null,null,null,null,null,null,null,null,null,null,null,null,null,null,null,null,null,null,null,null,null,null,null,null,null,null,null,null,null,null,null,null,null,null,null,null,null,null,null,null,null,null,null,null,null,null,null,null,null,null,null,null,null,null,null,null,null,null,null,null,null,null,null,null,null,null,null,null,null,null,null,null,null,null,null,null,null,null,null,null,null,null,null,null,null,null,"Assistant Professor of Law","Assistant Professor of Law","Assistant Professor of Law","Assistant Professor of Law","Assistant Professor of Law","Assistant Professor of Law","Assistant Professor of Law","Assistant Professor of Law","Assistant Professor of Law","Assistant Professor of Law","Assistant Professor of Law","Assistant Professor of Law","Assistant Professor of Law","Assistant Professor of Law"]
[817,"Clark","Evelyn Dodd",null,null,null,null,null,null,null,null,null,null,null,null,null,null,null,null,null,null,null,null,null,null,null,null,null,null,null,null,null,null,null,null,null,null,null,null,null,null,null,null,null,null,null,null,null,null,null,null,null,null,null,null,null,null,null,null,null,null,null,"Secretary to the Dean of Women","Secretary to the Dean of Women"]
[3579,"Clark","Fred","B.A., M.S., Ph.D.",null,null,null,null,null,null,null,null,null,null,null,null,null,null,null,null,null,null,null,null,null,null,null,null,null,null,null,null,null,null,null,null,null,null,null,null,null,null,null,null,null,null,null,null,null,null,null,null,null,null,null,null,null,null,null,null,null,null,null,null,null,null,null,null,null,null,null,null,null,null,null,null,null,null,null,"Assistant Professor of Biology","Assistant Professor of Biology","Assistant Professor of Biology","Assistant Professor of Biology","Assistant Professor of Biology","Associate Professor of Biology","Associate Professor of Biology",null,"Associate Professor of Biology","Associate Professor of Biology","Associate Professor of Biology"]
[4587,"Clark","Jessica","B.A.",null,null,null,null,null,null,null,null,null,null,null,null,null,null,null,null,null,null,null,null,null,null,null,null,null,null,null,null,null,null,null,null,null,null,null,null,null,null,null,null,null,null,null,null,null,null,null,null,null,null,null,null,null,null,null,null,null,null,null,null,null,null,null,null,null,null,null,null,null,null,null,null,null,null,null,null,null,null,null,null,null,null,null,null,null,null,null,null,null,null,null,null,null,null,null,null,null,null,null,null,null,null,null,null,null,null,null,null,null,"Assistant Crew Coach"]
[3787,"Clark","John E.","B.A., M.S.",null,null,null,null,null,null,null,null,null,null,null,null,null,null,null,null,null,null,null,null,null,null,null,null,null,null,null,null,null,null,null,null,null,null,null,null,null,null,null,null,null,null,null,null,null,null,null,null,null,null,null,null,null,null,null,null,null,null,null,null,null,null,null,null,null,null,null,null,null,null,null,null,null,null,null,null,null,null,null,null,null,null,null,"Instructor in Sociology"]
[3866,"Clark","Millard W.","Jr., B.B.A., LL.M., LL.B.",null,null,null,null,null,null,null,null,null,null,null,null,null,null,null,null,null,null,null,null,null,null,null,null,null,null,null,null,null,null,null,null,null,null,null,null,null,null,null,null,null,null,null,null,null,null,null,null,null,null,null,null,null,null,null,null,null,null,null,null,null,null,null,null,null,null,null,null,null,null,null,null,null,null,null,null,null,null,null,null,null,null,null,null,"Assistant Professor of Law","Assistant Professor of Law"]
[2998,"Clark","Richard Elijah","A.B, B.D., M.A., Ph. D.",null,null,null,null,null,null,null,null,null,null,null,null,null,null,null,null,null,null,null,null,null,null,null,null,null,null,null,null,null,null,null,null,null,null,null,null,null,null,null,null,null,null,null,"Professor / Librarian","Professor / Librarian","Librarian","Librarian","Professor of Sociology","Professor of Sociology","Professor of Sociology","Professor of Sociology","Professor of Sociology","Professor of Sociology","Professor of Sociology","Professor of Sociology","Professor of Sociology","Professor of Sociology","Professor of Sociology","Professor of Sociology","Professor of Sociology","Professor of Sociology","Professor of Sociology","Professor of Sociology","Professor of Sociology","Professor of Sociology, Emeritus","Professor of Sociology, Emeritus","Professor of Sociology, Emeritus","Professor of Sociology, Emeritus","Professor of Sociology, Emeritus","Professor of Sociology, Emeritus","Professor of Sociology","Professor of Sociology, Emeritus","Professor of Sociology, Emeritus","Professor of Sociology, Emeritus","Professor of Sociology, Emeritus","Professor of Sociology, Emeritus","Professor of Sociology, Emeritus","Professor of Sociology, Emeritus","Professor of Sociology, Emeritus","Professor of Sociology, Emeritus","Professor of Sociology, Emeritus","Professor of Sociology, Emeritus"]
[753,"Clark","Rosemary","B.M., M.M.",null,null,null,null,null,null,null,null,null,null,null,null,null,null,null,null,null,null,null,null,null,null,null,null,null,null,null,null,null,null,null,null,null,null,null,null,null,null,null,null,null,null,null,null,null,null,null,null,null,null,null,null,null,null,"Instructor in Organ, Piano & Theory","Assistant Professor in Public School Music","Instructor in Organ, Piano & Theory","Assistant Professor of Piano & Theory","Assistant Professor of Piano & Theory","Associate Professor of Piano & Theory","Associate Professor of Piano & Theory","Associate Professor of Piano & Theory"]
[167,"Clarkson","Alberta C.",null,null,null,null,null,null,null,null,null,null,null,null,null,null,null,null,"Assistant in Library","Assistant in Library","Assistant in Library"]
[137,"Clarkson","Arabi D.",null,null,null,null,null,null,null,null,null,null,null,null,null,null,null,"Bookkeeper","Bookkeeper","Bookkeeper"]
[2582,"Clarkson","Kate D.","Mrs.",null,null,null,null,null,null,null,null,null,null,null,null,null,null,null,null,"Assistant to the Dean of Women","Matron-Chaudoin Hall",null,null,null,"Stewardess","Stewardess"]
[3649,"Clay","Elizabeth","A.B., M.A.",null,null,null,null,null,null,null,null,null,null,null,null,null,null,null,null,null,null,null,null,null,null,null,null,null,null,null,null,null,null,null,null,null,null,null,null,null,null,null,null,null,null,null,null,null,null,null,null,null,null,null,null,null,null,null,null,null,null,null,null,null,null,null,null,null,null,null,null,null,null,null,null,null,null,null,null,null,"Instructor in Education","Instructor in Education","Instructor in Education","Instructor in Education","Assistant Professor of Education","Assistant Professor of Education"]
[3599,"Clayton","Richard Reid","B.A., M.S.",null,null,null,null,null,null,null,null,null,null,null,null,null,null,null,null,null,null,null,null,null,null,null,null,null,null,null,null,null,null,null,null,null,null,null,null,null,null,null,null,null,null,null,null,null,null,null,null,null,null,null,null,null,null,null,null,null,null,null,null,null,null,null,null,null,null,null,null,null,null,null,null,null,null,null,null,null,"Instructor in Sociology","Instructor in Sociology"]
[4168,"Clemmen","Yves","Licences de Philogie Germanique, \nM.A., Ph.D.",null,null,null,null,null,null,null,null,null,null,null,null,null,null,null,null,null,null,null,null,null,null,null,null,null,null,null,null,null,null,null,null,null,null,null,null,null,null,null,null,null,null,null,null,null,null,null,null,null,null,null,null,null,null,null,null,null,null,null,null,null,null,null,null,null,null,null,null,null,null,null,null,null,null,null,null,null,null,null,null,null,null,null,null,null,null,null,null,null,null,null,null,null,null,null,null,null,null,"Assistant Professor of Foreign Languages","Assistant Professor of Foreign Languages","Assistant Professor of Foreign Languages","Assistant Professor of Foreign Languages","Assistant Professor of Foreign Languages","Associate Professor of Foreign Languages","Associate Professor of Modern Languages & Literatures","Associate Professor of Modern Languages & Literatures","Associate Professor of Modern Languages & Literatures","Associate Professor of Modern Languages & Literatures","Associate Professor of Modern Languages & Literatures","Associate Professor of Modern Languages & Literatures","Associate Professor of Modern Languages & Literatures","Professor of Modern Languages & Literatures","Professor of Modern Languages & Literatures","Professor of Modern Languages & Literatures","Professor of Modern Languages & Literature","Professor of Modern Languages & Literatures","Professor of Modern Languages & Literatures","Professor of Modern Languages & Literatures"]
[701,"Clemons","Walter Nicholson","B.S.",null,null,null,null,null,null,null,null,null,null,null,null,null,null,null,null,null,null,null,null,null,null,null,null,null,null,null,null,null,null,null,null,null,null,null,null,null,null,null,null,null,null,null,null,null,null,null,null,null,null,"Instructor in Health & Physical Education / Assistant \nFootball Coach / Head Coach of Basketball","Instructor in Health & Physical Education / Assistant \nFootball Coach / Head Coach of Basketball","Instructor in Health & Physical Education / Assistant \nFootball Coach / Head Coach of Basketball",null,null,null,null,"Associate Professor of Health & Physical Education \nFor Men / Assistant Football Coach /  \nHead Basketball Coach","Associate Professor of Health & Physical Education \nFor Men / Assistant Football Coach /  \nHead Basketball Coach","Associate Professor of Health & Physical Education \nFor Men / Assistant Football Coach /  \nHead Basketball Coach","Professor of Physical Education","Professor of Physical Education (Resigned)"]
[866,"Clifton","Marzee Aiton","B.S.",null,null,null,null,null,null,null,null,null,null,null,null,null,null,null,null,null,null,null,null,null,null,null,null,null,null,null,null,null,null,null,null,null,null,null,null,null,null,null,null,null,null,null,null,null,null,null,null,null,null,null,null,null,null,null,null,null,null,"Assistant in Bursar's Office"]
[3650,"Cochran","C.D.","B.A., M.S., Ph.D.",null,null,null,null,null,null,null,null,null,null,null,null,null,null,null,null,null,null,null,null,null,null,null,null,null,null,null,null,null,null,null,null,null,null,null,null,null,null,null,null,null,null,null,null,null,null,null,null,null,null,null,null,null,null,null,null,null,null,null,null,null,null,null,null,null,null,null,null,null,null,null,null,null,null,null,null,null,"Assistant Professor of Psychology","Assistant Professor of Psychology","Assistant Professor of Psychology","Assistant Professor of Psychology","Assistant Professor of Psychology","Assistant Professor of Psychology","Associate Professor of Psychology / Chair","Associate Professor of Psychology / Chair","Associate Professor of Psychology / Chair","Professor of Psychology / Chair","Professor of Psychology / Chair","Professor of Psychology / Chair","Professor of Psychology / Chair","Professor of Psychology / Chair","Professor of Psychology / Chair","Professor of Psychology / Chair","Professor of Psychology / Chair","Professor of Psychology / Chair (Spring Sabbatical)","Professor of Psychology / Chair","Professor of Psychology / Chair","Professor of Psychology / Chair","Professor of Psychology / Chair","Professor of Psychology / Chair","Professor of Psychology","Professor of Psychology (Spring Sabbatical)","Professor of Psychology","Professor of Psychology","Professor of Psychology","Professor of Psychology","Professor of Psychology","Professor of Psychology","Professor of Psychology","Professor of Psychology","Professor of Psychology","Professor of Psychology","Professor of Psychology","Professor of Psychology","Professor of Psychology","Professor / Chair of Psychology","Professor of Psychology","Professor & Psychology"]
[2661,"Cochran","Jerome","B.S., C.E., M.C.E.",null,null,null,null,null,null,null,null,null,null,null,null,null,null,null,null,null,null,null,null,null,"Assistant Professor of Civil Engineering"]
[3805,"Coffee","James M","BA, MA, ED",null,null,null,null,null,null,null,null,null,null,null,null,null,null,null,null,null,null,null,null,null,null,null,null,null,null,null,null,null,null,null,null,null,null,null,null,null,null,null,null,null,null,null,null,null,null,null,null,null,null,null,null,null,null,null,null,null,null,null,null,null,null,null,null,null,null,null,null,null,null,null,null,null,null,null,null,null,null,null,null,null,null,null,null,"Professor of Education / Chair / Director of Teacher \nEducation","Professor of Education / Chair / Director of Teacher \nEducation","Professor of Education / Chair / Director of Teacher \nEducation","Professor of Education / Chair / Director of Teacher \nEducation","Professor of Education / Chair / Director of Teacher \nEducation","Professor of Education / Chair / Director of Teacher \nEducation","Professor of Education / Chair / Director of Teacher \nEducation","Professor of Education / Chair / Director of Teacher \nEducation","Professor of Education / Chair / Director of Teacher \nEducation, Emeritus","Professor of Education / Chair / Director of Teacher \nEducation, Emeritus","Professor of Education / Chair / Director of Teacher \nEducation, Emeritus","Professor of Education / Chair / Director of Teacher \nEducation, Emeritus","Professor of Education / Chair / Director of Teacher \nEducation, Emeritus","Professor of Education, Emeritus","Professor of Education, Emeritus","Professor of Education, Emeritus","Professor of Education, Emeritus","Professor of Education, Emeritus","Professor of Education, Emeritus","Professor of Education, Emeritus","Professor of Education, Emeritus","Professor of Education, Emeritus","Professor of Education, Emeritus","Professor of Education, Emeritus","Professor of Education, Emeritus","Professor of Education, Emeritus","Professor of Education, Emeritus","Professor of Education, Emeritus","Professor of Education, Emeritus","Professor of Education, Emeritus","Professor of Education, Emeritus","Professor of Education, Emeritus","Professor of Education, Emeritus","Professor of Education. Emeritus"]
[4480,"Coffman","Jonathan","B.A.",null,null,null,null,null,null,null,null,null,null,null,null,null,null,null,null,null,null,null,null,null,null,null,null,null,null,null,null,null,null,null,null,null,null,null,null,null,null,null,null,null,null,null,null,null,null,null,null,null,null,null,null,null,null,null,null,null,null,null,null,null,null,null,null,null,null,null,null,null,null,null,null,null,null,null,null,null,null,null,null,null,null,null,null,null,null,null,null,null,null,null,null,null,null,null,null,null,null,null,null,null,null,null,null,null,"Assistant Men's Basketball Coach","Assistant Men's Basketball Coach","Assistant Men's Basketball Coach","Assistant Men's Basketball Coach","Assistant Men's Basketball Coach","Assistant Men's Basketball Coach","Assistant Men's Basketball Coach","Assistant Men's Basketball Coach","Assistant Men's Basketball Coach"]
[3998,"Coggins","Catherine J.","B.S., M.Ed., Ph.D.",null,null,null,null,null,null,null,null,null,null,null,null,null,null,null,null,null,null,null,null,null,null,null,null,null,null,null,null,null,null,null,null,null,null,null,null,null,null,null,null,null,null,null,null,null,null,null,null,null,null,null,null,null,null,null,null,null,null,null,null,null,null,null,null,null,null,null,null,null,null,null,null,null,null,null,null,null,null,null,null,null,null,null,null,null,null,null,null,null,null,null,"Visiting Instructor in Education","Assistant Professor of Education","Assistant Professor of Education","Assistant Professor of Education","Assistant Professor of Education","Assistant Professor of Education","Associate Professor of Education","Associate Professor of Education","Associate Professor of Education \n(Sabbatical Academic Year)","Associate Professor of Teacher Education / Chair"]
[4169,"Coggins","Patrick C.","B.S., M.S., Ph.D.",null,null,null,null,null,null,null,null,null,null,null,null,null,null,null,null,null,null,null,null,null,null,null,null,null,null,null,null,null,null,null,null,null,null,null,null,null,null,null,null,null,null,null,null,null,null,null,null,null,null,null,null,null,null,null,null,null,null,null,null,null,null,null,null,null,null,null,null,null,null,null,null,null,null,null,null,null,null,null,null,null,null,null,null,null,null,null,null,null,null,null,null,null,null,null,null,null,null,"Jessie Ball duPont Professor of Education","Jessie Ball duPont Professor of Education","Jessie Ball duPont Professor of Teacher Education","Jessie Ball duPont Professor of Teacher Education","Jessie Ball duPont Professor of Teacher Education","Jessie Ball duPont Professor of Teacher Education","Jessie Ball duPont Professor of Teacher Education","Jessie Ball duPont Professor of Teacher Education","Jessie Ball duPont Professor of Teacher Education","Jessie Ball duPont Professor of Teacher Education","Jessie Ball duPont Professor of Teacher Education","Jessie Ball duPont Professor of Teacher Education","Jessie Ball duPont Professor of Teacher Education","Jessie Ball duPont Professor of Teacher Education","Jessie Ball duPont Professor of Teacher Education","Jessie Ball duPont Professor of Teacher Education","Jessie Ball duPont Professor of Teacher Education","Professor of Teacher Education","Professor of Teacher Education","Professor of Teacher Education"]
[3964,"Coker","Denton R.","B.A., B.D., Ph.D.",null,null,null,null,null,null,null,null,null,null,null,null,null,null,null,null,null,null,null,null,null,null,null,null,null,null,null,null,null,null,null,null,null,null,null,null,null,null,null,null,null,null,null,null,null,null,null,null,null,null,null,null,null,null,null,null,null,null,null,null,null,null,null,null,null,null,null,null,null,null,null,null,null,null,null,null,null,null,null,null,null,null,null,null,null,null,null,null,null,"Professor of Education / Provost","Professor of Education / Provost","Professor of Education / Provost","Professor of Education / Provost"]
[3500,"Colbrunn","Ethel B.","A.B, M.A., Ph.D",null,null,null,null,null,null,null,null,null,null,null,null,null,null,null,null,null,null,null,null,null,null,null,null,null,null,null,null,null,null,null,null,null,null,null,null,null,null,null,null,null,null,null,null,null,null,null,null,null,null,null,null,null,null,null,null,null,null,null,null,null,null,null,null,null,null,null,null,null,null,null,"Assistant Professor of English","Assistant Professor of English","Associate Professor of English","Associate Professor of English","Associate Professor of English","Associate Professor of English","Professor of English","Associate Professor of English","Professor of English","Professor of English","Professor of English","Professor of English","Professor of English"]
[3423,"Coldiron","Jack Haddon","B.A., M.C.M.",null,null,null,null,null,null,null,null,null,null,null,null,null,null,null,null,null,null,null,null,null,null,null,null,null,null,null,null,null,null,null,null,null,null,null,null,null,null,null,null,null,null,null,null,null,null,null,null,null,null,null,null,null,null,null,null,null,null,null,null,null,null,null,null,null,null,null,"Instructor in Voice","Instructor in Voice",null,null,null,"Instructor in Voice","Assistant Professor of Voice",null,null,null,"Instructor in Voice"]
[3473,"Cole","Frances C.","A.B.",null,null,null,null,null,null,null,null,null,null,null,null,null,null,null,null,null,null,null,null,null,null,null,null,null,null,null,null,null,null,null,null,null,null,null,null,null,null,null,null,null,null,null,null,null,null,null,null,null,null,null,null,null,null,null,null,null,null,null,null,null,null,null,null,null,null,null,null,null,"Visiting Professor in Spanish"]
[null,"Cole","Karen","B.A., M.A., Ph.D",null,null,null,null,null,null,null,null,null,null,null,null,null,null,null,null,null,null,null,null,null,null,null,null,null,null,null,null,null,null,null,null,null,null,null,null,null,null,null,null,null,null,null,null,null,null,null,null,null,null,null,null,null,null,null,null,null,null,null,null,null,null,null,null,null,null,null,null,null,null,null,null,null,null,null,null,null,null,null,null,null,null,null,null,null,null,null,null,null,null,null,null,null,null,null,null,null,null,null,null,null,null,null,null,null,null,null,null,null,null,null,null,null,null,"Director of Gillespie Museum","Director of Gillespie Museum","Director of Gillespie Museum"]
[3651,"Cole","Peter W.","A.B., M.A.",null,null,null,null,null,null,null,null,null,null,null,null,null,null,null,null,null,null,null,null,null,null,null,null,null,null,null,null,null,null,null,null,null,null,null,null,null,null,null,null,null,null,null,null,null,null,null,null,null,null,null,null,null,null,null,null,null,null,null,null,null,null,null,null,null,null,null,null,null,null,null,null,null,null,null,null,null,"Instructor in Economics","Instructor in Economics"]
[2704,"Coleman","George",null,null,null,null,null,null,null,null,null,null,null,null,null,null,null,null,null,null,null,null,null,null,null,null,"University Recorder"]
[null,"Coleman","Jules L.","B.A., Ph.D., M.S.L",null,null,null,null,null,null,null,null,null,null,null,null,null,null,null,null,null,null,null,null,null,null,null,null,null,null,null,null,null,null,null,null,null,null,null,null,null,null,null,null,null,null,null,null,null,null,null,null,null,null,null,null,null,null,null,null,null,null,null,null,null,null,null,null,null,null,null,null,null,null,null,null,null,null,null,null,null,null,null,null,null,null,null,null,null,null,null,null,null,null,null,null,null,null,null,null,null,null,null,null,null,null,null,null,null,null,null,null,null,null,null,null,null,null,"Culverhouse Chair"]
[2692,"Coleman","Narcissa",null,null,null,null,null,null,null,null,null,null,null,null,null,null,null,null,null,null,null,null,null,null,null,"Assistant in Library","Assistant in Library","Assistant in Library"]
[4605,"Colley","Jennifer","B.A.",null,null,null,null,null,null,null,null,null,null,null,null,null,null,null,null,null,null,null,null,null,null,null,null,null,null,null,null,null,null,null,null,null,null,null,null,null,null,null,null,null,null,null,null,null,null,null,null,null,null,null,null,null,null,null,null,null,null,null,null,null,null,null,null,null,null,null,null,null,null,null,null,null,null,null,null,null,null,null,null,null,null,null,null,null,null,null,null,null,null,null,null,null,null,null,null,null,null,null,null,null,null,null,null,null,null,null,null,null,null,"Assistant Women's Soccer Coach"]
[2963,"Collins","John Walton","B.S.",null,null,null,null,null,null,null,null,null,null,null,null,null,null,null,null,null,null,null,null,null,null,null,null,null,null,null,null,null,null,null,null,null,null,null,null,null,null,null,"Assistant in Secretarial Course"]
[909,"Collins","Marcus Whitford","M.A., Ph.D.",null,null,null,null,null,null,null,null,null,null,null,null,null,null,null,null,null,null,null,null,null,null,null,null,null,null,null,null,null,null,null,null,null,null,null,null,null,null,null,null,null,null,null,null,null,null,null,null,null,null,null,null,null,null,null,null,null,null,null,null,"Professor of Sociology"]
[3226,"Collins","Roslyn","A.B., M.A.",null,null,null,null,null,null,null,null,null,null,null,null,null,null,null,null,null,null,null,null,null,null,null,null,null,null,null,null,null,null,null,null,null,null,null,null,null,null,null,null,null,null,null,null,null,null,null,null,null,null,null,null,null,null,null,null,null,null,"Assistant Professor of Journalism","Assistant Professor of Journalism","Assistant Professor of Journalism","Assistant Professor of Journalism (Resigned)"]
[null,"Collins","Stacy","B.A., M.A.",null,null,null,null,null,null,null,null,null,null,null,null,null,null,null,null,null,null,null,null,null,null,null,null,null,null,null,null,null,null,null,null,null,null,null,null,null,null,null,null,null,null,null,null,null,null,null,null,null,null,null,null,null,null,null,null,null,null,null,null,null,null,null,null,null,null,null,null,null,null,null,null,null,null,null,null,null,null,null,null,null,null,null,null,null,null,null,null,null,null,null,null,null,null,null,null,null,null,null,null,null,null,null,null,null,null,null,null,null,null,null,null,null,null,"Director of Academic Resource Center","Director of Academic Resource Center","Director of Academic Resources"]
[3999,"Colson","Harold G.","B.A., M.A., M.Ed.",null,null,null,null,null,null,null,null,null,null,null,null,null,null,null,null,null,null,null,null,null,null,null,null,null,null,null,null,null,null,null,null,null,null,null,null,null,null,null,null,null,null,null,null,null,null,null,null,null,null,null,null,null,null,null,null,null,null,null,null,null,null,null,null,null,null,null,null,null,null,null,null,null,null,null,null,null,null,null,null,null,null,null,null,null,null,null,null,null,null,null,"Instructor / Government Documents Librarian"]
[178,"Colton","Litchfield",null,null,null,null,null,null,null,null,null,null,null,null,null,null,null,null,null,"Instructor in Iron Working & Mechanical Drawing","Instructor in Iron Working & Mechanical Drawing","Instructor in Iron Working & Mechanical Drawing","Instructor in Iron Working & Mechanical Drawing","Instructor in Iron Working & Mechanical Drawing","Instructor in Iron Working & Mechanical Drawing","Instructor in Iron Working & Mechanical Drawing","Instructor in Iron Working & Mechanical Drawing","Instructor in Iron Working & Mechanical Drawing","Instructor in Iron Working & Mechanical Drawing","Instructor in Iron Working & Mechanical Drawing","Instructor in Iron Working & Mechanical Drawing","Instructor in Iron Working & Mechanical Drawing","Professor of Iron Working & Mechanical Drawing","Professor of Iron Working & Mechanical Drawing","Professor of Iron Working & Mechanical Drawing","Professor of Iron Working & Mechanical Drawing","Professor of Iron Working & Mechanical Drawing","Professor of Iron Working & Mechanical Drawing","Professor of Iron Working & Mechanical Drawing","Professor of Iron Working & Mechanical Drawing (deceased)"]
[3501,"Colwell","C. Carter","B.A., B.A., M.A., Ph.D.",null,null,null,null,null,null,null,null,null,null,null,null,null,null,null,null,null,null,null,null,null,null,null,null,null,null,null,null,null,null,null,null,null,null,null,null,null,null,null,null,null,null,null,null,null,null,null,null,null,null,null,null,null,null,null,null,null,null,null,null,null,null,null,null,null,null,null,null,null,null,"Assistant Professor of English","Assistant Professor of English","Assistant Professor of English",null,"Assistant Professor of English","Associate Professor of English","Associate Professor of English","Associate Professor of English","Associate Professor of English","Associate Professor of English","Associate Professor of English","Professor of English","Professor of English","Professor of English","Professor of English","Professor of English","Professor of English","Professor of English","Professor of English","Professor of English","Professor of English","Professor of English","Professor of English","Professor of English","Professor of English","Professor of English","Professor of Geography / Edmunds Chair","Professor of English / Chair"]
[null,"Colwell","Christopher","B.A., M.Ed., Ed.D.",null,null,null,null,null,null,null,null,null,null,null,null,null,null,null,null,null,null,null,null,null,null,null,null,null,null,null,null,null,null,null,null,null,null,null,null,null,null,null,null,null,null,null,null,null,null,null,null,null,null,null,null,null,null,null,null,null,null,null,null,null,null,null,null,null,null,null,null,null,null,null,null,null,null,null,null,null,null,null,null,null,null,null,null,null,null,null,null,null,null,null,null,null,null,null,null,null,null,null,null,null,null,null,null,null,null,null,null,null,null,null,null,null,null,null,"Associate Professor of Teacher Education","Associate Professor / Chair of Teacher Education","Associate Professor / Chair of Teacher Education"]
[3709,"Colwell","Earnest C","Ph.D., D.D., Humm. Litt. D., Hum. D., \nLitt. D., LL.D., S.T.D.",null,null,null,null,null,null,null,null,null,null,null,null,null,null,null,null,null,null,null,null,null,null,null,null,null,null,null,null,null,null,null,null,null,null,null,null,null,null,null,null,null,null,null,null,null,null,null,null,null,null,null,null,null,null,null,null,null,null,null,null,null,null,null,null,null,null,null,null,null,null,null,null,null,null,null,null,null,null,null,null,"Visiting Professor in Greek","Visiting Professor in Greek","Visiting Professor in Greek","Visiting Professor of Greek"]
[110,"Compton","Rowena",null,null,null,null,null,null,null,null,null,null,null,null,null,null,"Assistant in Library"]
[4138,"Conard","Alfred F.","A.B., LL.B., J.S.D.",null,null,null,null,null,null,null,null,null,null,null,null,null,null,null,null,null,null,null,null,null,null,null,null,null,null,null,null,null,null,null,null,null,null,null,null,null,null,null,null,null,null,null,null,null,null,null,null,null,null,null,null,null,null,null,null,null,null,null,null,null,null,null,null,null,null,null,null,null,null,null,null,null,null,null,null,null,null,null,null,null,null,null,null,null,null,null,null,null,null,null,null,null,null,null,null,null,"Distinguished Visiting Scholar"]
[260,"Conkling","Lena",null,null,null,null,null,null,null,null,null,null,null,null,null,null,null,null,null,null,null,null,null,"Assistant in School of Music / Monitor in School of Music","Assistant in School of Music / Monitor in School of Music","Assistant in School of Music / Monitor in School of Music"]
[2986,"Conn","John Ferguson","B.S.,M.S., Ph.D.",null,null,null,null,null,null,null,null,null,null,null,null,null,null,null,null,null,null,null,null,null,null,null,null,null,null,null,null,null,null,null,null,null,null,null,null,null,null,null,null,null,null,"Professor of Chemistry","Professor of Chemistry","Professor of Chemistry","Professor of Chemistry","Professor of Chemistry","Professor of Chemistry","Professor of Chemistry","Professor of Chemistry","Professor of Chemistry","Professor of Chemistry","Professor of Chemistry","Professor of Chemistry","Professor of Chemistry","Professor of Chemistry","Professor of Chemistry","Professor of Chemistry","Professor of Chemistry","Professor of Chemistry","Professor of Chemistry","Professor of Chemistry","Professor of Chemistry","Professor of Chemistry","Professor of Chemistry","Professor of Chemistry","Professor of Chemistry","Professor of Chemistry","Professor of Chemistry","Professor of Chemistry","Professor of Chemistry","Professor of Chemistry","Professor of Chemistry",null,"Professor of Chemistry","Professor of Chemistry","Professor of Chemistry","Professor of Chemistry, Emeritus","Professor of Chemistry, Emeritus","Professor of Chemistry, Emeritus","Professor of Chemistry, Emeritus","Professor of Chemistry, Emeritus","Professor of Chemistry, Emeritus","Professor of Chemistry, Emeritus"]
[2623,"Cook","Jeff",null,null,null,null,null,null,null,null,null,null,null,null,null,null,null,null,null,null,null,"Engineer","Engineer","Engineer"]
[3533,"Coolidge","Edwin C.","B.A., Ph.D.",null,null,null,null,null,null,null,null,null,null,null,null,null,null,null,null,null,null,null,null,null,null,null,null,null,null,null,null,null,null,null,null,null,null,null,null,null,null,null,null,null,null,null,null,null,null,null,null,null,null,null,null,null,null,null,null,null,null,null,null,null,null,null,null,null,null,null,null,null,null,null,null,"Associate Professor of Chemistry","Associate Professor of Chemistry","Associate Professor of Chemistry","Professor of Chemistry","Professor of Chemistry","Professor of Chemistry","Professor of Chemistry","Professor of Chemistry","Professor of Chemistry","Professor of Chemistry","Professor of Chemistry","Professor of Chemistry","Professor of Chemistry","Professor of Chemistry","Professor of Chemistry","Professor of Chemistry","Professor of Chemistry","Professor of Chemistry, Stetson Exchange \nProfessor (Freiburg)","Professor of Chemistry (Spring Sabbatical)","Professor of Chemistry","Professor of Chemistry","Professor of Chemistry","Professor of Chemistry","Professor of Chemistry","Professor of Chemistry","Professor of Chemistry / Senior Active Status","Professor of Chemistry / Senior Active Status","Professor of Chemistry / Senior Active Status","Professor of Chemistry / Senior Active Status","Professor of Chemistry, Emeritus","Professor of Chemistry, Emeritus","Professor of Chemistry, Emeritus","Professor of Chemistry, Emeritus","Professor of Chemistry, Emeritus","Professor of Chemistry, Emeritus","Professor of Chemistry, Emeritus","Professor of Chemistry, Emeritus","Professor of Chemistry, Emeritus","Professor of Chemistry, Emeritus","Professor of Chemistry, Emeritus","Professor of Chemistry, Emeritus","Professor of Chemistry, Emeritus","Professor of Chemistry, Emeritus","Professor of Chemistry, Emeritus","Professor of Chemistry, Emeritus","Professor of Chemistry, Emeritus"]
[null,"Cooper","Colleen","B.B.A., M.B.A",null,null,null,null,null,null,null,null,null,null,null,null,null,null,null,null,null,null,null,null,null,null,null,null,null,null,null,null,null,null,null,null,null,null,null,null,null,null,null,null,null,null,null,null,null,null,null,null,null,null,null,null,null,null,null,null,null,null,null,null,null,null,null,null,null,null,null,null,null,null,null,null,null,null,null,null,null,null,null,null,null,null,null,null,null,null,null,null,null,null,null,null,null,null,null,null,null,null,null,null,null,null,null,null,null,null,null,null,null,null,null,null,null,null,"Director of Alumni Relations","Director of Alumni Relations","Director of Alumni Engagement"]
[4024,"Cooper","John F.","B.A., J.D., LL.M.",null,null,null,null,null,null,null,null,null,null,null,null,null,null,null,null,null,null,null,null,null,null,null,null,null,null,null,null,null,null,null,null,null,null,null,null,null,null,null,null,null,null,null,null,null,null,null,null,null,null,null,null,null,null,null,null,null,null,null,null,null,null,null,null,null,null,null,null,null,null,null,null,null,null,null,null,null,null,null,null,null,null,null,null,null,null,null,null,null,null,null,null,"Visiting Assistant Professor of Law","Assistant Professor of Law","Assistant Professor of Law","Assistant Professor of Law","Assistant Professor of Law","Assistant Professor of Law","Professor of Law","Professor of Law","Professor of Law","Professor of Law","Professor of Law","Professor of Law","Professor of Law","Professor of Law","Professor of Law","Professor of Law / Associate Dean for International & \nCooperative Programs","Professor of Law / Associate Dean for International \n& Cooperative Programs","Professor of Law / Associate Dean for International \n& Cooperative Programs","Professor of Law / Associate Dean for International \n& Cooperative Programs","Professor of Law / Associate Dean for International \n& Cooperative Programs","Professor of Law / Associate Dean for International \n& Cooperative Programs","Professor of Law / Associate Dean for International \n& Cooperative Programs","Associate Dean for International Programs / \nProfessor of Law","Associate Dean for International Programs / \nProfessor of Law","Professor of Law, Emeritus","Professor of Law, Emeritus"]
[3502,"Copeland","Richard Wyatt","B.S., J.D., LL.M, Tax",null,null,null,null,null,null,null,null,null,null,null,null,null,null,null,null,null,null,null,null,null,null,null,null,null,null,null,null,null,null,null,null,null,null,null,null,null,null,null,null,null,null,null,null,null,null,null,null,null,null,null,null,null,null,null,null,null,null,null,null,null,null,null,null,null,null,null,null,null,null,"Associate Professor of Education","Associate Professor of Education",null,null,null,null,null,null,null,null,null,null,null,null,"Assistant Professor of Business Administration","Assistant Professor of Business Administration","Assistant Professor of Business Administration","Assistant Professor of Business Administration","Assistant Professor of Business Administration","Assistant Professor of Business Administration","Assistant Professor of Business Administration","Assistant Professor of Business Law & Tax","Assistant Professor of Business Law & Tax","Assistant Professor of Business Law & Tax","Assistant Professor of Business Law & Tax","Associate Professor of Business Law & Tax","Associate Professor of Business Law & Tax","Associate Professor of Business Law & Tax","Associate Professor of Business Law & Tax","Associate Professor of Business Law & Tax","Associate Professor of Business Law & Tax","Associate Professor of Business Law & Tax","Associate Professor of Business Law & Tax","Associate Professor of Business Law & Tax","Associate Professor of Business Law & Tax","Associate Professor of Business Law & Tax","Associate Professor of Business Law & Tax","Associate Professor of Business Law & Tax","Associate Professor of Business Law & Tax","Associate Professor of Business Law & Tax","Associate Professor of Business Law & Tax","Associate Professor of Business Law & Tax","Associate Professor of Business Law & Tax","Associate Professor of Business Law & Tax","Associate Professor of Business Law & Tax","Associate Professor of Business Law & Tax","Associate Professor of Business Law & Tax","Associate Professor of Business Law & Tax"]
[4534,"Coppock","Lee","B.A., J.D.",null,null,null,null,null,null,null,null,null,null,null,null,null,null,null,null,null,null,null,null,null,null,null,null,null,null,null,null,null,null,null,null,null,null,null,null,null,null,null,null,null,null,null,null,null,null,null,null,null,null,null,null,null,null,null,null,null,null,null,null,null,null,null,null,null,null,null,null,null,null,null,null,null,null,null,null,null,null,null,null,null,null,null,null,null,null,null,null,null,null,null,null,null,null,null,null,null,null,null,null,null,null,null,null,null,null,null,null,"Visiting Assistant Professor of Law","Trial Advocacy Fellow","Trial Advocacy Fellow","Trial Advocacy Fellow","Trial Advocacy Fellow","Trial Advocacy Fellow","Trial Advocacy Fellow","Trial Advocacy Fellow","Trial Advocacy Fellow"]
[3444,"Copps","John A.","Ph.D.",null,null,null,null,null,null,null,null,null,null,null,null,null,null,null,null,null,null,null,null,null,null,null,null,null,null,null,null,null,null,null,null,null,null,null,null,null,null,null,null,null,null,null,null,null,null,null,null,null,null,null,null,null,null,null,null,null,null,null,null,null,null,null,null,null,null,null,null,"Associate Professor of Economics",null,"Associate Professor of Economics"]
[3946,"Corcoran","Carol A.","B.S., M.A., Ed.D.",null,null,null,null,null,null,null,null,null,null,null,null,null,null,null,null,null,null,null,null,null,null,null,null,null,null,null,null,null,null,null,null,null,null,null,null,null,null,null,null,null,null,null,null,null,null,null,null,null,null,null,null,null,null,null,null,null,null,null,null,null,null,null,null,null,null,null,null,null,null,null,null,null,null,null,null,null,null,null,null,null,null,null,null,null,null,null,null,"Instructor in Education","Instructor in Education","Instructor in Education","Assistant Professor of Education","Assistant Professor of Education","Assistant Professor of Education","Assistant Professor of Education (Leave of Absence)","Assistant Professor of Education (Leave of Absence)","Assistant Professor of Education","Assistant Professor of Education","Associate Professor of Education","Associate Professor of Education","Associate Professor of Teacher Education","Associate Professor of Teacher Education \n(Spring Sabbatical)","Associate Professor of Teacher Education","Associate Professor of Teacher Education","Associate Professor of Teacher Education","Associate Professor of Teacher Education","Associate Professor of Teacher Education","Associate Professor of Teacher Education","Associate Professor of Teacher Education","Associate Professor of Teacher Education","Associate Professor of Teacher Education","Associate Professor of Teacher Education","Associate Professor of Teacher Education","Associate Professor of Teacher Education","Professor of Teacher Education","Professor of Teacher Education","Professor of Teacher Education","Professor of Teacher Education"]
[null,"Core","Rachel S.","B.A., M.Sc., Ph.D",null,null,null,null,null,null,null,null,null,null,null,null,null,null,null,null,null,null,null,null,null,null,null,null,null,null,null,null,null,null,null,null,null,null,null,null,null,null,null,null,null,null,null,null,null,null,null,null,null,null,null,null,null,null,null,null,null,null,null,null,null,null,null,null,null,null,null,null,null,null,null,null,null,null,null,null,null,null,null,null,null,null,null,null,null,null,null,null,null,null,null,null,null,null,null,null,null,null,null,null,null,null,null,null,null,null,null,null,null,null,null,null,null,null,null,null,null,"Assistant Professor of Sociology"]
[4323,"Cornelius","Marsha","B.A., M.A.",null,null,null,null,null,null,null,null,null,null,null,null,null,null,null,null,null,null,null,null,null,null,null,null,null,null,null,null,null,null,null,null,null,null,null,null,null,null,null,null,null,null,null,null,null,null,null,null,null,null,null,null,null,null,null,null,null,null,null,null,null,null,null,null,null,null,null,null,null,null,null,null,null,null,null,null,null,null,null,null,null,null,null,null,null,null,null,null,null,null,null,null,null,null,null,null,null,null,null,null,null,null,null,"Assistant Professor / Catalog Librarian"]
[3233,"Cosson","Mildred Almyra","A.B.",null,null,null,null,null,null,null,null,null,null,null,null,null,null,null,null,null,null,null,null,null,null,null,null,null,null,null,null,null,null,null,null,null,null,null,null,null,null,null,null,null,null,null,null,null,null,null,null,null,null,null,null,null,null,null,null,null,null,"Instructor in History","Instructor in History (Resigned)"]
[4324,"Costello","Barbara","B.A., M.L.S.",null,null,null,null,null,null,null,null,null,null,null,null,null,null,null,null,null,null,null,null,null,null,null,null,null,null,null,null,null,null,null,null,null,null,null,null,null,null,null,null,null,null,null,null,null,null,null,null,null,null,null,null,null,null,null,null,null,null,null,null,null,null,null,null,null,null,null,null,null,null,null,null,null,null,null,null,null,null,null,null,null,null,null,null,null,null,null,null,null,null,null,null,null,null,null,null,null,null,null,null,null,null,null,"Assistant Professor / Government Documents Librarian","Assistant Professor / Government Documents Librarian","Assistant Professor / Government Documents Librarian","Assistant Professor / Government Documents Librarian","Assistant Professor / Government Documents Librarian","Associate Professor / Government Documents Librarian","Associate Professor / Government Documents \n& Reference Librarian","Associate Professor / Government Documents \n& Reference Librarian","Associate Professor / Government Documents \n& Reference Librarian","Associate Professor / Government Documents \n& Reference Librarian","Associate Professor / Government Documents \n& Reference Librarian","Associate Professor / Government Documents \n& Reference Librarian","Associate Professor / Government Documents \n& Reference Librarian","Associate Professor / Government Documents \n& Reference Librarian","Associate Professor / Government Documents \n& Reference Librarian"]
[3034,"Cotner","Robert C.","A.M.",null,null,null,null,null,null,null,null,null,null,null,null,null,null,null,null,null,null,null,null,null,null,null,null,null,null,null,null,null,null,null,null,null,null,null,null,null,null,null,null,null,null,null,null,null,null,null,"Professor of Political Science & Director of Debate","Dean of Men / Professor of History & Political Science / \nDirector of Debate","Professor of History & Political Science / Director of \nDebate (Absent on Leave 1938-39)","Professor of History & Political Science \n(Absent on Leave 1939-40)","Professor of History & Political Science (Resigned)"]
[276,"Cotton","Irwin W.","B.S.",null,null,null,null,null,null,null,null,null,null,null,null,null,null,null,null,null,null,null,null,null,"Instructor in Pedagogy"]
[4108,"Couch","Duncan","B.M.E., M.M.E., Ph.D.",null,null,null,null,null,null,null,null,null,null,null,null,null,null,null,null,null,null,null,null,null,null,null,null,null,null,null,null,null,null,null,null,null,null,null,null,null,null,null,null,null,null,null,null,null,null,null,null,null,null,null,null,null,null,null,null,null,null,null,null,null,null,null,null,null,null,null,null,null,null,null,null,null,null,null,null,null,null,null,null,null,null,null,null,null,null,null,null,null,null,null,null,null,null,null,null,"Professor of Music","Professor of Music","Professor of Music","Professor of Music","Professor of Music","Professor of Music","Professor of Music / Archie Greenberg Professorship","Professor of Music","Professor of Music","Professor of Music","Professor of Music","Professor of Music","Professor of Music","Professor of Music","Professor of Music, Emeritus","Professor of Music, Emeritus","Professor of Music, Emeritus","Professor of Music, Emeritus","Professor of Music, Emeritus","Professor of Music, Emeritus","Professor of Music, Emeritus","Professor of Music, Emeritus"]
[4139,"Coulter","Lisa","B.S., Ph.D.",null,null,null,null,null,null,null,null,null,null,null,null,null,null,null,null,null,null,null,null,null,null,null,null,null,null,null,null,null,null,null,null,null,null,null,null,null,null,null,null,null,null,null,null,null,null,null,null,null,null,null,null,null,null,null,null,null,null,null,null,null,null,null,null,null,null,null,null,null,null,null,null,null,null,null,null,null,null,null,null,null,null,null,null,null,null,null,null,null,null,null,null,null,null,null,null,null,"Assistant Professor of Mathematics","Assistant Professor of Mathematics","Assistant Professor of Mathematics","Assistant Professor of Mathematics","Assistant Professor of Mathematics","Associate Professor of Mathematics","Associate Professor of Mathematics","Associate Professor of Mathematics","Associate Professor of Mathematics","Associate Professor of Mathematics","Associate Professor of Mathematics / Chair","Associate Professor of Mathematics & Computer \nScience / Chair","Associate Professor of Mathematics & Computer \nScience / Chair","Associate Professor of Mathematics & \nComputer Science / Chair","Associate Professor of Mathematics & \nComputer Science / Chair","Associate Professor of Mathematics & \nComputer Science / Chair","Associate Professor of Mathematics & \nComputer Science / Chair","Associate Professor of Mathematics","Associate Professor of Mathematics","Associate Professor of Mathematics","Associate Professor of Mathematics"]
[2925,"Courson","Mabel Marie","A.B.",null,null,null,null,null,null,null,null,null,null,null,null,null,null,null,null,null,null,null,null,null,null,null,null,null,null,null,null,null,null,null,null,null,null,null,null,null,"Assistant in Domestic Science & Art","Assistant in Domestic Science & Art / In charge of \nStetson Hall","Assistant in Domestic Science & Art / In charge of \nStetson Hall","Assistant in Domestic Science & Art / In charge of \nStetson Hall","Assistant in Domestic Science & Art / In charge of \nStetson Hall","Instructor in Home Economics / In charge of Stetson Hall"]
[3914,"Coutant","Cheryl Ann","B.A., M.A.T.",null,null,null,null,null,null,null,null,null,null,null,null,null,null,null,null,null,null,null,null,null,null,null,null,null,null,null,null,null,null,null,null,null,null,null,null,null,null,null,null,null,null,null,null,null,null,null,null,null,null,null,null,null,null,null,null,null,null,null,null,null,null,null,null,null,null,null,null,null,null,null,null,null,null,null,null,null,null,null,null,null,null,null,null,null,null,null,"Instructor of Biology","Instructor of Biology"]
[570,"Coutts","Marion Louise","A.B.",null,null,null,null,null,null,null,null,null,null,null,null,null,null,null,null,null,null,null,null,null,null,null,null,null,null,null,null,null,null,null,null,null,null,null,null,null,null,null,"Instructor in Secretarial Course","Instructor in Secretarial Course","Instructor in Secretarial Course","Instructor in Secretarial Work","Instructor in Secretarial Work","Instructor in Secretarial Work"]
[3867,"Craig","Edward Burr","IV, B.S., J.D.",null,null,null,null,null,null,null,null,null,null,null,null,null,null,null,null,null,null,null,null,null,null,null,null,null,null,null,null,null,null,null,null,null,null,null,null,null,null,null,null,null,null,null,null,null,null,null,null,null,null,null,null,null,null,null,null,null,null,null,null,null,null,null,null,null,null,null,null,null,null,null,null,null,null,null,null,null,null,null,null,null,null,null,null,"Assistant Professor of Law","Assistant Professor of Law"]
[568,"Crandall","Jesse Robert","A.M.",null,null,null,null,null,null,null,null,null,null,null,null,null,null,null,null,null,null,null,null,null,null,null,null,null,null,null,null,null,null,null,null,null,null,null,null,null,null,null,"Professor of Business Administration","Professor of Business Administration","Professor of Business Administration","Professor of Business Administration"]
[149,"Crawford","Katharine Armistead","Mus. B.",null,null,null,null,null,null,null,null,null,null,null,null,null,null,null,"Instructor in Voice","Instructor in Voice","Instructor in Voice","Instructor in Voice"]
[null,"Crist","Charles J., Jr.","B.A., J.D.",null,null,null,null,null,null,null,null,null,null,null,null,null,null,null,null,null,null,null,null,null,null,null,null,null,null,null,null,null,null,null,null,null,null,null,null,null,null,null,null,null,null,null,null,null,null,null,null,null,null,null,null,null,null,null,null,null,null,null,null,null,null,null,null,null,null,null,null,null,null,null,null,null,null,null,null,null,null,null,null,null,null,null,null,null,null,null,null,null,null,null,null,null,null,null,null,null,null,null,null,null,null,null,null,null,null,null,null,null,null,null,null,null,null,"Distinguished Professional Lecturer, College of Law","Distinguished Professional Lecturer College of Law","Distinguished Professional Lecturer, College of Law"]
[null,"Crowder","Roslyn","B.A., Ph.D",null,null,null,null,null,null,null,null,null,null,null,null,null,null,null,null,null,null,null,null,null,null,null,null,null,null,null,null,null,null,null,null,null,null,null,null,null,null,null,null,null,null,null,null,null,null,null,null,null,null,null,null,null,null,null,null,null,null,null,null,null,null,null,null,null,null,null,null,null,null,null,null,null,null,null,null,null,null,null,null,null,null,null,null,null,null,null,null,null,null,null,null,null,null,null,null,null,null,null,null,null,null,null,null,null,null,null,null,null,null,null,null,null,null,null,null,"Assistant Professor of Biology","Assistant Professor of Biology"]
[2671,"Culp","F.D.",null,null,null,null,null,null,null,null,null,null,null,null,null,null,null,null,null,null,null,null,null,null,"Instructor in Mathematics"]
[3227,"Culp","Margaret McGarrah","A.B.",null,null,null,null,null,null,null,null,null,null,null,null,null,null,null,null,null,null,null,null,null,null,null,null,null,null,null,null,null,null,null,null,null,null,null,null,null,null,null,null,null,null,null,null,null,null,null,null,null,null,null,null,null,null,null,null,null,null,"Assistant Professor of English"]
[3739,"Currie","David M.","B.S., B.A., M.B.A.",null,null,null,null,null,null,null,null,null,null,null,null,null,null,null,null,null,null,null,null,null,null,null,null,null,null,null,null,null,null,null,null,null,null,null,null,null,null,null,null,null,null,null,null,null,null,null,null,null,null,null,null,null,null,null,null,null,null,null,null,null,null,null,null,null,null,null,null,null,null,null,null,null,null,null,null,null,null,null,null,null,"Instructor in Business Administration"]
[3638,"Cushman","Muriel","B.M., M.M.",null,null,null,null,null,null,null,null,null,null,null,null,null,null,null,null,null,null,null,null,null,null,null,null,null,null,null,null,null,null,null,null,null,null,null,null,null,null,null,null,null,null,null,null,null,null,null,null,null,null,null,null,null,null,null,null,null,null,null,null,null,null,null,null,null,null,null,null,null,null,null,null,null,null,null,null,"Instructor in School of Music",null,null,null,null,null,"Instructor in Piano","Instructor in Piano"]
[4492,"Dalton","Philip D.","B.A., M.A., Ph.D.",null,null,null,null,null,null,null,null,null,null,null,null,null,null,null,null,null,null,null,null,null,null,null,null,null,null,null,null,null,null,null,null,null,null,null,null,null,null,null,null,null,null,null,null,null,null,null,null,null,null,null,null,null,null,null,null,null,null,null,null,null,null,null,null,null,null,null,null,null,null,null,null,null,null,null,null,null,null,null,null,null,null,null,null,null,null,null,null,null,null,null,null,null,null,null,null,null,null,null,null,null,null,null,null,null,null,"Assistant Professor of Communication Studies","Assistant Professor of Communication Studies","Assistant Professor of Communication Studies","Assistant Professor of Communication Studies","Assistant Professor of Communication Studies"]
[null,"Daniels","Shelia","M.P.A., S.P.H.R.",null,null,null,null,null,null,null,null,null,null,null,null,null,null,null,null,null,null,null,null,null,null,null,null,null,null,null,null,null,null,null,null,null,null,null,null,null,null,null,null,null,null,null,null,null,null,null,null,null,null,null,null,null,null,null,null,null,null,null,null,null,null,null,null,null,null,null,null,null,null,null,null,null,null,null,null,null,null,null,null,null,null,null,null,null,null,null,null,null,null,null,null,null,null,null,null,null,null,null,null,null,null,null,null,null,null,null,null,null,null,null,null,null,null,null,null,"Associate Vice President, Human Resources"]
[3857,"David","Jean M.","BSC (Economics),MSC (Economics), Ph.D.",null,null,null,null,null,null,null,null,null,null,null,null,null,null,null,null,null,null,null,null,null,null,null,null,null,null,null,null,null,null,null,null,null,null,null,null,null,null,null,null,null,null,null,null,null,null,null,null,null,null,null,null,null,null,null,null,null,null,null,null,null,null,null,null,null,null,null,null,null,null,null,null,null,null,null,null,null,null,null,null,null,null,null,null,"Assistant Professor of Business Administration","Assistant Professor of Business Administration","Assistant Professor of Business Administration","Associate Professor of Business Administration","Associate Professor of Business Administration"]
[4277,"Davis","Carla J.","B.A., M.S.",null,null,null,null,null,null,null,null,null,null,null,null,null,null,null,null,null,null,null,null,null,null,null,null,null,null,null,null,null,null,null,null,null,null,null,null,null,null,null,null,null,null,null,null,null,null,null,null,null,null,null,null,null,null,null,null,null,null,null,null,null,null,null,null,null,null,null,null,null,null,null,null,null,null,null,null,null,null,null,null,null,null,null,null,null,null,null,null,null,null,null,null,null,null,null,null,null,null,null,null,null,"Catalog Librarian / Instructor","Catalog Librarian / Instructor"]
[4611,"Davis","Kirsten K.","B.A., J.D.",null,null,null,null,null,null,null,null,null,null,null,null,null,null,null,null,null,null,null,null,null,null,null,null,null,null,null,null,null,null,null,null,null,null,null,null,null,null,null,null,null,null,null,null,null,null,null,null,null,null,null,null,null,null,null,null,null,null,null,null,null,null,null,null,null,null,null,null,null,null,null,null,null,null,null,null,null,null,null,null,null,null,null,null,null,null,null,null,null,null,null,null,null,null,null,null,null,null,null,null,null,null,null,null,null,null,null,null,null,null,null,"Associate Professor of Law / Director of Legal \nResearch & Writing","Associate Professor of Law / Director of Legal \nResearch & Writing","Associate Professor of Law / Director of Legal \nResearch & Writing","Associate Professor of Law / Director of Legal \nResearch & Writing","Associate Professor of Law / Director of Legal \nResearch & Writing","Professor of Law / Director of Legal Research & Writing","Professor of Law / Director of Legal Research & \nWriting / Director of Institute for Advancement \nof Legal Communication"]
[null,"Davis","Linda P.","B.S., M.Ed.",null,null,null,null,null,null,null,null,null,null,null,null,null,null,null,null,null,null,null,null,null,null,null,null,null,null,null,null,null,null,null,null,null,null,null,null,null,null,null,null,null,null,null,null,null,null,null,null,null,null,null,null,null,null,null,null,null,null,null,null,null,null,null,null,null,null,null,null,null,null,null,null,null,null,null,null,null,null,null,null,null,null,null,null,null,null,null,null,null,null,null,null,null,null,null,null,null,null,null,null,null,null,null,null,null,null,null,null,null,null,null,null,null,null,null,"Vice President for University Relations","Special Advisor to the President for Philanthropy"]
[2722,"Davis","Wilma E.","A.B.",null,null,null,null,null,null,null,null,null,null,null,null,null,null,null,null,null,null,null,null,null,null,null,null,null,"Instructor in Fine Arts","Instructor in Fine Arts"]
[3802,"Dayton","Orvil L., Jr.","J.D., Judge (6th Judicial Ct of Florida -ret.)",null,null,null,null,null,null,null,null,null,null,null,null,null,null,null,null,null,null,null,null,null,null,null,null,null,null,null,null,null,null,null,null,null,null,null,null,null,null,null,null,null,null,null,null,null,null,null,null,null,null,null,null,null,null,null,null,null,null,null,null,null,null,null,null,null,null,null,null,null,null,null,null,null,null,null,null,null,null,null,null,null,null,null,"Visiting Professor of Law","Professor of Law",null,null,null,null,null,null,null,null,null,null,"Professor of Law, Emeritus","Professor of Law, Emeritus","Professor of Law, Emeritus","Professor of Law, Emeritus","Professor of Law, Emeritus","Professor of Law, Emeritus","Professor of Law, Emeritus","Professor of Law, Emeritus","Professor of Law, Emeritus"]
[884,"Deeming","Sarah-Louise","M.S.",null,null,null,null,null,null,null,null,null,null,null,null,null,null,null,null,null,null,null,null,null,null,null,null,null,null,null,null,null,null,null,null,null,null,null,null,null,null,null,null,null,null,null,null,null,null,null,null,null,null,null,null,null,null,null,null,null,null,null,"Assistant Professor of English","Assistant Professor of English (Resigned)"]
[3600,"DeGraw","Allen C.","Major, USA, B.A.",null,null,null,null,null,null,null,null,null,null,null,null,null,null,null,null,null,null,null,null,null,null,null,null,null,null,null,null,null,null,null,null,null,null,null,null,null,null,null,null,null,null,null,null,null,null,null,null,null,null,null,null,null,null,null,null,null,null,null,null,null,null,null,null,null,null,null,null,null,null,null,null,null,null,null,null,null,"Associate Professor of Military Science","Associate Professor of Military Science"]
[3555,"Delap","James H.","B.S., M.A., Ph.D",null,null,null,null,null,null,null,null,null,null,null,null,null,null,null,null,null,null,null,null,null,null,null,null,null,null,null,null,null,null,null,null,null,null,null,null,null,null,null,null,null,null,null,null,null,null,null,null,null,null,null,null,null,null,null,null,null,null,null,null,null,null,null,null,null,null,null,null,null,null,null,null,null,"Assistant Professor of Chemistry","Assistant Professor of Chemistry","Assistant Professor of Chemistry","Assistant Professor of Chemistry","Assistant Professor of Chemistry","Assistant Professor of Chemistry","Associate Professor of Chemistry","Associate Professor of Chemistry","Associate Professor of Chemistry","Associate Professor of Chemistry","Professor of Chemistry","Professor of Chemistry","Professor of Chemistry","Professor of Chemistry","Professor of Chemistry","Professor of Chemistry","Professor of Chemistry","Professor of Chemistry","Professor of Chemistry","Professor of Chemistry","Professor of Chemistry (Spring Sabbatical)","Professor of Chemistry (Academic Year Sabbatical)","Professor of Chemistry","Professor of Chemistry","Professor of Chemistry / Chair","Professor of Chemistry / Chair","Professor of Chemistry","Professor of Chemistry","Professor of Chemistry / Senior Active Status","Professor of Chemistry, Emeritus","Professor of Chemistry, Emeritus","Professor of Chemistry, Emeritus","Professor of Chemistry, Emeritus","Professor of Chemistry, Emeritus","Professor of Chemistry, Emeritus","Professor of Chemistry, Emeritus","Professor of Chemistry, Emeritus","Professor of Chemistry, Emeritus","Professor of Chemistry, Emeritus","Professor of Chemistry, Emeritus","Professor of Chemistry, Emeritus","Professor of Chemistry, Emeritus","Professor of Chemistry, Emeritus","Professor of Chemistry, Emeritus","Professor of Chemistry, Emeritus"]
[2995,"Denham","Raymond Oeland",null,null,null,null,null,null,null,null,null,null,null,null,null,null,null,null,null,null,null,null,null,null,null,null,null,null,null,null,null,null,null,null,null,null,null,null,null,null,null,null,null,null,null,"Assistant in Commercial Mathematics & Business Law"]
[2734,"Denny","Mary Belle","Ph.B., A.M.",null,null,null,null,null,null,null,null,null,null,null,null,null,null,null,null,null,null,null,null,null,null,null,null,null,null,"Instructor in Shorthand & Business English","Instructor in Shorthand & Business English","Instructor in Shorthand & Business English",null,"Instructor in Shorthand & Business English",null,null,null,"Instructor in Shorthand & Typewriting"]
[4066,"Dershimer","Elizabeth Lovejoy","B.S., M.Ed., Ed.D.",null,null,null,null,null,null,null,null,null,null,null,null,null,null,null,null,null,null,null,null,null,null,null,null,null,null,null,null,null,null,null,null,null,null,null,null,null,null,null,null,null,null,null,null,null,null,null,null,null,null,null,null,null,null,null,null,null,null,null,null,null,null,null,null,null,null,null,null,null,null,null,null,null,null,null,null,null,null,null,null,null,null,null,null,null,null,null,null,null,null,null,null,null,null,"Associate Professor of Education","Associate Professor of Education","Associate Professor of Education","Associate Professor of Education","Associate Professor of Education","Associate Professor of Education","Associate Professor of Teacher Education","Associate Professor of Teacher Education","Associate Professor of Teacher Education","Associate Professor of Teacher Education","Associate Professor of Teacher Education","Associate Professor of Teacher Education","Associate Professor of Teacher Education","Associate Professor of Teacher Education","Associate Professor of Teacher Education","Associate Professor of Teacher Education","Associate Professor of Teacher Education","Associate Professor of Teacher Education","Associate Professor of Teacher Education","Associate Professor of Teacher Education","Associate Professor of Teacher Education, Emeritus","Associate Professor of Teacher Education, Emeritus","Associate Professor of Teacher Education, Emeritus","Associate Professor of Teacher Education, Emeritus"]
[4214,"Diachenko","Liudmila Stepanovna","Diploma, Moscow State University",null,null,null,null,null,null,null,null,null,null,null,null,null,null,null,null,null,null,null,null,null,null,null,null,null,null,null,null,null,null,null,null,null,null,null,null,null,null,null,null,null,null,null,null,null,null,null,null,null,null,null,null,null,null,null,null,null,null,null,null,null,null,null,null,null,null,null,null,null,null,null,null,null,null,null,null,null,null,null,null,null,null,null,null,null,null,null,null,null,null,null,null,null,null,null,null,null,null,null,"Visiting Instructor in Foreign Languages","Visiting Instructor in Foreign Languages"]
[2906,"Dickinson","Gordon M.","B.S.",null,null,null,null,null,null,null,null,null,null,null,null,null,null,null,null,null,null,null,null,null,null,null,null,null,null,null,null,null,null,null,null,null,null,null,null,"Instructor in Auditing & Income Tax Procedure","Instructor in Auditing & Income Tax Procedure"]
[3672,"Dickson","William Wayne","B.A., M.A., Ph.D.",null,null,null,null,null,null,null,null,null,null,null,null,null,null,null,null,null,null,null,null,null,null,null,null,null,null,null,null,null,null,null,null,null,null,null,null,null,null,null,null,null,null,null,null,null,null,null,null,null,null,null,null,null,null,null,null,null,null,null,null,null,null,null,null,null,null,null,null,null,null,null,null,null,null,null,null,null,null,null,"Instructor in English","Instructor in English",null,null,"Assistant Professor of English","Associate Professor of English","Professor of English","Professor of English","Professor of English","Professor of English","Professor of English","Professor of English / Chair","Professor of English / Chair","Professor of English / Chair","Professor of English / Chair","Professor of English / Chair","Professor of English & Humanities / Chair, Nell \nCarlton Chair of English & Humanities","Professor of English","Professor of English","Professor of English / Kirchman Chair of Humanities","Professor of English & Humanities / Kirchman \nChair of Humanities","Professor of English & Humanities","Professor of English & Humanities","Professor of English & Humanities","Professor of English & Humanities","Professor of English & Humanities","Professor of English / Humanities / Director of \nHonors Program","Professor of English / Human / Director of Honors / \nKirchman Chair","Professor of English & Humanities / Johnson Chair \nof Humanities","Professor of English & Humanities / Johnson Chair \nof Humanities","Professor of English & Humanities / Johnson \nChair of Humanities","Professor of English & Humanities / Johnson \nChair of Humanities","Professor of English & Humanities / Johnson Chair \nof Humanities","Professor of English & Humanities / Johnson Chair \nof Humanities","Professor of English & Humanities / Johnson Chair \nof Humanities","Professor of English & Humanities, Emeritus","Professor of English & Humanities, Emeritus","Professor of English & Humanities, Emeritus","Professor of English & Humanities, Emeritus"]
[3474,"Dillon","Richard T.","B.S., J.D., LL.M., L.H.D., LL.D.",null,null,null,null,null,null,null,null,null,null,null,null,null,null,null,null,null,null,null,null,null,null,null,null,null,null,null,null,null,null,null,null,null,null,null,null,null,null,null,null,null,null,null,null,null,null,null,null,null,null,null,null,null,null,null,null,null,null,null,null,null,null,null,null,null,null,null,null,null,"Assistant Professor of Law / Librarian College of Law","Assistant Professor of Law / Librarian of the \nCollege of Law","Assistant Professor of Law / Librarian College of Law","Professor of Law","Professor of Law","Professor of Law","Professor of Law","Professor of Law","Professor of Law","Professor of Law","Professor of Law / Dean of the College of Law","Professor of Law / Dean of the College of Law","Professor of Law / Dean of the College of Law","Professor of Law / Dean of the College of Law","Professor of Law / Dean of the College of Law","Professor of Law / Dean of the College of Law","Professor of Law / Dean of the College of Law","Professor of Law / Dean of the College of Law","Professor of Law (Full Year Sabbatical)","Professor of Law","Professor of Law","Professor of Law","Professor of Law","Professor of Law","Professor of Law","Professor of Law","Professor of Law / Dean Emeritus / Charles Dana Chair","Professor of Law / Dean Emeritus / Charles Dana Chair",null,null,null,"Professor / Dean Emeritus","Professor / Dean Emeritus",null,null,"Professor / Dean Emeritus","Professor / Dean Emeritus","Professor / Dean Emeritus","Professor / Dean Emeritus","Professor / Dean Emeritus","Professor of Law / Dean, Emeritus","Professor of Law / Dean, Emeritus","Professor of Law / Dean, Emeritus","Professor of Law / Dean, Emeritus","Professor of Law / Dean Emeritus"]
[4481,"Dixon","Nathaneal","B.A.",null,null,null,null,null,null,null,null,null,null,null,null,null,null,null,null,null,null,null,null,null,null,null,null,null,null,null,null,null,null,null,null,null,null,null,null,null,null,null,null,null,null,null,null,null,null,null,null,null,null,null,null,null,null,null,null,null,null,null,null,null,null,null,null,null,null,null,null,null,null,null,null,null,null,null,null,null,null,null,null,null,null,null,null,null,null,null,null,null,null,null,null,null,null,null,null,null,null,null,null,null,null,null,null,null,"Assistant Men's Basketball Coach","Assistant Men's Basketball Coach"]
[109,"Dodd","Walter F.",null,null,null,null,null,null,null,null,null,null,null,null,null,null,"Assistant in Practice School"]
[3652,"Dolloff","Albert F.","Ph.D.",null,null,null,null,null,null,null,null,null,null,null,null,null,null,null,null,null,null,null,null,null,null,null,null,null,null,null,null,null,null,null,null,null,null,null,null,null,null,null,null,null,null,null,null,null,null,null,null,null,null,null,null,null,null,null,null,null,null,null,null,null,null,null,null,null,null,null,null,null,null,null,null,null,null,null,null,null,"Visiting Professor of Biology","Visiting Professor of Biology"]
[3937,"Dominguez","GIL","B.S.",null,null,null,null,null,null,null,null,null,null,null,null,null,null,null,null,null,null,null,null,null,null,null,null,null,null,null,null,null,null,null,null,null,null,null,null,null,null,null,null,null,null,null,null,null,null,null,null,null,null,null,null,null,null,null,null,null,null,null,null,null,null,null,null,null,null,null,null,null,null,null,null,null,null,null,null,null,null,null,null,null,null,null,null,null,null,null,"Head Coach of Soccer","Head Coach of Soccer"]
[4091,"Dorsey","Leigh Ann","B.S., M.S.",null,null,null,null,null,null,null,null,null,null,null,null,null,null,null,null,null,null,null,null,null,null,null,null,null,null,null,null,null,null,null,null,null,null,null,null,null,null,null,null,null,null,null,null,null,null,null,null,null,null,null,null,null,null,null,null,null,null,null,null,null,null,null,null,null,null,null,null,null,null,null,null,null,null,null,null,null,null,null,null,null,null,null,null,null,null,null,null,null,null,null,null,null,null,null,"Circulation Librarian / Instructor","Circulation Librarian / Instructor","Circulation Librarian / Instructor"]
[3673,"Downing","Joyce W.","BA",null,null,null,null,null,null,null,null,null,null,null,null,null,null,null,null,null,null,null,null,null,null,null,null,null,null,null,null,null,null,null,null,null,null,null,null,null,null,null,null,null,null,null,null,null,null,null,null,null,null,null,null,null,null,null,null,null,null,null,null,null,null,null,null,null,null,null,null,null,null,null,null,null,null,null,null,null,null,null,"Associate Professor of Military Science","Associate Professor of Military Science","Associate Professor of Military Science"]
[4110,"Dubendorff","Bruce H.","B.S., M.A., Ph.D.",null,null,null,null,null,null,null,null,null,null,null,null,null,null,null,null,null,null,null,null,null,null,null,null,null,null,null,null,null,null,null,null,null,null,null,null,null,null,null,null,null,null,null,null,null,null,null,null,null,null,null,null,null,null,null,null,null,null,null,null,null,null,null,null,null,null,null,null,null,null,null,null,null,null,null,null,null,null,null,null,null,null,null,null,null,null,null,null,null,null,null,null,null,null,null,null,"Assistant Professor of Physics","Assistant Professor of Physics","Assistant Professor of Physics","Assistant Professor of Physics","Assistant Professor of Physics","Assistant Professor of Physics"]
[4170,"Duizend","Johnny","B.B.A., M.B.A.",null,null,null,null,null,null,null,null,null,null,null,null,null,null,null,null,null,null,null,null,null,null,null,null,null,null,null,null,null,null,null,null,null,null,null,null,null,null,null,null,null,null,null,null,null,null,null,null,null,null,null,null,null,null,null,null,null,null,null,null,null,null,null,null,null,null,null,null,null,null,null,null,null,null,null,null,null,null,null,null,null,null,null,null,null,null,null,null,null,null,null,null,null,null,null,null,null,null,"Assistant Professor of Management","Director of Small Business Development Center"]
[890,"Duncan","Margaret Flexer","A.B.",null,null,null,null,null,null,null,null,null,null,null,null,null,null,null,null,null,null,null,null,null,null,null,null,null,null,null,null,null,null,null,null,null,null,null,null,null,null,null,null,null,null,null,null,null,null,null,null,null,null,null,null,null,null,null,null,null,null,null,"Instructor in English","Instructor in English (Resigned)"]
[3938,"Dunn","Pete","BA., M.A.",null,null,null,null,null,null,null,null,null,null,null,null,null,null,null,null,null,null,null,null,null,null,null,null,null,null,null,null,null,null,null,null,null,null,null,null,null,null,null,null,null,null,null,null,null,null,null,null,null,null,null,null,null,null,null,null,null,null,null,null,null,null,null,null,null,null,null,null,null,null,null,null,null,null,null,null,null,null,null,null,null,null,null,null,null,null,null,"Head Coach of Baseball","Head Coach of Baseball",null,null,"Head Coach of Baseball",null,null,null,null,null,"Head Coach of Baseball","Head Coach of Baseball","Head Coach of Baseball","Head Coach of Baseball","Head Coach of Baseball","Head Coach of Baseball","Head Baseball Coach","Head Baseball Coach","Head Baseball Coach","Head Baseball Coach","Head Baseball Coach","Head Baseball Coach","Head Baseball Coach","Head Baseball Coach","Head Baseball Coach","Head Baseball Coach","Head Baseball Coach","Head Baseball Coach","Head Baseball Coach"]
[null,"Durow","Peter","B.M., M.M., Ph.D.",null,null,null,null,null,null,null,null,null,null,null,null,null,null,null,null,null,null,null,null,null,null,null,null,null,null,null,null,null,null,null,null,null,null,null,null,null,null,null,null,null,null,null,null,null,null,null,null,null,null,null,null,null,null,null,null,null,null,null,null,null,null,null,null,null,null,null,null,null,null,null,null,null,null,null,null,null,null,null,null,null,null,null,null,null,null,null,null,null,null,null,null,null,null,null,null,null,null,null,null,null,null,null,null,null,null,null,null,null,null,null,null,null,null,"Visiting Assistant Professor of Music","Visiting Assistant Professor of Music"]
[3710,"Durrence","James Larry","MA",null,null,null,null,null,null,null,null,null,null,null,null,null,null,null,null,null,null,null,null,null,null,null,null,null,null,null,null,null,null,null,null,null,null,null,null,null,null,null,null,null,null,null,null,null,null,null,null,null,null,null,null,null,null,null,null,null,null,null,null,null,null,null,null,null,null,null,null,null,null,null,null,null,null,null,null,null,null,null,null,"Instructor in History"]
[635,"Eastburn","Iola Kay","Ph.D.",null,null,null,null,null,null,null,null,null,null,null,null,null,null,null,null,null,null,null,null,null,null,null,null,null,null,null,null,null,null,null,null,null,null,null,null,null,null,null,null,null,null,null,null,null,null,null,"Acting Dean of Women / Professor of Modern Languages","Professor of Modern Foreign Languages","Professor of German","Professor of German","Professor of German","Professor of German","Professor of German","Professor of German","Professor of German","Professor of German (Resigned)"]
[3266,"Edmunds","J. Ollie","M.A., LL B.,Litt.D., LL.D.",null,null,null,null,null,null,null,null,null,null,null,null,null,null,null,null,null,null,null,null,null,null,null,null,null,null,null,null,null,null,null,null,null,null,null,null,null,null,null,null,null,null,null,null,null,null,null,null,null,null,null,null,null,null,null,null,null,null,null,"President of the University","President of the University","President of the University",null,"President","President","President","President",null,"President","President","President","President",null,null,null,null,null,"Chancellor",null,null,null,null,"Chancellor"]
[3107,"Ehlhardt","George B.","A.B.",null,null,null,null,null,null,null,null,null,null,null,null,null,null,null,null,null,null,null,null,null,null,null,null,null,null,null,null,null,null,null,null,null,null,null,null,null,null,null,null,null,null,null,null,null,null,null,null,null,null,null,"Assistant Instructor in History","Assistant Instructor in History","Assistant Instructor in History"]
[334,"Eldredge","Lillian",null,null,null,null,null,null,null,null,null,null,null,null,null,null,null,null,null,null,null,null,null,null,null,null,null,null,"Assistant in Library"]
[3504,"Eldridge","John","AM",null,null,null,null,null,null,null,null,null,null,null,null,null,null,null,null,null,null,null,null,null,null,null,null,null,null,null,null,null,null,null,null,null,null,null,null,null,null,null,null,null,null,null,null,null,null,null,null,null,null,null,null,null,null,null,null,null,null,null,null,null,null,null,null,null,null,null,null,null,null,null,"Visiting Professor of Economics"]
[4645,"Ellis","Loren E.","B.S.",null,null,null,null,null,null,null,null,null,null,null,null,null,null,null,null,null,null,null,null,null,null,null,null,null,null,null,null,null,null,null,null,null,null,null,null,null,null,null,null,null,null,null,null,null,null,null,null,null,null,null,null,null,null,null,null,null,null,null,null,null,null,"Assistant Professor of Physical Education"]
[2530,"Emery","May D.",null,null,null,null,null,null,null,null,null,null,null,null,null,null,null,"Stenographer to the President","Stenographer to the President","Stenographer","Secretary to the President","Secretary to the President","Secretary to the President","Secretary to the President","Secretary to the President","Secretary to the President"]
[2432,"English","John B.","A.M., M.D., D.D.",null,null,null,null,null,null,null,null,null,"Professor of Oratory & Biblical Literature","Professor of Oratory & Biblical Literature"]
[3364,"Ericson","Richard F.","A.B., M.B.A., Ph.D.",null,null,null,null,null,null,null,null,null,null,null,null,null,null,null,null,null,null,null,null,null,null,null,null,null,null,null,null,null,null,null,null,null,null,null,null,null,null,null,null,null,null,null,null,null,null,null,null,null,null,null,null,null,null,null,null,null,null,null,null,null,null,null,null,"Associate Professor of Economics","Associate Professor of Economics","Professor of Economics","Professor of Economics",null,null,null,null,null,null,null,null,null,"Professor of Economics"]
[910,"Evans","Alvin E.","A.B., M.A., Ph.D., J.D.",null,null,null,null,null,null,null,null,null,null,null,null,null,null,null,null,null,null,null,null,null,null,null,null,null,null,null,null,null,null,null,null,null,null,null,null,null,null,null,null,null,null,null,null,null,null,null,null,null,null,null,null,null,null,null,null,null,null,null,null,"Visiting Professor of Law","Visiting Professor of Law (Resigned)"]
[4068,"Everett","David","B.A., M.A., M.L.S.",null,null,null,null,null,null,null,null,null,null,null,null,null,null,null,null,null,null,null,null,null,null,null,null,null,null,null,null,null,null,null,null,null,null,null,null,null,null,null,null,null,null,null,null,null,null,null,null,null,null,null,null,null,null,null,null,null,null,null,null,null,null,null,null,null,null,null,null,null,null,null,null,null,null,null,null,null,null,null,null,null,null,null,null,null,null,null,null,null,null,null,null,null,null,"Assistant Professor / Head of Reference Services","Associate Director for Public Services","Associate Director for Public Services","Assistant Professor / Associate Director for \nPublic Services","Assistant Professor / Associate Director for \nPublic Services","Assistant Professor / Associate Director for \nPublic Services","Assistant Professor / Associate Director for Public \nServices, duPont Library","Assistant Professor / Associate Director for Public \nServices, duPont Library","Assistant Professor / Associate Director for Public \nServices, duPont Library"]
[4111,"Everett","Diane D.","B.A., M.A., Ph.D.",null,null,null,null,null,null,null,null,null,null,null,null,null,null,null,null,null,null,null,null,null,null,null,null,null,null,null,null,null,null,null,null,null,null,null,null,null,null,null,null,null,null,null,null,null,null,null,null,null,null,null,null,null,null,null,null,null,null,null,null,null,null,null,null,null,null,null,null,null,null,null,null,null,null,null,null,null,null,null,null,null,null,null,null,null,null,null,null,null,null,null,null,null,null,null,null,"Assistant Professor of Sociology","Assistant Professor of Sociology","Assistant Professor of Sociology","Assistant Professor of Sociology / Director of Stetson \nInstitute of Social Research","Assistant Professor of Sociology / Director of Stetson \nInstitute of Social Research","Assistant Professor of Sociology / Director of Stetson \nInstitute of Social Research (Spring Sabbatical)","Assistant Professor of Sociology / Director of Stetson \nInstitute of Social Research","Assistant Professor of Sociology / Director of Stetson \nInstitute of Social Research","Assistant Professor of Sociology / Director of Stetson \nInstitute of Social Research","Associate Professor of Sociology","Associate Professor of Sociology","Associate Professor of Sociology","Associate Professor of Sociology / Chair","Associate Professor of Sociology / Chair","Associate Professor of Sociology / Chair","Associate Professor of Sociology","Associate Professor of Sociology / Anthropology","Associate Professor of Sociology / Anthropology","Professor of Sociology & Anthropology / Chair","Professor of Sociology & Anthropology / Chair","Professor of Sociology / Associate Dean, College \nof Arts & Sciences","Professor of Sociology / Associate Dean, College \nof Arts & Sciences"]
[3876,"Ezell","Cloyd L., Jr.","B.S., M.S., Ph.D.",null,null,null,null,null,null,null,null,null,null,null,null,null,null,null,null,null,null,null,null,null,null,null,null,null,null,null,null,null,null,null,null,null,null,null,null,null,null,null,null,null,null,null,null,null,null,null,null,null,null,null,null,null,null,null,null,null,null,null,null,null,null,null,null,null,null,null,null,null,null,null,null,null,null,null,null,null,null,null,null,null,null,null,null,null,"Assistant Professor of Mathematics","Assistant Professor of Mathematics","Assistant Professor of Mathematics","Assistant Professor of Mathematics"]
[null,"Falter","Benjamin R.","B.S., M.S.",null,null,null,null,null,null,null,null,null,null,null,null,null,null,null,null,null,null,null,null,null,null,null,null,null,null,null,null,null,null,null,null,null,null,null,null,null,null,null,null,null,null,null,null,null,null,null,null,null,null,null,null,null,null,null,null,null,null,null,null,null,null,null,null,null,null,null,null,null,null,null,null,null,null,null,null,null,null,null,null,null,null,null,null,null,null,null,null,null,null,null,null,null,null,null,null,null,null,null,null,null,null,null,null,null,null,null,null,null,null,null,null,null,null,null,"Director of Residential Life","Executive Director of Housing, Residential Life \n& Community Standards"]
[3365,"Farmer","Wesley E.","Colonel, MPC; A.B.",null,null,null,null,null,null,null,null,null,null,null,null,null,null,null,null,null,null,null,null,null,null,null,null,null,null,null,null,null,null,null,null,null,null,null,null,null,null,null,null,null,null,null,null,null,null,null,null,null,null,null,null,null,null,null,null,null,null,null,null,null,null,null,null,"Professor of Military Science & Tactics","Professor of Military Science & Tactics","Professor of Military Science & Tactics","Professor of Military Science & Tactics",null,null,null,null,null,null,null,null,null,"Professor of Military Science & Tactics"]
[4143,"Farnsworth","E. Allan","B.S., J.D., LL.D., LL.D.",null,null,null,null,null,null,null,null,null,null,null,null,null,null,null,null,null,null,null,null,null,null,null,null,null,null,null,null,null,null,null,null,null,null,null,null,null,null,null,null,null,null,null,null,null,null,null,null,null,null,null,null,null,null,null,null,null,null,null,null,null,null,null,null,null,null,null,null,null,null,null,null,null,null,null,null,null,null,null,null,null,null,null,null,null,null,null,null,null,null,null,null,null,null,null,null,null,"Culverhouse Professor of Law","Culverhouse Professor of Law"]
[234,"Farriss","Alma J.","Mus.B.",null,null,null,null,null,null,null,null,null,null,null,null,null,null,null,null,null,null,null,"Instructor in Pianoforte","Instructor in Pianoforte","Instructor in Pianoforte","Instructor in Pianoforte"]
[2910,"Faulkner","Donald","A.B.",null,null,null,null,null,null,null,null,null,null,null,null,null,null,null,null,null,null,null,null,null,null,null,null,null,null,null,null,null,null,null,null,null,null,null,null,"Instructor in Wind Instruments & Band","Instructor in Wind Instruments, Orchestra & Band","Instructor in Orchestra & Band","Assistant in Mathematics & Science / Instructor in \nOrchestra & Band","Assistant in Mathematics & Science / Instructor in \nOrchestra & Band","Instructor in Mathematics & Civil Engineering / \nInstructor in Orchestra & Band","Instructor in Mathematics & Civil Engineering / \nInstructor in Orchestra & Band","Associate Professor of Mathematics","Associate Professor of Mathematics","Associate Professor of Mathematics","Associate Professor of Mathematics","Associate Professor of Mathematics","Associate Professor of Mathematics","Associate Professor of Mathematics","Associate Professor of Mathematics","Professor of Mathematics","Professor of Mathematics","Professor of Mathematics (Resigned)"]
[3602,"Feasel","Arlene","B.A., M.A.",null,null,null,null,null,null,null,null,null,null,null,null,null,null,null,null,null,null,null,null,null,null,null,null,null,null,null,null,null,null,null,null,null,null,null,null,null,null,null,null,null,null,null,null,null,null,null,null,null,null,null,null,null,null,null,null,null,null,null,null,null,null,null,null,null,null,null,null,null,null,null,null,null,null,null,null,null,"Instructor / Periodicals Librarian","Instructor / Periodicals Librarian"]
[3243,"Feasel","Richard McDowell","B.M., M.A.",null,null,null,null,null,null,null,null,null,null,null,null,null,null,null,null,null,null,null,null,null,null,null,null,null,null,null,null,null,null,null,null,null,null,null,null,null,null,null,null,null,null,null,null,null,null,null,null,null,null,null,null,null,null,null,null,null,null,"Instructor in Piano & Theory",null,"Assistant Professor of Wind & Percussion \nInstruments / Director of the Band","Assistant Professor of Wind & Percussion \nInstruments / Director of the Band","Associate Professor of Wind & Percussion Instruments","Associate Professor of Wind & Percussion Instruments","Associate Professor of Wind Instruments","Associate Professor of Wind Instruments","Associate Professor of Wind Instruments","Associate Professor of Wind Instruments","Associate Professor of Wind Instruments","Associate Professor of Wind Instruments","Associate Professor of Wind Instruments","Associate Professor of Wind Instruments","Associate Professor of Wind Instruments","Associate Professor of Wind Instruments","Associate Professor of Wind Instruments","Associate Professor of Wind Instruments","Associate Professor of Wind Instruments","Associate Professor of Wind Instruments","Associate Professor of Woodwind Instruments & Theory","Associate Professor of Woodwind Instruments & Theory","Associate Professor of Woodwind Instruments & Theory","Associate Professor of Woodwind Instruments & Theory","Associate Professor of Woodwind Instruments & Theory","Professor of Woodwind Instruments & Theory","Professor of Woodwind Instruments & Theory","Professor of Woodwind Instruments & Theory","Professor of Woodwind Instruments & Theory","Professor of Woodwind Instruments & Theory","Professor of Woodwind Instruments & Theory","Professor of Woodwind Instruments & Theory","Professor of Woodwind Instruments & Theory","Professor of Woodwind Instruments & Theory","Professor of Woodwind Instruments & Theory","Professor of Woodwind Instruments & Theory","Professor of Woodwind Instruments & Theory","Professor of Music / Senior Active Status","Professor of Music / Senior Active Status","Professor of Music, Emeritus","Professor of Music, Emeritus","Professor of Music, Emeritus","Professor of Music, Emeritus","Professor of Music, Emeritus","Professor of Music, Emeritus","Professor of Music, Emeritus","Professor of Music, Emeritus","Professor of Music, Emeritus","Professor of Music, Emeritus","Professor of Music, Emeritus","Professor of Music, Emeritus","Professor of Music, Emeritus","Professor of Music, Emeritus","Professor of Music, Emeritus","Professor of Music, Emeritus"]
[3366,"Ferguson","Frank A.","A.B., M.A.",null,null,null,null,null,null,null,null,null,null,null,null,null,null,null,null,null,null,null,null,null,null,null,null,null,null,null,null,null,null,null,null,null,null,null,null,null,null,null,null,null,null,null,null,null,null,null,null,null,null,null,null,null,null,null,null,null,null,null,null,null,null,null,null,null,null,null,"Visiting Professor of Physical Science",null,null,null,null,null,null,null,null,null,"Visiting Professor of Physical Science"]
[4114,"Ferrara","William L.","B.S.C., M.A., Ph.D., C.P.A.",null,null,null,null,null,null,null,null,null,null,null,null,null,null,null,null,null,null,null,null,null,null,null,null,null,null,null,null,null,null,null,null,null,null,null,null,null,null,null,null,null,null,null,null,null,null,null,null,null,null,null,null,null,null,null,null,null,null,null,null,null,null,null,null,null,null,null,null,null,null,null,null,null,null,null,null,null,null,null,null,null,null,null,null,null,null,null,null,null,null,null,null,null,null,null,null,"David M. Beights Professor of Accounting","David M. Beights Professor of Accounting","David M. Beights Professor of Accounting","David M. Beights Professor of Accounting","David M. Beights Professor of Accounting \n(Leave of Absence - Fall)","David M. Beights Professor of Accounting","David M. Beights Professor of Accounting / \nSenior Active Status","Professor of Accounting / Senior Active Status","Professor of Accounting, Emeritus","Professor of Accounting, Emeritus","Professor of Accounting, Emeritus","Professor of Accounting, Emeritus","Professor of Accounting, Emeritus","Professor of Accounting, Emeritus","Professor of Accounting, Emeritus","Professor of Accounting, Emeritus","Professor of Accounting, Emeritus","Professor of Accounting, Emeritus","Professor of Accounting, Emeritus","Professor of Accounting, Emeritus"]
[4371,"Finks","Jean","B.M.E., M.M., M.L.S.",null,null,null,null,null,null,null,null,null,null,null,null,null,null,null,null,null,null,null,null,null,null,null,null,null,null,null,null,null,null,null,null,null,null,null,null,null,null,null,null,null,null,null,null,null,null,null,null,null,null,null,null,null,null,null,null,null,null,null,null,null,null,null,null,null,null,null,null,null,null,null,null,null,null,null,null,null,null,null,null,null,null,null,null,null,null,null,null,null,null,null,null,null,null,null,null,null,null,null,null,null,null,null,null,"Assistant Professor / Music Librarian","Assistant Professor / Music Librarian","Assistant Professor / Music Librarian","Assistant Professor / Music Librarian","Assistant Professor / Music Librarian"]
[748,"Finney","Jean","B.S.",null,null,null,null,null,null,null,null,null,null,null,null,null,null,null,null,null,null,null,null,null,null,null,null,null,null,null,null,null,null,null,null,null,null,null,null,null,null,null,null,null,null,null,null,null,null,null,null,null,null,null,null,null,null,"Secretary to the Registrar","Secretary to the Registrar (Resigned)"]
[3258,"Fisher","Mary Elizabeth","A.B.",null,null,null,null,null,null,null,null,null,null,null,null,null,null,null,null,null,null,null,null,null,null,null,null,null,null,null,null,null,null,null,null,null,null,null,null,null,null,null,null,null,null,null,null,null,null,null,null,null,null,null,null,null,null,null,null,null,null,"Assistant to the Director of Publicity"]
[4630,"Fleck","Logan","B.S.",null,null,null,null,null,null,null,null,null,null,null,null,null,null,null,null,null,null,null,null,null,null,null,null,null,null,null,null,null,null,null,null,null,null,null,null,null,null,null,null,null,null,null,null,null,null,null,null,null,null,null,null,null,null,null,null,null,null,null,null,null,null,null,null,null,null,null,null,null,null,null,null,null,null,null,null,null,null,null,null,null,null,null,null,null,null,null,null,null,null,null,null,null,null,null,null,null,null,null,null,null,null,null,null,null,null,null,null,null,null,null,"Head Men's Soccer Coach","Head Men's Soccer Coach","Head Men's Soccer Coach","Head Men’s Soccer Coach","Head Men’s Soccer Coach"]
[4216,"Flowers","Roberta Kemp","B.A., J.D.",null,null,null,null,null,null,null,null,null,null,null,null,null,null,null,null,null,null,null,null,null,null,null,null,null,null,null,null,null,null,null,null,null,null,null,null,null,null,null,null,null,null,null,null,null,null,null,null,null,null,null,null,null,null,null,null,null,null,null,null,null,null,null,null,null,null,null,null,null,null,null,null,null,null,null,null,null,null,null,null,null,null,null,null,null,null,null,null,null,null,null,null,null,null,null,null,null,null,null,"Assistant Professor of Law","Assistant Professor of Law","Associate Professor of Law","Associate Professor of Law","Associate Professor of Law","Professor of Law","Professor of Law / Director of the Center for \nExcellence in Advocacy","Professor of Law / Director of the Center for \nExcellence in Advocacy","Professor of Law / Director of the Center for \nExcellence in Advocacy","Distinguished Professor of Law / Director of the \nCenter for Excellence in Advocacy","Distinguished Professor of Law / Director of the Center \nfor Excellence in Advocacy","Distinguished Professor of Law / Director of the Center \nfor Excellence in Advocacy","William Reece Smith, Jr. Distinguished Professor of Law","William Reece Smith, Jr. Distinguished Professor of Law","William Reece Smith, Jr. Distinguished Professor of Law","William Reece Smith, Jr. Distinguished Professor of Law","Professor of Law","Professor of Law","Co-Director, Center for Excellence in Elder Law"]
[null,"Flowers","Rosalie","B.S., M.S.",null,null,null,null,null,null,null,null,null,null,null,null,null,null,null,null,null,null,null,null,null,null,null,null,null,null,null,null,null,null,null,null,null,null,null,null,null,null,null,null,null,null,null,null,null,null,null,null,null,null,null,null,null,null,null,null,null,null,null,null,null,null,null,null,null,null,null,null,null,null,null,null,null,null,null,null,null,null,null,null,null,null,null,null,null,null,null,null,null,null,null,null,null,null,null,null,null,null,null,null,null,null,null,null,null,null,null,null,null,null,null,null,null,null,null,null,"Assistant Professor / Learning & Information Librarian","Assistant Professor / Learning & Information Librarian"]
[null,"Forbes","John F.","A.M. Ph. D","Faculty","President of University / Professor of Psychology, \nEthics & Political Economics","President of University / Professor of Psychology \n& Pedagogy","President of University / Professor of Psychology \n& Pedagogy","President of University / Professor of Psychology \n& Pedagogy","President of University / Professor of Psychology & Logic","President of University / Professor of Psychology \n& Pedagogy","President of University / Professor of Psychology \n& Pedagogy","President of University / Professor of Psychology \n& Pedagogy","President of University / Professor of Psychology \n& Pedagogy","President of University / Professor of Psychology \n& Pedagogy","President of University / Professor of Psychology \n& Pedagogy","President of University / Professor of Psychology \n& Pedagogy","President of University / Professor of Psychology \n& Pedagogy","President of University / Professor of Psychology \n& Pedagogy","President of University / Professor of Psychology \n& Pedagogy"]
[3604,"Fort","Robert E., Jr.","B.S., B.S.M., M.M., S.M.D.",null,null,null,null,null,null,null,null,null,null,null,null,null,null,null,null,null,null,null,null,null,null,null,null,null,null,null,null,null,null,null,null,null,null,null,null,null,null,null,null,null,null,null,null,null,null,null,null,null,null,null,null,null,null,null,null,null,null,null,null,null,null,null,null,null,null,null,null,null,null,null,null,null,null,null,null,"Assistant Professor of Music","Assistant Professor of Music","Assistant Professor of Music","Associate Professor of Music","Associate Professor of Music","Associate Professor of Music","Associate Professor of Music","Professor of Music","Professor of Music","Professor of Music","Professor of Music","Professor of Music","Professor of Music","Professor of Music / Chair of Classroom / \nEnsemble Division","Professor of Music / Chair of Classroom / \nEnsemble Division","Professor of Music / Chair of Classroom / \nEnsemble Division","Professor of Music / Chair of Classroom / Ensemble \nDivision (Spring Sabbatical)","Professor of Music / Chair of Classroom / Ensemble \nDivision (Spring Sabbatical)","Professor of Music / Chair of Classroom / \nEnsemble Division","Professor of Music / Chair of Classroom / \nEnsemble Division","Professor of Music / Chair of Classroom / \nEnsemble Division","Professor of Music / Chair of Classroom / \nEnsemble Division","Professor of Music / Price Chair","Professor of Music / Price Chair","Professor of Music, Emeritus","Professor of Music, Emeritus","Professor of Music, Emeritus","Professor of Music, Emeritus","Professor of Music, Emeritus","Professor of Music, Emeritus","Professor of Music, Emeritus","Professor of Music, Emeritus","Professor of Music, Emeritus","Professor of Music, Emeritus","Professor of Music, Emeritus","Professor of Music, Emeritus","Professor of Music, Emeritus","Professor of Music, Emeritus"]
[768,"Foster","Florence G.","A.B.",null,null,null,null,null,null,null,null,null,null,null,null,null,null,null,null,null,null,null,null,null,null,null,null,null,null,null,null,null,null,null,null,null,null,null,null,null,null,null,null,null,null,null,null,null,null,null,null,null,null,null,null,null,null,null,null,"Hostess in Stevens Hall","Hostess in Brittain Hall"]
[796,"Foster","Pauline L.","A.B.",null,null,null,null,null,null,null,null,null,null,null,null,null,null,null,null,null,null,null,null,null,null,null,null,null,null,null,null,null,null,null,null,null,null,null,null,null,null,null,null,null,null,null,null,null,null,null,null,null,null,null,null,null,null,null,null,null,"Assistant Professor of Health & Physical Education \nFor Women (Winter & Spring sessions)"]
[3109,"Fox","Henry J.","LL.M, S.J.D",null,null,null,null,null,null,null,null,null,null,null,null,null,null,null,null,null,null,null,null,null,null,null,null,null,null,null,null,null,null,null,null,null,null,null,null,null,null,null,null,null,null,null,null,null,null,null,null,null,null,null,"Associate Professor of Law","Associate Professor of Law"]
[698,"Franey","Vivian",null,null,null,null,null,null,null,null,null,null,null,null,null,null,null,null,null,null,null,null,null,null,null,null,null,null,null,null,null,null,null,null,null,null,null,null,null,null,null,null,null,null,null,null,null,null,null,null,null,null,"Secretary to the Manager of the University Press"]
[3716,"Frauchiger","Fritz","B.A., M.A., Ph.D.",null,null,null,null,null,null,null,null,null,null,null,null,null,null,null,null,null,null,null,null,null,null,null,null,null,null,null,null,null,null,null,null,null,null,null,null,null,null,null,null,null,null,null,null,null,null,null,null,null,null,null,null,null,null,null,null,null,null,null,null,null,null,null,null,null,null,null,null,null,null,null,null,null,null,null,null,null,null,null,null,"Visiting Professor of Foreign Languages","Visiting Professor of Foreign Languages","Visiting Professor of Foreign Languages","Visiting Professor of Foreign Languages",null,null,"Visiting Professor of Foreign Languages"]
[null,"Freedman","Jonathan","B.Sc., M.Sc., Ph.D.",null,null,null,null,null,null,null,null,null,null,null,null,null,null,null,null,null,null,null,null,null,null,null,null,null,null,null,null,null,null,null,null,null,null,null,null,null,null,null,null,null,null,null,null,null,null,null,null,null,null,null,null,null,null,null,null,null,null,null,null,null,null,null,null,null,null,null,null,null,null,null,null,null,null,null,null,null,null,null,null,null,null,null,null,null,null,null,null,null,null,null,null,null,null,null,null,null,null,null,null,null,null,null,null,null,null,null,null,null,null,null,null,null,null,null,null,null,"Visiting Assistant Professor of Biology & \nBrown Scholar"]
[901,"Freeman","R. Lee","B.S.",null,null,null,null,null,null,null,null,null,null,null,null,null,null,null,null,null,null,null,null,null,null,null,null,null,null,null,null,null,null,null,null,null,null,null,null,null,null,null,null,null,null,null,null,null,null,null,null,null,null,null,null,null,null,null,null,null,null,null,"Instructor in Business Administration"]
[4459,"Frick","Inga McCaslin","B.A., B.F.A., M.F.A., M.F.A.",null,null,null,null,null,null,null,null,null,null,null,null,null,null,null,null,null,null,null,null,null,null,null,null,null,null,null,null,null,null,null,null,null,null,null,null,null,null,null,null,null,null,null,null,null,null,null,null,null,null,null,null,null,null,null,null,null,null,null,null,null,null,null,null,null,null,null,null,null,null,null,null,null,null,null,null,null,null,null,null,null,null,null,null,null,null,null,null,null,null,null,null,null,null,null,null,null,null,null,null,null,null,null,null,null,"Assistant Professor of Digital Arts","Assistant Professor of Digital Arts"]
[145,"Frost","Wililam Watkins","A.M.",null,null,null,null,null,null,null,null,null,null,null,null,null,null,null,"Professor of English",null,"Professor of English","Professor of English","Professor of English","Professor of English","Professor of English"]
[3918,"Fukumitsu","Keith K.","Captain USA, B.F.A.",null,null,null,null,null,null,null,null,null,null,null,null,null,null,null,null,null,null,null,null,null,null,null,null,null,null,null,null,null,null,null,null,null,null,null,null,null,null,null,null,null,null,null,null,null,null,null,null,null,null,null,null,null,null,null,null,null,null,null,null,null,null,null,null,null,null,null,null,null,null,null,null,null,null,null,null,null,null,null,null,null,null,null,null,null,null,null,"Assistant Professor of Military Science","Assistant Professor of Military Science","Assistant Professor of Military Science"]
[2649,"Fuller","Harriet",null,null,null,null,null,null,null,null,null,null,null,null,null,null,null,null,null,null,null,null,null,"Assistant in Latin"]
[3108,"Furlong","Edward Colson, Jr.","B.S., M.A.",null,null,null,null,null,null,null,null,null,null,null,null,null,null,null,null,null,null,null,null,null,null,null,null,null,null,null,null,null,null,null,null,null,null,null,null,null,null,null,null,null,null,null,null,null,null,null,null,null,null,null,"Instructor in Business Administration","Superintendent of Stetson Hall / Instructor in \nBusiness Administration","Instructor in Business Administration","Instructor in Business Administration (Leave of Absence)","Instructor in Business Administration (Leave of Absence)","Instructor in Business Administration (Leave of Absence)","Instructor in Business Administration & Economics","Director of the School of Business / Professor of \nBusiness Administration & Economics","Director of the School of Business / Professor of \nBusiness Administration & Economics","Director of the School of Business / Professor of \nBusiness Administration & Economics","Director of the School of Business / Professor of \nBusiness Administration & Economics","Professor of Business Administration","Professor of Business Administration / Director of \nthe School of Business","Professor of Business Administration / Dean  \nof the School of Business","Professor of Business Administration / Dean  \nof the School of Business","Professor of Business Administration / Dean  \nof the School of Business","Dean of School of Business / Professor of \nBusiness Administration","Dean of School of Business / Professor of \nBusiness Administration","Dean of School of Business / Professor of \nBusiness Administration","Business Manager / Dean of the School of Business / \nProfessor of Business Administration","Dean of School of Business / Professor of Business \nAdministration / Business Manager","Professor of Business Administration","Professor of Business Administration","Professor of Business Administration","Professor of Business Administration","Professor of Business Administration","Professor of Business Administration / Dean of \nBusiness Administration","Professor of Business Administration","Professor of Business Administration","Professor of Business Administration / Dean of \nBusiness Administration","Professor of Business Administration / Dean of \nBusiness Administration","Professor of Business Administration / Dean of \nBusiness Administration","Professor of Business Administration / Dean of \nBusiness Administration","Professor of Business Administration / Dean of \nBusiness Administration","Eugene Lynn Professor of Business Administration","Eugene Lynn Professor of Business Administration","Professor of Business Administration","Professor of Business Administration, Emeritus","Professor of Business Administration, Emeritus","Professor of Business Administration, Emeritus","Professor of Business Administration, Emeritus","Professor of Business Administration, Emeritus","Professor of Business Administration, Emeritus","Professor of Business Administration, Emeritus","Senior Lecturer in Management / Professor of Business Administration, Emeritus","Professor of Business Administration, Emeritus","Professor of Business Administration, Emeritus","Professor of Business Administration, Emeritus","Professor of Business Administration, Emeritus","Professor of Business Administration, Emeritus","Professor of Business Administration, Emeritus","Professor of Business Administration, Emeritus","Professor of Business Administration, Emeritus","Professor of Business Administration, Emeritus"]
[4241,"Gadd","Debra","B.S.",null,null,null,null,null,null,null,null,null,null,null,null,null,null,null,null,null,null,null,null,null,null,null,null,null,null,null,null,null,null,null,null,null,null,null,null,null,null,null,null,null,null,null,null,null,null,null,null,null,null,null,null,null,null,null,null,null,null,null,null,null,null,null,null,null,null,null,null,null,null,null,null,null,null,null,null,null,null,null,null,null,null,null,null,null,null,null,null,null,null,null,null,null,null,null,null,null,null,null,"Assistant Women's Basketball Coach","Assistant Women's Basketball Coach","Assistant Women's Basketball Coach",null,"Assistant Women's Basketball Coach","Assistant Women's Basketball Coach","Assistant Women's Basketball Coach","Assistant Women's Basketball Coach","Assistant Women's Basketball Coach","Associate Head Women's Basketball Coach","Associate Head Women's Basketball Coach","Associate Head Women's Basketball Coach","Associate Head Women's Basketball Coach","Associate Head Women's Basketball Coach"]
[3369,"Gaines","George H.","B.F.A., M.A.E.",null,null,null,null,null,null,null,null,null,null,null,null,null,null,null,null,null,null,null,null,null,null,null,null,null,null,null,null,null,null,null,null,null,null,null,null,null,null,null,null,null,null,null,null,null,null,null,null,null,null,null,null,null,null,null,null,null,null,null,null,null,null,"Instructor in Art","Assistant Professor of Art","Assistant Professor of Art","Assistant Professor of Art","Assistant Professor of Art","Assistant Professor of Art"]
[2922,"Ganiere","George E.",null,null,null,null,null,null,null,null,null,null,null,null,null,null,null,null,null,null,null,null,null,null,null,null,null,null,null,null,null,null,null,null,null,null,null,null,null,null,"Instructor in the Plastic Arts","Instructor in the Plastic Arts","Instructor in the Plastic Arts","Instructor in the Plastic Arts","Instructor in the Plastic Arts","Instructor in the Plastic Arts","Assistant Professor in the Plastic Arts","Assistant Professor in the Plastic Arts","Assistant Professor in the Plastic Arts","Assistant Professor in the Plastic Arts","Professor in the Plastic Arts"]
[4202,"Garriques","Michael","B.A.",null,null,null,null,null,null,null,null,null,null,null,null,null,null,null,null,null,null,null,null,null,null,null,null,null,null,null,null,null,null,null,null,null,null,null,null,null,null,null,null,null,null,null,null,null,null,null,null,null,null,null,null,null,null,null,null,null,null,null,null,null,null,null,null,null,null,null,null,null,null,null,null,null,null,null,null,null,null,null,null,null,null,null,null,null,null,null,null,null,null,null,null,null,null,null,null,null,null,"Men's Cross Country Coach"]
[null,"Gatewood","Claudia C.",null,null,null,null,null,null,null,null,null,null,null,null,null,null,null,null,null,null,null,null,null,null,null,null,null,null,null,null,null,null,null,null,null,null,null,null,null,null,null,null,null,null,null,null,null,null,null,null,null,null,null,null,null,null,null,null,null,null,null,null,null,null,null,null,null,null,null,null,null,null,null,null,null,null,null,null,null,null,null,null,null,null,null,null,null,null,null,null,null,null,null,null,null,null,null,null,null,null,null,null,null,null,null,null,null,null,null,null,null,null,null,null,null,null,null,"Director of Community School of the Arts","Director of Community School of the Arts","Director of Community School of the Arts"]
[441,"Gaut","Rosa Lee","Mus.B.",null,null,null,null,null,null,null,null,null,null,null,null,null,null,null,null,null,null,null,null,null,null,null,null,null,null,null,null,null,null,null,null,null,"Instructor in Pianoforte","Instructor in Pianoforte","Instructor in Piano","Instructor in Piano","Instructor in Piano","Instructor in Piano","Instructor in Piano","Instructor in Piano","Instructor in Piano","Instructor in Piano","Instructor in Music","Instructor in Music","Instructor in Music","Instructor in Music","Instructor in Music","Instructor in Piano"]
[3447,"Geer","William Dudley","MA",null,null,null,null,null,null,null,null,null,null,null,null,null,null,null,null,null,null,null,null,null,null,null,null,null,null,null,null,null,null,null,null,null,null,null,null,null,null,null,null,null,null,null,null,null,null,null,null,null,null,null,null,null,null,null,null,null,null,null,null,null,null,null,null,null,null,null,null,"Assistant Professor of Economics","Assistant Professor of Economics","Assistant Professor of Economics"]
[4003,"Gershon","I. Richard","B.A., J.D., LL.M.",null,null,null,null,null,null,null,null,null,null,null,null,null,null,null,null,null,null,null,null,null,null,null,null,null,null,null,null,null,null,null,null,null,null,null,null,null,null,null,null,null,null,null,null,null,null,null,null,null,null,null,null,null,null,null,null,null,null,null,null,null,null,null,null,null,null,null,null,null,null,null,null,null,null,null,null,null,null,null,null,null,null,null,null,null,null,null,null,null,null,null,"Assistant Professor of Law","Assistant Professor of Law","Assistant Professor of Law","Associate Professor of Law","Associate Professor of Law","Professor of Law","Professor of Law","Professor of Law","Professor of Law","Professor of Law / Director of Stetson Institute of \nSpace Law & Commerce","Professor of Law / Director of Stetson Institute of \nSpace Law & Commerce","Professor of Law / Director of Stetson Institute of \nSpace Law & Commerce","Professor of Law"]
[3184,"Gibson","Byron H.","A.B., M.A., Ph.D.",null,null,null,null,null,null,null,null,null,null,null,null,null,null,null,null,null,null,null,null,null,null,null,null,null,null,null,null,null,null,null,null,null,null,null,null,null,null,null,null,null,null,null,null,null,null,null,null,null,null,null,null,null,null,null,null,null,"Professor of English","Professor of English","Professor of English","Professor of English","Professor of English","Professor of English","Professor of English","Professor of English","Professor of English","Professor of English","Professor of English",null,"Professor of English",null,"Professor of English","Professor of English","Professor of English","Professor of English","Professor of English","Professor of English","Professor of English","Professor of English","Professor of English","Professor of English","Professor of English","Professor of English","Professor of English","Professor of English, Emeritus","Professor of English, Emeritus","Professor of English, Emeritus","Professor of English, Emeritus","Professor of English, Emeritus","Professor of English, Emeritus","Professor of English, Emeritus","Professor of English, Emeritus","Professor of English, Emeritus","Professor of English, Emeritus","Professor of English, Emeritus","Professor of English, Emeritus","Professor of English, Emeritus","Professor of English, Emeritus","Professor of English, Emeritus","Professor of English, Emeritus","Professor of English, Emeritus","Professor of English, Emeritus","Professor of English, Emeritus","Professor of English, Emeritus","Professor of English, Emeritus","Professor of English, Emeritus","Professor of English, Emeritus","Professor of English, Emeritus","Professor of English, Emeritus"]
[4070,"Gibson","Jack","B.S., M.S., Ph.D.",null,null,null,null,null,null,null,null,null,null,null,null,null,null,null,null,null,null,null,null,null,null,null,null,null,null,null,null,null,null,null,null,null,null,null,null,null,null,null,null,null,null,null,null,null,null,null,null,null,null,null,null,null,null,null,null,null,null,null,null,null,null,null,null,null,null,null,null,null,null,null,null,null,null,null,null,null,null,null,null,null,null,null,null,null,null,null,null,null,null,null,null,null,null,"Visiting Assistant Professor of Biology","Visiting Assistant Professor of Biology"]
[3718,"Gilbert","Marjorie Forster","Diploma, Guildhall School of Music & Drama",null,null,null,null,null,null,null,null,null,null,null,null,null,null,null,null,null,null,null,null,null,null,null,null,null,null,null,null,null,null,null,null,null,null,null,null,null,null,null,null,null,null,null,null,null,null,null,null,null,null,null,null,null,null,null,null,null,null,null,null,null,null,null,null,null,null,null,null,null,null,null,null,null,null,null,null,null,null,null,null,"Instructor in Speech & Theatre","Instructor in Speech & Theatre","Instructor in Speech & Theatre","Instructor in Speech & Theatre","Instructor in Speech & Theatre","Instructor in Speech & Theatre","Instructor in Speech & Theatre","Instructor in Speech & Theatre","Instructor in Speech & Theatre","Instructor in Speech & Theatre","Instructor in Speech & Theatre","Instructor in Speech & Theatre","Instructor in Speech & Theatre","Instructor in Speech & Theatre","Instructor in Speech & Theatre","Instructor in Speech & Theatre","Instructor in Speech & Theatre, Emeritus","Instructor in Speech & Theatre, Emeritus"]
[2755,"Gill","James W.",null,null,null,null,null,null,null,null,null,null,null,null,null,null,null,null,null,null,null,null,null,null,null,null,null,null,null,null,"Assistant in Bursar's Office",null,null,null,null,null,null,null,null,null,null,null,null,null,null,null,null,null,null,null,null,null,null,null,null,null,null,null,null,null,null,null,null,null,null,null,null,null,null,null,null,null,null,null,null,null,null,null,null,null,null,null,null,null,null,null,null,"Assistant Coach of Basketball"]
[3293,"Gilman","Virginia Seagraves","B.B.A.",null,null,null,null,null,null,null,null,null,null,null,null,null,null,null,null,null,null,null,null,null,null,null,null,null,null,null,null,null,null,null,null,null,null,null,null,null,null,null,null,null,null,null,null,null,null,null,null,null,null,null,null,null,null,null,null,null,null,null,"Instructor in Secretarial Science","Instructor in Secretarial Science","Instructor in Secretarial Science (Resigned)"]
[4460,"Giordano","Maria","B.A., M.Ed., Ph.D.",null,null,null,null,null,null,null,null,null,null,null,null,null,null,null,null,null,null,null,null,null,null,null,null,null,null,null,null,null,null,null,null,null,null,null,null,null,null,null,null,null,null,null,null,null,null,null,null,null,null,null,null,null,null,null,null,null,null,null,null,null,null,null,null,null,null,null,null,null,null,null,null,null,null,null,null,null,null,null,null,null,null,null,null,null,null,null,null,null,null,null,null,null,null,null,null,null,null,null,null,null,null,null,null,null,"Assistant Professor of Counselor Education","Assistant Professor of Counselor Education"]
[4303,"Glander","George","B.A., Ph.D.",null,null,null,null,null,null,null,null,null,null,null,null,null,null,null,null,null,null,null,null,null,null,null,null,null,null,null,null,null,null,null,null,null,null,null,null,null,null,null,null,null,null,null,null,null,null,null,null,null,null,null,null,null,null,null,null,null,null,null,null,null,null,null,null,null,null,null,null,null,null,null,null,null,null,null,null,null,null,null,null,null,null,null,null,null,null,null,null,null,null,null,null,null,null,null,null,null,null,null,null,null,null,"Assistant Professor of Physics","Assistant Professor of Physics","Associate Professor of Physics","Associate Professor of Physics","Associate Professor of Physics","Associate Professor of Physics","Associate Professor of Physics","Associate Professor of Physics","Associate Professor of Physics / Chair","Professor of Physics / Chair","Professor of Physics / Chair","Professor of Physics / Chair","Professor of Physics / Chair / Associate Dean of the \nCollege of Arts & Sciences","Professor of Physics / Associate Dean of the College \nof Arts & Sciences","Professor of Physics / Associate Dean of the College \nof Arts & Sciences","Professor of Physics / Associate Dean of the College \nof Arts & Sciences"]
[4328,"Glavnova","Anna Vitalevna","Moscow State University",null,null,null,null,null,null,null,null,null,null,null,null,null,null,null,null,null,null,null,null,null,null,null,null,null,null,null,null,null,null,null,null,null,null,null,null,null,null,null,null,null,null,null,null,null,null,null,null,null,null,null,null,null,null,null,null,null,null,null,null,null,null,null,null,null,null,null,null,null,null,null,null,null,null,null,null,null,null,null,null,null,null,null,null,null,null,null,null,null,null,null,null,null,null,null,null,null,null,null,null,null,null,null,"Visiting Instructor in Russian","Visiting Instructor in Russian","Visiting Instructor in Russian"]
[3506,"Glennie","Margaret J.","M.A.",null,null,null,null,null,null,null,null,null,null,null,null,null,null,null,null,null,null,null,null,null,null,null,null,null,null,null,null,null,null,null,null,null,null,null,null,null,null,null,null,null,null,null,null,null,null,null,null,null,null,null,null,null,null,null,null,null,null,null,null,null,null,null,null,null,null,null,null,null,null,"Visiting Instructor in English","Visiting Instructor in English"]
[3448,"Godfrey","Henry F.","A.B.",null,null,null,null,null,null,null,null,null,null,null,null,null,null,null,null,null,null,null,null,null,null,null,null,null,null,null,null,null,null,null,null,null,null,null,null,null,null,null,null,null,null,null,null,null,null,null,null,null,null,null,null,null,null,null,null,null,null,null,null,null,null,null,null,null,null,null,null,"Visiting Assistant Professor of Business Administration","Visiting Assistant Professor of Business Administration","Visiting Assistant Professor of Business Administration","Visiting Assistant Professor of Business Administration","Visiting Assistant Professor of Business Administration","Visiting Assistant Professor of Business Administration","Visiting Assistant Professor of Business Administration"]
[4115,"Gomez","Alvaro","B.M., M.M., STAYO.",null,null,null,null,null,null,null,null,null,null,null,null,null,null,null,null,null,null,null,null,null,null,null,null,null,null,null,null,null,null,null,null,null,null,null,null,null,null,null,null,null,null,null,null,null,null,null,null,null,null,null,null,null,null,null,null,null,null,null,null,null,null,null,null,null,null,null,null,null,null,null,null,null,null,null,null,null,null,null,null,null,null,null,null,null,null,null,null,null,null,null,null,null,null,null,null,"Assistant Professor of Music","Assistant Professor of Music","Associate Professor of Music","Associate Professor of Music","Associate Professor of Music","Associate Professor of Music","Associate Professor of Music","Professor of Music","Professor of Music"]
[4329,"Goodwin","Morris W.","B.S., M.B.A.",null,null,null,null,null,null,null,null,null,null,null,null,null,null,null,null,null,null,null,null,null,null,null,null,null,null,null,null,null,null,null,null,null,null,null,null,null,null,null,null,null,null,null,null,null,null,null,null,null,null,null,null,null,null,null,null,null,null,null,null,null,null,null,null,null,null,null,null,null,null,null,null,null,null,null,null,null,null,null,null,null,null,null,null,null,null,null,null,null,null,null,null,null,null,null,null,null,null,null,null,null,null,null,"Instructor of Decision & Information Sciences","Lecturer in Decision & Information Sciences","Lecturer in Decision & Information Sciences","Lecturer in Decision & Information Sciences","Lecturer in Decision & Information Sciences","Lecturer in Decision & Information Sciences","Lecturer in Decision & Information Sciences","Lecturer in Decision & Information Sciences","Lecturer in Decision & Information Sciences","Lecturer in Decision & Information Sciences","Lecturer in Decision & Information Sciences","Visiting Lecturer in Information Systems","Visiting Lecturer in Information Systems","Visiting Lecturer in Information Systems","Visiting Lecturer in Information Systems"]
[4482,"Gordon","Bridgette","B.A.",null,null,null,null,null,null,null,null,null,null,null,null,null,null,null,null,null,null,null,null,null,null,null,null,null,null,null,null,null,null,null,null,null,null,null,null,null,null,null,null,null,null,null,null,null,null,null,null,null,null,null,null,null,null,null,null,null,null,null,null,null,null,null,null,null,null,null,null,null,null,null,null,null,null,null,null,null,null,null,null,null,null,null,null,null,null,null,null,null,null,null,null,null,null,null,null,null,null,null,null,null,null,null,null,null,"Assistant Women's Basketball Coach","Assistant Women's Basketball Coach","Assistant Women's Basketball Coach","Assistant Women's Basketball Coach","Assistant Women's Basketball Coach"]
[3477,"Gordon","Frances Mouthrop","B.M.",null,null,null,null,null,null,null,null,null,null,null,null,null,null,null,null,null,null,null,null,null,null,null,null,null,null,null,null,null,null,null,null,null,null,null,null,null,null,null,null,null,null,null,null,null,null,null,null,null,null,null,null,null,null,null,null,null,null,null,null,null,null,null,null,null,null,null,null,null,"Instructor of Piano","Instructor in Piano","Instructor in Piano"]
[null,"Gould","Davina","B.A., M.A., M.S.",null,null,null,null,null,null,null,null,null,null,null,null,null,null,null,null,null,null,null,null,null,null,null,null,null,null,null,null,null,null,null,null,null,null,null,null,null,null,null,null,null,null,null,null,null,null,null,null,null,null,null,null,null,null,null,null,null,null,null,null,null,null,null,null,null,null,null,null,null,null,null,null,null,null,null,null,null,null,null,null,null,null,null,null,null,null,null,null,null,null,null,null,null,null,null,null,null,null,null,null,null,null,null,null,null,null,null,null,null,null,null,null,null,null,"Director of Publications & Online Communication, \nCollege of Law","Director of Publications & Online Communication, \nCollege of Law","Director of Publications & Online Communication, \nCollege of Law"]
[2841,"Graham","Thomas W.",null,null,null,null,null,null,null,null,null,null,null,null,null,null,null,null,null,null,null,null,null,null,null,null,null,null,null,null,null,null,null,null,null,null,"Assistant in Business College"]
[3654,"Gray","Jerry C.","M.A.",null,null,null,null,null,null,null,null,null,null,null,null,null,null,null,null,null,null,null,null,null,null,null,null,null,null,null,null,null,null,null,null,null,null,null,null,null,null,null,null,null,null,null,null,null,null,null,null,null,null,null,null,null,null,null,null,null,null,null,null,null,null,null,null,null,null,null,null,null,null,null,null,null,null,null,null,null,"Instructor in Physical Education","Instructor in Physical Education","Instructor in Physical Education"]
[null,"Graziani","Janie","B.A., M.J."]
[3538,"Green","Sophie Ann","B.A., M.A.",null,null,null,null,null,null,null,null,null,null,null,null,null,null,null,null,null,null,null,null,null,null,null,null,null,null,null,null,null,null,null,null,null,null,null,null,null,null,null,null,null,null,null,null,null,null,null,null,null,null,null,null,null,null,null,null,null,null,null,null,null,null,null,null,null,null,null,null,null,null,null,null,"Assistant Professor of French","Assistant Professor of French","Assistant Professor of French"]
[3880,"Greenwood","Mary","B.A., M.A., J.D., LL.M.",null,null,null,null,null,null,null,null,null,null,null,null,null,null,null,null,null,null,null,null,null,null,null,null,null,null,null,null,null,null,null,null,null,null,null,null,null,null,null,null,null,null,null,null,null,null,null,null,null,null,null,null,null,null,null,null,null,null,null,null,null,null,null,null,null,null,null,null,null,null,null,null,null,null,null,null,null,null,null,null,null,null,null,null,null,"Assistant Professor of Law","Assistant Professor of Law","Assistant Professor of Law","Assistant Professor of Law"]
[3920,"Gregory","Russell Inman","B.A., M.D., M.A., Ph. D.",null,null,null,null,null,null,null,null,null,null,null,null,null,null,null,null,null,null,null,null,null,null,null,null,null,null,null,null,null,null,null,null,null,null,null,null,null,null,null,null,null,null,null,null,null,null,null,null,null,null,null,null,null,null,null,null,null,null,null,null,null,null,null,null,null,null,null,null,null,null,null,null,null,null,null,null,null,null,null,null,null,null,null,null,null,null,null,"Visiting Assistant Professor of Religion","Visiting Assistant Professor of Religion"]
[609,"Grice","Luther B.","B.D.",null,null,null,null,null,null,null,null,null,null,null,null,null,null,null,null,null,null,null,null,null,null,null,null,null,null,null,null,null,null,null,null,null,null,null,null,null,null,null,null,null,null,null,"Associate Professor of Bible","Associate Professor of Bible","Associate Professor of Bible","Associate Professor of Bible"]
[null,"Griffin","Savannah-Jane","B.B.A., M.B.A.",null,null,null,null,null,null,null,null,null,null,null,null,null,null,null,null,null,null,null,null,null,null,null,null,null,null,null,null,null,null,null,null,null,null,null,null,null,null,null,null,null,null,null,null,null,null,null,null,null,null,null,null,null,null,null,null,null,null,null,null,null,null,null,null,null,null,null,null,null,null,null,null,null,null,null,null,null,null,null,null,null,null,null,null,null,null,null,null,null,null,null,null,null,null,null,null,null,null,null,null,null,null,null,null,null,null,null,null,null,null,null,null,null,null,null,null,"Director of Community Engagement"]
[4663,"Griner","Eugene W.","B.B.A., M.B.A.",null,null,null,null,null,null,null,null,null,null,null,null,null,null,null,null,null,null,null,null,null,null,null,null,null,null,null,null,null,null,null,null,null,null,null,null,null,null,null,null,null,null,null,null,null,null,null,null,null,null,null,null,null,null,null,null,null,null,null,null,null,null,null,null,"Assistant Professor of Economics"]
[4281,"Grubbs","Tandy","B.S., Ph.D.",null,null,null,null,null,null,null,null,null,null,null,null,null,null,null,null,null,null,null,null,null,null,null,null,null,null,null,null,null,null,null,null,null,null,null,null,null,null,null,null,null,null,null,null,null,null,null,null,null,null,null,null,null,null,null,null,null,null,null,null,null,null,null,null,null,null,null,null,null,null,null,null,null,null,null,null,null,null,null,null,null,null,null,null,null,null,null,null,null,null,null,null,null,null,null,null,null,null,null,null,null,"Assistant Professor of Chemistry","Assistant Professor of Chemistry","Assistant Professor of Chemistry","Assistant Professor of Chemistry","Associate Professor of Chemistry","Associate Professor of Chemistry","Associate Professor of Chemistry","Associate Professor of Chemistry","Associate Professor of Chemistry","Associate Professor of Chemistry","Professor of Chemistry","Professor of Chemistry","Professor of Chemistry","Professor of Chemistry","Professor / Chair of Chemistry","Professor / Chair of Chemistry","Professor / Chair of Chemistry"]
[4402,"Guarda","Luis","M.D.",null,null,null,null,null,null,null,null,null,null,null,null,null,null,null,null,null,null,null,null,null,null,null,null,null,null,null,null,null,null,null,null,null,null,null,null,null,null,null,null,null,null,null,null,null,null,null,null,null,null,null,null,null,null,null,null,null,null,null,null,null,null,null,null,null,null,null,null,null,null,null,null,null,null,null,null,null,null,null,null,null,null,null,null,null,null,null,null,null,null,null,null,null,null,null,null,null,null,null,null,null,null,null,null,"Adjunct Faculty for Medical Technology / \nMedical Director at Florida Hospital","Adjunct Faculty for Medical Technology / \nMedical Director at Florida Hospital","Adjunct Faculty for Medical Technology / \nMedical Director at Florida Hospital","Adjunct Faculty for Medical Technology / \nMedical Director at Florida Hospital","Adjunct Faculty for Medical Technology / \nMedical Director at Florida Hospital"]
[4403,"Gunshanan","Frank","B.A., M.A.",null,null,null,null,null,null,null,null,null,null,null,null,null,null,null,null,null,null,null,null,null,null,null,null,null,null,null,null,null,null,null,null,null,null,null,null,null,null,null,null,null,null,null,null,null,null,null,null,null,null,null,null,null,null,null,null,null,null,null,null,null,null,null,null,null,null,null,null,null,null,null,null,null,null,null,null,null,null,null,null,null,null,null,null,null,null,null,null,null,null,null,null,null,null,null,null,null,null,null,null,null,null,null,null,"Lecturer in First Year English","Lecturer in First Year English"]
[4332,"Guyer","Sue","B.S., M.S.Ed.",null,null,null,null,null,null,null,null,null,null,null,null,null,null,null,null,null,null,null,null,null,null,null,null,null,null,null,null,null,null,null,null,null,null,null,null,null,null,null,null,null,null,null,null,null,null,null,null,null,null,null,null,null,null,null,null,null,null,null,null,null,null,null,null,null,null,null,null,null,null,null,null,null,null,null,null,null,null,null,null,null,null,null,null,null,null,null,null,null,null,null,null,null,null,null,null,null,null,null,null,null,null,null,"Lecturer in Sport & Exercise Science","Lecturer in Sport & Exercise Science","Lecturer in Integrative Health Science & Sports Management"]
[3607,"Haden","Harry S.","LL.B, LL.M.",null,null,null,null,null,null,null,null,null,null,null,null,null,null,null,null,null,null,null,null,null,null,null,null,null,null,null,null,null,null,null,null,null,null,null,null,null,null,null,null,null,null,null,null,null,null,null,null,null,null,null,null,null,null,null,null,null,null,null,null,null,null,null,null,null,null,null,null,null,null,null,null,null,null,null,null,null,null,"Professor of Law","Professor of Law","Visiting Professor of Law","Visiting Professor of Law","Visiting Professor of Law"]
[2889,"Haggard","Elizabeth",null,null,null,null,null,null,null,null,null,null,null,null,null,null,null,null,null,null,null,null,null,null,null,null,null,null,null,null,null,null,null,null,null,null,null,null,"Instructor in Shorthand & Typewriting"]
[3881,"Hale","William Daniel","B.S., M.A., Ph. D",null,null,null,null,null,null,null,null,null,null,null,null,null,null,null,null,null,null,null,null,null,null,null,null,null,null,null,null,null,null,null,null,null,null,null,null,null,null,null,null,null,null,null,null,null,null,null,null,null,null,null,null,null,null,null,null,null,null,null,null,null,null,null,null,null,null,null,null,null,null,null,null,null,null,null,null,null,null,null,null,null,null,null,null,null,"Assistant Professor of Psychology","Assistant Professor of Psychology","Assistant Professor of Psychology","Assistant Professor of Psychology","Assistant Professor of Psychology","Assistant Professor of Psychology","Associate Professor of Psychology","Associate Professor of Psychology","Associate Professor of Psychology (Fall Sabbatical)","Associate Professor of Psychology","Associate Professor of Psychology","Associate Professor of Psychology","Professor of Psychology","Professor of Psychology","Professor of Psychology (Fall Sabbatical)","Professor of Psychology","Professor of Psychology","Professor of Psychology","Professor of Psychology","Professor of Psychology","Professor of Psychology","Professor of Psychology","Professor of Psychology","Professor of Psychology","Professor of Psychology","Professor of Psychology","Professor of Psychology","Professor of Psychology","Professor of Psychology","Professor of Psychology","Professor of Psychology","Professor of Psychology, Emeritus","Professor of Psychology, Emeritus"]
[804,"Hall","Hal H.","B.S.",null,null,null,null,null,null,null,null,null,null,null,null,null,null,null,null,null,null,null,null,null,null,null,null,null,null,null,null,null,null,null,null,null,null,null,null,null,null,null,null,null,null,null,null,null,null,null,null,null,null,null,null,null,null,null,null,null,"Instructor in Secretarial Science"]
[4017,"Hall","Richard S.","B.S.",null,null,null,null,null,null,null,null,null,null,null,null,null,null,null,null,null,null,null,null,null,null,null,null,null,null,null,null,null,null,null,null,null,null,null,null,null,null,null,null,null,null,null,null,null,null,null,null,null,null,null,null,null,null,null,null,null,null,null,null,null,null,null,null,null,null,null,null,null,null,null,null,null,null,null,null,null,null,null,null,null,null,null,null,null,null,null,null,null,null,null,"Assistant Baseball Coach",null,null,"Assistant Baseball Coach",null,null,"Assistant Baseball Coach","Assistant Baseball Coach","Assistant Baseball Coach","Assistant Baseball Coach","Assistant Baseball Coach","Assistant Baseball Coach"]
[4404,"Hall","Ronald L.","B.A., M.Div, Ph.D",null,null,null,null,null,null,null,null,null,null,null,null,null,null,null,null,null,null,null,null,null,null,null,null,null,null,null,null,null,null,null,null,null,null,null,null,null,null,null,null,null,null,null,null,null,null,null,null,null,null,null,null,null,null,null,null,null,null,null,null,null,null,null,null,null,null,null,null,null,null,null,null,null,null,null,null,null,null,null,null,null,null,null,null,null,null,null,null,null,null,null,null,null,null,null,null,null,null,null,null,null,null,null,null,"Visiting Professor of Philosophy","Professor of Philosophy","Professor of Philosophy","Professor of Philosophy / Chair","Professor of Philosophy / Chair","Professor of Philosophy / Chair","Professor of Philosophy / Chair","Professor of Philosophy / Chair","Professor of Philosophy / Chair","Professor of Philosophy / Chair","Professor of Philosophy / Chair","Professor of Philosophy / Chair","Professor of Philosophy / Chair","Professor of Philosophy / Chair"]
[3983,"Halpern","Ronald B.","B.S., J.D.",null,null,null,null,null,null,null,null,null,null,null,null,null,null,null,null,null,null,null,null,null,null,null,null,null,null,null,null,null,null,null,null,null,null,null,null,null,null,null,null,null,null,null,null,null,null,null,null,null,null,null,null,null,null,null,null,null,null,null,null,null,null,null,null,null,null,null,null,null,null,null,null,null,null,null,null,null,null,null,null,null,null,null,null,null,null,null,null,null,null,"Assistant Professor of Law","Assistant Professor of Law","Assistant Professor of Law","Assistant Professor of Law","Assistant Professor of Law","Assistant Professor of Law","Assistant Professor of Law","Assistant Professor of Law","Assistant Professor of Law"]
[856,"Hamilton","Jewel Boone","B.B.A.",null,null,null,null,null,null,null,null,null,null,null,null,null,null,null,null,null,null,null,null,null,null,null,null,null,null,null,null,null,null,null,null,null,null,null,null,null,null,null,null,null,null,null,null,null,null,null,null,null,null,null,null,null,null,null,null,null,null,"Assistant Professor of Secretarial Science","Associate Professor of Secretarial Science","Associate Professor of Secretarial Science (Resigned)"]
[259,"Hampton","Salome",null,null,null,null,null,null,null,null,null,null,null,null,null,null,null,null,null,null,null,null,null,"Assistant in Model Kindergarten"]
[null,"Hancock","Lua R.","B.S., M.S., Ed.D.",null,null,null,null,null,null,null,null,null,null,null,null,null,null,null,null,null,null,null,null,null,null,null,null,null,null,null,null,null,null,null,null,null,null,null,null,null,null,null,null,null,null,null,null,null,null,null,null,null,null,null,null,null,null,null,null,null,null,null,null,null,null,null,null,null,null,null,null,null,null,null,null,null,null,null,null,null,null,null,null,null,null,null,null,null,null,null,null,null,null,null,null,null,null,null,null,null,null,null,null,null,null,null,null,null,null,null,null,null,null,null,null,null,null,"Assistant Provost for Student Success","Assistant Provost for Student Success","Assistant Provost for Student Success"]
[4174,"Hansen","Randall S.","B.S., M.A., Ph.D.",null,null,null,null,null,null,null,null,null,null,null,null,null,null,null,null,null,null,null,null,null,null,null,null,null,null,null,null,null,null,null,null,null,null,null,null,null,null,null,null,null,null,null,null,null,null,null,null,null,null,null,null,null,null,null,null,null,null,null,null,null,null,null,null,null,null,null,null,null,null,null,null,null,null,null,null,null,null,null,null,null,null,null,null,null,null,null,null,null,null,null,null,null,null,null,null,null,null,"Assistant Professor of Marketing","Assistant Professor of Marketing","Assistant Professor of Marketing","Assistant Professor of Marketing","Assistant Professor of Marketing","Associate Professor of Marketing","Associate Professor of Marketing","Associate Professor of Marketing","Associate Professor of Marketing","Associate Professor of Marketing","Associate Professor of Marketing","Associate Professor of Marketing","Professor of Marketing","Professor of Marketing","Professor of Marketing"]
[2503,"Harriman","Carolyn",null,null,null,null,null,null,null,null,null,null,null,null,null,null,"Assistant in Library"]
[3373,"Harrison","Baya M., Jr.","LL.B",null,null,null,null,null,null,null,null,null,null,null,null,null,null,null,null,null,null,null,null,null,null,null,null,null,null,null,null,null,null,null,null,null,null,null,null,null,null,null,null,null,null,null,null,null,null,null,null,null,null,null,null,null,null,null,null,null,null,null,null,null,null,null,null,null,null,"Lecturer in Law","Lecturer in Law","Lecturer in Law","Lecturer in Law","Lecturer in Law","Lecturer in Law","Visiting Professor of Law","Visiting Professor of Law","Visiting Professor of Law","Visiting Professor of Law","Visiting Professor of Law","Lecturer in Law","Visiting Professor of Law","Visiting Professor of Law","Visiting Professor of Law","Visiting Professor of Law","Visiting Professor of Law","Adjunct Professor of Law"]
[2976,"Harrison","Cyrus Franklin","B.S. in Commerce",null,null,null,null,null,null,null,null,null,null,null,null,null,null,null,null,null,null,null,null,null,null,null,null,null,null,null,null,null,null,null,null,null,null,null,null,null,null,null,null,null,"Assistant in Auditing & Income Tax Procedure"]
[4117,"Hauck","Peter R.","B.S., Ph.D.",null,null,null,null,null,null,null,null,null,null,null,null,null,null,null,null,null,null,null,null,null,null,null,null,null,null,null,null,null,null,null,null,null,null,null,null,null,null,null,null,null,null,null,null,null,null,null,null,null,null,null,null,null,null,null,null,null,null,null,null,null,null,null,null,null,null,null,null,null,null,null,null,null,null,null,null,null,null,null,null,null,null,null,null,null,null,null,null,null,null,null,null,null,null,null,null,"Assistant Professor of Chemistry","Assistant Professor of Chemistry","Assistant Professor of Chemistry","Assistant Professor of Chemistry","Assistant Professor of Chemistry","Associate Professor of Chemistry","Associate Professor of Chemistry","Associate Professor of Chemistry","Associate Professor of Chemistry / Chair","Associate Professor of Chemistry / Chair","Associate Professor of Chemistry / Chair","Associate Professor of Chemistry / Chair","Associate Professor of Chemistry / Chair","Associate Professor of Chemistry / Chair","Associate Professor of Chemistry","Associate Professor of Chemistry","Associate Professor of Chemistry","Associate Professor of Chemistry"]
[2947,"Hawkins","Isaac Walter",null,null,null,null,null,null,null,null,null,null,null,null,null,null,null,null,null,null,null,null,null,null,null,null,null,null,null,null,null,null,null,null,null,null,null,null,null,null,null,"Assistant in Auditing & Income Tax Procedure"]
[2517,"Hayes","Charles S.",null,null,null,null,null,null,null,null,null,null,null,null,null,null,null,"Assistant in Political Science"]
[3608,"Hayes","David P.","B.S., M.S.",null,null,null,null,null,null,null,null,null,null,null,null,null,null,null,null,null,null,null,null,null,null,null,null,null,null,null,null,null,null,null,null,null,null,null,null,null,null,null,null,null,null,null,null,null,null,null,null,null,null,null,null,null,null,null,null,null,null,null,null,null,null,null,null,null,null,null,null,null,null,null,null,null,null,null,null,null,null,"Assistant Professor of Mathematics"]
[489,"Heffner","Roy Edward","A.B., B.S. in E.E., M.S.",null,null,null,null,null,null,null,null,null,null,null,null,null,null,null,null,null,null,null,null,null,null,null,null,null,null,null,null,null,null,null,null,null,null,null,"Assistant Professor of Electrical Engineering","Assistant Professor of Electrical Engineering"]
[4518,"Henderson","Carol","B.A., J.D.",null,null,null,null,null,null,null,null,null,null,null,null,null,null,null,null,null,null,null,null,null,null,null,null,null,null,null,null,null,null,null,null,null,null,null,null,null,null,null,null,null,null,null,null,null,null,null,null,null,null,null,null,null,null,null,null,null,null,null,null,null,null,null,null,null,null,null,null,null,null,null,null,null,null,null,null,null,null,null,null,null,null,null,null,null,null,null,null,null,null,null,null,null,null,null,null,null,null,null,null,null,null,null,null,null,null,null,"Visiting Professor of Law / Director of \nNational Clearinghouse","Visiting Professor of Law / Director of \nNational Clearinghouse","Visiting Professor of Law / Director of \nNational Clearinghouse","Professor of Law / Director / National Clearinghouse for \nScience, Technology & Law","Professor of Law / Director / National Clearinghouse for Science, \nTechnology & Law","Professor of Law / Director / National Clearinghouse for \nScience, Technology & Law","Professor of Law / Director / National Clearinghouse for \nScience, Technology & Law","Professor of Law / Director / National Clearinghouse \nfor Science, Technology & Law","Professor of Law / Director / National Clearinghouse \nfor Science, Technology & Law","Professor of Law / Director / National Clearinghouse \nfor Science, Technology & Law","Professor of Law / Director of the National \nClearinghouse for Science, Technology & the Law"]
[3282,"Hendry","Harry K.","M.Ed.",null,null,null,null,null,null,null,null,null,null,null,null,null,null,null,null,null,null,null,null,null,null,null,null,null,null,null,null,null,null,null,null,null,null,null,null,null,null,null,null,null,null,null,null,null,null,null,null,null,null,null,null,null,null,null,null,null,null,null,"Assistant Professor of Sociology"]
[3076,"Heney","John J.",null,null,null,null,null,null,null,null,null,null,null,null,null,null,null,null,null,null,null,null,null,null,null,null,null,null,null,null,null,null,null,null,null,null,null,null,null,null,null,null,null,null,null,null,null,null,null,null,null,null,"Director of the Band / Instructor of Wind & \nPercussion Instruments","Director of the Band / Instructor of Wind & \nPercussion Instruments","Director of the Band / Instructor of Wind & \nPercussion Instruments","Director of the Band / Instructor of Wind & \nPercussion Instruments","Director of the Band / Instructor of Wind & \nPercussion Instruments","Director of the Band / Instructor of Wind & \nPercussion Instruments"]
[null,"Herb","Maggie","B.A., M.A., ABD",null,null,null,null,null,null,null,null,null,null,null,null,null,null,null,null,null,null,null,null,null,null,null,null,null,null,null,null,null,null,null,null,null,null,null,null,null,null,null,null,null,null,null,null,null,null,null,null,null,null,null,null,null,null,null,null,null,null,null,null,null,null,null,null,null,null,null,null,null,null,null,null,null,null,null,null,null,null,null,null,null,null,null,null,null,null,null,null,null,null,null,null,null,null,null,null,null,null,null,null,null,null,null,null,null,null,null,null,null,null,null,null,null,null,null,null,"Visiting Lecturer in English / Director of the \nWriting Center","Visiting Lecturer in English / Director of the \nWriting Center"]
[4030,"Hewitt","Glenn A.","B.A., M.Div.",null,null,null,null,null,null,null,null,null,null,null,null,null,null,null,null,null,null,null,null,null,null,null,null,null,null,null,null,null,null,null,null,null,null,null,null,null,null,null,null,null,null,null,null,null,null,null,null,null,null,null,null,null,null,null,null,null,null,null,null,null,null,null,null,null,null,null,null,null,null,null,null,null,null,null,null,null,null,null,null,null,null,null,null,null,null,null,null,null,null,null,null,"Visiting Instructor in Religion"]
[3833,"Hickok","Kathleen K.","B.A., M.A., Ph.D.",null,null,null,null,null,null,null,null,null,null,null,null,null,null,null,null,null,null,null,null,null,null,null,null,null,null,null,null,null,null,null,null,null,null,null,null,null,null,null,null,null,null,null,null,null,null,null,null,null,null,null,null,null,null,null,null,null,null,null,null,null,null,null,null,null,null,null,null,null,null,null,null,null,null,null,null,null,null,null,null,null,null,null,null,"Assistant Professor of English","Assistant Professor of English"]
[3337,"Hicks","John","A.B., M.A., Ph.D",null,null,null,null,null,null,null,null,null,null,null,null,null,null,null,null,null,null,null,null,null,null,null,null,null,null,null,null,null,null,null,null,null,null,null,null,null,null,null,null,null,null,null,null,null,null,null,null,null,null,null,null,null,null,null,null,null,null,null,null,null,"Professor of English","Professor of English","Professor of English","Professor of English","Professor of English","Professor of English","Professor of English",null,"Professor of English","Professor of English",null,null,null,null,null,null,"Professor of English"]
[4615,"Hill","David","B.A., M.A., Ph.D.",null,null,null,null,null,null,null,null,null,null,null,null,null,null,null,null,null,null,null,null,null,null,null,null,null,null,null,null,null,null,null,null,null,null,null,null,null,null,null,null,null,null,null,null,null,null,null,null,null,null,null,null,null,null,null,null,null,null,null,null,null,null,null,null,null,null,null,null,null,null,null,null,null,null,null,null,null,null,null,null,null,null,null,null,null,null,null,null,null,null,null,null,null,null,null,null,null,null,null,null,null,null,null,null,null,null,null,null,null,null,null,"Associate Professor of Political Science","Associate Professor of Political Science","Associate Professor of Political Science","Associate Professor of Political Science","Associate Professor of Political Science","Associate Professor of Political Science","Associate Professor of Political Science"]
[2614,"Hill","Webb B.",null,null,null,null,null,null,null,null,null,null,null,null,null,null,null,null,null,null,null,"Instructor in Vocal Music","Instructor in Voice","Instructor in Voice"]
[512,"Hobson","Frank",null,null,null,null,null,null,null,null,null,null,null,null,null,null,null,null,null,null,null,null,null,null,null,null,null,null,null,null,null,null,null,null,null,null,null,null,"Assistant in Law Library"]
[37,"Hodge","Frederick H.","A.B.",null,null,null,null,null,null,null,null,"Professor of Mathematics & Astronomy"]
[4334,"Holcomb","Rodney F.","M.D.",null,null,null,null,null,null,null,null,null,null,null,null,null,null,null,null,null,null,null,null,null,null,null,null,null,null,null,null,null,null,null,null,null,null,null,null,null,null,null,null,null,null,null,null,null,null,null,null,null,null,null,null,null,null,null,null,null,null,null,null,null,null,null,null,null,null,null,null,null,null,null,null,null,null,null,null,null,null,null,null,null,null,null,null,null,null,null,null,null,null,null,null,null,null,null,null,null,null,null,null,null,null,null,"Adjunct Faculty for Medical Technology / Medical \nDirector of Medical Technology \nProgram at Florida Hospital","Adjunct Faculty for Medical Technology / Medical \nDirector of Medical Technology \nProgram at Florida Hospital"]
[3307,"Holland","William C.","A.B., Th.M., Th.D.",null,null,null,null,null,null,null,null,null,null,null,null,null,null,null,null,null,null,null,null,null,null,null,null,null,null,null,null,null,null,null,null,null,null,null,null,null,null,null,null,null,null,null,null,null,null,null,null,null,null,null,null,null,null,null,null,null,null,null,null,"Visiting Professor of Religion","Visiting Professor of Religion"]
[4519,"Homburger","Eve","B.S., M.A., Ed.S., Ed.D.",null,null,null,null,null,null,null,null,null,null,null,null,null,null,null,null,null,null,null,null,null,null,null,null,null,null,null,null,null,null,null,null,null,null,null,null,null,null,null,null,null,null,null,null,null,null,null,null,null,null,null,null,null,null,null,null,null,null,null,null,null,null,null,null,null,null,null,null,null,null,null,null,null,null,null,null,null,null,null,null,null,null,null,null,null,null,null,null,null,null,null,null,null,null,null,null,null,null,null,null,null,null,null,null,null,null,null,"Visiting Assistant Professor of Counselor Education"]
[3348,"Hood","George Wilson","B.A., M.B.A., Ph.D.",null,null,null,null,null,null,null,null,null,null,null,null,null,null,null,null,null,null,null,null,null,null,null,null,null,null,null,null,null,null,null,null,null,null,null,null,null,null,null,null,null,null,null,null,null,null,null,null,null,null,null,null,null,null,null,null,null,null,null,null,null,null,"Assistant Professor of Education","Assistant Professor of Education / Director of Guidance","Assistant Professor of Education / Director of \nGuidance / Dean of Men","Assistant Professor of Education / Director of \nGuidance / Dean of Men","Assistant Professor of Education / Director of \nGuidance / Dean of Men","Assistant Professor of Education / Director of \nGuidance / Dean of Men","Assistant Professor of Education / Director of \nGuidance / Dean of Men","Assistant Professor of Education / Director of \nGuidance / Dean of Men","Assistant Professor of Education / Director of \nGuidance / Dean of Men","Assistant Professor of Education / Director of \nGuidance / Dean of Men","Professor of Education","Professor of Education","Professor of Education","Professor of Education","Professor of Education","Director of Counseling Services  / Dean of Men / \nAssistant Professor of Education","Professor of Education","Professor of Education","Professor of Education","Professor of Education / Director of Counseling Services","Professor of Education / Director of Counseling Services","Professor of Education / Director of Counseling Services","Professor of Counseling Education / Director of \nCounseling Services","Professor of Counseling Education / Director of \nCounseling Services","Professor of Counseling Education / Director of \nCounseling Services","Professor of Counseling Education / Director of \nCounseling Services","Professor of Counseling Education / Director of \nCounseling Services","Professor of Counseling Education / Director of \nCounseling Services","Professor of Counseling Education / Director of \nCounseling Services","Professor of Counseling Education / Director of \nCounseling Services","Professor of Counseling Education / Director of \nCounseling Services","Professor of Counseling Education / Director of \nCounseling Services","Professor of Counseling Education","Professor of Counselor Education / Senior Active Status","Professor of Counselor Education / Senior Active Status","Professor of Counselor Education / Senior Active Status","Professor of Counselor Education, Emeritus","Professor of Counselor Education, Emeritus","Professor of Counselor Education, Emeritus","Professor of Counselor Education, Emeritus","Professor of Counselor Education, Emeritus","Professor of Counselor Education, Emeritus","Professor of Counselor Education, Emeritus","Professor of Counselor Education, Emeritus","Professor of Counselor Education, Emeritus","Professor of Counselor Education, Emeritus","Professor of Counselor Education, Emeritus","Professor of Counselor Education, Emeritus","Professor of Counselor Education, Emeritus","Professor of Counselor Education, Emeritus","Professor of Counselor Education, Emeritus","Professor of Counselor Education, Emeritus","Professor of Counselor Education, Emeritus","Professor of Counselor Education, Emeritus","Professor of Counselor Education, Emeritus","Professor of Counselor Education, Emeritus"]
[2989,"Hord","G.L.","Mr. & Mrs.",null,null,null,null,null,null,null,null,null,null,null,null,null,null,null,null,null,null,null,null,null,null,null,null,null,null,null,null,null,null,null,null,null,null,null,null,null,null,null,null,null,null,"Stewards","Stewards","Stewards"]
[3768,"Horton","Margaret W.","BA, MS, EdD",null,null,null,null,null,null,null,null,null,null,null,null,null,null,null,null,null,null,null,null,null,null,null,null,null,null,null,null,null,null,null,null,null,null,null,null,null,null,null,null,null,null,null,null,null,null,null,null,null,null,null,null,null,null,null,null,null,null,null,null,null,null,null,null,null,null,null,null,null,null,null,null,null,null,null,null,null,null,null,null,null,null,null,"Associate Professor of Education","Associate Professor of Education","Associate Professor of Education","Associate Professor of Education","Associate Professor of Education","Professor of Education","Professor of Education","Professor of Education","Professor of Education","Professor of Education","Professor of Education","Professor of Education","Professor of Education","Professor of Education","Professor of Education / Senior Active Status","Professor of Education / Senior Active Status"]
[3923,"Howard","Gregory A.","CPT. USA, B.S., M.S.",null,null,null,null,null,null,null,null,null,null,null,null,null,null,null,null,null,null,null,null,null,null,null,null,null,null,null,null,null,null,null,null,null,null,null,null,null,null,null,null,null,null,null,null,null,null,null,null,null,null,null,null,null,null,null,null,null,null,null,null,null,null,null,null,null,null,null,null,null,null,null,null,null,null,null,null,null,null,null,null,null,null,null,null,null,null,null,"Assistant Professor of Military Science"]
[2526,"Howard","Mabel E.",null,null,null,null,null,null,null,null,null,null,null,null,null,null,null,"Assistant in Library"]
[4162,"Howicz","David S.","B.A., M.Ed.",null,null,null,null,null,null,null,null,null,null,null,null,null,null,null,null,null,null,null,null,null,null,null,null,null,null,null,null,null,null,null,null,null,null,null,null,null,null,null,null,null,null,null,null,null,null,null,null,null,null,null,null,null,null,null,null,null,null,null,null,null,null,null,null,null,null,null,null,null,null,null,null,null,null,null,null,null,null,null,null,null,null,null,null,null,null,null,null,null,null,null,null,null,null,null,null,null,"Assistant Baseball Coach"]
[2951,"Hudson","Lura",null,null,null,null,null,null,null,null,null,null,null,null,null,null,null,null,null,null,null,null,null,null,null,null,null,null,null,null,null,null,null,null,null,null,null,null,null,null,null,"Assistant in Library"]
[288,"Hull","Dossie C.","LL.B.",null,null,null,null,null,null,null,null,null,null,null,null,null,null,null,null,null,null,null,null,null,null,"Instructor in Commercial Law / Assistant Instructor \nin Bookkeeping",null,"Assistant Professor of Law"]
[485,"Hulley","Benjamin Mayham","A.B., A.M.",null,null,null,null,null,null,null,null,null,null,null,null,null,null,null,null,null,null,null,null,null,null,null,null,null,null,null,null,null,null,null,null,null,null,null,"Professor of American History & Political Science","Professor of American History & Political Science"]
[2609,"Hunsaker","Olive Mae",null,null,null,null,null,null,null,null,null,null,null,null,null,null,null,null,null,null,null,"Instructor in Shorthand & Stenographers' Office Practice","Instructor in Shorthand & Stenographers' Office Practice","Instructor in Shorthand & Stenographers' Office Practice"]
[3308,"Hurt","Huber William","B.S., M.A., Ph.D.",null,null,null,null,null,null,null,null,null,null,null,null,null,null,null,null,null,null,null,null,null,null,null,null,null,null,null,null,null,null,null,null,null,null,null,null,null,null,null,null,null,null,null,null,null,null,null,null,null,null,null,null,null,null,null,null,null,null,null,null,"Professor of Education","Professor of Education","Professor of Education","Professor of Education / Director of Admissions","Professor of Education / Director of Admissions","Professor of Education / Director of Admissions","Professor of Education / Director of Admissions","Professor of Education / Director of Admissions"]
[85,"Hutcheson","D. Lee",null,null,null,null,null,null,null,null,null,null,null,null,null,"Assistant in Piano / Instructor in Guitar & Mandolin"]
[3851,"Hutchings","Virginia","B.S., M.S.",null,null,null,null,null,null,null,null,null,null,null,null,null,null,null,null,null,null,null,null,null,null,null,null,null,null,null,null,null,null,null,null,null,null,null,null,null,null,null,null,null,null,null,null,null,null,null,null,null,null,null,null,null,null,null,null,null,null,null,null,null,null,null,null,null,null,null,null,null,null,null,null,null,null,null,null,null,null,null,null,null,null,null,null,"Assistant Professor of Piano","Assistant Professor of Piano","Assistant Professor of Piano","Assistant Professor of Piano","Assistant Professor of Piano"]
[3030,"Ireland","Martha",null,null,null,null,null,null,null,null,null,null,null,null,null,null,null,null,null,null,null,null,null,null,null,null,null,null,null,null,null,null,null,null,null,null,null,null,null,null,null,null,null,null,null,null,null,null,null,null,"Assistant Director of Publicity","Assistant Director of Publicity / Instructor in Journalism"]
[3885,"Irvine","Allen D.","Captain USA",null,null,null,null,null,null,null,null,null,null,null,null,null,null,null,null,null,null,null,null,null,null,null,null,null,null,null,null,null,null,null,null,null,null,null,null,null,null,null,null,null,null,null,null,null,null,null,null,null,null,null,null,null,null,null,null,null,null,null,null,null,null,null,null,null,null,null,null,null,null,null,null,null,null,null,null,null,null,null,null,null,null,null,null,null,"Assistant Professor of Military Science"]
[2829,"Ives","Judson Dunbar","A.B., A.M.",null,null,null,null,null,null,null,null,null,null,null,null,null,null,null,null,null,null,null,null,null,null,null,null,null,null,null,null,null,null,null,null,null,"Professor of Biology & Physiology"]
[3681,"Jackson","Kenneth L.","B.S., M.B.A.",null,null,null,null,null,null,null,null,null,null,null,null,null,null,null,null,null,null,null,null,null,null,null,null,null,null,null,null,null,null,null,null,null,null,null,null,null,null,null,null,null,null,null,null,null,null,null,null,null,null,null,null,null,null,null,null,null,null,null,null,null,null,null,null,null,null,null,null,null,null,null,null,null,null,null,null,null,null,null,"Assistant Professor of Business Administration","Assistant Professor of Business Administration","Assistant Professor of Business Administration","Assistant Professor of Business Administration","Assistant Professor of Business Administration","Assistant Professor of Business Administration","Assistant Professor of Business Administration","Assistant Professor of Business Administration","Assistant Professor of Business Administration / \nChair of Finance & Quantitative Methods","Assistant Professor of Business Administration / \nChair of Finance & Quantitative Methods","Assistant Professor of Business Administration / \nChair of Finance & Quantitative Methods","Assistant Professor of Business Administration / \nChair of Finance & Quantitative Methods","Assistant Professor of Business Administration / \nChair of Finance & Quantitative Methods","Assistant Professor of Quantitative Methods / Chair \nof Finance & Quantitative Methods","Assistant Professor of Quantitative Methods / Chair \nof Finance & Quantitative Methods","Assistant Professor of Quantitative Methods, Emeritus","Assistant Professor of Quantitative Methods, Emeritus","Assistant Professor of Quantitative Methods, Emeritus","Assistant Professor of Quantitative Methods, Emeritus","Assistant Professor of Quantitative Methods, Emeritus","Assistant Professor of Quantitative Methods, Emeritus","Assistant Professor of Quantitative Methods, Emeritus","Assistant Professor of Quantitative Methods, Emeritus","Assistant Professor of Quantitative Methods, Emeritus","Assistant Professor of Quantitative Methods, Emeritus","Assistant Professor of Quantitative Methods, Emeritus","Assistant Professor of Quantitative Methods, Emeritus","Assistant Professor of Quantitative Methods, Emeritus","Assistant Professor of Quantitative Methods, Emeritus"]
[3023,"Jacobs","Henry Strobel","A.B., LL.B.",null,null,null,null,null,null,null,null,null,null,null,null,null,null,null,null,null,null,null,null,null,null,null,null,null,null,null,null,null,null,null,null,null,null,null,null,null,null,null,null,null,null,null,null,null,null,"Instructor in Law","Associate Professor of Law","Associate Professor of Law","Associate Professor of Law (Resigned)"]
[4336,"Jeancola","Monica","B.B.A., M.B.A., C.P.A.",null,null,null,null,null,null,null,null,null,null,null,null,null,null,null,null,null,null,null,null,null,null,null,null,null,null,null,null,null,null,null,null,null,null,null,null,null,null,null,null,null,null,null,null,null,null,null,null,null,null,null,null,null,null,null,null,null,null,null,null,null,null,null,null,null,null,null,null,null,null,null,null,null,null,null,null,null,null,null,null,null,null,null,null,null,null,null,null,null,null,null,null,null,null,null,null,null,null,null,null,null,null,null,"Instructor in Accounting","Lecturer in Accounting","Lecturer in Accounting","Lecturer in Accounting","Lecturer in Accounting","Lecturer in Accounting","Lecturer in Accounting","Lecturer in Accounting","Lecturer in Accounting","Lecturer in Accounting","Lecturer in Accounting","Visiting Lecturer in Accounting","Assistant Professor in Accounting","Assistant Professor in Accounting Information Systems","Assistant Professor of Accounting"]
[2987,"Jenner","John Thomas","A.B.",null,null,null,null,null,null,null,null,null,null,null,null,null,null,null,null,null,null,null,null,null,null,null,null,null,null,null,null,null,null,null,null,null,null,null,null,null,null,null,null,null,null,"Instructor in Philosophy"]
[4074,"Jens","William G., Jr.","B.A., M.B.A., Ph.D., C.P.A.",null,null,null,null,null,null,null,null,null,null,null,null,null,null,null,null,null,null,null,null,null,null,null,null,null,null,null,null,null,null,null,null,null,null,null,null,null,null,null,null,null,null,null,null,null,null,null,null,null,null,null,null,null,null,null,null,null,null,null,null,null,null,null,null,null,null,null,null,null,null,null,null,null,null,null,null,null,null,null,null,null,null,null,null,null,null,null,null,null,null,null,null,null,null,"Assistant Professor of Marketing","Assistant Professor of Accounting","Assistant Professor of Accounting","Assistant Professor of Accounting","Assistant Professor of Accounting","Associate Professor of Accounting","Associate Professor of Accounting","Associate Professor of Accounting / Chair / Lindback Chair","Associate Professor of Accounting / Chair / Lindback Chair","Associate Professor of Accounting / Chair / Lindback \nChair (Sabbatical - Spring)","Professor of Accounting / Chair / Lindback Chair \n(Sabbatical - Spring)","Professor of Accounting / Chair / Lindback Chair \n(Sabbatical - Spring)","Professor of Accounting / Chair / Lindback Chair","Professor of Accounting / Chair / Lindback Chair","Professor of Accounting / Chair / Lindback Chair","Professor of Accounting / Chair / Lindback Chair","Professor of Accounting / Chair / Lindback Chair","Professor of Accounting / Chair / Lindback Chair","Professor of Accounting / Chair / Lindback Chair","Professor of Accounting / Chair / Lindback Chair"]
[4337,"Johns","Amy","B.A., M.A.",null,null,null,null,null,null,null,null,null,null,null,null,null,null,null,null,null,null,null,null,null,null,null,null,null,null,null,null,null,null,null,null,null,null,null,null,null,null,null,null,null,null,null,null,null,null,null,null,null,null,null,null,null,null,null,null,null,null,null,null,null,null,null,null,null,null,null,null,null,null,null,null,null,null,null,null,null,null,null,null,null,null,null,null,null,null,null,null,null,null,null,null,null,null,null,null,null,null,null,null,null,null,null,"Instructor in English",null,"Visiting Instructor in English"]
[3061,"Johnson","Carl Herbert","B.S., M.A.",null,null,null,null,null,null,null,null,null,null,null,null,null,null,null,null,null,null,null,null,null,null,null,null,null,null,null,null,null,null,null,null,null,null,null,null,null,null,null,null,null,null,null,null,null,null,null,null,null,"Director of Intra-mural Athletics / Superintendent of \nConrad Hall / Instructor in Health & Physical Education","Director of Intra-mural Athletics / Superintendent of \nConrad Hall / Instructor in Health & Physical Education","Director of Men's Activities","Director of Men's Activities / Instructor in Education \n& Intramurals","Director of Men's Activities / Instructor in Education \n& Intramurals","Director of Men's Activities / Instructor in Education \n& Intramurals","Director of Men's Activities / Instructor in Education \n& Intramurals","Director of Men's Activities / Assistant Professor \nof Geography","Director of Men's Dormitories / Assistant Professor \nof Geography / Director of Men's Intramurals","Director of Men's Dormitories / Assistant Professor \nof Geography / Director of Men's Intramurals","Director of Men's Dormitories / Assistant Professor \nof Geography / Director of Men's Intramurals","Assistant Professor of Geography","Assistant Professor of Geography","Assistant Professor of Geography","Assistant Professor of Geography","Assistant Professor of Geography","Assistant Professor of Geography","Assistant Professor of Geography","Assistant Professor of Geography","Assistant Professor of Geography","Assistant Professor of Geography","Assistant Professor of Geography","Assistant Professor of Geography","Assistant Professor of Geography","Assistant Professor of Geography","Assistant Professor of Geography","Assistant Professor of Geography","Assistant Professor of Geography","Assistant Professor of Geography","Assistant Professor of Geography, Emeritus","Assistant Professor of Geography, Emeritus","Assistant Professor of Geography, Emeritus","Assistant Professor of Geography, Emeritus","Assistant Professor of Geography, Emeritus","Assistant Professor of Geography, Emeritus","Assistant Professor of Geography, Emeritus","Assistant Professor of Geography, Emeritus","Assistant Professor of Geography, Emeritus","Assistant Professor of Geography, Emeritus","Assistant Professor of Geography, Emeritus","Assistant Professor of Geography, Emeritus","Assistant Professor of Geography, Emeritus","Assistant Professor of Geography, Emeritus","Assistant Professor of Geography, Emeritus","Assistant Professor of Geography, Emeritus"]
[3842,"Johnson","Jeffry M.","Captain USA, B.A., M.A.,",null,null,null,null,null,null,null,null,null,null,null,null,null,null,null,null,null,null,null,null,null,null,null,null,null,null,null,null,null,null,null,null,null,null,null,null,null,null,null,null,null,null,null,null,null,null,null,null,null,null,null,null,null,null,null,null,null,null,null,null,null,null,null,null,null,null,null,null,null,null,null,null,null,null,null,null,null,null,null,null,null,null,null,null,"Assistant Professor of Military Science"]
[668,"Johnson","Ludie Harvey",null,null,null,null,null,null,null,null,null,null,null,null,null,null,null,null,null,null,null,null,null,null,null,null,null,null,null,null,null,null,null,null,null,null,null,null,null,null,null,null,null,null,null,null,null,null,null,null,null,null,"Director of Dormitories"]
[null,"Johnson","Patricia R.","B.S., C.P.A.",null,null,null,null,null,null,null,null,null,null,null,null,null,null,null,null,null,null,null,null,null,null,null,null,null,null,null,null,null,null,null,null,null,null,null,null,null,null,null,null,null,null,null,null,null,null,null,null,null,null,null,null,null,null,null,null,null,null,null,null,null,null,null,null,null,null,null,null,null,null,null,null,null,null,null,null,null,null,null,null,null,null,null,null,null,null,null,null,null,null,null,null,null,null,null,null,null,null,null,null,null,null,null,null,null,null,null,null,null,null,null,null,null,null,"Executive Director of Budget & Finance, College of Law","Executive Director of Budget & Finance, College of Law","Executive Director of Budget & Finance, College of Law"]
[3429,"Joiner","E. Earl","B.A., B.D., Th.M, Th.D",null,null,null,null,null,null,null,null,null,null,null,null,null,null,null,null,null,null,null,null,null,null,null,null,null,null,null,null,null,null,null,null,null,null,null,null,null,null,null,null,null,null,null,null,null,null,null,null,null,null,null,null,null,null,null,null,null,null,null,null,null,null,null,null,null,null,null,null,"Assistant Professor of Religion","Assistant Professor of Religion","Assistant Professor of Religion","Assistant Professor of Religion","Assistant Professor of Religion","Associate Professor of Religion","Associate Professor of Religion","Associate Professor of Religion","Professor of Religion","Assistant Professor of Religion","Professor of Religion","Professor of Religion","Professor of Religion","Professor of Religion","Professor of Religion","Professor of Religion","Professor of Religion","Professor of Religion","Professor of Religion","Professor of Religion / Chair","Professor of Religion / Chair / Sam R. Marks Chair","Professor of Religion / Chair","Professor of Religion / Chair / Sam R. Marks Chair of \nReligion (Spring Sabbatical)","Professor of Religion / Chair / Sam R. Marks \nChair of Religion","Professor of Religion / Chair / Sam R. Marks \nChair of Religion","Professor of Religion / Chair / Sam R. Marks \nChair of Religion","Professor of Religion / Chair / Sam R. Marks \nChair of Religion","Professor of Religion / Chair / Sam R. Marks \nChair of Religion","Professor of Religion / Chair / Sam R. Marks \nChair of Religion","Professor of Religion / Chair / Sam R. Marks \nChair of Religion","Professor of Religion, Emeritus","Professor of Religion, Emeritus","Professor of Religion, Emeritus","Professor of Religion, Emeritus","Professor of Religion, Emeritus"]
[2413,"Jones","George E.","Captain, USA, BS",null,null,null,null,"Teacher of Vocal & Instrumental Music / In charge \nof Music Department",null,null,null,null,null,null,null,null,null,null,null,null,null,null,null,null,null,null,null,null,null,null,null,null,null,null,null,null,null,null,null,null,null,null,null,null,null,null,null,null,null,null,null,null,null,null,null,null,null,null,null,null,null,null,null,null,null,null,null,null,null,null,null,null,null,null,null,null,null,null,null,null,null,null,null,null,"Assistant Professor of Military Science","Assistant Professor of Military Science"]
[null,"Jones","Jennifer","B.A",null,null,null,null,null,null,null,null,null,null,null,null,null,null,null,null,null,null,null,null,null,null,null,null,null,null,null,null,null,null,null,null,null,null,null,null,null,null,null,null,null,null,null,null,null,null,null,null,null,null,null,null,null,null,null,null,null,null,null,null,null,null,null,null,null,null,null,null,null,null,null,null,null,null,null,null,null,null,null,null,null,null,null,null,null,null,null,null,null,null,null,null,null,null,null,null,null,null,null,null,null,null,null,null,null,null,null,null,null,null,null,null,null,null,"Assistant Crew Coach","Assistant Crew Coach"]
[3683,"Jones","Mary P.","MBA",null,null,null,null,null,null,null,null,null,null,null,null,null,null,null,null,null,null,null,null,null,null,null,null,null,null,null,null,null,null,null,null,null,null,null,null,null,null,null,null,null,null,null,null,null,null,null,null,null,null,null,null,null,null,null,null,null,null,null,null,null,null,null,null,null,null,null,null,null,null,null,null,null,null,null,null,null,null,null,"Instructor in Business Administration","Instructor in Business Administration"]
[4338,"Jones","Boyd M., II","B.M., M.M., M.M.A., D.M.A.",null,null,null,null,null,null,null,null,null,null,null,null,null,null,null,null,null,null,null,null,null,null,null,null,null,null,null,null,null,null,null,null,null,null,null,null,null,null,null,null,null,null,null,null,null,null,null,null,null,null,null,null,null,null,null,null,null,null,null,null,null,null,null,null,null,null,null,null,null,null,null,null,null,null,null,null,null,null,null,null,null,null,null,null,null,null,null,null,null,null,null,null,null,null,null,null,null,null,null,null,null,null,null,"Associate Professor Music / Price Chair Organ / \nUniversity Organist","Associate Professor Music / Price Chair Organ / \nUniversity Organist","Associate Professor Music / Price Chair Organ / \nUniversity Organist","Professor of Music / Price Chair of Organ / \nUniversity Organist","Professor of Music / Price Chair of Organ / \nUniversity Organist","Professor of Music / Price Chair of Organ / \nUniversity Organist","Professor of Music / Price Chair of Organ / \nUniversity Organist","Professor of Music / Price Chair of Organ / \nUniversity Organist","Professor of Music / Price Chair of Organ / \nUniversity Organist","Professor of Music / Price Chair of Organ / \nUniversity Organist","Professor of Music / Price Chair of Organ / \nUniversity Organist","Professor of Music","Professor of Music / John E. & Aliese Price Chair \nof Organ / University Organist","Professor of Music / John E. & Aliese Price Chair \nof Organ / University Organist","Professor of Music / John E. & Aliese Price Chair \nof Organ / University Organist"]
[3198,"Jordan","Ray","B.A., B.S.L.S.",null,null,null,null,null,null,null,null,null,null,null,null,null,null,null,null,null,null,null,null,null,null,null,null,null,null,null,null,null,null,null,null,null,null,null,null,null,null,null,null,null,null,null,null,null,null,null,null,null,null,null,null,null,null,null,null,null,"Law Library","Law Librarian","Law Librarian","Law Librarian","Law Librarian","Law Librarian","Law Librarian","Law Librarian","Librarian of the College of Law",null,null,null,null,null,null,null,null,null,null,null,null,null,null,"Instructor / Periodicals Librarian","Instructor / Periodicals Librarian","Instructor / Periodicals Librarian","Instructor / Periodicals Librarian","Instructor / Periodicals Librarian","Instructor / Periodicals Librarian","Assistant Professor / Periodicals Librarian","Assistant Professor / Periodicals Librarian","Associate Professor / Technical Services Librarian","Assistant Professor / Periodicals Librarian"]
[null,"Joseph","Thad","B.A., J.D.",null,null,null,null,null,null,null,null,null,null,null,null,null,null,null,null,null,null,null,null,null,null,null,null,null,null,null,null,null,null,null,null,null,null,null,null,null,null,null,null,null,null,null,null,null,null,null,null,null,null,null,null,null,null,null,null,null,null,null,null,null,null,null,null,null,null,null,null,null,null,null,null,null,null,null,null,null,null,null,null,null,null,null,null,null,null,null,null,null,null,null,null,null,null,null,null,null,null,null,null,null,null,null,null,null,null,null,null,null,null,null,null,null,null,"Director of Student Judicial Affairs","Director of Student Judicial Affairs"]
[4176,"Kaivola","Karen","B.A., M.A., Ph.D.",null,null,null,null,null,null,null,null,null,null,null,null,null,null,null,null,null,null,null,null,null,null,null,null,null,null,null,null,null,null,null,null,null,null,null,null,null,null,null,null,null,null,null,null,null,null,null,null,null,null,null,null,null,null,null,null,null,null,null,null,null,null,null,null,null,null,null,null,null,null,null,null,null,null,null,null,null,null,null,null,null,null,null,null,null,null,null,null,null,null,null,null,null,null,null,null,null,null,"Assistant Professor of English","Assistant Professor of English","Assistant Professor of English","Assistant Professor English / Director of Women \n& Gender Studies Program","Assistant Professor English / Director of Women \n& Gender Studies Program","Assistant Professor English / Associate Dean of Arts \n& Sciences / Carlton Chair of English & Humanities","Assistant Professor English / Associate Dean Arts & \nScience / Edmunds Chair","Assistant Professor English / Associate Dean Arts & \nScience / Edmunds Chair","Assistant Professor English / Associate Dean Arts & \nScience / Edmunds Chair","Professor of English / Associate Dean Arts & Science / \nEdmunds Chair","Professor of English / Associate Dean Arts & \nScience / Edmunds Chair","Professor of English / Associate Dean Arts & Science \n/ Edmunds Chair","Professor of English / Associate Dean Arts & \nScience / Edmunds Chair","Professor of English / Associate Dean Arts & Science / \nEdmunds Chair","Professor of English / Senior Associate Dean \nArts & Science","Professor of English / Senior Associate Dean \nArts & Science","Professor of English / Associate Provost for \nProfessional Development","Professor of English / Associate Provost for \nProfessional Development / J. Ollie \nEdmunds Chair"]
[4246,"Kalisak","Rosemary",null,null,null,null,null,null,null,null,null,null,null,null,null,null,null,null,null,null,null,null,null,null,null,null,null,null,null,null,null,null,null,null,null,null,null,null,null,null,null,null,null,null,null,null,null,null,null,null,null,null,null,null,null,null,null,null,null,null,null,null,null,null,null,null,null,null,null,null,null,null,null,null,null,null,null,null,null,null,null,null,null,null,null,null,null,null,null,null,null,null,null,null,null,null,null,null,null,null,null,null,"Head Softball Coach","Head Softball Coach","Head Softball Coach"]
[4570,"Kaye","Timothy S.","LL.B., Ph.D.",null,null,null,null,null,null,null,null,null,null,null,null,null,null,null,null,null,null,null,null,null,null,null,null,null,null,null,null,null,null,null,null,null,null,null,null,null,null,null,null,null,null,null,null,null,null,null,null,null,null,null,null,null,null,null,null,null,null,null,null,null,null,null,null,null,null,null,null,null,null,null,null,null,null,null,null,null,null,null,null,null,null,null,null,null,null,null,null,null,null,null,null,null,null,null,null,null,null,null,null,null,null,null,null,null,null,null,null,null,"Visiting Professor","Professor of Law","Professor of Law","Professor of Law","Professor of Law","Professor of Law","Professor of Law","Professor of Law","Professor of Law"]
[null,"Kazmarek","Robin","B.S., M.A.Ed",null,null,null,null,null,null,null,null,null,null,null,null,null,null,null,null,null,null,null,null,null,null,null,null,null,null,null,null,null,null,null,null,null,null,null,null,null,null,null,null,null,null,null,null,null,null,null,null,null,null,null,null,null,null,null,null,null,null,null,null,null,null,null,null,null,null,null,null,null,null,null,null,null,null,null,null,null,null,null,null,null,null,null,null,null,null,null,null,null,null,null,null,null,null,null,null,null,null,null,null,null,null,null,null,null,null,null,null,null,null,null,null,null,null,"Director of Career Services","Director of Career Development","Director of Experiential Learning"]
[3453,"Kelly","Faye L.","MA",null,null,null,null,null,null,null,null,null,null,null,null,null,null,null,null,null,null,null,null,null,null,null,null,null,null,null,null,null,null,null,null,null,null,null,null,null,null,null,null,null,null,null,null,null,null,null,null,null,null,null,null,null,null,null,null,null,null,null,null,null,null,null,null,null,null,null,null,"Assistant Professor of English",null,null,"Assistant Professor of English"]
[2981,"Kennedy","Harriet",null,null,null,null,null,null,null,null,null,null,null,null,null,null,null,null,null,null,null,null,null,null,null,null,null,null,null,null,null,null,null,null,null,null,null,null,null,null,null,null,null,null,"Assistant in Library","Assistant in Library"]
[4556,"Kerr","Floyd","M.A.",null,null,null,null,null,null,null,null,null,null,null,null,null,null,null,null,null,null,null,null,null,null,null,null,null,null,null,null,null,null,null,null,null,null,null,null,null,null,null,null,null,null,null,null,null,null,null,null,null,null,null,null,null,null,null,null,null,null,null,null,null,null,null,null,null,null,null,null,null,null,null,null,null,null,null,null,null,null,null,null,null,null,null,null,null,null,null,null,null,null,null,null,null,null,null,null,null,null,null,null,null,null,null,null,null,null,null,null,"Head Women's Golf Coach","Head Women's Golf Coach","Head Women's Golf Coach","Head Women's Golf Coach","Head Women's Golf Coach","Head Women's Golf Coach","Head Women’s Golf Coach","Head Women’s Golf Coach"]
[3196,"Kersey","Marjorie","B.S.",null,null,null,null,null,null,null,null,null,null,null,null,null,null,null,null,null,null,null,null,null,null,null,null,null,null,null,null,null,null,null,null,null,null,null,null,null,null,null,null,null,null,null,null,null,null,null,null,null,null,null,null,null,null,null,null,null,"Instructor in Secretarial Science"]
[4339,"Kim","Esther C.","B.A., J.D.",null,null,null,null,null,null,null,null,null,null,null,null,null,null,null,null,null,null,null,null,null,null,null,null,null,null,null,null,null,null,null,null,null,null,null,null,null,null,null,null,null,null,null,null,null,null,null,null,null,null,null,null,null,null,null,null,null,null,null,null,null,null,null,null,null,null,null,null,null,null,null,null,null,null,null,null,null,null,null,null,null,null,null,null,null,null,null,null,null,null,null,null,null,null,null,null,null,null,null,null,null,null,null,"Visiting Professor of Law","Assistant Professor of Law"]
[3902,"Kindred","Janis B.","B.M., M.A., D.M.",null,null,null,null,null,null,null,null,null,null,null,null,null,null,null,null,null,null,null,null,null,null,null,null,null,null,null,null,null,null,null,null,null,null,null,null,null,null,null,null,null,null,null,null,null,null,null,null,null,null,null,null,null,null,null,null,null,null,null,null,null,null,null,null,null,null,null,null,null,null,null,null,null,null,null,null,null,null,null,null,null,null,null,null,null,null,"Assistant Professor of Music Theory","Assistant Professor of Music Theory","Assistant Professor of Music Theory","Assistant Professor of Music Theory","Assistant Professor of Music Theory","Assistant Professor of Music Theory","Assistant Professor of Music Theory","Associate Professor of Music Theory (Spring Sabbatical)","Associate Professor of Music Theory","Associate Professor of Music","Associate Professor of Music","Professor of Music","Professor of Music","Professor of Music (Spring Sabbatical)","Professor of Music","Professor of Music / Associate Dean School Music / \nArchie Greenberg Professorship","Professor of Music / Associate Dean School Music / \nArchie Greenberg Professorship","Professor of Music / Associate Dean School Music","Professor of Music","Professor of Music","Professor of Music","Professor of Music","Professor of Music","Professor of Music","Professor of Music","Professor of Music","Professor of Music","Professor of Music","Professor of Music","Professor of Music","Professor of Music","Professor of Music"]
[4571,"King","Carina","B.A., M.S., Ph.D.",null,null,null,null,null,null,null,null,null,null,null,null,null,null,null,null,null,null,null,null,null,null,null,null,null,null,null,null,null,null,null,null,null,null,null,null,null,null,null,null,null,null,null,null,null,null,null,null,null,null,null,null,null,null,null,null,null,null,null,null,null,null,null,null,null,null,null,null,null,null,null,null,null,null,null,null,null,null,null,null,null,null,null,null,null,null,null,null,null,null,null,null,null,null,null,null,null,null,null,null,null,null,null,null,null,null,null,null,null,"Lecturer in Sport Management","Lecturer in Sport Management","Lecturer in Sport Management","Lecturer in Sport Management"]
[4462,"King","Carolyn","B.S., M.A.",null,null,null,null,null,null,null,null,null,null,null,null,null,null,null,null,null,null,null,null,null,null,null,null,null,null,null,null,null,null,null,null,null,null,null,null,null,null,null,null,null,null,null,null,null,null,null,null,null,null,null,null,null,null,null,null,null,null,null,null,null,null,null,null,null,null,null,null,null,null,null,null,null,null,null,null,null,null,null,null,null,null,null,null,null,null,null,null,null,null,null,null,null,null,null,null,null,null,null,null,null,null,null,null,null,"Lecturer in Integrative Health Sciences & Sports \nManagement / Program Director for Athletic Training"]
[3041,"King","Maude Emma","A.M.",null,null,null,null,null,null,null,null,null,null,null,null,null,null,null,null,null,null,null,null,null,null,null,null,null,null,null,null,null,null,null,null,null,null,null,null,null,null,null,null,null,null,null,null,null,null,null,null,"Dean of Women / Assistant Professor of English","Assistant Professor of English","Assistant Professor of English","Assistant Professor of English","Assistant Professor of English","Assistant Professor of English"]
[4657,"Kipp","R. Earl","A.B., M.A.",null,null,null,null,null,null,null,null,null,null,null,null,null,null,null,null,null,null,null,null,null,null,null,null,null,null,null,null,null,null,null,null,null,null,null,null,null,null,null,null,null,null,null,null,null,null,null,null,null,null,null,null,null,null,null,null,null,null,null,null,null,null,null,"Visiting Lecturer in Education"]
[457,"Kitchen","Zilla",null,null,null,null,null,null,null,null,null,null,null,null,null,null,null,null,null,null,null,null,null,null,null,null,null,null,null,null,null,null,null,null,null,null,"Assistant in Library",null,null,"In Charge of University Book Store"]
[null,"Klein","Diane","A.B., J.D.",null,null,null,null,null,null,null,null,null,null,null,null,null,null,null,null,null,null,null,null,null,null,null,null,null,null,null,null,null,null,null,null,null,null,null,null,null,null,null,null,null,null,null,null,null,null,null,null,null,null,null,null,null,null,null,null,null,null,null,null,null,null,null,null,null,null,null,null,null,null,null,null,null,null,null,null,null,null,null,null,null,null,null,null,null,null,null,null,null,null,null,null,null,null,null,null,null,null,null,null,null,null,null,null,null,null,null,null,null,null,null,null,null,null,"Visiting Professor of Law"]
[4681,"Klimas","Tadas","B.A., J.D.",null,null,null,null,null,null,null,null,null,null,null,null,null,null,null,null,null,null,null,null,null,null,null,null,null,null,null,null,null,null,null,null,null,null,null,null,null,null,null,null,null,null,null,null,null,null,null,null,null,null,null,null,null,null,null,null,null,null,null,null,null,null,null,null,null,null,null,null,null,null,null,null,null,null,null,null,null,null,null,null,null,null,null,null,null,null,null,null,null,null,null,null,null,null,null,null,null,null,null,null,null,null,null,null,null,null,null,null,null,null,null,null,null,"Visiting Associate Professor of Law"]
[null,"Knotts","Clara J.",null,null,null,null,null,null,null,null,null,null,null,null,null,null,null,null,null,null,null,null,null,null,null,null,null,null,null,null,null,null,null,null,null,null,null,null,null,null,null,null,null,null,null,null,null,null,null,null,null,null,null,null,null,null,null,null,null,null,null,null,null,null,null,null,null,null,null,null,null,null,null,null,null,null,null,null,null,null,null,null,null,null,null,null,null,null,null,null,null,null,null,null,null,null,null,null,null,null,null,null,null,null,null,null,null,null,null,null,null,null,null,null,null,null,null,null,null,null,"Visiting Assistant Professor of Music"]
[2682,"Knox","Rosa Belle","A.B.",null,null,null,null,null,null,null,null,null,null,null,null,null,null,null,null,null,null,null,null,null,null,"Instructor in Model School"]
[4572,"Koberstein","Kathy Jo","B.A., M.A., Ph.D.",null,null,null,null,null,null,null,null,null,null,null,null,null,null,null,null,null,null,null,null,null,null,null,null,null,null,null,null,null,null,null,null,null,null,null,null,null,null,null,null,null,null,null,null,null,null,null,null,null,null,null,null,null,null,null,null,null,null,null,null,null,null,null,null,null,null,null,null,null,null,null,null,null,null,null,null,null,null,null,null,null,null,null,null,null,null,null,null,null,null,null,null,null,null,null,null,null,null,null,null,null,null,null,null,null,null,null,null,null,"Lecturer / Supervisor Modern Language Multimedia Center","Lecturer / Supervisor Modern Language Multimedia Center","Lecturer / Supervisor of Modern Language Multimedia Center","Lecturer / Supervisor of Modern Language Multimedia Center","Lecturer / Supervisor Modern Language Multimedia Center"]
[3985,"Kramer","Jerome F.","B.E.E., J.D.",null,null,null,null,null,null,null,null,null,null,null,null,null,null,null,null,null,null,null,null,null,null,null,null,null,null,null,null,null,null,null,null,null,null,null,null,null,null,null,null,null,null,null,null,null,null,null,null,null,null,null,null,null,null,null,null,null,null,null,null,null,null,null,null,null,null,null,null,null,null,null,null,null,null,null,null,null,null,null,null,null,null,null,null,null,null,null,null,null,null,"Visiting Assistant Professor of Law","Visiting Assistant Professor of Law","Visiting Assistant Professor of Law","Visiting Associate Professor of Law"]
[2797,"Kruse","Gretchen",null,null,null,null,null,null,null,null,null,null,null,null,null,null,null,null,null,null,null,null,null,null,null,null,null,null,null,null,null,null,null,null,"Secretary","Secretary / University Recorder"]
[4463,"Kurlander","Eric","B.A., M.A., Ph.D.",null,null,null,null,null,null,null,null,null,null,null,null,null,null,null,null,null,null,null,null,null,null,null,null,null,null,null,null,null,null,null,null,null,null,null,null,null,null,null,null,null,null,null,null,null,null,null,null,null,null,null,null,null,null,null,null,null,null,null,null,null,null,null,null,null,null,null,null,null,null,null,null,null,null,null,null,null,null,null,null,null,null,null,null,null,null,null,null,null,null,null,null,null,null,null,null,null,null,null,null,null,null,null,null,null,"Assistant Professor of History","Assistant Professor of History","Assistant Professor of History","Assistant Professor of History","Assistant Professor of History","Assistant Professor of History","Associate Professor of History","Associate Professor of History","Associate Professor of History","Associate Professor of History / Chair","Associate Professor of History / Chair","Professor of History / Chair","Professor of History and Chair"]
[3829,"Kyser","Marion L.","B.S., M.Ed., Ph.D.",null,null,null,null,null,null,null,null,null,null,null,null,null,null,null,null,null,null,null,null,null,null,null,null,null,null,null,null,null,null,null,null,null,null,null,null,null,null,null,null,null,null,null,null,null,null,null,null,null,null,null,null,null,null,null,null,null,null,null,null,null,null,null,null,null,null,null,null,null,null,null,null,null,null,null,null,null,null,null,null,null,null,null,null,"Visiting Assistant Professor of Education"]
[700,"LaFuze","George Leighton","Ph.D.",null,null,null,null,null,null,null,null,null,null,null,null,null,null,null,null,null,null,null,null,null,null,null,null,null,null,null,null,null,null,null,null,null,null,null,null,null,null,null,null,null,null,null,null,null,null,null,null,null,null,"Professor of History & Political Science","Professor of History & Political Science","Professor of History & Political Science","Professor of History & Political Science","Professor of History & Political Science \n(Leave of Absence)","Professor of History & Political Science \n(Leave of Absence)","Professor of History & Political Science \n(Leave of Absence)"]
[2507,"Landis","Cary D.","LL.B.",null,null,null,null,null,null,null,null,null,null,null,null,null,null,"Assistant Professor of Law","Professor of Law","Professor of Law","Professor of Law",null,null,"Professor of Florida Pleading & Practice",null,null,null,null,null,null,null,null,null,null,null,null,null,null,null,null,null,null,null,null,null,null,"Lecturer on Municipal Corporation Practice"]
[4180,"Landis-Long","Lynn L.","B.A., M.A., Ph.D.",null,null,null,null,null,null,null,null,null,null,null,null,null,null,null,null,null,null,null,null,null,null,null,null,null,null,null,null,null,null,null,null,null,null,null,null,null,null,null,null,null,null,null,null,null,null,null,null,null,null,null,null,null,null,null,null,null,null,null,null,null,null,null,null,null,null,null,null,null,null,null,null,null,null,null,null,null,null,null,null,null,null,null,null,null,null,null,null,null,null,null,null,null,null,null,null,null,null,"Assistant Professor of Counselor Education","Assistant Professor of Counselor Education","Assistant Professor of Counselor Education","Assistant Professor of Counselor Education","Assistant Professor of Counselor Education","Associate Professor of Counselor Education \n(Spring Sabbatical)","Associate Professor / Chair of Counselor Education","Associate Professor / Chair of Counselor Education"]
[3541,"Langston","Paul T.","B.A., M.S.M.,S.M.D.",null,null,null,null,null,null,null,null,null,null,null,null,null,null,null,null,null,null,null,null,null,null,null,null,null,null,null,null,null,null,null,null,null,null,null,null,null,null,null,null,null,null,null,null,null,null,null,null,null,null,null,null,null,null,null,null,null,null,null,null,null,null,null,null,null,null,null,null,null,null,null,null,"Assistant Professor of Church Music","Assistant Professor of Church Music","Dean of School of Music","Professor of Church Music","Professor of Church Music","Dean of the School of Music","Professor of Church Music","Professor of Church Music","Professor of Church Music","Professor of Church Music / Dean of the School of Music","Professor of Church Music / Dean of the School of Music","Professor of Church Music / Dean of the School of Music","Professor of Church Music / Dean of the School of Music","Professor of Church Music / Dean of the School of Music","Professor of Church Music / Dean of the School of Music","Professor of Church Music / Dean of the School of Music","Professor of Church Music / Dean of the School of Music","Professor of Church Music / Dean of the School of Music","Professor of Church Music / Dean of the School of Music","Professor of Church Music / Dean of the School of Music","Professor of Church Music (Fall Sabbatical)","Professor of Church Music","Professor of Church Music / Kenan Chair","Professor of Church Music / Kenan Chair","Professor of Church Music / Kenan Chair","Professor of Church Music / Kenan Chair","Professor of Church Music / Kenan Chair","Professor of Church Music, Emeritus","Professor of Church Music, Emeritus","Professor of Church Music, Emeritus","Professor of Church Music, Emeritus","Professor of Church Music, Emeritus","Professor of Church Music, Emeritus","Professor / Dean of Music, Emeritus","Professor / Dean of Music, Emeritus","Professor / Dean of Music, Emeritus","Professor / Dean of Music, Emeritus","Professor / Dean of Music, Emeritus","Professor / Dean of Music, Emeritus","Professor / Dean of Music, Emeritus","Professor / Dean of Music, Emeritus","Professor / Dean of Music, Emeritus","Professor / Dean of Music, Emeritus","Professor / Dean of Music, Emeritus"]
[3685,"Larcher","Dietmar","Ph.D.",null,null,null,null,null,null,null,null,null,null,null,null,null,null,null,null,null,null,null,null,null,null,null,null,null,null,null,null,null,null,null,null,null,null,null,null,null,null,null,null,null,null,null,null,null,null,null,null,null,null,null,null,null,null,null,null,null,null,null,null,null,null,null,null,null,null,null,null,null,null,null,null,null,null,null,null,null,null,null,"Instructor in Foreign Languages"]
[null,"Larson","Derek","M.F.A, B.F.A",null,null,null,null,null,null,null,null,null,null,null,null,null,null,null,null,null,null,null,null,null,null,null,null,null,null,null,null,null,null,null,null,null,null,null,null,null,null,null,null,null,null,null,null,null,null,null,null,null,null,null,null,null,null,null,null,null,null,null,null,null,null,null,null,null,null,null,null,null,null,null,null,null,null,null,null,null,null,null,null,null,null,null,null,null,null,null,null,null,null,null,null,null,null,null,null,null,null,null,null,null,null,null,null,null,null,null,null,null,null,null,null,null,null,"Visiting Assistant Professor of Digital Arts / Art","Visiting Assistant Professor of Digital Arts & Art","Visiting Assistant Professor of Digital Arts & Art"]
[3862,"Latimer","Jerome C.","B.A., J.D.",null,null,null,null,null,null,null,null,null,null,null,null,null,null,null,null,null,null,null,null,null,null,null,null,null,null,null,null,null,null,null,null,null,null,null,null,null,null,null,null,null,null,null,null,null,null,null,null,null,null,null,null,null,null,null,null,null,null,null,null,null,null,null,null,null,null,null,null,null,null,null,null,null,null,null,null,null,null,null,null,null,null,null,null,"Associate Professor of Law","Associate Professor of Law","Associate Professor of Law","Professor of Law","Professor of Law","Professor of Law","Professor of Law","Professor of Law","Professor of Law","Professor of Law","Professor of Law","Professor of Law","Professor of Law","Professor of Law","Professor of Law","Professor of Law","Professor of Law","Professor of Law","Professor of Law","Professor of Law","Professor of Law","Professor of Law","Professor of Law","Professor of Law","Professor of Law","Professor of Law","Professor of Law","Professor of Law","Professor of Law","Professor of Law","Professor of Law, Emeritus","Professor of Law, Emeritus","Professor of Law, Emeritus","Professor of Law, Emeritus"]
[2578,"Law","F. Susie",null,null,null,null,null,null,null,null,null,null,null,null,null,null,null,null,null,"Assistant in Greek & in the Practice School"]
[444,"Lawson","Gertrude","A.B.",null,null,null,null,null,null,null,null,null,null,null,null,null,null,null,null,null,null,null,null,null,null,null,null,null,null,null,null,null,null,null,null,null,"Instructor in Fine Arts"]
[4119,"Leahy","Robert M.","B.S., M.Ed., Ph.D.",null,null,null,null,null,null,null,null,null,null,null,null,null,null,null,null,null,null,null,null,null,null,null,null,null,null,null,null,null,null,null,null,null,null,null,null,null,null,null,null,null,null,null,null,null,null,null,null,null,null,null,null,null,null,null,null,null,null,null,null,null,null,null,null,null,null,null,null,null,null,null,null,null,null,null,null,null,null,null,null,null,null,null,null,null,null,null,null,null,null,null,null,null,null,null,null,"Assistant Professor of Education","Assistant Professor of Education","Assistant Professor of Education","Assistant Professor of Education","Assistant Professor of Teacher Education","Assistant Professor of Teacher Education / Chair","Assistant Professor of Teacher Education / Chair","Associate Professor of Teacher Education","Associate Professor of Teacher Education","Associate Professor of Teacher Education","Associate Professor of Teacher Education","Associate Professor of Teacher Education","Associate Professor of Teacher Education","Associate Professor of Teacher Education","Associate Professor of Teacher Education","Associate Professor of Teacher Education","Associate Professor of Teacher Education","Associate Professor of Teacher Education","Associate Professor of Teacher Education","Visiting Assistant Professor of Digital Arts & Art"]
[3312,"Leavitt","Edith Merrill","A.B., M.A.",null,null,null,null,null,null,null,null,null,null,null,null,null,null,null,null,null,null,null,null,null,null,null,null,null,null,null,null,null,null,null,null,null,null,null,null,null,null,null,null,null,null,null,null,null,null,null,null,null,null,null,null,null,null,null,null,null,null,null,null,"Associate Professor of English",null,"Associate Professor of English"]
[null,"Leavitt","Mark","M.A.",null,null,null,null,null,null,null,null,null,null,null,null,null,null,null,null,null,null,null,null,null,null,null,null,null,null,null,null,null,null,null,null,null,null,null,null,null,null,null,null,null,null,null,null,null,null,null,null,null,null,null,null,null,null,null,null,null,null,null,null,null,null,null,null,null,null,null,null,null,null,null,null,null,null,null,null,null,null,null,null,null,null,null,null,null,null,null,null,null,null,null,null,null,null,null,null,null,null,null,null,null,null,null,null,null,null,null,null,null,null,null,null,null,null,"Assistant Head Baseball Coach","Assistant Head Baseball Coach"]
[3871,"Lee","Bong Ho","LL.B., LL.M., Diploma in Law from University \nof Tokyo, Ph.D., D.Phil.",null,null,null,null,null,null,null,null,null,null,null,null,null,null,null,null,null,null,null,null,null,null,null,null,null,null,null,null,null,null,null,null,null,null,null,null,null,null,null,null,null,null,null,null,null,null,null,null,null,null,null,null,null,null,null,null,null,null,null,null,null,null,null,null,null,null,null,null,null,null,null,null,null,null,null,null,null,null,null,null,null,null,null,null,"Visiting Professor of Law"]
[3887,"Lefter","J. Baird","B.B.A., M.B.A., J.D., L.L.M.",null,null,null,null,null,null,null,null,null,null,null,null,null,null,null,null,null,null,null,null,null,null,null,null,null,null,null,null,null,null,null,null,null,null,null,null,null,null,null,null,null,null,null,null,null,null,null,null,null,null,null,null,null,null,null,null,null,null,null,null,null,null,null,null,null,null,null,null,null,null,null,null,null,null,null,null,null,null,null,null,null,null,null,null,null,"Assistant Professor of Law"]
[4635,"Lemmon","William J.","LL.B., LL.M."]
[4411,"Lenholt","Robert","B.A., M.A.",null,null,null,null,null,null,null,null,null,null,null,null,null,null,null,null,null,null,null,null,null,null,null,null,null,null,null,null,null,null,null,null,null,null,null,null,null,null,null,null,null,null,null,null,null,null,null,null,null,null,null,null,null,null,null,null,null,null,null,null,null,null,null,null,null,null,null,null,null,null,null,null,null,null,null,null,null,null,null,null,null,null,null,null,null,null,null,null,null,null,null,null,null,null,null,null,null,null,null,null,null,null,null,null,"Assistant Professor / Reference Librarian","Assistant Professor / Electronic Services & \nDocument Delivery - Reference Librarian","Assistant Professor / Electronic Services & \nDocument Delivery - Reference Librarian","Assistant Professor / Electronic Services & \nDocument Delivery - Reference Librarian","Assistant Professor / Electronic Services & \nDocument Delivery - Reference Librarian","Assistant Professor / Electronic Services \n& Reference Librarian","Assistant Professor / Electronic Services & \nReference Librarian","Associate Professor / Electronic Services & \nReference Librarian","Associate Professor / Electronic Services & \nReference Librarian"]
[3133,"Leonard","Marion B.","B. B. A.",null,null,null,null,null,null,null,null,null,null,null,null,null,null,null,null,null,null,null,null,null,null,null,null,null,null,null,null,null,null,null,null,null,null,null,null,null,null,null,null,null,null,null,null,null,null,null,null,null,null,null,null,null,"Instructor in Secretarial Science","Instructor in Secretarial Science (Resigned)"]
[3844,"Levaas","Larry N.","Captain USA, B.A., M.B.A.",null,null,null,null,null,null,null,null,null,null,null,null,null,null,null,null,null,null,null,null,null,null,null,null,null,null,null,null,null,null,null,null,null,null,null,null,null,null,null,null,null,null,null,null,null,null,null,null,null,null,null,null,null,null,null,null,null,null,null,null,null,null,null,null,null,null,null,null,null,null,null,null,null,null,null,null,null,null,null,null,null,null,null,null,"Assistant Professor of Military Science"]
[3542,"Lewis","Mary G.","B.A., M.A., B.S.",null,null,null,null,null,null,null,null,null,null,null,null,null,null,null,null,null,null,null,null,null,null,null,null,null,null,null,null,null,null,null,null,null,null,null,null,null,null,null,null,null,null,null,null,null,null,null,null,null,null,null,null,null,null,null,null,null,null,null,null,null,null,null,null,null,null,null,null,null,null,null,null,"Reference Librarian","Reference Librarian","Reference Librarian","Reference Librarian","Reference Librarian",null,"Assistant Professor / Reference Librarian","Assistant Professor / Reference Librarian","Assistant Professor / Reference Librarian","Assistant Professor / Reference Librarian","Assistant Professor / Reference Librarian"]
[2845,"Ley","Anna",null,null,null,null,null,null,null,null,null,null,null,null,null,null,null,null,null,null,null,null,null,null,null,null,null,null,null,null,null,null,null,null,null,null,"Assistant in Library",null,"Assistant in Library"]
[2980,"Lightfoot","Eloise",null,null,null,null,null,null,null,null,null,null,null,null,null,null,null,null,null,null,null,null,null,null,null,null,null,null,null,null,null,null,null,null,null,null,null,null,null,null,null,null,null,null,"Assistant in Library","Assistant in Library"]
[null,"Lindner","Danielle",null,null,null,null,null,null,null,null,null,null,null,null,null,null,null,null,null,null,null,null,null,null,null,null,null,null,null,null,null,null,null,null,null,null,null,null,null,null,null,null,null,null,null,null,null,null,null,null,null,null,null,null,null,null,null,null,null,null,null,null,null,null,null,null,null,null,null,null,null,null,null,null,null,null,null,null,null,null,null,null,null,null,null,null,null,null,null,null,null,null,null,null,null,null,null,null,null,null,null,null,null,null,null,null,null,null,null,null,null,null,null,null,null,null,null,null,null,null,"Assistant Professor of Psychology"]
[845,"Lippitt","Mary Dawson","B.S.",null,null,null,null,null,null,null,null,null,null,null,null,null,null,null,null,null,null,null,null,null,null,null,null,null,null,null,null,null,null,null,null,null,null,null,null,null,null,null,null,null,null,null,null,null,null,null,null,null,null,null,null,null,null,null,null,null,null,"Instructor in Health & Physical Education for Women","Instructor in Health & Physical Education for Women","Instructor in Physical Education"]
[3028,"Lipsey","Plautus Iberus","Jr., A.B.",null,null,null,null,null,null,null,null,null,null,null,null,null,null,null,null,null,null,null,null,null,null,null,null,null,null,null,null,null,null,null,null,null,null,null,null,null,null,null,null,null,null,null,null,null,null,null,"Director of Publicity / Professor of Journalism","Director of Publicity / Professor of Journalism","Director of Publicity / Professor of Journalism","Director of Publicity / Professor of Journalism","Director of Publicity / Professor of Journalism"]
[3724,"Loftin","Robert W","Ph.D.",null,null,null,null,null,null,null,null,null,null,null,null,null,null,null,null,null,null,null,null,null,null,null,null,null,null,null,null,null,null,null,null,null,null,null,null,null,null,null,null,null,null,null,null,null,null,null,null,null,null,null,null,null,null,null,null,null,null,null,null,null,null,null,null,null,null,null,null,null,null,null,null,null,null,null,null,null,null,null,null,"Assistant Professor of Philosophy","Assistant Professor of Philosophy","Assistant Professor of Philosophy"]
[4573,"Long","Lance N.","B.A., J.D.",null,null,null,null,null,null,null,null,null,null,null,null,null,null,null,null,null,null,null,null,null,null,null,null,null,null,null,null,null,null,null,null,null,null,null,null,null,null,null,null,null,null,null,null,null,null,null,null,null,null,null,null,null,null,null,null,null,null,null,null,null,null,null,null,null,null,null,null,null,null,null,null,null,null,null,null,null,null,null,null,null,null,null,null,null,null,null,null,null,null,null,null,null,null,null,null,null,null,null,null,null,null,null,null,null,null,null,null,null,"Visiting Instructor of Legal Research & Writing",null,null,null,"Assistant Professor of Legal Skills","Associate Professor of Legal Skills","Associate Professor of Legal Skills","Professor of Legal Skills","Professor of Legal Skills"]
[3385,"Longstreet","Rupert James","B.S., LL.B.,M.A., M.A.",null,null,null,null,null,null,null,null,null,null,null,null,null,null,null,null,null,null,null,null,null,null,null,null,null,null,null,null,null,null,null,null,null,null,null,null,null,null,null,null,null,null,null,null,null,null,null,null,null,null,null,null,null,null,null,null,null,null,null,null,null,null,"Professor of Education","Professor of Education","Professor of Education","Professor of Education","Professor of Education","Professor of Education","Professor of Education","Visiting Professor of Education","Visiting Professor of Education","Visiting Professor of Education","Visiting Professor of Education","Visiting Professor of Education","Visiting Professor of Education",null,null,"Professor of Education"]
[2464,"Longwell","Elizabeth J.",null,null,null,null,null,null,null,null,null,null,null,null,"Assistant in Practice School"]
[3686,"Lovelace","Marc Hoyle","B.A.,Th.M., Ph.D..",null,null,null,null,null,null,null,null,null,null,null,null,null,null,null,null,null,null,null,null,null,null,null,null,null,null,null,null,null,null,null,null,null,null,null,null,null,null,null,null,null,null,null,null,null,null,null,null,null,null,null,null,null,null,null,null,null,null,null,null,null,null,null,null,null,null,null,null,null,null,null,null,null,null,null,null,null,null,null,"Professor of History","Professor of History","Professor of History","Professor of History","Professor of History","Professor of History","Professor of History","Professor of History","Professor of History","Professor of History","Professor of History","Professor of History","Professor of History","Professor of History","Professor of History","Professor of History / Senior Active Status","Professor of History, Emeritus","Professor of History, Emeritus","Professor of History, Emeritus","Professor of History, Emeritus","Professor of History, Emeritus","Professor of History, Emeritus","Professor of History, Emeritus","Professor of History, Emeritus","Professor of History, Emeritus","Professor of History, Emeritus","Professor of History, Emeritus","Professor of History, Emeritus","Professor of History, Emeritus","Professor of History, Emeritus","Professor of History, Emeritus","Professor of History, Emeritus","Professor of History, Emeritus","Professor of History, Emeritus"]
[3386,"Lowe","Mildred","B.S., M.S.",null,null,null,null,null,null,null,null,null,null,null,null,null,null,null,null,null,null,null,null,null,null,null,null,null,null,null,null,null,null,null,null,null,null,null,null,null,null,null,null,null,null,null,null,null,null,null,null,null,null,null,null,null,null,null,null,null,null,null,null,null,null,null,null,null,null,"Instructor in Physical Education","Instructor of Physical Education"]
[4685,"Lucas","Tory L","B.A., LL.M.",null,null,null,null,null,null,null,null,null,null,null,null,null,null,null,null,null,null,null,null,null,null,null,null,null,null,null,null,null,null,null,null,null,null,null,null,null,null,null,null,null,null,null,null,null,null,null,null,null,null,null,null,null,null,null,null,null,null,null,null,null,null,null,null,null,null,null,null,null,null,null,null,null,null,null,null,null,null,null,null,null,null,null,null,null,null,null,null,null,null,null,null,null,null,null,null,null,null,null,null,null,null,null,null,null,null,null,null,null,null,null,null,null,"Visiting Assistant Professor of Law"]
[3154,"Luck","Meredith S","BA, MFA",null,null,null,null,null,null,null,null,null,null,null,null,null,null,null,null,null,null,null,null,null,null,null,null,null,null,null,null,null,null,null,null,null,null,null,null,null,null,null,null,null,null,null,null,null,null,null,null,null,null,null,null,null,null,null,"Professor of Education",null,"Professor of Education",null,null,null,null,null,null,null,null,null,null,null,null,null,null,null,null,null,null,null,null,null,null,null,null,null,"Instructor in Arts","Instructor in Art"]
[3822,"Luther","M. Judy","B.A., M.S.L.S.",null,null,null,null,null,null,null,null,null,null,null,null,null,null,null,null,null,null,null,null,null,null,null,null,null,null,null,null,null,null,null,null,null,null,null,null,null,null,null,null,null,null,null,null,null,null,null,null,null,null,null,null,null,null,null,null,null,null,null,null,null,null,null,null,null,null,null,null,null,null,null,null,null,null,null,null,null,null,null,null,null,null,null,"Instructor / Documents Librarian"]
[525,"Mabry","Thomas Ovid","Ph.B., A.M., M.S.",null,null,null,null,null,null,null,null,null,null,null,null,null,null,null,null,null,null,null,null,null,null,null,null,null,null,null,null,null,null,null,null,null,null,null,null,null,"Professor of Biology & Geology","Professor of Biology & Geology","Professor of Biology & Geology","Professor of Biology & Geology","Professor of Biology & Geology","Professor of Biology & Geology"]
[146,"MacDougall","Robert J.",null,null,null,null,null,null,null,null,null,null,null,null,null,null,null,null,"Director of Business College","Director of Business College","Director of Business College","Director of Business College"]
[2425,"MacInness","J.C.","A.B.",null,null,null,null,null,null,null,"Professor of English Language & Literature"]
[71,"MacQuiston","Harvey Malcolm",null,null,null,null,null,null,null,null,null,null,null,null,"Assistant in German & English","Assistant in German & English"]
[4412,"Maddox","Nicholas E., III","B.A., M.A., Ph.D",null,null,null,null,null,null,null,null,null,null,null,null,null,null,null,null,null,null,null,null,null,null,null,null,null,null,null,null,null,null,null,null,null,null,null,null,null,null,null,null,null,null,null,null,null,null,null,null,null,null,null,null,null,null,null,null,null,null,null,null,null,null,null,null,null,null,null,null,null,null,null,null,null,null,null,null,null,null,null,null,null,null,null,null,null,null,null,null,null,null,null,null,null,null,null,null,null,null,null,null,null,null,null,null,"Professor of Management","Professor of Management","Professor of Management","Professor of Management","Professor of Management","Professor of Management","Professor of Management","Professor of Management","Professor of Management","Professor of Management","Professor of Management","Professor of Management","Professor of Management"]
[3175,"Malcolm","Jean Bush","B.S.",null,null,null,null,null,null,null,null,null,null,null,null,null,null,null,null,null,null,null,null,null,null,null,null,null,null,null,null,null,null,null,null,null,null,null,null,null,null,null,null,null,null,null,null,null,null,null,null,null,null,null,null,null,null,null,null,null,"Dietitian"]
[409,"Mallery","William T.","2nd Lieutenant",null,null,null,null,null,null,null,null,null,null,null,null,null,null,null,null,null,null,null,null,null,null,null,null,null,null,null,null,null,null,null,"Military Science & Tactics & Student Army Training Corps"]
[null,"Mann","Mallory","B.A, M.S",null,null,null,null,null,null,null,null,null,null,null,null,null,null,null,null,null,null,null,null,null,null,null,null,null,null,null,null,null,null,null,null,null,null,null,null,null,null,null,null,null,null,null,null,null,null,null,null,null,null,null,null,null,null,null,null,null,null,null,null,null,null,null,null,null,null,null,null,null,null,null,null,null,null,null,null,null,null,null,null,null,null,null,null,null,null,null,null,null,null,null,null,null,null,null,null,null,null,null,null,null,null,null,null,null,null,null,null,null,null,null,null,null,null,"Assistant Women’s Basketball Coach"]
[4499,"March","David","A.A., B.S., M.S., Ph.D.",null,null,null,null,null,null,null,null,null,null,null,null,null,null,null,null,null,null,null,null,null,null,null,null,null,null,null,null,null,null,null,null,null,null,null,null,null,null,null,null,null,null,null,null,null,null,null,null,null,null,null,null,null,null,null,null,null,null,null,null,null,null,null,null,null,null,null,null,null,null,null,null,null,null,null,null,null,null,null,null,null,null,null,null,null,null,null,null,null,null,null,null,null,null,null,null,null,null,null,null,null,null,null,null,null,null,"Lecturer / Co-Coordinator of Counselor Education \nat Celebration","Lecturer in Counselor Education","Lecturer in Counselor Education","Assistant Professor of Counselor Education","Assistant Professor of Counselor Education","Assistant Professor of Counselor Education","Assistant Professor of Counselor Education","Assistant Professor of Counselor Education"]
[501,"Markey","Mary",null,null,null,null,null,null,null,null,null,null,null,null,null,null,null,null,null,null,null,null,null,null,null,null,null,null,null,null,null,null,null,null,null,null,null,null,"Secretary / University Recorder","Secretary / University Recorder","Secretary / University Recorder"]
[4507,"Markham","Lawrence \"Mitch\"","B.A.",null,null,null,null,null,null,null,null,null,null,null,null,null,null,null,null,null,null,null,null,null,null,null,null,null,null,null,null,null,null,null,null,null,null,null,null,null,null,null,null,null,null,null,null,null,null,null,null,null,null,null,null,null,null,null,null,null,null,null,null,null,null,null,null,null,null,null,null,null,null,null,null,null,null,null,null,null,null,null,null,null,null,null,null,null,null,null,null,null,null,null,null,null,null,null,null,null,null,null,null,null,null,null,null,null,null,"Assistant Baseball Coach","Assistant Baseball Coach","Assistant Baseball Coach","Assistant Baseball Coach","Assistant Baseball Coach","Associate Head Baseball Coach","Associate Head Baseball Coach","Associate Head Baseball Coach"]
[null,"Martin","Catherine","B.S., M.B.A.",null,null,null,null,null,null,null,null,null,null,null,null,null,null,null,null,null,null,null,null,null,null,null,null,null,null,null,null,null,null,null,null,null,null,null,null,null,null,null,null,null,null,null,null,null,null,null,null,null,null,null,null,null,null,null,null,null,null,null,null,null,null,null,null,null,null,null,null,null,null,null,null,null,null,null,null,null,null,null,null,null,null,null,null,null,null,null,null,null,null,null,null,null,null,null,null,null,null,null,null,null,null,null,null,null,null,null,null,null,null,null,null,null,null,null,"Director of Career Development","Director of Career Development, Law College"]
[null,"Martin","Jason","B.A., M.A., D.Ed.",null,null,null,null,null,null,null,null,null,null,null,null,null,null,null,null,null,null,null,null,null,null,null,null,null,null,null,null,null,null,null,null,null,null,null,null,null,null,null,null,null,null,null,null,null,null,null,null,null,null,null,null,null,null,null,null,null,null,null,null,null,null,null,null,null,null,null,null,null,null,null,null,null,null,null,null,null,null,null,null,null,null,null,null,null,null,null,null,null,null,null,null,null,null,null,null,null,null,null,null,null,null,null,null,null,null,null,null,null,null,null,null,null,null,null,null,"Assistant Professor of Library / Head of Public Services","Assistant Professor of Library / Head of Public Services"]
[229,"Martin","Nellie",null,null,null,null,null,null,null,null,null,null,null,null,null,null,null,null,null,null,null,"Assistant in Library","Assistant in Library"]
[3727,"Martin","Rose L","B.M., M.M.",null,null,null,null,null,null,null,null,null,null,null,null,null,null,null,null,null,null,null,null,null,null,null,null,null,null,null,null,null,null,null,null,null,null,null,null,null,null,null,null,null,null,null,null,null,null,null,null,null,null,null,null,null,null,null,null,null,null,null,null,null,null,null,null,null,null,null,null,null,null,null,null,null,null,null,null,null,null,null,null,"Visiting Violinist","Visiting Violinist","Visiting Violinist","Visiting Violinist"]
[4053,"Marzick","Michael","B.A., M.A.",null,null,null,null,null,null,null,null,null,null,null,null,null,null,null,null,null,null,null,null,null,null,null,null,null,null,null,null,null,null,null,null,null,null,null,null,null,null,null,null,null,null,null,null,null,null,null,null,null,null,null,null,null,null,null,null,null,null,null,null,null,null,null,null,null,null,null,null,null,null,null,null,null,null,null,null,null,null,null,null,null,null,null,null,null,null,null,null,null,null,null,null,null,"Instructor in Political Science","Instructor in Political Science","Instructor in Political Science"]
[null,"Materazzi","Chistian","M.A.",null,null,null,null,null,null,null,null,null,null,null,null,null,null,null,null,null,null,null,null,null,null,null,null,null,null,null,null,null,null,null,null,null,null,null,null,null,null,null,null,null,null,null,null,null,null,null,null,null,null,null,null,null,null,null,null,null,null,null,null,null,null,null,null,null,null,null,null,null,null,null,null,null,null,null,null,null,null,null,null,null,null,null,null,null,null,null,null,null,null,null,null,null,null,null,null,null,null,null,null,null,null,null,null,null,null,null,null,null,null,null,null,null,null,null,"Assistant Men’s Soccer Coach"]
[null,"Maxeiner","James R.","B.A., J.D., LL.M., Dr. Jur.",null,null,null,null,null,null,null,null,null,null,null,null,null,null,null,null,null,null,null,null,null,null,null,null,null,null,null,null,null,null,null,null,null,null,null,null,null,null,null,null,null,null,null,null,null,null,null,null,null,null,null,null,null,null,null,null,null,null,null,null,null,null,null,null,null,null,null,null,null,null,null,null,null,null,null,null,null,null,null,null,null,null,null,null,null,null,null,null,null,null,null,null,null,null,null,null,null,null,null,null,null,null,null,null,null,null,null,null,null,null,null,null,null,null,"Visiting Associate Professor of Law"]
[null,"Maxwell","Deborah","B.S., M.S., Ph.D.",null,null,null,null,null,null,null,null,null,null,null,null,null,null,null,null,null,null,null,null,null,null,null,null,null,null,null,null,null,null,null,null,null,null,null,null,null,null,null,null,null,null,null,null,null,null,null,null,null,null,null,null,null,null,null,null,null,null,null,null,null,null,null,null,null,null,null,null,null,null,null,null,null,null,null,null,null,null,null,null,null,null,null,null,null,null,null,null,null,null,null,null,null,null,null,null,null,null,null,null,null,null,null,null,null,null,null,null,null,null,null,null,null,null,null,null,"Visiting Assistant Professor of Chemistry","Visiting Assistant Professor of Chemistry"]
[4098,"May","Peter G.","B.S., M.S., Ph.D.",null,null,null,null,null,null,null,null,null,null,null,null,null,null,null,null,null,null,null,null,null,null,null,null,null,null,null,null,null,null,null,null,null,null,null,null,null,null,null,null,null,null,null,null,null,null,null,null,null,null,null,null,null,null,null,null,null,null,null,null,null,null,null,null,null,null,null,null,null,null,null,null,null,null,null,null,null,null,null,null,null,null,null,null,null,null,null,null,null,null,null,null,null,null,null,"Visiting Assistant Professor of Biology","Assistant Professor of Biology","Assistant Professor of Biology","Assistant Professor of Biology","Assistant Professor of Biology","Associate Professor of Biology (Spring Sabbatical)","Associate Professor of Biology","Associate Professor of Biology","Associate Professor of Biology","Professor of Biology","Professor of Biology","Professor of Biology","Professor of Biology","Professor of Biology","Professor of Biology","Professor of Biology","Professor of Biology","Professor of Biology","Professor of Biology","Professor of Biology","Professor of Biology","Professor of Biology","Professor of Biology"]
[3687,"McCabe","John A","MA",null,null,null,null,null,null,null,null,null,null,null,null,null,null,null,null,null,null,null,null,null,null,null,null,null,null,null,null,null,null,null,null,null,null,null,null,null,null,null,null,null,null,null,null,null,null,null,null,null,null,null,null,null,null,null,null,null,null,null,null,null,null,null,null,null,null,null,null,null,null,null,null,null,null,null,null,null,null,null,"Assistant Professor of Mathematics","Assistant Professor of Mathematics","Assistant Professor of Mathematics","Assistant Professor of Mathematics"]
[null,"McCarthy","David","A.B., M.A., Ph.D",null,null,null,null,null,null,null,null,null,null,null,null,null,null,null,null,null,null,null,null,null,null,null,null,null,null,null,null,null,null,null,null,null,null,null,null,null,null,null,null,null,null,null,null,null,null,null,null,null,null,null,null,null,null,null,null,null,null,null,null,null,null,null,null,null,null,null,null,null,null,null,null,null,null,null,null,null,null,null,null,null,null,null,null,null,null,null,null,null,null,null,null,null,null,null,null,null,null,null,null,null,null,null,null,null,null,null,null,null,null,null,null,null,null,"Visiting Assistant Professor of History","Visiting Assistant Professor of History"]
[3456,"McClain","Joseph A.","A.B., LL.B., J.S.D., LL.D.",null,null,null,null,null,null,null,null,null,null,null,null,null,null,null,null,null,null,null,null,null,null,null,null,null,null,null,null,null,null,null,null,null,null,null,null,null,null,null,null,null,null,null,null,null,null,null,null,null,null,null,null,null,null,null,null,null,null,null,null,null,null,null,null,null,null,null,null,"Visiting Professor of Law","Visiting Professor of Law","Visiting Professor of Law","Visiting Professor of Law","Visiting Professor of Law","Visiting Professor of Law"]
[4483,"McClendon","Elizabeth","BHS",null,null,null,null,null,null,null,null,null,null,null,null,null,null,null,null,null,null,null,null,null,null,null,null,null,null,null,null,null,null,null,null,null,null,null,null,null,null,null,null,null,null,null,null,null,null,null,null,null,null,null,null,null,null,null,null,null,null,null,null,null,null,null,null,null,null,null,null,null,null,null,null,null,null,null,null,null,null,null,null,null,null,null,null,null,null,null,null,null,null,null,null,null,null,null,null,null,null,null,null,null,null,null,null,null,"Assistant Softball Coach"]
[4225,"McConnell","Sandra C.","B.A., M.F.A.",null,null,null,null,null,null,null,null,null,null,null,null,null,null,null,null,null,null,null,null,null,null,null,null,null,null,null,null,null,null,null,null,null,null,null,null,null,null,null,null,null,null,null,null,null,null,null,null,null,null,null,null,null,null,null,null,null,null,null,null,null,null,null,null,null,null,null,null,null,null,null,null,null,null,null,null,null,null,null,null,null,null,null,null,null,null,null,null,null,null,null,null,null,null,null,null,null,null,null,"Visiting Assistant Professor of Communication \nStudies & Theatre"]
[3726,"McCroskey","Lenora E","MA",null,null,null,null,null,null,null,null,null,null,null,null,null,null,null,null,null,null,null,null,null,null,null,null,null,null,null,null,null,null,null,null,null,null,null,null,null,null,null,null,null,null,null,null,null,null,null,null,null,null,null,null,null,null,null,null,null,null,null,null,null,null,null,null,null,null,null,null,null,null,null,null,null,null,null,null,null,null,null,null,"Instructor in School of Music"]
[null,"McCulloch","Oakland",null,null,null,null,null,null,null,null,null,null,null,null,null,null,null,null,null,null,null,null,null,null,null,null,null,null,null,null,null,null,null,null,null,null,null,null,null,null,null,null,null,null,null,null,null,null,null,null,null,null,null,null,null,null,null,null,null,null,null,null,null,null,null,null,null,null,null,null,null,null,null,null,null,null,null,null,null,null,null,null,null,null,null,null,null,null,null,null,null,null,null,null,null,null,null,null,null,null,null,null,null,null,null,null,null,null,null,null,null,null,null,null,null,null,null,"Senior Military Science Instructor","Senior Military Science Instructor","Senior Military Science Instructor","Senior Military Science Instructor"]
[871,"McEmber","Jane Wooten",null,null,null,null,null,null,null,null,null,null,null,null,null,null,null,null,null,null,null,null,null,null,null,null,null,null,null,null,null,null,null,null,null,null,null,null,null,null,null,null,null,null,null,null,null,null,null,null,null,null,null,null,null,null,null,null,null,null,null,"Assistant in the Registrar's Office"]
[4099,"McFarland","Michael W.","B.A., M.A., Ph.D.",null,null,null,null,null,null,null,null,null,null,null,null,null,null,null,null,null,null,null,null,null,null,null,null,null,null,null,null,null,null,null,null,null,null,null,null,null,null,null,null,null,null,null,null,null,null,null,null,null,null,null,null,null,null,null,null,null,null,null,null,null,null,null,null,null,null,null,null,null,null,null,null,null,null,null,null,null,null,null,null,null,null,null,null,null,null,null,null,null,null,null,null,null,null,null,"Assistant Professor of Speech Communications / \nDirector of Forensics","Assistant Professor of Speech Communications / \nDirector of Forensics","Assistant Professor of Speech Communications / \nDirector of Forensics","Assistant Professor of Speech Communications / \nDirector of Forensics","Assistant Professor of Speech Communications / \nDirector of Forensics","Assistant Professor of Speech Communications / \nDirector of Forensics (Sabbatical - Spring)","Associate Professor of Communication Studies & \nTheatre Arts / Chair","Associate Professor of Communication Studies & \nTheatre Arts / Chair","Associate Professor of Communication Studies & \nTheatre Arts / Chair","Associate Professor of Communication Studies & \nTheatre Arts / Chair","Associate Professor of Communication Studies & \nTheatre Arts","Associate Professor of Communication Studies & \nTheatre Arts","Associate Professor of Communication Studies","Associate Professor of Communication Studies","Associate Professor of Communication Studies","Associate Professor of Communication Studies","Associate Professor of Communication Studies","Associate Professor of Communication Studies","Associate Professor of Communication Studies","Associate Professor of Communication Studies","Associate Professor of Communication Studies / \nDirector of Communication Studies","Associate Professor / Chair of Communication Studies","Associate Professor / Chair of Communication Studies"]
[3479,"McInnis","Sam W.","M.A.",null,null,null,null,null,null,null,null,null,null,null,null,null,null,null,null,null,null,null,null,null,null,null,null,null,null,null,null,null,null,null,null,null,null,null,null,null,null,null,null,null,null,null,null,null,null,null,null,null,null,null,null,null,null,null,null,null,null,null,null,null,null,null,null,null,null,null,null,null,"Visiting Associate Professor of Mathematics","Visiting Associate Professor of Mathematics","Visiting Associate Professor of Mathematics"]
[3390,"McKinley","Hugh T.","A.B., B.D.",null,null,null,null,null,null,null,null,null,null,null,null,null,null,null,null,null,null,null,null,null,null,null,null,null,null,null,null,null,null,null,null,null,null,null,null,null,null,null,null,null,null,null,null,null,null,null,null,null,null,null,null,null,null,null,null,null,null,null,null,null,null,null,null,null,"Instructor in Religion","Instructor in Religion","Instructor of Religion"]
[2550,"McKinney","Louise",null,null,null,null,null,null,null,null,null,null,null,null,null,null,null,null,"Assistant in English","Assistant in Greek & English","Assistant in English"]
[3391,"McLean","Alice","A.B., M.A.",null,null,null,null,null,null,null,null,null,null,null,null,null,null,null,null,null,null,null,null,null,null,null,null,null,null,null,null,null,null,null,null,null,null,null,null,null,null,null,null,null,null,null,null,null,null,null,null,null,null,null,null,null,null,null,null,null,null,null,null,null,null,"Assistant Cataloguer","Assistant Cataloguer","Assistant Cataloguer","Order Librarian","Order Librarian","Order Librarian",null,null,null,null,null,null,null,null,null,"Order Librarian"]
[4647,"McMullen","Joseph Henderson","A.B., B.S.",null,null,null,null,null,null,null,null,null,null,null,null,null,null,null,null,null,null,null,null,null,null,null,null,null,null,null,null,null,null,null,null,null,null,null,null,null,null,null,null,null,null,null,null,null,null,null,null,null,null,null,null,null,null,null,null,null,null,null,null,null,null,"Assistant Professor of Physical Education","Assistant Professor of Physical Education"]
[80,"McNall","Freeman E.","A.B.",null,null,null,null,null,null,null,null,null,null,null,null,"Professor of Mathematics & Astronomy / In charge \nof Stetson Hall"]
[null,"Meadows","Gary A.","M.A.",null,null,null,null,null,null,null,null,null,null,null,null,null,null,null,null,null,null,null,null,null,null,null,null,null,null,null,null,null,null,null,null,null,null,null,null,null,null,null,null,null,null,null,null,null,null,null,null,null,null,null,null,null,null,null,null,null,null,null,null,null,null,null,null,null,null,null,null,null,null,null,null,null,null,null,null,null,"Director of Admissions"]
[452,"Meeks","Kathryn L.",null,null,null,null,null,null,null,null,null,null,null,null,null,null,null,null,null,null,null,null,null,null,null,null,null,null,null,null,null,null,null,null,null,null,"Housekeeper","Housekeeper","Housekeeper","Housekeeper"]
[3393,"Merriam","Harland C.","B.S., Ed.M., Ed.D.",null,null,null,null,null,null,null,null,null,null,null,null,null,null,null,null,null,null,null,null,null,null,null,null,null,null,null,null,null,null,null,null,null,null,null,null,null,null,null,null,null,null,null,null,null,null,null,null,null,null,null,null,null,null,null,null,null,null,null,null,null,null,null,null,"Assistant Professor of Education","Assistant Professor of Education","Assistant Professor of Education","Assistant Professor of Education","Assistant Professor of Education","Assistant Professor of Education","Associate Professor of Education","Associate Professor of Education","Associate Professor of Education","Associate Professor of Education","Professor of Education","Professor of Education","Professor of Education","Professor of Education / Director of Teacher Education","Professor of Education","Professor of Education"]
[3071,"Merrill","Edith May","A.M.",null,null,null,null,null,null,null,null,null,null,null,null,null,null,null,null,null,null,null,null,null,null,null,null,null,null,null,null,null,null,null,null,null,null,null,null,null,null,null,null,null,null,null,null,null,null,null,null,null,"Instructor in English","Instructor in English","Instructor in English","Instructor in English (Resigned)"]
[4544,"Mhilu","Greyson","B.A.",null,null,null,null,null,null,null,null,null,null,null,null,null,null,null,null,null,null,null,null,null,null,null,null,null,null,null,null,null,null,null,null,null,null,null,null,null,null,null,null,null,null,null,null,null,null,null,null,null,null,null,null,null,null,null,null,null,null,null,null,null,null,null,null,null,null,null,null,null,null,null,null,null,null,null,null,null,null,null,null,null,null,null,null,null,null,null,null,null,null,null,null,null,null,null,null,null,null,null,null,null,null,null,null,null,null,null,null,"Fulbright Foreign Language Teaching Assistant in Kiswahili"]
[2554,"Mickle","William Young","Ph.B, B.S., A.M.",null,null,null,null,null,null,null,null,null,null,null,null,null,null,null,null,null,null,"Instructor in Penmanship","Director of the Business College","Director of the Business College","Director of the Business College","Director of the Business College","Director of the Business College","Professor of Business Administration / Director of \nBusiness College","Professor of Business Administration","Professor of Business Administration","Professor of Business Administration","Professor of Business Administration","Professor of Business Administration","Professor of Business Administration","Professor of Business Administration","Professor of Business Administration","Professor of Business Administration","Professor of Business Administration","Professor of Business Administration","Professor of Business Administration","Professor of Business Administration","Professor of Business Administration",null,null,null,null,null,null,null,null,null,null,null,null,null,null,null,null,null,null,null,"Professor of Business Administration","Professor of Business Administration","Professor of Accounting",null,"Professor of Accounting","Professor of Accounting","Professor of Accounting, Emeritus","Professor of Accounting, Emeritus","Professor of Accounting, Emeritus","Professor of Accounting Emeritus","Professor of Accounting Emeritus","Professor of Accounting, Emeritus","Professor of Accounting, Emeritus","Professor of Accounting, Emeritus","Professor of Accounting, Emeritus","Professor of Accounting, Emeritus","Professor of Accounting, Emeritus","Professor of Accounting, Emeritus","Professor of Accounting, Emeritus","Professor of Accounting, Emeritus","Professor of Accounting, Emeritus","Professor of Accounting, Emeritus","Professor of Accounting, Emeritus"]
[344,"Milam","D. Franklin",null,null,null,null,null,null,null,null,null,null,null,null,null,null,null,null,null,null,null,null,null,null,null,null,null,null,null,"Assistant in the Business College"]
[319,"Milam","Robert R.",null,null,null,null,null,null,null,null,null,null,null,null,null,null,null,null,null,null,null,null,null,null,null,null,null,"Assistant in Mathematics","Assistant in the Business College"]
[2783,"Miller","Francis Moore","LL.B.",null,null,null,null,null,null,null,null,null,null,null,null,null,null,null,null,null,null,null,null,null,null,null,null,null,null,null,null,null,null,"Instructor in Law","Instructor in Law","Instructor in Law","Instructor in Law"]
[458,"Minger","William C.",null,null,null,null,null,null,null,null,null,null,null,null,null,null,null,null,null,null,null,null,null,null,null,null,null,null,null,null,null,null,null,null,null,null,"Assistant in Law Library"]
[4100,"Mischo","John B.","B.A., M.A., Ph.D.",null,null,null,null,null,null,null,null,null,null,null,null,null,null,null,null,null,null,null,null,null,null,null,null,null,null,null,null,null,null,null,null,null,null,null,null,null,null,null,null,null,null,null,null,null,null,null,null,null,null,null,null,null,null,null,null,null,null,null,null,null,null,null,null,null,null,null,null,null,null,null,null,null,null,null,null,null,null,null,null,null,null,null,null,null,null,null,null,null,null,null,null,null,null,null,"Instructor in English","Instructor in English","Instructor in English"]
[3515,"Mitchell","Ann Elizabeth","M.A.",null,null,null,null,null,null,null,null,null,null,null,null,null,null,null,null,null,null,null,null,null,null,null,null,null,null,null,null,null,null,null,null,null,null,null,null,null,null,null,null,null,null,null,null,null,null,null,null,null,null,null,null,null,null,null,null,null,null,null,null,null,null,null,null,null,null,null,null,null,null,"Reference Librarian","Reference Librarian"]
[4545,"Mokaddem","Faten","B.S., M.A.",null,null,null,null,null,null,null,null,null,null,null,null,null,null,null,null,null,null,null,null,null,null,null,null,null,null,null,null,null,null,null,null,null,null,null,null,null,null,null,null,null,null,null,null,null,null,null,null,null,null,null,null,null,null,null,null,null,null,null,null,null,null,null,null,null,null,null,null,null,null,null,null,null,null,null,null,null,null,null,null,null,null,null,null,null,null,null,null,null,null,null,null,null,null,null,null,null,null,null,null,null,null,null,null,null,null,null,null,"Fulbright Foreign Language Teaching Assistant in Arabic"]
[4147,"Monroe","Frances C.","B.S., Ph.D.",null,null,null,null,null,null,null,null,null,null,null,null,null,null,null,null,null,null,null,null,null,null,null,null,null,null,null,null,null,null,null,null,null,null,null,null,null,null,null,null,null,null,null,null,null,null,null,null,null,null,null,null,null,null,null,null,null,null,null,null,null,null,null,null,null,null,null,null,null,null,null,null,null,null,null,null,null,null,null,null,null,null,null,null,null,null,null,null,null,null,null,null,null,null,null,null,null,"Instructor in Chemistry"]
[null,"Moore","Erin","B.A., M.A.",null,null,null,null,null,null,null,null,null,null,null,null,null,null,null,null,null,null,null,null,null,null,null,null,null,null,null,null,null,null,null,null,null,null,null,null,null,null,null,null,null,null,null,null,null,null,null,null,null,null,null,null,null,null,null,null,null,null,null,null,null,null,null,null,null,null,null,null,null,null,null,null,null,null,null,null,null,null,null,null,null,null,null,null,null,null,null,null,null,null,null,null,null,null,null,null,null,null,null,null,null,null,null,null,null,null,null,null,null,null,null,null,null,null,null,null,"Visiting Lecturer of Psychology","Visiting Lecturer of Psychology"]
[2872,"Moore","Helia",null,null,null,null,null,null,null,null,null,null,null,null,null,null,null,null,null,null,null,null,null,null,null,null,null,null,null,null,null,null,null,null,null,null,null,"Assistant in Library"]
[3990,"Moreau","Kathleen C.","B.A., M.A., Ph.D.",null,null,null,null,null,null,null,null,null,null,null,null,null,null,null,null,null,null,null,null,null,null,null,null,null,null,null,null,null,null,null,null,null,null,null,null,null,null,null,null,null,null,null,null,null,null,null,null,null,null,null,null,null,null,null,null,null,null,null,null,null,null,null,null,null,null,null,null,null,null,null,null,null,null,null,null,null,null,null,null,null,null,null,null,null,null,null,null,null,null,"[no job title listed]"]
[4660,"Morris","Herman Elder","A.B., M.A.",null,null,null,null,null,null,null,null,null,null,null,null,null,null,null,null,null,null,null,null,null,null,null,null,null,null,null,null,null,null,null,null,null,null,null,null,null,null,null,null,null,null,null,null,null,null,null,null,null,null,null,null,null,null,null,null,null,null,null,null,null,null,null,"Visiting Lecturer in Education",null,"Visiting Lecturer in Education"]
[197,"Morrison","Ellanorr Winfield","B.E.",null,null,null,null,null,null,null,null,null,null,null,null,null,null,null,null,null,"Instructor in Elocution & Physical Culture"]
[4546,"Morrissey","Joseph F.","A.B., J.D.",null,null,null,null,null,null,null,null,null,null,null,null,null,null,null,null,null,null,null,null,null,null,null,null,null,null,null,null,null,null,null,null,null,null,null,null,null,null,null,null,null,null,null,null,null,null,null,null,null,null,null,null,null,null,null,null,null,null,null,null,null,null,null,null,null,null,null,null,null,null,null,null,null,null,null,null,null,null,null,null,null,null,null,null,null,null,null,null,null,null,null,null,null,null,null,null,null,null,null,null,null,null,null,null,null,null,null,null,"Visiting Assistant Professor","Visiting Assistant Professor","Assistant Professor of Law","Assistant Professor of Law","Assistant Professor of Law","Associate Professor of Law","Associate Professor of Law","Professor of Law","Professor of Law","Professor of Law"]
[4227,"Moser","G. Gary","A.B., M.Ed.",null,null,null,null,null,null,null,null,null,null,null,null,null,null,null,null,null,null,null,null,null,null,null,null,null,null,null,null,null,null,null,null,null,null,null,null,null,null,null,null,null,null,null,null,null,null,null,null,null,null,null,null,null,null,null,null,null,null,null,null,null,null,null,null,null,null,null,null,null,null,null,null,null,null,null,null,null,null,null,null,null,null,null,null,null,null,null,null,null,null,null,null,null,null,null,null,null,null,null,"Visiting Instructor in Education","Assisting Professor of Teacher Education","Assisting Professor of Teacher Education","Assisting Professor of Teacher Education"]
[3486,"Mowery","Bob Lee","A.B., B.L.S., M.A.",null,null,null,null,null,null,null,null,null,null,null,null,null,null,null,null,null,null,null,null,null,null,null,null,null,null,null,null,null,null,null,null,null,null,null,null,null,null,null,null,null,null,null,null,null,null,null,null,null,null,null,null,null,null,null,null,null,null,null,null,null,null,null,null,null,null,null,null,null,null,"Librarian","Librarian","Librarian","Librarian","Librarian"]
[3774,"Mudge","Charles R","BA, MA, Ph.D.",null,null,null,null,null,null,null,null,null,null,null,null,null,null,null,null,null,null,null,null,null,null,null,null,null,null,null,null,null,null,null,null,null,null,null,null,null,null,null,null,null,null,null,null,null,null,null,null,null,null,null,null,null,null,null,null,null,null,null,null,null,null,null,null,null,null,null,null,null,null,null,null,null,null,null,null,null,null,null,null,null,null,null,"Assistant Professor of Foreign Languages"]
[4468,"Muir","Clive P.","B.S., M.S., M.A., Ph.D.",null,null,null,null,null,null,null,null,null,null,null,null,null,null,null,null,null,null,null,null,null,null,null,null,null,null,null,null,null,null,null,null,null,null,null,null,null,null,null,null,null,null,null,null,null,null,null,null,null,null,null,null,null,null,null,null,null,null,null,null,null,null,null,null,null,null,null,null,null,null,null,null,null,null,null,null,null,null,null,null,null,null,null,null,null,null,null,null,null,null,null,null,null,null,null,null,null,null,null,null,null,null,null,null,null,"Assistant Professor of Management","Assistant Professor of Management","Assistant Professor of Management","Assistant Professor of Management"]
[3436,"Murphy","Gail","MFT",null,null,null,null,null,null,null,null,null,null,null,null,null,null,null,null,null,null,null,null,null,null,null,null,null,null,null,null,null,null,null,null,null,null,null,null,null,null,null,null,null,null,null,null,null,null,null,null,null,null,null,null,null,null,null,null,null,null,null,null,null,null,null,null,null,null,null,null,null,null,null,null,null,null,null,null,null,"Visiting Assistant Professor of Business Administration"]
[872,"Murray","Iris",null,null,null,null,null,null,null,null,null,null,null,null,null,null,null,null,null,null,null,null,null,null,null,null,null,null,null,null,null,null,null,null,null,null,null,null,null,null,null,null,null,null,null,null,null,null,null,null,null,null,null,null,null,null,null,null,null,null,null,"Assistant in the Bursar's Office"]
[3820,"Myers","Joe I.","B.A., M.A., M.L.S",null,null,null,null,null,null,null,null,null,null,null,null,null,null,null,null,null,null,null,null,null,null,null,null,null,null,null,null,null,null,null,null,null,null,null,null,null,null,null,null,null,null,null,null,null,null,null,null,null,null,null,null,null,null,null,null,null,null,null,null,null,null,null,null,null,null,null,null,null,null,null,null,null,null,null,null,null,null,null,null,null,null,null,"Associate Professor / Director","Associate Professor / Director","Associate Professor / Director of duPont-Ball Library","Associate Professor / Director of duPont-Ball Library","Associate Professor / Director of duPont-Ball Library","Associate Professor / Reference Librarian","Associate Professor / Reference Librarian / \nUniversity Archivist","Associate Professor / Reference Librarian / \nUniversity Archivist"]
[3692,"Myers","Lewis A","B.A.,B.D.,M.A.",null,null,null,null,null,null,null,null,null,null,null,null,null,null,null,null,null,null,null,null,null,null,null,null,null,null,null,null,null,null,null,null,null,null,null,null,null,null,null,null,null,null,null,null,null,null,null,null,null,null,null,null,null,null,null,null,null,null,null,null,null,null,null,null,null,null,null,null,null,null,null,null,null,null,null,null,null,null,null,"Assistant Professor of Religion","Assistant Professor of Religion","Assistant Professor of Religion & Philosophy","Assistant Professor of Religion & Philosophy","Assistant Professor of Religion & Philosophy"]
[4121,"Nance","Leonard L.","B.A., M.A., Ph.D.",null,null,null,null,null,null,null,null,null,null,null,null,null,null,null,null,null,null,null,null,null,null,null,null,null,null,null,null,null,null,null,null,null,null,null,null,null,null,null,null,null,null,null,null,null,null,null,null,null,null,null,null,null,null,null,null,null,null,null,null,null,null,null,null,null,null,null,null,null,null,null,null,null,null,null,null,null,null,null,null,null,null,null,null,null,null,null,null,null,null,null,null,null,null,null,null,"Assistant Professor of Sociology","Assistant Professor of Sociology","Assistant Professor of Sociology","Assistant Professor of Sociology","Assistant Professor of Sociology","Associate Professor of Sociology (Fall Sabbatical)","Associate Professor of Sociology / University \nAdvocate on Diversity","Assistant Professor of Sociology / University Advocate \non Diversity / Associate Dean College of \nArts & Sciences","Assistant Professor of Sociology / University Advocate \non Diversity / Associate Dean College of \nArts & Sciences","Assistant Professor of Sociology / University Advocate \non Diversity / Associate Dean College of \nArts & Sciences","Assistant Professor of Sociology / University Advocate \non Diversity / Associate Dean College of \nArts & Sciences","Assistant Professor of Sociology / University Advocate \non Diversity / Associate Dean College of \nArts & Sciences","Assistant Professor of Sociology / University Advocate \non Diversity / Associate Dean College of Arts & \nSciences / Dean of 1st Year Studies","Assistant Professor of Sociology / University Advocate \non Diversity / Dean of 1st Year Studies","Assistant Professor of Sociology / University Advocate \non Diversity / Dean of 1st Year Studies","Assistant Professor of Sociology / University Advocate \non Diversity / Dean of 1st Year Studies","Assistant Professor of Sociology / University Advocate \non Diversity / Dean of 1st Year Studies","Assistant Professor of Sociology / University \nAdvocate on Diversity / Dean of 1st Year Studies","Associate Professor of Sociology","Associate Professor of Sociology","Associate Professor of Sociology","Associate Professor of Sociology"]
[3051,"Neblett","John Sterling","A.B.",null,null,null,null,null,null,null,null,null,null,null,null,null,null,null,null,null,null,null,null,null,null,null,null,null,null,null,null,null,null,null,null,null,null,null,null,null,null,null,null,null,null,null,null,null,null,null,null,"Assistant Instructor in Business Administration & Spanish","Instructor in Business Administration (Resigned)"]
[3313,"Newby","Hazel Bryan","A.B.",null,null,null,null,null,null,null,null,null,null,null,null,null,null,null,null,null,null,null,null,null,null,null,null,null,null,null,null,null,null,null,null,null,null,null,null,null,null,null,null,null,null,null,null,null,null,null,null,null,null,null,null,null,null,null,null,null,null,null,null,"Instructor in Piano",null,"Instructor in Piano","Instructor in Piano"]
[4418,"Newdome","Beth","B.M.",null,null,null,null,null,null,null,null,null,null,null,null,null,null,null,null,null,null,null,null,null,null,null,null,null,null,null,null,null,null,null,null,null,null,null,null,null,null,null,null,null,null,null,null,null,null,null,null,null,null,null,null,null,null,null,null,null,null,null,null,null,null,null,null,null,null,null,null,null,null,null,null,null,null,null,null,null,null,null,null,null,null,null,null,null,null,null,null,null,null,null,null,null,null,null,null,null,null,null,null,null,null,null,null,"Visiting Professor of Violin"]
[4501,"Ng","Stephen","B.A., M.M., D.M.",null,null,null,null,null,null,null,null,null,null,null,null,null,null,null,null,null,null,null,null,null,null,null,null,null,null,null,null,null,null,null,null,null,null,null,null,null,null,null,null,null,null,null,null,null,null,null,null,null,null,null,null,null,null,null,null,null,null,null,null,null,null,null,null,null,null,null,null,null,null,null,null,null,null,null,null,null,null,null,null,null,null,null,null,null,null,null,null,null,null,null,null,null,null,null,null,null,null,null,null,null,null,null,null,null,null,"Assistant Professor of Music","Assistant Professor of Music","Assistant Professor of Music","Assistant Professor of Music","Assistant Professor of Music","Assistant Professor of Music","Assistant Professor of Music","Associate Professor of Music","Associate Professor of Music"]
[3395,"Nicholson","Francis Bates","A.B., LL.B., LL.M.",null,null,null,null,null,null,null,null,null,null,null,null,null,null,null,null,null,null,null,null,null,null,null,null,null,null,null,null,null,null,null,null,null,null,null,null,null,null,null,null,null,null,null,null,null,null,null,null,null,null,null,null,null,null,null,null,null,null,null,null,null,null,null,null,null,null,"Assistant Professor of Law / Librarian, College of Law","Assistant Professor of Law",null,null,null,null,null,null,null,null,null,"Assistant Professor of Law"]
[3728,"Noffke","Gary L","MFA",null,null,null,null,null,null,null,null,null,null,null,null,null,null,null,null,null,null,null,null,null,null,null,null,null,null,null,null,null,null,null,null,null,null,null,null,null,null,null,null,null,null,null,null,null,null,null,null,null,null,null,null,null,null,null,null,null,null,null,null,null,null,null,null,null,null,null,null,null,null,null,null,null,null,null,null,null,null,null,null,"Instructor in Art","Instructor in Art"]
[3559,"Nolen","Russell M.","A.B., M.A., Ph.D.",null,null,null,null,null,null,null,null,null,null,null,null,null,null,null,null,null,null,null,null,null,null,null,null,null,null,null,null,null,null,null,null,null,null,null,null,null,null,null,null,null,null,null,null,null,null,null,null,null,null,null,null,null,null,null,null,null,null,null,null,null,null,null,null,null,null,null,null,null,null,null,null,null,"Professor of Economics","Professor of Economics","Professor of Economics","Professor of Economics"]
[893,"Norman","Nancy Rosseter","A.B.",null,null,null,null,null,null,null,null,null,null,null,null,null,null,null,null,null,null,null,null,null,null,null,null,null,null,null,null,null,null,null,null,null,null,null,null,null,null,null,null,null,null,null,null,null,null,null,null,null,null,null,null,null,null,null,null,null,null,null,"Instructor in English"]
[2499,"Oates","Edward F.",null,null,null,null,null,null,null,null,null,null,null,null,null,null,"Assistant in Physical Laboratory & Practice School"]
[4184,"O'Connor-Felman","Marleen","B.S., J.D.",null,null,null,null,null,null,null,null,null,null,null,null,null,null,null,null,null,null,null,null,null,null,null,null,null,null,null,null,null,null,null,null,null,null,null,null,null,null,null,null,null,null,null,null,null,null,null,null,null,null,null,null,null,null,null,null,null,null,null,null,null,null,null,null,null,null,null,null,null,null,null,null,null,null,null,null,null,null,null,null,null,null,null,null,null,null,null,null,null,null,null,null,null,null,null,null,null,null,"Associate Professor of Law","Associate Professor of Law","Professor of Law","Professor of Law","Professor of Law","Professor of Law","Professor of Law","Professor of Law","Professor of Law","Professor of Law","Professor of Law","Professor of Law","Professor of Law","Professor of Law","Professor of Law","Professor of Law","Professor of Law","Professor of Law","Professor of Law","Professor of Law"]
[3891,"O'Hara","Gordon","B.M.E., M.M.E.",null,null,null,null,null,null,null,null,null,null,null,null,null,null,null,null,null,null,null,null,null,null,null,null,null,null,null,null,null,null,null,null,null,null,null,null,null,null,null,null,null,null,null,null,null,null,null,null,null,null,null,null,null,null,null,null,null,null,null,null,null,null,null,null,null,null,null,null,null,null,null,null,null,null,null,null,null,null,null,null,null,null,null,null,null,"Assistant Professor of Music Education / Director of Bands","Assistant Professor of Music Education / Director of Bands","Assistant Professor of Music Education / Director of Bands"]
[3616,"O'Keefe","Daniel E.","B.S., M.A.",null,null,null,null,null,null,null,null,null,null,null,null,null,null,null,null,null,null,null,null,null,null,null,null,null,null,null,null,null,null,null,null,null,null,null,null,null,null,null,null,null,null,null,null,null,null,null,null,null,null,null,null,null,null,null,null,null,null,null,null,null,null,null,null,null,null,null,null,null,null,null,null,null,null,null,null,null,"Assistant Professor of Business Administration","Assistant Professor of Business Administration","Assistant Professor of Business Administration","Assistant Professor of Business Administration","Associate Professor of Business Administration"]
[4307,"Oliphant","Rebecca","B.A., M.Ed., Ph.D.",null,null,null,null,null,null,null,null,null,null,null,null,null,null,null,null,null,null,null,null,null,null,null,null,null,null,null,null,null,null,null,null,null,null,null,null,null,null,null,null,null,null,null,null,null,null,null,null,null,null,null,null,null,null,null,null,null,null,null,null,null,null,null,null,null,null,null,null,null,null,null,null,null,null,null,null,null,null,null,null,null,null,null,null,null,null,null,null,null,null,null,null,null,null,null,null,null,null,null,null,null,null,"Visiting Assistant Professor of Marketing","Assistant Professor of Marketing","Assistant Professor of Marketing","Assistant Professor of Marketing","Associate Professor of Marketing","Associate Professor of Marketing","Associate Professor of Marketing","Associate Professor of Marketing","Associate Professor Marketing / Co-Director of \nSummer Innsbruck Program","Associate Professor Marketing / Co-Director of \nSummer Innsbruck Program","Associate Professor Marketing / Co-Director of \nSummer Innsbruck Program","Associate Professor Marketing / Co-Director of \nSummer Innsbruck Program","Associate Professor Marketing / Co-Director of \nSummer Innsbruck Program","Associate Professor Marketing / Co-Director of \nSummer Innsbruck Program","Associate Professor Marketing / Co-Director of \nSummer Innsbruck Program","Associate Professor of Marketing / Co-Director of \nSummer Innsbruck Program"]
[3077,"Orcutt","F. Roberta","Mus.B.",null,null,null,null,null,null,null,null,null,null,null,null,null,null,null,null,null,null,null,null,null,null,null,null,null,null,null,null,null,null,null,null,null,null,null,null,null,null,null,null,null,null,null,null,null,null,null,null,null,"Instructor in Voice","Instructor in Voice","Instructor in Voice"]
[null,"Orie","Daniel A.","B.S.",null,null,null,null,null,null,null,null,null,null,null,null,null,null,null,null,null,null,null,null,null,null,null,null,null,null,null,null,null,null,null,null,null,null,null,null,null,null,null,null,null,null,null,null,null,null,null,null,null,null,null,null,null,null,null,null,null,null,null,null,null,null,null,null,null,null,null,null,null,null,null,null,null,null,null,null,null,null,null,null,null,null,null,null,null,null,null,null,null,null,null,null,null,null,null,null,null,null,null,null,null,null,null,null,null,null,null,null,null,null,null,null,null,null,"Chief Technology Officer, College of Law","Chief Technology Officer, College of Law","Chief Technology Officer, College of Law"]
[4021,"O'Sullivan","Michael",null,null,null,null,null,null,null,null,null,null,null,null,null,null,null,null,null,null,null,null,null,null,null,null,null,null,null,null,null,null,null,null,null,null,null,null,null,null,null,null,null,null,null,null,null,null,null,null,null,null,null,null,null,null,null,null,null,null,null,null,null,null,null,null,null,null,null,null,null,null,null,null,null,null,null,null,null,null,null,null,null,null,null,null,null,null,null,null,null,null,null,null,"Coach of Golf",null,null,"Coach of Golf",null,null,"Coach of Golf"]
[3516,"Page","Donald A.","B.A., M.B.A., M.A.",null,null,null,null,null,null,null,null,null,null,null,null,null,null,null,null,null,null,null,null,null,null,null,null,null,null,null,null,null,null,null,null,null,null,null,null,null,null,null,null,null,null,null,null,null,null,null,null,null,null,null,null,null,null,null,null,null,null,null,null,null,null,null,null,null,null,null,null,null,null,null,"Instructor in Insurance","Instructor in Insurance","Instructor in Insurance","Instructor in Insurance","Instructor in Insurance","Instructor in Insurance","Instructor in Insurance","Instructor in Insurance","Instructor in Insurance","Instructor in Insurance","Instructor in Insurance","Instructor in Insurance","Instructor in Business Administration"]
[4676,"Palmer","Jason","B.A.,J.D.",null,null,null,null,null,null,null,null,null,null,null,null,null,null,null,null,null,null,null,null,null,null,null,null,null,null,null,null,null,null,null,null,null,null,null,null,null,null,null,null,null,null,null,null,null,null,null,null,null,null,null,null,null,null,null,null,null,null,null,null,null,null,null,null,null,null,null,null,null,null,null,null,null,null,null,null,null,null,null,null,null,null,null,null,null,null,null,null,null,null,null,null,null,null,null,null,null,null,null,null,null,null,null,null,null,null,null,null,null,null,null,null,null,"Assistant Professor of Legal Skills","Assistant Professor of Legal Skills","Associate Professor of Legal Skills","Associate Professor of Legal Skills","Associate Professor of Legal Skills / Associate \nDirector of Legal Research & Writing"]
[4649,"Palmer","John R.","Lt. Colonel, MPC; B.S.",null,null,null,null,null,null,null,null,null,null,null,null,null,null,null,null,null,null,null,null,null,null,null,null,null,null,null,null,null,null,null,null,null,null,null,null,null,null,null,null,null,null,null,null,null,null,null,null,null,null,null,null,null,null,null,null,null,null,null,null,null,null,"Assistant Professor of Military Science & Tactics"]
[923,"Park","John C.","B.S., M.Ed.",null,null,null,null,null,null,null,null,null,null,null,null,null,null,null,null,null,null,null,null,null,null,null,null,null,null,null,null,null,null,null,null,null,null,null,null,null,null,null,null,null,null,null,null,null,null,null,null,null,null,null,null,null,null,null,null,null,null,null,null,"Assistant Professor of Education"]
[447,"Parker","Colvin","LL.B.",null,null,null,null,null,null,null,null,null,null,null,null,null,null,null,null,null,null,null,null,null,null,null,null,null,null,null,null,null,null,null,null,null,"Assistant in History & Civics","Assistant in History & Civics"]
[3517,"Parr","Col. Wayland H.","B.S., M.S.",null,null,null,null,null,null,null,null,null,null,null,null,null,null,null,null,null,null,null,null,null,null,null,null,null,null,null,null,null,null,null,null,null,null,null,null,null,null,null,null,null,null,null,null,null,null,null,null,null,null,null,null,null,null,null,null,null,null,null,null,null,null,null,null,null,null,null,null,null,null,null,"Instructor in Mathematics"]
[3485,"Parrish","James W.","ThM, DD",null,null,null,null,null,null,null,null,null,null,null,null,null,null,null,null,null,null,null,null,null,null,null,null,null,null,null,null,null,null,null,null,null,null,null,null,null,null,null,null,null,null,null,null,null,null,null,null,null,null,null,null,null,null,null,null,null,null,null,null,null,null,null,null,null,null,null,null,null,null,null,"Vice President"]
[308,"Patillo","Annie","B.S.",null,null,null,null,null,null,null,null,null,null,null,null,null,null,null,null,null,null,null,null,null,null,null,"Instructor in Primary Methods","Instructor in Primary Methods"]
[4348,"Patterson","Matthew","M.D.",null,null,null,null,null,null,null,null,null,null,null,null,null,null,null,null,null,null,null,null,null,null,null,null,null,null,null,null,null,null,null,null,null,null,null,null,null,null,null,null,null,null,null,null,null,null,null,null,null,null,null,null,null,null,null,null,null,null,null,null,null,null,null,null,null,null,null,null,null,null,null,null,null,null,null,null,null,null,null,null,null,null,null,null,null,null,null,null,null,null,null,null,null,null,null,null,null,null,null,null,null,null,null,"Adjunct Medical Technology / Medical Director for \nSchool of Medical Technology","Adjunct Medical Technology / Medical Director for \nSchool of Medical Technology"]
[2580,"Pattison","Ralph W.",null,null,null,null,null,null,null,null,null,null,null,null,null,null,null,null,null,"Assistant in Business Practice Office"]
[null,"Paul","Elizabeth","B.A., Ph.D.",null,null,null,null,null,null,null,null,null,null,null,null,null,null,null,null,null,null,null,null,null,null,null,null,null,null,null,null,null,null,null,null,null,null,null,null,null,null,null,null,null,null,null,null,null,null,null,null,null,null,null,null,null,null,null,null,null,null,null,null,null,null,null,null,null,null,null,null,null,null,null,null,null,null,null,null,null,null,null,null,null,null,null,null,null,null,null,null,null,null,null,null,null,null,null,null,null,null,null,null,null,null,null,null,null,null,null,null,null,null,null,null,null,null,"Professor of Psychology / Provost / Vice President \nfor Academic Affairs","Professor of Psychology / Provost / Vice President \nfor Academic Affairs","Professor of Psychology / Provost / Vice President \nfor Academic Affairs","Professor of Psychology / Provost / Vice President for \nAcademic Affairs"]
[3518,"Pearce","Richard W.","B.A, LL.B., M.A.",null,null,null,null,null,null,null,null,null,null,null,null,null,null,null,null,null,null,null,null,null,null,null,null,null,null,null,null,null,null,null,null,null,null,null,null,null,null,null,null,null,null,null,null,null,null,null,null,null,null,null,null,null,null,null,null,null,null,null,null,null,null,null,null,null,null,null,null,null,null,"Visiting Instructor in History & Political Science","Visiting Instructor in History & Political Science","Assistant Professor of Business Administration","Assistant Professor of Business Administration","Assistant Professor of Business Administration","Associate Professor of Business Administration","Associate Professor of Business Administration","Associate Professor of Business Administration","Associate Professor of Business Administration",null,null,null,null,null,null,null,null,null,null,null,null,null,null,null,null,null,null,null,null,null,null,null,null,null,"Professor of Business Administration, Emeritus","Professor of Business Administration, Emeritus","Professor of Business Administration, Emeritus","Professor of Business Administration, Emeritus","Professor of Business Administration, Emeritus","Professor of Business Administration, Emeritus","Professor of Business Administration, Emeritus","Professor of Business Administration, Emeritus","Professor of Business Administration, Emeritus","Professor of Business Administration, Emeritus","Professor of Business Administration, Emeritus","Professor of Business Administration, Emeritus","Professor of Business Administration, Emeritus","Professor of Business Administration, Emeritus"]
[583,"Pedigo","Marie","A.B.",null,null,null,null,null,null,null,null,null,null,null,null,null,null,null,null,null,null,null,null,null,null,null,null,null,null,null,null,null,null,null,null,null,null,null,null,null,null,null,null,"Assistant in English","Instructor in Expression / In charge of DeLand Hall","Instructor in Expression / In charge of DeLand Hall","Instructor in Expression"]
[4264,"Pelaia","William A.","B.S., M.A., Ed.D.",null,null,null,null,null,null,null,null,null,null,null,null,null,null,null,null,null,null,null,null,null,null,null,null,null,null,null,null,null,null,null,null,null,null,null,null,null,null,null,null,null,null,null,null,null,null,null,null,null,null,null,null,null,null,null,null,null,null,null,null,null,null,null,null,null,null,null,null,null,null,null,null,null,null,null,null,null,null,null,null,null,null,null,null,null,null,null,null,null,null,null,null,null,null,null,null,null,null,null,null,"Assistant Professor of Teacher Education (Spring Semester)","Assistant Professor of Teacher Education","Assistant Professor of Teacher Education",null,null,"Associate Professor of Teacher Education","Associate Professor of Teacher Education","Associate Professor of Teacher Education","Lecturer in Teacher Education","Lecturer in Teacher Education","Lecturer in Teacher Education","Lecturer in Teacher Education","Lecturer in Teacher Education"]
[2630,"Pelot","Charles Edward","B.S.",null,null,null,null,null,null,null,null,null,null,null,null,null,null,null,null,null,null,null,"Instructor in Business Law"]
[3399,"Perdue","James David","B.M.",null,null,null,null,null,null,null,null,null,null,null,null,null,null,null,null,null,null,null,null,null,null,null,null,null,null,null,null,null,null,null,null,null,null,null,null,null,null,null,null,null,null,null,null,null,null,null,null,null,null,null,null,null,null,null,null,null,null,null,null,null,null,null,null,null,null,"Instructor in Wind & Percussion Instruments","Instructor in Wind & Percussion Instruments","Music Librarian","Instructor in Music Literature / Music Librarian","Assistant Professor of Music History / Music Librarian","Assistant Professor of Music History / Music Librarian","Assistant Professor of Music History / Music Librarian"]
[4383,"Perramond","Eric","B.A., M.A., Ph.D",null,null,null,null,null,null,null,null,null,null,null,null,null,null,null,null,null,null,null,null,null,null,null,null,null,null,null,null,null,null,null,null,null,null,null,null,null,null,null,null,null,null,null,null,null,null,null,null,null,null,null,null,null,null,null,null,null,null,null,null,null,null,null,null,null,null,null,null,null,null,null,null,null,null,null,null,null,null,null,null,null,null,null,null,null,null,null,null,null,null,null,null,null,null,null,null,null,null,null,null,null,null,null,null,"Assistant Professor of Geography & Environmental Science","Assistant Professor of Geography / Environmental Science","Assistant Professor of Geography / Environmental Science","Assistant Professor of Geography / Environmental Science","Assistant Professor of Geography / Environmental Science"]
[null,"Peterson","Melissa","B.S., C.P.A.",null,null,null,null,null,null,null,null,null,null,null,null,null,null,null,null,null,null,null,null,null,null,null,null,null,null,null,null,null,null,null,null,null,null,null,null,null,null,null,null,null,null,null,null,null,null,null,null,null,null,null,null,null,null,null,null,null,null,null,null,null,null,null,null,null,null,null,null,null,null,null,null,null,null,null,null,null,null,null,null,null,null,null,null,null,null,null,null,null,null,null,null,null,null,null,null,null,null,null,null,null,null,null,null,null,null,null,null,null,null,null,null,null,null,null,null,"University Controller"]
[null,"Peterson","Andrea","B.A.",null,null,null,null,null,null,null,null,null,null,null,null,null,null,null,null,null,null,null,null,null,null,null,null,null,null,null,null,null,null,null,null,null,null,null,null,null,null,null,null,null,null,null,null,null,null,null,null,null,null,null,null,null,null,null,null,null,null,null,null,null,null,null,null,null,null,null,null,null,null,null,null,null,null,null,null,null,null,null,null,null,null,null,null,null,null,null,null,null,null,null,null,null,null,null,null,null,null,null,null,null,null,null,null,null,null,null,null,null,null,null,null,null,null,"Assistant Women’s Basketball Coach"]
[null,"Peuquet","Sean","B.A., A.M., Ph.D",null,null,null,null,null,null,null,null,null,null,null,null,null,null,null,null,null,null,null,null,null,null,null,null,null,null,null,null,null,null,null,null,null,null,null,null,null,null,null,null,null,null,null,null,null,null,null,null,null,null,null,null,null,null,null,null,null,null,null,null,null,null,null,null,null,null,null,null,null,null,null,null,null,null,null,null,null,null,null,null,null,null,null,null,null,null,null,null,null,null,null,null,null,null,null,null,null,null,null,null,null,null,null,null,null,null,null,null,null,null,null,null,null,null,null,null,"Visiting Assistant Professor of Creative Arts / \nDigital Arts"]
[3245,"Phillips","Frank McGinley","B.D., M.D., A.B., M.A., Ph.D.",null,null,null,null,null,null,null,null,null,null,null,null,null,null,null,null,null,null,null,null,null,null,null,null,null,null,null,null,null,null,null,null,null,null,null,null,null,null,null,null,null,null,null,null,null,null,null,null,null,null,null,null,null,null,null,null,null,null,"Visiting Professor of Business Administration \n& Mathematics","Visiting Professor of Business Administration \n& Mathematics","Visiting Professor of Business Administration \n& Mathematics",null,"Visiting Professor of Mathematics & Statistics","Visiting Professor of Mathematics & Statistics","Visiting Professor of Mathematics & Statistics","Visiting Professor of Mathematics & Statistics","Visiting Professor of Mathematics & Statistics","Visiting Professor of Mathematics & Statistics","Visiting Professor of Mathematics & Statistics","Visiting Professor of Mathematics & Statistics","Visiting Professor of Mathematics & Statistics","Visiting Professor of Mathematics & Statistics","Visiting Professor of Mathematics & Statistics","Visiting Professor of Mathematics & Statistics","Visiting Professor of Mathematics & Statistics"]
[2664,"Phillips","John W.",null,null,null,null,null,null,null,null,null,null,null,null,null,null,null,null,null,null,null,null,null,null,"Instructor in Voice","Instructor in Voice","Director of the School of Music / Instructor in Voice","Director of the School of Music / Instructor in Voice","Instructor in Voice"]
[296,"Phillips","Margaret L.",null,null,null,null,null,null,null,null,null,null,null,null,null,null,null,null,null,null,null,null,null,null,null,"Assistant in School of Music","Instructor in Harmony & Counterpoint","Instructor in Harmony & Counterpoint","Instructor in Harmony & Counterpoint"]
[2607,"Pierce","Edwin Griffin","Ph. B.",null,null,null,null,null,null,null,null,null,null,null,null,null,null,null,null,null,null,"Instructor in Chemistry","Assistant Professor of Chemistry","Assistant Professor of Chemistry"]
[4248,"Pilote","Pierre","B.S.",null,null,null,null,null,null,null,null,null,null,null,null,null,null,null,null,null,null,null,null,null,null,null,null,null,null,null,null,null,null,null,null,null,null,null,null,null,null,null,null,null,null,null,null,null,null,null,null,null,null,null,null,null,null,null,null,null,null,null,null,null,null,null,null,null,null,null,null,null,null,null,null,null,null,null,null,null,null,null,null,null,null,null,null,null,null,null,null,null,null,null,null,null,null,null,null,null,null,null,"Men's Head Tennis Coach","Men's Tennis Coach","Men's Tennis Coach","Head Men's Tennis Coach","Director of Tennis","Head Men's Tennis Coach","Head Men's Tennis Coach","Head Men's Tennis Coach","Head Men's Tennis Coach","Head Men's Tennis Coach","Head Men's Tennis Coach","Head Men's Tennis Coach / Director of Stoll Tennis Center","Head Men’s Tennis Coach / Director of the Mandy \nStoll Tennis Center","Head Men’s Tennis Coach / Director of the Mandy \nStoll Tennis Center","Head Men’s Tennis Coach / Director of the Mandy \nStoll Tennis Center","Head Men’s Tennis Coach / Director of the Mandy \nStoll Tennis Center","Director of Tennis / Head Men’s Tennis Coach"]
[4578,"Podgor","Ellen","B.S., J.D., M.B.A., LL.M.",null,null,null,null,null,null,null,null,null,null,null,null,null,null,null,null,null,null,null,null,null,null,null,null,null,null,null,null,null,null,null,null,null,null,null,null,null,null,null,null,null,null,null,null,null,null,null,null,null,null,null,null,null,null,null,null,null,null,null,null,null,null,null,null,null,null,null,null,null,null,null,null,null,null,null,null,null,null,null,null,null,null,null,null,null,null,null,null,null,null,null,null,null,null,null,null,null,null,null,null,null,null,null,null,null,null,null,null,null,"Visiting Professor of Law / Culverhouse Chair","Professor of Law / Associate Dean of Faculty \nDevelopment & Distance Education","Professor of Law / Associate Dean of Faculty \nDevelopment & Distance Education","Professor of Law / Associate Dean of Faculty \nDevelopment & Distance Education","Professor of Law / Associate Dean of Faculty \nDevelopment & Electronic Education","Professor of Law / Gary R. Trombley Family White-\nCollar Crime Research Professor","Professor of Law / Gary R. Trombley Family White-\nCollar Crime Research Professor","Professor of Law / Gary R. Trombley Family \nWhite-Collar Crime Research Professor","Professor of Law / Gary R. Trombley Family White-\nCollar Crime Research Professor"]
[4286,"Poeter","Elisabeth","B.A., M.A., Ph.D.",null,null,null,null,null,null,null,null,null,null,null,null,null,null,null,null,null,null,null,null,null,null,null,null,null,null,null,null,null,null,null,null,null,null,null,null,null,null,null,null,null,null,null,null,null,null,null,null,null,null,null,null,null,null,null,null,null,null,null,null,null,null,null,null,null,null,null,null,null,null,null,null,null,null,null,null,null,null,null,null,null,null,null,null,null,null,null,null,null,null,null,null,null,null,null,null,null,null,null,null,null,"Assistant Professor of Foreign Languages","Assistant Professor of Foreign Languages","Assistant Professor of Foreign Languages \n(Faculty Exchange)","Assistant Professor of Modern Languages & Literatures","Assistant Professor of Modern Languages & Literatures","Assistant Professor of Modern Languages & Literatures","Assistant Professor of Modern Languages & Literatures","Assistant Professor of Modern Languages & Literatures","Assistant Professor of Modern Languages & Literatures","Assistant Professor of Modern Languages & Literatures","Associate Professor of Modern Languages & Literatures","Associate Professor of Modern Languages & Literatures","Associate Professor of Modern Languages & Literatures","Associate Professor of Modern Languages & Literatures","Associate Professor of Modern Languages \n& Literatures","Associate Professor of Modern Languages \n& Literatures","Associate Professor of Modern Language & Literatures \n/ Director of Gender Studies Program"]
[2970,"Porter","Paul Robert","A.M.",null,null,null,null,null,null,null,null,null,null,null,null,null,null,null,null,null,null,null,null,null,null,null,null,null,null,null,null,null,null,null,null,null,null,null,null,null,null,null,null,"Assistant in Commercial Mathematics & Commercial Law"]
[4688,"Powell","Mark","B.A., M.F.A., M.A.R.",null,null,null,null,null,null,null,null,null,null,null,null,null,null,null,null,null,null,null,null,null,null,null,null,null,null,null,null,null,null,null,null,null,null,null,null,null,null,null,null,null,null,null,null,null,null,null,null,null,null,null,null,null,null,null,null,null,null,null,null,null,null,null,null,null,null,null,null,null,null,null,null,null,null,null,null,null,null,null,null,null,null,null,null,null,null,null,null,null,null,null,null,null,null,null,null,null,null,null,null,null,null,null,null,null,null,null,null,null,null,null,null,null,"Assistant Professor of English","Assistant Professor of English","Assistant Professor of English","Assistant Professor of English","Assistant Professor of English"]
[4639,"Prather","Sam W., Jr.","B.S."]
[2911,"Prather","Virginia",null,null,null,null,null,null,null,null,null,null,null,null,null,null,null,null,null,null,null,null,null,null,null,null,null,null,null,null,null,null,null,null,null,null,null,null,null,"Assistant in Library","Assistant in Library",null,"Assistant in Library"]
[4473,"Price","Harry L.","B.S., Ph.D.",null,null,null,null,null,null,null,null,null,null,null,null,null,null,null,null,null,null,null,null,null,null,null,null,null,null,null,null,null,null,null,null,null,null,null,null,null,null,null,null,null,null,null,null,null,null,null,null,null,null,null,null,null,null,null,null,null,null,null,null,null,null,null,null,null,null,null,null,null,null,null,null,null,null,null,null,null,null,null,null,null,null,null,null,null,null,null,null,null,null,null,null,null,null,null,null,null,null,null,null,null,null,null,null,null,"Assistant Professor of Chemistry","Assistant Professor of Chemistry","Assistant Professor of Chemistry","Assistant Professor of Chemistry","Assistant Professor of Chemistry","Assistant Professor of Chemistry","Assistant Professor of Chemistry","Assistant Professor of Chemistry","Associate Professor of Chemistry","Associate Professor of Chemistry","Associate Professor of Chemistry","Associate Professor of Chemistry","Associate Professor of Mathematics"]
[3316,"Prichard","Mary T.","A.B.",null,null,null,null,null,null,null,null,null,null,null,null,null,null,null,null,null,null,null,null,null,null,null,null,null,null,null,null,null,null,null,null,null,null,null,null,null,null,null,null,null,null,null,null,null,null,null,null,null,null,null,null,null,null,null,null,null,null,null,null,"Instructor in English",null,"Instructor in English",null,null,"Instructor in English"]
[null,"Protopapa","Joe","B.S., M.S.",null,null,null,null,null,null,null,null,null,null,null,null,null,null,null,null,null,null,null,null,null,null,null,null,null,null,null,null,null,null,null,null,null,null,null,null,null,null,null,null,null,null,null,null,null,null,null,null,null,null,null,null,null,null,null,null,null,null,null,null,null,null,null,null,null,null,null,null,null,null,null,null,null,null,null,null,null,null,null,null,null,null,null,null,null,null,null,null,null,null,null,null,null,null,null,null,null,null,null,null,null,null,null,null,null,null,null,null,null,null,null,null,null,null,null,null,"Executive Director of Career Development \n& Academic Advising"]
[4423,"Pulapaka","Hari","B.S., M.S., Ph.D.",null,null,null,null,null,null,null,null,null,null,null,null,null,null,null,null,null,null,null,null,null,null,null,null,null,null,null,null,null,null,null,null,null,null,null,null,null,null,null,null,null,null,null,null,null,null,null,null,null,null,null,null,null,null,null,null,null,null,null,null,null,null,null,null,null,null,null,null,null,null,null,null,null,null,null,null,null,null,null,null,null,null,null,null,null,null,null,null,null,null,null,null,null,null,null,null,null,null,null,null,null,null,null,null,"Assistant Professor of Mathematics","Assistant Professor of Mathematics","Assistant Professor of Mathematics","Assistant Professor of Mathematics","Assistant Professor of Mathematics","Assistant Professor of Mathematics","Assistant Professor of Mathematics","Assistant Professor of Mathematics","Assistant Professor of Mathematics","Assistant Professor of Mathematics","Associate Professor of Mathematics","Associate Professor of Mathematics","Associate Professor of Mathematics","Associate Professor of Mathematics"]
[3264,"Purser","Sue Bradley",null,null,null,null,null,null,null,null,null,null,null,null,null,null,null,null,null,null,null,null,null,null,null,null,null,null,null,null,null,null,null,null,null,null,null,null,null,null,null,null,null,null,null,null,null,null,null,null,null,null,null,null,null,null,null,null,null,null,null,"Assistant in Library"]
[4188,"Queen-Sutherland","Kandy","B.S., M.Div., Ph.D.",null,null,null,null,null,null,null,null,null,null,null,null,null,null,null,null,null,null,null,null,null,null,null,null,null,null,null,null,null,null,null,null,null,null,null,null,null,null,null,null,null,null,null,null,null,null,null,null,null,null,null,null,null,null,null,null,null,null,null,null,null,null,null,null,null,null,null,null,null,null,null,null,null,null,null,null,null,null,null,null,null,null,null,null,null,null,null,null,null,null,null,null,null,null,null,null,null,null,"Associate Professor of Religious Studies","Associate Professor of Religious Studies","Associate Professor of Religious Studies","Associate Professor of Religious Studies","Associate Professor of Religious Studies","Professor of Religious Studies","Professor of Religious Studies","Professor of Religious Studies","Professor of Religious Studies","Professor of Religious Studies","Professor of Religious Studies","Professor of Religious Studies / Marks Chair of Religion","Professor of Religious Studies / Marks Chair of Religion","Professor of Religious Studies / Marks Chair of Religion","Professor of Religious Studies / Marks Chair of Religion","Professor of Religious Studies / Marks Chair of Religion","Professor of Religious Studies / Sam R. Marks Chair \nof Religion","Professor of Religious Studies / Sam R. Marks \nChair of Religion","Professor of Religious Studies / Sam R. Marks \nChair of Religion","Professor of Religious Studies / Sam R. Marks Chair \nof Religion"]
[4350,"Radley","Gail","B.A., M.A.",null,null,null,null,null,null,null,null,null,null,null,null,null,null,null,null,null,null,null,null,null,null,null,null,null,null,null,null,null,null,null,null,null,null,null,null,null,null,null,null,null,null,null,null,null,null,null,null,null,null,null,null,null,null,null,null,null,null,null,null,null,null,null,null,null,null,null,null,null,null,null,null,null,null,null,null,null,null,null,null,null,null,null,null,null,null,null,null,null,null,null,null,null,null,null,null,null,null,null,null,null,null,null,"Sullivan Lecturer in English","Sullivan Lecturer in English","Sullivan Lecturer in English","Sullivan Lecturer in English","Sullivan Lecturer in English","Sullivan Lecturer in English","Sullivan Lecturer in English","Sullivan Lecturer in English","Sullivan Lecturer in English","Sullivan Lecturer in English","Sullivan Lecturer in English","Sullivan Visiting Lecturer in English","Sullivan Visiting Lecturer in English","Sullivan Visiting Lecturer in English","Sullivan Visiting Lecturer in English"]
[4503,"Radwan","Theresa J. Pulley","B.A., J.D.",null,null,null,null,null,null,null,null,null,null,null,null,null,null,null,null,null,null,null,null,null,null,null,null,null,null,null,null,null,null,null,null,null,null,null,null,null,null,null,null,null,null,null,null,null,null,null,null,null,null,null,null,null,null,null,null,null,null,null,null,null,null,null,null,null,null,null,null,null,null,null,null,null,null,null,null,null,null,null,null,null,null,null,null,null,null,null,null,null,null,null,null,null,null,null,null,null,null,null,null,null,null,null,null,null,null,"Assistant Professor of Law","Assistant Professor of Law","Associate Professor of Law / Associate Dean of Academics","Associate Professor of Law / Associate Dean of Academics","Associate Professor of Law / Associate Dean of Academics","Professor of Law / Associate Dean of Academics","Professor of Law / Associate Dean of Academics","Professor of Law / Senior Associate Dean of Academics","Senior Professor of Law","Professor of Law","Professor of Law / Associate Dean for Administration \n& Business Affairs","Professor of Law / Associate Dean for Administration \n& Business Affairs"]
[3574,"Rainer","Hewlett E.","Colonel, U.S.A., B.G.E.",null,null,null,null,null,null,null,null,null,null,null,null,null,null,null,null,null,null,null,null,null,null,null,null,null,null,null,null,null,null,null,null,null,null,null,null,null,null,null,null,null,null,null,null,null,null,null,null,null,null,null,null,null,null,null,null,null,null,null,null,null,null,null,null,null,null,null,null,null,null,null,null,null,null,"Professor of Military Science","Professor of Military Science","Professor of Military Science"]
[2822,"Ramsey","Ruthella",null,null,null,null,null,null,null,null,null,null,null,null,null,null,null,null,null,null,null,null,null,null,null,null,null,null,null,null,null,null,null,null,null,"Assistant in Library"]
[3459,"Rappeport","Jack J.","LLM",null,null,null,null,null,null,null,null,null,null,null,null,null,null,null,null,null,null,null,null,null,null,null,null,null,null,null,null,null,null,null,null,null,null,null,null,null,null,null,null,null,null,null,null,null,null,null,null,null,null,null,null,null,null,null,null,null,null,null,null,null,null,null,null,null,null,null,null,"Assistant Professor of Law / Librarian of College of Law"]
[2865,"Rasco","Glynn Owen",null,null,null,null,null,null,null,null,null,null,null,null,null,null,null,null,null,null,null,null,null,null,null,null,null,null,null,null,null,null,null,null,null,null,null,"Assistant in Chemistry"]
[3018,"Raymond","Paul Everett","B.S., J.D., LL.M., S.J.D.",null,null,null,null,null,null,null,null,null,null,null,null,null,null,null,null,null,null,null,null,null,null,null,null,null,null,null,null,null,null,null,null,null,null,null,null,null,null,null,null,null,null,null,null,null,"Instructor in Law",null,"Professor of Law","Professor of Law","Dean of the College of Law / Professor of Law","Dean of the College of Law / Professor of Law","Dean of the College of Law / Professor of Law","Dean of the College of Law / Professor of Law"]
[3989,"Reddish","Mitchell G.","B.A., M.Div., Ph.D.",null,null,null,null,null,null,null,null,null,null,null,null,null,null,null,null,null,null,null,null,null,null,null,null,null,null,null,null,null,null,null,null,null,null,null,null,null,null,null,null,null,null,null,null,null,null,null,null,null,null,null,null,null,null,null,null,null,null,null,null,null,null,null,null,null,null,null,null,null,null,null,null,null,null,null,null,null,null,null,null,null,null,null,null,null,null,null,null,null,null,"Assistant Professor of Religion","Assistant Professor of Religion","Assistant Professor of Religion","Assistant Professor of Religion","Assistant Professor of Religion","Assistant Professor of Religion","Associate Professor of Religion","Associate Professor of Religion","Associate Professor of Religion / Chair","Associate Professor of Religion / Chair","Associate Professor of Religious Studies / Chair","Professor of Religious Studies / Chair / Sam Marks Chair","Professor of Religious Studies / Chair / Sam Marks Chair","Professor of Religious Studies / Chair / Sam Marks Chair","Professor of Religious Studies / Chair / O.L. Walker Chair","Professor of Religious Studies / Chair / O.L. Walker Chair","Professor of Religious Studies / Chair / O.L. Walker Chair","Professor of Religious Studies / Chair / O.L. Walker Chair","Professor of Religious Studies / Chair / O.L. Walker Chair","Professor of Religious Studies / Chair / O.L. Walker Chair","Professor of Religious Studies / Chair / O.L. Walker Chair","Professor of Religious Studies / Chair / O.L. Walker Chair","Professor of Religious Studies / Chair / O.L. Walker Chair","Professor of Religious Studies / Chair / O.L. \nWalker Chair","Professor of Religious Studies / Chair / O. L. Walker \nChair of Christian Studies","Professor of Religious Studies / Chair / O. L. Walker \nChair of Christian Studies","Professor of Religious Studies / Chair / O. L. \nWalker Chair of Christian Studies","Professor of Religious Studies / Chair / O. L. Walker \nChair of Christian Studies"]
[4287,"Reilly","J. Tim","B.A., M.A., J.D.",null,null,null,null,null,null,null,null,null,null,null,null,null,null,null,null,null,null,null,null,null,null,null,null,null,null,null,null,null,null,null,null,null,null,null,null,null,null,null,null,null,null,null,null,null,null,null,null,null,null,null,null,null,null,null,null,null,null,null,null,null,null,null,null,null,null,null,null,null,null,null,null,null,null,null,null,null,null,null,null,null,null,null,null,null,null,null,null,null,null,null,null,null,null,null,null,null,null,null,null,null,"Distinguished Professional Lecturer",null,null,"Distinguished Professional Lecturer","Distinguished Professional Lecturer","Distinguished Professional Lecturer","Distinguished Professional Lecturer","Distinguished Professional Lecturer","Distinguished Professional Lecturer","Distinguished Professional Lecturer, College of Law","Distinguished Professional Lecturer, College of Law","Distinguished Professional Lecturer, College of Law"]
[2631,"Reilly","Philip","A.B.",null,null,null,null,null,null,null,null,null,null,null,null,null,null,null,null,null,null,null,"Instructor in History"]
[829,"Rhett","John Taylor","A.B.",null,null,null,null,null,null,null,null,null,null,null,null,null,null,null,null,null,null,null,null,null,null,null,null,null,null,null,null,null,null,null,null,null,null,null,null,null,null,null,null,null,null,null,null,null,null,null,null,null,null,null,null,null,null,null,null,null,null,"Visiting Professor of History","Visiting Professor of History","Visiting Professor of History",null,"Visiting Professor of History","Visiting Professor of History"]
[209,"Rich","Ruth",null,null,null,null,null,null,null,null,null,null,null,null,null,null,null,null,null,null,"Assistant in Typewriting"]
[null,"Richardson","Emily","B.S., M.Ed., Ph.D.",null,null,null,null,null,null,null,null,null,null,null,null,null,null,null,null,null,null,null,null,null,null,null,null,null,null,null,null,null,null,null,null,null,null,null,null,null,null,null,null,null,null,null,null,null,null,null,null,null,null,null,null,null,null,null,null,null,null,null,null,null,null,null,null,null,null,null,null,null,null,null,null,null,null,null,null,null,null,null,null,null,null,null,null,null,null,null,null,null,null,null,null,null,null,null,null,null,null,null,null,null,null,null,null,null,null,null,null,null,null,null,null,null,null,null,null,"Associate Vice President for Boundless Learning"]
[687,"Richardson","George T.",null,null,null,null,null,null,null,null,null,null,null,null,null,null,null,null,null,null,null,null,null,null,null,null,null,null,null,null,null,null,null,null,null,null,null,null,null,null,null,null,null,null,null,null,null,null,null,null,null,null,"Assistant Instructor in Cello"]
[null,"Richter","Liesa","B.S., J.D.",null,null,null,null,null,null,null,null,null,null,null,null,null,null,null,null,null,null,null,null,null,null,null,null,null,null,null,null,null,null,null,null,null,null,null,null,null,null,null,null,null,null,null,null,null,null,null,null,null,null,null,null,null,null,null,null,null,null,null,null,null,null,null,null,null,null,null,null,null,null,null,null,null,null,null,null,null,null,null,null,null,null,null,null,null,null,null,null,null,null,null,null,null,null,null,null,null,null,null,null,null,null,null,null,null,null,null,null,null,null,null,null,null,null,null,"Visiting Professor of Law"]
[4509,"Riepenhoff","Tracy","B.A.",null,null,null,null,null,null,null,null,null,null,null,null,null,null,null,null,null,null,null,null,null,null,null,null,null,null,null,null,null,null,null,null,null,null,null,null,null,null,null,null,null,null,null,null,null,null,null,null,null,null,null,null,null,null,null,null,null,null,null,null,null,null,null,null,null,null,null,null,null,null,null,null,null,null,null,null,null,null,null,null,null,null,null,null,null,null,null,null,null,null,null,null,null,null,null,null,null,null,null,null,null,null,null,null,null,null,"Assistant Women's Softball Coach","Assistant Women's Softball Coach","Assistant Women's Softball Coach"]
[3620,"Riser","John S.","B.A., Ph.D.,",null,null,null,null,null,null,null,null,null,null,null,null,null,null,null,null,null,null,null,null,null,null,null,null,null,null,null,null,null,null,null,null,null,null,null,null,null,null,null,null,null,null,null,null,null,null,null,null,null,null,null,null,null,null,null,null,null,null,null,null,null,null,null,null,null,null,null,null,null,null,null,null,null,null,null,null,null,"Assistant Professor of Philosophy","Assistant Professor of Philosophy","Assistant Professor of Philosophy"]
[3461,"Ritter","Charles C.","Ph.D.",null,null,null,null,null,null,null,null,null,null,null,null,null,null,null,null,null,null,null,null,null,null,null,null,null,null,null,null,null,null,null,null,null,null,null,null,null,null,null,null,null,null,null,null,null,null,null,null,null,null,null,null,null,null,null,null,null,null,null,null,null,null,null,null,null,null,null,null,"Assistant Professor of Speech","Assistant Professor of Speech","Assistant Professor of Speech","Assistant Professor of Speech"]
[2707,"Roberts","Paul B.",null,null,null,null,null,null,null,null,null,null,null,null,null,null,null,null,null,null,null,null,null,null,null,null,"Assistant in Bursar's Office"]
[2431,"Robertson","Minnie A.","Ph. B.",null,null,null,null,null,null,null,null,null,"Professor of German & History"]
[4581,"Robson","Ruthann","B.A., J.D., LL.M.",null,null,null,null,null,null,null,null,null,null,null,null,null,null,null,null,null,null,null,null,null,null,null,null,null,null,null,null,null,null,null,null,null,null,null,null,null,null,null,null,null,null,null,null,null,null,null,null,null,null,null,null,null,null,null,null,null,null,null,null,null,null,null,null,null,null,null,null,null,null,null,null,null,null,null,null,null,null,null,null,null,null,null,null,null,null,null,null,null,null,null,null,null,null,null,null,null,null,null,null,null,null,null,null,null,null,null,null,null,"Visiting Professor"]
[3814,"Roche","Gregory F., Jr.","Lieutenant Colonel USA, B.G.E.",null,null,null,null,null,null,null,null,null,null,null,null,null,null,null,null,null,null,null,null,null,null,null,null,null,null,null,null,null,null,null,null,null,null,null,null,null,null,null,null,null,null,null,null,null,null,null,null,null,null,null,null,null,null,null,null,null,null,null,null,null,null,null,null,null,null,null,null,null,null,null,null,null,null,null,null,null,null,null,null,null,null,null,"Professor of Military Science / Chair"]
[361,"Roebuck","R.R.","LL.B.",null,null,null,null,null,null,null,null,null,null,null,null,null,null,null,null,null,null,null,null,null,null,null,null,null,null,null,"Assistant in Law Library","Assistant in Law Library",null,null,null,"In Charge of Men's Dormitories","In Charge of Men's Dormitories","Instructor in Law / In charge of Men's Dormitories"]
[null,"Rogers","Mary Anne","B.A.",null,null,null,null,null,null,null,null,null,null,null,null,null,null,null,null,null,null,null,null,null,null,null,null,null,null,null,null,null,null,null,null,null,null,null,null,null,null,null,null,null,null,null,null,null,null,null,null,null,null,null,null,null,null,null,null,null,null,null,null,null,null,null,null,null,null,null,null,null,null,null,null,null,null,null,null,null,null,null,null,null,null,null,null,null,null,null,null,null,null,null,null,null,null,null,null,null,null,null,null,null,null,null,null,null,null,null,null,null,null,null,null,null,null,"Director of Internal & Community Relations","Director of Internal & Community Relations","Director of Internal & Community Relations"]
[4486,"Rooney","Terrence","B.S.",null,null,null,null,null,null,null,null,null,null,null,null,null,null,null,null,null,null,null,null,null,null,null,null,null,null,null,null,null,null,null,null,null,null,null,null,null,null,null,null,null,null,null,null,null,null,null,null,null,null,null,null,null,null,null,null,null,null,null,null,null,null,null,null,null,null,null,null,null,null,null,null,null,null,null,null,null,null,null,null,null,null,null,null,null,null,null,null,null,null,null,null,null,null,null,null,null,null,null,null,null,null,null,null,null,"Assistant Baseball Coach","Assistant Baseball Coach"]
[180,"Rosa","Clifford B.","Mrs.",null,null,null,null,null,null,null,null,null,null,null,null,null,null,null,null,"Instructor in Violin","Instructor in Violin"]
[4354,"Rosenthal","Lawrence D.","B.A., J.D., LL.M.",null,null,null,null,null,null,null,null,null,null,null,null,null,null,null,null,null,null,null,null,null,null,null,null,null,null,null,null,null,null,null,null,null,null,null,null,null,null,null,null,null,null,null,null,null,null,null,null,null,null,null,null,null,null,null,null,null,null,null,null,null,null,null,null,null,null,null,null,null,null,null,null,null,null,null,null,null,null,null,null,null,null,null,null,null,null,null,null,null,null,null,null,null,null,null,null,null,null,null,null,null,null,null,"Instructor of Legal Research & Writing","Instructor of Legal Research & Writing","Instructor of Legal Research & Writing","Associate Director of Legal Research & Writing"]
[3951,"Roth","Lorie J.","B.A., M.A.",null,null,null,null,null,null,null,null,null,null,null,null,null,null,null,null,null,null,null,null,null,null,null,null,null,null,null,null,null,null,null,null,null,null,null,null,null,null,null,null,null,null,null,null,null,null,null,null,null,null,null,null,null,null,null,null,null,null,null,null,null,null,null,null,null,null,null,null,null,null,null,null,null,null,null,null,null,null,null,null,null,null,null,null,null,null,null,null,"Instructor in English"]
[2710,"Rowley","Frances L.",null,null,null,null,null,null,null,null,null,null,null,null,null,null,null,null,null,null,null,null,null,null,null,null,null,"Assistant in Kindergarten"]
[3462,"Royce","Herbert","Doktor rer.pol",null,null,null,null,null,null,null,null,null,null,null,null,null,null,null,null,null,null,null,null,null,null,null,null,null,null,null,null,null,null,null,null,null,null,null,null,null,null,null,null,null,null,null,null,null,null,null,null,null,null,null,null,null,null,null,null,null,null,null,null,null,null,null,null,null,null,null,null,"Assistant Professor of Modern Languages","Assistant Professor of Modern Languages","Assistant Professor of Modern Languages"]
[2918,"Ruggles","Clarence A.","B.S. in E.E.",null,null,null,null,null,null,null,null,null,null,null,null,null,null,null,null,null,null,null,null,null,null,null,null,null,null,null,null,null,null,null,null,null,null,null,null,null,"Professor of Electrical Engineering","Professor of Electrical Engineering"]
[4204,"Russell","William C.","B.A.",null,null,null,null,null,null,null,null,null,null,null,null,null,null,null,null,null,null,null,null,null,null,null,null,null,null,null,null,null,null,null,null,null,null,null,null,null,null,null,null,null,null,null,null,null,null,null,null,null,null,null,null,null,null,null,null,null,null,null,null,null,null,null,null,null,null,null,null,null,null,null,null,null,null,null,null,null,null,null,null,null,null,null,null,null,null,null,null,null,null,null,null,null,null,null,null,null,null,"Men's Tennis Coach"]
[4125,"Ryan","Susan M.","B.S., M.S., M.L.S.",null,null,null,null,null,null,null,null,null,null,null,null,null,null,null,null,null,null,null,null,null,null,null,null,null,null,null,null,null,null,null,null,null,null,null,null,null,null,null,null,null,null,null,null,null,null,null,null,null,null,null,null,null,null,null,null,null,null,null,null,null,null,null,null,null,null,null,null,null,null,null,null,null,null,null,null,null,null,null,null,null,null,null,null,null,null,null,null,null,null,null,null,null,null,null,null,"Government Documents Librarian / Instructor","Government Documents Librarian / Instructor","Assistant Professor / Government Documents Librarian","Assistant Professor / Government Documents Librarian","Assistant Professor / Documents Librarian","Assistant Professor / Documents Librarian","Assistant Professor / Documents Librarian","Associate Professor / Associate Director for Public \nServices, duPont Ball Library","Associate Professor / Associate Director for Public \nServices, duPont Ball Library","Associate Professor / Associate Director for Public \nServices, duPont Ball Library","Associate Professor / Associate Director of \nduPont-Ball Library","Professor / Associate Director of duPont-Ball Library","Professor / Associate Director of duPont-Ball Library","Professor / Associate Director of duPont-Ball Library","Professor / Associate Director of duPont-Ball Library","Professor / Associate Director of duPont-Ball Library","Professor / Associate Director of duPont-Ball Library","Professor / Associate Director of duPont-Ball Library","Professor / Associate Director of duPont-Ball Library","Professor / Interim Director of duPont-Ball Library","Professor of Library / Dean of the duPont-Ball Library \n& Digital Learning Resources","Professor of Library / Dean of the duPont-Ball Library \n& Digital Learning Resources"]
[4386,"Rycerz","Anthony M.","B.A., Ph.D",null,null,null,null,null,null,null,null,null,null,null,null,null,null,null,null,null,null,null,null,null,null,null,null,null,null,null,null,null,null,null,null,null,null,null,null,null,null,null,null,null,null,null,null,null,null,null,null,null,null,null,null,null,null,null,null,null,null,null,null,null,null,null,null,null,null,null,null,null,null,null,null,null,null,null,null,null,null,null,null,null,null,null,null,null,null,null,null,null,null,null,null,null,null,null,null,null,null,null,null,null,null,null,null,"Visiting Assistant Professor of Biology"]
[641,"Sample","A.B.","Mr. & Mrs.",null,null,null,null,null,null,null,null,null,null,null,null,null,null,null,null,null,null,null,null,null,null,null,null,null,null,null,null,null,null,null,null,null,null,null,null,null,null,null,null,null,null,null,null,null,null,null,"Stewards","Stewards"]
[4601,"Sapp","D. Gregory","B.A., M.Div., M.A., Ph.D.",null,null,null,null,null,null,null,null,null,null,null,null,null,null,null,null,null,null,null,null,null,null,null,null,null,null,null,null,null,null,null,null,null,null,null,null,null,null,null,null,null,null,null,null,null,null,null,null,null,null,null,null,null,null,null,null,null,null,null,null,null,null,null,null,null,null,null,null,null,null,null,null,null,null,null,null,null,null,null,null,null,null,null,null,null,null,null,null,null,null,null,null,null,null,null,null,null,null,null,null,null,null,null,null,null,null,null,null,null,null,"Associate Professor Religious Studies / Marchman Chair","Associate Professor Religious Studies / Marchman Chair","Associate Professor Religious Studies / Marchman Chair","Associate Professor Religious Studies / Marchman Chair","Associate Professor of Religious Studies / Hal S. \nMarchman Chair of Civic & Social Responsibility","Associate Professor of Religious Studies / Hal S. \nMarchman Chair of Civic & Social Responsibility","Associate Professor of Religious Studies / Hal S. \nMarchman Chair of Civic & Social Responsibility","Associate Professor of Religious Studies"]
[3695,"Saunders","Thomas M","MA",null,null,null,null,null,null,null,null,null,null,null,null,null,null,null,null,null,null,null,null,null,null,null,null,null,null,null,null,null,null,null,null,null,null,null,null,null,null,null,null,null,null,null,null,null,null,null,null,null,null,null,null,null,null,null,null,null,null,null,null,null,null,null,null,null,null,null,null,null,null,null,null,null,null,null,null,null,null,null,"Guidance Counselor"]
[4103,"Savastano","Jennifer E.","B.M., M.M.",null,null,null,null,null,null,null,null,null,null,null,null,null,null,null,null,null,null,null,null,null,null,null,null,null,null,null,null,null,null,null,null,null,null,null,null,null,null,null,null,null,null,null,null,null,null,null,null,null,null,null,null,null,null,null,null,null,null,null,null,null,null,null,null,null,null,null,null,null,null,null,null,null,null,null,null,null,null,null,null,null,null,null,null,null,null,null,null,null,null,null,null,null,null,null,"Assistant Professor of Music"]
[365,"Scarlett","Joseph Alexander","Ph.B., LL.B.",null,null,null,null,null,null,null,null,null,null,null,null,null,null,null,null,null,null,null,null,null,null,null,null,null,null,null,null,"Instructor in Law","Instructor in Law"]
[4487,"Schmid","Sasha","B.A., J.D.",null,null,null,null,null,null,null,null,null,null,null,null,null,null,null,null,null,null,null,null,null,null,null,null,null,null,null,null,null,null,null,null,null,null,null,null,null,null,null,null,null,null,null,null,null,null,null,null,null,null,null,null,null,null,null,null,null,null,null,null,null,null,null,null,null,null,null,null,null,null,null,null,null,null,null,null,null,null,null,null,null,null,null,null,null,null,null,null,null,null,null,null,null,null,null,null,null,null,null,null,null,null,null,null,null,"Head Women's Tennis Coach","Head Women's Tennis Coach","Head Women's Tennis Coach","Head Women's Tennis Coach","Head Women's Tennis Coach","Head Women's Tennis Coach","Head Women's Tennis Coach","Head Women's Tennis Coach","Head Women's Tennis Coach","Head Women’s Tennis Coach"]
[4552,"Schmitt","Julia","B.A., M.A., Ph.D.",null,null,null,null,null,null,null,null,null,null,null,null,null,null,null,null,null,null,null,null,null,null,null,null,null,null,null,null,null,null,null,null,null,null,null,null,null,null,null,null,null,null,null,null,null,null,null,null,null,null,null,null,null,null,null,null,null,null,null,null,null,null,null,null,null,null,null,null,null,null,null,null,null,null,null,null,null,null,null,null,null,null,null,null,null,null,null,null,null,null,null,null,null,null,null,null,null,null,null,null,null,null,null,null,null,null,null,null,"Assistant Professor of Theatre Arts","Assistant Professor of Theatre Arts","Assistant Professor of Theatre Arts","Assistant Professor of Theatre Arts","Assistant Professor of Theatre Arts","Assistant Professor of Theatre Arts","Associate Professor of Theatre Arts","Associate Professor / Chair of Communication Studies \n& Theatre Arts","Associate Professor / Director of Theatre Arts","Associate Professor / Director of Theatre Arts"]
[4443,"Schneider","Jennifer","B.A.",null,null,null,null,null,null,null,null,null,null,null,null,null,null,null,null,null,null,null,null,null,null,null,null,null,null,null,null,null,null,null,null,null,null,null,null,null,null,null,null,null,null,null,null,null,null,null,null,null,null,null,null,null,null,null,null,null,null,null,null,null,null,null,null,null,null,null,null,null,null,null,null,null,null,null,null,null,null,null,null,null,null,null,null,null,null,null,null,null,null,null,null,null,null,null,null,null,null,null,null,null,null,null,"Assistant Women's Basketball Coach","Assistant Women's Basketball Coach"]
[4690,"Schrager","Matthew","B.A., M.S., Ph.D.",null,null,null,null,null,null,null,null,null,null,null,null,null,null,null,null,null,null,null,null,null,null,null,null,null,null,null,null,null,null,null,null,null,null,null,null,null,null,null,null,null,null,null,null,null,null,null,null,null,null,null,null,null,null,null,null,null,null,null,null,null,null,null,null,null,null,null,null,null,null,null,null,null,null,null,null,null,null,null,null,null,null,null,null,null,null,null,null,null,null,null,null,null,null,null,null,null,null,null,null,null,null,null,null,null,null,null,null,null,null,null,null,null,"Assistant Professor of Integrative Health Science","Assistant Professor of Integrative Health Science","Assistant Professor of Integrative Health Science","Assistant Professor of Integrative Health Science","Assistant Professor of Integrative Health Science"]
[864,"Schulz","William Frederick","Jr., A.M., LL. B.",null,null,null,null,null,null,null,null,null,null,null,null,null,null,null,null,null,null,null,null,null,null,null,null,null,null,null,null,null,null,null,null,null,null,null,null,null,null,null,null,null,null,null,null,null,null,null,null,null,null,null,null,null,null,null,null,null,null,"Associate Professor of Law","Associate Professor of Law","Associate Professor of Law"]
[3953,"Schweizer","Mark G.","B.M., M.M., A.M.D.",null,null,null,null,null,null,null,null,null,null,null,null,null,null,null,null,null,null,null,null,null,null,null,null,null,null,null,null,null,null,null,null,null,null,null,null,null,null,null,null,null,null,null,null,null,null,null,null,null,null,null,null,null,null,null,null,null,null,null,null,null,null,null,null,null,null,null,null,null,null,null,null,null,null,null,null,null,null,null,null,null,null,null,null,null,null,null,null,"Instructor in Music","Instructor in Voice","Instructor in Voice"]
[3932,"Scott","Martha E.","B.A., Ed.S.",null,null,null,null,null,null,null,null,null,null,null,null,null,null,null,null,null,null,null,null,null,null,null,null,null,null,null,null,null,null,null,null,null,null,null,null,null,null,null,null,null,null,null,null,null,null,null,null,null,null,null,null,null,null,null,null,null,null,null,null,null,null,null,null,null,null,null,null,null,null,null,null,null,null,null,null,null,null,null,null,null,null,null,null,null,null,null,"Instructor / Audio & Visual Librarian","Instructor / Audio & Visual Librarian"]
[3623,"Scott","Taylor Carver","Jr., A.B., M.A., Ph.D."]
[null,"Seah","Leander","B.A., M.A., Ph.D",null,null,null,null,null,null,null,null,null,null,null,null,null,null,null,null,null,null,null,null,null,null,null,null,null,null,null,null,null,null,null,null,null,null,null,null,null,null,null,null,null,null,null,null,null,null,null,null,null,null,null,null,null,null,null,null,null,null,null,null,null,null,null,null,null,null,null,null,null,null,null,null,null,null,null,null,null,null,null,null,null,null,null,null,null,null,null,null,null,null,null,null,null,null,null,null,null,null,null,null,null,null,null,null,null,null,null,null,null,null,null,null,null,null,null,"Assistant Professor of History","Assistant Professor of History","Assistant Professor of History"]
[4693,"Seigel","Michael L","A.B., J.D.",null,null,null,null,null,null,null,null,null,null,null,null,null,null,null,null,null,null,null,null,null,null,null,null,null,null,null,null,null,null,null,null,null,null,null,null,null,null,null,null,null,null,null,null,null,null,null,null,null,null,null,null,null,null,null,null,null,null,null,null,null,null,null,null,null,null,null,null,null,null,null,null,null,null,null,null,null,null,null,null,null,null,null,null,null,null,null,null,null,null,null,null,null,null,null,null,null,null,null,null,null,null,null,null,null,null,null,null,null,null,null,null,null,"Visiting Professor of Law"]
[2556,"Self","Fred B.",null,null,null,null,null,null,null,null,null,null,null,null,null,null,null,null,"Assistant in Practice School"]
[3551,"Seoudemire","Harry B.","B.S.",null,null,null,null,null,null,null,null,null,null,null,null,null,null,null,null,null,null,null,null,null,null,null,null,null,null,null,null,null,null,null,null,null,null,null,null,null,null,null,null,null,null,null,null,null,null,null,null,null,null,null,null,null,null,null,null,null,null,null,null,null,null,null,null,null,null,null,null,null,null,null,null,"Associate Professor of Military Science & Tactics"]
[3182,"Shackleford","Ann O.",null,null,null,null,null,null,null,null,null,null,null,null,null,null,null,null,null,null,null,null,null,null,null,null,null,null,null,null,null,null,null,null,null,null,null,null,null,null,null,null,null,null,null,null,null,null,null,null,null,null,null,null,null,null,null,null,null,null,"Secretary to the Dean of Women"]
[49,"Sharp","W.A.","Mrs.",null,null,null,null,null,null,null,null,null,"Instructor in Violin","Instructor in Violin Music","Instructor in Violin Music","Instructor in Violin",null,"Instructor in Violin","Instructor in Violin"]
[2437,"Sharp","W.A.",null,null,null,null,null,null,null,null,null,null,"Director of School of Art","Director of School of Art","Director of School of Art","Director of School of Art","Director of School of Art","Director of School of Art","Director of School of Art","Director of School of Art"]
[2640,"Sheddan","Hazel H.",null,null,null,null,null,null,null,null,null,null,null,null,null,null,null,null,null,null,null,null,"Assistant in Library","Stenographer","Stenographer","Instructor of Shorthand & Typewriting","Instructor of Shorthand & Typewriting","Instructor of Shorthand & Typewriting","Instructor of Shorthand & Typewriting","Secretary","Secretary","Secretary","Secretary"]
[4694,"Shen","Yingtao M","B.S., M.S., Ph.D.",null,null,null,null,null,null,null,null,null,null,null,null,null,null,null,null,null,null,null,null,null,null,null,null,null,null,null,null,null,null,null,null,null,null,null,null,null,null,null,null,null,null,null,null,null,null,null,null,null,null,null,null,null,null,null,null,null,null,null,null,null,null,null,null,null,null,null,null,null,null,null,null,null,null,null,null,null,null,null,null,null,null,null,null,null,null,null,null,null,null,null,null,null,null,null,null,null,null,null,null,null,null,null,null,null,null,null,null,null,null,null,null,null,"Assistant Professor of Marketing","Assistant Professor of Marketing","Assistant Professor of Marketing","Assistant Professor of Marketing"]
[3401,"Sherman","Harley Bakwell","B.S., M.A., Ph.D.",null,null,null,null,null,null,null,null,null,null,null,null,null,null,null,null,null,null,null,null,null,null,null,null,null,null,null,null,null,null,null,null,null,null,null,null,null,null,null,null,null,null,null,null,null,null,null,null,null,null,null,null,null,null,null,null,null,null,null,null,null,null,null,null,null,null,"Research Professor of Biology","Research Professor of Biology"]
[null,"Shim","Jae-Mahn","B.A., M.A., ABD",null,null,null,null,null,null,null,null,null,null,null,null,null,null,null,null,null,null,null,null,null,null,null,null,null,null,null,null,null,null,null,null,null,null,null,null,null,null,null,null,null,null,null,null,null,null,null,null,null,null,null,null,null,null,null,null,null,null,null,null,null,null,null,null,null,null,null,null,null,null,null,null,null,null,null,null,null,null,null,null,null,null,null,null,null,null,null,null,null,null,null,null,null,null,null,null,null,null,null,null,null,null,null,null,null,null,null,null,null,null,null,null,null,null,null,null,"Assistant Professor of Sociology"]
[4695,"Shuler","Kevin",null,null,null,null,null,null,null,null,null,null,null,null,null,null,null,null,null,null,null,null,null,null,null,null,null,null,null,null,null,null,null,null,null,null,null,null,null,null,null,null,null,null,null,null,null,null,null,null,null,null,null,null,null,null,null,null,null,null,null,null,null,null,null,null,null,null,null,null,null,null,null,null,null,null,null,null,null,null,null,null,null,null,null,null,null,null,null,null,null,null,null,null,null,null,null,null,null,null,null,null,null,null,null,null,null,null,null,null,null,null,null,null,null,null,"Senior Military Science Instructor","Senior Military Science Instructor","Senior Military Science Instructor","Senior Military Science Instructor","Senior Military Science Instructor"]
[4652,"Simmons","Carl","B.S.",null,null,null,null,null,null,null,null,null,null,null,null,null,null,null,null,null,null,null,null,null,null,null,null,null,null,null,null,null,null,null,null,null,null,null,null,null,null,null,null,null,null,null,null,null,null,null,null,null,null,null,null,null,null,null,null,null,null,null,null,null,null,"Instructor in Physical Education"]
[4427,"Singletary","Cary R.","B.S., M.S., J.D.",null,null,null,null,null,null,null,null,null,null,null,null,null,null,null,null,null,null,null,null,null,null,null,null,null,null,null,null,null,null,null,null,null,null,null,null,null,null,null,null,null,null,null,null,null,null,null,null,null,null,null,null,null,null,null,null,null,null,null,null,null,null,null,null,null,null,null,null,null,null,null,null,null,null,null,null,null,null,null,null,null,null,null,null,null,null,null,null,null,null,null,null,null,null,null,null,null,null,null,null,null,null,null,null,"Distinguished Professional Lecturer","Distinguished Professional Lecturer / Director of \nCenter Dispute Resolution","Distinguished Professional Lecturer","Distinguished Professional Lecturer"]
[4529,"Singletary","Sebastian","B.A.",null,null,null,null,null,null,null,null,null,null,null,null,null,null,null,null,null,null,null,null,null,null,null,null,null,null,null,null,null,null,null,null,null,null,null,null,null,null,null,null,null,null,null,null,null,null,null,null,null,null,null,null,null,null,null,null,null,null,null,null,null,null,null,null,null,null,null,null,null,null,null,null,null,null,null,null,null,null,null,null,null,null,null,null,null,null,null,null,null,null,null,null,null,null,null,null,null,null,null,null,null,null,null,null,null,null,null,"Assistant Men's Basketball Coach","Assistant Men's Basketball Coach","Assistant Men's Basketball Coach","Assistant Men's Basketball Coach","Assistant Men's Basketball Coach","Assistant Men's Basketball Coach","Assistant Men's Basketball Coach","Assistant Men’s Basketball Coach"]
[4194,"Skelton","Michelle","B.S., M.S., Ph.D.",null,null,null,null,null,null,null,null,null,null,null,null,null,null,null,null,null,null,null,null,null,null,null,null,null,null,null,null,null,null,null,null,null,null,null,null,null,null,null,null,null,null,null,null,null,null,null,null,null,null,null,null,null,null,null,null,null,null,null,null,null,null,null,null,null,null,null,null,null,null,null,null,null,null,null,null,null,null,null,null,null,null,null,null,null,null,null,null,null,null,null,null,null,null,null,null,null,null,"Assistant Professor of Physical Education","Assistant Professor of Sport & Exercise Science","Assistant Professor of Sport & Exercise Science","Assistant Professor of Sport & Exercise Science","Assistant Professor of Sport & Exercise Science","Assistant Professor of Sport & Exercise Science","Assistant Professor of Sport & Exercise Science / Chair","Associate Professor in Health Science & Sports \nManagement / Chair","Associate Professor in Health Science & Sports \nManagement / Chair","Associate Professor in Health Science & Sports \nManagement / Chair","Associate Professor in Health Science & Sports \nManagement / Chair","Associate Professor in Health Science & \nSports Management / Chair","Associate Professor in Health Science & Sports \nManagement / Chair","Associate Professor integrative Health Science / Chair","Associate Professor integrative Health Science / Chair","Associate Professor integrative Health Science / Chair","Associate Professor of Integrative Health \nScience / Chair","Associate Professor of Integrative Health Science /\nChair / Lynn & Mark Hollis Chair of Health & Wellness","Associate Professor of Integrative Health Science / \nLynn & Mark Hollis Chair of Health & Wellness","Associate Professor of Integrative Health Science /\n Lynn & Mark Hollis Chair of Health & Wellness"]
[3993,"Small","Ann R.","B.M.E., M.Ed., Ph.D.",null,null,null,null,null,null,null,null,null,null,null,null,null,null,null,null,null,null,null,null,null,null,null,null,null,null,null,null,null,null,null,null,null,null,null,null,null,null,null,null,null,null,null,null,null,null,null,null,null,null,null,null,null,null,null,null,null,null,null,null,null,null,null,null,null,null,null,null,null,null,null,null,null,null,null,null,null,null,null,null,null,null,null,null,null,null,null,null,null,null,"Assistant Professor of Music Education","Assistant Professor of Music Education","Assistant Professor of Music Education","Associate Professor of Music Education","Associate Professor of Music Education","Associate Professor of Music Education","Associate Professor of Music","Associate Professor of Music","Professor of Music / Chair of Classroom, Ensemble Division","Professor of Music","Professor of Music","Professor of Music","Professor of Music","Professor of Music","Professor of Music","Professor of Music","Professor of Music","Professor of Music","Professor of Music","Professor of Music","Professor of Music","Professor of Music","Professor of Music","Professor of Music","Professor of Music","Senior Professor of Music / Professor of \nMusic, Emeritus","Senior Professor of Music / Professor of \nMusic, Emeritus","Professor of Music, Emeritus"]
[3103,"Smith","Charlotte Annette","A.B., M.A., A.B. in L.S.",null,null,null,null,null,null,null,null,null,null,null,null,null,null,null,null,null,null,null,null,null,null,null,null,null,null,null,null,null,null,null,null,null,null,null,null,null,null,null,null,null,null,null,null,null,null,null,null,null,null,"Library Assistant","Assistant Librarian","Librarian","Librarian","Librarian","Librarian","Librarian","Librarian","Librarian","Librarian","Librarian","Librarian (Leave of Absence)","Librarian","Librarian","Librarian","Librarian","Librarian","Librarian","Librarian","Librarian","Documents Librarian","Documents Librarian","Documents Librarian","Documents Librarian","Documents Librarian","Librarian","Librarian","Professor / Librarian","Professor / Librarian","Professor / Librarian","Professor / Librarian, Emeritus","Professor / Librarian, Emeritus","Professor / Librarian, Emeritus","Professor / Librarian, Emeritus","Professor / Librarian, Emeritus","Professor / Librarian, Emeritus","Professor / Librarian, Emeritus","Professor / Librarian, Emeritus","Professor / Librarian, Emeritus","Professor / Librarian, Emeritus","Professor / Librarian, Emeritus","Professor / Librarian, Emeritus","Professor / Librarian, Emeritus","Professor / Librarian, Emeritus","Professor / Librarian, Emeritus","Professor / Librarian, Emeritus","Professor / Librarian, Emeritus"]
[554,"Smith","Charlotte E.",null,null,null,null,null,null,null,null,null,null,null,null,null,null,null,null,null,null,null,null,null,null,null,null,null,null,null,null,null,null,null,null,null,null,null,null,null,null,null,"Assistant in Business Administration"]
[265,"Smith","Fred",null,null,null,null,null,null,null,null,null,null,null,null,null,null,null,null,null,null,null,null,null,"In Charge of University Book Store","In Charge of University Book Store"]
[594,"Smith","Lyrra",null,null,null,null,null,null,null,null,null,null,null,null,null,null,null,null,null,null,null,null,null,null,null,null,null,null,null,null,null,null,null,null,null,null,null,null,null,null,null,null,null,null,"University Chimer"]
[3402,"Smith","Ruth I.","B.S., M.A., ED",null,null,null,null,null,null,null,null,null,null,null,null,null,null,null,null,null,null,null,null,null,null,null,null,null,null,null,null,null,null,null,null,null,null,null,null,null,null,null,null,null,null,null,null,null,null,null,null,null,null,null,null,null,null,null,null,null,null,null,null,null,null,null,null,null,null,"Assistant Professor of Education","Assistant Professor of Education","Assistant Professor of Education","Assistant Professor of Education","Assistant Professor of Education","Assistant Professor of Education","Professor of Education","Professor of Education","Professor of Education","Professor of Education","Professor of Education","Assistant Professor of Education","Professor of Education","Professor of Education, Emeritus","Professor of Education, Emeritus","Professor of Education, Emeritus","Professor of Education, Emeritus","Professor of Education, Emeritus","Professor of Education, Emeritus","Professor of Education, Emeritus","Professor of Education, Emeritus","Professor of Education, Emeritus","Professor of Education, Emeritus","Professor of Education, Emeritus","Professor of Education, Emeritus","Professor of Education, Emeritus","Professor of Education, Emeritus","Professor of Education, Emeritus","Professor of Education, Emeritus","Professor of Education, Emeritus","Professor of Education, Emeritus","Professor of Education, Emeritus","Professor of Education, Emeritus","Professor of Education, Emeritus","Professor of Education, Emeritus","Professor of Education, Emeritus","Professor of Education, Emeritus","Professor of Education, Emeritus"]
[3563,"Smith","Sandford O.","A.B., M.A., B.D.,",null,null,null,null,null,null,null,null,null,null,null,null,null,null,null,null,null,null,null,null,null,null,null,null,null,null,null,null,null,null,null,null,null,null,null,null,null,null,null,null,null,null,null,null,null,null,null,null,null,null,null,null,null,null,null,null,null,null,null,null,null,null,null,null,null,null,null,null,null,null,null,null,null,"Instructor in Mathematics","Instructor in Mathematics","Instructor in Mathematics","Instructor in Mathematics"]
[3463,"Smotherman","Thurman Edwin","B.A., M.Ed., Ed.D.",null,null,null,null,null,null,null,null,null,null,null,null,null,null,null,null,null,null,null,null,null,null,null,null,null,null,null,null,null,null,null,null,null,null,null,null,null,null,null,null,null,null,null,null,null,null,null,null,null,null,null,null,null,null,null,null,null,null,null,null,null,null,null,null,null,null,null,null,"Associate Professor of Education","Associate Professor of Education","Associate Professor of Education","Associate Professor of Education","Professor of Education","Professor of Education","Professor of Education","Professor of Education","Professor of Education","Professor of Education","Professor of Education","Professor of Education","Professor of Education","Professor of Education","Professor of Education","Professor of Education","Professor of Education","Professor of Education","Professor of Education","Professor of Education","Professor of Education","Professor of Education","Professor of Education","Professor of Education","Professor of Education","Professor of Education","Professor of Education / Senior Active Status","Professor of Education / Senior Active Status","Professor of Education, Emeritus","Professor of Education, Emeritus","Professor of Education, Emeritus","Professor of Education, Emeritus","Professor of Education, Emeritus","Professor of Education, Emeritus","Professor of Education, Emeritus","Professor of Education, Emeritus","Professor of Education, Emeritus","Professor of Education, Emeritus","Professor of Education, Emeritus","Professor of Education, Emeritus","Professor of Education, Emeritus","Professor of Education, Emeritus","Professor of Education, Emeritus","Professor of Education, Emeritus","Professor of Education, Emeritus","Professor of Education, Emeritus"]
[3230,"Snowden","Jesse Lee","A.B.",null,null,null,null,null,null,null,null,null,null,null,null,null,null,null,null,null,null,null,null,null,null,null,null,null,null,null,null,null,null,null,null,null,null,null,null,null,null,null,null,null,null,null,null,null,null,null,null,null,null,null,null,null,null,null,null,null,null,"Assistant Professor of Mathematics","Assistant Professor of English","Assistant Professor of English"]
[2602,"Spalding","Florence Pearl",null,null,null,null,null,null,null,null,null,null,null,null,null,null,null,null,null,null,"Monitor in Music Department"]
[358,"Sparber","France B.",null,null,null,null,null,null,null,null,null,null,null,null,null,null,null,null,null,null,null,null,null,null,null,null,null,null,null,null,"Monitor in School of Music","Monitor in School of Music"]
[2571,"Spence","Margaret",null,null,null,null,null,null,null,null,null,null,null,null,null,null,null,null,null,"Instructor in Shorthand & Stenographers' Office Practice","Instructor in Shorthand & Stenographers' Office Practice"]
[3628,"Srygley","Fletcher D.","B.A., Ph.D.",null,null,null,null,null,null,null,null,null,null,null,null,null,null,null,null,null,null,null,null,null,null,null,null,null,null,null,null,null,null,null,null,null,null,null,null,null,null,null,null,null,null,null,null,null,null,null,null,null,null,null,null,null,null,null,null,null,null,null,null,null,null,null,null,null,null,null,null,null,null,null,null,null,null,null,null,"Assistant Professor of Physics","Assistant Professor of Physics","Assistant Professor of Physics","Assistant Professor of Physics","Assistant Professor of Physics","Assistant Professor of Physics","Assistant Professor of Physics","Assistant Professor of Physics"]
[3522,"Stafford","Richard L.","B.S., M.S., B.D.",null,null,null,null,null,null,null,null,null,null,null,null,null,null,null,null,null,null,null,null,null,null,null,null,null,null,null,null,null,null,null,null,null,null,null,null,null,null,null,null,null,null,null,null,null,null,null,null,null,null,null,null,null,null,null,null,null,null,null,null,null,null,null,null,null,null,null,null,null,null,null,"Assistant Professor of Psychology","Assistant Professor of Psychology"]
[4623,"Stahl","Peggy","B.A., M.S.",null,null,null,null,null,null,null,null,null,null,null,null,null,null,null,null,null,null,null,null,null,null,null,null,null,null,null,null,null,null,null,null,null,null,null,null,null,null,null,null,null,null,null,null,null,null,null,null,null,null,null,null,null,null,null,null,null,null,null,null,null,null,null,null,null,null,null,null,null,null,null,null,null,null,null,null,null,null,null,null,null,null,null,null,null,null,null,null,null,null,null,null,null,null,null,null,null,null,null,null,null,null,null,null,null,null,null,null,null,null,null,"Lecturer in Management & International Business","Lecturer in Management & International Business","Lecturer in Management & International Business","Visiting Lecturer in Management & International Business","Visiting Lecturer in Management & International \nBusiness"]
[2716,"Stebbins","Mary Hart","A.B.",null,null,null,null,null,null,null,null,null,null,null,null,null,null,null,null,null,null,null,null,null,null,null,null,"Monitor in School of Music","Monitor in School of Music"]
[3994,"Stephens","Linda","B.A., M.Ed., J.D.",null,null,null,null,null,null,null,null,null,null,null,null,null,null,null,null,null,null,null,null,null,null,null,null,null,null,null,null,null,null,null,null,null,null,null,null,null,null,null,null,null,null,null,null,null,null,null,null,null,null,null,null,null,null,null,null,null,null,null,null,null,null,null,null,null,null,null,null,null,null,null,null,null,null,null,null,null,null,null,null,null,null,null,null,null,null,null,null,null,null,"Assistant Dean of College of Law"]
[4043,"Stevens","Jackson C.","B.S., M.A., Ph.D.",null,null,null,null,null,null,null,null,null,null,null,null,null,null,null,null,null,null,null,null,null,null,null,null,null,null,null,null,null,null,null,null,null,null,null,null,null,null,null,null,null,null,null,null,null,null,null,null,null,null,null,null,null,null,null,null,null,null,null,null,null,null,null,null,null,null,null,null,null,null,null,null,null,null,null,null,null,null,null,null,null,null,null,null,null,null,null,null,null,null,null,null,"Assistant Professor of Management",null,"Assistant Professor of Management","Assistant Professor of Management","Assistant Professor of Management","Assistant Professor of Management"]
[3439,"Stevenson","Burton","LLB",null,null,null,null,null,null,null,null,null,null,null,null,null,null,null,null,null,null,null,null,null,null,null,null,null,null,null,null,null,null,null,null,null,null,null,null,null,null,null,null,null,null,null,null,null,null,null,null,null,null,null,null,null,null,null,null,null,null,null,null,null,null,null,null,null,null,null,null,"Assistant Professor of Law","Assistant Professor of Law",null,null,null,null,null,null,null,"Assistant Professor of Law"]
[338,"Stiles","Kate","A.B.",null,null,null,null,null,null,null,null,null,null,null,null,null,null,null,null,null,null,null,null,null,null,null,null,null,"Secretary to the President","Secretary to the President","Secretary to the President"]
[2890,"Stockwell","Catherine Haynes","A.B.",null,null,null,null,null,null,null,null,null,null,null,null,null,null,null,null,null,null,null,null,null,null,null,null,null,null,null,null,null,null,null,null,null,null,null,"Instructor in Fine Arts"]
[425,"Straw","Frances Winifred",null,null,null,null,null,null,null,null,null,null,null,null,null,null,null,null,null,null,null,null,null,null,null,null,null,null,null,null,null,null,null,null,null,"Instructor in Physical Culture","Instructor in Physical Culture"]
[2424,"Strayer","Franklin R.","A.B.",null,null,null,null,null,null,null,"Mathematics & Astrology / Military Tactics & Drill"]
[3405,"Stryker","Edgar Cuddeback","B.M., M.M.",null,null,null,null,null,null,null,null,null,null,null,null,null,null,null,null,null,null,null,null,null,null,null,null,null,null,null,null,null,null,null,null,null,null,null,null,null,null,null,null,null,null,null,null,null,null,null,null,null,null,null,null,null,null,null,null,null,null,null,null,null,null,null,null,null,null,"Instructor in Music Literature, Theory & Piano","Instructor in Music Literature, Theory & Piano","Instructor in Music Literature, Theory & Piano",null,null,null,null,null,null,null,null,"Instructor in Music Literature, Theory, & Piano"]
[894,"Sucher","Mary Wadsworth","A.M.",null,null,null,null,null,null,null,null,null,null,null,null,null,null,null,null,null,null,null,null,null,null,null,null,null,null,null,null,null,null,null,null,null,null,null,null,null,null,null,null,null,null,null,null,null,null,null,null,null,null,null,null,null,null,null,null,null,null,null,"Instructor in Biology"]
[3971,"Surynt","Theodore J.","B.B.A., M.B.A., Ph.D.",null,null,null,null,null,null,null,null,null,null,null,null,null,null,null,null,null,null,null,null,null,null,null,null,null,null,null,null,null,null,null,null,null,null,null,null,null,null,null,null,null,null,null,null,null,null,null,null,null,null,null,null,null,null,null,null,null,null,null,null,null,null,null,null,null,null,null,null,null,null,null,null,null,null,null,null,null,null,null,null,null,null,null,null,null,null,null,null,null,"Associate Professor of Business Administration","Associate Professor of Business Administration","Associate Professor of Information Systems","Associate Professor of Information Systems","Assistant Professor of Information Systems","Assistant Professor of Information Systems","Assistant Professor of Information Systems","Associate Professor of Information Systems","Associate Professor of Information Systems","Associate Professor of Information Systems","Associate Professor of Information Systems / Chair of \nDecisions & Information Sciences","Associate Professor of Information Systems / Chair of \nDecisions & Information Sciences","Professor of Information Systems / Chair of Decisions & \nInformation Sciences / Archie Greenberg Professorship","Professor of Information Systems / Chair of Decisions & \nInformation Sciences / Archie Greenberg Professorship","Professor of Decisions & Information Sciences / \nAssociate Dean for School of Business","Professor of Decisions & Information Sciences / \nAssociate Dean for School of Business","Professor of Decisions & Information Sciences / \nAssociate Dean for School of Business","Professor of Decisions & Information Sciences / \nAssociate Dean for School of Business","Professor of Decisions & Information Sciences / \nAssociate Dean for School of Business","Professor of Decisions & Information Sciences / \nAssociate Dean for School of Business","Professor of Decisions & Information Sciences / \nAssociate Dean for School of Business","Professor of Decisions & Information Sciences / \nAssociate Dean for School of Business","Professor of Decisions & Information Sciences / \nAssociate Dean for School of Business","Professor of Decisions & Information Sciences / \nAssociate Dean for School of Business","Professor of Decisions & Information Sciences / \nAssociate Dean for School of Business","Professor of Decisions & Information Sciences / \nAssociate Dean for School of Business Administration","Professor of Decision & Information Systems","Professor of Decision & Information Systems / \nAssociate Dean of the School of \nBusiness Administration","Professor of Decision & Information Systems / \nAssociate Dean of the School of Business \nAdministration"]
[3697,"Sutherland","Armour Rand Jr.","B.D., M.A.",null,null,null,null,null,null,null,null,null,null,null,null,null,null,null,null,null,null,null,null,null,null,null,null,null,null,null,null,null,null,null,null,null,null,null,null,null,null,null,null,null,null,null,null,null,null,null,null,null,null,null,null,null,null,null,null,null,null,null,null,null,null,null,null,null,null,null,null,null,null,null,null,null,null,null,null,null,null,null,"Assistant Professor of History","Assistant Professor of History","Assistant Professor of History","Assistant Professor of History","Assistant Professor of History"]
[3524,"Sutton","Joseph T.","B.S., M.A. Ph.D",null,null,null,null,null,null,null,null,null,null,null,null,null,null,null,null,null,null,null,null,null,null,null,null,null,null,null,null,null,null,null,null,null,null,null,null,null,null,null,null,null,null,null,null,null,null,null,null,null,null,null,null,null,null,null,null,null,null,null,null,null,null,null,null,null,null,null,null,null,null,null,"Associate Professor of Psychology","Associate Professor of Psychology","Associate Professor of Psychology","Professor of Psychology","Professor of Psychology","Professor of Psychology"]
[3552,"Swift","Jeanine","A.B., M.A.",null,null,null,null,null,null,null,null,null,null,null,null,null,null,null,null,null,null,null,null,null,null,null,null,null,null,null,null,null,null,null,null,null,null,null,null,null,null,null,null,null,null,null,null,null,null,null,null,null,null,null,null,null,null,null,null,null,null,null,null,null,null,null,null,null,null,null,null,null,null,null,null,"Instructor in Psychology","Instructor in Psychology"]
[3860,"Taft","Harry J.","B.G.S., M.B.A., C.P.A.",null,null,null,null,null,null,null,null,null,null,null,null,null,null,null,null,null,null,null,null,null,null,null,null,null,null,null,null,null,null,null,null,null,null,null,null,null,null,null,null,null,null,null,null,null,null,null,null,null,null,null,null,null,null,null,null,null,null,null,null,null,null,null,null,null,null,null,null,null,null,null,null,null,null,null,null,null,null,null,null,null,null,null,null,"Assistant Professor of Business Administration","Assistant Professor of Business Administration","Assistant Professor of Business Administration","Assistant Professor of Business Administration","Assistant Professor of Business Administration","Assistant Professor of Business Administration","Assistant Professor of Business Administration","Assistant Professor of Accounting","Assistant Professor of Accounting","Assistant Professor of Accounting","Assistant Professor of Accounting","Assistant Professor of Accounting","Assistant Professor of Accounting","Assistant Professor of Accounting","Assistant Professor of Accounting","Assistant Professor of Accounting","Assistant Professor of Accounting","Assistant Professor of Accounting","Assistant Professor of Accounting","Assistant Professor of Accounting","Assistant Professor of Accounting","Assistant Professor of Accounting","Assistant Professor of Accounting","Assistant Professor of Accounting","Assistant Professor of Accounting","Assistant Professor of Accounting","Assistant Professor of Accounting","Assistant Professor of Accounting","Assistant Professor of Accounting","Assistant Professor of Accounting","Assistant Professor of Accounting"]
[4355,"Taneja","Leena A.","B.A., M.A., Ph.D.",null,null,null,null,null,null,null,null,null,null,null,null,null,null,null,null,null,null,null,null,null,null,null,null,null,null,null,null,null,null,null,null,null,null,null,null,null,null,null,null,null,null,null,null,null,null,null,null,null,null,null,null,null,null,null,null,null,null,null,null,null,null,null,null,null,null,null,null,null,null,null,null,null,null,null,null,null,null,null,null,null,null,null,null,null,null,null,null,null,null,null,null,null,null,null,null,null,null,null,null,null,null,null,null,null,null,null,null,null,"Assistant Professor of Religious Studies","Assistant Professor of Religious Studies","Assistant Professor of Religious Studies","Assistant Professor of Religious Studies","Assistant Professor of Religious Studies","Assistant Professor of Religious Studies","Assistant Professor of Religious Studies"]
[null,"Taubert","Courtney","B.S.",null,null,null,null,null,null,null,null,null,null,null,null,null,null,null,null,null,null,null,null,null,null,null,null,null,null,null,null,null,null,null,null,null,null,null,null,null,null,null,null,null,null,null,null,null,null,null,null,null,null,null,null,null,null,null,null,null,null,null,null,null,null,null,null,null,null,null,null,null,null,null,null,null,null,null,null,null,null,null,null,null,null,null,null,null,null,null,null,null,null,null,null,null,null,null,null,null,null,null,null,null,null,null,null,null,null,null,null,null,null,null,null,null,null,null,"Assistant Indoor & Sand Volleyball Coach"]
[3482,"Taylor","William E.","B.A., M.A., Ph.D",null,null,null,null,null,null,null,null,null,null,null,null,null,null,null,null,null,null,null,null,null,null,null,null,null,null,null,null,null,null,null,null,null,null,null,null,null,null,null,null,null,null,null,null,null,null,null,null,null,null,null,null,null,null,null,null,null,null,null,null,null,null,null,null,null,null,null,null,null,"Assistant Professor of English","Assistant Professor of English","Assistant Professor of English","Associate Professor of English","Associate Professor of English","Professor of English","Professor of English","Professor of English","Professor of English","Professor of English","Professor of English","Professor of English","Professor of English","Professor of English","Professor of English","Professor of English / Chair","Professor of English / Chair","Professor of English / Chair","Professor of English / Chair","Professor of English / Chair","Professor of English / Chair","Professor of English / Nell Carlton Chair","Professor of English","Professor of English","Professor of English","Professor of English / Senior Active Status","Professor of English, Emeritus","Professor of English, Emeritus","Professor of English, Emeritus","Professor of English, Emeritus"]
[709,"Testi","Eolo","A.B.",null,null,null,null,null,null,null,null,null,null,null,null,null,null,null,null,null,null,null,null,null,null,null,null,null,null,null,null,null,null,null,null,null,null,null,null,null,null,null,null,null,null,null,null,null,null,null,null,null,null,"Instructor in Cello","Instructor in Cello"]
[4360,"Thacker","Tara, K.","B.F.A., M.F.A.",null,null,null,null,null,null,null,null,null,null,null,null,null,null,null,null,null,null,null,null,null,null,null,null,null,null,null,null,null,null,null,null,null,null,null,null,null,null,null,null,null,null,null,null,null,null,null,null,null,null,null,null,null,null,null,null,null,null,null,null,null,null,null,null,null,null,null,null,null,null,null,null,null,null,null,null,null,null,null,null,null,null,null,null,null,null,null,null,null,null,null,null,null,null,null,null,null,null,null,null,null,null,null,"Visiting Assistant Professor of Art"]
[null,"Thomas","M. Allan","B.S., M.S., Ph.D.",null,null,null,null,null,null,null,null,null,null,null,null,null,null,null,null,null,null,null,null,null,null,null,null,null,null,null,null,null,null,null,null,null,null,null,null,null,null,null,null,null,null,null,null,null,null,null,null,null,null,null,null,null,null,null,null,null,null,null,null,null,null,null,null,null,null,null,null,null,null,null,null,null,null,null,null,null,null,null,null,null,null,null,null,null,null,null,null,null,null,null,null,null,null,null,null,null,null,null,null,null,null,null,null,null,null,null,null,null,null,null,null,null,null,null,null,"Visiting Assistant Professor of Physics","Visiting Assistant Professor of Physics"]
[3776,"Thompson","Donald M","BA, MA",null,null,null,null,null,null,null,null,null,null,null,null,null,null,null,null,null,null,null,null,null,null,null,null,null,null,null,null,null,null,null,null,null,null,null,null,null,null,null,null,null,null,null,null,null,null,null,null,null,null,null,null,null,null,null,null,null,null,null,null,null,null,null,null,null,null,null,null,null,null,null,null,null,null,null,null,null,null,null,null,null,null,null,"Instructor in Geography & Geology",null,null,null,null,null,null,null,null,null,null,null,null,null,null,null,null,null,null,null,null,null,null,null,null,null,null,null,null,null,null,"Vice President for Enrollment Management"]
[3205,"Thompson","Phyllis A.",null,null,null,null,null,null,null,null,null,null,null,null,null,null,null,null,null,null,null,null,null,null,null,null,null,null,null,null,null,null,null,null,null,null,null,null,null,null,null,null,null,null,null,null,null,null,null,null,null,null,null,null,null,null,null,null,null,null,null,"Assistant Secretary to the President"]
[3811,"Thompson","William A.","B.A., M.A., Ph. D.",null,null,null,null,null,null,null,null,null,null,null,null,null,null,null,null,null,null,null,null,null,null,null,null,null,null,null,null,null,null,null,null,null,null,null,null,null,null,null,null,null,null,null,null,null,null,null,null,null,null,null,null,null,null,null,null,null,null,null,null,null,null,null,null,null,null,null,null,null,null,null,null,null,null,null,null,null,null,null,null,null,null,null,"Assistant Professor of History"]
[3575,"Thwing","Henry W.","B.S., M.A., Ph.D.",null,null,null,null,null,null,null,null,null,null,null,null,null,null,null,null,null,null,null,null,null,null,null,null,null,null,null,null,null,null,null,null,null,null,null,null,null,null,null,null,null,null,null,null,null,null,null,null,null,null,null,null,null,null,null,null,null,null,null,null,null,null,null,null,null,null,null,null,null,null,null,null,null,null,"Assistant Professor of Mathematics & Physics","Assistant Professor of Mathematics & Physics","Assistant Professor of Mathematics & Physics","Assistant Professor of Mathematics & Physics","Assistant Professor of Mathematics & Physics","Assistant Professor of Mathematics & Physics","Associate Professor of Mathematics","Associate Professor of Mathematics","Associate Professor of Mathematics","Associate Professor of Mathematics","Associate Professor of Mathematics","Associate Professor of Mathematics","Associate Professor of Mathematics","Associate Professor of Mathematics","Associate Professor of Mathematics","Associate Professor of Mathematics"]
[3629,"Tiffany","Sherwood H.","B.S., M.S.",null,null,null,null,null,null,null,null,null,null,null,null,null,null,null,null,null,null,null,null,null,null,null,null,null,null,null,null,null,null,null,null,null,null,null,null,null,null,null,null,null,null,null,null,null,null,null,null,null,null,null,null,null,null,null,null,null,null,null,null,null,null,null,null,null,null,null,null,null,null,null,null,null,null,null,null,"Instructor in Mathematics","Instructor in Mathematics","Instructor in Mathematics","Instructor in Mathematics","Instructor in Mathematics","Assistant Professor of Mathematics","Assistant Professor of Mathematics","Assistant Professor of Mathematics"]
[4022,"Tolbert","Terry","B.A.",null,null,null,null,null,null,null,null,null,null,null,null,null,null,null,null,null,null,null,null,null,null,null,null,null,null,null,null,null,null,null,null,null,null,null,null,null,null,null,null,null,null,null,null,null,null,null,null,null,null,null,null,null,null,null,null,null,null,null,null,null,null,null,null,null,null,null,null,null,null,null,null,null,null,null,null,null,null,null,null,null,null,null,null,null,null,null,null,null,null,null,"Graduate Assistant Coach"]
[949,"Tompkins","Leonard George","B.S., Ph.D.",null,null,null,null,null,null,null,null,null,null,null,null,null,null,null,null,null,null,null,null,null,null,null,null,null,null,null,null,null,null,null,null,null,null,null,null,null,null,null,null,null,null,null,null,null,null,null,null,null,null,null,null,null,null,null,null,null,null,null,null,null,"Professor of Chemistry","Professor of Chemistry","Professor of Chemistry","Professor of Chemistry"]
[null,"Toups","Patricia","B.A.",null,null,null,null,null,null,null,null,null,null,null,null,null,null,null,null,null,null,null,null,null,null,null,null,null,null,null,null,null,null,null,null,null,null,null,null,null,null,null,null,null,null,null,null,null,null,null,null,null,null,null,null,null,null,null,null,null,null,null,null,null,null,null,null,null,null,null,null,null,null,null,null,null,null,null,null,null,null,null,null,null,null,null,null,null,null,null,null,null,null,null,null,null,null,null,null,null,null,null,null,null,null,null,null,null,null,null,null,null,null,null,null,null,null,null,"Interim Director for College Relations"]
[797,"Tracy","James Albert","A.M.",null,null,null,null,null,null,null,null,null,null,null,null,null,null,null,null,null,null,null,null,null,null,null,null,null,null,null,null,null,null,null,null,null,null,null,null,null,null,null,null,null,null,null,null,null,null,null,null,null,null,null,null,null,null,null,null,null,"Assistant Professor of Speech","Assistant Professor of Speech (Resigned)"]
[2894,"Tribble","Mary Estelle","Ph.B.",null,null,null,null,null,null,null,null,null,null,null,null,null,null,null,null,null,null,null,null,null,null,null,null,null,null,null,null,null,null,null,null,null,null,null,"Assistant in Business College","Instructor in English / In charge of DeLand Hall","Instructor in English / In charge of DeLand Hall","Dean of Women / In Charge of Chaudoin Hall & Instructor in English","Dean of Women / In Charge of Chaudoin Hall & Instructor in English"]
[3341,"Trocolor","Robert G.","B.S., M.A.",null,null,null,null,null,null,null,null,null,null,null,null,null,null,null,null,null,null,null,null,null,null,null,null,null,null,null,null,null,null,null,null,null,null,null,null,null,null,null,null,null,null,null,null,null,null,null,null,null,null,null,null,null,null,null,null,null,null,null,null,null,"Professor of Physical Education (Resigned)"]
[4165,"Truske","Caren","B.S., M.Ed.",null,null,null,null,null,null,null,null,null,null,null,null,null,null,null,null,null,null,null,null,null,null,null,null,null,null,null,null,null,null,null,null,null,null,null,null,null,null,null,null,null,null,null,null,null,null,null,null,null,null,null,null,null,null,null,null,null,null,null,null,null,null,null,null,null,null,null,null,null,null,null,null,null,null,null,null,null,null,null,null,null,null,null,null,null,null,null,null,null,null,null,null,null,null,null,null,null,"Women's Head Basketball Coach","Women's Head Basketball Coach"]
[3733,"Tucker","Tommy T.","B.A., M.A.",null,null,null,null,null,null,null,null,null,null,null,null,null,null,null,null,null,null,null,null,null,null,null,null,null,null,null,null,null,null,null,null,null,null,null,null,null,null,null,null,null,null,null,null,null,null,null,null,null,null,null,null,null,null,null,null,null,null,null,null,null,null,null,null,null,null,null,null,null,null,null,null,null,null,null,null,null,null,null,null,"Instructor in English","Instructor in English","Instructor in English"]
[3643,"Turner","Sarah T.","B.M.E., M.A.",null,null,null,null,null,null,null,null,null,null,null,null,null,null,null,null,null,null,null,null,null,null,null,null,null,null,null,null,null,null,null,null,null,null,null,null,null,null,null,null,null,null,null,null,null,null,null,null,null,null,null,null,null,null,null,null,null,null,null,null,null,null,null,null,null,null,null,null,null,null,null,null,null,null,null,null,"Instructor in Voice"]
[3894,"Turner","Thomas J.","B.S., M.S., Ph.D",null,null,null,null,null,null,null,null,null,null,null,null,null,null,null,null,null,null,null,null,null,null,null,null,null,null,null,null,null,null,null,null,null,null,null,null,null,null,null,null,null,null,null,null,null,null,null,null,null,null,null,null,null,null,null,null,null,null,null,null,null,null,null,null,null,null,null,null,null,null,null,null,null,null,null,null,null,null,null,null,null,null,null,null,null,"Professor of Physics / Vice President / Dean of University","Professor of Physics / Vice President / Dean of University","Professor of Physics / Vice President / Dean of University","Professor of Physics / Provost"]
[3033,"Turnquist","Ellen A.",null,null,null,null,null,null,null,null,null,null,null,null,null,null,null,null,null,null,null,null,null,null,null,null,null,null,null,null,null,null,null,null,null,null,null,null,null,null,null,null,null,null,null,null,null,null,null,null,"Housekeeper"]
[null,"Ulmer","Jeffrey A.",null,null,null,null,null,null,null,null,null,null,null,null,null,null,null,null,null,null,null,null,null,null,null,null,null,null,null,null,null,null,null,null,null,null,null,null,null,null,null,null,null,null,null,null,null,null,null,null,null,null,null,null,null,null,null,null,null,null,null,null,null,null,null,null,null,null,null,null,null,null,null,null,null,null,null,null,null,null,null,null,null,null,null,null,null,null,null,null,null,null,null,null,null,null,null,null,null,null,null,null,null,null,null,null,null,null,null,null,null,null,null,null,null,null,null,null,null,null,"Vice President for Development & Alumni Engagement"]
[null,"Valenti","Henry V.","B.A.",null,null,null,null,null,null,null,null,null,null,null,null,null,null,null,null,null,null,null,null,null,null,null,null,null,null,null,null,null,null,null,null,null,null,null,null,null,null,null,null,null,null,null,null,null,null,null,null,null,null,null,null,null,null,null,null,null,null,null,null,null,null,null,null,null,null,null,null,null,null,null,null,null,null,null,null,null,null,null,null,null,null,null,null,null,null,null,null,null,null,null,null,null,null,null,null,null,null,null,null,null,null,null,null,null,null,null,null,null,null,null,null,null,null,"Director of Facilities, College of Law"]
[460,"Valkenburg","Dorothy Van",null,null,null,null,null,null,null,null,null,null,null,null,null,null,null,null,null,null,null,null,null,null,null,null,null,null,null,null,null,null,null,null,null,null,"In Charge of University Book Store"]
[4389,"Vantrease","Richard","B.A., M.Div, D.M.",null,null,null,null,null,null,null,null,null,null,null,null,null,null,null,null,null,null,null,null,null,null,null,null,null,null,null,null,null,null,null,null,null,null,null,null,null,null,null,null,null,null,null,null,null,null,null,null,null,null,null,null,null,null,null,null,null,null,null,null,null,null,null,null,null,null,null,null,null,null,null,null,null,null,null,null,null,null,null,null,null,null,null,null,null,null,null,null,null,null,null,null,null,null,null,null,null,null,null,null,null,null,null,null,"Lecturer in Counselor Education"]
[3221,"Vaughen","John V.","B.A., Ph.D.",null,null,null,null,null,null,null,null,null,null,null,null,null,null,null,null,null,null,null,null,null,null,null,null,null,null,null,null,null,null,null,null,null,null,null,null,null,null,null,null,null,null,null,null,null,null,null,null,null,null,null,null,null,null,null,null,null,null,"Professor of Chemistry","Professor of Chemistry","Professor of Chemistry","Professor of Chemistry","Professor of Chemistry","Professor of Chemistry","Professor of Chemistry","Professor of Chemistry","Professor of Chemistry","Professor of Chemistry","Professor of Chemistry","Professor of Chemistry","Professor of Chemistry","Professor of Chemistry","Professor of Chemistry","Professor of Chemistry","Professor of Chemistry","Professor of Chemistry","Professor of Chemistry","Professor of Chemistry","Professor of Chemistry","Professor of Chemistry","Professor of Chemistry","Visiting Professor of Chemistry","Professor of Chemistry, Emeritus","Professor of Chemistry, Emeritus","Professor of Chemistry, Emeritus","Professor of Chemistry, Emeritus","Professor of Chemistry, Emeritus","Professor of Chemistry, Emeritus","Professor of Chemistry, Emeritus","Professor of Chemistry, Emeritus","Professor of Chemistry, Emeritus","Professor of Chemistry, Emeritus","Professor of Chemistry, Emeritus","Professor of Chemistry, Emeritus"]
[3819,"Vedder","Charles B.","B.A., Ph.D.",null,null,null,null,null,null,null,null,null,null,null,null,null,null,null,null,null,null,null,null,null,null,null,null,null,null,null,null,null,null,null,null,null,null,null,null,null,null,null,null,null,null,null,null,null,null,null,null,null,null,null,null,null,null,null,null,null,null,null,null,null,null,null,null,null,null,null,null,null,null,null,null,null,null,null,null,null,null,null,null,null,null,null,"Assistant Professor of Sociology / Chair","Associate Professor of Sociology / Chair","Associate Professor of Sociology / Chair","Associate Professor of Sociology / Chair","Professor of Sociology / Chair","Professor of Sociology / Chair","Professor of Sociology / Chair","Professor of Sociology / Chair","Professor of Sociology / Chair","Professor of Sociology / Chair","Professor of Sociology / Chair","Professor of Sociology / Chair","Professor of Sociology / Chair","Professor of Sociology / Chair (Fall Sabbatical)","Professor of Sociology / Chair","Professor of Sociology / Chair","Professor of Sociology / Chair","Professor of Sociology / Chair","Professor of Sociology","Professor of Sociology","Professor of Sociology","Professor of Sociology","Professor of Sociology","Professor of Sociology","Professor of Sociology","Professor of Sociology","Professor of Sociology","Professor of Sociology","Professor of Sociology","Professor of Sociology","Senior Professor of Sociology","Senior Professor of Sociology","Professor of Sociology, Emeritus","Professor of Sociology, Emeritus","Professor of Sociology, Emeritus"]
[4127,"Veech","David","B.A.",null,null,null,null,null,null,null,null,null,null,null,null,null,null,null,null,null,null,null,null,null,null,null,null,null,null,null,null,null,null,null,null,null,null,null,null,null,null,null,null,null,null,null,null,null,null,null,null,null,null,null,null,null,null,null,null,null,null,null,null,null,null,null,null,null,null,null,null,null,null,null,null,null,null,null,null,null,null,null,null,null,null,null,null,null,null,null,null,null,null,null,null,null,null,null,null,"Assistant Professor of Military Service","Assistant Professor of Military Service"]
[null,"Villalobos","Suzanne E.",null,null,null,null,null,null,null,null,null,null,null,null,null,null,null,null,null,null,null,null,null,null,null,null,null,null,null,null,null,null,null,null,null,null,null,null,null,null,null,null,null,null,null,null,null,null,null,null,null,null,null,null,null,null,null,null,null,null,null,null,null,null,null,null,null,null,null,null,null,null,null,null,null,null,null,null,null,null,null,null,null,null,null,null,null,null,null,null,null,null,null,null,null,null,null,null,null,null,null,null,null,null,null,null,null,null,null,null,null,null,null,null,null,null,null,null,"Director of Student Health Services"]
[2866,"Vogel","Helen M.J.",null,null,null,null,null,null,null,null,null,null,null,null,null,null,null,null,null,null,null,null,null,null,null,null,null,null,null,null,null,null,null,null,null,null,null,"Assistant in Latin"]
[66,"Voorhis","Guilda H.",null,null,null,null,null,null,null,null,null,null,null,null,"Assistant in Piano Music","Assistant in Piano"]
[4289,"Vorobieva","Nadejda Mikhailovna","B.A.",null,null,null,null,null,null,null,null,null,null,null,null,null,null,null,null,null,null,null,null,null,null,null,null,null,null,null,null,null,null,null,null,null,null,null,null,null,null,null,null,null,null,null,null,null,null,null,null,null,null,null,null,null,null,null,null,null,null,null,null,null,null,null,null,null,null,null,null,null,null,null,null,null,null,null,null,null,null,null,null,null,null,null,null,null,null,null,null,null,null,null,null,null,null,null,null,null,null,null,null,null,"Visiting Instructor in Foreign Languages","Visiting Instructor in Foreign Languages"]
[779,"Wagner","Terry","Mus.B.",null,null,null,null,null,null,null,null,null,null,null,null,null,null,null,null,null,null,null,null,null,null,null,null,null,null,null,null,null,null,null,null,null,null,null,null,null,null,null,null,null,null,null,null,null,null,null,null,null,null,null,null,null,null,null,null,"Instructor in Cello & Ensemble","Instructor in Cello & Ensemble (Resigned)"]
[3251,"Waldin","Earl D.","Jr., B.S.",null,null,null,null,null,null,null,null,null,null,null,null,null,null,null,null,null,null,null,null,null,null,null,null,null,null,null,null,null,null,null,null,null,null,null,null,null,null,null,null,null,null,null,null,null,null,null,null,null,null,null,null,null,null,null,null,null,null,"Teaching Fellow in Business Administration","Instructor in Business Administration"]
[4608,"Walker","Nefertiti","B.A.",null,null,null,null,null,null,null,null,null,null,null,null,null,null,null,null,null,null,null,null,null,null,null,null,null,null,null,null,null,null,null,null,null,null,null,null,null,null,null,null,null,null,null,null,null,null,null,null,null,null,null,null,null,null,null,null,null,null,null,null,null,null,null,null,null,null,null,null,null,null,null,null,null,null,null,null,null,null,null,null,null,null,null,null,null,null,null,null,null,null,null,null,null,null,null,null,null,null,null,null,null,null,null,null,null,null,null,null,null,null,"Assistant Women's Basketball Coach"]
[3177,"Walker","Oliver LaFayette","A.B., Th.M., Th.D.",null,null,null,null,null,null,null,null,null,null,null,null,null,null,null,null,null,null,null,null,null,null,null,null,null,null,null,null,null,null,null,null,null,null,null,null,null,null,null,null,null,null,null,null,null,null,null,null,null,null,null,null,null,null,null,null,null,"Director of Religious Activities","Professor of Religion / Head of the Department of Religion","Professor of Religion / Head of the Department of Religion","Professor of Religion","Professor of Religion","Professor of Religion","Professor of Religion","Professor of Religion","Professor of Religion","Professor of Religion","Professor of Religion","Professor of Religion","Professor of Religion","Professor of Religion","Professor of Religion","Professor of Religion","Professor of Religion","Professor of Religion","Professor of Religion","Professor of Religion","Professor of Religion","Professor of Religion","Professor of Religion","Professor of Religion","Professor of Religion","Professor of Religion","Professor of Religion","Professor of Religion / Chair","Professor of Religion / Chair","Professor of Religion / Chair, Sam R. Marks Chair",null,"Professor of Religion / Chair, Emeritus","Professor of Religion / Chair, Emeritus","Professor of Religion / Chair, Emeritus","Professor of Religion / Chair, Emeritus","Professor of Religion / Chair, Emeritus","Professor of Religion / Chair, Emeritus","Professor of Religion / Chair, Emeritus / Sam R. \nMarks Chair","Professor of Religion / Chair, Emeritus","Professor of Religion / Chair, Emeritus","Professor of Religion, Emeritus","Professor of Religion, Emeritus","Professor of Religion, Emeritus","Professor of Religion, Emeritus","Professor of Religion, Emeritus","Professor of Religion, Emeritus","Professor of Religion, Emeritus","Professor of Religion, Emeritus"]
[4081,"Walters","Keith","B.S., M.S., Ph.D.",null,null,null,null,null,null,null,null,null,null,null,null,null,null,null,null,null,null,null,null,null,null,null,null,null,null,null,null,null,null,null,null,null,null,null,null,null,null,null,null,null,null,null,null,null,null,null,null,null,null,null,null,null,null,null,null,null,null,null,null,null,null,null,null,null,null,null,null,null,null,null,null,null,null,null,null,null,null,null,null,null,null,null,null,null,null,null,null,null,null,null,null,null,null,"Visiting Assistant Professor of Biology"]
[4603,"Wang","Weishen","B.S., M.S., ABD",null,null,null,null,null,null,null,null,null,null,null,null,null,null,null,null,null,null,null,null,null,null,null,null,null,null,null,null,null,null,null,null,null,null,null,null,null,null,null,null,null,null,null,null,null,null,null,null,null,null,null,null,null,null,null,null,null,null,null,null,null,null,null,null,null,null,null,null,null,null,null,null,null,null,null,null,null,null,null,null,null,null,null,null,null,null,null,null,null,null,null,null,null,null,null,null,null,null,null,null,null,null,null,null,null,null,null,null,null,null,"Visiting Assistant Professor of Finance"]
[3038,"Waterhouse","Francis","Ph.D.",null,null,null,null,null,null,null,null,null,null,null,null,null,null,null,null,null,null,null,null,null,null,null,null,null,null,null,null,null,null,null,null,null,null,null,null,null,null,null,null,null,null,null,null,null,null,null,"Lecturer in French Literature","Professor of French"]
[284,"Waterman","Edward L.",null,null,null,null,null,null,null,null,null,null,null,null,null,null,null,null,null,null,null,null,null,null,"Engineer","Engineer","Engineer","Engineer","Engineer","Engineer","Engineer","Engineer","Engineer","Engineer","Engineer","Engineer"]
[4433,"Waters","Sally G.","B.A., J.D., M.L.S.",null,null,null,null,null,null,null,null,null,null,null,null,null,null,null,null,null,null,null,null,null,null,null,null,null,null,null,null,null,null,null,null,null,null,null,null,null,null,null,null,null,null,null,null,null,null,null,null,null,null,null,null,null,null,null,null,null,null,null,null,null,null,null,null,null,null,null,null,null,null,null,null,null,null,null,null,null,null,null,null,null,null,null,null,null,null,null,null,null,null,null,null,null,null,null,null,null,null,null,null,null,null,null,null,"Reference Librarian / Adjunct Professor","Reference Librarian / Adjunct Professor","Reference Librarian / Adjunct Professor","Reference Librarian / Adjunct Professor","Reference Librarian / Adjunct Professor","Reference Librarian / Adjunct Professor","Reference Librarian / Adjunct Professor, College of Law","Reference Librarian / Adjunct Professor, College of Law","Reference Librarian / Adjunct Professor, College of Law","Reference Librarian / Adjunct Professor, College of Law","Reference Librarian / Adjunct Professor, College of Law","Reference Librarian / Adjunct Professor, College of Law"]
[4584,"Watts","Rebecca B.","B.A., M.A., Ph.D.",null,null,null,null,null,null,null,null,null,null,null,null,null,null,null,null,null,null,null,null,null,null,null,null,null,null,null,null,null,null,null,null,null,null,null,null,null,null,null,null,null,null,null,null,null,null,null,null,null,null,null,null,null,null,null,null,null,null,null,null,null,null,null,null,null,null,null,null,null,null,null,null,null,null,null,null,null,null,null,null,null,null,null,null,null,null,null,null,null,null,null,null,null,null,null,null,null,null,null,null,null,null,null,null,null,null,null,null,null,"Lecturer in Communication Studies","Lecturer in Communication Studies","Visiting Assistant Professor of Communication Studies","Visiting Assistant Professor of Communication Studies","Assistant Professor of Communication Studies","Assistant Professor of Communication Studies","Assistant Professor of Communication Studies","Associate Professor of Communication Studies","Associate Professor of Communication Studies"]
[695,"Webber","Eunice Lucille","A.B.",null,null,null,null,null,null,null,null,null,null,null,null,null,null,null,null,null,null,null,null,null,null,null,null,null,null,null,null,null,null,null,null,null,null,null,null,null,null,null,null,null,null,null,null,null,null,null,null,null,"Secretary to the Dean of the University","Secretary to the Dean of the University",null,"Secretary to the Dean of the University","Secretary to the Dean of the University / Instructor in \nEnglish ","Secretary to the Dean of the University / Instructor in \nEnglish (Resigned)"]
[888,"Weber","Howard D.",null,null,null,null,null,null,null,null,null,null,null,null,null,null,null,null,null,null,null,null,null,null,null,null,null,null,null,null,null,null,null,null,null,null,null,null,null,null,null,null,null,null,null,null,null,null,null,null,null,null,null,null,null,null,null,null,null,null,null,null,"Assistant Professor of Education"]
[3409,"Wehle","Victor O.","LL.B",null,null,null,null,null,null,null,null,null,null,null,null,null,null,null,null,null,null,null,null,null,null,null,null,null,null,null,null,null,null,null,null,null,null,null,null,null,null,null,null,null,null,null,null,null,null,null,null,null,null,null,null,null,null,null,null,null,null,null,null,null,null,null,null,null,null,"Lecturer in Law","Lecturer in Law","Lecturer in Law","Lecturer in Law","Lecturer in Law","Lecturer in Law","Visiting Professor of Law","Visiting Professor of Law","Professor of Law","Professor of Law","Professor of Law","Professor of Law","Professor of Law","Professor of Law","Professor of Law","Professor of Law","Professor of Law","Professor of Law, Emeritus","Professor of Law, Emeritus","Professor of Law, Emeritus","Professor of Law, Emeritus","Professor of Law, Emeritus","Professor of Law, Emeritus","Professor of Law, Emeritus","Professor of Law, Emeritus","Professor of Law, Emeritus","Professor of Law, Emeritus","Professor of Law, Emeritus","Professor of Law, Emeritus","Professor of Law, Emeritus","Professor of Law, Emeritus","Professor of Law, Emeritus","Professor of Law, Emeritus","Professor of Law, Emeritus","Professor of Law, Emeritus","Professor of Law, Emeritus","Professor of Law, Emeritus","Professor of Law, Emeritus"]
[849,"Weisner","Alice McLaughlin","A.B.",null,null,null,null,null,null,null,null,null,null,null,null,null,null,null,null,null,null,null,null,null,null,null,null,null,null,null,null,null,null,null,null,null,null,null,null,null,null,null,null,null,null,null,null,null,null,null,null,null,null,null,null,null,null,null,null,null,null,"Instructor in English & Mathematics","Instructor in English & Mathematics","Instructor in Mathematics"]
[782,"Wells","Mildred White",null,null,null,null,null,null,null,null,null,null,null,null,null,null,null,null,null,null,null,null,null,null,null,null,null,null,null,null,null,null,null,null,null,null,null,null,null,null,null,null,null,null,null,null,null,null,null,null,null,null,null,null,null,null,null,null,null,"Instructor in Journalism"]
[3199,"West","Betty Sue","B.S.",null,null,null,null,null,null,null,null,null,null,null,null,null,null,null,null,null,null,null,null,null,null,null,null,null,null,null,null,null,null,null,null,null,null,null,null,null,null,null,null,null,null,null,null,null,null,null,null,null,null,null,null,null,null,null,null,null,null,"Dietitian","Dietitian"]
[3912,"Westcott","Warren B., Jr.","B.A., M.A.",null,null,null,null,null,null,null,null,null,null,null,null,null,null,null,null,null,null,null,null,null,null,null,null,null,null,null,null,null,null,null,null,null,null,null,null,null,null,null,null,null,null,null,null,null,null,null,null,null,null,null,null,null,null,null,null,null,null,null,null,null,null,null,null,null,null,null,null,null,null,null,null,null,null,null,null,null,null,null,null,null,null,null,null,null,null,"Instructor of English","Instructor of English"]
[3853,"Westney","William","B.A., M.M., M.M.A., D.M.A.",null,null,null,null,null,null,null,null,null,null,null,null,null,null,null,null,null,null,null,null,null,null,null,null,null,null,null,null,null,null,null,null,null,null,null,null,null,null,null,null,null,null,null,null,null,null,null,null,null,null,null,null,null,null,null,null,null,null,null,null,null,null,null,null,null,null,null,null,null,null,null,null,null,null,null,null,null,null,null,null,null,null,null,null,"Assistant Professor of Piano"]
[null,"Wetherwax","Brianna","B.A.",null,null,null,null,null,null,null,null,null,null,null,null,null,null,null,null,null,null,null,null,null,null,null,null,null,null,null,null,null,null,null,null,null,null,null,null,null,null,null,null,null,null,null,null,null,null,null,null,null,null,null,null,null,null,null,null,null,null,null,null,null,null,null,null,null,null,null,null,null,null,null,null,null,null,null,null,null,null,null,null,null,null,null,null,null,null,null,null,null,null,null,null,null,null,null,null,null,null,null,null,null,null,null,null,null,null,null,null,null,null,null,null,null,null,"Director of Conferences & Events, College of Law","Director of Conferences & Events, College of Law"]
[null,"Whaley","Harvey T.","D.D.",null,null,null,null,null,null,null,null,null,null,null,null,null,null,null,null,null,null,null,null,null,null,null,null,null,null,null,null,null,null,null,null,null,null,null,null,null,null,null,null,null,null,null,null,null,null,null,null,null,null,null,null,null,null,null,null,null,null,null,null,null,null,null,null,null,null,null,null,null,null,null,null,null,null,null,null,null,"Special Consultant to the President on Continuing\nEducation Programs"]
[3553,"Wheeler","Paul M.","A.B., M.A., Ph.D",null,null,null,null,null,null,null,null,null,null,null,null,null,null,null,null,null,null,null,null,null,null,null,null,null,null,null,null,null,null,null,null,null,null,null,null,null,null,null,null,null,null,null,null,null,null,null,null,null,null,null,null,null,null,null,null,null,null,null,null,null,null,null,null,null,null,null,null,null,null,null,null,"Visiting Professor of English","Visiting Professor of English","Visiting Professor of English","Visiting Professor of English","Visiting Professor of English"]
[4364,"Whitaker","Candace S.","B.S., J.D., M.A.",null,null,null,null,null,null,null,null,null,null,null,null,null,null,null,null,null,null,null,null,null,null,null,null,null,null,null,null,null,null,null,null,null,null,null,null,null,null,null,null,null,null,null,null,null,null,null,null,null,null,null,null,null,null,null,null,null,null,null,null,null,null,null,null,null,null,null,null,null,null,null,null,null,null,null,null,null,null,null,null,null,null,null,null,null,null,null,null,null,null,null,null,null,null,null,null,null,null,null,null,null,null,null,"Instructor of Legal Research & Writing"]
[4270,"White","Andrea M.","B.S., M.S., Ph.D.",null,null,null,null,null,null,null,null,null,null,null,null,null,null,null,null,null,null,null,null,null,null,null,null,null,null,null,null,null,null,null,null,null,null,null,null,null,null,null,null,null,null,null,null,null,null,null,null,null,null,null,null,null,null,null,null,null,null,null,null,null,null,null,null,null,null,null,null,null,null,null,null,null,null,null,null,null,null,null,null,null,null,null,null,null,null,null,null,null,null,null,null,null,null,null,null,null,null,null,null,"Visiting Assistant Professor of Biology (Spring Semester)","Visiting Assistant Professor of Biology (Spring Semester)"]
[3410,"White","Jack Farrington","LL.B.",null,null,null,null,null,null,null,null,null,null,null,null,null,null,null,null,null,null,null,null,null,null,null,null,null,null,null,null,null,null,null,null,null,null,null,null,null,null,null,null,null,null,null,null,null,null,null,null,null,null,null,null,null,null,null,null,null,null,null,null,null,null,null,null,null,null,"Lecturer in Law","Lecturer in Law"]
[4392,"White","James","B.A., Ph.D",null,null,null,null,null,null,null,null,null,null,null,null,null,null,null,null,null,null,null,null,null,null,null,null,null,null,null,null,null,null,null,null,null,null,null,null,null,null,null,null,null,null,null,null,null,null,null,null,null,null,null,null,null,null,null,null,null,null,null,null,null,null,null,null,null,null,null,null,null,null,null,null,null,null,null,null,null,null,null,null,null,null,null,null,null,null,null,null,null,null,null,null,null,null,null,null,null,null,null,null,null,null,null,null,"Visiting Professor of Mathematics"]
[3268,"White","Janet","B.S.",null,null,null,null,null,null,null,null,null,null,null,null,null,null,null,null,null,null,null,null,null,null,null,null,null,null,null,null,null,null,null,null,null,null,null,null,null,null,null,null,null,null,null,null,null,null,null,null,null,null,null,null,null,null,null,null,null,null,null,"Secretary to the Dean of the College of Law"]
[818,"White","Roberta Sloan",null,null,null,null,null,null,null,null,null,null,null,null,null,null,null,null,null,null,null,null,null,null,null,null,null,null,null,null,null,null,null,null,null,null,null,null,null,null,null,null,null,null,null,null,null,null,null,null,null,null,null,null,null,null,null,null,null,null,null,"Secretary to the Assistant to the President"]
[496,"Whitehair","Reba Thurlene",null,null,null,null,null,null,null,null,null,null,null,null,null,null,null,null,null,null,null,null,null,null,null,null,null,null,null,null,null,null,null,null,null,null,null,null,"Instructor in Violin"]
[null,"Whiteman","Betty",null,null,null,null,null,null,null,null,null,null,null,null,null,null,null,null,null,null,null,null,null,null,null,null,null,null,null,null,null,null,null,null,null,null,null,null,null,null,null,null,null,null,null,null,null,null,null,null,null,null,null,null,null,null,null,null,null,null,null,null,null,null,null,null,null,null,null,null,null,null,null,null,null,null,null,null,null,null,null,null,null,null,null,null,null,null,null,null,null,null,null,null,null,null,null,null,null,null,null,null,null,null,null,null,null,null,null,null,null,null,null,null,null,null,null,"Director of Human Resources","Director of Human Resources","Director of Human Resources"]
[933,"Whitener","Thomas Augustus","B.S., M.S.",null,null,null,null,null,null,null,null,null,null,null,null,null,null,null,null,null,null,null,null,null,null,null,null,null,null,null,null,null,null,null,null,null,null,null,null,null,null,null,null,null,null,null,null,null,null,null,null,null,null,null,null,null,null,null,null,null,null,null,null,"Assistant Professor of Business Administration","Assistant Professor of Business Administration","Assistant Professor of Business Administration"]
[4668,"Whiteside","William B.","A.B., Ph.D.",null,null,null,null,null,null,null,null,null,null,null,null,null,null,null,null,null,null,null,null,null,null,null,null,null,null,null,null,null,null,null,null,null,null,null,null,null,null,null,null,null,null,null,null,null,null,null,null,null,null,null,null,null,null,null,null,null,null,null,null,null,null,null,null,"Visiting Assistant Professor of History"]
[2662,"Whitfield","Emma Morehead","A.B.",null,null,null,null,null,null,null,null,null,null,null,null,null,null,null,null,null,null,null,null,null,"Director of the School of Fine Arts","Director of the School of Fine Arts"]
[2681,"Whiting","Claire Virginia","M.S.",null,null,null,null,null,null,null,null,null,null,null,null,null,null,null,null,null,null,null,null,null,null,"Instructor in Model School","Instructor in French","Instructor in French","Instructor in French & Spanish","Instructor in French","Instructor in French","Instructor in French"]
[4505,"Whittaker","David E.","B.S., M.S.",null,null,null,null,null,null,null,null,null,null,null,null,null,null,null,null,null,null,null,null,null,null,null,null,null,null,null,null,null,null,null,null,null,null,null,null,null,null,null,null,null,null,null,null,null,null,null,null,null,null,null,null,null,null,null,null,null,null,null,null,null,null,null,null,null,null,null,null,null,null,null,null,null,null,null,null,null,null,null,null,null,null,null,null,null,null,null,null,null,null,null,null,null,null,null,null,null,null,null,null,null,null,null,null,null,null,"Lecturer in Mathematics"]
[4662,"Wilber","Harold Robinson","B.S., M.D.",null,null,null,null,null,null,null,null,null,null,null,null,null,null,null,null,null,null,null,null,null,null,null,null,null,null,null,null,null,null,null,null,null,null,null,null,null,null,null,null,null,null,null,null,null,null,null,null,null,null,null,null,null,null,null,null,null,null,null,null,null,null,null,"Lecturer in Biology"]
[897,"Wilcox","Samuel","A.B., M.A.",null,null,null,null,null,null,null,null,null,null,null,null,null,null,null,null,null,null,null,null,null,null,null,null,null,null,null,null,null,null,null,null,null,null,null,null,null,null,null,null,null,null,null,null,null,null,null,null,null,null,null,null,null,null,null,null,null,null,null,"Associate Professor of Business Administration & Economics","Associate Professor of Economics","Associate Professor of Economics","Associate Professor of Economics"]
[143,"Wilcox","Winifred",null,null,null,null,null,null,null,null,null,null,null,null,null,null,null,"Matron-Hamilton House","Nurse"]
[3752,"Wilde","Edward D.","BA",null,null,null,null,null,null,null,null,null,null,null,null,null,null,null,null,null,null,null,null,null,null,null,null,null,null,null,null,null,null,null,null,null,null,null,null,null,null,null,null,null,null,null,null,null,null,null,null,null,null,null,null,null,null,null,null,null,null,null,null,null,null,null,null,null,null,null,null,null,null,null,null,null,null,null,null,null,null,null,null,null,"Instructor in Political Science","Instructor in Political Science & American Studies"]
[4311,"Wilde","Stephanie Vaughan","B.A., J.D.",null,null,null,null,null,null,null,null,null,null,null,null,null,null,null,null,null,null,null,null,null,null,null,null,null,null,null,null,null,null,null,null,null,null,null,null,null,null,null,null,null,null,null,null,null,null,null,null,null,null,null,null,null,null,null,null,null,null,null,null,null,null,null,null,null,null,null,null,null,null,null,null,null,null,null,null,null,null,null,null,null,null,null,null,null,null,null,null,null,null,null,null,null,null,null,null,null,null,null,null,null,null,"Instructor of Legal Research & Writing","Instructor of Legal Research & Writing"]
[581,"Wilder","Edna Grace",null,null,null,null,null,null,null,null,null,null,null,null,null,null,null,null,null,null,null,null,null,null,null,null,null,null,null,null,null,null,null,null,null,null,null,null,null,null,null,null,null,"Assistant in Accounting"]
[2725,"Wilder","Guss","L.I.",null,null,null,null,null,null,null,null,null,null,null,null,null,null,null,null,null,null,null,null,null,null,null,null,null,"Assistant in Mathematics","In Charge of Men's Dormitories"]
[3666,"Wiley","Ronald E.","B.A., M.A., Ph.D.",null,null,null,null,null,null,null,null,null,null,null,null,null,null,null,null,null,null,null,null,null,null,null,null,null,null,null,null,null,null,null,null,null,null,null,null,null,null,null,null,null,null,null,null,null,null,null,null,null,null,null,null,null,null,null,null,null,null,null,null,null,null,null,null,null,null,null,null,null,null,null,null,null,null,null,null,null,"Assistant Professor of Psychology","Assistant Professor of Psychology","Assistant Professor of Psychology","Assistant Professor of Psychology","Assistant Professor of Psychology","Assistant Professor of Psychology"]
[3632,"Wilhite","James A.","Major, U.S.A., B.S.",null,null,null,null,null,null,null,null,null,null,null,null,null,null,null,null,null,null,null,null,null,null,null,null,null,null,null,null,null,null,null,null,null,null,null,null,null,null,null,null,null,null,null,null,null,null,null,null,null,null,null,null,null,null,null,null,null,null,null,null,null,null,null,null,null,null,null,null,null,null,null,null,null,null,null,null,"Associate Professor of Military Science","Associate Professor of Military Science"]
[4393,"Wiliams","Karen","B.S., M.S., J.D.",null,null,null,null,null,null,null,null,null,null,null,null,null,null,null,null,null,null,null,null,null,null,null,null,null,null,null,null,null,null,null,null,null,null,null,null,null,null,null,null,null,null,null,null,null,null,null,null,null,null,null,null,null,null,null,null,null,null,null,null,null,null,null,null,null,null,null,null,null,null,null,null,null,null,null,null,null,null,null,null,null,null,null,null,null,null,null,null,null,null,null,null,null,null,null,null,null,null,null,null,null,null,null,null,"Trial Advocacy Fellow"]
[3483,"Wilkes","Glenn N.","B.A., M.A., Ed.D.",null,null,null,null,null,null,null,null,null,null,null,null,null,null,null,null,null,null,null,null,null,null,null,null,null,null,null,null,null,null,null,null,null,null,null,null,null,null,null,null,null,null,null,null,null,null,null,null,null,null,null,null,null,null,null,null,null,null,null,null,null,null,null,null,null,null,null,null,null,"Basketball Coach / Assistant Professor of \nPhysical Education","Basketball Coach / Assistant Professor of \nPhysical Education","Basketball Coach / Assistant Professor of \nPhysical Education","Basketball Coach / Assistant Professor of \nPhysical Education","Basketball Coach / Assistant Professor of \nPhysical Education","Basketball Coach / Assistant Professor of \nPhysical Education","Basketball Coach / Assistant Professor of \nPhysical Education","Basketball Coach / Assistant Professor of \nPhysical Education","Associate Professor of Physical Education","Associate Professor of Physical Education","Associate Professor of Physical Education","Associate Professor of Physical Education / \nDirector of Athletics","Professor of Physical Education","Professor of Physical Education","Head Basketball Coach / Director of Athletics","Head Basketball Coach / Director of Athletics","Head Basketball Coach / Director of Athletics / \nProfessor of Physical Education","Head Basketball Coach / Director of Athletics / \nProfessor of Physical Education","Head Basketball Coach / Director of Athletics / \nProfessor of Physical Education","Head Basketball Coach / Director of Athletics / \nProfessor of Physical Education","Head Basketball Coach / Director of Athletics / \nProfessor of Physical Education","Head Basketball Coach / Director of Athletics / \nProfessor of Physical Education","Head Basketball Coach / Director of Athletics / \nProfessor of Physical Education","Head Basketball Coach / Director of Athletics / \nProfessor of Physical Education","Head Basketball Coach / Director of Athletics / \nProfessor of Physical Education","Head Basketball Coach / Director of Athletics / \nProfessor of Physical Education","Head Basketball Coach / Director of Athletics / \nProfessor of Physical Education","Head Basketball Coach / Director of Athletics / \nProfessor of Physical Education","Head Basketball Coach / Professor of Physical Education","Head Basketball Coach / Professor of Physical Education","Professor of Sport & Exercise Science","Professor of Sport & Exercise Science","Professor of Sport & Exercise Science","Professor of Sport & Exercise Science","Professor of Sport & Exercise Science","Professor of Sport & Exercise Science","Senior Lecturer of Integrative Health Science & \nSports Management","Senior Lecturer of Integrative Health Science & \nSports Management","Senior Lecturer of Integrative Health Science & \nSports Management"]
[null,"Williams","Justin M.","B.S., M.S.",null,null,null,null,null,null,null,null,null,null,null,null,null,null,null,null,null,null,null,null,null,null,null,null,null,null,null,null,null,null,null,null,null,null,null,null,null,null,null,null,null,null,null,null,null,null,null,null,null,null,null,null,null,null,null,null,null,null,null,null,null,null,null,null,null,null,null,null,null,null,null,null,null,null,null,null,null,null,null,null,null,null,null,null,null,null,null,null,null,null,null,null,null,null,null,null,null,null,null,null,null,null,null,null,null,null,null,null,null,null,null,null,null,null,"Director of Housing & Residential Life"]
[3633,"Williams","Charles","B.A., A.F.A.",null,null,null,null,null,null,null,null,null,null,null,null,null,null,null,null,null,null,null,null,null,null,null,null,null,null,null,null,null,null,null,null,null,null,null,null,null,null,null,null,null,null,null,null,null,null,null,null,null,null,null,null,null,null,null,null,null,null,null,null,null,null,null,null,null,null,null,null,null,null,null,null,null,null,null,null,null,"Assistant Professor of Art","Instructor in Art","Assistant Professor of Art"]
[4128,"Williams","Donna J.","B.S., M.A., Ph.D.",null,null,null,null,null,null,null,null,null,null,null,null,null,null,null,null,null,null,null,null,null,null,null,null,null,null,null,null,null,null,null,null,null,null,null,null,null,null,null,null,null,null,null,null,null,null,null,null,null,null,null,null,null,null,null,null,null,null,null,null,null,null,null,null,null,null,null,null,null,null,null,null,null,null,null,null,null,null,null,null,null,null,null,null,null,null,null,null,"Instructor in Mathematics",null,null,null,null,null,null,null,"Assistant Professor of Computer Science","Assistant Professor of Computer Science","Assistant Professor of Computer Science","Associate Professor of Computer Science","Associate Professor of Computer Science","Associate Professor of Computer Science \n(Sabbatical - Academic Year)","Associate Professor of Computer Science","Associate Professor of Computer Science","Senior Lecturer in Computer Science"]
[3778,"Williams","Gareth","B.SC, Ph.D",null,null,null,null,null,null,null,null,null,null,null,null,null,null,null,null,null,null,null,null,null,null,null,null,null,null,null,null,null,null,null,null,null,null,null,null,null,null,null,null,null,null,null,null,null,null,null,null,null,null,null,null,null,null,null,null,null,null,null,null,null,null,null,null,null,null,null,null,null,null,null,null,null,null,null,null,null,null,null,null,null,null,null,"Associate Professor of Mathematics","Professor of Mathematics","Professor of Mathematics","Professor of Mathematics","Professor of Mathematics","Professor of Mathematics / Ollie Edmunds Chair","Professor of Mathematics","Professor of Mathematics","Professor of Mathematics / Chair","Professor of Mathematics / Chair","Professor of Mathematics / Chair","Professor of Mathematics / Chair","Professor of Mathematics","Professor of Mathematics","Professor of Mathematics","Professor of Mathematics","Professor of Mathematics","Professor of Mathematics","Professor of Mathematics / Kenan Chair \n(Faculty Exchange 1995-96)","Professor of Mathematics & Computer Science / \nChair / Kenan Chair","Professor of Mathematics & Computer Science / \nChair / Kenan Chair","Senior Lecturer in Mathematics & Computer Science","Professor of Mathematics / Computer Science, Emeritus","Professor of Mathematics / Computer Science, Emeritus","Professor of Mathematics / Computer Science, Emeritus","Professor of Mathematics & Computer Science, Emeritus","Professor of Mathematics & Computer Science, Emeritus","Professor of Mathematics & Computer Science, Emeritus","Professor of Mathematics & Computer Science, Emeritus","Professor of Mathematics & Computer Science, Emeritus","Professor of Mathematics & Computer Science, Emeritus","Professor of Mathematics & Computer Science","Professor of Mathematics & Computer Science, \nEmeritus","Professor of Mathematics & Computer \nScience, Emeritus","Professor of Mathematics & Computer Science, Emeritus"]
[3466,"Williams","Garland H.","MA",null,null,null,null,null,null,null,null,null,null,null,null,null,null,null,null,null,null,null,null,null,null,null,null,null,null,null,null,null,null,null,null,null,null,null,null,null,null,null,null,null,null,null,null,null,null,null,null,null,null,null,null,null,null,null,null,null,null,null,null,null,null,null,null,null,null,null,null,"Instructor in Physical Education","Instructor in Physical Education","Instructor in Physical Education","Instructor in Physical Education","Instructor in Physical Education"]
[3411,"Williams","Melvin J.","A.B., B.D., Ph.D.",null,null,null,null,null,null,null,null,null,null,null,null,null,null,null,null,null,null,null,null,null,null,null,null,null,null,null,null,null,null,null,null,null,null,null,null,null,null,null,null,null,null,null,null,null,null,null,null,null,null,null,null,null,null,null,null,null,null,null,null,null,null,null,null,"Professor of Sociology","Professor of Sociology","Professor of Sociology","Professor of Sociology","Professor of Sociology","Professor of Sociology","Professor of Sociology","Professor of Sociology","Professor of Sociology","Professor of Sociology",null,null,null,"Professor of Sociology"]
[800,"Williams","Minnie Ella","Ph.B.",null,null,null,null,null,null,null,null,null,null,null,null,null,null,null,null,null,null,null,null,null,null,null,null,null,null,null,null,null,null,null,null,null,null,null,null,null,null,null,null,null,null,null,null,null,null,null,null,null,null,null,null,null,null,null,null,null,"Instructor in English","Instructor in English","Instructor in English","Instructor in English","Instructor in English","Instructor in English","Assistant Professor of English"]
[4305,"Williams","Moffatt G.","B.M., M.M., D.M.",null,null,null,null,null,null,null,null,null,null,null,null,null,null,null,null,null,null,null,null,null,null,null,null,null,null,null,null,null,null,null,null,null,null,null,null,null,null,null,null,null,null,null,null,null,null,null,null,null,null,null,null,null,null,null,null,null,null,null,null,null,null,null,null,null,null,null,null,null,null,null,null,null,null,null,null,null,null,null,null,null,null,null,null,null,null,null,null,null,null,null,null,null,null,null,null,null,null,null,null,null,null,"Assistant Professor of Music","Assistant Professor of Music","Assistant Professor of Music","Assistant Professor of Music","Associate Professor of Music"]
[649,"Willian","Willie Dee","A.M.",null,null,null,null,null,null,null,null,null,null,null,null,null,null,null,null,null,null,null,null,null,null,null,null,null,null,null,null,null,null,null,null,null,null,null,null,null,null,null,null,null,null,null,null,null,null,null,"Instructor in English & Speech","Instructor in English & Speech","Instructor in English / Speech"]
[3467,"Wills","James E.","A.B., M.A., Ph.D.",null,null,null,null,null,null,null,null,null,null,null,null,null,null,null,null,null,null,null,null,null,null,null,null,null,null,null,null,null,null,null,null,null,null,null,null,null,null,null,null,null,null,null,null,null,null,null,null,null,null,null,null,null,null,null,null,null,null,null,null,null,null,null,null,null,null,null,null,"Associate Professor of Physics","Associate Professor of Physics","Associate Professor of Physics","Associate Professor of Physics","Professor of Physics","Professor of Physics","Professor of Physics"]
[4271,"Wilson","Darryl C.","B.B.A., B.F.A., J.D., LL.M.",null,null,null,null,null,null,null,null,null,null,null,null,null,null,null,null,null,null,null,null,null,null,null,null,null,null,null,null,null,null,null,null,null,null,null,null,null,null,null,null,null,null,null,null,null,null,null,null,null,null,null,null,null,null,null,null,null,null,null,null,null,null,null,null,null,null,null,null,null,null,null,null,null,null,null,null,null,null,null,null,null,null,null,null,null,null,null,null,null,null,null,null,null,null,null,null,null,null,null,null,"Associate Professor of Law","Associate Professor of Law","Associate Professor of Law","Associate Professor of Law","Professor of Law","Professor of Law","Professor of Law","Professor of Law","Professor of Law","Professor of Law","Professor of Law","Professor of Law / Co-Director for Institute for \nCaribbean Law & Policy","Professor of Law / Co-Director for Institute for \nCaribbean Law & Policy","Professor of Law / Co-Director for Institute for \nCaribbean Law & Policy","Attorneys’ Title Insurance Fund Professor of Law / \nCo-Director for Institute for Caribbean Law & Policy","Attorneys’ Title Insurance Fund Professor of Law / \nCo-Director for Institute for Caribbean Law & Policy","Attorneys’ Title Insurance Fund Professor of Law / \nCo-Director for Institute for Caribbean Law & Policy","Attorney's Title Insurance Fund Professor of Law / \nCo-Director of the Institute for Caribbean Law & Policy"]
[2540,"Wilson","Esther",null,null,null,null,null,null,null,null,null,null,null,null,null,null,null,null,"Instructor in Spanish","Instructor in Spanish","Instructor in Spanish"]
[2599,"Wilson","Frances May",null,null,null,null,null,null,null,null,null,null,null,null,null,null,null,null,null,"Assistant in Bookkeeping","Assistant in Bookkeeping","Assistant in Bookkeeping"]
[3995,"Wilson","James E.","B.S., M.B.A., D.B.A.",null,null,null,null,null,null,null,null,null,null,null,null,null,null,null,null,null,null,null,null,null,null,null,null,null,null,null,null,null,null,null,null,null,null,null,null,null,null,null,null,null,null,null,null,null,null,null,null,null,null,null,null,null,null,null,null,null,null,null,null,null,null,null,null,null,null,null,null,null,null,null,null,null,null,null,null,null,null,null,null,null,null,null,null,null,null,null,null,null,null,"Associate Professor of Business Administration","Associate Professor of Accounting","Associate Professor of Accounting","Associate Professor of Accounting","Associate Professor of Accounting"]
[692,"Wilson","James Robert","A.B.,J.D., Jur.Sc D.",null,null,null,null,null,null,null,null,null,null,null,null,null,null,null,null,null,null,null,null,null,null,null,null,null,null,null,null,null,null,null,null,null,null,null,null,null,null,null,null,null,null,null,null,null,null,null,null,null,"Associate Professor of Law","Professor of Law","Professor of Law","Professor of Law",null,null,null,null,null,null,"Visiting Professor of Law","Visiting Professor of Law","Visiting Professor of Law","Visiting Professor of Law","Visiting Professor of Law","Visiting Professor of Law","Visiting Professor of Law"]
[3163,"Wilson","Katie",null,null,null,null,null,null,null,null,null,null,null,null,null,null,null,null,null,null,null,null,null,null,null,null,null,null,null,null,null,null,null,null,null,null,null,null,null,null,null,null,null,null,null,null,null,null,null,null,null,null,null,null,null,null,null,null,null,"Secretary to the Director of Publicity"]
[4205,"Wilson","Kimberly F.","B.S.",null,null,null,null,null,null,null,null,null,null,null,null,null,null,null,null,null,null,null,null,null,null,null,null,null,null,null,null,null,null,null,null,null,null,null,null,null,null,null,null,null,null,null,null,null,null,null,null,null,null,null,null,null,null,null,null,null,null,null,null,null,null,null,null,null,null,null,null,null,null,null,null,null,null,null,null,null,null,null,null,null,null,null,null,null,null,null,null,null,null,null,null,null,null,null,null,null,null,"Assistant Women's Basketball Coach"]
[4701,"Wilson","Matthew","B.S., M.Ed., Ed.D.",null,null,null,null,null,null,null,null,null,null,null,null,null,null,null,null,null,null,null,null,null,null,null,null,null,null,null,null,null,null,null,null,null,null,null,null,null,null,null,null,null,null,null,null,null,null,null,null,null,null,null,null,null,null,null,null,null,null,null,null,null,null,null,null,null,null,null,null,null,null,null,null,null,null,null,null,null,null,null,null,null,null,null,null,null,null,null,null,null,null,null,null,null,null,null,null,null,null,null,null,null,null,null,null,null,null,null,null,null,null,null,null,null,"Visiting Assistant Professor of Sport Management","Assistant Professor of Sport Management / Director","Assistant Professor of Sport Management / Director","Assistant Professor of Sport Management / Director","Assistant Professor / Director of Sports Management"]
[4206,"Wilson","Robert S.","B.A.",null,null,null,null,null,null,null,null,null,null,null,null,null,null,null,null,null,null,null,null,null,null,null,null,null,null,null,null,null,null,null,null,null,null,null,null,null,null,null,null,null,null,null,null,null,null,null,null,null,null,null,null,null,null,null,null,null,null,null,null,null,null,null,null,null,null,null,null,null,null,null,null,null,null,null,null,null,null,null,null,null,null,null,null,null,null,null,null,null,null,null,null,null,null,null,null,null,null,"Assistant Men's Soccer Coach","Women's Head Soccer Coach","Women's Head Soccer Coach","Women's Head Soccer Coach","Women's Head Soccer Coach","Women's Head Soccer Coach","Women's Head Soccer Coach"]
[4129,"Wilson","Susan","B.S., M.A., Ph.D.",null,null,null,null,null,null,null,null,null,null,null,null,null,null,null,null,null,null,null,null,null,null,null,null,null,null,null,null,null,null,null,null,null,null,null,null,null,null,null,null,null,null,null,null,null,null,null,null,null,null,null,null,null,null,null,null,null,null,null,null,null,null,null,null,null,null,null,null,null,null,null,null,null,null,null,null,null,null,null,null,null,null,null,null,null,null,null,null,null,null,null,null,null,null,null,null,"Assistant Professor of Communication Studies \n& Theatre Arts","Assistant Professor of Communication Studies \n& Theatre Arts","Assistant Professor of Communication Studies \n& Theatre Arts","Assistant Professor of Communication Studies \n& Theatre Arts","Assistant Professor of Communication Studies \n& Theatre Arts","Assistant Professor of Communication Studies & \nTheatre Arts (Sabbatical - Spring)","Assistant Professor of Communication Studies & \nTheatre Arts (Sabbatical - Spring)","Assistant Professor of Communication Studies & \nTheatre Arts","Assistant Professor of Communication Studies & \nTheatre Arts"]
[3667,"Wimberly","Ronald C","MS",null,null,null,null,null,null,null,null,null,null,null,null,null,null,null,null,null,null,null,null,null,null,null,null,null,null,null,null,null,null,null,null,null,null,null,null,null,null,null,null,null,null,null,null,null,null,null,null,null,null,null,null,null,null,null,null,null,null,null,null,null,null,null,null,null,null,null,null,null,null,null,null,null,null,null,null,null,"Instructor in Sociology","Instructor in Sociology"]
[null,"Wimer","Valinda G.","C.P.M.",null,null,null,null,null,null,null,null,null,null,null,null,null,null,null,null,null,null,null,null,null,null,null,null,null,null,null,null,null,null,null,null,null,null,null,null,null,null,null,null,null,null,null,null,null,null,null,null,null,null,null,null,null,null,null,null,null,null,null,null,null,null,null,null,null,null,null,null,null,null,null,null,null,null,null,null,null,null,null,null,null,null,null,null,null,null,null,null,null,null,null,null,null,null,null,null,null,null,null,null,null,null,null,null,null,null,null,null,null,null,null,null,null,null,"Director of Purchasing & Business Services","Director of Purchasing & Business Services","Director of Purchasing & Business Services"]
[831,"Winchester","Albert M.","A.B., M.A., Ph.D.",null,null,null,null,null,null,null,null,null,null,null,null,null,null,null,null,null,null,null,null,null,null,null,null,null,null,null,null,null,null,null,null,null,null,null,null,null,null,null,null,null,null,null,null,null,null,null,null,null,null,null,null,null,null,null,null,null,null,"Professor of Biology / Head of the Department of Biology","Professor of Biology / Head of the Department of Biology","Professor of Biology","Professor of Biology","Professor of Biology","Professor of Biology","Professor of Biology","Professor of Biology","Professor of Biology","Professor of Biology","Professor of Biology","Professor of Biology","Professor of Biology","Professor of Biology",null,null,null,null,null,"Professor of Biology"]
[2497,"Winegar","Elizabeth",null,null,null,null,null,null,null,null,null,null,null,null,null,null,"Assistant in Practice School","Assistant in Latin & English","Assistant in English"]
[3554,"Wingfield","E. Burwell","A.B., M.A.",null,null,null,null,null,null,null,null,null,null,null,null,null,null,null,null,null,null,null,null,null,null,null,null,null,null,null,null,null,null,null,null,null,null,null,null,null,null,null,null,null,null,null,null,null,null,null,null,null,null,null,null,null,null,null,null,null,null,null,null,null,null,null,null,null,null,null,null,null,null,null,null,"Instructor in Biology","Instructor in Biology"]
[4672,"Winn","Charles C.","1st Lieutenant, USA;A.B.",null,null,null,null,null,null,null,null,null,null,null,null,null,null,null,null,null,null,null,null,null,null,null,null,null,null,null,null,null,null,null,null,null,null,null,null,null,null,null,null,null,null,null,null,null,null,null,null,null,null,null,null,null,null,null,null,null,null,null,null,null,null,null,null,null,"Assistant Professor of Military Science & Tactics"]
[551,"Winseman","Alberta E.",null,null,null,null,null,null,null,null,null,null,null,null,null,null,null,null,null,null,null,null,null,null,null,null,null,null,null,null,null,null,null,null,null,null,null,null,null,null,null,"Secretary / University Recorder",null,null,"Office Secretary"]
[2409,"Winters","A.C.","Mrs.",null,null,null,"Lady Principal / Teacher of Modern Language & History","Lady Principal / Teacher of Modern Language & History","Lady Principal / Teacher of Modern Language & History"]
[2967,"Winters","Harry Sunderland","A.B., M.A.",null,null,null,null,null,null,null,null,null,null,null,null,null,null,null,null,null,null,null,null,null,null,null,null,null,null,null,null,null,null,null,null,null,null,null,null,null,null,null,null,"Instructor in Mathematics & Science","Assistant Professor of Mathematics & English","Professor of English & History","Instructor in English","Instructor in English","Assistant Professor of English","Assistant Professor of History & Political Science","Secretary of the Faculty / Assistant Professor of \nHistory & Political Science","Secretary of the Faculty / Assistant Professor of \nHistory & Political Science","Secretary of the Faculty / Associate Professor of \nHistory & Political Science","Secretary of the Faculty / Associate Professor of \nHistory & Political Science","Secretary of the Faculty / Associate Professor of \nHistory & Political Science","Secretary of the Faculty / Associate Professor of \nHistory & Political Science","Secretary of the Faculty / Associate Professor of \nHistory & Political Science","Secretary of the Faculty / Associate Professor of \nHistory & Political Science","Secretary of the Faculty / Professor of History & \nPolitical Science","Secretary of the Faculty / Professor of History & \nPolitical Science","Secretary of the Faculty / Professor of History & Political Science","Secretary to the Faculty / Professor of History & Political Science","Secretary to the Faculty / Professor of History / Political Science","Secretary to the Faculty / Professor of History / Political Science","Secretary to the Faculty / Professor of History / Political Science","Professor of History & Political Science","Secretary of the Faculty / Professor of History & \nPolitical Science","Professor of History & Political Science / Secretary to \nthe Faculty, Emeritus"]
[4130,"Witek","Joseph","B.A., M.A., Ph.D.",null,null,null,null,null,null,null,null,null,null,null,null,null,null,null,null,null,null,null,null,null,null,null,null,null,null,null,null,null,null,null,null,null,null,null,null,null,null,null,null,null,null,null,null,null,null,null,null,null,null,null,null,null,null,null,null,null,null,null,null,null,null,null,null,null,null,null,null,null,null,null,null,null,null,null,null,null,null,null,null,null,null,null,null,null,null,null,null,null,null,null,null,null,null,null,null,"Instructor in English","Assistant Professor of English","Assistant Professor of English","Assistant Professor of English","Assistant Professor of English","Assistant Professor of English","Associate Professor of English","Associate Professor of English / Kenneth P. Kirchman \nChair of Humanities","Associate Professor of English / Kenneth P. Kirchman \nChair of Humanities","Associate Professor of English / Kenneth P. Kirchman \nChair of Humanities","Professor of English","Professor of English","Professor of English","Professor of English","Professor of English","Professor of English","Professor of English","Professor of English / Director Graduate Studies English","Professor of English / Director of Graduate Studies,\n English","Professor of English / Kathleen A. Johnson Chair of \nHumanities / Director of Graduate Studies, English","Professor of English / Kathleen A. Johnson Chair of \nHumanities / Director of Graduate Studies, English","Professor of English / Kathleen A. Johnson Chair of \nHumanities"]
[4131,"Witek","Therese D.","B.S., M.A., Ph.D.",null,null,null,null,null,null,null,null,null,null,null,null,null,null,null,null,null,null,null,null,null,null,null,null,null,null,null,null,null,null,null,null,null,null,null,null,null,null,null,null,null,null,null,null,null,null,null,null,null,null,null,null,null,null,null,null,null,null,null,null,null,null,null,null,null,null,null,null,null,null,null,null,null,null,null,null,null,null,null,null,null,null,null,null,null,null,null,null,null,null,null,null,null,null,null,null,"Assistant Professor of English","Assistant Professor of English","Assistant Professor of English","Assistant Professor of English","Associate Professor of English / Nell Carlton Chair \nof English","Associate Professor of English / Nell Carlton Chair \nof English","Associate Professor of English / Nell Carlton Chair \nof English","Associate Professor of English","Associate Professor of English","Professor of English","Professor of English","Professor of English","Professor of English / Sullivan Chair in Creative Writing","Professor of English / Sullivan Chair in Creative Writing","Professor of English / Sullivan Chair in Creative Writing","Professor of English / Sullivan Chair in Creative Writing","Professor of English / Sullivan Chair in Creative Writing","Professor of English / Sullivan Chair in Creative Writing","Professor of English / Art & Melissa Sullivan Chair \nin Creative Writing","Professor of English / Art & Melissa Sullivan Chair \nin Creative Writing","Professor of English / Art & Melissa Sullivan Chair \nin Creative Writing","Professor of English / Art & Melissa Sullivan Chair \nin Creative Writing"]
[3701,"Wojcik","Violet Hicks","B.S., M.A.",null,null,null,null,null,null,null,null,null,null,null,null,null,null,null,null,null,null,null,null,null,null,null,null,null,null,null,null,null,null,null,null,null,null,null,null,null,null,null,null,null,null,null,null,null,null,null,null,null,null,null,null,null,null,null,null,null,null,null,null,null,null,null,null,null,null,null,null,null,null,null,null,null,null,null,null,null,null,null,"Instructor in Biology","Instructor in Biology"]
[4526,"Wolek","Nathan E.","B.M., Ph.D.",null,null,null,null,null,null,null,null,null,null,null,null,null,null,null,null,null,null,null,null,null,null,null,null,null,null,null,null,null,null,null,null,null,null,null,null,null,null,null,null,null,null,null,null,null,null,null,null,null,null,null,null,null,null,null,null,null,null,null,null,null,null,null,null,null,null,null,null,null,null,null,null,null,null,null,null,null,null,null,null,null,null,null,null,null,null,null,null,null,null,null,null,null,null,null,null,null,null,null,null,null,null,null,null,null,null,null,"Visiting Lecturer in Digital Arts",null,"Assistant Professor of Music","Assistant Professor of Music","Assistant Professor of Music","Assistant Professor of Music","Assistant Professor of Music",null,"Associate Professor of Music","Associate Professor of Digital Arts / Chair of Creative \nArts Department","Associate Professor of Digital Arts / Chair of Creative \nArts Department"]
[4585,"Wolfe","David R.","B.S.B.A., M.B.A., ABD",null,null,null,null,null,null,null,null,null,null,null,null,null,null,null,null,null,null,null,null,null,null,null,null,null,null,null,null,null,null,null,null,null,null,null,null,null,null,null,null,null,null,null,null,null,null,null,null,null,null,null,null,null,null,null,null,null,null,null,null,null,null,null,null,null,null,null,null,null,null,null,null,null,null,null,null,null,null,null,null,null,null,null,null,null,null,null,null,null,null,null,null,null,null,null,null,null,null,null,null,null,null,null,null,null,null,null,null,null,"Visiting Assistant Professor of Finance"]
[3972,"Wolfe","Joseph R.","Major USA, B.S.",null,null,null,null,null,null,null,null,null,null,null,null,null,null,null,null,null,null,null,null,null,null,null,null,null,null,null,null,null,null,null,null,null,null,null,null,null,null,null,null,null,null,null,null,null,null,null,null,null,null,null,null,null,null,null,null,null,null,null,null,null,null,null,null,null,null,null,null,null,null,null,null,null,null,null,null,null,null,null,null,null,null,null,null,null,null,null,null,null,"Assistant Professor of Military Science","Assistant Professor of Military Science","Assistant Professor of Military Science"]
[3756,"Wolfskill","George Kenneth","MA",null,null,null,null,null,null,null,null,null,null,null,null,null,null,null,null,null,null,null,null,null,null,null,null,null,null,null,null,null,null,null,null,null,null,null,null,null,null,null,null,null,null,null,null,null,null,null,null,null,null,null,null,null,null,null,null,null,null,null,null,null,null,null,null,null,null,null,null,null,null,null,null,null,null,null,null,null,null,null,null,null,null,"Instructor in English"]
[3634,"Womack","Joseph L.","B.A., M.A.",null,null,null,null,null,null,null,null,null,null,null,null,null,null,null,null,null,null,null,null,null,null,null,null,null,null,null,null,null,null,null,null,null,null,null,null,null,null,null,null,null,null,null,null,null,null,null,null,null,null,null,null,null,null,null,null,null,null,null,null,null,null,null,null,null,null,null,null,null,null,null,null,null,null,null,null,null,"Instructor in English","Instructor in English",null,null,"Instructor in English"]
[3635,"Womack","Martha","B.S., M.A.",null,null,null,null,null,null,null,null,null,null,null,null,null,null,null,null,null,null,null,null,null,null,null,null,null,null,null,null,null,null,null,null,null,null,null,null,null,null,null,null,null,null,null,null,null,null,null,null,null,null,null,null,null,null,null,null,null,null,null,null,null,null,null,null,null,null,null,null,null,null,null,null,null,null,null,null,"Instructor in Speech & Theater / Debate Coach","Instructor in Speech & Theater / Debate Coach","Instructor in Speech & Theater / Debate Coach","Instructor in Speech & Theater / Debate Coach"]
[2982,"Wood","Alpha",null,null,null,null,null,null,null,null,null,null,null,null,null,null,null,null,null,null,null,null,null,null,null,null,null,null,null,null,null,null,null,null,null,null,null,null,null,null,null,null,null,null,"Assistant in Library","Assistant in Library"]
[771,"Wood","Evone",null,null,null,null,null,null,null,null,null,null,null,null,null,null,null,null,null,null,null,null,null,null,null,null,null,null,null,null,null,null,null,null,null,null,null,null,null,null,null,null,null,null,null,null,null,null,null,null,null,null,null,null,null,null,null,null,null,"Secretary to the Registrar","Secretary to the Registrar"]
[3734,"Wood","Margaret W.","B.A., M.S., Ed.D.",null,null,null,null,null,null,null,null,null,null,null,null,null,null,null,null,null,null,null,null,null,null,null,null,null,null,null,null,null,null,null,null,null,null,null,null,null,null,null,null,null,null,null,null,null,null,null,null,null,null,null,null,null,null,null,null,null,null,null,null,null,null,null,null,null,null,null,null,null,null,null,null,null,null,null,null,null,null,null,null,"Associate Professor of Education","Associate Professor of Education","Associate Professor of Education"]
[154,"Wood","Annie B.",null,null,null,null,null,null,null,null,null,null,null,null,null,null,null,null,"Instructor in Business College","Instructor in Typewriting"]
[3753,"Wood","Richard H., Jr.","B.A., M.A., Ph.D.",null,null,null,null,null,null,null,null,null,null,null,null,null,null,null,null,null,null,null,null,null,null,null,null,null,null,null,null,null,null,null,null,null,null,null,null,null,null,null,null,null,null,null,null,null,null,null,null,null,null,null,null,null,null,null,null,null,null,null,null,null,null,null,null,null,null,null,null,null,null,null,null,null,null,null,null,null,null,null,null,null,"Assistant Professor of Economics","Assistant Professor of Economics","Assistant Professor of Economics","Associate Professor of Economics","Associate Professor of Economics","Associate Professor of Economics","Associate Professor of Economics","Associate Professor of Economics","Associate Professor of Economics","Associate Professor of Economics","Associate Professor of Economics","Associate Professor of Economics","Associate Professor of Economics","Associate Professor of Economics","Professor of Economics","Professor of Economics","Professor of Economics","Professor of Economics / Acting Chair","Professor of Economics / Chair","Professor of Economics / Chair","Professor of Economics / Chair","Professor of Economics / Chair","Professor of Economics / Chair","Professor of Economics / Chair","Professor of Economics","Professor of Economics","Professor of Economics","Professor of Economics","Professor of Economics","Professor of Economics","Professor of Economics","Professor of Economics","Senior Professor of Economics","Senior Professor of Economics","Professor of Economics, Emeritus","Professor of Economics, Emeritus","Professor of Economics, Emeritus"]
[3870,"Woodard","J. Lamar","B.A., J.D., M.S.L.S.",null,null,null,null,null,null,null,null,null,null,null,null,null,null,null,null,null,null,null,null,null,null,null,null,null,null,null,null,null,null,null,null,null,null,null,null,null,null,null,null,null,null,null,null,null,null,null,null,null,null,null,null,null,null,null,null,null,null,null,null,null,null,null,null,null,null,null,null,null,null,null,null,null,null,null,null,null,null,null,null,null,null,null,null,"Law Librarian",null,"Law Librarian / Professor of Law","Law Librarian / Professor of Law","Law Librarian / Professor of Law","Law Librarian / Professor of Law","Law Librarian / Professor of Law","Law Librarian / Professor of Law","Law Librarian / Professor of Law","Law Librarian / Professor of Law","Law Librarian / Professor of Law","Law Librarian / Professor of Law","Law Librarian / Professor of Law","Law Librarian / Professor of Law","Law Librarian / Professor of Law","Law Librarian / Professor of Law","Law Librarian / Professor of Law","Professor of Law / Director of Law Library","Professor of Law / Director of Law Library & \nInformation Services","Professor of Law / Director of Law Library & \nInformation Services","Professor of Law / Law Librarian, Emeritus","Professor of Law / Law Librarian, Emeritus","Professor of Law / Law Librarian, Emeritus","Professor of Law / Law Librarian, Emeritus","Professor of Law / Law Librarian, Emeritus","Professor of Law / Law Librarian, Emeritus","Professor of Law / Law Librarian, Emeritus","Professor of Law / Law Librarian, Emeritus","Professor of Law / Law Librarian, Emeritus","Professor of Law / Law Librarian, Emeritus","Professor of Law / Law Librarian, Emeritus","Professor of Law / Law Librarian, Emeritus","Professor of Law / Law Librarian, Emeritus","Professor of Law / Law Librarian, Emeritus"]
[null,"Woodcock","Ramsi","B.A., J.D.",null,null,null,null,null,null,null,null,null,null,null,null,null,null,null,null,null,null,null,null,null,null,null,null,null,null,null,null,null,null,null,null,null,null,null,null,null,null,null,null,null,null,null,null,null,null,null,null,null,null,null,null,null,null,null,null,null,null,null,null,null,null,null,null,null,null,null,null,null,null,null,null,null,null,null,null,null,null,null,null,null,null,null,null,null,null,null,null,null,null,null,null,null,null,null,null,null,null,null,null,null,null,null,null,null,null,null,null,null,null,null,null,null,null,null,null,"Bruce R. Jacob Visiting Assistant Professor of Law"]
[null,"Woods","Nicole","M.A., M.P.A",null,null,null,null,null,null,null,null,null,null,null,null,null,null,null,null,null,null,null,null,null,null,null,null,null,null,null,null,null,null,null,null,null,null,null,null,null,null,null,null,null,null,null,null,null,null,null,null,null,null,null,null,null,null,null,null,null,null,null,null,null,null,null,null,null,null,null,null,null,null,null,null,null,null,null,null,null,null,null,null,null,null,null,null,null,null,null,null,null,null,null,null,null,null,null,null,null,null,null,null,null,null,null,null,null,null,null,null,null,null,null,null,null,null,null,"Assistant Women’s Basketball Coach"]
[131,"Woods","Ray S.",null,null,null,null,null,null,null,null,null,null,null,null,null,null,null,"Assistant in Kindergarten"]
[4365,"Woods","Roger D.","B.A., M.Div., Ph.D..",null,null,null,null,null,null,null,null,null,null,null,null,null,null,null,null,null,null,null,null,null,null,null,null,null,null,null,null,null,null,null,null,null,null,null,null,null,null,null,null,null,null,null,null,null,null,null,null,null,null,null,null,null,null,null,null,null,null,null,null,null,null,null,null,null,null,null,null,null,null,null,null,null,null,null,null,null,null,null,null,null,null,null,null,null,null,null,null,null,null,null,null,null,null,null,null,null,null,null,null,null,null,null,"Visiting Professor of Religious Studies","Visiting Professor of Religious Studies"]
[null,"Woodside","Joseph","B.S., M.B.A., D.B.A.-IS",null,null,null,null,null,null,null,null,null,null,null,null,null,null,null,null,null,null,null,null,null,null,null,null,null,null,null,null,null,null,null,null,null,null,null,null,null,null,null,null,null,null,null,null,null,null,null,null,null,null,null,null,null,null,null,null,null,null,null,null,null,null,null,null,null,null,null,null,null,null,null,null,null,null,null,null,null,null,null,null,null,null,null,null,null,null,null,null,null,null,null,null,null,null,null,null,null,null,null,null,null,null,null,null,null,null,null,null,null,null,null,null,null,null,null,null,"Assistant Professor of Decision & Information Science","Assistant Professor / Chair of Biology"]
[155,"Woodson","Thomas R.",null,null,null,null,null,null,null,null,null,null,null,null,null,null,null,null,"In Charge of Conrad Hall","In Charge of Conrad Hall"]
[4045,"Woodward","James E.","B.M., M.A., Ph.D.",null,null,null,null,null,null,null,null,null,null,null,null,null,null,null,null,null,null,null,null,null,null,null,null,null,null,null,null,null,null,null,null,null,null,null,null,null,null,null,null,null,null,null,null,null,null,null,null,null,null,null,null,null,null,null,null,null,null,null,null,null,null,null,null,null,null,null,null,null,null,null,null,null,null,null,null,null,null,null,null,null,null,null,null,null,null,null,null,null,null,null,null,"Professor of Music / Dean of the School of Music",null,"Professor of Music / Dean of the School of Music","Professor of Music / Dean of the School of Music","Professor of Music / Dean of the School of Music","Professor of Music / Dean of the School of Music","Professor of Music / Dean of the School of Music","Professor of Music / Dean of the School of Music","Professor of Music / Dean of the School of Music","Professor of Music / Dean of the School of Music","Professor of Music / Dean of the School of Music","Professor of Music / Dean of the School of Music","Professor of Music / Dean of the School of Music / \nCouncil of Deans / Chair","Professor of Music / Dean of the School of Music / \nCouncil of Deans / Chair","Professor of Music / Dean of the School of Music / \nCouncil of Deans / Chair","Professor of Music / Dean of the School of Music / \nCouncil of Deans / Chair","Professor of Music / Dean of the School of Music / \nCouncil of Deans / Chair","Professor of Music / Dean of the School of Music / \nCouncil of Deans / Chair","Professor of Music / Dean of the School of Music / \nCouncil of Deans / Chair","Professor / Dean of Music, Emeritus","Professor / Dean of Music, Emeritus","Professor / Dean of Music, Emeritus","Professor / Dean of Music, Emeritus","Professor / Dean of Music, Emeritus","Professor / Dean of Music, Emeritus","Professor / Dean of Music, Emeritus"]
[201,"Woodward","P. Stanley",null,null,null,null,null,null,null,null,null,null,null,null,null,null,null,null,null,null,"Assistant in Chemical Laboratory"]
[4394,"Woodyard","Jeffrey Lynn","B.S.Ed,M.A.T.S., Ph.D",null,null,null,null,null,null,null,null,null,null,null,null,null,null,null,null,null,null,null,null,null,null,null,null,null,null,null,null,null,null,null,null,null,null,null,null,null,null,null,null,null,null,null,null,null,null,null,null,null,null,null,null,null,null,null,null,null,null,null,null,null,null,null,null,null,null,null,null,null,null,null,null,null,null,null,null,null,null,null,null,null,null,null,null,null,null,null,null,null,null,null,null,null,null,null,null,null,null,null,null,null,null,null,null,"Assistant Professor of Communication Studies & \nAfricana Studies","Assistant Professor of Communication Studies & \nAfricana Studies"]
[4434,"Work","Kirsten","B.S., M.S., Ph.D.",null,null,null,null,null,null,null,null,null,null,null,null,null,null,null,null,null,null,null,null,null,null,null,null,null,null,null,null,null,null,null,null,null,null,null,null,null,null,null,null,null,null,null,null,null,null,null,null,null,null,null,null,null,null,null,null,null,null,null,null,null,null,null,null,null,null,null,null,null,null,null,null,null,null,null,null,null,null,null,null,null,null,null,null,null,null,null,null,null,null,null,null,null,null,null,null,null,null,null,null,null,null,null,null,"Assistant Professor of Biology","Assistant Professor of Biology","Assistant Professor of Biology","Assistant Professor of Biology","Assistant Professor of Biology","Assistant Professor of Biology","Associate Professor of Biology","Associate Professor of Biology","Associate Professor of Biology","Associate Professor of Biology","Associate Professor of Biology","Associate Professor of Biology","Associate Professor / Chair of Biology"]
[3079,"Worth","Aileen","A.B.",null,null,null,null,null,null,null,null,null,null,null,null,null,null,null,null,null,null,null,null,null,null,null,null,null,null,null,null,null,null,null,null,null,null,null,null,null,null,null,null,null,null,null,null,null,null,null,null,null,"Assistant Instructor in Violin, Viola & Ensemble","Assistant Instructor in Violin & Piano","Assistant Instructor in Violin & Piano","Assistant Instructor in Violin & Piano","Assistant Instructor in Violin & Piano","Assistant Instructor in Violin & Piano","Assistant Instructor in Violin & Piano","Assistant Instructor in Violin & Piano","Instructor in Violin & Piano","Instructor in Violin & Piano (Resigned)"]
[3644,"Wrenn","Paul","Jr., B.A., B.D., Th.M",null,null,null,null,null,null,null,null,null,null,null,null,null,null,null,null,null,null,null,null,null,null,null,null,null,null,null,null,null,null,null,null,null,null,null,null,null,null,null,null,null,null,null,null,null,null,null,null,null,null,null,null,null,null,null,null,null,null,null,null,null,null,null,null,null,null,null,null,null,null,null,null,null,null,null,null,"Instructor in Religion"]
[3636,"Wright","James C.","B.A., M.A., Ph.D.",null,null,null,null,null,null,null,null,null,null,null,null,null,null,null,null,null,null,null,null,null,null,null,null,null,null,null,null,null,null,null,null,null,null,null,null,null,null,null,null,null,null,null,null,null,null,null,null,null,null,null,null,null,null,null,null,null,null,null,null,null,null,null,null,null,null,null,null,null,null,null,null,null,null,null,null,"Instructor in Speech & Drama","Instructor in Speech & Theatre","Instructor in Speech & Theatre","Instructor in Speech & Theatre","Assistant Professor in Speech & Theatre","Assistant Professor in Speech & Theatre","Assistant Professor of Speech & Theatre","Assistant Professor of Speech & Theatre","Associate Professor of Speech & Theatre / Chair","Associate Professor of Speech & Theatre / Chair","Associate Professor of Speech & Theatre / Chair","Associate Professor of Speech & Theatre / Chair","Associate Professor of Speech & Theatre / Chair","Associate Professor of Speech & Theatre / Chair","Associate Professor of Speech & Theatre / Chair","Professor of Speech & Theatre / Chair","Professor of Speech & Theatre / Chair","Professor of Speech & Theatre / Chair","Professor of Speech & Theatre / Chair","Professor of Speech & Theatre / Chair","Professor of Communication Studies & Theatre Arts / Chair","Professor of Communication Studies & Theatre Arts / Chair","Professor of Communication Studies & Theatre Arts / Chair","Professor of Communication Studies & Theatre Arts / Chair","Professor of Communication Studies & Theatre Arts / Chair","Professor of Communication Studies & Theatre Arts","Professor of Communication Studies & Theatre Arts","Professor of Communication Studies & Theatre Arts","Professor of Communication Studies & Theatre Arts","Professor of Communication Studies & Theatre Arts","Professor of Communication Studies & Theatre Arts","Professor of Communication Studies & Theatre Arts","Professor of Communication Studies & Theatre Arts","Professor of Communication Studies & Theatre Arts","Professor of Communication Studies & Theatre Arts","Professor of Communication Studies & Theatre Arts","Professor of Communication Studies & Theatre Arts","Professor of Communication Studies & Theatre \nArts, Emeritus","Professor of Communication Studies & Theatre Arts,\n Emeritus","Professor of Communication Studies & Theatre \nArts, Emeritus","Professor of Communication Studies & Theatre \nArts, Emeritus","Professor of Communication Studies & Theatre \nArts, Emeritus"]
[3764,"Wright","Joel S.","B.A., M.S.",null,null,null,null,null,null,null,null,null,null,null,null,null,null,null,null,null,null,null,null,null,null,null,null,null,null,null,null,null,null,null,null,null,null,null,null,null,null,null,null,null,null,null,null,null,null,null,null,null,null,null,null,null,null,null,null,null,null,null,null,null,null,null,null,null,null,null,null,null,null,null,null,null,null,null,null,null,null,null,null,null,null,"Assistant Professor of Sociology","Assistant Professor of Sociology","Assistant Professor of Sociology","Assistant Professor of Sociology","Assistant Professor of Sociology","Assistant Professor of Sociology","Assistant Professor of Sociology","Assistant Professor of Sociology","Assistant Professor of Sociology","Assistant Professor of Sociology","Assistant Professor of Sociology (Leave of Absence)","Assistant Professor of Sociology","Assistant Professor of Sociology","Assistant Professor of Sociology","Assistant Professor of Sociology","Assistant Professor of Sociology","Assistant Professor of Sociology","Assistant Professor of Sociology","Assistant Professor of Sociology"]
[4012,"Wright","Judith S.","B.S., M.Ed., Ed.D.",null,null,null,null,null,null,null,null,null,null,null,null,null,null,null,null,null,null,null,null,null,null,null,null,null,null,null,null,null,null,null,null,null,null,null,null,null,null,null,null,null,null,null,null,null,null,null,null,null,null,null,null,null,null,null,null,null,null,null,null,null,null,null,null,null,null,null,null,null,null,null,null,null,null,null,null,null,null,null,null,null,null,null,null,null,null,null,null,null,null,null,"Assistant Professor Education / Director of Testing / \nAssistant Director Counseling Center","Assistant Professor Education / Director of Testing / \nAssistant Director Counseling Center","Assistant Professor Education / Director of Testing / \nAssistant Director Counseling Center","Assistant Professor Education / Director of Testing / \nDirector Counseling Center","Assistant Professor Education / Director of Testing / \nDirector Counseling Center","Assistant Professor Education / Director of Testing / \nDirector Counseling Center","Assistant Professor Education / Director Counseling Center","Assistant Professor Education / Director Counseling \nCenter ","Assistant Professor Education / Director Counseling \nCenter ","Assistant Professor Education / Director Counseling \nCenter ","Assistant Professor Education / Director Counseling \nCenter "]
[3325,"Wright","Victor H.","B.E.",null,null,null,null,null,null,null,null,null,null,null,null,null,null,null,null,null,null,null,null,null,null,null,null,null,null,null,null,null,null,null,null,null,null,null,null,null,null,null,null,null,null,null,null,null,null,null,null,null,null,null,null,null,null,null,null,null,null,null,null,"Instructor in Engineering","Instructor in Engineering"]
[4013,"Wright","Wiliam W.","B.B.A., M.A., Ph.D.",null,null,null,null,null,null,null,null,null,null,null,null,null,null,null,null,null,null,null,null,null,null,null,null,null,null,null,null,null,null,null,null,null,null,null,null,null,null,null,null,null,null,null,null,null,null,null,null,null,null,null,null,null,null,null,null,null,null,null,null,null,null,null,null,null,null,null,null,null,null,null,null,null,null,null,null,null,null,null,null,null,null,null,null,null,null,null,null,null,null,null,"Professor of Business Administration / Dean School \nof Business Administration","Professor of Business Administration / Dean School \nof Business Administration","Professor of Business Administration / Dean School \nof Business Administration","Professor of Business Administration / Dean School \nof Business Administration","Professor of Business Administration / Dean School \nof Business Administration","Professor of Business Administration / Dean School \nof Business Administration","Professor of Business Administration / Dean School \nof Business Administration","Professor of Business Administration / Dean School \nof Business Administration","Professor of Business Administration","Professor of Business Administration","Professor of Business Administration","Professor of Business Administration, Emeritus","Professor of Business Administration, Emeritus","Professor of Business Administration, Emeritus","Professor of Business Administration, Emeritus","Professor of Business Administration, Emeritus","Professor of Business Administration, Emeritus","Professor of Business Administration, Emeritus","Professor of Business Administration, Emeritus","Professor of Business Administration, Emeritus","Professor of Business Administration, Emeritus","Professor of Business Administration, Emeritus","Professor of Business Administration, Emeritus","Professor of Business Administration, Emeritus","Professor of Business Administration, Emeritus","Professor of Business Administration, Emeritus","Professor of Business Administration / Dean School \nof Business Administration"]
[3779,"Wroblewski","Frank M.","Captain, U.S.A., B.S., M.A.",null,null,null,null,null,null,null,null,null,null,null,null,null,null,null,null,null,null,null,null,null,null,null,null,null,null,null,null,null,null,null,null,null,null,null,null,null,null,null,null,null,null,null,null,null,null,null,null,null,null,null,null,null,null,null,null,null,null,null,null,null,null,null,null,null,null,null,null,null,null,null,null,null,null,null,null,null,null,null,null,null,null,null,"Associate Professor of Military Science"]
[4290,"Wu","Ruoyi","B.A., M.A.",null,null,null,null,null,null,null,null,null,null,null,null,null,null,null,null,null,null,null,null,null,null,null,null,null,null,null,null,null,null,null,null,null,null,null,null,null,null,null,null,null,null,null,null,null,null,null,null,null,null,null,null,null,null,null,null,null,null,null,null,null,null,null,null,null,null,null,null,null,null,null,null,null,null,null,null,null,null,null,null,null,null,null,null,null,null,null,null,null,null,null,null,null,null,null,null,null,null,null,null,null,"Assistant Professor of English","Assistant Professor of English"]
[4087,"Wuennenberg","Terry","B.S.",null,null,null,null,null,null,null,null,null,null,null,null,null,null,null,null,null,null,null,null,null,null,null,null,null,null,null,null,null,null,null,null,null,null,null,null,null,null,null,null,null,null,null,null,null,null,null,null,null,null,null,null,null,null,null,null,null,null,null,null,null,null,null,null,null,null,null,null,null,null,null,null,null,null,null,null,null,null,null,null,null,null,null,null,null,null,null,null,null,null,null,null,null,null,"Assistant Men's Basketball Coach"]
[3936,"Wycoff","Jerry Randall","B.S., M.A.",null,null,null,null,null,null,null,null,null,null,null,null,null,null,null,null,null,null,null,null,null,null,null,null,null,null,null,null,null,null,null,null,null,null,null,null,null,null,null,null,null,null,null,null,null,null,null,null,null,null,null,null,null,null,null,null,null,null,null,null,null,null,null,null,null,null,null,null,null,null,null,null,null,null,null,null,null,null,null,null,null,null,null,null,null,null,null,"Instructor of Sociology"]
[3468,"Wynn","Malcolm M.","B.A., M.A., Ph.D.",null,null,null,null,null,null,null,null,null,null,null,null,null,null,null,null,null,null,null,null,null,null,null,null,null,null,null,null,null,null,null,null,null,null,null,null,null,null,null,null,null,null,null,null,null,null,null,null,null,null,null,null,null,null,null,null,null,null,null,null,null,null,null,null,"Assistant Professor of History","Assistant Professor of History","Assistant Professor of History",null,"Assistant Professor of History","Assistant Professor of History","Assistant Professor of History & Political Science","Assistant Professor of History & Political Science","Associate Professor of History & Political Science","Associate Professor of History & Political Science","Professor of History & Political Science","Professor of History & Political Science","Professor of History & Political Science","Professor of History & Political Science","Professor of History & Political Science","Professor of History & Political Science","Professor of History & Political Science","Professor of History","Professor of History","Professor of History","Professor of History","Professor of History","Professor of History","Professor of History","Professor of History","Professor of History","Professor of History","Professor of History","Professor of History","Professor of History","Professor of History","Professor of History","Professor of History","Professor of History","Professor of History","Professor of History / Senior Active Status","Professor of History / Senior Active Status","Professor of History / Senior Active Status","Professor of History / Senior Active Status","Professor of History","Professor of History, Emeritus","Professor of History, Emeritus","Professor of History, Emeritus","Professor of History, Emeritus","Professor of History, Emeritus","Professor of History, Emeritus","Professor of History, Emeritus","Professor of History, Emeritus","Professor of History, Emeritus","Professor of History, Emeritus","Professor of History, Emeritus","Professor of History, Emeritus","Professor of History, Emeritus","Professor of History, Emeritus"]
[4702,"Yang","Benhua","B.A., M.A., M.S., Ph.D.",null,null,null,null,null,null,null,null,null,null,null,null,null,null,null,null,null,null,null,null,null,null,null,null,null,null,null,null,null,null,null,null,null,null,null,null,null,null,null,null,null,null,null,null,null,null,null,null,null,null,null,null,null,null,null,null,null,null,null,null,null,null,null,null,null,null,null,null,null,null,null,null,null,null,null,null,null,null,null,null,null,null,null,null,null,null,null,null,null,null,null,null,null,null,null,null,null,null,null,null,null,null,null,null,null,null,null,null,null,null,null,null,null,"Assistant Professor of Economics","Assistant Professor of Economics","Assistant Professor of Economics","Assistant Professor of Economics","Assistant Professor of Chemistry"]
[3702,"Yates","Dudley V.","B.A., M.S., M.A.",null,null,null,null,null,null,null,null,null,null,null,null,null,null,null,null,null,null,null,null,null,null,null,null,null,null,null,null,null,null,null,null,null,null,null,null,null,null,null,null,null,null,null,null,null,null,null,null,null,null,null,null,null,null,null,null,null,null,null,null,null,null,null,null,null,null,null,null,null,null,null,null,null,null,null,null,null,null,null,"Director, duPont-Ball Library","Director, duPont-Ball Library","Professor / Director of the duPont-Ball Library","Professor / Director of the duPont-Ball Library","Professor / Director of the duPont-Ball Library"]
[4673,"Yates","Harold W.","A.B., M.A.",null,null,null,null,null,null,null,null,null,null,null,null,null,null,null,null,null,null,null,null,null,null,null,null,null,null,null,null,null,null,null,null,null,null,null,null,null,null,null,null,null,null,null,null,null,null,null,null,null,null,null,null,null,null,null,null,null,null,null,null,null,null,null,null,null,"Visiting Lecturer in Education"]
[3484,"Yates","Tommye C.","M.S.",null,null,null,null,null,null,null,null,null,null,null,null,null,null,null,null,null,null,null,null,null,null,null,null,null,null,null,null,null,null,null,null,null,null,null,null,null,null,null,null,null,null,null,null,null,null,null,null,null,null,null,null,null,null,null,null,null,null,null,null,null,null,null,null,null,null,null,null,null,"Instructor in Physical Education"]
[952,"Yaxley","Donald Charles","B.M., M.A.",null,null,null,null,null,null,null,null,null,null,null,null,null,null,null,null,null,null,null,null,null,null,null,null,null,null,null,null,null,null,null,null,null,null,null,null,null,null,null,null,null,null,null,null,null,null,null,null,null,null,null,null,null,null,null,null,null,null,null,null,null,"Instructor in Wind Instruments","Instructor in Wind Instruments","Instructor in Wind Instruments","Instructor in Wind & Percussion Instruments","Instructor in Wind & Percussion Instruments","Instructor in Wind & Percussion Instruments","Instructor in Wind & Percussion Instruments","Assistant Professor of Wind & Percussion Instruments","Assistant Professor of Wind & Percussion Instruments","Associate Professor of Wind & Percussion Instruments","Acting Dean of School of Music","Associate Professor of Wind & Percussion Instruments","Associate Professor of Wind & Percussion Instruments","Professor of Wind & Percussion Instruments","Professor of Wind & Percussion Instruments","Professor of Wind & Percussion Instruments","Professor of Wind & Percussion Instruments","Professor of Wind & Percussion Instruments","Professor of Wind & Percussion Instruments","Professor of Wind & Percussion Instruments","Professor of Brass Instruments & Percussion","Professor of Brass Instruments & Percussion","Professor of Brass Instruments & Percussion","Professor of Brass Instruments & Percussion","Professor of Brass Instruments & Percussion","Professor of Brass Instruments & Percussion"]
[790,"Yaxley","Ellenlee M.","B.S.",null,null,null,null,null,null,null,null,null,null,null,null,null,null,null,null,null,null,null,null,null,null,null,null,null,null,null,null,null,null,null,null,null,null,null,null,null,null,null,null,null,null,null,null,null,null,null,null,null,null,null,null,null,null,null,null,null,"Secretary to the Dean of the University","Secretary to the Dean of the University","Secretary to the Dean of the University"]
[4479,"Yessin","Gerson","B.S., M.S., Ph.D., D.M.",null,null,null,null,null,null,null,null,null,null,null,null,null,null,null,null,null,null,null,null,null,null,null,null,null,null,null,null,null,null,null,null,null,null,null,null,null,null,null,null,null,null,null,null,null,null,null,null,null,null,null,null,null,null,null,null,null,null,null,null,null,null,null,null,null,null,null,null,null,null,null,null,null,null,null,null,null,null,null,null,null,null,null,null,null,null,null,null,null,null,null,null,null,null,null,null,null,null,null,null,null,null,null,null,null,"Visiting Professor of Music"]
[4200,"Yoder","Gary L.","B.S., M.S., M.P.A.",null,null,null,null,null,null,null,null,null,null,null,null,null,null,null,null,null,null,null,null,null,null,null,null,null,null,null,null,null,null,null,null,null,null,null,null,null,null,null,null,null,null,null,null,null,null,null,null,null,null,null,null,null,null,null,null,null,null,null,null,null,null,null,null,null,null,null,null,null,null,null,null,null,null,null,null,null,null,null,null,null,null,null,null,null,null,null,null,null,null,null,null,null,null,null,null,null,null,"Visiting Instructor in Economics"]
[2581,"York","Emma J.",null,null,null,null,null,null,null,null,null,null,null,null,null,null,null,null,null,"Assistant Bookkeeper"]
[4629,"York","John","B.S., B.A., Ph.D.",null,null,null,null,null,null,null,null,null,null,null,null,null,null,null,null,null,null,null,null,null,null,null,null,null,null,null,null,null,null,null,null,null,null,null,null,null,null,null,null,null,null,null,null,null,null,null,null,null,null,null,null,null,null,null,null,null,null,null,null,null,null,null,null,null,null,null,null,null,null,null,null,null,null,null,null,null,null,null,null,null,null,null,null,null,null,null,null,null,null,null,null,null,null,null,null,null,null,null,null,null,null,null,null,null,null,null,null,null,null,null,"Assistant Professor of Chemistry","Assistant Professor of Chemistry","Assistant Professor of Chemistry","Assistant Professor of Chemistry","Assistant Professor of Chemistry","Associate Professor of Chemistry"]
[4083,"Young","Mark E.","B.A., M.S., Ph.D.",null,null,null,null,null,null,null,null,null,null,null,null,null,null,null,null,null,null,null,null,null,null,null,null,null,null,null,null,null,null,null,null,null,null,null,null,null,null,null,null,null,null,null,null,null,null,null,null,null,null,null,null,null,null,null,null,null,null,null,null,null,null,null,null,null,null,null,null,null,null,null,null,null,null,null,null,null,null,null,null,null,null,null,null,null,null,null,null,null,null,null,null,null,null,"Assistant Professor of Education","Assistant Professor of Education","Assistant Professor of Education","Assistant Professor of Education","Assistant Professor of Education","Associate Professor of Counseling Education / Chair","Associate Professor of Counseling Education / Chair \n(Fall Sabbatical)","Associate Professor of Counseling Education / Chair","Associate Professor of Counseling Education / Chair","Associate Professor of Counseling Education / Chair"]
[4291,"Young","Wendy","B.A., D.Phil.",null,null,null,null,null,null,null,null,null,null,null,null,null,null,null,null,null,null,null,null,null,null,null,null,null,null,null,null,null,null,null,null,null,null,null,null,null,null,null,null,null,null,null,null,null,null,null,null,null,null,null,null,null,null,null,null,null,null,null,null,null,null,null,null,null,null,null,null,null,null,null,null,null,null,null,null,null,null,null,null,null,null,null,null,null,null,null,null,null,null,null,null,null,null,null,null,null,null,null,null,null,"Visiting Assistant Professor of Sociology"]
[3413,"Yu","Frederick T. C.","B.A., M.A., Ph.D.",null,null,null,null,null,null,null,null,null,null,null,null,null,null,null,null,null,null,null,null,null,null,null,null,null,null,null,null,null,null,null,null,null,null,null,null,null,null,null,null,null,null,null,null,null,null,null,null,null,null,null,null,null,null,null,null,null,null,null,null,null,null,null,null,null,null,"Assistant Professor of Journalism","Assistant Professor in Journalism"]
[null,"Yu","Rui","M.A.",null,null,null,null,null,null,null,null,null,null,null,null,null,null,null,null,null,null,null,null,null,null,null,null,null,null,null,null,null,null,null,null,null,null,null,null,null,null,null,null,null,null,null,null,null,null,null,null,null,null,null,null,null,null,null,null,null,null,null,null,null,null,null,null,null,null,null,null,null,null,null,null,null,null,null,null,null,null,null,null,null,null,null,null,null,null,null,null,null,null,null,null,null,null,null,null,null,null,null,null,null,null,null,null,null,null,null,null,null,null,null,null,null,null,"Fulbright Language Teaching Assistant"]
[null,"Zapata","Roberto Camacho","B.S., M.B.A",null,null,null,null,null,null,null,null,null,null,null,null,null,null,null,null,null,null,null,null,null,null,null,null,null,null,null,null,null,null,null,null,null,null,null,null,null,null,null,null,null,null,null,null,null,null,null,null,null,null,null,null,null,null,null,null,null,null,null,null,null,null,null,null,null,null,null,null,null,null,null,null,null,null,null,null,null,null,null,null,null,null,null,null,null,null,null,null,null,null,null,null,null,null,null,null,null,null,null,null,null,null,null,null,null,null,null,null,null,null,null,null,null,null,"Program & Grant Compliance Manager"]
[4447,"Zavala","Maria","B.B.A., M.B.A.",null,null,null,null,null,null,null,null,null,null,null,null,null,null,null,null,null,null,null,null,null,null,null,null,null,null,null,null,null,null,null,null,null,null,null,null,null,null,null,null,null,null,null,null,null,null,null,null,null,null,null,null,null,null,null,null,null,null,null,null,null,null,null,null,null,null,null,null,null,null,null,null,null,null,null,null,null,null,null,null,null,null,null,null,null,null,null,null,null,null,null,null,null,null,null,null,null,null,null,null,null,null,null,"Women's Tennis Coach","Women's Tennis Coach"]
[4201,"Zavanelli","Max","B.B.A.",null,null,null,null,null,null,null,null,null,null,null,null,null,null,null,null,null,null,null,null,null,null,null,null,null,null,null,null,null,null,null,null,null,null,null,null,null,null,null,null,null,null,null,null,null,null,null,null,null,null,null,null,null,null,null,null,null,null,null,null,null,null,null,null,null,null,null,null,null,null,null,null,null,null,null,null,null,null,null,null,null,null,null,null,null,null,null,null,null,null,null,null,null,null,null,null,null,null,"Roland George Visiting Professor of Applied Investments","Roland George Visiting Professor of Applied Investments"]
[null,"Zavlunov","Danil",null,null,null,null,null,null,null,null,null,null,null,null,null,null,null,null,null,null,null,null,null,null,null,null,null,null,null,null,null,null,null,null,null,null,null,null,null,null,null,null,null,null,null,null,null,null,null,null,null,null,null,null,null,null,null,null,null,null,null,null,null,null,null,null,null,null,null,null,null,null,null,null,null,null,null,null,null,null,null,null,null,null,null,null,null,null,null,null,null,null,null,null,null,null,null,null,null,null,null,null,null,null,null,null,null,null,null,null,null,null,null,null,null,null,null,null,null,null,"Assistant Professor of Music"]
[null,"Zeller","Bruno","B.A., B.Ed. BCOM, Ph.D.",null,null,null,null,null,null,null,null,null,null,null,null,null,null,null,null,null,null,null,null,null,null,null,null,null,null,null,null,null,null,null,null,null,null,null,null,null,null,null,null,null,null,null,null,null,null,null,null,null,null,null,null,null,null,null,null,null,null,null,null,null,null,null,null,null,null,null,null,null,null,null,null,null,null,null,null,null,null,null,null,null,null,null,null,null,null,null,null,null,null,null,null,null,null,null,null,null,null,null,null,null,null,null,null,null,null,null,null,null,null,null,null,null,null,null,"Visiting Assistant Professor of Law"]
[3526,"Zenkovsky","Betty Jean","A.B., M.A.",null,null,null,null,null,null,null,null,null,null,null,null,null,null,null,null,null,null,null,null,null,null,null,null,null,null,null,null,null,null,null,null,null,null,null,null,null,null,null,null,null,null,null,null,null,null,null,null,null,null,null,null,null,null,null,null,null,null,null,null,null,null,null,null,null,null,null,null,null,null,"Instructor in Russian Studies","Instructor in Russian Studies","Assistant Professor of Russian","Assistant Professor of Russian","Assistant Professor of Russian","Assistant Professor of Russian"]
[3527,"Zenkovsky","Serge A.","Diploma of Engineer of Economics, School \nof Economics, Prague; Licencie es Lettres, \nUniversity of Paris; Ph.D.",null,null,null,null,null,null,null,null,null,null,null,null,null,null,null,null,null,null,null,null,null,null,null,null,null,null,null,null,null,null,null,null,null,null,null,null,null,null,null,null,null,null,null,null,null,null,null,null,null,null,null,null,null,null,null,null,null,null,null,null,null,null,null,null,null,null,null,null,null,null,"Associate Professor of History & Political Science","Associate Professor of History & Political Science","Professor of History","Professor of History","Professor of History","Professor of History","Professor of History (Leave of Absence)",null,null,null,null,null,null,null,"Research Professor in History","Research Professor in History","Research Professor in History","Research Professor in History",null,null,"Professor of History, Emeritus","Professor of History, Emeritus","Professor of History, Emeritus","Professor of History, Emeritus","Professor of History, Emeritus","Professor of History, Emeritus","Professor of History, Emeritus"]
[4235,"Zhang","Xia","B.A., M.S.",null,null,null,null,null,null,null,null,null,null,null,null,null,null,null,null,null,null,null,null,null,null,null,null,null,null,null,null,null,null,null,null,null,null,null,null,null,null,null,null,null,null,null,null,null,null,null,null,null,null,null,null,null,null,null,null,null,null,null,null,null,null,null,null,null,null,null,null,null,null,null,null,null,null,null,null,null,null,null,null,null,null,null,null,null,null,null,null,null,null,null,null,null,null,null,null,null,null,null,"Instructor in Computer Science","Instructor in Computer Science","Instructor in Computer Science"]
[4674,"Ziegler","Barbara Parsons","A.B.",null,null,null,null,null,null,null,null,null,null,null,null,null,null,null,null,null,null,null,null,null,null,null,null,null,null,null,null,null,null,null,null,null,null,null,null,null,null,null,null,null,null,null,null,null,null,null,null,null,null,null,null,null,null,null,null,null,null,null,null,null,null,null,null,null,"Instructor in Health & Physical Education"]
[4586,"Zierdt","Candace","B.A., J.D., LL.M.",null,null,null,null,null,null,null,null,null,null,null,null,null,null,null,null,null,null,null,null,null,null,null,null,null,null,null,null,null,null,null,null,null,null,null,null,null,null,null,null,null,null,null,null,null,null,null,null,null,null,null,null,null,null,null,null,null,null,null,null,null,null,null,null,null,null,null,null,null,null,null,null,null,null,null,null,null,null,null,null,null,null,null,null,null,null,null,null,null,null,null,null,null,null,null,null,null,null,null,null,null,null,null,null,null,null,null,null,null,"Visiting Professor","Visiting Professor","Professor of Law","Professor of Law","Professor of Law","Professor of Law","Professor of Law","Professor of Law","Professor of Law"]
[4236,"Zlotnick","David M.","B.A., J.D.",null,null,null,null,null,null,null,null,null,null,null,null,null,null,null,null,null,null,null,null,null,null,null,null,null,null,null,null,null,null,null,null,null,null,null,null,null,null,null,null,null,null,null,null,null,null,null,null,null,null,null,null,null,null,null,null,null,null,null,null,null,null,null,null,null,null,null,null,null,null,null,null,null,null,null,null,null,null,null,null,null,null,null,null,null,null,null,null,null,null,null,null,null,null,null,null,null,null,null,"Assistant Professor of Law","Assistant Professor of Law"]
[4046,"Zucker","Joel","B.A., M.I.L.R., M.L.S.",null,null,null,null,null,null,null,null,null,null,null,null,null,null,null,null,null,null,null,null,null,null,null,null,null,null,null,null,null,null,null,null,null,null,null,null,null,null,null,null,null,null,null,null,null,null,null,null,null,null,null,null,null,null,null,null,null,null,null,null,null,null,null,null,null,null,null,null,null,null,null,null,null,null,null,null,null,null,null,null,null,null,null,null,null,null,null,null,null,null,null,null,"Government Documents Librarian","Government Documents Librarian"]
[null,"Zucker","Susan","B.A., M.Ed., Ph.D.",null,null,null,null,null,null,null,null,null,null,null,null,null,null,null,null,null,null,null,null,null,null,null,null,null,null,null,null,null,null,null,null,null,null,null,null,null,null,null,null,null,null,null,null,null,null,null,null,null,null,null,null,null,null,null,null,null,null,null,null,null,null,null,null,null,null,null,null,null,null,null,null,null,null,null,null,null,null,null,null,null,null,null,null,null,null,null,null,null,null,null,null,null,null,null,null,null,null,null,null,null,null,null,null,null,null,null,null,null,null,null,null,null,null,"Director of Technology & Distance Education for the\nNational Clearinghouse of Science, Technology & Law"]
[null,"Zuppo","Laura","B.A., M.B.A., M.S.",null,null,null,null,null,null,null,null,null,null,null,null,null,null,null,null,null,null,null,null,null,null,null,null,null,null,null,null,null,null,null,null,null,null,null,null,null,null,null,null,null,null,null,null,null,null,null,null,null,null,null,null,null,null,null,null,null,null,null,null,null,null,null,null,null,null,null,null,null,null,null,null,null,null,null,null,null,null,null,null,null,null,null,null,null,null,null,null,null,null,null,null,null,null,null,null,null,null,null,null,null,null,null,null,null,null,null,null,null,null,null,null,null,null,null,"Executive Director of Admissions & Financial Aid, \nCollege of Law","Executive Director of Admissions & Financial \nAid, College of Law"]
[86,"ZuTavern","Asa B.",null,null,null,null,null,null,null,null,null,null,null,null,null,"Assistant in Business College","Assistant in Business College"]
[27,"ZuTavern","Charlotte T.",null,null,null,null,null,null,null,"Director of Music Department Voice & Piano Teacher"]

{"sheet":"List","index":2,"n_rows":5030,"n_cols":3,"rows_kept":5030,"cut":false,"hidden":true,"merged":[]}
["Name",null,"Year"]
[{"$f":"IF(Sheet1!B2=\"\",\"\",Sheet1!B2&\" \"&Sheet1!C2)","v":"Abberger Sigfried"},null,{"$f":"IF(INDIRECT(\"'Sheet1'!\"&ADDRESS(1,ROWS(C$1:C5)))=\"\",\"\",INDIRECT(\"'Sheet1'!\"&ADDRESS(1,ROWS(C$1:C5))))","v":"1885 / 1886"}]
[{"$f":"IF(Sheet1!B3=\"\",\"\",Sheet1!B3&\" \"&Sheet1!C3)","v":"Abbott David W"},null,{"$f":"IF(INDIRECT(\"'Sheet1'!\"&ADDRESS(1,ROWS(C$1:C6)))=\"\",\"\",INDIRECT(\"'Sheet1'!\"&ADDRESS(1,ROWS(C$1:C6))))","v":"1886 / 1887"}]
[{"$f":"IF(Sheet1!B4=\"\",\"\",Sheet1!B4&\" \"&Sheet1!C4)","v":"Abbott J. Anthony"},null,{"$f":"IF(INDIRECT(\"'Sheet1'!\"&ADDRESS(1,ROWS(C$1:C7)))=\"\",\"\",INDIRECT(\"'Sheet1'!\"&ADDRESS(1,ROWS(C$1:C7))))","v":"1887 / 1888"}]
[{"$f":"IF(Sheet1!B5=\"\",\"\",Sheet1!B5&\" \"&Sheet1!C5)","v":"Abernethy Mabel"},null,{"$f":"IF(INDIRECT(\"'Sheet1'!\"&ADDRESS(1,ROWS(C$1:C8)))=\"\",\"\",INDIRECT(\"'Sheet1'!\"&ADDRESS(1,ROWS(C$1:C8))))","v":"1888 / 1889"}]
[{"$f":"IF(Sheet1!B6=\"\",\"\",Sheet1!B6&\" \"&Sheet1!C6)","v":"Abu El-Haj Samia"},null,{"$f":"IF(INDIRECT(\"'Sheet1'!\"&ADDRESS(1,ROWS(C$1:C9)))=\"\",\"\",INDIRECT(\"'Sheet1'!\"&ADDRESS(1,ROWS(C$1:C9))))","v":"1889 / 1890"}]
[{"$f":"IF(Sheet1!B7=\"\",\"\",Sheet1!B7&\" \"&Sheet1!C7)","v":"Ackley Laura Wheaton"},null,{"$f":"IF(INDIRECT(\"'Sheet1'!\"&ADDRESS(1,ROWS(C$1:C10)))=\"\",\"\",INDIRECT(\"'Sheet1'!\"&ADDRESS(1,ROWS(C$1:C10))))","v":"1891 / 1892"}]
[{"$f":"IF(Sheet1!B8=\"\",\"\",Sheet1!B8&\" \"&Sheet1!C8)","v":"Adamian Paul S."},null,{"$f":"IF(INDIRECT(\"'Sheet1'!\"&ADDRESS(1,ROWS(C$1:C11)))=\"\",\"\",INDIRECT(\"'Sheet1'!\"&ADDRESS(1,ROWS(C$1:C11))))","v":"1892 / 1893"}]
[{"$f":"IF(Sheet1!B9=\"\",\"\",Sheet1!B9&\" \"&Sheet1!C9)","v":"Adams Ann"},null,{"$f":"IF(INDIRECT(\"'Sheet1'!\"&ADDRESS(1,ROWS(C$1:C12)))=\"\",\"\",INDIRECT(\"'Sheet1'!\"&ADDRESS(1,ROWS(C$1:C12))))","v":"1894 / 1895"}]
[{"$f":"IF(Sheet1!B10=\"\",\"\",Sheet1!B10&\" \"&Sheet1!C10)","v":"Adams Bobby L."},null,{"$f":"IF(INDIRECT(\"'Sheet1'!\"&ADDRESS(1,ROWS(C$1:C13)))=\"\",\"\",INDIRECT(\"'Sheet1'!\"&ADDRESS(1,ROWS(C$1:C13))))","v":"1895 / 1896"}]
[{"$f":"IF(Sheet1!B11=\"\",\"\",Sheet1!B11&\" \"&Sheet1!C11)","v":"Adams John Bowman"},null,{"$f":"IF(INDIRECT(\"'Sheet1'!\"&ADDRESS(1,ROWS(C$1:C14)))=\"\",\"\",INDIRECT(\"'Sheet1'!\"&ADDRESS(1,ROWS(C$1:C14))))","v":"1896 / 1897"}]
[{"$f":"IF(Sheet1!B12=\"\",\"\",Sheet1!B12&\" \"&Sheet1!C12)","v":"Adams Joseph V"},null,{"$f":"IF(INDIRECT(\"'Sheet1'!\"&ADDRESS(1,ROWS(C$1:C15)))=\"\",\"\",INDIRECT(\"'Sheet1'!\"&ADDRESS(1,ROWS(C$1:C15))))","v":"1897 / 1898"}]
[{"$f":"IF(Sheet1!B13=\"\",\"\",Sheet1!B13&\" \"&Sheet1!C13)","v":"Adams Kristen D."},null,{"$f":"IF(INDIRECT(\"'Sheet1'!\"&ADDRESS(1,ROWS(C$1:C16)))=\"\",\"\",INDIRECT(\"'Sheet1'!\"&ADDRESS(1,ROWS(C$1:C16))))","v":"1898 / 1899"}]
[{"$f":"IF(Sheet1!B14=\"\",\"\",Sheet1!B14&\" \"&Sheet1!C14)","v":"Adams Mary"},null,{"$f":"IF(INDIRECT(\"'Sheet1'!\"&ADDRESS(1,ROWS(C$1:C17)))=\"\",\"\",INDIRECT(\"'Sheet1'!\"&ADDRESS(1,ROWS(C$1:C17))))","v":"1899 / 1900"}]
[{"$f":"IF(Sheet1!B15=\"\",\"\",Sheet1!B15&\" \"&Sheet1!C15)","v":"Adams Mildred D."},null,{"$f":"IF(INDIRECT(\"'Sheet1'!\"&ADDRESS(1,ROWS(C$1:C18)))=\"\",\"\",INDIRECT(\"'Sheet1'!\"&ADDRESS(1,ROWS(C$1:C18))))","v":"1900 / 1901"}]
[{"$f":"IF(Sheet1!B16=\"\",\"\",Sheet1!B16&\" \"&Sheet1!C16)","v":"Adams William J."},null,{"$f":"IF(INDIRECT(\"'Sheet1'!\"&ADDRESS(1,ROWS(C$1:C19)))=\"\",\"\",INDIRECT(\"'Sheet1'!\"&ADDRESS(1,ROWS(C$1:C19))))","v":"1901 / 1902"}]
[{"$f":"IF(Sheet1!B17=\"\",\"\",Sheet1!B17&\" \"&Sheet1!C17)","v":"Aimone Steven"},null,{"$f":"IF(INDIRECT(\"'Sheet1'!\"&ADDRESS(1,ROWS(C$1:C20)))=\"\",\"\",INDIRECT(\"'Sheet1'!\"&ADDRESS(1,ROWS(C$1:C20))))","v":"1902 / 1903"}]
[{"$f":"IF(Sheet1!B18=\"\",\"\",Sheet1!B18&\" \"&Sheet1!C18)","v":"Akers Jimmie Sue"},null,{"$f":"IF(INDIRECT(\"'Sheet1'!\"&ADDRESS(1,ROWS(C$1:C21)))=\"\",\"\",INDIRECT(\"'Sheet1'!\"&ADDRESS(1,ROWS(C$1:C21))))","v":"1903 / 1904"}]
[{"$f":"IF(Sheet1!B19=\"\",\"\",Sheet1!B19&\" \"&Sheet1!C19)","v":"Al Qaisi Yazan"},null,{"$f":"IF(INDIRECT(\"'Sheet1'!\"&ADDRESS(1,ROWS(C$1:C22)))=\"\",\"\",INDIRECT(\"'Sheet1'!\"&ADDRESS(1,ROWS(C$1:C22))))","v":"1904 / 1905"}]
[{"$f":"IF(Sheet1!B20=\"\",\"\",Sheet1!B20&\" \"&Sheet1!C20)","v":"Al Raqqad Yahya M."},null,{"$f":"IF(INDIRECT(\"'Sheet1'!\"&ADDRESS(1,ROWS(C$1:C23)))=\"\",\"\",INDIRECT(\"'Sheet1'!\"&ADDRESS(1,ROWS(C$1:C23))))","v":"1905 / 1906"}]
[{"$f":"IF(Sheet1!B21=\"\",\"\",Sheet1!B21&\" \"&Sheet1!C21)","v":"Albano Maria"},null,{"$f":"IF(INDIRECT(\"'Sheet1'!\"&ADDRESS(1,ROWS(C$1:C24)))=\"\",\"\",INDIRECT(\"'Sheet1'!\"&ADDRESS(1,ROWS(C$1:C24))))","v":"1906 / 1907"}]
[{"$f":"IF(Sheet1!B22=\"\",\"\",Sheet1!B22&\" \"&Sheet1!C22)","v":"Albee Becca"},null,{"$f":"IF(INDIRECT(\"'Sheet1'!\"&ADDRESS(1,ROWS(C$1:C25)))=\"\",\"\",INDIRECT(\"'Sheet1'!\"&ADDRESS(1,ROWS(C$1:C25))))","v":"1907 / 1908"}]
[{"$f":"IF(Sheet1!B23=\"\",\"\",Sheet1!B23&\" \"&Sheet1!C23)","v":"Albin Edgar A."},null,{"$f":"IF(INDIRECT(\"'Sheet1'!\"&ADDRESS(1,ROWS(C$1:C26)))=\"\",\"\",INDIRECT(\"'Sheet1'!\"&ADDRESS(1,ROWS(C$1:C26))))","v":"1908 / 1909"}]
[{"$f":"IF(Sheet1!B24=\"\",\"\",Sheet1!B24&\" \"&Sheet1!C24)","v":"Albritton Barbara Peden"},null,{"$f":"IF(INDIRECT(\"'Sheet1'!\"&ADDRESS(1,ROWS(C$1:C27)))=\"\",\"\",INDIRECT(\"'Sheet1'!\"&ADDRESS(1,ROWS(C$1:C27))))","v":"1909 / 1910"}]
[{"$f":"IF(Sheet1!B25=\"\",\"\",Sheet1!B25&\" \"&Sheet1!C25)","v":"Albritton J.M."},null,{"$f":"IF(INDIRECT(\"'Sheet1'!\"&ADDRESS(1,ROWS(C$1:C28)))=\"\",\"\",INDIRECT(\"'Sheet1'!\"&ADDRESS(1,ROWS(C$1:C28))))","v":"1910 / 1911"}]
[{"$f":"IF(Sheet1!B26=\"\",\"\",Sheet1!B26&\" \"&Sheet1!C26)","v":"Alcalde Javier G."},null,{"$f":"IF(INDIRECT(\"'Sheet1'!\"&ADDRESS(1,ROWS(C$1:C29)))=\"\",\"\",INDIRECT(\"'Sheet1'!\"&ADDRESS(1,ROWS(C$1:C29))))","v":"1911 / 1912"}]
[{"$f":"IF(Sheet1!B27=\"\",\"\",Sheet1!B27&\" \"&Sheet1!C27)","v":"Aldana Mario F."},null,{"$f":"IF(INDIRECT(\"'Sheet1'!\"&ADDRESS(1,ROWS(C$1:C30)))=\"\",\"\",INDIRECT(\"'Sheet1'!\"&ADDRESS(1,ROWS(C$1:C30))))","v":"1912 / 1913"}]
[{"$f":"IF(Sheet1!B28=\"\",\"\",Sheet1!B28&\" \"&Sheet1!C28)","v":"Aldrich-McCleery Carole"},null,{"$f":"IF(INDIRECT(\"'Sheet1'!\"&ADDRESS(1,ROWS(C$1:C31)))=\"\",\"\",INDIRECT(\"'Sheet1'!\"&ADDRESS(1,ROWS(C$1:C31))))","v":"1913 / 1914"}]
[{"$f":"IF(Sheet1!B29=\"\",\"\",Sheet1!B29&\" \"&Sheet1!C29)","v":"Alexander Bill E."},null,{"$f":"IF(INDIRECT(\"'Sheet1'!\"&ADDRESS(1,ROWS(C$1:C32)))=\"\",\"\",INDIRECT(\"'Sheet1'!\"&ADDRESS(1,ROWS(C$1:C32))))","v":"1914 / 1915"}]
[{"$f":"IF(Sheet1!B30=\"\",\"\",Sheet1!B30&\" \"&Sheet1!C30)","v":"Alexander Casey"},null,{"$f":"IF(INDIRECT(\"'Sheet1'!\"&ADDRESS(1,ROWS(C$1:C33)))=\"\",\"\",INDIRECT(\"'Sheet1'!\"&ADDRESS(1,ROWS(C$1:C33))))","v":"1915 / 1916"}]
[{"$f":"IF(Sheet1!B31=\"\",\"\",Sheet1!B31&\" \"&Sheet1!C31)","v":"Alexander Dorothy Jane"},null,{"$f":"IF(INDIRECT(\"'Sheet1'!\"&ADDRESS(1,ROWS(C$1:C34)))=\"\",\"\",INDIRECT(\"'Sheet1'!\"&ADDRESS(1,ROWS(C$1:C34))))","v":"1916 / 1917"}]
[{"$f":"IF(Sheet1!B32=\"\",\"\",Sheet1!B32&\" \"&Sheet1!C32)","v":"Alexander George"},null,{"$f":"IF(INDIRECT(\"'Sheet1'!\"&ADDRESS(1,ROWS(C$1:C35)))=\"\",\"\",INDIRECT(\"'Sheet1'!\"&ADDRESS(1,ROWS(C$1:C35))))","v":"1917 / 1918"}]
[{"$f":"IF(Sheet1!B33=\"\",\"\",Sheet1!B33&\" \"&Sheet1!C33)","v":"Alexander Richard B."},null,{"$f":"IF(INDIRECT(\"'Sheet1'!\"&ADDRESS(1,ROWS(C$1:C36)))=\"\",\"\",INDIRECT(\"'Sheet1'!\"&ADDRESS(1,ROWS(C$1:C36))))","v":"1918 / 1919"}]
[{"$f":"IF(Sheet1!B34=\"\",\"\",Sheet1!B34&\" \"&Sheet1!C34)","v":"Alfonzo Jesus"},null,{"$f":"IF(INDIRECT(\"'Sheet1'!\"&ADDRESS(1,ROWS(C$1:C37)))=\"\",\"\",INDIRECT(\"'Sheet1'!\"&ADDRESS(1,ROWS(C$1:C37))))","v":"1919 / 1920"}]
[{"$f":"IF(Sheet1!B35=\"\",\"\",Sheet1!B35&\" \"&Sheet1!C35)","v":"Alford-Cooper Finnegan"},null,{"$f":"IF(INDIRECT(\"'Sheet1'!\"&ADDRESS(1,ROWS(C$1:C38)))=\"\",\"\",INDIRECT(\"'Sheet1'!\"&ADDRESS(1,ROWS(C$1:C38))))","v":"1920 / 1921"}]
[{"$f":"IF(Sheet1!B36=\"\",\"\",Sheet1!B36&\" \"&Sheet1!C36)","v":"Alger E.H."},null,{"$f":"IF(INDIRECT(\"'Sheet1'!\"&ADDRESS(1,ROWS(C$1:C39)))=\"\",\"\",INDIRECT(\"'Sheet1'!\"&ADDRESS(1,ROWS(C$1:C39))))","v":"1921 / 1922"}]
[{"$f":"IF(Sheet1!B37=\"\",\"\",Sheet1!B37&\" \"&Sheet1!C37)","v":"Al-Khatari Saba"},null,{"$f":"IF(INDIRECT(\"'Sheet1'!\"&ADDRESS(1,ROWS(C$1:C40)))=\"\",\"\",INDIRECT(\"'Sheet1'!\"&ADDRESS(1,ROWS(C$1:C40))))","v":"1922 / 1923"}]
[{"$f":"IF(Sheet1!B38=\"\",\"\",Sheet1!B38&\" \"&Sheet1!C38)","v":"Alldis J. Frank"},null,{"$f":"IF(INDIRECT(\"'Sheet1'!\"&ADDRESS(1,ROWS(C$1:C41)))=\"\",\"\",INDIRECT(\"'Sheet1'!\"&ADDRESS(1,ROWS(C$1:C41))))","v":"1923 / 1924"}]
[{"$f":"IF(Sheet1!B39=\"\",\"\",Sheet1!B39&\" \"&Sheet1!C39)","v":"Allen Abby Dyer"},null,{"$f":"IF(INDIRECT(\"'Sheet1'!\"&ADDRESS(1,ROWS(C$1:C42)))=\"\",\"\",INDIRECT(\"'Sheet1'!\"&ADDRESS(1,ROWS(C$1:C42))))","v":"1924 / 1925"}]
[{"$f":"IF(Sheet1!B40=\"\",\"\",Sheet1!B40&\" \"&Sheet1!C40)","v":"Allen Albert"},null,{"$f":"IF(INDIRECT(\"'Sheet1'!\"&ADDRESS(1,ROWS(C$1:C43)))=\"\",\"\",INDIRECT(\"'Sheet1'!\"&ADDRESS(1,ROWS(C$1:C43))))","v":"1925 / 1926"}]
[{"$f":"IF(Sheet1!B41=\"\",\"\",Sheet1!B41&\" \"&Sheet1!C41)","v":"Allen Ann L."},null,{"$f":"IF(INDIRECT(\"'Sheet1'!\"&ADDRESS(1,ROWS(C$1:C44)))=\"\",\"\",INDIRECT(\"'Sheet1'!\"&ADDRESS(1,ROWS(C$1:C44))))","v":"1926 / 1927"}]
[{"$f":"IF(Sheet1!B42=\"\",\"\",Sheet1!B42&\" \"&Sheet1!C42)","v":"Allen Eliot D."},null,{"$f":"IF(INDIRECT(\"'Sheet1'!\"&ADDRESS(1,ROWS(C$1:C45)))=\"\",\"\",INDIRECT(\"'Sheet1'!\"&ADDRESS(1,ROWS(C$1:C45))))","v":"1927 / 1928"}]
[{"$f":"IF(Sheet1!B43=\"\",\"\",Sheet1!B43&\" \"&Sheet1!C43)","v":"Allen Ezra"},null,{"$f":"IF(INDIRECT(\"'Sheet1'!\"&ADDRESS(1,ROWS(C$1:C46)))=\"\",\"\",INDIRECT(\"'Sheet1'!\"&ADDRESS(1,ROWS(C$1:C46))))","v":"1928 / 1929"}]
[{"$f":"IF(Sheet1!B44=\"\",\"\",Sheet1!B44&\" \"&Sheet1!C44)","v":"Allen Jeffrey W."},null,{"$f":"IF(INDIRECT(\"'Sheet1'!\"&ADDRESS(1,ROWS(C$1:C47)))=\"\",\"\",INDIRECT(\"'Sheet1'!\"&ADDRESS(1,ROWS(C$1:C47))))","v":"1929 / 1930"}]
[{"$f":"IF(Sheet1!B45=\"\",\"\",Sheet1!B45&\" \"&Sheet1!C45)","v":"Allen Michael P."},null,{"$f":"IF(INDIRECT(\"'Sheet1'!\"&ADDRESS(1,ROWS(C$1:C48)))=\"\",\"\",INDIRECT(\"'Sheet1'!\"&ADDRESS(1,ROWS(C$1:C48))))","v":"1930 / 1931"}]
[{"$f":"IF(Sheet1!B46=\"\",\"\",Sheet1!B46&\" \"&Sheet1!C46)","v":"Allen Philip Loring"},null,{"$f":"IF(INDIRECT(\"'Sheet1'!\"&ADDRESS(1,ROWS(C$1:C49)))=\"\",\"\",INDIRECT(\"'Sheet1'!\"&ADDRESS(1,ROWS(C$1:C49))))","v":"1931 / 1932"}]
[{"$f":"IF(Sheet1!B47=\"\",\"\",Sheet1!B47&\" \"&Sheet1!C47)","v":"Allen Robert Ivey"},null,{"$f":"IF(INDIRECT(\"'Sheet1'!\"&ADDRESS(1,ROWS(C$1:C50)))=\"\",\"\",INDIRECT(\"'Sheet1'!\"&ADDRESS(1,ROWS(C$1:C50))))","v":"1932 / 1933"}]
[{"$f":"IF(Sheet1!B48=\"\",\"\",Sheet1!B48&\" \"&Sheet1!C48)","v":"Allen Thomas Eugene"},null,{"$f":"IF(INDIRECT(\"'Sheet1'!\"&ADDRESS(1,ROWS(C$1:C51)))=\"\",\"\",INDIRECT(\"'Sheet1'!\"&ADDRESS(1,ROWS(C$1:C51))))","v":"1933 / 1934"}]
[{"$f":"IF(Sheet1!B49=\"\",\"\",Sheet1!B49&\" \"&Sheet1!C49)","v":"Allen Thomas Robert"},null,{"$f":"IF(INDIRECT(\"'Sheet1'!\"&ADDRESS(1,ROWS(C$1:C52)))=\"\",\"\",INDIRECT(\"'Sheet1'!\"&ADDRESS(1,ROWS(C$1:C52))))","v":"1934 / 1935"}]
[{"$f":"IF(Sheet1!B50=\"\",\"\",Sheet1!B50&\" \"&Sheet1!C50)","v":"Allen William Sims"},null,{"$f":"IF(INDIRECT(\"'Sheet1'!\"&ADDRESS(1,ROWS(C$1:C53)))=\"\",\"\",INDIRECT(\"'Sheet1'!\"&ADDRESS(1,ROWS(C$1:C53))))","v":"1935 / 1936"}]
[{"$f":"IF(Sheet1!B51=\"\",\"\",Sheet1!B51&\" \"&Sheet1!C51)","v":"Alley Granville Mason, Jr."},null,{"$f":"IF(INDIRECT(\"'Sheet1'!\"&ADDRESS(1,ROWS(C$1:C54)))=\"\",\"\",INDIRECT(\"'Sheet1'!\"&ADDRESS(1,ROWS(C$1:C54))))","v":"1937 / 1938"}]
[{"$f":"IF(Sheet1!B52=\"\",\"\",Sheet1!B52&\" \"&Sheet1!C52)","v":"Allinger Helen"},null,{"$f":"IF(INDIRECT(\"'Sheet1'!\"&ADDRESS(1,ROWS(C$1:C55)))=\"\",\"\",INDIRECT(\"'Sheet1'!\"&ADDRESS(1,ROWS(C$1:C55))))","v":"1938 / 1939"}]
[{"$f":"IF(Sheet1!B53=\"\",\"\",Sheet1!B53&\" \"&Sheet1!C53)","v":"Allison Ron"},null,{"$f":"IF(INDIRECT(\"'Sheet1'!\"&ADDRESS(1,ROWS(C$1:C56)))=\"\",\"\",INDIRECT(\"'Sheet1'!\"&ADDRESS(1,ROWS(C$1:C56))))","v":"1939 / 1940"}]
[{"$f":"IF(Sheet1!B54=\"\",\"\",Sheet1!B54&\" \"&Sheet1!C54)","v":"Allison Thomas E."},null,{"$f":"IF(INDIRECT(\"'Sheet1'!\"&ADDRESS(1,ROWS(C$1:C57)))=\"\",\"\",INDIRECT(\"'Sheet1'!\"&ADDRESS(1,ROWS(C$1:C57))))","v":"1940 / 1941"}]
[{"$f":"IF(Sheet1!B55=\"\",\"\",Sheet1!B55&\" \"&Sheet1!C55)","v":"Allison William E."},null,{"$f":"IF(INDIRECT(\"'Sheet1'!\"&ADDRESS(1,ROWS(C$1:C58)))=\"\",\"\",INDIRECT(\"'Sheet1'!\"&ADDRESS(1,ROWS(C$1:C58))))","v":"1941 / 1942"}]
[{"$f":"IF(Sheet1!B56=\"\",\"\",Sheet1!B56&\" \"&Sheet1!C56)","v":"Almand Claude M."},null,{"$f":"IF(INDIRECT(\"'Sheet1'!\"&ADDRESS(1,ROWS(C$1:C59)))=\"\",\"\",INDIRECT(\"'Sheet1'!\"&ADDRESS(1,ROWS(C$1:C59))))","v":"1942 / 1943"}]
[{"$f":"IF(Sheet1!B57=\"\",\"\",Sheet1!B57&\" \"&Sheet1!C57)","v":"Almand Lenoir Patton"},null,{"$f":"IF(INDIRECT(\"'Sheet1'!\"&ADDRESS(1,ROWS(C$1:C60)))=\"\",\"\",INDIRECT(\"'Sheet1'!\"&ADDRESS(1,ROWS(C$1:C60))))","v":"1943 / 1944"}]
[{"$f":"IF(Sheet1!B58=\"\",\"\",Sheet1!B58&\" \"&Sheet1!C58)","v":"Alpert Jonathan L."},null,{"$f":"IF(INDIRECT(\"'Sheet1'!\"&ADDRESS(1,ROWS(C$1:C61)))=\"\",\"\",INDIRECT(\"'Sheet1'!\"&ADDRESS(1,ROWS(C$1:C61))))","v":"1944 / 1945"}]
[{"$f":"IF(Sheet1!B59=\"\",\"\",Sheet1!B59&\" \"&Sheet1!C59)","v":"Alssen Nicholas E"},null,{"$f":"IF(INDIRECT(\"'Sheet1'!\"&ADDRESS(1,ROWS(C$1:C62)))=\"\",\"\",INDIRECT(\"'Sheet1'!\"&ADDRESS(1,ROWS(C$1:C62))))","v":"1945 / 1946"}]
[{"$f":"IF(Sheet1!B60=\"\",\"\",Sheet1!B60&\" \"&Sheet1!C60)","v":"Altier Jeff"},null,{"$f":"IF(INDIRECT(\"'Sheet1'!\"&ADDRESS(1,ROWS(C$1:C63)))=\"\",\"\",INDIRECT(\"'Sheet1'!\"&ADDRESS(1,ROWS(C$1:C63))))","v":"1946 / 1947"}]
[{"$f":"IF(Sheet1!B61=\"\",\"\",Sheet1!B61&\" \"&Sheet1!C61)","v":"Alvarez Maria"},null,{"$f":"IF(INDIRECT(\"'Sheet1'!\"&ADDRESS(1,ROWS(C$1:C64)))=\"\",\"\",INDIRECT(\"'Sheet1'!\"&ADDRESS(1,ROWS(C$1:C64))))","v":"1947 / 1948"}]
[{"$f":"IF(Sheet1!B62=\"\",\"\",Sheet1!B62&\" \"&Sheet1!C62)","v":"Amidon Betty Jane"},null,{"$f":"IF(INDIRECT(\"'Sheet1'!\"&ADDRESS(1,ROWS(C$1:C65)))=\"\",\"\",INDIRECT(\"'Sheet1'!\"&ADDRESS(1,ROWS(C$1:C65))))","v":"1948 / 1949"}]
[{"$f":"IF(Sheet1!B63=\"\",\"\",Sheet1!B63&\" \"&Sheet1!C63)","v":"Amiri Shahram"},null,{"$f":"IF(INDIRECT(\"'Sheet1'!\"&ADDRESS(1,ROWS(C$1:C66)))=\"\",\"\",INDIRECT(\"'Sheet1'!\"&ADDRESS(1,ROWS(C$1:C66))))","v":"1949 / 1950"}]
[{"$f":"IF(Sheet1!B64=\"\",\"\",Sheet1!B64&\" \"&Sheet1!C64)","v":"Anderson Amos McIntyre"},null,{"$f":"IF(INDIRECT(\"'Sheet1'!\"&ADDRESS(1,ROWS(C$1:C67)))=\"\",\"\",INDIRECT(\"'Sheet1'!\"&ADDRESS(1,ROWS(C$1:C67))))","v":"1950 / 1951"}]
[{"$f":"IF(Sheet1!B65=\"\",\"\",Sheet1!B65&\" \"&Sheet1!C65)","v":"Anderson Francis R."},null,{"$f":"IF(INDIRECT(\"'Sheet1'!\"&ADDRESS(1,ROWS(C$1:C68)))=\"\",\"\",INDIRECT(\"'Sheet1'!\"&ADDRESS(1,ROWS(C$1:C68))))","v":"1951 / 1952"}]
[{"$f":"IF(Sheet1!B66=\"\",\"\",Sheet1!B66&\" \"&Sheet1!C66)","v":"Anderson Gerald F."},null,{"$f":"IF(INDIRECT(\"'Sheet1'!\"&ADDRESS(1,ROWS(C$1:C69)))=\"\",\"\",INDIRECT(\"'Sheet1'!\"&ADDRESS(1,ROWS(C$1:C69))))","v":"1952 / 1953"}]
[{"$f":"IF(Sheet1!B67=\"\",\"\",Sheet1!B67&\" \"&Sheet1!C67)","v":"Anderson Janet C."},null,{"$f":"IF(INDIRECT(\"'Sheet1'!\"&ADDRESS(1,ROWS(C$1:C70)))=\"\",\"\",INDIRECT(\"'Sheet1'!\"&ADDRESS(1,ROWS(C$1:C70))))","v":"1953 / 1954"}]
[{"$f":"IF(Sheet1!B68=\"\",\"\",Sheet1!B68&\" \"&Sheet1!C68)","v":"Anderson Jeannie"},null,{"$f":"IF(INDIRECT(\"'Sheet1'!\"&ADDRESS(1,ROWS(C$1:C71)))=\"\",\"\",INDIRECT(\"'Sheet1'!\"&ADDRESS(1,ROWS(C$1:C71))))","v":"1954 / 1955"}]
[{"$f":"IF(Sheet1!B69=\"\",\"\",Sheet1!B69&\" \"&Sheet1!C69)","v":"Anderson Jerry L."},null,{"$f":"IF(INDIRECT(\"'Sheet1'!\"&ADDRESS(1,ROWS(C$1:C72)))=\"\",\"\",INDIRECT(\"'Sheet1'!\"&ADDRESS(1,ROWS(C$1:C72))))","v":"1955 / 1956"}]
[{"$f":"IF(Sheet1!B70=\"\",\"\",Sheet1!B70&\" \"&Sheet1!C70)","v":"Anderson Linda"},null,{"$f":"IF(INDIRECT(\"'Sheet1'!\"&ADDRESS(1,ROWS(C$1:C73)))=\"\",\"\",INDIRECT(\"'Sheet1'!\"&ADDRESS(1,ROWS(C$1:C73))))","v":"1957 / 1958"}]
[{"$f":"IF(Sheet1!B71=\"\",\"\",Sheet1!B71&\" \"&Sheet1!C71)","v":"Anderson Mary Ellen"},null,{"$f":"IF(INDIRECT(\"'Sheet1'!\"&ADDRESS(1,ROWS(C$1:C74)))=\"\",\"\",INDIRECT(\"'Sheet1'!\"&ADDRESS(1,ROWS(C$1:C74))))","v":"1958 / 1959"}]
[{"$f":"IF(Sheet1!B72=\"\",\"\",Sheet1!B72&\" \"&Sheet1!C72)","v":"Anderson R.H."},null,{"$f":"IF(INDIRECT(\"'Sheet1'!\"&ADDRESS(1,ROWS(C$1:C75)))=\"\",\"\",INDIRECT(\"'Sheet1'!\"&ADDRESS(1,ROWS(C$1:C75))))","v":"1959 / 1960"}]
[{"$f":"IF(Sheet1!B73=\"\",\"\",Sheet1!B73&\" \"&Sheet1!C73)","v":"Anderson Richard L."},null,{"$f":"IF(INDIRECT(\"'Sheet1'!\"&ADDRESS(1,ROWS(C$1:C76)))=\"\",\"\",INDIRECT(\"'Sheet1'!\"&ADDRESS(1,ROWS(C$1:C76))))","v":"1960 / 1961"}]
[{"$f":"IF(Sheet1!B74=\"\",\"\",Sheet1!B74&\" \"&Sheet1!C74)","v":"Anderson Susan"},null,{"$f":"IF(INDIRECT(\"'Sheet1'!\"&ADDRESS(1,ROWS(C$1:C77)))=\"\",\"\",INDIRECT(\"'Sheet1'!\"&ADDRESS(1,ROWS(C$1:C77))))","v":"1962 / 1963"}]
[{"$f":"IF(Sheet1!B75=\"\",\"\",Sheet1!B75&\" \"&Sheet1!C75)","v":"Anderson Valerie"},null,{"$f":"IF(INDIRECT(\"'Sheet1'!\"&ADDRESS(1,ROWS(C$1:C78)))=\"\",\"\",INDIRECT(\"'Sheet1'!\"&ADDRESS(1,ROWS(C$1:C78))))","v":"1963 / 1964"}]
[{"$f":"IF(Sheet1!B76=\"\",\"\",Sheet1!B76&\" \"&Sheet1!C76)","v":"Anderson William H."},null,{"$f":"IF(INDIRECT(\"'Sheet1'!\"&ADDRESS(1,ROWS(C$1:C79)))=\"\",\"\",INDIRECT(\"'Sheet1'!\"&ADDRESS(1,ROWS(C$1:C79))))","v":"1964 / 1965"}]
[{"$f":"IF(Sheet1!B77=\"\",\"\",Sheet1!B77&\" \"&Sheet1!C77)","v":"Andrews Charles H."},null,{"$f":"IF(INDIRECT(\"'Sheet1'!\"&ADDRESS(1,ROWS(C$1:C80)))=\"\",\"\",INDIRECT(\"'Sheet1'!\"&ADDRESS(1,ROWS(C$1:C80))))","v":"1965 / 1966"}]
[{"$f":"IF(Sheet1!B78=\"\",\"\",Sheet1!B78&\" \"&Sheet1!C78)","v":"Andrews William A."},null,{"$f":"IF(INDIRECT(\"'Sheet1'!\"&ADDRESS(1,ROWS(C$1:C81)))=\"\",\"\",INDIRECT(\"'Sheet1'!\"&ADDRESS(1,ROWS(C$1:C81))))","v":"1967 / 1968"}]
[{"$f":"IF(Sheet1!B79=\"\",\"\",Sheet1!B79&\" \"&Sheet1!C79)","v":"Angell John William"},null,{"$f":"IF(INDIRECT(\"'Sheet1'!\"&ADDRESS(1,ROWS(C$1:C82)))=\"\",\"\",INDIRECT(\"'Sheet1'!\"&ADDRESS(1,ROWS(C$1:C82))))","v":"1968 / 1969"}]
[{"$f":"IF(Sheet1!B80=\"\",\"\",Sheet1!B80&\" \"&Sheet1!C80)","v":"Anglim Jennifer M."},null,{"$f":"IF(INDIRECT(\"'Sheet1'!\"&ADDRESS(1,ROWS(C$1:C83)))=\"\",\"\",INDIRECT(\"'Sheet1'!\"&ADDRESS(1,ROWS(C$1:C83))))","v":"1969 / 1970"}]
[{"$f":"IF(Sheet1!B81=\"\",\"\",Sheet1!B81&\" \"&Sheet1!C81)","v":"Apgar Harry E."},null,{"$f":"IF(INDIRECT(\"'Sheet1'!\"&ADDRESS(1,ROWS(C$1:C84)))=\"\",\"\",INDIRECT(\"'Sheet1'!\"&ADDRESS(1,ROWS(C$1:C84))))","v":"1970 / 1971"}]
[{"$f":"IF(Sheet1!B82=\"\",\"\",Sheet1!B82&\" \"&Sheet1!C82)","v":"Areheart Bradley A."},null,{"$f":"IF(INDIRECT(\"'Sheet1'!\"&ADDRESS(1,ROWS(C$1:C85)))=\"\",\"\",INDIRECT(\"'Sheet1'!\"&ADDRESS(1,ROWS(C$1:C85))))","v":"1971 / 1972"}]
[{"$f":"IF(Sheet1!B83=\"\",\"\",Sheet1!B83&\" \"&Sheet1!C83)","v":"Arjona Doris King"},null,{"$f":"IF(INDIRECT(\"'Sheet1'!\"&ADDRESS(1,ROWS(C$1:C86)))=\"\",\"\",INDIRECT(\"'Sheet1'!\"&ADDRESS(1,ROWS(C$1:C86))))","v":"1973 / 1974"}]
[{"$f":"IF(Sheet1!B84=\"\",\"\",Sheet1!B84&\" \"&Sheet1!C84)","v":"Armour Rollin S."},null,{"$f":"IF(INDIRECT(\"'Sheet1'!\"&ADDRESS(1,ROWS(C$1:C87)))=\"\",\"\",INDIRECT(\"'Sheet1'!\"&ADDRESS(1,ROWS(C$1:C87))))","v":"1974 / 1975"}]
[{"$f":"IF(Sheet1!B85=\"\",\"\",Sheet1!B85&\" \"&Sheet1!C85)","v":"Armstrong Ruth C."},null,{"$f":"IF(INDIRECT(\"'Sheet1'!\"&ADDRESS(1,ROWS(C$1:C88)))=\"\",\"\",INDIRECT(\"'Sheet1'!\"&ADDRESS(1,ROWS(C$1:C88))))","v":"1975 / 1976"}]
[{"$f":"IF(Sheet1!B86=\"\",\"\",Sheet1!B86&\" \"&Sheet1!C86)","v":"Armstrong Suzanne R."},null,{"$f":"IF(INDIRECT(\"'Sheet1'!\"&ADDRESS(1,ROWS(C$1:C89)))=\"\",\"\",INDIRECT(\"'Sheet1'!\"&ADDRESS(1,ROWS(C$1:C89))))","v":"1978 / 1979"}]
[{"$f":"IF(Sheet1!B87=\"\",\"\",Sheet1!B87&\" \"&Sheet1!C87)","v":"Arnold Earl Caspar"},null,{"$f":"IF(INDIRECT(\"'Sheet1'!\"&ADDRESS(1,ROWS(C$1:C90)))=\"\",\"\",INDIRECT(\"'Sheet1'!\"&ADDRESS(1,ROWS(C$1:C90))))","v":"1979 / 1980"}]
[{"$f":"IF(Sheet1!B88=\"\",\"\",Sheet1!B88&\" \"&Sheet1!C88)","v":"Arnold Lillian"},null,{"$f":"IF(INDIRECT(\"'Sheet1'!\"&ADDRESS(1,ROWS(C$1:C91)))=\"\",\"\",INDIRECT(\"'Sheet1'!\"&ADDRESS(1,ROWS(C$1:C91))))","v":"1980 / 1981"}]
[{"$f":"IF(Sheet1!B89=\"\",\"\",Sheet1!B89&\" \"&Sheet1!C89)","v":"Arnold Murray"},null,{"$f":"IF(INDIRECT(\"'Sheet1'!\"&ADDRESS(1,ROWS(C$1:C92)))=\"\",\"\",INDIRECT(\"'Sheet1'!\"&ADDRESS(1,ROWS(C$1:C92))))","v":"1981 / 1982"}]
[{"$f":"IF(Sheet1!B90=\"\",\"\",Sheet1!B90&\" \"&Sheet1!C90)","v":"Arnold Ruth Cobb"},null,{"$f":"IF(INDIRECT(\"'Sheet1'!\"&ADDRESS(1,ROWS(C$1:C93)))=\"\",\"\",INDIRECT(\"'Sheet1'!\"&ADDRESS(1,ROWS(C$1:C93))))","v":"1982 / 1983"}]
[{"$f":"IF(Sheet1!B91=\"\",\"\",Sheet1!B91&\" \"&Sheet1!C91)","v":"Arnold Susan Vaughan"},null,{"$f":"IF(INDIRECT(\"'Sheet1'!\"&ADDRESS(1,ROWS(C$1:C94)))=\"\",\"\",INDIRECT(\"'Sheet1'!\"&ADDRESS(1,ROWS(C$1:C94))))","v":"1983 / 1984"}]
[{"$f":"IF(Sheet1!B92=\"\",\"\",Sheet1!B92&\" \"&Sheet1!C92)","v":"Arthur William R."},null,{"$f":"IF(INDIRECT(\"'Sheet1'!\"&ADDRESS(1,ROWS(C$1:C95)))=\"\",\"\",INDIRECT(\"'Sheet1'!\"&ADDRESS(1,ROWS(C$1:C95))))","v":"1984 / 1985"}]
[{"$f":"IF(Sheet1!B93=\"\",\"\",Sheet1!B93&\" \"&Sheet1!C93)","v":"Ashcraft Emmett S."},null,{"$f":"IF(INDIRECT(\"'Sheet1'!\"&ADDRESS(1,ROWS(C$1:C96)))=\"\",\"\",INDIRECT(\"'Sheet1'!\"&ADDRESS(1,ROWS(C$1:C96))))","v":"1985 / 1986"}]
[{"$f":"IF(Sheet1!B94=\"\",\"\",Sheet1!B94&\" \"&Sheet1!C94)","v":"Ashley Frances H."},null,{"$f":"IF(INDIRECT(\"'Sheet1'!\"&ADDRESS(1,ROWS(C$1:C97)))=\"\",\"\",INDIRECT(\"'Sheet1'!\"&ADDRESS(1,ROWS(C$1:C97))))","v":"1986 / 1987"}]
[{"$f":"IF(Sheet1!B95=\"\",\"\",Sheet1!B95&\" \"&Sheet1!C95)","v":"Athey Stephanie"},null,{"$f":"IF(INDIRECT(\"'Sheet1'!\"&ADDRESS(1,ROWS(C$1:C98)))=\"\",\"\",INDIRECT(\"'Sheet1'!\"&ADDRESS(1,ROWS(C$1:C98))))","v":"1987 / 1988"}]
[{"$f":"IF(Sheet1!B96=\"\",\"\",Sheet1!B96&\" \"&Sheet1!C96)","v":"Augustine Fred K., Jr."},null,{"$f":"IF(INDIRECT(\"'Sheet1'!\"&ADDRESS(1,ROWS(C$1:C99)))=\"\",\"\",INDIRECT(\"'Sheet1'!\"&ADDRESS(1,ROWS(C$1:C99))))","v":"1988 / 1989"}]
[{"$f":"IF(Sheet1!B97=\"\",\"\",Sheet1!B97&\" \"&Sheet1!C97)","v":"Aulick Charles M."},null,{"$f":"IF(INDIRECT(\"'Sheet1'!\"&ADDRESS(1,ROWS(C$1:C100)))=\"\",\"\",INDIRECT(\"'Sheet1'!\"&ADDRESS(1,ROWS(C$1:C100))))","v":"1989 / 1990"}]
[{"$f":"IF(Sheet1!B98=\"\",\"\",Sheet1!B98&\" \"&Sheet1!C98)","v":"Autrey Elizabeth"},null,{"$f":"IF(INDIRECT(\"'Sheet1'!\"&ADDRESS(1,ROWS(C$1:C101)))=\"\",\"\",INDIRECT(\"'Sheet1'!\"&ADDRESS(1,ROWS(C$1:C101))))","v":"1990 / 1991"}]
[{"$f":"IF(Sheet1!B99=\"\",\"\",Sheet1!B99&\" \"&Sheet1!C99)","v":"Avery Albert M., Jr."},null,{"$f":"IF(INDIRECT(\"'Sheet1'!\"&ADDRESS(1,ROWS(C$1:C102)))=\"\",\"\",INDIRECT(\"'Sheet1'!\"&ADDRESS(1,ROWS(C$1:C102))))","v":"1991 / 1992"}]
[{"$f":"IF(Sheet1!B100=\"\",\"\",Sheet1!B100&\" \"&Sheet1!C100)","v":"Avery Michael L."},null,{"$f":"IF(INDIRECT(\"'Sheet1'!\"&ADDRESS(1,ROWS(C$1:C103)))=\"\",\"\",INDIRECT(\"'Sheet1'!\"&ADDRESS(1,ROWS(C$1:C103))))","v":"1993 / 1994"}]
[{"$f":"IF(Sheet1!B101=\"\",\"\",Sheet1!B101&\" \"&Sheet1!C101)","v":"Avery Norma M."},null,{"$f":"IF(INDIRECT(\"'Sheet1'!\"&ADDRESS(1,ROWS(C$1:C104)))=\"\",\"\",INDIRECT(\"'Sheet1'!\"&ADDRESS(1,ROWS(C$1:C104))))","v":"1994 / 1995"}]
[{"$f":"IF(Sheet1!B102=\"\",\"\",Sheet1!B102&\" \"&Sheet1!C102)","v":"Axtell Mary"},null,{"$f":"IF(INDIRECT(\"'Sheet1'!\"&ADDRESS(1,ROWS(C$1:C105)))=\"\",\"\",INDIRECT(\"'Sheet1'!\"&ADDRESS(1,ROWS(C$1:C105))))","v":"1995 / 1996"}]
[{"$f":"IF(Sheet1!B103=\"\",\"\",Sheet1!B103&\" \"&Sheet1!C103)","v":"Bacon Roy Bayard"},null,{"$f":"IF(INDIRECT(\"'Sheet1'!\"&ADDRESS(1,ROWS(C$1:C106)))=\"\",\"\",INDIRECT(\"'Sheet1'!\"&ADDRESS(1,ROWS(C$1:C106))))","v":"1996 / 1997"}]
[{"$f":"IF(Sheet1!B104=\"\",\"\",Sheet1!B104&\" \"&Sheet1!C104)","v":"Baer Willis Nissley"},null,{"$f":"IF(INDIRECT(\"'Sheet1'!\"&ADDRESS(1,ROWS(C$1:C107)))=\"\",\"\",INDIRECT(\"'Sheet1'!\"&ADDRESS(1,ROWS(C$1:C107))))","v":"1997 / 1998"}]
[{"$f":"IF(Sheet1!B105=\"\",\"\",Sheet1!B105&\" \"&Sheet1!C105)","v":"Baerecke J.F."},null,{"$f":"IF(INDIRECT(\"'Sheet1'!\"&ADDRESS(1,ROWS(C$1:C108)))=\"\",\"\",INDIRECT(\"'Sheet1'!\"&ADDRESS(1,ROWS(C$1:C108))))","v":"1999 / 2000"}]
[{"$f":"IF(Sheet1!B106=\"\",\"\",Sheet1!B106&\" \"&Sheet1!C106)","v":"Baerecke Vida Z."},null,{"$f":"IF(INDIRECT(\"'Sheet1'!\"&ADDRESS(1,ROWS(C$1:C109)))=\"\",\"\",INDIRECT(\"'Sheet1'!\"&ADDRESS(1,ROWS(C$1:C109))))","v":"2000 / 2001"}]
[{"$f":"IF(Sheet1!B108=\"\",\"\",Sheet1!B108&\" \"&Sheet1!C108)","v":"Bailey Cecil C."},null,{"$f":"IF(INDIRECT(\"'Sheet1'!\"&ADDRESS(1,ROWS(C$1:C110)))=\"\",\"\",INDIRECT(\"'Sheet1'!\"&ADDRESS(1,ROWS(C$1:C110))))","v":"2001 / 2002"}]
[{"$f":"IF(Sheet1!B109=\"\",\"\",Sheet1!B109&\" \"&Sheet1!C109)","v":"Bailey Mary Axtell"},null,{"$f":"IF(INDIRECT(\"'Sheet1'!\"&ADDRESS(1,ROWS(C$1:C111)))=\"\",\"\",INDIRECT(\"'Sheet1'!\"&ADDRESS(1,ROWS(C$1:C111))))","v":"2002 / 2003"}]
[{"$f":"IF(Sheet1!B110=\"\",\"\",Sheet1!B110&\" \"&Sheet1!C110)","v":"Bailey T. Wayne"},null,{"$f":"IF(INDIRECT(\"'Sheet1'!\"&ADDRESS(1,ROWS(C$1:C112)))=\"\",\"\",INDIRECT(\"'Sheet1'!\"&ADDRESS(1,ROWS(C$1:C112))))","v":"2003 / 2004"}]
[{"$f":"IF(Sheet1!B111=\"\",\"\",Sheet1!B111&\" \"&Sheet1!C111)","v":"Bailey William Horace"},null,{"$f":"IF(INDIRECT(\"'Sheet1'!\"&ADDRESS(1,ROWS(C$1:C113)))=\"\",\"\",INDIRECT(\"'Sheet1'!\"&ADDRESS(1,ROWS(C$1:C113))))","v":"2004 / 2005"}]
[{"$f":"IF(Sheet1!B112=\"\",\"\",Sheet1!B112&\" \"&Sheet1!C112)","v":"Bakamitsos Georgios"},null,{"$f":"IF(INDIRECT(\"'Sheet1'!\"&ADDRESS(1,ROWS(C$1:C114)))=\"\",\"\",INDIRECT(\"'Sheet1'!\"&ADDRESS(1,ROWS(C$1:C114))))","v":"2005 / 2006"}]
[{"$f":"IF(Sheet1!B113=\"\",\"\",Sheet1!B113&\" \"&Sheet1!C113)","v":"Baker Erin T."},null,{"$f":"IF(INDIRECT(\"'Sheet1'!\"&ADDRESS(1,ROWS(C$1:C115)))=\"\",\"\",INDIRECT(\"'Sheet1'!\"&ADDRESS(1,ROWS(C$1:C115))))","v":"2006 / 2007"}]
[{"$f":"IF(Sheet1!B114=\"\",\"\",Sheet1!B114&\" \"&Sheet1!C114)","v":"Baker Eva Alma"},null,{"$f":"IF(INDIRECT(\"'Sheet1'!\"&ADDRESS(1,ROWS(C$1:C116)))=\"\",\"\",INDIRECT(\"'Sheet1'!\"&ADDRESS(1,ROWS(C$1:C116))))","v":"2007 / 2008"}]
[{"$f":"IF(Sheet1!B115=\"\",\"\",Sheet1!B115&\" \"&Sheet1!C115)","v":"Baker Florence M."},null,{"$f":"IF(INDIRECT(\"'Sheet1'!\"&ADDRESS(1,ROWS(C$1:C117)))=\"\",\"\",INDIRECT(\"'Sheet1'!\"&ADDRESS(1,ROWS(C$1:C117))))","v":"2008 / 2009"}]
[{"$f":"IF(Sheet1!B116=\"\",\"\",Sheet1!B116&\" \"&Sheet1!C116)","v":"Baker Jessie J."},null,{"$f":"IF(INDIRECT(\"'Sheet1'!\"&ADDRESS(1,ROWS(C$1:C118)))=\"\",\"\",INDIRECT(\"'Sheet1'!\"&ADDRESS(1,ROWS(C$1:C118))))","v":"2009 / 2010"}]
[{"$f":"IF(Sheet1!B117=\"\",\"\",Sheet1!B117&\" \"&Sheet1!C117)","v":"Baker Joseph D."},null,{"$f":"IF(INDIRECT(\"'Sheet1'!\"&ADDRESS(1,ROWS(C$1:C119)))=\"\",\"\",INDIRECT(\"'Sheet1'!\"&ADDRESS(1,ROWS(C$1:C119))))","v":"2010 / 2011"}]
[{"$f":"IF(Sheet1!B118=\"\",\"\",Sheet1!B118&\" \"&Sheet1!C118)","v":"Balderose George"},null,{"$f":"IF(INDIRECT(\"'Sheet1'!\"&ADDRESS(1,ROWS(C$1:C120)))=\"\",\"\",INDIRECT(\"'Sheet1'!\"&ADDRESS(1,ROWS(C$1:C120))))","v":"2011 / 2012"}]
[{"$f":"IF(Sheet1!B119=\"\",\"\",Sheet1!B119&\" \"&Sheet1!C119)","v":"Baldwin Edwin G."},null,{"$f":"IF(INDIRECT(\"'Sheet1'!\"&ADDRESS(1,ROWS(C$1:C121)))=\"\",\"\",INDIRECT(\"'Sheet1'!\"&ADDRESS(1,ROWS(C$1:C121))))","v":"2012 / 2013"}]
[{"$f":"IF(Sheet1!B120=\"\",\"\",Sheet1!B120&\" \"&Sheet1!C120)","v":"Baldwin Mary Eugenia"},null,{"$f":"IF(INDIRECT(\"'Sheet1'!\"&ADDRESS(1,ROWS(C$1:C122)))=\"\",\"\",INDIRECT(\"'Sheet1'!\"&ADDRESS(1,ROWS(C$1:C122))))","v":"2013 / 2014"}]
[{"$f":"IF(Sheet1!B121=\"\",\"\",Sheet1!B121&\" \"&Sheet1!C121)","v":"Ball William"},null,{"$f":"IF(INDIRECT(\"'Sheet1'!\"&ADDRESS(1,ROWS(C$1:C123)))=\"\",\"\",INDIRECT(\"'Sheet1'!\"&ADDRESS(1,ROWS(C$1:C123))))","v":""}]
[{"$f":"IF(Sheet1!B122=\"\",\"\",Sheet1!B122&\" \"&Sheet1!C122)","v":"Ballard Captain Jonathan"},null,{"$f":"IF(INDIRECT(\"'Sheet1'!\"&ADDRESS(1,ROWS(C$1:C124)))=\"\",\"\",INDIRECT(\"'Sheet1'!\"&ADDRESS(1,ROWS(C$1:C124))))","v":""}]
[{"$f":"IF(Sheet1!B123=\"\",\"\",Sheet1!B123&\" \"&Sheet1!C123)","v":"Ballard Myrtle Frances"},null,{"$f":"IF(INDIRECT(\"'Sheet1'!\"&ADDRESS(1,ROWS(C$1:C125)))=\"\",\"\",INDIRECT(\"'Sheet1'!\"&ADDRESS(1,ROWS(C$1:C125))))","v":""}]
[{"$f":"IF(Sheet1!B124=\"\",\"\",Sheet1!B124&\" \"&Sheet1!C124)","v":"Ballenger Grady"},null,{"$f":"IF(INDIRECT(\"'Sheet1'!\"&ADDRESS(1,ROWS(C$1:C126)))=\"\",\"\",INDIRECT(\"'Sheet1'!\"&ADDRESS(1,ROWS(C$1:C126))))","v":""}]
[{"$f":"IF(Sheet1!B125=\"\",\"\",Sheet1!B125&\" \"&Sheet1!C125)","v":"Ballenger Kenneth L."},null,{"$f":"IF(INDIRECT(\"'Sheet1'!\"&ADDRESS(1,ROWS(C$1:C127)))=\"\",\"\",INDIRECT(\"'Sheet1'!\"&ADDRESS(1,ROWS(C$1:C127))))","v":""}]
[{"$f":"IF(Sheet1!B126=\"\",\"\",Sheet1!B126&\" \"&Sheet1!C126)","v":"Bangs Sarah Elizabeth"},null,{"$f":"IF(INDIRECT(\"'Sheet1'!\"&ADDRESS(1,ROWS(C$1:C128)))=\"\",\"\",INDIRECT(\"'Sheet1'!\"&ADDRESS(1,ROWS(C$1:C128))))","v":""}]
[{"$f":"IF(Sheet1!B127=\"\",\"\",Sheet1!B127&\" \"&Sheet1!C127)","v":"Bann Erin"},null,{"$f":"IF(INDIRECT(\"'Sheet1'!\"&ADDRESS(1,ROWS(C$1:C129)))=\"\",\"\",INDIRECT(\"'Sheet1'!\"&ADDRESS(1,ROWS(C$1:C129))))","v":""}]
[{"$f":"IF(Sheet1!B128=\"\",\"\",Sheet1!B128&\" \"&Sheet1!C128)","v":"Banse Andrew"},null,{"$f":"IF(INDIRECT(\"'Sheet1'!\"&ADDRESS(1,ROWS(C$1:C130)))=\"\",\"\",INDIRECT(\"'Sheet1'!\"&ADDRESS(1,ROWS(C$1:C130))))","v":""}]
[{"$f":"IF(Sheet1!B129=\"\",\"\",Sheet1!B129&\" \"&Sheet1!C129)","v":"Banta Natalie M."},null,{"$f":"IF(INDIRECT(\"'Sheet1'!\"&ADDRESS(1,ROWS(C$1:C131)))=\"\",\"\",INDIRECT(\"'Sheet1'!\"&ADDRESS(1,ROWS(C$1:C131))))","v":""}]
[{"$f":"IF(Sheet1!B130=\"\",\"\",Sheet1!B130&\" \"&Sheet1!C130)","v":"Barber J. David"},null,{"$f":"IF(INDIRECT(\"'Sheet1'!\"&ADDRESS(1,ROWS(C$1:C132)))=\"\",\"\",INDIRECT(\"'Sheet1'!\"&ADDRESS(1,ROWS(C$1:C132))))","v":""}]
[{"$f":"IF(Sheet1!B131=\"\",\"\",Sheet1!B131&\" \"&Sheet1!C131)","v":"Barber Nancy"},null,{"$f":"IF(INDIRECT(\"'Sheet1'!\"&ADDRESS(1,ROWS(C$1:C133)))=\"\",\"\",INDIRECT(\"'Sheet1'!\"&ADDRESS(1,ROWS(C$1:C133))))","v":""}]
[{"$f":"IF(Sheet1!B132=\"\",\"\",Sheet1!B132&\" \"&Sheet1!C132)","v":"Barbera Francesco"},null,{"$f":"IF(INDIRECT(\"'Sheet1'!\"&ADDRESS(1,ROWS(C$1:C134)))=\"\",\"\",INDIRECT(\"'Sheet1'!\"&ADDRESS(1,ROWS(C$1:C134))))","v":""}]
[{"$f":"IF(Sheet1!B133=\"\",\"\",Sheet1!B133&\" \"&Sheet1!C133)","v":"Barclay Raymond J."},null,{"$f":"IF(INDIRECT(\"'Sheet1'!\"&ADDRESS(1,ROWS(C$1:C135)))=\"\",\"\",INDIRECT(\"'Sheet1'!\"&ADDRESS(1,ROWS(C$1:C135))))","v":""}]
[{"$f":"IF(Sheet1!B134=\"\",\"\",Sheet1!B134&\" \"&Sheet1!C134)","v":"Barkalow Derek T."},null,{"$f":"IF(INDIRECT(\"'Sheet1'!\"&ADDRESS(1,ROWS(C$1:C136)))=\"\",\"\",INDIRECT(\"'Sheet1'!\"&ADDRESS(1,ROWS(C$1:C136))))","v":""}]
[{"$f":"IF(Sheet1!B135=\"\",\"\",Sheet1!B135&\" \"&Sheet1!C135)","v":"Barker Philp Greeley"},null,{"$f":"IF(INDIRECT(\"'Sheet1'!\"&ADDRESS(1,ROWS(C$1:C137)))=\"\",\"\",INDIRECT(\"'Sheet1'!\"&ADDRESS(1,ROWS(C$1:C137))))","v":""}]
[{"$f":"IF(Sheet1!B136=\"\",\"\",Sheet1!B136&\" \"&Sheet1!C136)","v":"Barnard Katherine"},null,{"$f":"IF(INDIRECT(\"'Sheet1'!\"&ADDRESS(1,ROWS(C$1:C138)))=\"\",\"\",INDIRECT(\"'Sheet1'!\"&ADDRESS(1,ROWS(C$1:C138))))","v":""}]
[{"$f":"IF(Sheet1!B137=\"\",\"\",Sheet1!B137&\" \"&Sheet1!C137)","v":"Barnard Paul"},null,{"$f":"IF(INDIRECT(\"'Sheet1'!\"&ADDRESS(1,ROWS(C$1:C139)))=\"\",\"\",INDIRECT(\"'Sheet1'!\"&ADDRESS(1,ROWS(C$1:C139))))","v":""}]
[{"$f":"IF(Sheet1!B138=\"\",\"\",Sheet1!B138&\" \"&Sheet1!C138)","v":"Barnes Michael C."},null,{"$f":"IF(INDIRECT(\"'Sheet1'!\"&ADDRESS(1,ROWS(C$1:C140)))=\"\",\"\",INDIRECT(\"'Sheet1'!\"&ADDRESS(1,ROWS(C$1:C140))))","v":""}]
[{"$f":"IF(Sheet1!B139=\"\",\"\",Sheet1!B139&\" \"&Sheet1!C139)","v":"Barnett Das Kelly"},null,{"$f":"IF(INDIRECT(\"'Sheet1'!\"&ADDRESS(1,ROWS(C$1:C141)))=\"\",\"\",INDIRECT(\"'Sheet1'!\"&ADDRESS(1,ROWS(C$1:C141))))","v":""}]
[{"$f":"IF(Sheet1!B140=\"\",\"\",Sheet1!B140&\" \"&Sheet1!C140)","v":"Barnett Elmer"},null,{"$f":"IF(INDIRECT(\"'Sheet1'!\"&ADDRESS(1,ROWS(C$1:C142)))=\"\",\"\",INDIRECT(\"'Sheet1'!\"&ADDRESS(1,ROWS(C$1:C142))))","v":""}]
[{"$f":"IF(Sheet1!B141=\"\",\"\",Sheet1!B141&\" \"&Sheet1!C141)","v":"Barnett M. Robert"},null,{"$f":"IF(INDIRECT(\"'Sheet1'!\"&ADDRESS(1,ROWS(C$1:C143)))=\"\",\"\",INDIRECT(\"'Sheet1'!\"&ADDRESS(1,ROWS(C$1:C143))))","v":""}]
[{"$f":"IF(Sheet1!B142=\"\",\"\",Sheet1!B142&\" \"&Sheet1!C142)","v":"Barnett Stephen T."}]
[{"$f":"IF(Sheet1!B143=\"\",\"\",Sheet1!B143&\" \"&Sheet1!C143)","v":"Barnette Henlee Hulix"}]
[{"$f":"IF(Sheet1!B144=\"\",\"\",Sheet1!B144&\" \"&Sheet1!C144)","v":"Barrell Edward Park"}]
[{"$f":"IF(Sheet1!B145=\"\",\"\",Sheet1!B145&\" \"&Sheet1!C145)","v":"Barrett Anne L."}]
[{"$f":"IF(Sheet1!B146=\"\",\"\",Sheet1!B146&\" \"&Sheet1!C146)","v":"Barthel John E."}]
[{"$f":"IF(Sheet1!B147=\"\",\"\",Sheet1!B147&\" \"&Sheet1!C147)","v":"Bashlin Alzora M."}]
[{"$f":"IF(Sheet1!B148=\"\",\"\",Sheet1!B148&\" \"&Sheet1!C148)","v":"Baskin Hamden H."}]
[{"$f":"IF(Sheet1!B149=\"\",\"\",Sheet1!B149&\" \"&Sheet1!C149)","v":"Bataille James"}]
[{"$f":"IF(Sheet1!B150=\"\",\"\",Sheet1!B150&\" \"&Sheet1!C150)","v":"Bataille Vanessa"}]
[{"$f":"IF(Sheet1!B151=\"\",\"\",Sheet1!B151&\" \"&Sheet1!C151)","v":"Bates Anthony W."}]
[{"$f":"IF(Sheet1!B152=\"\",\"\",Sheet1!B152&\" \"&Sheet1!C152)","v":"Bates Anthony W."}]
[{"$f":"IF(Sheet1!B153=\"\",\"\",Sheet1!B153&\" \"&Sheet1!C153)","v":"Bates Carrie Helen"}]
[{"$f":"IF(Sheet1!B154=\"\",\"\",Sheet1!B154&\" \"&Sheet1!C154)","v":"Bates Mona"}]
[{"$f":"IF(Sheet1!B155=\"\",\"\",Sheet1!B155&\" \"&Sheet1!C155)","v":"Bateson Howard Lamoureux"}]
[{"$f":"IF(Sheet1!B156=\"\",\"\",Sheet1!B156&\" \"&Sheet1!C156)","v":"Batey Robert"}]
[{"$f":"IF(Sheet1!B157=\"\",\"\",Sheet1!B157&\" \"&Sheet1!C157)","v":"Batson Helen Louise"}]
[{"$f":"IF(Sheet1!B158=\"\",\"\",Sheet1!B158&\" \"&Sheet1!C158)","v":"Batt Cynthia"}]
[{"$f":"IF(Sheet1!B159=\"\",\"\",Sheet1!B159&\" \"&Sheet1!C159)","v":"Bauder Arthur R."}]
[{"$f":"IF(Sheet1!B160=\"\",\"\",Sheet1!B160&\" \"&Sheet1!C160)","v":"Bauer Mark D."}]
[{"$f":"IF(Sheet1!B161=\"\",\"\",Sheet1!B161&\" \"&Sheet1!C161)","v":"Bauer Ralph Stanley"}]
[{"$f":"IF(Sheet1!B162=\"\",\"\",Sheet1!B162&\" \"&Sheet1!C162)","v":"Baugh Ronald L"}]
[{"$f":"IF(Sheet1!B163=\"\",\"\",Sheet1!B163&\" \"&Sheet1!C163)","v":"Bauman Joel"}]
[{"$f":"IF(Sheet1!B164=\"\",\"\",Sheet1!B164&\" \"&Sheet1!C164)","v":"Baur Edward G."}]
[{"$f":"IF(Sheet1!B165=\"\",\"\",Sheet1!B165&\" \"&Sheet1!C165)","v":"Baxter Phoebe E."}]
[{"$f":"IF(Sheet1!B166=\"\",\"\",Sheet1!B166&\" \"&Sheet1!C166)","v":"Beach Evelyn Fleetwood"}]
[{"$f":"IF(Sheet1!B167=\"\",\"\",Sheet1!B167&\" \"&Sheet1!C167)","v":"Beall Noble Y."}]
[{"$f":"IF(Sheet1!B168=\"\",\"\",Sheet1!B168&\" \"&Sheet1!C168)","v":"Bean Sue McEachern"}]
[{"$f":"IF(Sheet1!B169=\"\",\"\",Sheet1!B169&\" \"&Sheet1!C169)","v":"Bean Allene Marie Skinner"}]
[{"$f":"IF(Sheet1!B170=\"\",\"\",Sheet1!B170&\" \"&Sheet1!C170)","v":"Bean Sandra K."}]
[{"$f":"IF(Sheet1!B171=\"\",\"\",Sheet1!B171&\" \"&Sheet1!C171)","v":"Bean William K."}]
[{"$f":"IF(Sheet1!B172=\"\",\"\",Sheet1!B172&\" \"&Sheet1!C172)","v":"Beane Dorothea A."}]
[{"$f":"IF(Sheet1!B173=\"\",\"\",Sheet1!B173&\" \"&Sheet1!C173)","v":"Bear F. Thomas"}]
[{"$f":"IF(Sheet1!B174=\"\",\"\",Sheet1!B174&\" \"&Sheet1!C174)","v":"Beardsley W. Eugene"}]
[{"$f":"IF(Sheet1!B175=\"\",\"\",Sheet1!B175&\" \"&Sheet1!C175)","v":"Beasley Donald"}]
[{"$f":"IF(Sheet1!B176=\"\",\"\",Sheet1!B176&\" \"&Sheet1!C176)","v":"Beasley James R."}]
[{"$f":"IF(Sheet1!B177=\"\",\"\",Sheet1!B177&\" \"&Sheet1!C177)","v":"Beck Andrew F."}]
[{"$f":"IF(Sheet1!B178=\"\",\"\",Sheet1!B178&\" \"&Sheet1!C178)","v":"Bedi Monu S."}]
[{"$f":"IF(Sheet1!B179=\"\",\"\",Sheet1!B179&\" \"&Sheet1!C179)","v":"Beelar B.F."}]
[{"$f":"IF(Sheet1!B180=\"\",\"\",Sheet1!B180&\" \"&Sheet1!C180)","v":"Begalla Joseph"}]
[{"$f":"IF(Sheet1!B181=\"\",\"\",Sheet1!B181&\" \"&Sheet1!C181)","v":"Beights David M."}]
[{"$f":"IF(Sheet1!B182=\"\",\"\",Sheet1!B182&\" \"&Sheet1!C182)","v":"Beiler Theodore W."}]
[{"$f":"IF(Sheet1!B183=\"\",\"\",Sheet1!B183&\" \"&Sheet1!C183)","v":"Belcher Lawrence J."}]
[{"$f":"IF(Sheet1!B184=\"\",\"\",Sheet1!B184&\" \"&Sheet1!C184)","v":"Bell Christopher"}]
[{"$f":"IF(Sheet1!B185=\"\",\"\",Sheet1!B185&\" \"&Sheet1!C185)","v":"Bell Pamela Cole"}]
[{"$f":"IF(Sheet1!B186=\"\",\"\",Sheet1!B186&\" \"&Sheet1!C186)","v":"Bellows Susie Magdalene"}]
[{"$f":"IF(Sheet1!B187=\"\",\"\",Sheet1!B187&\" \"&Sheet1!C187)","v":"Belvin G. Chris"}]
[{"$f":"IF(Sheet1!B188=\"\",\"\",Sheet1!B188&\" \"&Sheet1!C188)","v":"Belyi Andrei"}]
[{"$f":"IF(Sheet1!B189=\"\",\"\",Sheet1!B189&\" \"&Sheet1!C189)","v":"Bendrat Thomas Albert"}]
[{"$f":"IF(Sheet1!B190=\"\",\"\",Sheet1!B190&\" \"&Sheet1!C190)","v":"Benjamin Myrtle"}]
[{"$f":"IF(Sheet1!B191=\"\",\"\",Sheet1!B191&\" \"&Sheet1!C191)","v":"Benjamin Richard D."}]
[{"$f":"IF(Sheet1!B192=\"\",\"\",Sheet1!B192&\" \"&Sheet1!C192)","v":"Bennett Barbara"}]
[{"$f":"IF(Sheet1!B193=\"\",\"\",Sheet1!B193&\" \"&Sheet1!C193)","v":"Bennett Walter W."}]
[{"$f":"IF(Sheet1!B194=\"\",\"\",Sheet1!B194&\" \"&Sheet1!C194)","v":"Bennington Cynthia"}]
[{"$f":"IF(Sheet1!B195=\"\",\"\",Sheet1!B195&\" \"&Sheet1!C195)","v":"Bent Jason R."}]
[{"$f":"IF(Sheet1!B196=\"\",\"\",Sheet1!B196&\" \"&Sheet1!C196)","v":"Bergstresser Clinton A."}]
[{"$f":"IF(Sheet1!B197=\"\",\"\",Sheet1!B197&\" \"&Sheet1!C197)","v":"Berner Wesley Melvin"}]
[{"$f":"IF(Sheet1!B198=\"\",\"\",Sheet1!B198&\" \"&Sheet1!C198)","v":"Berry Donald L."}]
[{"$f":"IF(Sheet1!B199=\"\",\"\",Sheet1!B199&\" \"&Sheet1!C199)","v":"Berry Fannie A."}]
[{"$f":"IF(Sheet1!B200=\"\",\"\",Sheet1!B200&\" \"&Sheet1!C200)","v":"Berry Hertha A."}]
[{"$f":"IF(Sheet1!B201=\"\",\"\",Sheet1!B201&\" \"&Sheet1!C201)","v":"Berry Jesse L."}]
[{"$f":"IF(Sheet1!B202=\"\",\"\",Sheet1!B202&\" \"&Sheet1!C202)","v":"Berry Joe"}]
[{"$f":"IF(Sheet1!B203=\"\",\"\",Sheet1!B203&\" \"&Sheet1!C203)","v":"Berson Thomas"}]
[{"$f":"IF(Sheet1!B204=\"\",\"\",Sheet1!B204&\" \"&Sheet1!C204)","v":"Betteridge Grace L."}]
[{"$f":"IF(Sheet1!B205=\"\",\"\",Sheet1!B205&\" \"&Sheet1!C205)","v":"Beutner Harvey F."}]
[{"$f":"IF(Sheet1!B206=\"\",\"\",Sheet1!B206&\" \"&Sheet1!C206)","v":"Bickel Robert Dale"}]
[{"$f":"IF(Sheet1!B207=\"\",\"\",Sheet1!B207&\" \"&Sheet1!C207)","v":"Biernacki Christine"}]
[{"$f":"IF(Sheet1!B208=\"\",\"\",Sheet1!B208&\" \"&Sheet1!C208)","v":"Bigelow Fannie"}]
[{"$f":"IF(Sheet1!B209=\"\",\"\",Sheet1!B209&\" \"&Sheet1!C209)","v":"Billings Major Roger S."}]
[{"$f":"IF(Sheet1!B210=\"\",\"\",Sheet1!B210&\" \"&Sheet1!C210)","v":"Billingsley Nancy"}]
[{"$f":"IF(Sheet1!B211=\"\",\"\",Sheet1!B211&\" \"&Sheet1!C211)","v":"Birney Tom S."}]
[{"$f":"IF(Sheet1!B212=\"\",\"\",Sheet1!B212&\" \"&Sheet1!C212)","v":"Bischof Baerbel"}]
[{"$f":"IF(Sheet1!B213=\"\",\"\",Sheet1!B213&\" \"&Sheet1!C213)","v":"Bitter Michael E."}]
[{"$f":"IF(Sheet1!B214=\"\",\"\",Sheet1!B214&\" \"&Sheet1!C214)","v":"Bjella David"}]
[{"$f":"IF(Sheet1!B215=\"\",\"\",Sheet1!B215&\" \"&Sheet1!C215)","v":"Blachshear David"}]
[{"$f":"IF(Sheet1!B216=\"\",\"\",Sheet1!B216&\" \"&Sheet1!C216)","v":"Blackiston Jennie Pearl"}]
[{"$f":"IF(Sheet1!B217=\"\",\"\",Sheet1!B217&\" \"&Sheet1!C217)","v":"Blain Kirby W."}]
[{"$f":"IF(Sheet1!B218=\"\",\"\",Sheet1!B218&\" \"&Sheet1!C218)","v":"Blake Robert G."}]
[{"$f":"IF(Sheet1!B219=\"\",\"\",Sheet1!B219&\" \"&Sheet1!C219)","v":"Blake Stephen Pierce"}]
[{"$f":"IF(Sheet1!B220=\"\",\"\",Sheet1!B220&\" \"&Sheet1!C220)","v":"Blanding Elizabeth N."}]
[{"$f":"IF(Sheet1!B221=\"\",\"\",Sheet1!B221&\" \"&Sheet1!C221)","v":"Blasdale Justin"}]
[{"$f":"IF(Sheet1!B222=\"\",\"\",Sheet1!B222&\" \"&Sheet1!C222)","v":"Blevins Timothy D."}]
[{"$f":"IF(Sheet1!B223=\"\",\"\",Sheet1!B223&\" \"&Sheet1!C223)","v":"Bliss William D."}]
[{"$f":"IF(Sheet1!B224=\"\",\"\",Sheet1!B224&\" \"&Sheet1!C224)","v":"Blocker D.J."}]
[{"$f":"IF(Sheet1!B225=\"\",\"\",Sheet1!B225&\" \"&Sheet1!C225)","v":"Bloden Connie E."}]
[{"$f":"IF(Sheet1!B226=\"\",\"\",Sheet1!B226&\" \"&Sheet1!C226)","v":"Bloxham Clara"}]
[{"$f":"IF(Sheet1!B227=\"\",\"\",Sheet1!B227&\" \"&Sheet1!C227)","v":"Blum Anthony J."}]
[{"$f":"IF(Sheet1!B228=\"\",\"\",Sheet1!B228&\" \"&Sheet1!C228)","v":"Blum Julius M."}]
[{"$f":"IF(Sheet1!B229=\"\",\"\",Sheet1!B229&\" \"&Sheet1!C229)","v":"Blum Toni L."}]
[{"$f":"IF(Sheet1!B230=\"\",\"\",Sheet1!B230&\" \"&Sheet1!C230)","v":"Bly Egford"}]
[{"$f":"IF(Sheet1!B231=\"\",\"\",Sheet1!B231&\" \"&Sheet1!C231)","v":"Board Gertrude D."}]
[{"$f":"IF(Sheet1!B232=\"\",\"\",Sheet1!B232&\" \"&Sheet1!C232)","v":"Boerth Robert"}]
[{"$f":"IF(Sheet1!B233=\"\",\"\",Sheet1!B233&\" \"&Sheet1!C233)","v":"Bogart Jennifer E."}]
[{"$f":"IF(Sheet1!B234=\"\",\"\",Sheet1!B234&\" \"&Sheet1!C234)","v":"Bohl Catherine Joan"}]
[{"$f":"IF(Sheet1!B235=\"\",\"\",Sheet1!B235&\" \"&Sheet1!C235)","v":"Bohon John William"}]
[{"$f":"IF(Sheet1!B236=\"\",\"\",Sheet1!B236&\" \"&Sheet1!C236)","v":"Bolding Gary"}]
[{"$f":"IF(Sheet1!B237=\"\",\"\",Sheet1!B237&\" \"&Sheet1!C237)","v":"Bolton William D"}]
[{"$f":"IF(Sheet1!B238=\"\",\"\",Sheet1!B238&\" \"&Sheet1!C238)","v":"Bond J.D."}]
[{"$f":"IF(Sheet1!B239=\"\",\"\",Sheet1!B239&\" \"&Sheet1!C239)","v":"Bonifay Isaac F."}]
[{"$f":"IF(Sheet1!B240=\"\",\"\",Sheet1!B240&\" \"&Sheet1!C240)","v":"Bonner Robert J."}]
[{"$f":"IF(Sheet1!B241=\"\",\"\",Sheet1!B241&\" \"&Sheet1!C241)","v":"Booker Frank E."}]
[{"$f":"IF(Sheet1!B242=\"\",\"\",Sheet1!B242&\" \"&Sheet1!C242)","v":"Boor Alden Kinney"}]
[{"$f":"IF(Sheet1!B243=\"\",\"\",Sheet1!B243&\" \"&Sheet1!C243)","v":"Boor Marjorie Amelia"}]
[{"$f":"IF(Sheet1!B244=\"\",\"\",Sheet1!B244&\" \"&Sheet1!C244)","v":"Booth John M."}]
[{"$f":"IF(Sheet1!B245=\"\",\"\",Sheet1!B245&\" \"&Sheet1!C245)","v":"Boozer Robert W."}]
[{"$f":"IF(Sheet1!B246=\"\",\"\",Sheet1!B246&\" \"&Sheet1!C246)","v":"Born Kristie R."}]
[{"$f":"IF(Sheet1!B247=\"\",\"\",Sheet1!B247&\" \"&Sheet1!C247)","v":"Bostick Elizabeth Farmer"}]
[{"$f":"IF(Sheet1!B248=\"\",\"\",Sheet1!B248&\" \"&Sheet1!C248)","v":"Botluk Diana"}]
[{"$f":"IF(Sheet1!B249=\"\",\"\",Sheet1!B249&\" \"&Sheet1!C249)","v":"Botsford Geo. W."}]
[{"$f":"IF(Sheet1!B250=\"\",\"\",Sheet1!B250&\" \"&Sheet1!C250)","v":"Botts A.O."}]
[{"$f":"IF(Sheet1!B251=\"\",\"\",Sheet1!B251&\" \"&Sheet1!C251)","v":"Botts Clifford"}]
[{"$f":"IF(Sheet1!B252=\"\",\"\",Sheet1!B252&\" \"&Sheet1!C252)","v":"Botts Fred W."}]
[{"$f":"IF(Sheet1!B253=\"\",\"\",Sheet1!B253&\" \"&Sheet1!C253)","v":"Botts Lawrence"}]
[{"$f":"IF(Sheet1!B254=\"\",\"\",Sheet1!B254&\" \"&Sheet1!C254)","v":"Boudreaux Paul"}]
[{"$f":"IF(Sheet1!B255=\"\",\"\",Sheet1!B255&\" \"&Sheet1!C255)","v":"Bowden J. Lawrence, Jr."}]
[{"$f":"IF(Sheet1!B256=\"\",\"\",Sheet1!B256&\" \"&Sheet1!C256)","v":"Bowen Bertha Hollingsworth"}]
[{"$f":"IF(Sheet1!B257=\"\",\"\",Sheet1!B257&\" \"&Sheet1!C257)","v":"Bowen Olga Ruth"}]
[{"$f":"IF(Sheet1!B258=\"\",\"\",Sheet1!B258&\" \"&Sheet1!C258)","v":"Bowman Brooke J."}]
[{"$f":"IF(Sheet1!B259=\"\",\"\",Sheet1!B259&\" \"&Sheet1!C259)","v":"Boyd Elizabeth Nicely"}]
[{"$f":"IF(Sheet1!B260=\"\",\"\",Sheet1!B260&\" \"&Sheet1!C260)","v":"Boyd G. Michael"}]
[{"$f":"IF(Sheet1!B261=\"\",\"\",Sheet1!B261&\" \"&Sheet1!C261)","v":"Boydstun Maude S."}]
[{"$f":"IF(Sheet1!B262=\"\",\"\",Sheet1!B262&\" \"&Sheet1!C262)","v":"Boyle John"}]
[{"$f":"IF(Sheet1!B263=\"\",\"\",Sheet1!B263&\" \"&Sheet1!C263)","v":"Bradbury Emma L."}]
[{"$f":"IF(Sheet1!B264=\"\",\"\",Sheet1!B264&\" \"&Sheet1!C264)","v":"Braddock Libby Mae"}]
[{"$f":"IF(Sheet1!B265=\"\",\"\",Sheet1!B265&\" \"&Sheet1!C265)","v":"Braddock Roscoe"}]
[{"$f":"IF(Sheet1!B266=\"\",\"\",Sheet1!B266&\" \"&Sheet1!C266)","v":"Braden John"}]
[{"$f":"IF(Sheet1!B267=\"\",\"\",Sheet1!B267&\" \"&Sheet1!C267)","v":"Bradford Bruce Carlton"}]
[{"$f":"IF(Sheet1!B268=\"\",\"\",Sheet1!B268&\" \"&Sheet1!C268)","v":"Bradford Jane T."}]
[{"$f":"IF(Sheet1!B269=\"\",\"\",Sheet1!B269&\" \"&Sheet1!C269)","v":"Bradley Chastity"}]
[{"$f":"IF(Sheet1!B270=\"\",\"\",Sheet1!B270&\" \"&Sheet1!C270)","v":"Brady Rob"}]
[{"$f":"IF(Sheet1!B271=\"\",\"\",Sheet1!B271&\" \"&Sheet1!C271)","v":"Branch James C."}]
[{"$f":"IF(Sheet1!B272=\"\",\"\",Sheet1!B272&\" \"&Sheet1!C272)","v":"Brand James T."}]
[{"$f":"IF(Sheet1!B273=\"\",\"\",Sheet1!B273&\" \"&Sheet1!C273)","v":"Brand Richard Clyde"}]
[{"$f":"IF(Sheet1!B274=\"\",\"\",Sheet1!B274&\" \"&Sheet1!C274)","v":"Brannen Malcolm D."}]
[{"$f":"IF(Sheet1!B275=\"\",\"\",Sheet1!B275&\" \"&Sheet1!C275)","v":"Brantley Kristina"}]
[{"$f":"IF(Sheet1!B276=\"\",\"\",Sheet1!B276&\" \"&Sheet1!C276)","v":"Brantley Louise D."}]
[{"$f":"IF(Sheet1!B277=\"\",\"\",Sheet1!B277&\" \"&Sheet1!C277)","v":"Brantley Maurice E."}]
[{"$f":"IF(Sheet1!B278=\"\",\"\",Sheet1!B278&\" \"&Sheet1!C278)","v":"Branton Deborah G."}]
[{"$f":"IF(Sheet1!B279=\"\",\"\",Sheet1!B279&\" \"&Sheet1!C279)","v":"Branton Michael G."}]
[{"$f":"IF(Sheet1!B280=\"\",\"\",Sheet1!B280&\" \"&Sheet1!C280)","v":"Brass B. Franklin"}]
[{"$f":"IF(Sheet1!B281=\"\",\"\",Sheet1!B281&\" \"&Sheet1!C281)","v":"Braun Diane"}]
[{"$f":"IF(Sheet1!B282=\"\",\"\",Sheet1!B282&\" \"&Sheet1!C282)","v":"Braxton Leon E."}]
[{"$f":"IF(Sheet1!B283=\"\",\"\",Sheet1!B283&\" \"&Sheet1!C283)","v":"Bray J.W."}]
[{"$f":"IF(Sheet1!B284=\"\",\"\",Sheet1!B284&\" \"&Sheet1!C284)","v":"Brenner Vincent C."}]
[{"$f":"IF(Sheet1!B285=\"\",\"\",Sheet1!B285&\" \"&Sheet1!C285)","v":"Breton Concha"}]
[{"$f":"IF(Sheet1!B286=\"\",\"\",Sheet1!B286&\" \"&Sheet1!C286)","v":"Brewster William, Jr."}]
[{"$f":"IF(Sheet1!B287=\"\",\"\",Sheet1!B287&\" \"&Sheet1!C287)","v":"Bria Lynn"}]
[{"$f":"IF(Sheet1!B288=\"\",\"\",Sheet1!B288&\" \"&Sheet1!C288)","v":"Briant Tammy L."}]
[{"$f":"IF(Sheet1!B289=\"\",\"\",Sheet1!B289&\" \"&Sheet1!C289)","v":"Brickey, ATC, LAT Glenn"}]
[{"$f":"IF(Sheet1!B290=\"\",\"\",Sheet1!B290&\" \"&Sheet1!C290)","v":"Briggs Thomas H."}]
[{"$f":"IF(Sheet1!B291=\"\",\"\",Sheet1!B291&\" \"&Sheet1!C291)","v":"Brinkley Ellen McCrory"}]
[{"$f":"IF(Sheet1!B292=\"\",\"\",Sheet1!B292&\" \"&Sheet1!C292)","v":"Briscoe Gladys Marion"}]
[{"$f":"IF(Sheet1!B293=\"\",\"\",Sheet1!B293&\" \"&Sheet1!C293)","v":"Britt Claude H., Jr."}]
[{"$f":"IF(Sheet1!B294=\"\",\"\",Sheet1!B294&\" \"&Sheet1!C294)","v":"Broadus Edmund K."}]
[{"$f":"IF(Sheet1!B295=\"\",\"\",Sheet1!B295&\" \"&Sheet1!C295)","v":"Broadus Eleanor Hammond"}]
[{"$f":"IF(Sheet1!B296=\"\",\"\",Sheet1!B296&\" \"&Sheet1!C296)","v":"Brock Letta"}]
[{"$f":"IF(Sheet1!B297=\"\",\"\",Sheet1!B297&\" \"&Sheet1!C297)","v":"Brockett Lenyth S."}]
[{"$f":"IF(Sheet1!B298=\"\",\"\",Sheet1!B298&\" \"&Sheet1!C298)","v":"Brockett Oscar G."}]
[{"$f":"IF(Sheet1!B299=\"\",\"\",Sheet1!B299&\" \"&Sheet1!C299)","v":"Brooks Dora Sue"}]
[{"$f":"IF(Sheet1!B300=\"\",\"\",Sheet1!B300&\" \"&Sheet1!C300)","v":"Brooks Peter D."}]
[{"$f":"IF(Sheet1!B301=\"\",\"\",Sheet1!B301&\" \"&Sheet1!C301)","v":"Broome Jeanette M."}]
[{"$f":"IF(Sheet1!B302=\"\",\"\",Sheet1!B302&\" \"&Sheet1!C302)","v":"Brosseder Claudia"}]
[{"$f":"IF(Sheet1!B303=\"\",\"\",Sheet1!B303&\" \"&Sheet1!C303)","v":"Brown Anna W."}]
[{"$f":"IF(Sheet1!B304=\"\",\"\",Sheet1!B304&\" \"&Sheet1!C304)","v":"Brown Benjamin"}]
[{"$f":"IF(Sheet1!B305=\"\",\"\",Sheet1!B305&\" \"&Sheet1!C305)","v":"Brown Clara S."}]
[{"$f":"IF(Sheet1!B306=\"\",\"\",Sheet1!B306&\" \"&Sheet1!C306)","v":"Brown Claude Hilding"}]
[{"$f":"IF(Sheet1!B307=\"\",\"\",Sheet1!B307&\" \"&Sheet1!C307)","v":"Brown Deborah C."}]
[{"$f":"IF(Sheet1!B308=\"\",\"\",Sheet1!B308&\" \"&Sheet1!C308)","v":"Brown Elizabeth Florence"}]
[{"$f":"IF(Sheet1!B309=\"\",\"\",Sheet1!B309&\" \"&Sheet1!C309)","v":"Brown Euguene"}]
[{"$f":"IF(Sheet1!B310=\"\",\"\",Sheet1!B310&\" \"&Sheet1!C310)","v":"Brown Frances"}]
[{"$f":"IF(Sheet1!B311=\"\",\"\",Sheet1!B311&\" \"&Sheet1!C311)","v":"Brown James E"}]
[{"$f":"IF(Sheet1!B312=\"\",\"\",Sheet1!B312&\" \"&Sheet1!C312)","v":"Brown James Jay"}]
[{"$f":"IF(Sheet1!B313=\"\",\"\",Sheet1!B313&\" \"&Sheet1!C313)","v":"Brown Joe A"}]
[{"$f":"IF(Sheet1!B314=\"\",\"\",Sheet1!B314&\" \"&Sheet1!C314)","v":"Brown Joseph D."}]
[{"$f":"IF(Sheet1!B315=\"\",\"\",Sheet1!B315&\" \"&Sheet1!C315)","v":"Brown Joyce"}]
[{"$f":"IF(Sheet1!B316=\"\",\"\",Sheet1!B316&\" \"&Sheet1!C316)","v":"Brown Mark R."}]
[{"$f":"IF(Sheet1!B317=\"\",\"\",Sheet1!B317&\" \"&Sheet1!C317)","v":"Brown Mary"}]
[{"$f":"IF(Sheet1!B318=\"\",\"\",Sheet1!B318&\" \"&Sheet1!C318)","v":"Brown Randall A."}]
[{"$f":"IF(Sheet1!B319=\"\",\"\",Sheet1!B319&\" \"&Sheet1!C319)","v":"Brown Samuel I."}]
[{"$f":"IF(Sheet1!B320=\"\",\"\",Sheet1!B320&\" \"&Sheet1!C320)","v":"Brown Susie Persons"}]
[{"$f":"IF(Sheet1!B321=\"\",\"\",Sheet1!B321&\" \"&Sheet1!C321)","v":"Brown Thelma"}]
[{"$f":"IF(Sheet1!B322=\"\",\"\",Sheet1!B322&\" \"&Sheet1!C322)","v":"Browne Mary E.L."}]
[{"$f":"IF(Sheet1!B323=\"\",\"\",Sheet1!B323&\" \"&Sheet1!C323)","v":"Brownfield Cindi"}]
[{"$f":"IF(Sheet1!B324=\"\",\"\",Sheet1!B324&\" \"&Sheet1!C324)","v":"Browning Lisa"}]
[{"$f":"IF(Sheet1!B325=\"\",\"\",Sheet1!B325&\" \"&Sheet1!C325)","v":"Bruce Frances Roberts"}]
[{"$f":"IF(Sheet1!B326=\"\",\"\",Sheet1!B326&\" \"&Sheet1!C326)","v":"Bruce Jon W."}]
[{"$f":"IF(Sheet1!B327=\"\",\"\",Sheet1!B327&\" \"&Sheet1!C327)","v":"Brune Audrey"}]
[{"$f":"IF(Sheet1!B328=\"\",\"\",Sheet1!B328&\" \"&Sheet1!C328)","v":"Brunk Joyce E."}]
[{"$f":"IF(Sheet1!B329=\"\",\"\",Sheet1!B329&\" \"&Sheet1!C329)","v":"Brunk Paul W"}]
[{"$f":"IF(Sheet1!B330=\"\",\"\",Sheet1!B330&\" \"&Sheet1!C330)","v":"Brunnig Sarah"}]
[{"$f":"IF(Sheet1!B331=\"\",\"\",Sheet1!B331&\" \"&Sheet1!C331)","v":"Bryson Craig I."}]
[{"$f":"IF(Sheet1!B332=\"\",\"\",Sheet1!B332&\" \"&Sheet1!C332)","v":"Buchmann Mary L."}]
[{"$f":"IF(Sheet1!B333=\"\",\"\",Sheet1!B333&\" \"&Sheet1!C333)","v":"Buck Frederica Elizabeth Lane"}]
[{"$f":"IF(Sheet1!B334=\"\",\"\",Sheet1!B334&\" \"&Sheet1!C334)","v":"Buckels Carol"}]
[{"$f":"IF(Sheet1!B335=\"\",\"\",Sheet1!B335&\" \"&Sheet1!C335)","v":"Buckles Ruth"}]
[{"$f":"IF(Sheet1!B336=\"\",\"\",Sheet1!B336&\" \"&Sheet1!C336)","v":"Budina John William"}]
[{"$f":"IF(Sheet1!B337=\"\",\"\",Sheet1!B337&\" \"&Sheet1!C337)","v":"Bulger Jeffrey W."}]
[{"$f":"IF(Sheet1!B338=\"\",\"\",Sheet1!B338&\" \"&Sheet1!C338)","v":"Bullock Amy W."}]
[{"$f":"IF(Sheet1!B339=\"\",\"\",Sheet1!B339&\" \"&Sheet1!C339)","v":"Bunker Eugene F., Jr."}]
[{"$f":"IF(Sheet1!B340=\"\",\"\",Sheet1!B340&\" \"&Sheet1!C340)","v":"Burge Herman"}]
[{"$f":"IF(Sheet1!B341=\"\",\"\",Sheet1!B341&\" \"&Sheet1!C341)","v":"Burkett Terry"}]
[{"$f":"IF(Sheet1!B342=\"\",\"\",Sheet1!B342&\" \"&Sheet1!C342)","v":"Burlin Ann Elizabeth"}]
[{"$f":"IF(Sheet1!B343=\"\",\"\",Sheet1!B343&\" \"&Sheet1!C343)","v":"Burlingham Ruth Diane"}]
[{"$f":"IF(Sheet1!B344=\"\",\"\",Sheet1!B344&\" \"&Sheet1!C344)","v":"Burnell Frank"}]
[{"$f":"IF(Sheet1!B345=\"\",\"\",Sheet1!B345&\" \"&Sheet1!C345)","v":"Burnett Judith"}]
[{"$f":"IF(Sheet1!B346=\"\",\"\",Sheet1!B346&\" \"&Sheet1!C346)","v":"Burns Harold J."}]
[{"$f":"IF(Sheet1!B347=\"\",\"\",Sheet1!B347&\" \"&Sheet1!C347)","v":"Burns Jeanne M."}]
[{"$f":"IF(Sheet1!B348=\"\",\"\",Sheet1!B348&\" \"&Sheet1!C348)","v":"Burns Lucille"}]
[{"$f":"IF(Sheet1!B349=\"\",\"\",Sheet1!B349&\" \"&Sheet1!C349)","v":"Burns Persis"}]
[{"$f":"IF(Sheet1!B350=\"\",\"\",Sheet1!B350&\" \"&Sheet1!C350)","v":"Burns Sue McEachern"}]
[{"$f":"IF(Sheet1!B351=\"\",\"\",Sheet1!B351&\" \"&Sheet1!C351)","v":"Burris John P."}]
[{"$f":"IF(Sheet1!B352=\"\",\"\",Sheet1!B352&\" \"&Sheet1!C352)","v":"Burt Lucille"}]
[{"$f":"IF(Sheet1!B353=\"\",\"\",Sheet1!B353&\" \"&Sheet1!C353)","v":"Bush Alberta Williams"}]
[{"$f":"IF(Sheet1!B354=\"\",\"\",Sheet1!B354&\" \"&Sheet1!C354)","v":"Bush Emma L."}]
[{"$f":"IF(Sheet1!B355=\"\",\"\",Sheet1!B355&\" \"&Sheet1!C355)","v":"Bush Florence Lilian"}]
[{"$f":"IF(Sheet1!B356=\"\",\"\",Sheet1!B356&\" \"&Sheet1!C356)","v":"Bush Mary Wayne"}]
[{"$f":"IF(Sheet1!B357=\"\",\"\",Sheet1!B357&\" \"&Sheet1!C357)","v":"Bushnell Roswell S., III"}]
[{"$f":"IF(Sheet1!B358=\"\",\"\",Sheet1!B358&\" \"&Sheet1!C358)","v":"Buskirk Golda Van"}]
[{"$f":"IF(Sheet1!B359=\"\",\"\",Sheet1!B359&\" \"&Sheet1!C359)","v":"Buthman James"}]
[{"$f":"IF(Sheet1!B360=\"\",\"\",Sheet1!B360&\" \"&Sheet1!C360)","v":"Butler Fred"}]
[{"$f":"IF(Sheet1!B361=\"\",\"\",Sheet1!B361&\" \"&Sheet1!C361)","v":"Butler Jeffrey G."}]
[{"$f":"IF(Sheet1!B362=\"\",\"\",Sheet1!B362&\" \"&Sheet1!C362)","v":"Butterfield Terry"}]
[{"$f":"IF(Sheet1!B363=\"\",\"\",Sheet1!B363&\" \"&Sheet1!C363)","v":"Buttorff Mary Landes"}]
[{"$f":"IF(Sheet1!B364=\"\",\"\",Sheet1!B364&\" \"&Sheet1!C364)","v":"Buxton Frances"}]
[{"$f":"IF(Sheet1!B365=\"\",\"\",Sheet1!B365&\" \"&Sheet1!C365)","v":"Byrne James E."}]
[{"$f":"IF(Sheet1!B366=\"\",\"\",Sheet1!B366&\" \"&Sheet1!C366)","v":"Cable John Ray"}]
[{"$f":"IF(Sheet1!B367=\"\",\"\",Sheet1!B367&\" \"&Sheet1!C367)","v":"Cain Florence E."}]
[{"$f":"IF(Sheet1!B368=\"\",\"\",Sheet1!B368&\" \"&Sheet1!C368)","v":"Caldwell Harry E."}]
[{"$f":"IF(Sheet1!B369=\"\",\"\",Sheet1!B369&\" \"&Sheet1!C369)","v":"Caldwell Mymie"}]
[{"$f":"IF(Sheet1!B370=\"\",\"\",Sheet1!B370&\" \"&Sheet1!C370)","v":"Calhoun Barbara"}]
[{"$f":"IF(Sheet1!B371=\"\",\"\",Sheet1!B371&\" \"&Sheet1!C371)","v":"Calhoun George M."}]
[{"$f":"IF(Sheet1!B372=\"\",\"\",Sheet1!B372&\" \"&Sheet1!C372)","v":"Calhoun Janet McMurray"}]
[{"$f":"IF(Sheet1!B373=\"\",\"\",Sheet1!B373&\" \"&Sheet1!C373)","v":"Callaway Tucker N"}]
[{"$f":"IF(Sheet1!B374=\"\",\"\",Sheet1!B374&\" \"&Sheet1!C374)","v":"Cameron Catherine"}]
[{"$f":"IF(Sheet1!B375=\"\",\"\",Sheet1!B375&\" \"&Sheet1!C375)","v":"Camp Henry N."}]
[{"$f":"IF(Sheet1!B376=\"\",\"\",Sheet1!B376&\" \"&Sheet1!C376)","v":"Campbell Julia Kathryne"}]
[{"$f":"IF(Sheet1!B377=\"\",\"\",Sheet1!B377&\" \"&Sheet1!C377)","v":"Campbell Nelle Burch"}]
[{"$f":"IF(Sheet1!B378=\"\",\"\",Sheet1!B378&\" \"&Sheet1!C378)","v":"Campbell (Miller) Shawnrece D."}]
[{"$f":"IF(Sheet1!B379=\"\",\"\",Sheet1!B379&\" \"&Sheet1!C379)","v":"Cann Charles C."}]
[{"$f":"IF(Sheet1!B380=\"\",\"\",Sheet1!B380&\" \"&Sheet1!C380)","v":"Cannon Raymond J., Jr."}]
[{"$f":"IF(Sheet1!B381=\"\",\"\",Sheet1!B381&\" \"&Sheet1!C381)","v":"Canny Eric"}]
[{"$f":"IF(Sheet1!B382=\"\",\"\",Sheet1!B382&\" \"&Sheet1!C382)","v":"Capell Evone Wood"}]
[{"$f":"IF(Sheet1!B383=\"\",\"\",Sheet1!B383&\" \"&Sheet1!C383)","v":"Capell Mathew H."}]
[{"$f":"IF(Sheet1!B384=\"\",\"\",Sheet1!B384&\" \"&Sheet1!C384)","v":"Capitano Carmen"}]
[{"$f":"IF(Sheet1!B385=\"\",\"\",Sheet1!B385&\" \"&Sheet1!C385)","v":"Capko Chris"}]
[{"$f":"IF(Sheet1!B386=\"\",\"\",Sheet1!B386&\" \"&Sheet1!C386)","v":"Cappas-Toro Pamela"}]
[{"$f":"IF(Sheet1!B387=\"\",\"\",Sheet1!B387&\" \"&Sheet1!C387)","v":"Cardon William R."}]
[{"$f":"IF(Sheet1!B388=\"\",\"\",Sheet1!B388&\" \"&Sheet1!C388)","v":"Carey Scott"}]
[{"$f":"IF(Sheet1!B389=\"\",\"\",Sheet1!B389&\" \"&Sheet1!C389)","v":"Carey William H."}]
[{"$f":"IF(Sheet1!B390=\"\",\"\",Sheet1!B390&\" \"&Sheet1!C390)","v":"Carlen James R."}]
[{"$f":"IF(Sheet1!B391=\"\",\"\",Sheet1!B391&\" \"&Sheet1!C391)","v":"Carlson Cheryl"}]
[{"$f":"IF(Sheet1!B392=\"\",\"\",Sheet1!B392&\" \"&Sheet1!C392)","v":"Carlton Frances"}]
[{"$f":"IF(Sheet1!B393=\"\",\"\",Sheet1!B393&\" \"&Sheet1!C393)","v":"Carolan Bruce"}]
[{"$f":"IF(Sheet1!B394=\"\",\"\",Sheet1!B394&\" \"&Sheet1!C394)","v":"Carpenter Jacob Amos"}]
[{"$f":"IF(Sheet1!B395=\"\",\"\",Sheet1!B395&\" \"&Sheet1!C395)","v":"Carpenter Kristen D.A."}]
[{"$f":"IF(Sheet1!B396=\"\",\"\",Sheet1!B396&\" \"&Sheet1!C396)","v":"Carpenter Mary"}]
[{"$f":"IF(Sheet1!B397=\"\",\"\",Sheet1!B397&\" \"&Sheet1!C397)","v":"Carpenter Rosalie"}]
[{"$f":"IF(Sheet1!B398=\"\",\"\",Sheet1!B398&\" \"&Sheet1!C398)","v":"Carr James William"}]
[{"$f":"IF(Sheet1!B399=\"\",\"\",Sheet1!B399&\" \"&Sheet1!C399)","v":"Carr Ruth Richardson"}]
[{"$f":"IF(Sheet1!B400=\"\",\"\",Sheet1!B400&\" \"&Sheet1!C400)","v":"Carratt Chris A."}]
[{"$f":"IF(Sheet1!B401=\"\",\"\",Sheet1!B401&\" \"&Sheet1!C401)","v":"Carrick Jon"}]
[{"$f":"IF(Sheet1!B402=\"\",\"\",Sheet1!B402&\" \"&Sheet1!C402)","v":"Carroll Gregory"}]
[{"$f":"IF(Sheet1!B403=\"\",\"\",Sheet1!B403&\" \"&Sheet1!C403)","v":"Carroll Nansi"}]
[{"$f":"IF(Sheet1!B404=\"\",\"\",Sheet1!B404&\" \"&Sheet1!C404)","v":"Carson G. Prentice"}]
[{"$f":"IF(Sheet1!B405=\"\",\"\",Sheet1!B405&\" \"&Sheet1!C405)","v":"Carson Marion Powell"}]
[{"$f":"IF(Sheet1!B406=\"\",\"\",Sheet1!B406&\" \"&Sheet1!C406)","v":"Carter Beulah Coleman"}]
[{"$f":"IF(Sheet1!B407=\"\",\"\",Sheet1!B407&\" \"&Sheet1!C407)","v":"Carter Julia S."}]
[{"$f":"IF(Sheet1!B408=\"\",\"\",Sheet1!B408&\" \"&Sheet1!C408)","v":"Carter Randolph Laurie"}]
[{"$f":"IF(Sheet1!B409=\"\",\"\",Sheet1!B409&\" \"&Sheet1!C409)","v":"Cash Tamra L."}]
[{"$f":"IF(Sheet1!B410=\"\",\"\",Sheet1!B410&\" \"&Sheet1!C410)","v":"Cassell Mary E."}]
[{"$f":"IF(Sheet1!B411=\"\",\"\",Sheet1!B411&\" \"&Sheet1!C411)","v":"Cassidy Deborah"}]
[{"$f":"IF(Sheet1!B412=\"\",\"\",Sheet1!B412&\" \"&Sheet1!C412)","v":"Castillo Toni"}]
[{"$f":"IF(Sheet1!B413=\"\",\"\",Sheet1!B413&\" \"&Sheet1!C413)","v":"Castle Frank G."}]
[{"$f":"IF(Sheet1!B414=\"\",\"\",Sheet1!B414&\" \"&Sheet1!C414)","v":"Castle R. Woodrow"}]
[{"$f":"IF(Sheet1!B415=\"\",\"\",Sheet1!B415&\" \"&Sheet1!C415)","v":"Cemelich Anthony J."}]
[{"$f":"IF(Sheet1!B416=\"\",\"\",Sheet1!B416&\" \"&Sheet1!C416)","v":"Cerniglia Christine"}]
[{"$f":"IF(Sheet1!B417=\"\",\"\",Sheet1!B417&\" \"&Sheet1!C417)","v":"Chakkaphak Lynnette"}]
[{"$f":"IF(Sheet1!B418=\"\",\"\",Sheet1!B418&\" \"&Sheet1!C418)","v":"Chamberlin William A."}]
[{"$f":"IF(Sheet1!B419=\"\",\"\",Sheet1!B419&\" \"&Sheet1!C419)","v":"Chambers Valrie"}]
[{"$f":"IF(Sheet1!B420=\"\",\"\",Sheet1!B420&\" \"&Sheet1!C420)","v":"Chase Ethel W. Bennett"}]
[{"$f":"IF(Sheet1!B421=\"\",\"\",Sheet1!B421&\" \"&Sheet1!C421)","v":"Chauvin Robert S."}]
[{"$f":"IF(Sheet1!B422=\"\",\"\",Sheet1!B422&\" \"&Sheet1!C422)","v":"Chavers Lily Ethel"}]
[{"$f":"IF(Sheet1!B423=\"\",\"\",Sheet1!B423&\" \"&Sheet1!C423)","v":"Cheatham Oveda"}]
[{"$f":"IF(Sheet1!B424=\"\",\"\",Sheet1!B424&\" \"&Sheet1!C424)","v":"Cheney Mary E."}]
[{"$f":"IF(Sheet1!B425=\"\",\"\",Sheet1!B425&\" \"&Sheet1!C425)","v":"Cheney Virginia M."}]
[{"$f":"IF(Sheet1!B426=\"\",\"\",Sheet1!B426&\" \"&Sheet1!C426)","v":"Cherry Richard L."}]
[{"$f":"IF(Sheet1!B427=\"\",\"\",Sheet1!B427&\" \"&Sheet1!C427)","v":"Child Leila M."}]
[{"$f":"IF(Sheet1!B428=\"\",\"\",Sheet1!B428&\" \"&Sheet1!C428)","v":"Chitty John H."}]
[{"$f":"IF(Sheet1!B429=\"\",\"\",Sheet1!B429&\" \"&Sheet1!C429)","v":"Chitwood Oliver Perry"}]
[{"$f":"IF(Sheet1!B430=\"\",\"\",Sheet1!B430&\" \"&Sheet1!C430)","v":"Choice Anita Gail"}]
[{"$f":"IF(Sheet1!B431=\"\",\"\",Sheet1!B431&\" \"&Sheet1!C431)","v":"Cholka Lynn Ann"}]
[{"$f":"IF(Sheet1!B432=\"\",\"\",Sheet1!B432&\" \"&Sheet1!C432)","v":"Chorpening C. H."}]
[{"$f":"IF(Sheet1!B433=\"\",\"\",Sheet1!B433&\" \"&Sheet1!C433)","v":"Christen Wallace C."}]
[{"$f":"IF(Sheet1!B434=\"\",\"\",Sheet1!B434&\" \"&Sheet1!C434)","v":"Christeson Jane"}]
[{"$f":"IF(Sheet1!B435=\"\",\"\",Sheet1!B435&\" \"&Sheet1!C435)","v":"Christie N. Bradley"}]
[{"$f":"IF(Sheet1!B436=\"\",\"\",Sheet1!B436&\" \"&Sheet1!C436)","v":"Chung Wingyan"}]
[{"$f":"IF(Sheet1!B437=\"\",\"\",Sheet1!B437&\" \"&Sheet1!C437)","v":"Clark Annette Bolton"}]
[{"$f":"IF(Sheet1!B438=\"\",\"\",Sheet1!B438&\" \"&Sheet1!C438)","v":"Clark Elizabeth D."}]
[{"$f":"IF(Sheet1!B439=\"\",\"\",Sheet1!B439&\" \"&Sheet1!C439)","v":"Clark Evelyn Dodd"}]
[{"$f":"IF(Sheet1!B440=\"\",\"\",Sheet1!B440&\" \"&Sheet1!C440)","v":"Clark Fred"}]
[{"$f":"IF(Sheet1!B441=\"\",\"\",Sheet1!B441&\" \"&Sheet1!C441)","v":"Clark Jessica"}]
[{"$f":"IF(Sheet1!B442=\"\",\"\",Sheet1!B442&\" \"&Sheet1!C442)","v":"Clark John E."}]
[{"$f":"IF(Sheet1!B443=\"\",\"\",Sheet1!B443&\" \"&Sheet1!C443)","v":"Clark Millard W."}]
[{"$f":"IF(Sheet1!B444=\"\",\"\",Sheet1!B444&\" \"&Sheet1!C444)","v":"Clark Richard Elijah"}]
[{"$f":"IF(Sheet1!B445=\"\",\"\",Sheet1!B445&\" \"&Sheet1!C445)","v":"Clark Rosemary"}]
[{"$f":"IF(Sheet1!B446=\"\",\"\",Sheet1!B446&\" \"&Sheet1!C446)","v":"Clarkson Alberta C."}]
[{"$f":"IF(Sheet1!B447=\"\",\"\",Sheet1!B447&\" \"&Sheet1!C447)","v":"Clarkson Arabi D."}]
[{"$f":"IF(Sheet1!B448=\"\",\"\",Sheet1!B448&\" \"&Sheet1!C448)","v":"Clarkson Kate D."}]
[{"$f":"IF(Sheet1!B449=\"\",\"\",Sheet1!B449&\" \"&Sheet1!C449)","v":"Clay Elizabeth"}]
[{"$f":"IF(Sheet1!B450=\"\",\"\",Sheet1!B450&\" \"&Sheet1!C450)","v":"Clayton Richard Reid"}]
[{"$f":"IF(Sheet1!B451=\"\",\"\",Sheet1!B451&\" \"&Sheet1!C451)","v":"Clemmen Yves"}]
[{"$f":"IF(Sheet1!B452=\"\",\"\",Sheet1!B452&\" \"&Sheet1!C452)","v":"Clemons Walter Nicholson"}]
[{"$f":"IF(Sheet1!B453=\"\",\"\",Sheet1!B453&\" \"&Sheet1!C453)","v":"Clifton Marzee Aiton"}]
[{"$f":"IF(Sheet1!B454=\"\",\"\",Sheet1!B454&\" \"&Sheet1!C454)","v":"Cochran C.D."}]
[{"$f":"IF(Sheet1!B455=\"\",\"\",Sheet1!B455&\" \"&Sheet1!C455)","v":"Cochran Jerome"}]
[{"$f":"IF(Sheet1!B456=\"\",\"\",Sheet1!B456&\" \"&Sheet1!C456)","v":"Coffee James M"}]
[{"$f":"IF(Sheet1!B457=\"\",\"\",Sheet1!B457&\" \"&Sheet1!C457)","v":"Coffman Jonathan"}]
[{"$f":"IF(Sheet1!B458=\"\",\"\",Sheet1!B458&\" \"&Sheet1!C458)","v":"Coggins Catherine J."}]
[{"$f":"IF(Sheet1!B459=\"\",\"\",Sheet1!B459&\" \"&Sheet1!C459)","v":"Coggins Patrick C."}]
[{"$f":"IF(Sheet1!B460=\"\",\"\",Sheet1!B460&\" \"&Sheet1!C460)","v":"Coker Denton R."}]
[{"$f":"IF(Sheet1!B461=\"\",\"\",Sheet1!B461&\" \"&Sheet1!C461)","v":"Colbrunn Ethel B."}]
[{"$f":"IF(Sheet1!B462=\"\",\"\",Sheet1!B462&\" \"&Sheet1!C462)","v":"Coldiron Jack Haddon"}]
[{"$f":"IF(Sheet1!B463=\"\",\"\",Sheet1!B463&\" \"&Sheet1!C463)","v":"Cole Frances C."}]
[{"$f":"IF(Sheet1!B464=\"\",\"\",Sheet1!B464&\" \"&Sheet1!C464)","v":"Cole Karen"}]
[{"$f":"IF(Sheet1!B465=\"\",\"\",Sheet1!B465&\" \"&Sheet1!C465)","v":"Cole Peter W."}]
[{"$f":"IF(Sheet1!B466=\"\",\"\",Sheet1!B466&\" \"&Sheet1!C466)","v":"Coleman George"}]
[{"$f":"IF(Sheet1!B467=\"\",\"\",Sheet1!B467&\" \"&Sheet1!C467)","v":"Coleman Jules L."}]
[{"$f":"IF(Sheet1!B468=\"\",\"\",Sheet1!B468&\" \"&Sheet1!C468)","v":"Coleman Narcissa"}]
[{"$f":"IF(Sheet1!B469=\"\",\"\",Sheet1!B469&\" \"&Sheet1!C469)","v":"Colley Jennifer"}]
[{"$f":"IF(Sheet1!B470=\"\",\"\",Sheet1!B470&\" \"&Sheet1!C470)","v":"Collins John Walton"}]
[{"$f":"IF(Sheet1!B471=\"\",\"\",Sheet1!B471&\" \"&Sheet1!C471)","v":"Collins Marcus Whitford"}]
[{"$f":"IF(Sheet1!B472=\"\",\"\",Sheet1!B472&\" \"&Sheet1!C472)","v":"Collins Roslyn"}]
[{"$f":"IF(Sheet1!B473=\"\",\"\",Sheet1!B473&\" \"&Sheet1!C473)","v":"Collins Stacy"}]
[{"$f":"IF(Sheet1!B474=\"\",\"\",Sheet1!B474&\" \"&Sheet1!C474)","v":"Colson Harold G."}]
[{"$f":"IF(Sheet1!B475=\"\",\"\",Sheet1!B475&\" \"&Sheet1!C475)","v":"Colton Litchfield"}]
[{"$f":"IF(Sheet1!B476=\"\",\"\",Sheet1!B476&\" \"&Sheet1!C476)","v":"Colwell C. Carter"}]
[{"$f":"IF(Sheet1!B477=\"\",\"\",Sheet1!B477&\" \"&Sheet1!C477)","v":"Colwell Christopher"}]
[{"$f":"IF(Sheet1!B478=\"\",\"\",Sheet1!B478&\" \"&Sheet1!C478)","v":"Colwell Earnest C"}]
[{"$f":"IF(Sheet1!B479=\"\",\"\",Sheet1!B479&\" \"&Sheet1!C479)","v":"Compton Rowena"}]
[{"$f":"IF(Sheet1!B480=\"\",\"\",Sheet1!B480&\" \"&Sheet1!C480)","v":"Conard Alfred F."}]
[{"$f":"IF(Sheet1!B481=\"\",\"\",Sheet1!B481&\" \"&Sheet1!C481)","v":"Conkling Lena"}]
[{"$f":"IF(Sheet1!B482=\"\",\"\",Sheet1!B482&\" \"&Sheet1!C482)","v":"Conn John Ferguson"}]
[{"$f":"IF(Sheet1!B483=\"\",\"\",Sheet1!B483&\" \"&Sheet1!C483)","v":"Cook Jeff"}]
[{"$f":"IF(Sheet1!B484=\"\",\"\",Sheet1!B484&\" \"&Sheet1!C484)","v":"Coolidge Edwin C."}]
[{"$f":"IF(Sheet1!B485=\"\",\"\",Sheet1!B485&\" \"&Sheet1!C485)","v":"Cooper Colleen"}]
[{"$f":"IF(Sheet1!B486=\"\",\"\",Sheet1!B486&\" \"&Sheet1!C486)","v":"Cooper John F."}]
[{"$f":"IF(Sheet1!B487=\"\",\"\",Sheet1!B487&\" \"&Sheet1!C487)","v":"Copeland Richard Wyatt"}]
[{"$f":"IF(Sheet1!B488=\"\",\"\",Sheet1!B488&\" \"&Sheet1!C488)","v":"Coppock Lee"}]
[{"$f":"IF(Sheet1!B489=\"\",\"\",Sheet1!B489&\" \"&Sheet1!C489)","v":"Copps John A."}]
[{"$f":"IF(Sheet1!B490=\"\",\"\",Sheet1!B490&\" \"&Sheet1!C490)","v":"Corcoran Carol A."}]
[{"$f":"IF(Sheet1!B491=\"\",\"\",Sheet1!B491&\" \"&Sheet1!C491)","v":"Core Rachel S."}]
[{"$f":"IF(Sheet1!B492=\"\",\"\",Sheet1!B492&\" \"&Sheet1!C492)","v":"Cornelius Marsha"}]
[{"$f":"IF(Sheet1!B493=\"\",\"\",Sheet1!B493&\" \"&Sheet1!C493)","v":"Cosson Mildred Almyra"}]
[{"$f":"IF(Sheet1!B494=\"\",\"\",Sheet1!B494&\" \"&Sheet1!C494)","v":"Costello Barbara"}]
[{"$f":"IF(Sheet1!B495=\"\",\"\",Sheet1!B495&\" \"&Sheet1!C495)","v":"Cotner Robert C."}]
[{"$f":"IF(Sheet1!B496=\"\",\"\",Sheet1!B496&\" \"&Sheet1!C496)","v":"Cotton Irwin W."}]
[{"$f":"IF(Sheet1!B497=\"\",\"\",Sheet1!B497&\" \"&Sheet1!C497)","v":"Couch Duncan"}]
[{"$f":"IF(Sheet1!B498=\"\",\"\",Sheet1!B498&\" \"&Sheet1!C498)","v":"Coulter Lisa"}]
[{"$f":"IF(Sheet1!B499=\"\",\"\",Sheet1!B499&\" \"&Sheet1!C499)","v":"Courson Mabel Marie"}]
[{"$f":"IF(Sheet1!B500=\"\",\"\",Sheet1!B500&\" \"&Sheet1!C500)","v":"Coutant Cheryl Ann"}]
[{"$f":"IF(Sheet1!B501=\"\",\"\",Sheet1!B501&\" \"&Sheet1!C501)","v":"Coutts Marion Louise"}]
[{"$f":"IF(Sheet1!B502=\"\",\"\",Sheet1!B502&\" \"&Sheet1!C502)","v":"Cowart Griggsby T."}]
[{"$f":"IF(Sheet1!B503=\"\",\"\",Sheet1!B503&\" \"&Sheet1!C503)","v":"Cowell Warren Cassius"}]
[{"$f":"IF(Sheet1!B504=\"\",\"\",Sheet1!B504&\" \"&Sheet1!C504)","v":"Cox David M"}]
[{"$f":"IF(Sheet1!B505=\"\",\"\",Sheet1!B505&\" \"&Sheet1!C505)","v":"Cox Nicholas"}]
[{"$f":"IF(Sheet1!B506=\"\",\"\",Sheet1!B506&\" \"&Sheet1!C506)","v":"Craig Edward Burr"}]
[{"$f":"IF(Sheet1!B507=\"\",\"\",Sheet1!B507&\" \"&Sheet1!C507)","v":"Crain Bradford L."}]
[{"$f":"IF(Sheet1!B508=\"\",\"\",Sheet1!B508&\" \"&Sheet1!C508)","v":"Cramer Frank E."}]
[{"$f":"IF(Sheet1!B509=\"\",\"\",Sheet1!B509&\" \"&Sheet1!C509)","v":"Cramer Ida Grace"}]
[{"$f":"IF(Sheet1!B510=\"\",\"\",Sheet1!B510&\" \"&Sheet1!C510)","v":"Crandall Clifford W."}]
[{"$f":"IF(Sheet1!B511=\"\",\"\",Sheet1!B511&\" \"&Sheet1!C511)","v":"Crandall Jesse Robert"}]
[{"$f":"IF(Sheet1!B512=\"\",\"\",Sheet1!B512&\" \"&Sheet1!C512)","v":"Crawford Katharine Armistead"}]
[{"$f":"IF(Sheet1!B513=\"\",\"\",Sheet1!B513&\" \"&Sheet1!C513)","v":"Creekmore Maud"}]
[{"$f":"IF(Sheet1!B514=\"\",\"\",Sheet1!B514&\" \"&Sheet1!C514)","v":"Cribbett Fay"}]
[{"$f":"IF(Sheet1!B515=\"\",\"\",Sheet1!B515&\" \"&Sheet1!C515)","v":"Crider Gregory L."}]
[{"$f":"IF(Sheet1!B516=\"\",\"\",Sheet1!B516&\" \"&Sheet1!C516)","v":"Crissey Cecil L."}]
[{"$f":"IF(Sheet1!B517=\"\",\"\",Sheet1!B517&\" \"&Sheet1!C517)","v":"Crist Charles J., Jr."}]
[{"$f":"IF(Sheet1!B518=\"\",\"\",Sheet1!B518&\" \"&Sheet1!C518)","v":"Critoph Gerald E."}]
[{"$f":"IF(Sheet1!B519=\"\",\"\",Sheet1!B519&\" \"&Sheet1!C519)","v":"Croce Ann Jerome"}]
[{"$f":"IF(Sheet1!B520=\"\",\"\",Sheet1!B520&\" \"&Sheet1!C520)","v":"Croce Paul Jerome"}]
[{"$f":"IF(Sheet1!B521=\"\",\"\",Sheet1!B521&\" \"&Sheet1!C521)","v":"Crook Matthew"}]
[{"$f":"IF(Sheet1!B522=\"\",\"\",Sheet1!B522&\" \"&Sheet1!C522)","v":"Crowder Roslyn"}]
[{"$f":"IF(Sheet1!B523=\"\",\"\",Sheet1!B523&\" \"&Sheet1!C523)","v":"Crysel Laura"}]
[{"$f":"IF(Sheet1!B524=\"\",\"\",Sheet1!B524&\" \"&Sheet1!C524)","v":"Cucuzzo Nick"}]
[{"$f":"IF(Sheet1!B525=\"\",\"\",Sheet1!B525&\" \"&Sheet1!C525)","v":"Cuddy Frances"}]
[{"$f":"IF(Sheet1!B526=\"\",\"\",Sheet1!B526&\" \"&Sheet1!C526)","v":"Cullen Frank N."}]
[{"$f":"IF(Sheet1!B527=\"\",\"\",Sheet1!B527&\" \"&Sheet1!C527)","v":"Culp F.D."}]
[{"$f":"IF(Sheet1!B528=\"\",\"\",Sheet1!B528&\" \"&Sheet1!C528)","v":"Culp Margaret McGarrah"}]
[{"$f":"IF(Sheet1!B529=\"\",\"\",Sheet1!B529&\" \"&Sheet1!C529)","v":"Culp Theodore D."}]
[{"$f":"IF(Sheet1!B530=\"\",\"\",Sheet1!B530&\" \"&Sheet1!C530)","v":"Cummings Philip"}]
[{"$f":"IF(Sheet1!B531=\"\",\"\",Sheet1!B531&\" \"&Sheet1!C531)","v":"Cunningham Ida R."}]
[{"$f":"IF(Sheet1!B532=\"\",\"\",Sheet1!B532&\" \"&Sheet1!C532)","v":"Cupps Brian"}]
[{"$f":"IF(Sheet1!B533=\"\",\"\",Sheet1!B533&\" \"&Sheet1!C533)","v":"Currie David M."}]
[{"$f":"IF(Sheet1!B534=\"\",\"\",Sheet1!B534&\" \"&Sheet1!C534)","v":"Curry Ben F."}]
[{"$f":"IF(Sheet1!B535=\"\",\"\",Sheet1!B535&\" \"&Sheet1!C535)","v":"Curtis Leonard J."}]
[{"$f":"IF(Sheet1!B536=\"\",\"\",Sheet1!B536&\" \"&Sheet1!C536)","v":"Cushman Everett E."}]
[{"$f":"IF(Sheet1!B537=\"\",\"\",Sheet1!B537&\" \"&Sheet1!C537)","v":"Cushman Muriel"}]
[{"$f":"IF(Sheet1!B538=\"\",\"\",Sheet1!B538&\" \"&Sheet1!C538)","v":"Cushman Roger L."}]
[{"$f":"IF(Sheet1!B539=\"\",\"\",Sheet1!B539&\" \"&Sheet1!C539)","v":"Dade Elizabeth Armstrong"}]
[{"$f":"IF(Sheet1!B540=\"\",\"\",Sheet1!B540&\" \"&Sheet1!C540)","v":"Daghistan H.T."}]
[{"$f":"IF(Sheet1!B541=\"\",\"\",Sheet1!B541&\" \"&Sheet1!C541)","v":"Dailey Richard Michael"}]
[{"$f":"IF(Sheet1!B542=\"\",\"\",Sheet1!B542&\" \"&Sheet1!C542)","v":"Dalton Philip D."}]
[{"$f":"IF(Sheet1!B543=\"\",\"\",Sheet1!B543&\" \"&Sheet1!C543)","v":"Daniels Shelia"}]
[{"$f":"IF(Sheet1!B544=\"\",\"\",Sheet1!B544&\" \"&Sheet1!C544)","v":"Dansberger Harold V."}]
[{"$f":"IF(Sheet1!B545=\"\",\"\",Sheet1!B545&\" \"&Sheet1!C545)","v":"Dascher Paul"}]
[{"$f":"IF(Sheet1!B546=\"\",\"\",Sheet1!B546&\" \"&Sheet1!C546)","v":"Dave Rajendraprasad"}]
[{"$f":"IF(Sheet1!B547=\"\",\"\",Sheet1!B547&\" \"&Sheet1!C547)","v":"Davensport Mary Ellen"}]
[{"$f":"IF(Sheet1!B548=\"\",\"\",Sheet1!B548&\" \"&Sheet1!C548)","v":"David Jean M."}]
[{"$f":"IF(Sheet1!B549=\"\",\"\",Sheet1!B549&\" \"&Sheet1!C549)","v":"Davies Donald M"}]
[{"$f":"IF(Sheet1!B550=\"\",\"\",Sheet1!B550&\" \"&Sheet1!C550)","v":"Davis Annie Dinsmore"}]
[{"$f":"IF(Sheet1!B551=\"\",\"\",Sheet1!B551&\" \"&Sheet1!C551)","v":"Davis Audrey K."}]
[{"$f":"IF(Sheet1!B552=\"\",\"\",Sheet1!B552&\" \"&Sheet1!C552)","v":"Davis Benson Willis"}]
[{"$f":"IF(Sheet1!B553=\"\",\"\",Sheet1!B553&\" \"&Sheet1!C553)","v":"Davis Carla J."}]
[{"$f":"IF(Sheet1!B554=\"\",\"\",Sheet1!B554&\" \"&Sheet1!C554)","v":"Davis David Earl"}]
[{"$f":"IF(Sheet1!B555=\"\",\"\",Sheet1!B555&\" \"&Sheet1!C555)","v":"Davis David P."}]
[{"$f":"IF(Sheet1!B556=\"\",\"\",Sheet1!B556&\" \"&Sheet1!C556)","v":"Davis James O."}]
[{"$f":"IF(Sheet1!B557=\"\",\"\",Sheet1!B557&\" \"&Sheet1!C557)","v":"Davis Joel"}]
[{"$f":"IF(Sheet1!B558=\"\",\"\",Sheet1!B558&\" \"&Sheet1!C558)","v":"Davis Kirsten K."}]
[{"$f":"IF(Sheet1!B559=\"\",\"\",Sheet1!B559&\" \"&Sheet1!C559)","v":"Davis Linda P."}]
[{"$f":"IF(Sheet1!B560=\"\",\"\",Sheet1!B560&\" \"&Sheet1!C560)","v":"Davis McKinney J."}]
[{"$f":"IF(Sheet1!B561=\"\",\"\",Sheet1!B561&\" \"&Sheet1!C561)","v":"Davis Robert C."}]
[{"$f":"IF(Sheet1!B562=\"\",\"\",Sheet1!B562&\" \"&Sheet1!C562)","v":"Davis Robert N."}]
[{"$f":"IF(Sheet1!B563=\"\",\"\",Sheet1!B563&\" \"&Sheet1!C563)","v":"Davis Veronica"}]
[{"$f":"IF(Sheet1!B564=\"\",\"\",Sheet1!B564&\" \"&Sheet1!C564)","v":"Davis Wilma E."}]
[{"$f":"IF(Sheet1!B565=\"\",\"\",Sheet1!B565&\" \"&Sheet1!C565)","v":"Day Chris"}]
[{"$f":"IF(Sheet1!B566=\"\",\"\",Sheet1!B566&\" \"&Sheet1!C566)","v":"Day Robert W."}]
[{"$f":"IF(Sheet1!B567=\"\",\"\",Sheet1!B567&\" \"&Sheet1!C567)","v":"Day Ona Rowell"}]
[{"$f":"IF(Sheet1!B568=\"\",\"\",Sheet1!B568&\" \"&Sheet1!C568)","v":"Dayton Orvil L., Jr."}]
[{"$f":"IF(Sheet1!B569=\"\",\"\",Sheet1!B569&\" \"&Sheet1!C569)","v":"Deatrick Christine"}]
[{"$f":"IF(Sheet1!B570=\"\",\"\",Sheet1!B570&\" \"&Sheet1!C570)","v":"Deavor Margaret"}]
[{"$f":"IF(Sheet1!B571=\"\",\"\",Sheet1!B571&\" \"&Sheet1!C571)","v":"Debose Cynthia"}]
[{"$f":"IF(Sheet1!B572=\"\",\"\",Sheet1!B572&\" \"&Sheet1!C572)","v":"Decker William H."}]
[{"$f":"IF(Sheet1!B573=\"\",\"\",Sheet1!B573&\" \"&Sheet1!C573)","v":"Deeming Sarah-Louise"}]
[{"$f":"IF(Sheet1!B574=\"\",\"\",Sheet1!B574&\" \"&Sheet1!C574)","v":"DeGraw Allen C."}]
[{"$f":"IF(Sheet1!B575=\"\",\"\",Sheet1!B575&\" \"&Sheet1!C575)","v":"DeGraw Sandra L."}]
[{"$f":"IF(Sheet1!B576=\"\",\"\",Sheet1!B576&\" \"&Sheet1!C576)","v":"Dehnart Andy"}]
[{"$f":"IF(Sheet1!B577=\"\",\"\",Sheet1!B577&\" \"&Sheet1!C577)","v":"DeHuy Edna M."}]
[{"$f":"IF(Sheet1!B578=\"\",\"\",Sheet1!B578&\" \"&Sheet1!C578)","v":"Del Pezzo Mark"}]
[{"$f":"IF(Sheet1!B579=\"\",\"\",Sheet1!B579&\" \"&Sheet1!C579)","v":"Delap James H."}]
[{"$f":"IF(Sheet1!B580=\"\",\"\",Sheet1!B580&\" \"&Sheet1!C580)","v":"DeLorenzi Leigh"}]
[{"$f":"IF(Sheet1!B581=\"\",\"\",Sheet1!B581&\" \"&Sheet1!C581)","v":"Deming Carrie M."}]
[{"$f":"IF(Sheet1!B582=\"\",\"\",Sheet1!B582&\" \"&Sheet1!C582)","v":"Demoss Michelle A."}]
[{"$f":"IF(Sheet1!B583=\"\",\"\",Sheet1!B583&\" \"&Sheet1!C583)","v":"DeMurga Michael"}]
[{"$f":"IF(Sheet1!B584=\"\",\"\",Sheet1!B584&\" \"&Sheet1!C584)","v":"Denham Raymond Oeland"}]
[{"$f":"IF(Sheet1!B585=\"\",\"\",Sheet1!B585&\" \"&Sheet1!C585)","v":"Denman Sidney B."}]
[{"$f":"IF(Sheet1!B586=\"\",\"\",Sheet1!B586&\" \"&Sheet1!C586)","v":"Denner Michael A."}]
[{"$f":"IF(Sheet1!B587=\"\",\"\",Sheet1!B587&\" \"&Sheet1!C587)","v":"Denner Nicole"}]
[{"$f":"IF(Sheet1!B588=\"\",\"\",Sheet1!B588&\" \"&Sheet1!C588)","v":"Dennis J.S."}]
[{"$f":"IF(Sheet1!B589=\"\",\"\",Sheet1!B589&\" \"&Sheet1!C589)","v":"Denny Mary Belle"}]
[{"$f":"IF(Sheet1!B590=\"\",\"\",Sheet1!B590&\" \"&Sheet1!C590)","v":"Dershimer Elizabeth Lovejoy"}]
[{"$f":"IF(Sheet1!B591=\"\",\"\",Sheet1!B591&\" \"&Sheet1!C591)","v":"Desrochers F.C."}]
[{"$f":"IF(Sheet1!B592=\"\",\"\",Sheet1!B592&\" \"&Sheet1!C592)","v":"Deutsch Norman Terry"}]
[{"$f":"IF(Sheet1!B593=\"\",\"\",Sheet1!B593&\" \"&Sheet1!C593)","v":"Develey William Wayne"}]
[{"$f":"IF(Sheet1!B594=\"\",\"\",Sheet1!B594&\" \"&Sheet1!C594)","v":"Dezoort Frank A."}]
[{"$f":"IF(Sheet1!B595=\"\",\"\",Sheet1!B595&\" \"&Sheet1!C595)","v":"Diachenko Liudmila Stepanovna"}]
[{"$f":"IF(Sheet1!B596=\"\",\"\",Sheet1!B596&\" \"&Sheet1!C596)","v":"Dickerson A. Darby"}]
[{"$f":"IF(Sheet1!B597=\"\",\"\",Sheet1!B597&\" \"&Sheet1!C597)","v":"Dickerson Julia A."}]
[{"$f":"IF(Sheet1!B598=\"\",\"\",Sheet1!B598&\" \"&Sheet1!C598)","v":"Dickey Blanche"}]
[{"$f":"IF(Sheet1!B599=\"\",\"\",Sheet1!B599&\" \"&Sheet1!C599)","v":"Dickinson Claire"}]
[{"$f":"IF(Sheet1!B600=\"\",\"\",Sheet1!B600&\" \"&Sheet1!C600)","v":"Dickinson Gordon M."}]
[{"$f":"IF(Sheet1!B601=\"\",\"\",Sheet1!B601&\" \"&Sheet1!C601)","v":"Dickinson Nina L."}]
[{"$f":"IF(Sheet1!B602=\"\",\"\",Sheet1!B602&\" \"&Sheet1!C602)","v":"Dickson David L."}]
[{"$f":"IF(Sheet1!B603=\"\",\"\",Sheet1!B603&\" \"&Sheet1!C603)","v":"Dickson William Wayne"}]
[{"$f":"IF(Sheet1!B604=\"\",\"\",Sheet1!B604&\" \"&Sheet1!C604)","v":"Dietz Dorothy"}]
[{"$f":"IF(Sheet1!B605=\"\",\"\",Sheet1!B605&\" \"&Sheet1!C605)","v":"Dillon Richard T."}]
[{"$f":"IF(Sheet1!B606=\"\",\"\",Sheet1!B606&\" \"&Sheet1!C606)","v":"Dinkins Debora E."}]
[{"$f":"IF(Sheet1!B607=\"\",\"\",Sheet1!B607&\" \"&Sheet1!C607)","v":"Dinning Lorena Eaddy"}]
[{"$f":"IF(Sheet1!B608=\"\",\"\",Sheet1!B608&\" \"&Sheet1!C608)","v":"Dix Natalie True"}]
[{"$f":"IF(Sheet1!B609=\"\",\"\",Sheet1!B609&\" \"&Sheet1!C609)","v":"Dixon Carroll N."}]
[{"$f":"IF(Sheet1!B610=\"\",\"\",Sheet1!B610&\" \"&Sheet1!C610)","v":"Dixon Nathaneal"}]
[{"$f":"IF(Sheet1!B611=\"\",\"\",Sheet1!B611&\" \"&Sheet1!C611)","v":"Doan Laura L."}]
[{"$f":"IF(Sheet1!B612=\"\",\"\",Sheet1!B612&\" \"&Sheet1!C612)","v":"Dobson Margaret G."}]
[{"$f":"IF(Sheet1!B613=\"\",\"\",Sheet1!B613&\" \"&Sheet1!C613)","v":"Dobson Wayne L."}]
[{"$f":"IF(Sheet1!B614=\"\",\"\",Sheet1!B614&\" \"&Sheet1!C614)","v":"Dodd Evelyn"}]
[{"$f":"IF(Sheet1!B615=\"\",\"\",Sheet1!B615&\" \"&Sheet1!C615)","v":"Dodd Walter F."}]
[{"$f":"IF(Sheet1!B616=\"\",\"\",Sheet1!B616&\" \"&Sheet1!C616)","v":"Dodge Paul Hunter"}]
[{"$f":"IF(Sheet1!B617=\"\",\"\",Sheet1!B617&\" \"&Sheet1!C617)","v":"Doggart Nina"}]
[{"$f":"IF(Sheet1!B618=\"\",\"\",Sheet1!B618&\" \"&Sheet1!C618)","v":"Doherty Brian"}]
[{"$f":"IF(Sheet1!B619=\"\",\"\",Sheet1!B619&\" \"&Sheet1!C619)","v":"Dohm George L."}]
[{"$f":"IF(Sheet1!B620=\"\",\"\",Sheet1!B620&\" \"&Sheet1!C620)","v":"Dolloff Albert F."}]
[{"$f":"IF(Sheet1!B621=\"\",\"\",Sheet1!B621&\" \"&Sheet1!C621)","v":"Dominguez GIL"}]
[{"$f":"IF(Sheet1!B622=\"\",\"\",Sheet1!B622&\" \"&Sheet1!C622)","v":"Donigan Helen"}]
[{"$f":"IF(Sheet1!B623=\"\",\"\",Sheet1!B623&\" \"&Sheet1!C623)","v":"Donoher Brian J."}]
[{"$f":"IF(Sheet1!B624=\"\",\"\",Sheet1!B624&\" \"&Sheet1!C624)","v":"Donovan F.H."}]
[{"$f":"IF(Sheet1!B625=\"\",\"\",Sheet1!B625&\" \"&Sheet1!C625)","v":"Dorio Roger F."}]
[{"$f":"IF(Sheet1!B626=\"\",\"\",Sheet1!B626&\" \"&Sheet1!C626)","v":"Dorsey Leigh Ann"}]
[{"$f":"IF(Sheet1!B627=\"\",\"\",Sheet1!B627&\" \"&Sheet1!C627)","v":"Doty Julia"}]
[{"$f":"IF(Sheet1!B628=\"\",\"\",Sheet1!B628&\" \"&Sheet1!C628)","v":"Dougherty Zilla K."}]
[{"$f":"IF(Sheet1!B629=\"\",\"\",Sheet1!B629&\" \"&Sheet1!C629)","v":"Dowda Butler"}]
[{"$f":"IF(Sheet1!B630=\"\",\"\",Sheet1!B630&\" \"&Sheet1!C630)","v":"Dowda Thomas Butler"}]
[{"$f":"IF(Sheet1!B631=\"\",\"\",Sheet1!B631&\" \"&Sheet1!C631)","v":"Downing Joyce W."}]
[{"$f":"IF(Sheet1!B632=\"\",\"\",Sheet1!B632&\" \"&Sheet1!C632)","v":"Drabyn Steve"}]
[{"$f":"IF(Sheet1!B633=\"\",\"\",Sheet1!B633&\" \"&Sheet1!C633)","v":"Drake James Harry"}]
[{"$f":"IF(Sheet1!B634=\"\",\"\",Sheet1!B634&\" \"&Sheet1!C634)","v":"Drew Edwin Harris"}]
[{"$f":"IF(Sheet1!B635=\"\",\"\",Sheet1!B635&\" \"&Sheet1!C635)","v":"Dryden Stephanie"}]
[{"$f":"IF(Sheet1!B636=\"\",\"\",Sheet1!B636&\" \"&Sheet1!C636)","v":"Dubendorff Bruce H."}]
[{"$f":"IF(Sheet1!B637=\"\",\"\",Sheet1!B637&\" \"&Sheet1!C637)","v":"DuBose Kathleen Allen"}]
[{"$f":"IF(Sheet1!B638=\"\",\"\",Sheet1!B638&\" \"&Sheet1!C638)","v":"Duckwitz William Edward"}]
[{"$f":"IF(Sheet1!B639=\"\",\"\",Sheet1!B639&\" \"&Sheet1!C639)","v":"Duizend Johnny"}]
[{"$f":"IF(Sheet1!B640=\"\",\"\",Sheet1!B640&\" \"&Sheet1!C640)","v":"Duke William"}]
[{"$f":"IF(Sheet1!B641=\"\",\"\",Sheet1!B641&\" \"&Sheet1!C641)","v":"Duncan Margaret Flexer"}]
[{"$f":"IF(Sheet1!B642=\"\",\"\",Sheet1!B642&\" \"&Sheet1!C642)","v":"Duncan Pope Alexander"}]
[{"$f":"IF(Sheet1!B643=\"\",\"\",Sheet1!B643&\" \"&Sheet1!C643)","v":"Dunham Tishia"}]
[{"$f":"IF(Sheet1!B644=\"\",\"\",Sheet1!B644&\" \"&Sheet1!C644)","v":"Dunn Malory"}]
[{"$f":"IF(Sheet1!B645=\"\",\"\",Sheet1!B645&\" \"&Sheet1!C645)","v":"Dunn Margaret M."}]
[{"$f":"IF(Sheet1!B646=\"\",\"\",Sheet1!B646&\" \"&Sheet1!C646)","v":"Dunn Pete"}]
[{"$f":"IF(Sheet1!B647=\"\",\"\",Sheet1!B647&\" \"&Sheet1!C647)","v":"Dunning Marion"}]
[{"$f":"IF(Sheet1!B648=\"\",\"\",Sheet1!B648&\" \"&Sheet1!C648)","v":"Durako Jo Anne"}]
[{"$f":"IF(Sheet1!B649=\"\",\"\",Sheet1!B649&\" \"&Sheet1!C649)","v":"Duren John Raiford"}]
[{"$f":"IF(Sheet1!B650=\"\",\"\",Sheet1!B650&\" \"&Sheet1!C650)","v":"Durmaz Nazif"}]
[{"$f":"IF(Sheet1!B651=\"\",\"\",Sheet1!B651&\" \"&Sheet1!C651)","v":"Durow Peter"}]
[{"$f":"IF(Sheet1!B652=\"\",\"\",Sheet1!B652&\" \"&Sheet1!C652)","v":"Durrence James Larry"}]
[{"$f":"IF(Sheet1!B653=\"\",\"\",Sheet1!B653&\" \"&Sheet1!C653)","v":"Duruz Paul B."}]
[{"$f":"IF(Sheet1!B654=\"\",\"\",Sheet1!B654&\" \"&Sheet1!C654)","v":"Dyer Dorothy"}]
[{"$f":"IF(Sheet1!B655=\"\",\"\",Sheet1!B655&\" \"&Sheet1!C655)","v":"Dykes Mitzi"}]
[{"$f":"IF(Sheet1!B656=\"\",\"\",Sheet1!B656&\" \"&Sheet1!C656)","v":"Dysart David L."}]
[{"$f":"IF(Sheet1!B657=\"\",\"\",Sheet1!B657&\" \"&Sheet1!C657)","v":"Eastburn Iola Kay"}]
[{"$f":"IF(Sheet1!B658=\"\",\"\",Sheet1!B658&\" \"&Sheet1!C658)","v":"Ebendorf Robert W."}]
[{"$f":"IF(Sheet1!B659=\"\",\"\",Sheet1!B659&\" \"&Sheet1!C659)","v":"Eckstein Rebecca R."}]
[{"$f":"IF(Sheet1!B660=\"\",\"\",Sheet1!B660&\" \"&Sheet1!C660)","v":"Edgar Shannon"}]
[{"$f":"IF(Sheet1!B662=\"\",\"\",Sheet1!B662&\" \"&Sheet1!C662)","v":"Edmunds J. Ollie"}]
[{"$f":"IF(Sheet1!B663=\"\",\"\",Sheet1!B663&\" \"&Sheet1!C663)","v":"Edmunds P.D."}]
[{"$f":"IF(Sheet1!B664=\"\",\"\",Sheet1!B664&\" \"&Sheet1!C664)","v":"Edwards George E."}]
[{"$f":"IF(Sheet1!B665=\"\",\"\",Sheet1!B665&\" \"&Sheet1!C665)","v":"Edwards Murray P."}]
[{"$f":"IF(Sheet1!B666=\"\",\"\",Sheet1!B666&\" \"&Sheet1!C666)","v":"Edwards Robert Jaqui"}]
[{"$f":"IF(Sheet1!B667=\"\",\"\",Sheet1!B667&\" \"&Sheet1!C667)","v":"Ehlhardt George B."}]
[{"$f":"IF(Sheet1!B668=\"\",\"\",Sheet1!B668&\" \"&Sheet1!C668)","v":"Eire Ana"}]
[{"$f":"IF(Sheet1!B669=\"\",\"\",Sheet1!B669&\" \"&Sheet1!C669)","v":"El Aaarag Hala"}]
[{"$f":"IF(Sheet1!B670=\"\",\"\",Sheet1!B670&\" \"&Sheet1!C670)","v":"Eldredge Lillian"}]
[{"$f":"IF(Sheet1!B671=\"\",\"\",Sheet1!B671&\" \"&Sheet1!C671)","v":"Eldredge Mabel"}]
[{"$f":"IF(Sheet1!B672=\"\",\"\",Sheet1!B672&\" \"&Sheet1!C672)","v":"Eldridge John"}]
[{"$f":"IF(Sheet1!B673=\"\",\"\",Sheet1!B673&\" \"&Sheet1!C673)","v":"Eleazer William R."}]
[{"$f":"IF(Sheet1!B674=\"\",\"\",Sheet1!B674&\" \"&Sheet1!C674)","v":"Elkins Chauncey S."}]
[{"$f":"IF(Sheet1!B675=\"\",\"\",Sheet1!B675&\" \"&Sheet1!C675)","v":"Elliot William D."}]
[{"$f":"IF(Sheet1!B676=\"\",\"\",Sheet1!B676&\" \"&Sheet1!C676)","v":"Ellis David B."}]
[{"$f":"IF(Sheet1!B677=\"\",\"\",Sheet1!B677&\" \"&Sheet1!C677)","v":"Ellis Loren E."}]
[{"$f":"IF(Sheet1!B678=\"\",\"\",Sheet1!B678&\" \"&Sheet1!C678)","v":"Ellis Stephen M."}]
[{"$f":"IF(Sheet1!B679=\"\",\"\",Sheet1!B679&\" \"&Sheet1!C679)","v":"Elson Charles M."}]
[{"$f":"IF(Sheet1!B680=\"\",\"\",Sheet1!B680&\" \"&Sheet1!C680)","v":"Embry Chelsea"}]
[{"$f":"IF(Sheet1!B681=\"\",\"\",Sheet1!B681&\" \"&Sheet1!C681)","v":"Emerson Chad"}]
[{"$f":"IF(Sheet1!B682=\"\",\"\",Sheet1!B682&\" \"&Sheet1!C682)","v":"Emery May D."}]
[{"$f":"IF(Sheet1!B683=\"\",\"\",Sheet1!B683&\" \"&Sheet1!C683)","v":"English John B."}]
[{"$f":"IF(Sheet1!B684=\"\",\"\",Sheet1!B684&\" \"&Sheet1!C684)","v":"English Mary E."}]
[{"$f":"IF(Sheet1!B685=\"\",\"\",Sheet1!B685&\" \"&Sheet1!C685)","v":"Eno Sara Wooster"}]
[{"$f":"IF(Sheet1!B686=\"\",\"\",Sheet1!B686&\" \"&Sheet1!C686)","v":"Epley Buell Glen, Jr."}]
[{"$f":"IF(Sheet1!B687=\"\",\"\",Sheet1!B687&\" \"&Sheet1!C687)","v":"Erhart Viola"}]
[{"$f":"IF(Sheet1!B688=\"\",\"\",Sheet1!B688&\" \"&Sheet1!C688)","v":"Ericson Richard F."}]
[{"$f":"IF(Sheet1!B689=\"\",\"\",Sheet1!B689&\" \"&Sheet1!C689)","v":"Ernest Mark"}]
[{"$f":"IF(Sheet1!B690=\"\",\"\",Sheet1!B690&\" \"&Sheet1!C690)","v":"Eschrig Peter A."}]
[{"$f":"IF(Sheet1!B691=\"\",\"\",Sheet1!B691&\" \"&Sheet1!C691)","v":"Estanol Manuel Vera"}]
[{"$f":"IF(Sheet1!B692=\"\",\"\",Sheet1!B692&\" \"&Sheet1!C692)","v":"Eules Susanne"}]
[{"$f":"IF(Sheet1!B693=\"\",\"\",Sheet1!B693&\" \"&Sheet1!C693)","v":"Evans Alvin E."}]
[{"$f":"IF(Sheet1!B694=\"\",\"\",Sheet1!B694&\" \"&Sheet1!C694)","v":"Evans Dwight"}]
[{"$f":"IF(Sheet1!B695=\"\",\"\",Sheet1!B695&\" \"&Sheet1!C695)","v":"Evans John L."}]
[{"$f":"IF(Sheet1!B696=\"\",\"\",Sheet1!B696&\" \"&Sheet1!C696)","v":"Evans Kenneth R."}]
[{"$f":"IF(Sheet1!B697=\"\",\"\",Sheet1!B697&\" \"&Sheet1!C697)","v":"Evanson Randall M."}]
[{"$f":"IF(Sheet1!B698=\"\",\"\",Sheet1!B698&\" \"&Sheet1!C698)","v":"Everett David"}]
[{"$f":"IF(Sheet1!B699=\"\",\"\",Sheet1!B699&\" \"&Sheet1!C699)","v":"Everett Diane D."}]
[{"$f":"IF(Sheet1!B700=\"\",\"\",Sheet1!B700&\" \"&Sheet1!C700)","v":"Everett Kenneth G."}]
[{"$f":"IF(Sheet1!B701=\"\",\"\",Sheet1!B701&\" \"&Sheet1!C701)","v":"Everhart Stephen M."}]
[{"$f":"IF(Sheet1!B702=\"\",\"\",Sheet1!B702&\" \"&Sheet1!C702)","v":"Ewing Gerald"}]
[{"$f":"IF(Sheet1!B703=\"\",\"\",Sheet1!B703&\" \"&Sheet1!C703)","v":"Eyles Francis L."}]
[{"$f":"IF(Sheet1!B704=\"\",\"\",Sheet1!B704&\" \"&Sheet1!C704)","v":"Ezell Boyce Fowler"}]
[{"$f":"IF(Sheet1!B705=\"\",\"\",Sheet1!B705&\" \"&Sheet1!C705)","v":"Ezell Cloyd L., Jr."}]
[{"$f":"IF(Sheet1!B706=\"\",\"\",Sheet1!B706&\" \"&Sheet1!C706)","v":"Falco James F."}]
[{"$f":"IF(Sheet1!B707=\"\",\"\",Sheet1!B707&\" \"&Sheet1!C707)","v":"Faliwell Marion A"}]
[{"$f":"IF(Sheet1!B708=\"\",\"\",Sheet1!B708&\" \"&Sheet1!C708)","v":"Falter Benjamin R."}]
[{"$f":"IF(Sheet1!B709=\"\",\"\",Sheet1!B709&\" \"&Sheet1!C709)","v":"Fant Clyde E."}]
[{"$f":"IF(Sheet1!B710=\"\",\"\",Sheet1!B710&\" \"&Sheet1!C710)","v":"Faris E. McGruder"}]
[{"$f":"IF(Sheet1!B711=\"\",\"\",Sheet1!B711&\" \"&Sheet1!C711)","v":"Farley Michael A."}]
[{"$f":"IF(Sheet1!B712=\"\",\"\",Sheet1!B712&\" \"&Sheet1!C712)","v":"Farmer Haold D."}]
[{"$f":"IF(Sheet1!B713=\"\",\"\",Sheet1!B713&\" \"&Sheet1!C713)","v":"Farmer Wesley E."}]
[{"$f":"IF(Sheet1!B714=\"\",\"\",Sheet1!B714&\" \"&Sheet1!C714)","v":"Farnsworth E. Allan"}]
[{"$f":"IF(Sheet1!B715=\"\",\"\",Sheet1!B715&\" \"&Sheet1!C715)","v":"Farr Theodore H."}]
[{"$f":"IF(Sheet1!B716=\"\",\"\",Sheet1!B716&\" \"&Sheet1!C716)","v":"Farrah Albert J."}]
[{"$f":"IF(Sheet1!B717=\"\",\"\",Sheet1!B717&\" \"&Sheet1!C717)","v":"Farrell Terence M."}]
[{"$f":"IF(Sheet1!B718=\"\",\"\",Sheet1!B718&\" \"&Sheet1!C718)","v":"Farrell Thomas J."}]
[{"$f":"IF(Sheet1!B719=\"\",\"\",Sheet1!B719&\" \"&Sheet1!C719)","v":"Farriss Alma J."}]
[{"$f":"IF(Sheet1!B720=\"\",\"\",Sheet1!B720&\" \"&Sheet1!C720)","v":"Farriss Alma Richardson"}]
[{"$f":"IF(Sheet1!B721=\"\",\"\",Sheet1!B721&\" \"&Sheet1!C721)","v":"Farriss Charles Sherwood"}]
[{"$f":"IF(Sheet1!B722=\"\",\"\",Sheet1!B722&\" \"&Sheet1!C722)","v":"Farriss Charles Sherwood"}]
[{"$f":"IF(Sheet1!B723=\"\",\"\",Sheet1!B723&\" \"&Sheet1!C723)","v":"Fasanella Edwin L."}]
[{"$f":"IF(Sheet1!B724=\"\",\"\",Sheet1!B724&\" \"&Sheet1!C724)","v":"Faulkner Donald"}]
[{"$f":"IF(Sheet1!B725=\"\",\"\",Sheet1!B725&\" \"&Sheet1!C725)","v":"Faulkner Miriam Munn"}]
[{"$f":"IF(Sheet1!B726=\"\",\"\",Sheet1!B726&\" \"&Sheet1!C726)","v":"Faulkner Norman A."}]
[{"$f":"IF(Sheet1!B727=\"\",\"\",Sheet1!B727&\" \"&Sheet1!C727)","v":"Favis Roberta S."}]
[{"$f":"IF(Sheet1!B728=\"\",\"\",Sheet1!B728&\" \"&Sheet1!C728)","v":"Fay Jack F."}]
[{"$f":"IF(Sheet1!B729=\"\",\"\",Sheet1!B729&\" \"&Sheet1!C729)","v":"Feasel Arlene"}]
[{"$f":"IF(Sheet1!B730=\"\",\"\",Sheet1!B730&\" \"&Sheet1!C730)","v":"Feasel Richard McDowell"}]
[{"$f":"IF(Sheet1!B731=\"\",\"\",Sheet1!B731&\" \"&Sheet1!C731)","v":"Fee Fred"}]
[{"$f":"IF(Sheet1!B732=\"\",\"\",Sheet1!B732&\" \"&Sheet1!C732)","v":"Feeley Kelly M."}]
[{"$f":"IF(Sheet1!B733=\"\",\"\",Sheet1!B733&\" \"&Sheet1!C733)","v":"Felton Almer M."}]
[{"$f":"IF(Sheet1!B734=\"\",\"\",Sheet1!B734&\" \"&Sheet1!C734)","v":"Ferguson Christopher"}]
[{"$f":"IF(Sheet1!B735=\"\",\"\",Sheet1!B735&\" \"&Sheet1!C735)","v":"Ferguson Frank A."}]
[{"$f":"IF(Sheet1!B736=\"\",\"\",Sheet1!B736&\" \"&Sheet1!C736)","v":"Ferland Richard A."}]
[{"$f":"IF(Sheet1!B737=\"\",\"\",Sheet1!B737&\" \"&Sheet1!C737)","v":"Fernandez Giovanni"}]
[{"$f":"IF(Sheet1!B738=\"\",\"\",Sheet1!B738&\" \"&Sheet1!C738)","v":"Ferrara William L."}]
[{"$f":"IF(Sheet1!B739=\"\",\"\",Sheet1!B739&\" \"&Sheet1!C739)","v":"Fetzer Amy Steen"}]
[{"$f":"IF(Sheet1!B740=\"\",\"\",Sheet1!B740&\" \"&Sheet1!C740)","v":"Fields David E."}]
[{"$f":"IF(Sheet1!B741=\"\",\"\",Sheet1!B741&\" \"&Sheet1!C741)","v":"Finch Michael Steven"}]
[{"$f":"IF(Sheet1!B742=\"\",\"\",Sheet1!B742&\" \"&Sheet1!C742)","v":"Findley William J."}]
[{"$f":"IF(Sheet1!B743=\"\",\"\",Sheet1!B743&\" \"&Sheet1!C743)","v":"Fink Howard P."}]
[{"$f":"IF(Sheet1!B744=\"\",\"\",Sheet1!B744&\" \"&Sheet1!C744)","v":"Finks Jean"}]
[{"$f":"IF(Sheet1!B745=\"\",\"\",Sheet1!B745&\" \"&Sheet1!C745)","v":"Finney Jean"}]
[{"$f":"IF(Sheet1!B746=\"\",\"\",Sheet1!B746&\" \"&Sheet1!C746)","v":"Fish Lucile Lynne"}]
[{"$f":"IF(Sheet1!B747=\"\",\"\",Sheet1!B747&\" \"&Sheet1!C747)","v":"Fisher Charles Adam"}]
[{"$f":"IF(Sheet1!B748=\"\",\"\",Sheet1!B748&\" \"&Sheet1!C748)","v":"Fisher Ethel M."}]
[{"$f":"IF(Sheet1!B749=\"\",\"\",Sheet1!B749&\" \"&Sheet1!C749)","v":"Fisher Henry A"}]
[{"$f":"IF(Sheet1!B750=\"\",\"\",Sheet1!B750&\" \"&Sheet1!C750)","v":"Fisher Mary Elizabeth"}]
[{"$f":"IF(Sheet1!B751=\"\",\"\",Sheet1!B751&\" \"&Sheet1!C751)","v":"Fisher Sydney N."}]
[{"$f":"IF(Sheet1!B752=\"\",\"\",Sheet1!B752&\" \"&Sheet1!C752)","v":"Fiske Thelma Preston"}]
[{"$f":"IF(Sheet1!B753=\"\",\"\",Sheet1!B753&\" \"&Sheet1!C753)","v":"Fitch Catherine K."}]
[{"$f":"IF(Sheet1!B754=\"\",\"\",Sheet1!B754&\" \"&Sheet1!C754)","v":"Fitzgerald Peter L."}]
[{"$f":"IF(Sheet1!B755=\"\",\"\",Sheet1!B755&\" \"&Sheet1!C755)","v":"Fleck Logan"}]
[{"$f":"IF(Sheet1!B756=\"\",\"\",Sheet1!B756&\" \"&Sheet1!C756)","v":"Fleming Garry A."}]
[{"$f":"IF(Sheet1!B757=\"\",\"\",Sheet1!B757&\" \"&Sheet1!C757)","v":"Fleschute Farimah"}]
[{"$f":"IF(Sheet1!B758=\"\",\"\",Sheet1!B758&\" \"&Sheet1!C758)","v":"Fleshman Arthur Cary"}]
[{"$f":"IF(Sheet1!B759=\"\",\"\",Sheet1!B759&\" \"&Sheet1!C759)","v":"Flint-Hamilton Kimberly B."}]
[{"$f":"IF(Sheet1!B760=\"\",\"\",Sheet1!B760&\" \"&Sheet1!C760)","v":"Flowers Roberta Kemp"}]
[{"$f":"IF(Sheet1!B761=\"\",\"\",Sheet1!B761&\" \"&Sheet1!C761)","v":"Flowers Rosalie"}]
[{"$f":"IF(Sheet1!B762=\"\",\"\",Sheet1!B762&\" \"&Sheet1!C762)","v":"Fluhart Bertha Weeks"}]
[{"$f":"IF(Sheet1!B763=\"\",\"\",Sheet1!B763&\" \"&Sheet1!C763)","v":"Fluhart Harry Davis"}]
[{"$f":"IF(Sheet1!B764=\"\",\"\",Sheet1!B764&\" \"&Sheet1!C764)","v":"Flynn Kathleen"}]
[{"$f":"IF(Sheet1!B765=\"\",\"\",Sheet1!B765&\" \"&Sheet1!C765)","v":"Foo Jennifer Ping-Ngoh"}]
[{"$f":"IF(Sheet1!B766=\"\",\"\",Sheet1!B766&\" \"&Sheet1!C766)","v":"Forbes John F."}]
[{"$f":"IF(Sheet1!B767=\"\",\"\",Sheet1!B767&\" \"&Sheet1!C767)","v":"Forbes Leighton Horace"}]
[{"$f":"IF(Sheet1!B768=\"\",\"\",Sheet1!B768&\" \"&Sheet1!C768)","v":"Ford Creola Olive"}]
[{"$f":"IF(Sheet1!B769=\"\",\"\",Sheet1!B769&\" \"&Sheet1!C769)","v":"Ford E. Gertrude"}]
[{"$f":"IF(Sheet1!B770=\"\",\"\",Sheet1!B770&\" \"&Sheet1!C770)","v":"Ford Sharon K."}]
[{"$f":"IF(Sheet1!B771=\"\",\"\",Sheet1!B771&\" \"&Sheet1!C771)","v":"Fort Robert E., Jr."}]
[{"$f":"IF(Sheet1!B772=\"\",\"\",Sheet1!B772&\" \"&Sheet1!C772)","v":"Forte Monique"}]
[{"$f":"IF(Sheet1!B773=\"\",\"\",Sheet1!B773&\" \"&Sheet1!C773)","v":"Foster Florence G."}]
[{"$f":"IF(Sheet1!B774=\"\",\"\",Sheet1!B774&\" \"&Sheet1!C774)","v":"Foster George B."}]
[{"$f":"IF(Sheet1!B775=\"\",\"\",Sheet1!B775&\" \"&Sheet1!C775)","v":"Foster Gertrude Helen"}]
[{"$f":"IF(Sheet1!B776=\"\",\"\",Sheet1!B776&\" \"&Sheet1!C776)","v":"Foster Pauline L."}]
[{"$f":"IF(Sheet1!B777=\"\",\"\",Sheet1!B777&\" \"&Sheet1!C777)","v":"Foster Samuel C."}]
[{"$f":"IF(Sheet1!B778=\"\",\"\",Sheet1!B778&\" \"&Sheet1!C778)","v":"Foute Frances"}]
[{"$f":"IF(Sheet1!B779=\"\",\"\",Sheet1!B779&\" \"&Sheet1!C779)","v":"Fowler Mayhill"}]
[{"$f":"IF(Sheet1!B780=\"\",\"\",Sheet1!B780&\" \"&Sheet1!C780)","v":"Fox Alfred G."}]
[{"$f":"IF(Sheet1!B781=\"\",\"\",Sheet1!B781&\" \"&Sheet1!C781)","v":"Fox Henry J."}]
[{"$f":"IF(Sheet1!B782=\"\",\"\",Sheet1!B782&\" \"&Sheet1!C782)","v":"Fox James W., Jr."}]
[{"$f":"IF(Sheet1!B783=\"\",\"\",Sheet1!B783&\" \"&Sheet1!C783)","v":"Fox Peggy"}]
[{"$f":"IF(Sheet1!B784=\"\",\"\",Sheet1!B784&\" \"&Sheet1!C784)","v":"Fox Robert G."}]
[{"$f":"IF(Sheet1!B785=\"\",\"\",Sheet1!B785&\" \"&Sheet1!C785)","v":"Franco Krista Marie"}]
[{"$f":"IF(Sheet1!B786=\"\",\"\",Sheet1!B786&\" \"&Sheet1!C786)","v":"Franey Vivian"}]
[{"$f":"IF(Sheet1!B787=\"\",\"\",Sheet1!B787&\" \"&Sheet1!C787)","v":"Franklin Ingeborg"}]
[{"$f":"IF(Sheet1!B788=\"\",\"\",Sheet1!B788&\" \"&Sheet1!C788)","v":"Franklin Myrtle Ione"}]
[{"$f":"IF(Sheet1!B789=\"\",\"\",Sheet1!B789&\" \"&Sheet1!C789)","v":"Franks Russell"}]
[{"$f":"IF(Sheet1!B790=\"\",\"\",Sheet1!B790&\" \"&Sheet1!C790)","v":"Fraser Violet L."}]
[{"$f":"IF(Sheet1!B791=\"\",\"\",Sheet1!B791&\" \"&Sheet1!C791)","v":"Frauchiger Fritz"}]
[{"$f":"IF(Sheet1!B792=\"\",\"\",Sheet1!B792&\" \"&Sheet1!C792)","v":"Freedman Jonathan"}]
[{"$f":"IF(Sheet1!B793=\"\",\"\",Sheet1!B793&\" \"&Sheet1!C793)","v":"Freeman G. Willard"}]
[{"$f":"IF(Sheet1!B794=\"\",\"\",Sheet1!B794&\" \"&Sheet1!C794)","v":"Freeman George Chester"}]
[{"$f":"IF(Sheet1!B795=\"\",\"\",Sheet1!B795&\" \"&Sheet1!C795)","v":"Freeman Janette"}]
[{"$f":"IF(Sheet1!B796=\"\",\"\",Sheet1!B796&\" \"&Sheet1!C796)","v":"Freeman Marsha B."}]
[{"$f":"IF(Sheet1!B797=\"\",\"\",Sheet1!B797&\" \"&Sheet1!C797)","v":"Freeman R. Lee"}]
[{"$f":"IF(Sheet1!B798=\"\",\"\",Sheet1!B798&\" \"&Sheet1!C798)","v":"French Warren G."}]
[{"$f":"IF(Sheet1!B799=\"\",\"\",Sheet1!B799&\" \"&Sheet1!C799)","v":"Freund Elsie Bates"}]
[{"$f":"IF(Sheet1!B800=\"\",\"\",Sheet1!B800&\" \"&Sheet1!C800)","v":"Freund Louis"}]
[{"$f":"IF(Sheet1!B801=\"\",\"\",Sheet1!B801&\" \"&Sheet1!C801)","v":"Frey Martin A."}]
[{"$f":"IF(Sheet1!B802=\"\",\"\",Sheet1!B802&\" \"&Sheet1!C802)","v":"Frick Inga McCaslin"}]
[{"$f":"IF(Sheet1!B803=\"\",\"\",Sheet1!B803&\" \"&Sheet1!C803)","v":"Friedman Erich"}]
[{"$f":"IF(Sheet1!B804=\"\",\"\",Sheet1!B804&\" \"&Sheet1!C804)","v":"Frost Wililam Watkins"}]
[{"$f":"IF(Sheet1!B805=\"\",\"\",Sheet1!B805&\" \"&Sheet1!C805)","v":"Fry Patricia Brumfield"}]
[{"$f":"IF(Sheet1!B806=\"\",\"\",Sheet1!B806&\" \"&Sheet1!C806)","v":"Fry W.W."}]
[{"$f":"IF(Sheet1!B807=\"\",\"\",Sheet1!B807&\" \"&Sheet1!C807)","v":"Fukumitsu Keith K."}]
[{"$f":"IF(Sheet1!B808=\"\",\"\",Sheet1!B808&\" \"&Sheet1!C808)","v":"Fulghum Walter B."}]
[{"$f":"IF(Sheet1!B809=\"\",\"\",Sheet1!B809&\" \"&Sheet1!C809)","v":"Fuller Amy L."}]
[{"$f":"IF(Sheet1!B810=\"\",\"\",Sheet1!B810&\" \"&Sheet1!C810)","v":"Fuller Dorothy Langford"}]
[{"$f":"IF(Sheet1!B811=\"\",\"\",Sheet1!B811&\" \"&Sheet1!C811)","v":"Fuller Forbes E."}]
[{"$f":"IF(Sheet1!B812=\"\",\"\",Sheet1!B812&\" \"&Sheet1!C812)","v":"Fuller Harriet"}]
[{"$f":"IF(Sheet1!B813=\"\",\"\",Sheet1!B813&\" \"&Sheet1!C813)","v":"Fuller Paul H."}]
[{"$f":"IF(Sheet1!B814=\"\",\"\",Sheet1!B814&\" \"&Sheet1!C814)","v":"Fuqua Catherine"}]
[{"$f":"IF(Sheet1!B815=\"\",\"\",Sheet1!B815&\" \"&Sheet1!C815)","v":"Furgason Frank A."}]
[{"$f":"IF(Sheet1!B816=\"\",\"\",Sheet1!B816&\" \"&Sheet1!C816)","v":"Furlong William"}]
[{"$f":"IF(Sheet1!B817=\"\",\"\",Sheet1!B817&\" \"&Sheet1!C817)","v":"Furlong Edward Colson, Jr."}]
[{"$f":"IF(Sheet1!B818=\"\",\"\",Sheet1!B818&\" \"&Sheet1!C818)","v":"Furlow Clark W."}]
[{"$f":"IF(Sheet1!B819=\"\",\"\",Sheet1!B819&\" \"&Sheet1!C819)","v":"Furnas Michael"}]
[{"$f":"IF(Sheet1!B820=\"\",\"\",Sheet1!B820&\" \"&Sheet1!C820)","v":"Futch James Edwin"}]
[{"$f":"IF(Sheet1!B821=\"\",\"\",Sheet1!B821&\" \"&Sheet1!C821)","v":"Futch Jennis W."}]
[{"$f":"IF(Sheet1!B822=\"\",\"\",Sheet1!B822&\" \"&Sheet1!C822)","v":"Gadd Debra"}]
[{"$f":"IF(Sheet1!B823=\"\",\"\",Sheet1!B823&\" \"&Sheet1!C823)","v":"Gaines George H."}]
[{"$f":"IF(Sheet1!B824=\"\",\"\",Sheet1!B824&\" \"&Sheet1!C824)","v":"Galbraith Anne L."}]
[{"$f":"IF(Sheet1!B825=\"\",\"\",Sheet1!B825&\" \"&Sheet1!C825)","v":"Galloway Martha"}]
[{"$f":"IF(Sheet1!B826=\"\",\"\",Sheet1!B826&\" \"&Sheet1!C826)","v":"Galpin Florence Matie"}]
[{"$f":"IF(Sheet1!B827=\"\",\"\",Sheet1!B827&\" \"&Sheet1!C827)","v":"Gamber Arthur Fordyce"}]
[{"$f":"IF(Sheet1!B828=\"\",\"\",Sheet1!B828&\" \"&Sheet1!C828)","v":"Ganiere George E."}]
[{"$f":"IF(Sheet1!B829=\"\",\"\",Sheet1!B829&\" \"&Sheet1!C829)","v":"Garber Harry D., Jr."}]
[{"$f":"IF(Sheet1!B830=\"\",\"\",Sheet1!B830&\" \"&Sheet1!C830)","v":"Gardner John Gladson"}]
[{"$f":"IF(Sheet1!B831=\"\",\"\",Sheet1!B831&\" \"&Sheet1!C831)","v":"Gardner Royal C."}]
[{"$f":"IF(Sheet1!B832=\"\",\"\",Sheet1!B832&\" \"&Sheet1!C832)","v":"Garrett Norma Jean"}]
[{"$f":"IF(Sheet1!B833=\"\",\"\",Sheet1!B833&\" \"&Sheet1!C833)","v":"Garriques Michael"}]
[{"$f":"IF(Sheet1!B834=\"\",\"\",Sheet1!B834&\" \"&Sheet1!C834)","v":"Garrison Elizabeth"}]
[{"$f":"IF(Sheet1!B835=\"\",\"\",Sheet1!B835&\" \"&Sheet1!C835)","v":"Garwood Harry Crawford"}]
[{"$f":"IF(Sheet1!B836=\"\",\"\",Sheet1!B836&\" \"&Sheet1!C836)","v":"Gaston Patricia S."}]
[{"$f":"IF(Sheet1!B837=\"\",\"\",Sheet1!B837&\" \"&Sheet1!C837)","v":"Gates Helen Fay"}]
[{"$f":"IF(Sheet1!B838=\"\",\"\",Sheet1!B838&\" \"&Sheet1!C838)","v":"Gatewood Claudia C."}]
[{"$f":"IF(Sheet1!B839=\"\",\"\",Sheet1!B839&\" \"&Sheet1!C839)","v":"Gaughran Richard"}]
[{"$f":"IF(Sheet1!B840=\"\",\"\",Sheet1!B840&\" \"&Sheet1!C840)","v":"Gaut Rosa Lee"}]
[{"$f":"IF(Sheet1!B841=\"\",\"\",Sheet1!B841&\" \"&Sheet1!C841)","v":"Gavin Mary"}]
[{"$f":"IF(Sheet1!B842=\"\",\"\",Sheet1!B842&\" \"&Sheet1!C842)","v":"Geddes Paul R."}]
[{"$f":"IF(Sheet1!B843=\"\",\"\",Sheet1!B843&\" \"&Sheet1!C843)","v":"Geer William Dudley"}]
[{"$f":"IF(Sheet1!B844=\"\",\"\",Sheet1!B844&\" \"&Sheet1!C844)","v":"Gehring Mary Louise"}]
[{"$f":"IF(Sheet1!B845=\"\",\"\",Sheet1!B845&\" \"&Sheet1!C845)","v":"Geiger D.W."}]
[{"$f":"IF(Sheet1!B846=\"\",\"\",Sheet1!B846&\" \"&Sheet1!C846)","v":"Gentry Ruth"}]
[{"$f":"IF(Sheet1!B847=\"\",\"\",Sheet1!B847&\" \"&Sheet1!C847)","v":"Geren Paul F."}]
[{"$f":"IF(Sheet1!B848=\"\",\"\",Sheet1!B848&\" \"&Sheet1!C848)","v":"Gershon I. Richard"}]
[{"$f":"IF(Sheet1!B849=\"\",\"\",Sheet1!B849&\" \"&Sheet1!C849)","v":"Gibbons Howard B."}]
[{"$f":"IF(Sheet1!B850=\"\",\"\",Sheet1!B850&\" \"&Sheet1!C850)","v":"Gibbons Howard B."}]
[{"$f":"IF(Sheet1!B851=\"\",\"\",Sheet1!B851&\" \"&Sheet1!C851)","v":"Gibbs Harry L."}]
[{"$f":"IF(Sheet1!B852=\"\",\"\",Sheet1!B852&\" \"&Sheet1!C852)","v":"Gibbs Melissa"}]
[{"$f":"IF(Sheet1!B853=\"\",\"\",Sheet1!B853&\" \"&Sheet1!C853)","v":"Gibson Byron H."}]
[{"$f":"IF(Sheet1!B854=\"\",\"\",Sheet1!B854&\" \"&Sheet1!C854)","v":"Gibson Jack"}]
[{"$f":"IF(Sheet1!B855=\"\",\"\",Sheet1!B855&\" \"&Sheet1!C855)","v":"Giffin Harold Milne"}]
[{"$f":"IF(Sheet1!B856=\"\",\"\",Sheet1!B856&\" \"&Sheet1!C856)","v":"Giffin Virginia Edsall"}]
[{"$f":"IF(Sheet1!B857=\"\",\"\",Sheet1!B857&\" \"&Sheet1!C857)","v":"Gifford Katharine"}]
[{"$f":"IF(Sheet1!B858=\"\",\"\",Sheet1!B858&\" \"&Sheet1!C858)","v":"Gilbert Geoffrey"}]
[{"$f":"IF(Sheet1!B859=\"\",\"\",Sheet1!B859&\" \"&Sheet1!C859)","v":"Gilbert Marjorie Forster"}]
[{"$f":"IF(Sheet1!B860=\"\",\"\",Sheet1!B860&\" \"&Sheet1!C860)","v":"Gilbert Michael S."}]
[{"$f":"IF(Sheet1!B861=\"\",\"\",Sheet1!B861&\" \"&Sheet1!C861)","v":"Giles James"}]
[{"$f":"IF(Sheet1!B862=\"\",\"\",Sheet1!B862&\" \"&Sheet1!C862)","v":"Giles Roger G."}]
[{"$f":"IF(Sheet1!B863=\"\",\"\",Sheet1!B863&\" \"&Sheet1!C863)","v":"Gill Donald G."}]
[{"$f":"IF(Sheet1!B864=\"\",\"\",Sheet1!B864&\" \"&Sheet1!C864)","v":"Gill James W."}]
[{"$f":"IF(Sheet1!B865=\"\",\"\",Sheet1!B865&\" \"&Sheet1!C865)","v":"Gillen R.H."}]
[{"$f":"IF(Sheet1!B866=\"\",\"\",Sheet1!B866&\" \"&Sheet1!C866)","v":"Gillespie Annette W."}]
[{"$f":"IF(Sheet1!B867=\"\",\"\",Sheet1!B867&\" \"&Sheet1!C867)","v":"Gillespie E. Bryan"}]
[{"$f":"IF(Sheet1!B868=\"\",\"\",Sheet1!B868&\" \"&Sheet1!C868)","v":"Gillette Timothy D."}]
[{"$f":"IF(Sheet1!B869=\"\",\"\",Sheet1!B869&\" \"&Sheet1!C869)","v":"Gilman Virginia Seagraves"}]
[{"$f":"IF(Sheet1!B870=\"\",\"\",Sheet1!B870&\" \"&Sheet1!C870)","v":"Giordano Maria"}]
[{"$f":"IF(Sheet1!B871=\"\",\"\",Sheet1!B871&\" \"&Sheet1!C871)","v":"Gipson Amy"}]
[{"$f":"IF(Sheet1!B872=\"\",\"\",Sheet1!B872&\" \"&Sheet1!C872)","v":"Glamser Francis D."}]
[{"$f":"IF(Sheet1!B873=\"\",\"\",Sheet1!B873&\" \"&Sheet1!C873)","v":"Glancy Morna A."}]
[{"$f":"IF(Sheet1!B874=\"\",\"\",Sheet1!B874&\" \"&Sheet1!C874)","v":"Glancy Philip B."}]
[{"$f":"IF(Sheet1!B875=\"\",\"\",Sheet1!B875&\" \"&Sheet1!C875)","v":"Glander George"}]
[{"$f":"IF(Sheet1!B876=\"\",\"\",Sheet1!B876&\" \"&Sheet1!C876)","v":"Glass R.E."}]
[{"$f":"IF(Sheet1!B877=\"\",\"\",Sheet1!B877&\" \"&Sheet1!C877)","v":"Glasscock Vanessa"}]
[{"$f":"IF(Sheet1!B878=\"\",\"\",Sheet1!B878&\" \"&Sheet1!C878)","v":"Glatz Richard"}]
[{"$f":"IF(Sheet1!B879=\"\",\"\",Sheet1!B879&\" \"&Sheet1!C879)","v":"Glavnova Anna Vitalevna"}]
[{"$f":"IF(Sheet1!B880=\"\",\"\",Sheet1!B880&\" \"&Sheet1!C880)","v":"Glaze Gary"}]
[{"$f":"IF(Sheet1!B881=\"\",\"\",Sheet1!B881&\" \"&Sheet1!C881)","v":"Gleason Paul"}]
[{"$f":"IF(Sheet1!B882=\"\",\"\",Sheet1!B882&\" \"&Sheet1!C882)","v":"Gleason Sandra Eliane"}]
[{"$f":"IF(Sheet1!B883=\"\",\"\",Sheet1!B883&\" \"&Sheet1!C883)","v":"Glenn Mabel Catherine"}]
[{"$f":"IF(Sheet1!B884=\"\",\"\",Sheet1!B884&\" \"&Sheet1!C884)","v":"Glennie Margaret J."}]
[{"$f":"IF(Sheet1!B885=\"\",\"\",Sheet1!B885&\" \"&Sheet1!C885)","v":"Godfrey Henry F."}]
[{"$f":"IF(Sheet1!B886=\"\",\"\",Sheet1!B886&\" \"&Sheet1!C886)","v":"Godwin Roy, E."}]
[{"$f":"IF(Sheet1!B887=\"\",\"\",Sheet1!B887&\" \"&Sheet1!C887)","v":"Goff Annie Belle"}]
[{"$f":"IF(Sheet1!B888=\"\",\"\",Sheet1!B888&\" \"&Sheet1!C888)","v":"Goldhagen Louise R"}]
[{"$f":"IF(Sheet1!B889=\"\",\"\",Sheet1!B889&\" \"&Sheet1!C889)","v":"Goldring Deborah"}]
[{"$f":"IF(Sheet1!B890=\"\",\"\",Sheet1!B890&\" \"&Sheet1!C890)","v":"Gomez Alvaro"}]
[{"$f":"IF(Sheet1!B891=\"\",\"\",Sheet1!B891&\" \"&Sheet1!C891)","v":"Gomez Placido G."}]
[{"$f":"IF(Sheet1!B892=\"\",\"\",Sheet1!B892&\" \"&Sheet1!C892)","v":"Goodchild Franklin M."}]
[{"$f":"IF(Sheet1!B893=\"\",\"\",Sheet1!B893&\" \"&Sheet1!C893)","v":"Goodman Clara B."}]
[{"$f":"IF(Sheet1!B894=\"\",\"\",Sheet1!B894&\" \"&Sheet1!C894)","v":"Goodman-Gould Jill M."}]
[{"$f":"IF(Sheet1!B895=\"\",\"\",Sheet1!B895&\" \"&Sheet1!C895)","v":"Goodwin Morris W."}]
[{"$f":"IF(Sheet1!B896=\"\",\"\",Sheet1!B896&\" \"&Sheet1!C896)","v":"Goolsby Janie W."}]
[{"$f":"IF(Sheet1!B897=\"\",\"\",Sheet1!B897&\" \"&Sheet1!C897)","v":"Gorby John William"}]
[{"$f":"IF(Sheet1!B898=\"\",\"\",Sheet1!B898&\" \"&Sheet1!C898)","v":"Gordis Warren Stone"}]
[{"$f":"IF(Sheet1!B899=\"\",\"\",Sheet1!B899&\" \"&Sheet1!C899)","v":"Gordon Brenda"}]
[{"$f":"IF(Sheet1!B900=\"\",\"\",Sheet1!B900&\" \"&Sheet1!C900)","v":"Gordon Bridgette"}]
[{"$f":"IF(Sheet1!B901=\"\",\"\",Sheet1!B901&\" \"&Sheet1!C901)","v":"Gordon Frances Mouthrop"}]
[{"$f":"IF(Sheet1!B902=\"\",\"\",Sheet1!B902&\" \"&Sheet1!C902)","v":"Gordon Terry"}]
[{"$f":"IF(Sheet1!B903=\"\",\"\",Sheet1!B903&\" \"&Sheet1!C903)","v":"Gorman Burton W"}]
[{"$f":"IF(Sheet1!B904=\"\",\"\",Sheet1!B904&\" \"&Sheet1!C904)","v":"Gorsline James S."}]
[{"$f":"IF(Sheet1!B905=\"\",\"\",Sheet1!B905&\" \"&Sheet1!C905)","v":"Goss Benjamin"}]
[{"$f":"IF(Sheet1!B906=\"\",\"\",Sheet1!B906&\" \"&Sheet1!C906)","v":"Gould Davina"}]
[{"$f":"IF(Sheet1!B907=\"\",\"\",Sheet1!B907&\" \"&Sheet1!C907)","v":"Gove Veronica Davis"}]
[{"$f":"IF(Sheet1!B908=\"\",\"\",Sheet1!B908&\" \"&Sheet1!C908)","v":"Gozansky Nathaniel E."}]
[{"$f":"IF(Sheet1!B909=\"\",\"\",Sheet1!B909&\" \"&Sheet1!C909)","v":"Grabel Victor J."}]
[{"$f":"IF(Sheet1!B910=\"\",\"\",Sheet1!B910&\" \"&Sheet1!C910)","v":"Graham Arthur J."}]
[{"$f":"IF(Sheet1!B911=\"\",\"\",Sheet1!B911&\" \"&Sheet1!C911)","v":"Graham Thomas W."}]
[{"$f":"IF(Sheet1!B912=\"\",\"\",Sheet1!B912&\" \"&Sheet1!C912)","v":"Grant Anthony"}]
[{"$f":"IF(Sheet1!B913=\"\",\"\",Sheet1!B913&\" \"&Sheet1!C913)","v":"Graves Jack M."}]
[{"$f":"IF(Sheet1!B914=\"\",\"\",Sheet1!B914&\" \"&Sheet1!C914)","v":"Graves Richard B., III"}]
[{"$f":"IF(Sheet1!B915=\"\",\"\",Sheet1!B915&\" \"&Sheet1!C915)","v":"Gray Jerry C."}]
[{"$f":"IF(Sheet1!B916=\"\",\"\",Sheet1!B916&\" \"&Sheet1!C916)","v":"Graziani Janie"}]
[{"$f":"IF(Sheet1!B917=\"\",\"\",Sheet1!B917&\" \"&Sheet1!C917)","v":"Grebe Jeffrey A."}]
[{"$f":"IF(Sheet1!B918=\"\",\"\",Sheet1!B918&\" \"&Sheet1!C918)","v":"Greek Morgan S. J."}]
[{"$f":"IF(Sheet1!B919=\"\",\"\",Sheet1!B919&\" \"&Sheet1!C919)","v":"Green Alan"}]
[{"$f":"IF(Sheet1!B920=\"\",\"\",Sheet1!B920&\" \"&Sheet1!C920)","v":"Green Paul M."}]
[{"$f":"IF(Sheet1!B921=\"\",\"\",Sheet1!B921&\" \"&Sheet1!C921)","v":"Green Sophie Ann"}]
[{"$f":"IF(Sheet1!B922=\"\",\"\",Sheet1!B922&\" \"&Sheet1!C922)","v":"Greene Ethan"}]
[{"$f":"IF(Sheet1!B923=\"\",\"\",Sheet1!B923&\" \"&Sheet1!C923)","v":"Greene Dorsey B., Jr."}]
[{"$f":"IF(Sheet1!B924=\"\",\"\",Sheet1!B924&\" \"&Sheet1!C924)","v":"Greenfield John R."}]
[{"$f":"IF(Sheet1!B925=\"\",\"\",Sheet1!B925&\" \"&Sheet1!C925)","v":"Greenley Beverly J."}]
[{"$f":"IF(Sheet1!B926=\"\",\"\",Sheet1!B926&\" \"&Sheet1!C926)","v":"Greenwood Mary"}]
[{"$f":"IF(Sheet1!B927=\"\",\"\",Sheet1!B927&\" \"&Sheet1!C927)","v":"Gregg Caroline M."}]
[{"$f":"IF(Sheet1!B928=\"\",\"\",Sheet1!B928&\" \"&Sheet1!C928)","v":"Gregory Ethel"}]
[{"$f":"IF(Sheet1!B929=\"\",\"\",Sheet1!B929&\" \"&Sheet1!C929)","v":"Gregory Frank"}]
[{"$f":"IF(Sheet1!B930=\"\",\"\",Sheet1!B930&\" \"&Sheet1!C930)","v":"Gregory Ida M."}]
[{"$f":"IF(Sheet1!B931=\"\",\"\",Sheet1!B931&\" \"&Sheet1!C931)","v":"Gregory Russell Inman"}]
[{"$f":"IF(Sheet1!B932=\"\",\"\",Sheet1!B932&\" \"&Sheet1!C932)","v":"Grice Luther B."}]
[{"$f":"IF(Sheet1!B933=\"\",\"\",Sheet1!B933&\" \"&Sheet1!C933)","v":"Grieb Terry J."}]
[{"$f":"IF(Sheet1!B934=\"\",\"\",Sheet1!B934&\" \"&Sheet1!C934)","v":"Griffin Frank"}]
[{"$f":"IF(Sheet1!B935=\"\",\"\",Sheet1!B935&\" \"&Sheet1!C935)","v":"Griffin Julia C."}]
[{"$f":"IF(Sheet1!B936=\"\",\"\",Sheet1!B936&\" \"&Sheet1!C936)","v":"Griffin Ray M."}]
[{"$f":"IF(Sheet1!B937=\"\",\"\",Sheet1!B937&\" \"&Sheet1!C937)","v":"Griffin Savannah-Jane"}]
[{"$f":"IF(Sheet1!B938=\"\",\"\",Sheet1!B938&\" \"&Sheet1!C938)","v":"Griffin Virginia Edsall"}]
[{"$f":"IF(Sheet1!B939=\"\",\"\",Sheet1!B939&\" \"&Sheet1!C939)","v":"Griffith Grace Watson"}]
[{"$f":"IF(Sheet1!B940=\"\",\"\",Sheet1!B940&\" \"&Sheet1!C940)","v":"Griffith Louise Bunger"}]
[{"$f":"IF(Sheet1!B941=\"\",\"\",Sheet1!B941&\" \"&Sheet1!C941)","v":"Griffiths Benjamin Bruce"}]
[{"$f":"IF(Sheet1!B942=\"\",\"\",Sheet1!B942&\" \"&Sheet1!C942)","v":"Griner Eugene W."}]
[{"$f":"IF(Sheet1!B943=\"\",\"\",Sheet1!B943&\" \"&Sheet1!C943)","v":"Groskreutz Shannon"}]
[{"$f":"IF(Sheet1!B944=\"\",\"\",Sheet1!B944&\" \"&Sheet1!C944)","v":"Gross-Gray Shelley"}]
[{"$f":"IF(Sheet1!B945=\"\",\"\",Sheet1!B945&\" \"&Sheet1!C945)","v":"Grove Claire"}]
[{"$f":"IF(Sheet1!B946=\"\",\"\",Sheet1!B946&\" \"&Sheet1!C946)","v":"Grubbs Tandy"}]
[{"$f":"IF(Sheet1!B947=\"\",\"\",Sheet1!B947&\" \"&Sheet1!C947)","v":"Guarda Luis"}]
[{"$f":"IF(Sheet1!B948=\"\",\"\",Sheet1!B948&\" \"&Sheet1!C948)","v":"Guerin Nancy"}]
[{"$f":"IF(Sheet1!B949=\"\",\"\",Sheet1!B949&\" \"&Sheet1!C949)","v":"Guevchenian Badrig Vartan"}]
[{"$f":"IF(Sheet1!B950=\"\",\"\",Sheet1!B950&\" \"&Sheet1!C950)","v":"Gunderson Dan A."}]
[{"$f":"IF(Sheet1!B951=\"\",\"\",Sheet1!B951&\" \"&Sheet1!C951)","v":"Gunn Laura"}]
[{"$f":"IF(Sheet1!B952=\"\",\"\",Sheet1!B952&\" \"&Sheet1!C952)","v":"Gunshanan Frank"}]
[{"$f":"IF(Sheet1!B953=\"\",\"\",Sheet1!B953&\" \"&Sheet1!C953)","v":"Guthrie Joseph A."}]
[{"$f":"IF(Sheet1!B954=\"\",\"\",Sheet1!B954&\" \"&Sheet1!C954)","v":"Guthrie Steven"}]
[{"$f":"IF(Sheet1!B955=\"\",\"\",Sheet1!B955&\" \"&Sheet1!C955)","v":"Guy Margaret P."}]
[{"$f":"IF(Sheet1!B956=\"\",\"\",Sheet1!B956&\" \"&Sheet1!C956)","v":"Guyer M. Susan"}]
[{"$f":"IF(Sheet1!B957=\"\",\"\",Sheet1!B957&\" \"&Sheet1!C957)","v":"Guyer Sue"}]
[{"$f":"IF(Sheet1!B958=\"\",\"\",Sheet1!B958&\" \"&Sheet1!C958)","v":"Guzman Rafael"}]
[{"$f":"IF(Sheet1!B959=\"\",\"\",Sheet1!B959&\" \"&Sheet1!C959)","v":"Haakenson Matthew"}]
[{"$f":"IF(Sheet1!B960=\"\",\"\",Sheet1!B960&\" \"&Sheet1!C960)","v":"Haddock Douglas R."}]
[{"$f":"IF(Sheet1!B961=\"\",\"\",Sheet1!B961&\" \"&Sheet1!C961)","v":"Haddox Benjamin E"}]
[{"$f":"IF(Sheet1!B962=\"\",\"\",Sheet1!B962&\" \"&Sheet1!C962)","v":"Haden Harry S."}]
[{"$f":"IF(Sheet1!B963=\"\",\"\",Sheet1!B963&\" \"&Sheet1!C963)","v":"Haggard Elizabeth"}]
[{"$f":"IF(Sheet1!B964=\"\",\"\",Sheet1!B964&\" \"&Sheet1!C964)","v":"Hague John A."}]
[{"$f":"IF(Sheet1!B965=\"\",\"\",Sheet1!B965&\" \"&Sheet1!C965)","v":"Hague Mary"}]
[{"$f":"IF(Sheet1!B966=\"\",\"\",Sheet1!B966&\" \"&Sheet1!C966)","v":"Hale Julia Gamewell"}]
[{"$f":"IF(Sheet1!B967=\"\",\"\",Sheet1!B967&\" \"&Sheet1!C967)","v":"Hale Margie"}]
[{"$f":"IF(Sheet1!B968=\"\",\"\",Sheet1!B968&\" \"&Sheet1!C968)","v":"Hale William Daniel"}]
[{"$f":"IF(Sheet1!B969=\"\",\"\",Sheet1!B969&\" \"&Sheet1!C969)","v":"Hall Arlene"}]
[{"$f":"IF(Sheet1!B970=\"\",\"\",Sheet1!B970&\" \"&Sheet1!C970)","v":"Hall Eloise C."}]
[{"$f":"IF(Sheet1!B971=\"\",\"\",Sheet1!B971&\" \"&Sheet1!C971)","v":"Hall Ernest J."}]
[{"$f":"IF(Sheet1!B972=\"\",\"\",Sheet1!B972&\" \"&Sheet1!C972)","v":"Hall Frederick B, Jr."}]
[{"$f":"IF(Sheet1!B973=\"\",\"\",Sheet1!B973&\" \"&Sheet1!C973)","v":"Hall Hal H."}]
[{"$f":"IF(Sheet1!B974=\"\",\"\",Sheet1!B974&\" \"&Sheet1!C974)","v":"Hall Kelly"}]
[{"$f":"IF(Sheet1!B975=\"\",\"\",Sheet1!B975&\" \"&Sheet1!C975)","v":"Hall Lucy Duncan"}]
[{"$f":"IF(Sheet1!B976=\"\",\"\",Sheet1!B976&\" \"&Sheet1!C976)","v":"Hall Melinda"}]
[{"$f":"IF(Sheet1!B977=\"\",\"\",Sheet1!B977&\" \"&Sheet1!C977)","v":"Hall Richard S."}]
[{"$f":"IF(Sheet1!B978=\"\",\"\",Sheet1!B978&\" \"&Sheet1!C978)","v":"Hall Ronald L."}]
[{"$f":"IF(Sheet1!B979=\"\",\"\",Sheet1!B979&\" \"&Sheet1!C979)","v":"Hall Royal Glenn"}]
[{"$f":"IF(Sheet1!B980=\"\",\"\",Sheet1!B980&\" \"&Sheet1!C980)","v":"Hall Vera Buck"}]
[{"$f":"IF(Sheet1!B981=\"\",\"\",Sheet1!B981&\" \"&Sheet1!C981)","v":"Halliday Colonel Frank W."}]
[{"$f":"IF(Sheet1!B982=\"\",\"\",Sheet1!B982&\" \"&Sheet1!C982)","v":"Hallum Anne Motley"}]
[{"$f":"IF(Sheet1!B983=\"\",\"\",Sheet1!B983&\" \"&Sheet1!C983)","v":"Halpern Ronald B."}]
[{"$f":"IF(Sheet1!B984=\"\",\"\",Sheet1!B984&\" \"&Sheet1!C984)","v":"Hames John M."}]
[{"$f":"IF(Sheet1!B985=\"\",\"\",Sheet1!B985&\" \"&Sheet1!C985)","v":"Hamilton Carrolee"}]
[{"$f":"IF(Sheet1!B986=\"\",\"\",Sheet1!B986&\" \"&Sheet1!C986)","v":"Hamilton Frank C."}]
[{"$f":"IF(Sheet1!B987=\"\",\"\",Sheet1!B987&\" \"&Sheet1!C987)","v":"Hamilton J.T."}]
[{"$f":"IF(Sheet1!B988=\"\",\"\",Sheet1!B988&\" \"&Sheet1!C988)","v":"Hamilton Jewel Boone"}]
[{"$f":"IF(Sheet1!B989=\"\",\"\",Sheet1!B989&\" \"&Sheet1!C989)","v":"Hamlin Royal P."}]
[{"$f":"IF(Sheet1!B990=\"\",\"\",Sheet1!B990&\" \"&Sheet1!C990)","v":"Hammock Cheryl"}]
[{"$f":"IF(Sheet1!B991=\"\",\"\",Sheet1!B991&\" \"&Sheet1!C991)","v":"Hammond Francis Alton"}]
[{"$f":"IF(Sheet1!B992=\"\",\"\",Sheet1!B992&\" \"&Sheet1!C992)","v":"Hampton Esther"}]
[{"$f":"IF(Sheet1!B993=\"\",\"\",Sheet1!B993&\" \"&Sheet1!C993)","v":"Hampton Salome"}]
[{"$f":"IF(Sheet1!B994=\"\",\"\",Sheet1!B994&\" \"&Sheet1!C994)","v":"Hancock Lua R."}]
[{"$f":"IF(Sheet1!B995=\"\",\"\",Sheet1!B995&\" \"&Sheet1!C995)","v":"Hanne Marion"}]
[{"$f":"IF(Sheet1!B996=\"\",\"\",Sheet1!B996&\" \"&Sheet1!C996)","v":"Hansen Forest Warnyr"}]
[{"$f":"IF(Sheet1!B997=\"\",\"\",Sheet1!B997&\" \"&Sheet1!C997)","v":"Hansen Katharine"}]
[{"$f":"IF(Sheet1!B998=\"\",\"\",Sheet1!B998&\" \"&Sheet1!C998)","v":"Hansen Keith Leyton"}]
[{"$f":"IF(Sheet1!B999=\"\",\"\",Sheet1!B999&\" \"&Sheet1!C999)","v":"Hansen Randall S."}]
[{"$f":"IF(Sheet1!B1000=\"\",\"\",Sheet1!B1000&\" \"&Sheet1!C1000)","v":"Harbeson Rose"}]
[{"$f":"IF(Sheet1!B1001=\"\",\"\",Sheet1!B1001&\" \"&Sheet1!C1001)","v":"Hardage Donald Allen"}]
[{"$f":"IF(Sheet1!B1002=\"\",\"\",Sheet1!B1002&\" \"&Sheet1!C1002)","v":"Harder Matthew D."}]
[{"$f":"IF(Sheet1!B1003=\"\",\"\",Sheet1!B1003&\" \"&Sheet1!C1003)","v":"Hardie J. Keith"}]
[{"$f":"IF(Sheet1!B1004=\"\",\"\",Sheet1!B1004&\" \"&Sheet1!C1004)","v":"Harriman Carolyn"}]
[{"$f":"IF(Sheet1!B1005=\"\",\"\",Sheet1!B1005&\" \"&Sheet1!C1005)","v":"Harriman Helen H."}]
[{"$f":"IF(Sheet1!B1006=\"\",\"\",Sheet1!B1006&\" \"&Sheet1!C1006)","v":"Harrington George A."}]
[{"$f":"IF(Sheet1!B1007=\"\",\"\",Sheet1!B1007&\" \"&Sheet1!C1007)","v":"Harris Daniel T."}]
[{"$f":"IF(Sheet1!B1008=\"\",\"\",Sheet1!B1008&\" \"&Sheet1!C1008)","v":"Harris Michael Thomas"}]
[{"$f":"IF(Sheet1!B1009=\"\",\"\",Sheet1!B1009&\" \"&Sheet1!C1009)","v":"Harrison Baya M., Jr."}]
[{"$f":"IF(Sheet1!B1010=\"\",\"\",Sheet1!B1010&\" \"&Sheet1!C1010)","v":"Harrison Cyrus Franklin"}]
[{"$f":"IF(Sheet1!B1011=\"\",\"\",Sheet1!B1011&\" \"&Sheet1!C1011)","v":"Harvey Sara Edith"}]
[{"$f":"IF(Sheet1!B1012=\"\",\"\",Sheet1!B1012&\" \"&Sheet1!C1012)","v":"Haslup Lemuel Allen"}]
[{"$f":"IF(Sheet1!B1013=\"\",\"\",Sheet1!B1013&\" \"&Sheet1!C1013)","v":"Hatamyar Patricia"}]
[{"$f":"IF(Sheet1!B1014=\"\",\"\",Sheet1!B1014&\" \"&Sheet1!C1014)","v":"Hauck Peter R."}]
[{"$f":"IF(Sheet1!B1015=\"\",\"\",Sheet1!B1015&\" \"&Sheet1!C1015)","v":"Haugaard Joy"}]
[{"$f":"IF(Sheet1!B1016=\"\",\"\",Sheet1!B1016&\" \"&Sheet1!C1016)","v":"Haughton Helen K."}]
[{"$f":"IF(Sheet1!B1017=\"\",\"\",Sheet1!B1017&\" \"&Sheet1!C1017)","v":"Hause Robert L."}]
[{"$f":"IF(Sheet1!B1018=\"\",\"\",Sheet1!B1018&\" \"&Sheet1!C1018)","v":"Hauser John"}]
[{"$f":"IF(Sheet1!B1019=\"\",\"\",Sheet1!B1019&\" \"&Sheet1!C1019)","v":"Hawkins Isaac Walter"}]
[{"$f":"IF(Sheet1!B1020=\"\",\"\",Sheet1!B1020&\" \"&Sheet1!C1020)","v":"Hawkins-Leon Cynthia G."}]
[{"$f":"IF(Sheet1!B1021=\"\",\"\",Sheet1!B1021&\" \"&Sheet1!C1021)","v":"Hawley Eva"}]
[{"$f":"IF(Sheet1!B1022=\"\",\"\",Sheet1!B1022&\" \"&Sheet1!C1022)","v":"Hay Marguerite Bearden"}]
[{"$f":"IF(Sheet1!B1023=\"\",\"\",Sheet1!B1023&\" \"&Sheet1!C1023)","v":"Hayes Ann Richardson"}]
[{"$f":"IF(Sheet1!B1024=\"\",\"\",Sheet1!B1024&\" \"&Sheet1!C1024)","v":"Hayes Charles S."}]
[{"$f":"IF(Sheet1!B1025=\"\",\"\",Sheet1!B1025&\" \"&Sheet1!C1025)","v":"Hayes David P."}]
[{"$f":"IF(Sheet1!B1026=\"\",\"\",Sheet1!B1026&\" \"&Sheet1!C1026)","v":"Haynes Loraine B."}]
[{"$f":"IF(Sheet1!B1027=\"\",\"\",Sheet1!B1027&\" \"&Sheet1!C1027)","v":"Hebbeker Gerhardt"}]
[{"$f":"IF(Sheet1!B1028=\"\",\"\",Sheet1!B1028&\" \"&Sheet1!C1028)","v":"Heckel Robert J."}]
[{"$f":"IF(Sheet1!B1029=\"\",\"\",Sheet1!B1029&\" \"&Sheet1!C1029)","v":"Hedrick Herbert J."}]
[{"$f":"IF(Sheet1!B1030=\"\",\"\",Sheet1!B1030&\" \"&Sheet1!C1030)","v":"Heffner Roy Edward"}]
[{"$f":"IF(Sheet1!B1031=\"\",\"\",Sheet1!B1031&\" \"&Sheet1!C1031)","v":"Hefner Edna Mae"}]
[{"$f":"IF(Sheet1!B1032=\"\",\"\",Sheet1!B1032&\" \"&Sheet1!C1032)","v":"Heim Edith"}]
[{"$f":"IF(Sheet1!B1033=\"\",\"\",Sheet1!B1033&\" \"&Sheet1!C1033)","v":"Heine Richard Peter"}]
[{"$f":"IF(Sheet1!B1034=\"\",\"\",Sheet1!B1034&\" \"&Sheet1!C1034)","v":"Heins Elizabeth D."}]
[{"$f":"IF(Sheet1!B1035=\"\",\"\",Sheet1!B1035&\" \"&Sheet1!C1035)","v":"Henderson Carol"}]
[{"$f":"IF(Sheet1!B1036=\"\",\"\",Sheet1!B1036&\" \"&Sheet1!C1036)","v":"Henderson Charles Tom"}]
[{"$f":"IF(Sheet1!B1037=\"\",\"\",Sheet1!B1037&\" \"&Sheet1!C1037)","v":"Henderson Edward Bruce"}]
[{"$f":"IF(Sheet1!B1038=\"\",\"\",Sheet1!B1038&\" \"&Sheet1!C1038)","v":"Henderson Gladys S."}]
[{"$f":"IF(Sheet1!B1039=\"\",\"\",Sheet1!B1039&\" \"&Sheet1!C1039)","v":"Hendricks Mary Margaret"}]
[{"$f":"IF(Sheet1!B1040=\"\",\"\",Sheet1!B1040&\" \"&Sheet1!C1040)","v":"Hendry Harry K."}]
[{"$f":"IF(Sheet1!B1041=\"\",\"\",Sheet1!B1041&\" \"&Sheet1!C1041)","v":"Heney John J."}]
[{"$f":"IF(Sheet1!B1042=\"\",\"\",Sheet1!B1042&\" \"&Sheet1!C1042)","v":"Henry Edgelle"}]
[{"$f":"IF(Sheet1!B1043=\"\",\"\",Sheet1!B1043&\" \"&Sheet1!C1043)","v":"Henry R. St. Cyr"}]
[{"$f":"IF(Sheet1!B1044=\"\",\"\",Sheet1!B1044&\" \"&Sheet1!C1044)","v":"Henry Rex T."}]
[{"$f":"IF(Sheet1!B1045=\"\",\"\",Sheet1!B1045&\" \"&Sheet1!C1045)","v":"Herb Maggie"}]
[{"$f":"IF(Sheet1!B1046=\"\",\"\",Sheet1!B1046&\" \"&Sheet1!C1046)","v":"Herbst George H."}]
[{"$f":"IF(Sheet1!B1047=\"\",\"\",Sheet1!B1047&\" \"&Sheet1!C1047)","v":"Herman Michael"}]
[{"$f":"IF(Sheet1!B1048=\"\",\"\",Sheet1!B1048&\" \"&Sheet1!C1048)","v":"Herndon Elizabeth T."}]
[{"$f":"IF(Sheet1!B1049=\"\",\"\",Sheet1!B1049&\" \"&Sheet1!C1049)","v":"Hewett Ernest J."}]
[{"$f":"IF(Sheet1!B1050=\"\",\"\",Sheet1!B1050&\" \"&Sheet1!C1050)","v":"Hewitt Glenn A."}]
[{"$f":"IF(Sheet1!B1051=\"\",\"\",Sheet1!B1051&\" \"&Sheet1!C1051)","v":"Hewlings Susan J."}]
[{"$f":"IF(Sheet1!B1052=\"\",\"\",Sheet1!B1052&\" \"&Sheet1!C1052)","v":"Hibbard Ruth"}]
[{"$f":"IF(Sheet1!B1053=\"\",\"\",Sheet1!B1053&\" \"&Sheet1!C1053)","v":"Hick Esther M."}]
[{"$f":"IF(Sheet1!B1054=\"\",\"\",Sheet1!B1054&\" \"&Sheet1!C1054)","v":"Hickman C. Addison"}]
[{"$f":"IF(Sheet1!B1055=\"\",\"\",Sheet1!B1055&\" \"&Sheet1!C1055)","v":"Hickok Kathleen K."}]
[{"$f":"IF(Sheet1!B1056=\"\",\"\",Sheet1!B1056&\" \"&Sheet1!C1056)","v":"Hicks John"}]
[{"$f":"IF(Sheet1!B1057=\"\",\"\",Sheet1!B1057&\" \"&Sheet1!C1057)","v":"Hicks Martha B."}]
[{"$f":"IF(Sheet1!B1058=\"\",\"\",Sheet1!B1058&\" \"&Sheet1!C1058)","v":"Highfill W. Lawrence"}]
[{"$f":"IF(Sheet1!B1059=\"\",\"\",Sheet1!B1059&\" \"&Sheet1!C1059)","v":"Hildwein Richard L."}]
[{"$f":"IF(Sheet1!B1060=\"\",\"\",Sheet1!B1060&\" \"&Sheet1!C1060)","v":"Hilkey Charles Joseph"}]
[{"$f":"IF(Sheet1!B1061=\"\",\"\",Sheet1!B1061&\" \"&Sheet1!C1061)","v":"Hill David"}]
[{"$f":"IF(Sheet1!B1062=\"\",\"\",Sheet1!B1062&\" \"&Sheet1!C1062)","v":"Hill Henry C."}]
[{"$f":"IF(Sheet1!B1063=\"\",\"\",Sheet1!B1063&\" \"&Sheet1!C1063)","v":"Hill J. Clarence"}]
[{"$f":"IF(Sheet1!B1064=\"\",\"\",Sheet1!B1064&\" \"&Sheet1!C1064)","v":"Hill Nancy Lee"}]
[{"$f":"IF(Sheet1!B1065=\"\",\"\",Sheet1!B1065&\" \"&Sheet1!C1065)","v":"Hill Sam"}]
[{"$f":"IF(Sheet1!B1066=\"\",\"\",Sheet1!B1066&\" \"&Sheet1!C1066)","v":"Hill Webb B."}]
[{"$f":"IF(Sheet1!B1067=\"\",\"\",Sheet1!B1067&\" \"&Sheet1!C1067)","v":"Hilton Loyd H."}]
[{"$f":"IF(Sheet1!B1068=\"\",\"\",Sheet1!B1068&\" \"&Sheet1!C1068)","v":"Hines Eric L."}]
[{"$f":"IF(Sheet1!B1069=\"\",\"\",Sheet1!B1069&\" \"&Sheet1!C1069)","v":"Hipsher Daniel T."}]
[{"$f":"IF(Sheet1!B1070=\"\",\"\",Sheet1!B1070&\" \"&Sheet1!C1070)","v":"Hobbs Lena Burwell"}]
[{"$f":"IF(Sheet1!B1071=\"\",\"\",Sheet1!B1071&\" \"&Sheet1!C1071)","v":"Hobson Frank"}]
[{"$f":"IF(Sheet1!B1072=\"\",\"\",Sheet1!B1072&\" \"&Sheet1!C1072)","v":"Hodge Frederick H."}]
[{"$f":"IF(Sheet1!B1073=\"\",\"\",Sheet1!B1073&\" \"&Sheet1!C1073)","v":"Hodges John L."}]
[{"$f":"IF(Sheet1!B1074=\"\",\"\",Sheet1!B1074&\" \"&Sheet1!C1074)","v":"Hodkinson Sydney"}]
[{"$f":"IF(Sheet1!B1075=\"\",\"\",Sheet1!B1075&\" \"&Sheet1!C1075)","v":"Hoffman Lyn A."}]
[{"$f":"IF(Sheet1!B1076=\"\",\"\",Sheet1!B1076&\" \"&Sheet1!C1076)","v":"Hogan C.K."}]
[{"$f":"IF(Sheet1!B1077=\"\",\"\",Sheet1!B1077&\" \"&Sheet1!C1077)","v":"Holcomb Rodney F."}]
[{"$f":"IF(Sheet1!B1078=\"\",\"\",Sheet1!B1078&\" \"&Sheet1!C1078)","v":"Holden Annie Nadine"}]
[{"$f":"IF(Sheet1!B1079=\"\",\"\",Sheet1!B1079&\" \"&Sheet1!C1079)","v":"Holder Janiece"}]
[{"$f":"IF(Sheet1!B1080=\"\",\"\",Sheet1!B1080&\" \"&Sheet1!C1080)","v":"Holland William C."}]
[{"$f":"IF(Sheet1!B1081=\"\",\"\",Sheet1!B1081&\" \"&Sheet1!C1081)","v":"Hollander William"}]
[{"$f":"IF(Sheet1!B1082=\"\",\"\",Sheet1!B1082&\" \"&Sheet1!C1082)","v":"Hollenbeck Louise M."}]
[{"$f":"IF(Sheet1!B1083=\"\",\"\",Sheet1!B1083&\" \"&Sheet1!C1083)","v":"Holloway Bonnie"}]
[{"$f":"IF(Sheet1!B1084=\"\",\"\",Sheet1!B1084&\" \"&Sheet1!C1084)","v":"Holmes Edward A."}]
[{"$f":"IF(Sheet1!B1085=\"\",\"\",Sheet1!B1085&\" \"&Sheet1!C1085)","v":"Homan Catherine I."}]
[{"$f":"IF(Sheet1!B1086=\"\",\"\",Sheet1!B1086&\" \"&Sheet1!C1086)","v":"Homburger Eve"}]
[{"$f":"IF(Sheet1!B1087=\"\",\"\",Sheet1!B1087&\" \"&Sheet1!C1087)","v":"Hood George Wilson"}]
[{"$f":"IF(Sheet1!B1088=\"\",\"\",Sheet1!B1088&\" \"&Sheet1!C1088)","v":"Hood Salina"}]
[{"$f":"IF(Sheet1!B1089=\"\",\"\",Sheet1!B1089&\" \"&Sheet1!C1089)","v":"Hoogenboom Hilde"}]
[{"$f":"IF(Sheet1!B1090=\"\",\"\",Sheet1!B1090&\" \"&Sheet1!C1090)","v":"Hopkins C. Howard"}]
[{"$f":"IF(Sheet1!B1091=\"\",\"\",Sheet1!B1091&\" \"&Sheet1!C1091)","v":"Hopkins Winifred H."}]
[{"$f":"IF(Sheet1!B1092=\"\",\"\",Sheet1!B1092&\" \"&Sheet1!C1092)","v":"Hord G.L."}]
[{"$f":"IF(Sheet1!B1093=\"\",\"\",Sheet1!B1093&\" \"&Sheet1!C1093)","v":"Horn Curtis Charlton"}]
[{"$f":"IF(Sheet1!B1094=\"\",\"\",Sheet1!B1094&\" \"&Sheet1!C1094)","v":"Horn Jeffrey"}]
[{"$f":"IF(Sheet1!B1095=\"\",\"\",Sheet1!B1095&\" \"&Sheet1!C1095)","v":"Hornaday James D."}]
[{"$f":"IF(Sheet1!B1096=\"\",\"\",Sheet1!B1096&\" \"&Sheet1!C1096)","v":"Hornsby Teresa J."}]
[{"$f":"IF(Sheet1!B1097=\"\",\"\",Sheet1!B1097&\" \"&Sheet1!C1097)","v":"Horton Margaret W."}]
[{"$f":"IF(Sheet1!B1098=\"\",\"\",Sheet1!B1098&\" \"&Sheet1!C1098)","v":"Hose Anthony"}]
[{"$f":"IF(Sheet1!B1099=\"\",\"\",Sheet1!B1099&\" \"&Sheet1!C1099)","v":"Houk Guy R."}]
[{"$f":"IF(Sheet1!B1100=\"\",\"\",Sheet1!B1100&\" \"&Sheet1!C1100)","v":"Houston David"}]
[{"$f":"IF(Sheet1!B1101=\"\",\"\",Sheet1!B1101&\" \"&Sheet1!C1101)","v":"Howard Donald"}]
[{"$f":"IF(Sheet1!B1102=\"\",\"\",Sheet1!B1102&\" \"&Sheet1!C1102)","v":"Howard Gregory A."}]
[{"$f":"IF(Sheet1!B1103=\"\",\"\",Sheet1!B1103&\" \"&Sheet1!C1103)","v":"Howard Mabel E."}]
[{"$f":"IF(Sheet1!B1104=\"\",\"\",Sheet1!B1104&\" \"&Sheet1!C1104)","v":"Howarth Louise Royal"}]
[{"$f":"IF(Sheet1!B1105=\"\",\"\",Sheet1!B1105&\" \"&Sheet1!C1105)","v":"Howarth Mary Stewart"}]
[{"$f":"IF(Sheet1!B1106=\"\",\"\",Sheet1!B1106&\" \"&Sheet1!C1106)","v":"Howell Marquis D."}]
[{"$f":"IF(Sheet1!B1107=\"\",\"\",Sheet1!B1107&\" \"&Sheet1!C1107)","v":"Howes Roy Frances"}]
[{"$f":"IF(Sheet1!B1108=\"\",\"\",Sheet1!B1108&\" \"&Sheet1!C1108)","v":"Howicz David S."}]
[{"$f":"IF(Sheet1!B1109=\"\",\"\",Sheet1!B1109&\" \"&Sheet1!C1109)","v":"Hoyle Robin L."}]
[{"$f":"IF(Sheet1!B1110=\"\",\"\",Sheet1!B1110&\" \"&Sheet1!C1110)","v":"Hudson Blake"}]
[{"$f":"IF(Sheet1!B1111=\"\",\"\",Sheet1!B1111&\" \"&Sheet1!C1111)","v":"Hudson Lura"}]
[{"$f":"IF(Sheet1!B1112=\"\",\"\",Sheet1!B1112&\" \"&Sheet1!C1112)","v":"Huffard Mason E."}]
[{"$f":"IF(Sheet1!B1113=\"\",\"\",Sheet1!B1113&\" \"&Sheet1!C1113)","v":"Huges J. Ralph"}]
[{"$f":"IF(Sheet1!B1114=\"\",\"\",Sheet1!B1114&\" \"&Sheet1!C1114)","v":"Hughes Frances"}]
[{"$f":"IF(Sheet1!B1115=\"\",\"\",Sheet1!B1115&\" \"&Sheet1!C1115)","v":"Hughes Roger"}]
[{"$f":"IF(Sheet1!B1116=\"\",\"\",Sheet1!B1116&\" \"&Sheet1!C1116)","v":"Hughes William E."}]
[{"$f":"IF(Sheet1!B1117=\"\",\"\",Sheet1!B1117&\" \"&Sheet1!C1117)","v":"Hull Dossie C."}]
[{"$f":"IF(Sheet1!B1118=\"\",\"\",Sheet1!B1118&\" \"&Sheet1!C1118)","v":"Hulley Benjamin Mayham"}]
[{"$f":"IF(Sheet1!B1119=\"\",\"\",Sheet1!B1119&\" \"&Sheet1!C1119)","v":"Hulley Lincoln"}]
[{"$f":"IF(Sheet1!B1120=\"\",\"\",Sheet1!B1120&\" \"&Sheet1!C1120)","v":"Hulley Louise Crisfield"}]
[{"$f":"IF(Sheet1!B1121=\"\",\"\",Sheet1!B1121&\" \"&Sheet1!C1121)","v":"Humes James Edward Jr."}]
[{"$f":"IF(Sheet1!B1122=\"\",\"\",Sheet1!B1122&\" \"&Sheet1!C1122)","v":"Humeston Genevieve"}]
[{"$f":"IF(Sheet1!B1123=\"\",\"\",Sheet1!B1123&\" \"&Sheet1!C1123)","v":"Hunsaker Olive Mae"}]
[{"$f":"IF(Sheet1!B1124=\"\",\"\",Sheet1!B1124&\" \"&Sheet1!C1124)","v":"Hunt Caroline L."}]
[{"$f":"IF(Sheet1!B1125=\"\",\"\",Sheet1!B1125&\" \"&Sheet1!C1125)","v":"Huntington E. Gale"}]
[{"$f":"IF(Sheet1!B1126=\"\",\"\",Sheet1!B1126&\" \"&Sheet1!C1126)","v":"Hurst Anne"}]
[{"$f":"IF(Sheet1!B1127=\"\",\"\",Sheet1!B1127&\" \"&Sheet1!C1127)","v":"Hurst Matt"}]
[{"$f":"IF(Sheet1!B1128=\"\",\"\",Sheet1!B1128&\" \"&Sheet1!C1128)","v":"Hurt Huber William"}]
[{"$f":"IF(Sheet1!B1129=\"\",\"\",Sheet1!B1129&\" \"&Sheet1!C1129)","v":"Husband Agnes"}]
[{"$f":"IF(Sheet1!B1130=\"\",\"\",Sheet1!B1130&\" \"&Sheet1!C1130)","v":"Huskey Eugene E., Jr."}]
[{"$f":"IF(Sheet1!B1131=\"\",\"\",Sheet1!B1131&\" \"&Sheet1!C1131)","v":"Huss Rebecca"}]
[{"$f":"IF(Sheet1!B1132=\"\",\"\",Sheet1!B1132&\" \"&Sheet1!C1132)","v":"Hussey Raymond W."}]
[{"$f":"IF(Sheet1!B1133=\"\",\"\",Sheet1!B1133&\" \"&Sheet1!C1133)","v":"Hutcheson D. Lee"}]
[{"$f":"IF(Sheet1!B1134=\"\",\"\",Sheet1!B1134&\" \"&Sheet1!C1134)","v":"Hutchings Virginia"}]
[{"$f":"IF(Sheet1!B1135=\"\",\"\",Sheet1!B1135&\" \"&Sheet1!C1135)","v":"Huth Robert F."}]
[{"$f":"IF(Sheet1!B1136=\"\",\"\",Sheet1!B1136&\" \"&Sheet1!C1136)","v":"Huthmaker Charles"}]
[{"$f":"IF(Sheet1!B1137=\"\",\"\",Sheet1!B1137&\" \"&Sheet1!C1137)","v":"Idstrom Roger"}]
[{"$f":"IF(Sheet1!B1138=\"\",\"\",Sheet1!B1138&\" \"&Sheet1!C1138)","v":"Indralingam Rammeeswary"}]
[{"$f":"IF(Sheet1!B1139=\"\",\"\",Sheet1!B1139&\" \"&Sheet1!C1139)","v":"Ireland Martha"}]
[{"$f":"IF(Sheet1!B1140=\"\",\"\",Sheet1!B1140&\" \"&Sheet1!C1140)","v":"Irish Wilfred E, Jr."}]
[{"$f":"IF(Sheet1!B1141=\"\",\"\",Sheet1!B1141&\" \"&Sheet1!C1141)","v":"Irizarry Cynthia A."}]
[{"$f":"IF(Sheet1!B1142=\"\",\"\",Sheet1!B1142&\" \"&Sheet1!C1142)","v":"Irizarry Frank P."}]
[{"$f":"IF(Sheet1!B1143=\"\",\"\",Sheet1!B1143&\" \"&Sheet1!C1143)","v":"Ironside Charles Edward"}]
[{"$f":"IF(Sheet1!B1144=\"\",\"\",Sheet1!B1144&\" \"&Sheet1!C1144)","v":"Irvine Allen D."}]
[{"$f":"IF(Sheet1!B1145=\"\",\"\",Sheet1!B1145&\" \"&Sheet1!C1145)","v":"Irwin Madeline"}]
[{"$f":"IF(Sheet1!B1146=\"\",\"\",Sheet1!B1146&\" \"&Sheet1!C1146)","v":"Isaacson Leanna"}]
[{"$f":"IF(Sheet1!B1147=\"\",\"\",Sheet1!B1147&\" \"&Sheet1!C1147)","v":"Ives Judson Dunbar"}]
[{"$f":"IF(Sheet1!B1148=\"\",\"\",Sheet1!B1148&\" \"&Sheet1!C1148)","v":"Jackson Dewaine D."}]
[{"$f":"IF(Sheet1!B1149=\"\",\"\",Sheet1!B1149&\" \"&Sheet1!C1149)","v":"Jackson Kenneth L."}]
[{"$f":"IF(Sheet1!B1150=\"\",\"\",Sheet1!B1150&\" \"&Sheet1!C1150)","v":"Jackson Mary Ann"}]
[{"$f":"IF(Sheet1!B1151=\"\",\"\",Sheet1!B1151&\" \"&Sheet1!C1151)","v":"Jackson Neill S."}]
[{"$f":"IF(Sheet1!B1152=\"\",\"\",Sheet1!B1152&\" \"&Sheet1!C1152)","v":"Jackson Ruth"}]
[{"$f":"IF(Sheet1!B1153=\"\",\"\",Sheet1!B1153&\" \"&Sheet1!C1153)","v":"Jacob Bruce R."}]
[{"$f":"IF(Sheet1!B1154=\"\",\"\",Sheet1!B1154&\" \"&Sheet1!C1154)","v":"Jacobs Henry Strobel"}]
[{"$f":"IF(Sheet1!B1155=\"\",\"\",Sheet1!B1155&\" \"&Sheet1!C1155)","v":"Jagger Robert E."}]
[{"$f":"IF(Sheet1!B1156=\"\",\"\",Sheet1!B1156&\" \"&Sheet1!C1156)","v":"James Louis Clay"}]
[{"$f":"IF(Sheet1!B1157=\"\",\"\",Sheet1!B1157&\" \"&Sheet1!C1157)","v":"Jameson Mabel Frances"}]
[{"$f":"IF(Sheet1!B1158=\"\",\"\",Sheet1!B1158&\" \"&Sheet1!C1158)","v":"Jardan Mildred"}]
[{"$f":"IF(Sheet1!B1159=\"\",\"\",Sheet1!B1159&\" \"&Sheet1!C1159)","v":"Jeancola Monica"}]
[{"$f":"IF(Sheet1!B1160=\"\",\"\",Sheet1!B1160&\" \"&Sheet1!C1160)","v":"Jenkins George Lovell"}]
[{"$f":"IF(Sheet1!B1161=\"\",\"\",Sheet1!B1161&\" \"&Sheet1!C1161)","v":"Jenkins Janice"}]
[{"$f":"IF(Sheet1!B1162=\"\",\"\",Sheet1!B1162&\" \"&Sheet1!C1162)","v":"Jenkins Joryn"}]
[{"$f":"IF(Sheet1!B1163=\"\",\"\",Sheet1!B1163&\" \"&Sheet1!C1163)","v":"Jenkins Paul R., Jr."}]
[{"$f":"IF(Sheet1!B1164=\"\",\"\",Sheet1!B1164&\" \"&Sheet1!C1164)","v":"Jenner John Thomas"}]
[{"$f":"IF(Sheet1!B1165=\"\",\"\",Sheet1!B1165&\" \"&Sheet1!C1165)","v":"Jens William G., Jr."}]
[{"$f":"IF(Sheet1!B1166=\"\",\"\",Sheet1!B1166&\" \"&Sheet1!C1166)","v":"Jernigan Harvey J."}]
[{"$f":"IF(Sheet1!B1167=\"\",\"\",Sheet1!B1167&\" \"&Sheet1!C1167)","v":"Jernigan Sara Staff"}]
[{"$f":"IF(Sheet1!B1168=\"\",\"\",Sheet1!B1168&\" \"&Sheet1!C1168)","v":"Jiminez Marco"}]
[{"$f":"IF(Sheet1!B1169=\"\",\"\",Sheet1!B1169&\" \"&Sheet1!C1169)","v":"Johnke Captain Bart"}]
[{"$f":"IF(Sheet1!B1170=\"\",\"\",Sheet1!B1170&\" \"&Sheet1!C1170)","v":"Johns Amy"}]
[{"$f":"IF(Sheet1!B1171=\"\",\"\",Sheet1!B1171&\" \"&Sheet1!C1171)","v":"Johns John Edwin"}]
[{"$f":"IF(Sheet1!B1172=\"\",\"\",Sheet1!B1172&\" \"&Sheet1!C1172)","v":"Johnson Asal"}]
[{"$f":"IF(Sheet1!B1173=\"\",\"\",Sheet1!B1173&\" \"&Sheet1!C1173)","v":"Johnson Betty Drees"}]
[{"$f":"IF(Sheet1!B1174=\"\",\"\",Sheet1!B1174&\" \"&Sheet1!C1174)","v":"Johnson Brian L."}]
[{"$f":"IF(Sheet1!B1175=\"\",\"\",Sheet1!B1175&\" \"&Sheet1!C1175)","v":"Johnson Carl Herbert"}]
[{"$f":"IF(Sheet1!B1176=\"\",\"\",Sheet1!B1176&\" \"&Sheet1!C1176)","v":"Johnson Derek"}]
[{"$f":"IF(Sheet1!B1177=\"\",\"\",Sheet1!B1177&\" \"&Sheet1!C1177)","v":"Johnson Deryl B."}]
[{"$f":"IF(Sheet1!B1178=\"\",\"\",Sheet1!B1178&\" \"&Sheet1!C1178)","v":"Johnson Eunah"}]
[{"$f":"IF(Sheet1!B1179=\"\",\"\",Sheet1!B1179&\" \"&Sheet1!C1179)","v":"Johnson Evans Combs"}]
[{"$f":"IF(Sheet1!B1180=\"\",\"\",Sheet1!B1180&\" \"&Sheet1!C1180)","v":"Johnson Jeffry M."}]
[{"$f":"IF(Sheet1!B1181=\"\",\"\",Sheet1!B1181&\" \"&Sheet1!C1181)","v":"Johnson Kathleen Allen"}]
[{"$f":"IF(Sheet1!B1182=\"\",\"\",Sheet1!B1182&\" \"&Sheet1!C1182)","v":"Johnson Ludie Harvey"}]
[{"$f":"IF(Sheet1!B1183=\"\",\"\",Sheet1!B1183&\" \"&Sheet1!C1183)","v":"Johnson Nancy Plattner"}]
[{"$f":"IF(Sheet1!B1184=\"\",\"\",Sheet1!B1184&\" \"&Sheet1!C1184)","v":"Johnson Otis"}]
[{"$f":"IF(Sheet1!B1185=\"\",\"\",Sheet1!B1185&\" \"&Sheet1!C1185)","v":"Johnson Patricia R."}]
[{"$f":"IF(Sheet1!B1186=\"\",\"\",Sheet1!B1186&\" \"&Sheet1!C1186)","v":"Johnson Robert Lewis"}]
[{"$f":"IF(Sheet1!B1187=\"\",\"\",Sheet1!B1187&\" \"&Sheet1!C1187)","v":"Johnson Samba"}]
[{"$f":"IF(Sheet1!B1188=\"\",\"\",Sheet1!B1188&\" \"&Sheet1!C1188)","v":"Johnson William C"}]
[{"$f":"IF(Sheet1!B1189=\"\",\"\",Sheet1!B1189&\" \"&Sheet1!C1189)","v":"Joiner Amelia Michele"}]
[{"$f":"IF(Sheet1!B1190=\"\",\"\",Sheet1!B1190&\" \"&Sheet1!C1190)","v":"Joiner E. Earl"}]
[{"$f":"IF(Sheet1!B1191=\"\",\"\",Sheet1!B1191&\" \"&Sheet1!C1191)","v":"Jones Brittany"}]
[{"$f":"IF(Sheet1!B1192=\"\",\"\",Sheet1!B1192&\" \"&Sheet1!C1192)","v":"Jones Catherine"}]
[{"$f":"IF(Sheet1!B1193=\"\",\"\",Sheet1!B1193&\" \"&Sheet1!C1193)","v":"Jones Darryll"}]
[{"$f":"IF(Sheet1!B1194=\"\",\"\",Sheet1!B1194&\" \"&Sheet1!C1194)","v":"Jones Eric L."}]
[{"$f":"IF(Sheet1!B1195=\"\",\"\",Sheet1!B1195&\" \"&Sheet1!C1195)","v":"Jones George E."}]
[{"$f":"IF(Sheet1!B1196=\"\",\"\",Sheet1!B1196&\" \"&Sheet1!C1196)","v":"Jones Jennifer"}]
[{"$f":"IF(Sheet1!B1197=\"\",\"\",Sheet1!B1197&\" \"&Sheet1!C1197)","v":"Jones Joel E."}]
[{"$f":"IF(Sheet1!B1198=\"\",\"\",Sheet1!B1198&\" \"&Sheet1!C1198)","v":"Jones Judi P."}]
[{"$f":"IF(Sheet1!B1199=\"\",\"\",Sheet1!B1199&\" \"&Sheet1!C1199)","v":"Jones Margaret L."}]
[{"$f":"IF(Sheet1!B1200=\"\",\"\",Sheet1!B1200&\" \"&Sheet1!C1200)","v":"Jones Marjorie Kersey"}]
[{"$f":"IF(Sheet1!B1201=\"\",\"\",Sheet1!B1201&\" \"&Sheet1!C1201)","v":"Jones Mary P."}]
[{"$f":"IF(Sheet1!B1202=\"\",\"\",Sheet1!B1202&\" \"&Sheet1!C1202)","v":"Jones Oscar"}]
[{"$f":"IF(Sheet1!B1203=\"\",\"\",Sheet1!B1203&\" \"&Sheet1!C1203)","v":"Jones Scott"}]
[{"$f":"IF(Sheet1!B1204=\"\",\"\",Sheet1!B1204&\" \"&Sheet1!C1204)","v":"Jones Tara"}]
[{"$f":"IF(Sheet1!B1205=\"\",\"\",Sheet1!B1205&\" \"&Sheet1!C1205)","v":"Jones Wendell O."}]
[{"$f":"IF(Sheet1!B1206=\"\",\"\",Sheet1!B1206&\" \"&Sheet1!C1206)","v":"Jones Boyd M., II"}]
[{"$f":"IF(Sheet1!B1207=\"\",\"\",Sheet1!B1207&\" \"&Sheet1!C1207)","v":"Jones Ray G., Jr."}]
[{"$f":"IF(Sheet1!B1208=\"\",\"\",Sheet1!B1208&\" \"&Sheet1!C1208)","v":"Jones Warren F., Jr."}]
[{"$f":"IF(Sheet1!B1209=\"\",\"\",Sheet1!B1209&\" \"&Sheet1!C1209)","v":"Jordan A.A."}]
[{"$f":"IF(Sheet1!B1210=\"\",\"\",Sheet1!B1210&\" \"&Sheet1!C1210)","v":"Jordan Kelly"}]
[{"$f":"IF(Sheet1!B1211=\"\",\"\",Sheet1!B1211&\" \"&Sheet1!C1211)","v":"Jordan Ray"}]
[{"$f":"IF(Sheet1!B1212=\"\",\"\",Sheet1!B1212&\" \"&Sheet1!C1212)","v":"Joseph Thad"}]
[{"$f":"IF(Sheet1!B1213=\"\",\"\",Sheet1!B1213&\" \"&Sheet1!C1213)","v":"Jost Lillian M"}]
[{"$f":"IF(Sheet1!B1214=\"\",\"\",Sheet1!B1214&\" \"&Sheet1!C1214)","v":"Julian Carol L."}]
[{"$f":"IF(Sheet1!B1215=\"\",\"\",Sheet1!B1215&\" \"&Sheet1!C1215)","v":"Jupp Mary L"}]
[{"$f":"IF(Sheet1!B1216=\"\",\"\",Sheet1!B1216&\" \"&Sheet1!C1216)","v":"Jusick Anthony T."}]
[{"$f":"IF(Sheet1!B1217=\"\",\"\",Sheet1!B1217&\" \"&Sheet1!C1217)","v":"Juusela Kari"}]
[{"$f":"IF(Sheet1!B1218=\"\",\"\",Sheet1!B1218&\" \"&Sheet1!C1218)","v":"Kaivola Karen"}]
[{"$f":"IF(Sheet1!B1219=\"\",\"\",Sheet1!B1219&\" \"&Sheet1!C1219)","v":"Kalbfus Joseph P."}]
[{"$f":"IF(Sheet1!B1220=\"\",\"\",Sheet1!B1220&\" \"&Sheet1!C1220)","v":"Kaldor Michael"}]
[{"$f":"IF(Sheet1!B1221=\"\",\"\",Sheet1!B1221&\" \"&Sheet1!C1221)","v":"Kalisak Rosemary"}]
[{"$f":"IF(Sheet1!B1222=\"\",\"\",Sheet1!B1222&\" \"&Sheet1!C1222)","v":"Kandus-Fisher Christopher"}]
[{"$f":"IF(Sheet1!B1223=\"\",\"\",Sheet1!B1223&\" \"&Sheet1!C1223)","v":"Kanner Anne Helen"}]
[{"$f":"IF(Sheet1!B1224=\"\",\"\",Sheet1!B1224&\" \"&Sheet1!C1224)","v":"Kaplin William A."}]
[{"$f":"IF(Sheet1!B1225=\"\",\"\",Sheet1!B1225&\" \"&Sheet1!C1225)","v":"Katz Harry"}]
[{"$f":"IF(Sheet1!B1226=\"\",\"\",Sheet1!B1226&\" \"&Sheet1!C1226)","v":"Kaye Timothy S."}]
[{"$f":"IF(Sheet1!B1227=\"\",\"\",Sheet1!B1227&\" \"&Sheet1!C1227)","v":"Kazmarek Robin"}]
[{"$f":"IF(Sheet1!B1228=\"\",\"\",Sheet1!B1228&\" \"&Sheet1!C1228)","v":"Kearley Kandie K."}]
[{"$f":"IF(Sheet1!B1229=\"\",\"\",Sheet1!B1229&\" \"&Sheet1!C1229)","v":"Keefe Georgia S."}]
[{"$f":"IF(Sheet1!B1230=\"\",\"\",Sheet1!B1230&\" \"&Sheet1!C1230)","v":"Keesling Emory Garland, III"}]
[{"$f":"IF(Sheet1!B1231=\"\",\"\",Sheet1!B1231&\" \"&Sheet1!C1231)","v":"Keil Michael"}]
[{"$f":"IF(Sheet1!B1232=\"\",\"\",Sheet1!B1232&\" \"&Sheet1!C1232)","v":"Kelly Faye L."}]
[{"$f":"IF(Sheet1!B1233=\"\",\"\",Sheet1!B1233&\" \"&Sheet1!C1233)","v":"Kendall Amelia R."}]
[{"$f":"IF(Sheet1!B1234=\"\",\"\",Sheet1!B1234&\" \"&Sheet1!C1234)","v":"Kenefick Louise"}]
[{"$f":"IF(Sheet1!B1235=\"\",\"\",Sheet1!B1235&\" \"&Sheet1!C1235)","v":"Kenefick Marian Dow"}]
[{"$f":"IF(Sheet1!B1236=\"\",\"\",Sheet1!B1236&\" \"&Sheet1!C1236)","v":"Kennedy Barbara"}]
[{"$f":"IF(Sheet1!B1237=\"\",\"\",Sheet1!B1237&\" \"&Sheet1!C1237)","v":"Kennedy Harriet"}]
[{"$f":"IF(Sheet1!B1238=\"\",\"\",Sheet1!B1238&\" \"&Sheet1!C1238)","v":"Kennedy May"}]
[{"$f":"IF(Sheet1!B1239=\"\",\"\",Sheet1!B1239&\" \"&Sheet1!C1239)","v":"Kennedy Ruth"}]
[{"$f":"IF(Sheet1!B1240=\"\",\"\",Sheet1!B1240&\" \"&Sheet1!C1240)","v":"Keown Mary Ellen"}]
[{"$f":"IF(Sheet1!B1241=\"\",\"\",Sheet1!B1241&\" \"&Sheet1!C1241)","v":"Kermath Brian M."}]
[{"$f":"IF(Sheet1!B1242=\"\",\"\",Sheet1!B1242&\" \"&Sheet1!C1242)","v":"Kerr Floyd"}]
[{"$f":"IF(Sheet1!B1243=\"\",\"\",Sheet1!B1243&\" \"&Sheet1!C1243)","v":"Kersey Marjorie"}]
[{"$f":"IF(Sheet1!B1244=\"\",\"\",Sheet1!B1244&\" \"&Sheet1!C1244)","v":"Keys Josh"}]
[{"$f":"IF(Sheet1!B1245=\"\",\"\",Sheet1!B1245&\" \"&Sheet1!C1245)","v":"Khader Jamil"}]
[{"$f":"IF(Sheet1!B1246=\"\",\"\",Sheet1!B1246&\" \"&Sheet1!C1246)","v":"Khourdifi Abdelaziz"}]
[{"$f":"IF(Sheet1!B1247=\"\",\"\",Sheet1!B1247&\" \"&Sheet1!C1247)","v":"Kiely Vernon R."}]
[{"$f":"IF(Sheet1!B1248=\"\",\"\",Sheet1!B1248&\" \"&Sheet1!C1248)","v":"Kihyet Constance M."}]
[{"$f":"IF(Sheet1!B1249=\"\",\"\",Sheet1!B1249&\" \"&Sheet1!C1249)","v":"Kim Esther C."}]
[{"$f":"IF(Sheet1!B1250=\"\",\"\",Sheet1!B1250&\" \"&Sheet1!C1250)","v":"Kincaid Elanor"}]
[{"$f":"IF(Sheet1!B1251=\"\",\"\",Sheet1!B1251&\" \"&Sheet1!C1251)","v":"Kindred Ella Cramer"}]
[{"$f":"IF(Sheet1!B1252=\"\",\"\",Sheet1!B1252&\" \"&Sheet1!C1252)","v":"Kindred Janis B."}]
[{"$f":"IF(Sheet1!B1253=\"\",\"\",Sheet1!B1253&\" \"&Sheet1!C1253)","v":"Kindred John Joseph"}]
[{"$f":"IF(Sheet1!B1254=\"\",\"\",Sheet1!B1254&\" \"&Sheet1!C1254)","v":"Kindred A. Richard, Jr."}]
[{"$f":"IF(Sheet1!B1255=\"\",\"\",Sheet1!B1255&\" \"&Sheet1!C1255)","v":"King Byron W."}]
[{"$f":"IF(Sheet1!B1256=\"\",\"\",Sheet1!B1256&\" \"&Sheet1!C1256)","v":"King Camille"}]
[{"$f":"IF(Sheet1!B1257=\"\",\"\",Sheet1!B1257&\" \"&Sheet1!C1257)","v":"King Carina"}]
[{"$f":"IF(Sheet1!B1258=\"\",\"\",Sheet1!B1258&\" \"&Sheet1!C1258)","v":"King Carolyn"}]
[{"$f":"IF(Sheet1!B1259=\"\",\"\",Sheet1!B1259&\" \"&Sheet1!C1259)","v":"King Donald B."}]
[{"$f":"IF(Sheet1!B1260=\"\",\"\",Sheet1!B1260&\" \"&Sheet1!C1260)","v":"King Inez Todd"}]
[{"$f":"IF(Sheet1!B1261=\"\",\"\",Sheet1!B1261&\" \"&Sheet1!C1261)","v":"King James Preston"}]
[{"$f":"IF(Sheet1!B1262=\"\",\"\",Sheet1!B1262&\" \"&Sheet1!C1262)","v":"King Mary E."}]
[{"$f":"IF(Sheet1!B1263=\"\",\"\",Sheet1!B1263&\" \"&Sheet1!C1263)","v":"King Maude Emma"}]
[{"$f":"IF(Sheet1!B1264=\"\",\"\",Sheet1!B1264&\" \"&Sheet1!C1264)","v":"King Michael S."}]
[{"$f":"IF(Sheet1!B1265=\"\",\"\",Sheet1!B1265&\" \"&Sheet1!C1265)","v":"Kinnan Dewey"}]
[{"$f":"IF(Sheet1!B1266=\"\",\"\",Sheet1!B1266&\" \"&Sheet1!C1266)","v":"Kinum Ethel C."}]
[{"$f":"IF(Sheet1!B1267=\"\",\"\",Sheet1!B1267&\" \"&Sheet1!C1267)","v":"Kionka Edward"}]
[{"$f":"IF(Sheet1!B1268=\"\",\"\",Sheet1!B1268&\" \"&Sheet1!C1268)","v":"Kipp R. Earl"}]
[{"$f":"IF(Sheet1!B1269=\"\",\"\",Sheet1!B1269&\" \"&Sheet1!C1269)","v":"Kiriwas Jeannie"}]
[{"$f":"IF(Sheet1!B1270=\"\",\"\",Sheet1!B1270&\" \"&Sheet1!C1270)","v":"Kirkland Laura N."}]
[{"$f":"IF(Sheet1!B1271=\"\",\"\",Sheet1!B1271&\" \"&Sheet1!C1271)","v":"Kirkland Thomas"}]
[{"$f":"IF(Sheet1!B1272=\"\",\"\",Sheet1!B1272&\" \"&Sheet1!C1272)","v":"Kirsch Ramona"}]
[{"$f":"IF(Sheet1!B1273=\"\",\"\",Sheet1!B1273&\" \"&Sheet1!C1273)","v":"Kitchen Zilla"}]
[{"$f":"IF(Sheet1!B1274=\"\",\"\",Sheet1!B1274&\" \"&Sheet1!C1274)","v":"Klein Diane"}]
[{"$f":"IF(Sheet1!B1275=\"\",\"\",Sheet1!B1275&\" \"&Sheet1!C1275)","v":"Klein Margaret P."}]
[{"$f":"IF(Sheet1!B1276=\"\",\"\",Sheet1!B1276&\" \"&Sheet1!C1276)","v":"Kletzing Dennis K."}]
[{"$f":"IF(Sheet1!B1277=\"\",\"\",Sheet1!B1277&\" \"&Sheet1!C1277)","v":"Klicker Eva"}]
[{"$f":"IF(Sheet1!B1278=\"\",\"\",Sheet1!B1278&\" \"&Sheet1!C1278)","v":"Klim Frank"}]
[{"$f":"IF(Sheet1!B1279=\"\",\"\",Sheet1!B1279&\" \"&Sheet1!C1279)","v":"Klimas Tadas"}]
[{"$f":"IF(Sheet1!B1280=\"\",\"\",Sheet1!B1280&\" \"&Sheet1!C1280)","v":"Kline Sims D."}]
[{"$f":"IF(Sheet1!B1281=\"\",\"\",Sheet1!B1281&\" \"&Sheet1!C1281)","v":"Klotzbach Susan"}]
[{"$f":"IF(Sheet1!B1282=\"\",\"\",Sheet1!B1282&\" \"&Sheet1!C1282)","v":"Knapp Francis M."}]
[{"$f":"IF(Sheet1!B1283=\"\",\"\",Sheet1!B1283&\" \"&Sheet1!C1283)","v":"Knapp Walter"}]
[{"$f":"IF(Sheet1!B1284=\"\",\"\",Sheet1!B1284&\" \"&Sheet1!C1284)","v":"Knotts Clara J."}]
[{"$f":"IF(Sheet1!B1285=\"\",\"\",Sheet1!B1285&\" \"&Sheet1!C1285)","v":"Knowles Addie"}]
[{"$f":"IF(Sheet1!B1286=\"\",\"\",Sheet1!B1286&\" \"&Sheet1!C1286)","v":"Knowles John"}]
[{"$f":"IF(Sheet1!B1287=\"\",\"\",Sheet1!B1287&\" \"&Sheet1!C1287)","v":"Knowles Virgil"}]
[{"$f":"IF(Sheet1!B1288=\"\",\"\",Sheet1!B1288&\" \"&Sheet1!C1288)","v":"Knox Rosa Belle"}]
[{"$f":"IF(Sheet1!B1289=\"\",\"\",Sheet1!B1289&\" \"&Sheet1!C1289)","v":"Koberstein Kathy Jo"}]
[{"$f":"IF(Sheet1!B1290=\"\",\"\",Sheet1!B1290&\" \"&Sheet1!C1290)","v":"Kominowski Edward"}]
[{"$f":"IF(Sheet1!B1291=\"\",\"\",Sheet1!B1291&\" \"&Sheet1!C1291)","v":"Kooistra Paul G."}]
[{"$f":"IF(Sheet1!B1292=\"\",\"\",Sheet1!B1292&\" \"&Sheet1!C1292)","v":"Kooman Harold Albert"}]
[{"$f":"IF(Sheet1!B1293=\"\",\"\",Sheet1!B1293&\" \"&Sheet1!C1293)","v":"Kossow Julian R."}]
[{"$f":"IF(Sheet1!B1294=\"\",\"\",Sheet1!B1294&\" \"&Sheet1!C1294)","v":"Kramer Jerome F."}]
[{"$f":"IF(Sheet1!B1295=\"\",\"\",Sheet1!B1295&\" \"&Sheet1!C1295)","v":"Krause Harry D."}]
[{"$f":"IF(Sheet1!B1296=\"\",\"\",Sheet1!B1296&\" \"&Sheet1!C1296)","v":"Kreuter Roger"}]
[{"$f":"IF(Sheet1!B1297=\"\",\"\",Sheet1!B1297&\" \"&Sheet1!C1297)","v":"Krishnan Ganapathy"}]
[{"$f":"IF(Sheet1!B1298=\"\",\"\",Sheet1!B1298&\" \"&Sheet1!C1298)","v":"Kroumovitch Routa"}]
[{"$f":"IF(Sheet1!B1299=\"\",\"\",Sheet1!B1299&\" \"&Sheet1!C1299)","v":"Kruse Gretchen"}]
[{"$f":"IF(Sheet1!B1300=\"\",\"\",Sheet1!B1300&\" \"&Sheet1!C1300)","v":"Kruse John H."}]
[{"$f":"IF(Sheet1!B1301=\"\",\"\",Sheet1!B1301&\" \"&Sheet1!C1301)","v":"Kruse Olive"}]
[{"$f":"IF(Sheet1!B1302=\"\",\"\",Sheet1!B1302&\" \"&Sheet1!C1302)","v":"Kudryavtseva Ekaterina"}]
[{"$f":"IF(Sheet1!B1303=\"\",\"\",Sheet1!B1303&\" \"&Sheet1!C1303)","v":"Kuenzel Calvin Arnold"}]
[{"$f":"IF(Sheet1!B1304=\"\",\"\",Sheet1!B1304&\" \"&Sheet1!C1304)","v":"Kurlander Eric"}]
[{"$f":"IF(Sheet1!B1305=\"\",\"\",Sheet1!B1305&\" \"&Sheet1!C1305)","v":"Kyser Marion L."}]
[{"$f":"IF(Sheet1!B1306=\"\",\"\",Sheet1!B1306&\" \"&Sheet1!C1306)","v":"La France Leo P."}]
[{"$f":"IF(Sheet1!B1307=\"\",\"\",Sheet1!B1307&\" \"&Sheet1!C1307)","v":"LaBach William A"}]
[{"$f":"IF(Sheet1!B1308=\"\",\"\",Sheet1!B1308&\" \"&Sheet1!C1308)","v":"Lachelier Paul"}]
[{"$f":"IF(Sheet1!B1309=\"\",\"\",Sheet1!B1309&\" \"&Sheet1!C1309)","v":"Lacy Elizabeth"}]
[{"$f":"IF(Sheet1!B1310=\"\",\"\",Sheet1!B1310&\" \"&Sheet1!C1310)","v":"LaFuze George Leighton"}]
[{"$f":"IF(Sheet1!B1311=\"\",\"\",Sheet1!B1311&\" \"&Sheet1!C1311)","v":"Lagergren Siegrid A."}]
[{"$f":"IF(Sheet1!B1312=\"\",\"\",Sheet1!B1312&\" \"&Sheet1!C1312)","v":"Lagunas Luis Rojas"}]
[{"$f":"IF(Sheet1!B1313=\"\",\"\",Sheet1!B1313&\" \"&Sheet1!C1313)","v":"Lake Peter"}]
[{"$f":"IF(Sheet1!B1314=\"\",\"\",Sheet1!B1314&\" \"&Sheet1!C1314)","v":"Lambert Thomas F."}]
[{"$f":"IF(Sheet1!B1315=\"\",\"\",Sheet1!B1315&\" \"&Sheet1!C1315)","v":"Landis Cary D."}]
[{"$f":"IF(Sheet1!B1316=\"\",\"\",Sheet1!B1316&\" \"&Sheet1!C1316)","v":"Landis Roger L."}]
[{"$f":"IF(Sheet1!B1317=\"\",\"\",Sheet1!B1317&\" \"&Sheet1!C1317)","v":"Landis-Long Lynn L."}]
[{"$f":"IF(Sheet1!B1318=\"\",\"\",Sheet1!B1318&\" \"&Sheet1!C1318)","v":"Lane Frederica Elizabeth"}]
[{"$f":"IF(Sheet1!B1319=\"\",\"\",Sheet1!B1319&\" \"&Sheet1!C1319)","v":"Langford Richard E."}]
[{"$f":"IF(Sheet1!B1320=\"\",\"\",Sheet1!B1320&\" \"&Sheet1!C1320)","v":"Langston Paul T."}]
[{"$f":"IF(Sheet1!B1321=\"\",\"\",Sheet1!B1321&\" \"&Sheet1!C1321)","v":"Lanier Marion S."}]
[{"$f":"IF(Sheet1!B1322=\"\",\"\",Sheet1!B1322&\" \"&Sheet1!C1322)","v":"Lapp Katharine E."}]
[{"$f":"IF(Sheet1!B1323=\"\",\"\",Sheet1!B1323&\" \"&Sheet1!C1323)","v":"Laprime Danielle"}]
[{"$f":"IF(Sheet1!B1324=\"\",\"\",Sheet1!B1324&\" \"&Sheet1!C1324)","v":"Larcher Agnes Rosina"}]
[{"$f":"IF(Sheet1!B1325=\"\",\"\",Sheet1!B1325&\" \"&Sheet1!C1325)","v":"Larcher Dietmar"}]
[{"$f":"IF(Sheet1!B1326=\"\",\"\",Sheet1!B1326&\" \"&Sheet1!C1326)","v":"Larcom Russell C."}]
[{"$f":"IF(Sheet1!B1327=\"\",\"\",Sheet1!B1327&\" \"&Sheet1!C1327)","v":"Largen Susan"}]
[{"$f":"IF(Sheet1!B1328=\"\",\"\",Sheet1!B1328&\" \"&Sheet1!C1328)","v":"LaRosa Peter"}]
[{"$f":"IF(Sheet1!B1329=\"\",\"\",Sheet1!B1329&\" \"&Sheet1!C1329)","v":"Larson Andrew L."}]
[{"$f":"IF(Sheet1!B1330=\"\",\"\",Sheet1!B1330&\" \"&Sheet1!C1330)","v":"Larson Derek"}]
[{"$f":"IF(Sheet1!B1331=\"\",\"\",Sheet1!B1331&\" \"&Sheet1!C1331)","v":"Larue Isaac N."}]
[{"$f":"IF(Sheet1!B1332=\"\",\"\",Sheet1!B1332&\" \"&Sheet1!C1332)","v":"Lashbrooke Elvin C., Jr."}]
[{"$f":"IF(Sheet1!B1333=\"\",\"\",Sheet1!B1333&\" \"&Sheet1!C1333)","v":"Latham Darren R."}]
[{"$f":"IF(Sheet1!B1334=\"\",\"\",Sheet1!B1334&\" \"&Sheet1!C1334)","v":"Latham Mary Della"}]
[{"$f":"IF(Sheet1!B1335=\"\",\"\",Sheet1!B1335&\" \"&Sheet1!C1335)","v":"Latimer Jerome C."}]
[{"$f":"IF(Sheet1!B1336=\"\",\"\",Sheet1!B1336&\" \"&Sheet1!C1336)","v":"Law F. Susie"}]
[{"$f":"IF(Sheet1!B1337=\"\",\"\",Sheet1!B1337&\" \"&Sheet1!C1337)","v":"Law Loretta"}]
[{"$f":"IF(Sheet1!B1338=\"\",\"\",Sheet1!B1338&\" \"&Sheet1!C1338)","v":"Lawrance Harold Gaines"}]
[{"$f":"IF(Sheet1!B1339=\"\",\"\",Sheet1!B1339&\" \"&Sheet1!C1339)","v":"Lawrence Janice K."}]
[{"$f":"IF(Sheet1!B1340=\"\",\"\",Sheet1!B1340&\" \"&Sheet1!C1340)","v":"Lawson David I."}]
[{"$f":"IF(Sheet1!B1341=\"\",\"\",Sheet1!B1341&\" \"&Sheet1!C1341)","v":"Lawson Gertrude"}]
[{"$f":"IF(Sheet1!B1342=\"\",\"\",Sheet1!B1342&\" \"&Sheet1!C1342)","v":"Lawson Leroy"}]
[{"$f":"IF(Sheet1!B1343=\"\",\"\",Sheet1!B1343&\" \"&Sheet1!C1343)","v":"Layton A. Lloyd"}]
[{"$f":"IF(Sheet1!B1344=\"\",\"\",Sheet1!B1344&\" \"&Sheet1!C1344)","v":"Layton Ivy"}]
[{"$f":"IF(Sheet1!B1345=\"\",\"\",Sheet1!B1345&\" \"&Sheet1!C1345)","v":"Lea James W."}]
[{"$f":"IF(Sheet1!B1346=\"\",\"\",Sheet1!B1346&\" \"&Sheet1!C1346)","v":"Leahy Robert M."}]
[{"$f":"IF(Sheet1!B1347=\"\",\"\",Sheet1!B1347&\" \"&Sheet1!C1347)","v":"Leaphart Charles William"}]
[{"$f":"IF(Sheet1!B1348=\"\",\"\",Sheet1!B1348&\" \"&Sheet1!C1348)","v":"Leatherbury Maurice C."}]
[{"$f":"IF(Sheet1!B1349=\"\",\"\",Sheet1!B1349&\" \"&Sheet1!C1349)","v":"Leatherman Daniel R"}]
[{"$f":"IF(Sheet1!B1350=\"\",\"\",Sheet1!B1350&\" \"&Sheet1!C1350)","v":"Leavitt Arthur H."}]
[{"$f":"IF(Sheet1!B1351=\"\",\"\",Sheet1!B1351&\" \"&Sheet1!C1351)","v":"Leavitt Edith Merrill"}]
[{"$f":"IF(Sheet1!B1352=\"\",\"\",Sheet1!B1352&\" \"&Sheet1!C1352)","v":"Leavitt Mark"}]
[{"$f":"IF(Sheet1!B1353=\"\",\"\",Sheet1!B1353&\" \"&Sheet1!C1353)","v":"Leblanc Patty"}]
[{"$f":"IF(Sheet1!B1354=\"\",\"\",Sheet1!B1354&\" \"&Sheet1!C1354)","v":"Lederhaus Mary Ann"}]
[{"$f":"IF(Sheet1!B1355=\"\",\"\",Sheet1!B1355&\" \"&Sheet1!C1355)","v":"Lee Adele F. F."}]
[{"$f":"IF(Sheet1!B1356=\"\",\"\",Sheet1!B1356&\" \"&Sheet1!C1356)","v":"Lee Bong Ho"}]
[{"$f":"IF(Sheet1!B1357=\"\",\"\",Sheet1!B1357&\" \"&Sheet1!C1357)","v":"Lee Kenneth"}]
[{"$f":"IF(Sheet1!B1358=\"\",\"\",Sheet1!B1358&\" \"&Sheet1!C1358)","v":"Lee Philip A."}]
[{"$f":"IF(Sheet1!B1359=\"\",\"\",Sheet1!B1359&\" \"&Sheet1!C1359)","v":"Leek Eleanor"}]
[{"$f":"IF(Sheet1!B1360=\"\",\"\",Sheet1!B1360&\" \"&Sheet1!C1360)","v":"Leeman Elizabeth M."}]
[{"$f":"IF(Sheet1!B1361=\"\",\"\",Sheet1!B1361&\" \"&Sheet1!C1361)","v":"Lefter J. Baird"}]
[{"$f":"IF(Sheet1!B1362=\"\",\"\",Sheet1!B1362&\" \"&Sheet1!C1362)","v":"Lehman Jenna"}]
[{"$f":"IF(Sheet1!B1363=\"\",\"\",Sheet1!B1363&\" \"&Sheet1!C1363)","v":"Leib William S."}]
[{"$f":"IF(Sheet1!B1364=\"\",\"\",Sheet1!B1364&\" \"&Sheet1!C1364)","v":"Leinbach Irwin S."}]
[{"$f":"IF(Sheet1!B1365=\"\",\"\",Sheet1!B1365&\" \"&Sheet1!C1365)","v":"Leitner Almena"}]
[{"$f":"IF(Sheet1!B1366=\"\",\"\",Sheet1!B1366&\" \"&Sheet1!C1366)","v":"Lemmon William J."}]
[{"$f":"IF(Sheet1!B1367=\"\",\"\",Sheet1!B1367&\" \"&Sheet1!C1367)","v":"Lenholt Robert"}]
[{"$f":"IF(Sheet1!B1368=\"\",\"\",Sheet1!B1368&\" \"&Sheet1!C1368)","v":"Lenich John P."}]
[{"$f":"IF(Sheet1!B1369=\"\",\"\",Sheet1!B1369&\" \"&Sheet1!C1369)","v":"Lenoir James Jefferson"}]
[{"$f":"IF(Sheet1!B1370=\"\",\"\",Sheet1!B1370&\" \"&Sheet1!C1370)","v":"Lentz Kurt W."}]
[{"$f":"IF(Sheet1!B1371=\"\",\"\",Sheet1!B1371&\" \"&Sheet1!C1371)","v":"Lenz Kurt W."}]
[{"$f":"IF(Sheet1!B1372=\"\",\"\",Sheet1!B1372&\" \"&Sheet1!C1372)","v":"Leonard Marion B."}]
[{"$f":"IF(Sheet1!B1373=\"\",\"\",Sheet1!B1373&\" \"&Sheet1!C1373)","v":"Leonard Nancy"}]
[{"$f":"IF(Sheet1!B1374=\"\",\"\",Sheet1!B1374&\" \"&Sheet1!C1374)","v":"Lerfald Robert A"}]
[{"$f":"IF(Sheet1!B1375=\"\",\"\",Sheet1!B1375&\" \"&Sheet1!C1375)","v":"Lerro Anthony J."}]
[{"$f":"IF(Sheet1!B1376=\"\",\"\",Sheet1!B1376&\" \"&Sheet1!C1376)","v":"Leutze Charlotte Jessie"}]
[{"$f":"IF(Sheet1!B1377=\"\",\"\",Sheet1!B1377&\" \"&Sheet1!C1377)","v":"Levaas Larry N."}]
[{"$f":"IF(Sheet1!B1378=\"\",\"\",Sheet1!B1378&\" \"&Sheet1!C1378)","v":"Lewandowski Joe"}]
[{"$f":"IF(Sheet1!B1379=\"\",\"\",Sheet1!B1379&\" \"&Sheet1!C1379)","v":"Lewis Charles H."}]
[{"$f":"IF(Sheet1!B1380=\"\",\"\",Sheet1!B1380&\" \"&Sheet1!C1380)","v":"Lewis Clyatt"}]
[{"$f":"IF(Sheet1!B1381=\"\",\"\",Sheet1!B1381&\" \"&Sheet1!C1381)","v":"Lewis Elizabeth"}]
[{"$f":"IF(Sheet1!B1382=\"\",\"\",Sheet1!B1382&\" \"&Sheet1!C1382)","v":"Lewis Mary G."}]
[{"$f":"IF(Sheet1!B1383=\"\",\"\",Sheet1!B1383&\" \"&Sheet1!C1383)","v":"Ley Anna"}]
[{"$f":"IF(Sheet1!B1384=\"\",\"\",Sheet1!B1384&\" \"&Sheet1!C1384)","v":"Libby Gary R"}]
[{"$f":"IF(Sheet1!B1385=\"\",\"\",Sheet1!B1385&\" \"&Sheet1!C1385)","v":"Libby Wendy B."}]
[{"$f":"IF(Sheet1!B1386=\"\",\"\",Sheet1!B1386&\" \"&Sheet1!C1386)","v":"Lick Thomas A."}]
[{"$f":"IF(Sheet1!B1387=\"\",\"\",Sheet1!B1387&\" \"&Sheet1!C1387)","v":"Liechty Kayla L."}]
[{"$f":"IF(Sheet1!B1388=\"\",\"\",Sheet1!B1388&\" \"&Sheet1!C1388)","v":"Lightfoot Eloise"}]
[{"$f":"IF(Sheet1!B1389=\"\",\"\",Sheet1!B1389&\" \"&Sheet1!C1389)","v":"Limpus Charles E."}]
[{"$f":"IF(Sheet1!B1390=\"\",\"\",Sheet1!B1390&\" \"&Sheet1!C1390)","v":"Lincoln Abraham Lucius"}]
[{"$f":"IF(Sheet1!B1391=\"\",\"\",Sheet1!B1391&\" \"&Sheet1!C1391)","v":"Lincoln Edna Elizabeth"}]
[{"$f":"IF(Sheet1!B1392=\"\",\"\",Sheet1!B1392&\" \"&Sheet1!C1392)","v":"Lindner Danielle"}]
[{"$f":"IF(Sheet1!B1393=\"\",\"\",Sheet1!B1393&\" \"&Sheet1!C1393)","v":"Lindsey Harold I."}]
[{"$f":"IF(Sheet1!B1394=\"\",\"\",Sheet1!B1394&\" \"&Sheet1!C1394)","v":"Lineberry Martha Foy"}]
[{"$f":"IF(Sheet1!B1395=\"\",\"\",Sheet1!B1395&\" \"&Sheet1!C1395)","v":"Linney Lloyd D."}]
[{"$f":"IF(Sheet1!B1396=\"\",\"\",Sheet1!B1396&\" \"&Sheet1!C1396)","v":"Lipe Leora"}]
[{"$f":"IF(Sheet1!B1397=\"\",\"\",Sheet1!B1397&\" \"&Sheet1!C1397)","v":"Lippitt Mary Dawson"}]
[{"$f":"IF(Sheet1!B1398=\"\",\"\",Sheet1!B1398&\" \"&Sheet1!C1398)","v":"Lipsey Plautus Iberus"}]
[{"$f":"IF(Sheet1!B1399=\"\",\"\",Sheet1!B1399&\" \"&Sheet1!C1399)","v":"Livingston Michael"}]
[{"$f":"IF(Sheet1!B1400=\"\",\"\",Sheet1!B1400&\" \"&Sheet1!C1400)","v":"Loehr William Gray"}]
[{"$f":"IF(Sheet1!B1401=\"\",\"\",Sheet1!B1401&\" \"&Sheet1!C1401)","v":"Loesch Tim"}]
[{"$f":"IF(Sheet1!B1402=\"\",\"\",Sheet1!B1402&\" \"&Sheet1!C1402)","v":"Lofberg John Oscar"}]
[{"$f":"IF(Sheet1!B1403=\"\",\"\",Sheet1!B1403&\" \"&Sheet1!C1403)","v":"Loftin Robert W"}]
[{"$f":"IF(Sheet1!B1404=\"\",\"\",Sheet1!B1404&\" \"&Sheet1!C1404)","v":"Lokey Brandley"}]
[{"$f":"IF(Sheet1!B1405=\"\",\"\",Sheet1!B1405&\" \"&Sheet1!C1405)","v":"Long Bruce W."}]
[{"$f":"IF(Sheet1!B1406=\"\",\"\",Sheet1!B1406&\" \"&Sheet1!C1406)","v":"Long Joe L."}]
[{"$f":"IF(Sheet1!B1407=\"\",\"\",Sheet1!B1407&\" \"&Sheet1!C1407)","v":"Long Joseph C"}]
[{"$f":"IF(Sheet1!B1408=\"\",\"\",Sheet1!B1408&\" \"&Sheet1!C1408)","v":"Long Lance N."}]
[{"$f":"IF(Sheet1!B1409=\"\",\"\",Sheet1!B1409&\" \"&Sheet1!C1409)","v":"Long Lynn L."}]
[{"$f":"IF(Sheet1!B1410=\"\",\"\",Sheet1!B1410&\" \"&Sheet1!C1410)","v":"Long Neal B."}]
[{"$f":"IF(Sheet1!B1411=\"\",\"\",Sheet1!B1411&\" \"&Sheet1!C1411)","v":"Long H. Boyd, III"}]
[{"$f":"IF(Sheet1!B1412=\"\",\"\",Sheet1!B1412&\" \"&Sheet1!C1412)","v":"Longan Patrick E."}]
[{"$f":"IF(Sheet1!B1413=\"\",\"\",Sheet1!B1413&\" \"&Sheet1!C1413)","v":"Longstreet Rupert James"}]
[{"$f":"IF(Sheet1!B1414=\"\",\"\",Sheet1!B1414&\" \"&Sheet1!C1414)","v":"Longwell Elizabeth J."}]
[{"$f":"IF(Sheet1!B1415=\"\",\"\",Sheet1!B1415&\" \"&Sheet1!C1415)","v":"Lopes Cyriaco"}]
[{"$f":"IF(Sheet1!B1416=\"\",\"\",Sheet1!B1416&\" \"&Sheet1!C1416)","v":"Lopez Laval Hilda"}]
[{"$f":"IF(Sheet1!B1417=\"\",\"\",Sheet1!B1417&\" \"&Sheet1!C1417)","v":"Lord Olive Bell"}]
[{"$f":"IF(Sheet1!B1418=\"\",\"\",Sheet1!B1418&\" \"&Sheet1!C1418)","v":"Love Grace Stanton"}]
[{"$f":"IF(Sheet1!B1419=\"\",\"\",Sheet1!B1419&\" \"&Sheet1!C1419)","v":"Lovelace Marc Hoyle"}]
[{"$f":"IF(Sheet1!B1420=\"\",\"\",Sheet1!B1420&\" \"&Sheet1!C1420)","v":"Lovell Cindy"}]
[{"$f":"IF(Sheet1!B1421=\"\",\"\",Sheet1!B1421&\" \"&Sheet1!C1421)","v":"Lovell Ned B."}]
[{"$f":"IF(Sheet1!B1422=\"\",\"\",Sheet1!B1422&\" \"&Sheet1!C1422)","v":"Loving William B."}]
[{"$f":"IF(Sheet1!B1423=\"\",\"\",Sheet1!B1423&\" \"&Sheet1!C1423)","v":"Lowe Mildred"}]
[{"$f":"IF(Sheet1!B1424=\"\",\"\",Sheet1!B1424&\" \"&Sheet1!C1424)","v":"Lowe Wilson G.S."}]
[{"$f":"IF(Sheet1!B1425=\"\",\"\",Sheet1!B1425&\" \"&Sheet1!C1425)","v":"Lowry Curtis Milton"}]
[{"$f":"IF(Sheet1!B1426=\"\",\"\",Sheet1!B1426&\" \"&Sheet1!C1426)","v":"Lowry Mary Tribble"}]
[{"$f":"IF(Sheet1!B1427=\"\",\"\",Sheet1!B1427&\" \"&Sheet1!C1427)","v":"Lucas Phillip C."}]
[{"$f":"IF(Sheet1!B1428=\"\",\"\",Sheet1!B1428&\" \"&Sheet1!C1428)","v":"Lucas Tory L"}]
[{"$f":"IF(Sheet1!B1429=\"\",\"\",Sheet1!B1429&\" \"&Sheet1!C1429)","v":"Luck Meredith S"}]
[{"$f":"IF(Sheet1!B1430=\"\",\"\",Sheet1!B1430&\" \"&Sheet1!C1430)","v":"Ludvigh Elek J."}]
[{"$f":"IF(Sheet1!B1431=\"\",\"\",Sheet1!B1431&\" \"&Sheet1!C1431)","v":"Luhrsen David A."}]
[{"$f":"IF(Sheet1!B1432=\"\",\"\",Sheet1!B1432&\" \"&Sheet1!C1432)","v":"Luker Frank H."}]
[{"$f":"IF(Sheet1!B1433=\"\",\"\",Sheet1!B1433&\" \"&Sheet1!C1433)","v":"Lupfer Barbara"}]
[{"$f":"IF(Sheet1!B1434=\"\",\"\",Sheet1!B1434&\" \"&Sheet1!C1434)","v":"Luther M. Judy"}]
[{"$f":"IF(Sheet1!B1435=\"\",\"\",Sheet1!B1435&\" \"&Sheet1!C1435)","v":"Luya Ian"}]
[{"$f":"IF(Sheet1!B1436=\"\",\"\",Sheet1!B1436&\" \"&Sheet1!C1436)","v":"Lycan Gilbert Lester"}]
[{"$f":"IF(Sheet1!B1437=\"\",\"\",Sheet1!B1437&\" \"&Sheet1!C1437)","v":"Lyons Janet"}]
[{"$f":"IF(Sheet1!B1438=\"\",\"\",Sheet1!B1438&\" \"&Sheet1!C1438)","v":"Ma K. Christopher"}]
[{"$f":"IF(Sheet1!B1439=\"\",\"\",Sheet1!B1439&\" \"&Sheet1!C1439)","v":"Mabry Thomas Ovid"}]
[{"$f":"IF(Sheet1!B1440=\"\",\"\",Sheet1!B1440&\" \"&Sheet1!C1440)","v":"MacAdam Walter N."}]
[{"$f":"IF(Sheet1!B1441=\"\",\"\",Sheet1!B1441&\" \"&Sheet1!C1441)","v":"MacArthur Helen J."}]
[{"$f":"IF(Sheet1!B1442=\"\",\"\",Sheet1!B1442&\" \"&Sheet1!C1442)","v":"MacCarthy Terence F"}]
[{"$f":"IF(Sheet1!B1443=\"\",\"\",Sheet1!B1443&\" \"&Sheet1!C1443)","v":"MacDonald John H"}]
[{"$f":"IF(Sheet1!B1444=\"\",\"\",Sheet1!B1444&\" \"&Sheet1!C1444)","v":"MacDougall Robert J."}]
[{"$f":"IF(Sheet1!B1445=\"\",\"\",Sheet1!B1445&\" \"&Sheet1!C1445)","v":"MacInness J.C."}]
[{"$f":"IF(Sheet1!B1446=\"\",\"\",Sheet1!B1446&\" \"&Sheet1!C1446)","v":"MacIsaac Douglas"}]
[{"$f":"IF(Sheet1!B1447=\"\",\"\",Sheet1!B1447&\" \"&Sheet1!C1447)","v":"Mack Betty"}]
[{"$f":"IF(Sheet1!B1448=\"\",\"\",Sheet1!B1448&\" \"&Sheet1!C1448)","v":"MacLean Annie M."}]
[{"$f":"IF(Sheet1!B1449=\"\",\"\",Sheet1!B1449&\" \"&Sheet1!C1449)","v":"MacNamee R.S."}]
[{"$f":"IF(Sheet1!B1450=\"\",\"\",Sheet1!B1450&\" \"&Sheet1!C1450)","v":"MacQuiston Harvey Malcolm"}]
[{"$f":"IF(Sheet1!B1451=\"\",\"\",Sheet1!B1451&\" \"&Sheet1!C1451)","v":"MacQuiston Paul Donald"}]
[{"$f":"IF(Sheet1!B1452=\"\",\"\",Sheet1!B1452&\" \"&Sheet1!C1452)","v":"Maddox Craig W."}]
[{"$f":"IF(Sheet1!B1453=\"\",\"\",Sheet1!B1453&\" \"&Sheet1!C1453)","v":"Maddox Edward N., III"}]
[{"$f":"IF(Sheet1!B1454=\"\",\"\",Sheet1!B1454&\" \"&Sheet1!C1454)","v":"Maddox Nicholas E., III"}]
[{"$f":"IF(Sheet1!B1455=\"\",\"\",Sheet1!B1455&\" \"&Sheet1!C1455)","v":"Magarian Elizabeth A."}]
[{"$f":"IF(Sheet1!B1456=\"\",\"\",Sheet1!B1456&\" \"&Sheet1!C1456)","v":"Magenheim Milton David"}]
[{"$f":"IF(Sheet1!B1457=\"\",\"\",Sheet1!B1457&\" \"&Sheet1!C1457)","v":"Magoc Dejan"}]
[{"$f":"IF(Sheet1!B1458=\"\",\"\",Sheet1!B1458&\" \"&Sheet1!C1458)","v":"Mahoney Frances May"}]
[{"$f":"IF(Sheet1!B1459=\"\",\"\",Sheet1!B1459&\" \"&Sheet1!C1459)","v":"Malcolm Jean Bush"}]
[{"$f":"IF(Sheet1!B1460=\"\",\"\",Sheet1!B1460&\" \"&Sheet1!C1460)","v":"Mallery William T."}]
[{"$f":"IF(Sheet1!B1461=\"\",\"\",Sheet1!B1461&\" \"&Sheet1!C1461)","v":"Mallett James E."}]
[{"$f":"IF(Sheet1!B1462=\"\",\"\",Sheet1!B1462&\" \"&Sheet1!C1462)","v":"Maloney S. Timothy"}]
[{"$f":"IF(Sheet1!B1463=\"\",\"\",Sheet1!B1463&\" \"&Sheet1!C1463)","v":"Maneck Susan"}]
[{"$f":"IF(Sheet1!B1464=\"\",\"\",Sheet1!B1464&\" \"&Sheet1!C1464)","v":"Mankin Iliana"}]
[{"$f":"IF(Sheet1!B1465=\"\",\"\",Sheet1!B1465&\" \"&Sheet1!C1465)","v":"Mann Mallory"}]
[{"$f":"IF(Sheet1!B1466=\"\",\"\",Sheet1!B1466&\" \"&Sheet1!C1466)","v":"Mann James S."}]
[{"$f":"IF(Sheet1!B1467=\"\",\"\",Sheet1!B1467&\" \"&Sheet1!C1467)","v":"Manson Camilla"}]
[{"$f":"IF(Sheet1!B1468=\"\",\"\",Sheet1!B1468&\" \"&Sheet1!C1468)","v":"Manville Helen F."}]
[{"$f":"IF(Sheet1!B1469=\"\",\"\",Sheet1!B1469&\" \"&Sheet1!C1469)","v":"Maraffie Frederick L."}]
[{"$f":"IF(Sheet1!B1470=\"\",\"\",Sheet1!B1470&\" \"&Sheet1!C1470)","v":"March David"}]
[{"$f":"IF(Sheet1!B1471=\"\",\"\",Sheet1!B1471&\" \"&Sheet1!C1471)","v":"March William L."}]
[{"$f":"IF(Sheet1!B1472=\"\",\"\",Sheet1!B1472&\" \"&Sheet1!C1472)","v":"Margheim Jeffrey"}]
[{"$f":"IF(Sheet1!B1473=\"\",\"\",Sheet1!B1473&\" \"&Sheet1!C1473)","v":"Maris Alice B"}]
[{"$f":"IF(Sheet1!B1474=\"\",\"\",Sheet1!B1474&\" \"&Sheet1!C1474)","v":"Maris Gary L."}]
[{"$f":"IF(Sheet1!B1475=\"\",\"\",Sheet1!B1475&\" \"&Sheet1!C1475)","v":"Markey Mary"}]
[{"$f":"IF(Sheet1!B1476=\"\",\"\",Sheet1!B1476&\" \"&Sheet1!C1476)","v":"Markham Lawrence \"Mitch\""}]
[{"$f":"IF(Sheet1!B1477=\"\",\"\",Sheet1!B1477&\" \"&Sheet1!C1477)","v":"Markle Gwynn A."}]
[{"$f":"IF(Sheet1!B1478=\"\",\"\",Sheet1!B1478&\" \"&Sheet1!C1478)","v":"Marks Thomas C., Jr."}]
[{"$f":"IF(Sheet1!B1479=\"\",\"\",Sheet1!B1479&\" \"&Sheet1!C1479)","v":"Marryman Anna Jeannette"}]
[{"$f":"IF(Sheet1!B1480=\"\",\"\",Sheet1!B1480&\" \"&Sheet1!C1480)","v":"Martien Ellen Webster"}]
[{"$f":"IF(Sheet1!B1481=\"\",\"\",Sheet1!B1481&\" \"&Sheet1!C1481)","v":"Martin Catherine"}]
[{"$f":"IF(Sheet1!B1482=\"\",\"\",Sheet1!B1482&\" \"&Sheet1!C1482)","v":"Martin Desiree"}]
[{"$f":"IF(Sheet1!B1483=\"\",\"\",Sheet1!B1483&\" \"&Sheet1!C1483)","v":"Martin Eliza Johnston"}]
[{"$f":"IF(Sheet1!B1484=\"\",\"\",Sheet1!B1484&\" \"&Sheet1!C1484)","v":"Martin Henry"}]
[{"$f":"IF(Sheet1!B1485=\"\",\"\",Sheet1!B1485&\" \"&Sheet1!C1485)","v":"Martin Inez"}]
[{"$f":"IF(Sheet1!B1486=\"\",\"\",Sheet1!B1486&\" \"&Sheet1!C1486)","v":"Martin Jason"}]
[{"$f":"IF(Sheet1!B1487=\"\",\"\",Sheet1!B1487&\" \"&Sheet1!C1487)","v":"Martin Kimberly W."}]
[{"$f":"IF(Sheet1!B1488=\"\",\"\",Sheet1!B1488&\" \"&Sheet1!C1488)","v":"Martin Marcelle"}]
[{"$f":"IF(Sheet1!B1489=\"\",\"\",Sheet1!B1489&\" \"&Sheet1!C1489)","v":"Martin Mary Nelle"}]
[{"$f":"IF(Sheet1!B1490=\"\",\"\",Sheet1!B1490&\" \"&Sheet1!C1490)","v":"Martin Nellie"}]
[{"$f":"IF(Sheet1!B1491=\"\",\"\",Sheet1!B1491&\" \"&Sheet1!C1491)","v":"Martin Rose L"}]
[{"$f":"IF(Sheet1!B1492=\"\",\"\",Sheet1!B1492&\" \"&Sheet1!C1492)","v":"Martin William Woodrow"}]
[{"$f":"IF(Sheet1!B1493=\"\",\"\",Sheet1!B1493&\" \"&Sheet1!C1493)","v":"Martinez De Murga Manuel"}]
[{"$f":"IF(Sheet1!B1494=\"\",\"\",Sheet1!B1494&\" \"&Sheet1!C1494)","v":"Marvick Mary Frances"}]
[{"$f":"IF(Sheet1!B1495=\"\",\"\",Sheet1!B1495&\" \"&Sheet1!C1495)","v":"Marvin Louis Harold"}]
[{"$f":"IF(Sheet1!B1496=\"\",\"\",Sheet1!B1496&\" \"&Sheet1!C1496)","v":"Marzick Michael"}]
[{"$f":"IF(Sheet1!B1497=\"\",\"\",Sheet1!B1497&\" \"&Sheet1!C1497)","v":"Masse Thomas G."}]
[{"$f":"IF(Sheet1!B1498=\"\",\"\",Sheet1!B1498&\" \"&Sheet1!C1498)","v":"Massey Louis C."}]
[{"$f":"IF(Sheet1!B1499=\"\",\"\",Sheet1!B1499&\" \"&Sheet1!C1499)","v":"Master Joseph J."}]
[{"$f":"IF(Sheet1!B1500=\"\",\"\",Sheet1!B1500&\" \"&Sheet1!C1500)","v":"Masters Helen"}]
[{"$f":"IF(Sheet1!B1501=\"\",\"\",Sheet1!B1501&\" \"&Sheet1!C1501)","v":"Materazzi Chistian"}]
[{"$f":"IF(Sheet1!B1502=\"\",\"\",Sheet1!B1502&\" \"&Sheet1!C1502)","v":"Mathes L.B."}]
[{"$f":"IF(Sheet1!B1503=\"\",\"\",Sheet1!B1503&\" \"&Sheet1!C1503)","v":"Matthews Stacey"}]
[{"$f":"IF(Sheet1!B1504=\"\",\"\",Sheet1!B1504&\" \"&Sheet1!C1504)","v":"Matusick Robert (Bob) L."}]
[{"$f":"IF(Sheet1!B1505=\"\",\"\",Sheet1!B1505&\" \"&Sheet1!C1505)","v":"Matuszczak Joseph"}]
[{"$f":"IF(Sheet1!B1506=\"\",\"\",Sheet1!B1506&\" \"&Sheet1!C1506)","v":"Maxeiner James R."}]
[{"$f":"IF(Sheet1!B1507=\"\",\"\",Sheet1!B1507&\" \"&Sheet1!C1507)","v":"Maxwell Deborah"}]
[{"$f":"IF(Sheet1!B1508=\"\",\"\",Sheet1!B1508&\" \"&Sheet1!C1508)","v":"May Edith"}]
[{"$f":"IF(Sheet1!B1509=\"\",\"\",Sheet1!B1509&\" \"&Sheet1!C1509)","v":"May Harriet C."}]
[{"$f":"IF(Sheet1!B1510=\"\",\"\",Sheet1!B1510&\" \"&Sheet1!C1510)","v":"May Jonathan"}]
[{"$f":"IF(Sheet1!B1511=\"\",\"\",Sheet1!B1511&\" \"&Sheet1!C1511)","v":"May Mamie M."}]
[{"$f":"IF(Sheet1!B1512=\"\",\"\",Sheet1!B1512&\" \"&Sheet1!C1512)","v":"May Peter G."}]
[{"$f":"IF(Sheet1!B1513=\"\",\"\",Sheet1!B1513&\" \"&Sheet1!C1513)","v":"McAlister John A."}]
[{"$f":"IF(Sheet1!B1514=\"\",\"\",Sheet1!B1514&\" \"&Sheet1!C1514)","v":"McAllister S. Allan"}]
[{"$f":"IF(Sheet1!B1515=\"\",\"\",Sheet1!B1515&\" \"&Sheet1!C1515)","v":"McBrayer James T."}]
[{"$f":"IF(Sheet1!B1516=\"\",\"\",Sheet1!B1516&\" \"&Sheet1!C1516)","v":"McBride Bernalyn"}]
[{"$f":"IF(Sheet1!B1517=\"\",\"\",Sheet1!B1517&\" \"&Sheet1!C1517)","v":"McCabe John A"}]
[{"$f":"IF(Sheet1!B1518=\"\",\"\",Sheet1!B1518&\" \"&Sheet1!C1518)","v":"McCall Anthony"}]
[{"$f":"IF(Sheet1!B1519=\"\",\"\",Sheet1!B1519&\" \"&Sheet1!C1519)","v":"McCammon William H., Jr."}]
[{"$f":"IF(Sheet1!B1520=\"\",\"\",Sheet1!B1520&\" \"&Sheet1!C1520)","v":"McCann Gregory K."}]
[{"$f":"IF(Sheet1!B1521=\"\",\"\",Sheet1!B1521&\" \"&Sheet1!C1521)","v":"McCarter Charles C."}]
[{"$f":"IF(Sheet1!B1522=\"\",\"\",Sheet1!B1522&\" \"&Sheet1!C1522)","v":"McCarthy David"}]
[{"$f":"IF(Sheet1!B1523=\"\",\"\",Sheet1!B1523&\" \"&Sheet1!C1523)","v":"McCaslin Inga"}]
[{"$f":"IF(Sheet1!B1524=\"\",\"\",Sheet1!B1524&\" \"&Sheet1!C1524)","v":"McCaster Felisha"}]
[{"$f":"IF(Sheet1!B1525=\"\",\"\",Sheet1!B1525&\" \"&Sheet1!C1525)","v":"McClain Joseph A."}]
[{"$f":"IF(Sheet1!B1526=\"\",\"\",Sheet1!B1526&\" \"&Sheet1!C1526)","v":"McClay John"}]
[{"$f":"IF(Sheet1!B1527=\"\",\"\",Sheet1!B1527&\" \"&Sheet1!C1527)","v":"McClendon Elizabeth"}]
[{"$f":"IF(Sheet1!B1528=\"\",\"\",Sheet1!B1528&\" \"&Sheet1!C1528)","v":"McClendon Janice K."}]
[{"$f":"IF(Sheet1!B1529=\"\",\"\",Sheet1!B1529&\" \"&Sheet1!C1529)","v":"McClouskey Andy"}]
[{"$f":"IF(Sheet1!B1530=\"\",\"\",Sheet1!B1530&\" \"&Sheet1!C1530)","v":"McCollough Lola B."}]
[{"$f":"IF(Sheet1!B1531=\"\",\"\",Sheet1!B1531&\" \"&Sheet1!C1531)","v":"McCollough Thomas E."}]
[{"$f":"IF(Sheet1!B1532=\"\",\"\",Sheet1!B1532&\" \"&Sheet1!C1532)","v":"McConnell Sandra C."}]
[{"$f":"IF(Sheet1!B1533=\"\",\"\",Sheet1!B1533&\" \"&Sheet1!C1533)","v":"McCormick Edward"}]
[{"$f":"IF(Sheet1!B1534=\"\",\"\",Sheet1!B1534&\" \"&Sheet1!C1534)","v":"McCorvey David"}]
[{"$f":"IF(Sheet1!B1535=\"\",\"\",Sheet1!B1535&\" \"&Sheet1!C1535)","v":"McCoy Kenneth W."}]
[{"$f":"IF(Sheet1!B1536=\"\",\"\",Sheet1!B1536&\" \"&Sheet1!C1536)","v":"McCrory Carol Cole"}]
[{"$f":"IF(Sheet1!B1537=\"\",\"\",Sheet1!B1537&\" \"&Sheet1!C1537)","v":"McCroskey Lenora E"}]
[{"$f":"IF(Sheet1!B1538=\"\",\"\",Sheet1!B1538&\" \"&Sheet1!C1538)","v":"McCulloch Oakland"}]
[{"$f":"IF(Sheet1!B1539=\"\",\"\",Sheet1!B1539&\" \"&Sheet1!C1539)","v":"McCurdie Mary Stewart"}]
[{"$f":"IF(Sheet1!B1540=\"\",\"\",Sheet1!B1540&\" \"&Sheet1!C1540)","v":"McDaniel Lucy A"}]
[{"$f":"IF(Sheet1!B1541=\"\",\"\",Sheet1!B1541&\" \"&Sheet1!C1541)","v":"McDonald Ted A"}]
[{"$f":"IF(Sheet1!B1542=\"\",\"\",Sheet1!B1542&\" \"&Sheet1!C1542)","v":"McDowell Edward A., III"}]
[{"$f":"IF(Sheet1!B1543=\"\",\"\",Sheet1!B1543&\" \"&Sheet1!C1543)","v":"McEmber Jane Wooten"}]
[{"$f":"IF(Sheet1!B1544=\"\",\"\",Sheet1!B1544&\" \"&Sheet1!C1544)","v":"McEniry Mary Brown"}]
[{"$f":"IF(Sheet1!B1545=\"\",\"\",Sheet1!B1545&\" \"&Sheet1!C1545)","v":"McEniry William Hugh, Jr."}]
[{"$f":"IF(Sheet1!B1546=\"\",\"\",Sheet1!B1546&\" \"&Sheet1!C1546)","v":"McEntire Willie Dee Willian"}]
[{"$f":"IF(Sheet1!B1547=\"\",\"\",Sheet1!B1547&\" \"&Sheet1!C1547)","v":"McFarland John"}]
[{"$f":"IF(Sheet1!B1548=\"\",\"\",Sheet1!B1548&\" \"&Sheet1!C1548)","v":"McFarland Michael W."}]
[{"$f":"IF(Sheet1!B1549=\"\",\"\",Sheet1!B1549&\" \"&Sheet1!C1549)","v":"McGill Margaret"}]
[{"$f":"IF(Sheet1!B1550=\"\",\"\",Sheet1!B1550&\" \"&Sheet1!C1550)","v":"McGregor Julia Jean"}]
[{"$f":"IF(Sheet1!B1551=\"\",\"\",Sheet1!B1551&\" \"&Sheet1!C1551)","v":"McGregor M.S."}]
[{"$f":"IF(Sheet1!B1552=\"\",\"\",Sheet1!B1552&\" \"&Sheet1!C1552)","v":"McGregor Mahlon Spencer"}]
[{"$f":"IF(Sheet1!B1553=\"\",\"\",Sheet1!B1553&\" \"&Sheet1!C1553)","v":"McInnis Sam W."}]
[{"$f":"IF(Sheet1!B1554=\"\",\"\",Sheet1!B1554&\" \"&Sheet1!C1554)","v":"McKenzie Virginia Lee"}]
[{"$f":"IF(Sheet1!B1555=\"\",\"\",Sheet1!B1555&\" \"&Sheet1!C1555)","v":"McKinley Gary"}]
[{"$f":"IF(Sheet1!B1556=\"\",\"\",Sheet1!B1556&\" \"&Sheet1!C1556)","v":"McKinley Hugh T."}]
[{"$f":"IF(Sheet1!B1557=\"\",\"\",Sheet1!B1557&\" \"&Sheet1!C1557)","v":"McKinney Isabel"}]
[{"$f":"IF(Sheet1!B1558=\"\",\"\",Sheet1!B1558&\" \"&Sheet1!C1558)","v":"McKinney Louise"}]
[{"$f":"IF(Sheet1!B1559=\"\",\"\",Sheet1!B1559&\" \"&Sheet1!C1559)","v":"McKinnon Graham, III"}]
[{"$f":"IF(Sheet1!B1560=\"\",\"\",Sheet1!B1560&\" \"&Sheet1!C1560)","v":"McKnight Charles M."}]
[{"$f":"IF(Sheet1!B1561=\"\",\"\",Sheet1!B1561&\" \"&Sheet1!C1561)","v":"McLachlin Beverly"}]
[{"$f":"IF(Sheet1!B1562=\"\",\"\",Sheet1!B1562&\" \"&Sheet1!C1562)","v":"McLaughlin Mary Cree"}]
[{"$f":"IF(Sheet1!B1563=\"\",\"\",Sheet1!B1563&\" \"&Sheet1!C1563)","v":"McLean Alice"}]
[{"$f":"IF(Sheet1!B1564=\"\",\"\",Sheet1!B1564&\" \"&Sheet1!C1564)","v":"McLean F. Anne"}]
[{"$f":"IF(Sheet1!B1565=\"\",\"\",Sheet1!B1565&\" \"&Sheet1!C1565)","v":"McMillan Alma Lagergren"}]
[{"$f":"IF(Sheet1!B1566=\"\",\"\",Sheet1!B1566&\" \"&Sheet1!C1566)","v":"McMillan Olive Lord"}]
[{"$f":"IF(Sheet1!B1567=\"\",\"\",Sheet1!B1567&\" \"&Sheet1!C1567)","v":"McMillen Gary K."}]
[{"$f":"IF(Sheet1!B1568=\"\",\"\",Sheet1!B1568&\" \"&Sheet1!C1568)","v":"McMullen Joseph Henderson"}]
[{"$f":"IF(Sheet1!B1569=\"\",\"\",Sheet1!B1569&\" \"&Sheet1!C1569)","v":"McNall Freeman E."}]
[{"$f":"IF(Sheet1!B1570=\"\",\"\",Sheet1!B1570&\" \"&Sheet1!C1570)","v":"McNicholas Mark"}]
[{"$f":"IF(Sheet1!B1571=\"\",\"\",Sheet1!B1571&\" \"&Sheet1!C1571)","v":"McQuillan Herbert Raymond"}]
[{"$f":"IF(Sheet1!B1572=\"\",\"\",Sheet1!B1572&\" \"&Sheet1!C1572)","v":"McVicker James R."}]
[{"$f":"IF(Sheet1!B1573=\"\",\"\",Sheet1!B1573&\" \"&Sheet1!C1573)","v":"McWilliams Warren L."}]
[{"$f":"IF(Sheet1!B1575=\"\",\"\",Sheet1!B1575&\" \"&Sheet1!C1575)","v":"Medina Servio F."}]
[{"$f":"IF(Sheet1!B1576=\"\",\"\",Sheet1!B1576&\" \"&Sheet1!C1576)","v":"Medlin Gene W."}]
[{"$f":"IF(Sheet1!B1577=\"\",\"\",Sheet1!B1577&\" \"&Sheet1!C1577)","v":"Medlin Richard G."}]
[{"$f":"IF(Sheet1!B1578=\"\",\"\",Sheet1!B1578&\" \"&Sheet1!C1578)","v":"Meeks Eleanor Hammond"}]
[{"$f":"IF(Sheet1!B1579=\"\",\"\",Sheet1!B1579&\" \"&Sheet1!C1579)","v":"Meeks Kathryn L."}]
[{"$f":"IF(Sheet1!B1580=\"\",\"\",Sheet1!B1580&\" \"&Sheet1!C1580)","v":"Mekdeci Mike"}]
[{"$f":"IF(Sheet1!B1581=\"\",\"\",Sheet1!B1581&\" \"&Sheet1!C1581)","v":"Melton William J."}]
[{"$f":"IF(Sheet1!B1582=\"\",\"\",Sheet1!B1582&\" \"&Sheet1!C1582)","v":"Mendenhall Mary"}]
[{"$f":"IF(Sheet1!B1583=\"\",\"\",Sheet1!B1583&\" \"&Sheet1!C1583)","v":"Menser Clarence L."}]
[{"$f":"IF(Sheet1!B1584=\"\",\"\",Sheet1!B1584&\" \"&Sheet1!C1584)","v":"Merriam Harland C."}]
[{"$f":"IF(Sheet1!B1585=\"\",\"\",Sheet1!B1585&\" \"&Sheet1!C1585)","v":"Merrill Edith May"}]
[{"$f":"IF(Sheet1!B1586=\"\",\"\",Sheet1!B1586&\" \"&Sheet1!C1586)","v":"Merrill Edith W."}]
[{"$f":"IF(Sheet1!B1587=\"\",\"\",Sheet1!B1587&\" \"&Sheet1!C1587)","v":"Merryman Annie J."}]
[{"$f":"IF(Sheet1!B1588=\"\",\"\",Sheet1!B1588&\" \"&Sheet1!C1588)","v":"Messersmith Fred L."}]
[{"$f":"IF(Sheet1!B1589=\"\",\"\",Sheet1!B1589&\" \"&Sheet1!C1589)","v":"Metzger Anna B."}]
[{"$f":"IF(Sheet1!B1590=\"\",\"\",Sheet1!B1590&\" \"&Sheet1!C1590)","v":"Meyer Minna Aulie L."}]
[{"$f":"IF(Sheet1!B1591=\"\",\"\",Sheet1!B1591&\" \"&Sheet1!C1591)","v":"Mhilu Greyson"}]
[{"$f":"IF(Sheet1!B1592=\"\",\"\",Sheet1!B1592&\" \"&Sheet1!C1592)","v":"Michelson Stuart"}]
[{"$f":"IF(Sheet1!B1593=\"\",\"\",Sheet1!B1593&\" \"&Sheet1!C1593)","v":"Mickle Edward L."}]
[{"$f":"IF(Sheet1!B1594=\"\",\"\",Sheet1!B1594&\" \"&Sheet1!C1594)","v":"Mickle William Young"}]
[{"$f":"IF(Sheet1!B1595=\"\",\"\",Sheet1!B1595&\" \"&Sheet1!C1595)","v":"Mickleboro Lillian E."}]
[{"$f":"IF(Sheet1!B1596=\"\",\"\",Sheet1!B1596&\" \"&Sheet1!C1596)","v":"Middleton Merrilee R."}]
[{"$f":"IF(Sheet1!B1597=\"\",\"\",Sheet1!B1597&\" \"&Sheet1!C1597)","v":"Mieras Emily"}]
[{"$f":"IF(Sheet1!B1598=\"\",\"\",Sheet1!B1598&\" \"&Sheet1!C1598)","v":"Milam Arthur Y."}]
[{"$f":"IF(Sheet1!B1599=\"\",\"\",Sheet1!B1599&\" \"&Sheet1!C1599)","v":"Milam D. Franklin"}]
[{"$f":"IF(Sheet1!B1600=\"\",\"\",Sheet1!B1600&\" \"&Sheet1!C1600)","v":"Milam Robert R."}]
[{"$f":"IF(Sheet1!B1601=\"\",\"\",Sheet1!B1601&\" \"&Sheet1!C1601)","v":"Milby Jerry M."}]
[{"$f":"IF(Sheet1!B1602=\"\",\"\",Sheet1!B1602&\" \"&Sheet1!C1602)","v":"Miles William W."}]
[{"$f":"IF(Sheet1!B1603=\"\",\"\",Sheet1!B1603&\" \"&Sheet1!C1603)","v":"Milledge Stanley"}]
[{"$f":"IF(Sheet1!B1604=\"\",\"\",Sheet1!B1604&\" \"&Sheet1!C1604)","v":"Miller David W."}]
[{"$f":"IF(Sheet1!B1605=\"\",\"\",Sheet1!B1605&\" \"&Sheet1!C1605)","v":"Miller Francis Moore"}]
[{"$f":"IF(Sheet1!B1606=\"\",\"\",Sheet1!B1606&\" \"&Sheet1!C1606)","v":"Miller Raymond J."}]
[{"$f":"IF(Sheet1!B1607=\"\",\"\",Sheet1!B1607&\" \"&Sheet1!C1607)","v":"Mills David"}]
[{"$f":"IF(Sheet1!B1608=\"\",\"\",Sheet1!B1608&\" \"&Sheet1!C1608)","v":"Mills Frances"}]
[{"$f":"IF(Sheet1!B1609=\"\",\"\",Sheet1!B1609&\" \"&Sheet1!C1609)","v":"Minda Gary"}]
[{"$f":"IF(Sheet1!B1610=\"\",\"\",Sheet1!B1610&\" \"&Sheet1!C1610)","v":"Minger William C."}]
[{"$f":"IF(Sheet1!B1611=\"\",\"\",Sheet1!B1611&\" \"&Sheet1!C1611)","v":"Miniggia Rodney"}]
[{"$f":"IF(Sheet1!B1612=\"\",\"\",Sheet1!B1612&\" \"&Sheet1!C1612)","v":"Minneti Jeffrey"}]
[{"$f":"IF(Sheet1!B1613=\"\",\"\",Sheet1!B1613&\" \"&Sheet1!C1613)","v":"Minor Harold Bronk"}]
[{"$f":"IF(Sheet1!B1614=\"\",\"\",Sheet1!B1614&\" \"&Sheet1!C1614)","v":"Minter Elsie G."}]
[{"$f":"IF(Sheet1!B1615=\"\",\"\",Sheet1!B1615&\" \"&Sheet1!C1615)","v":"Mischo John B."}]
[{"$f":"IF(Sheet1!B1616=\"\",\"\",Sheet1!B1616&\" \"&Sheet1!C1616)","v":"Mitchell Ann Elizabeth"}]
[{"$f":"IF(Sheet1!B1617=\"\",\"\",Sheet1!B1617&\" \"&Sheet1!C1617)","v":"Mitchell Arthur Warren"}]
[{"$f":"IF(Sheet1!B1618=\"\",\"\",Sheet1!B1618&\" \"&Sheet1!C1618)","v":"Mitchell William F."}]
[{"$f":"IF(Sheet1!B1619=\"\",\"\",Sheet1!B1619&\" \"&Sheet1!C1619)","v":"Mittra Siddheswar"}]
[{"$f":"IF(Sheet1!B1620=\"\",\"\",Sheet1!B1620&\" \"&Sheet1!C1620)","v":"Moffatt J. Stanley"}]
[{"$f":"IF(Sheet1!B1621=\"\",\"\",Sheet1!B1621&\" \"&Sheet1!C1621)","v":"Mokaddem Faten"}]
[{"$f":"IF(Sheet1!B1622=\"\",\"\",Sheet1!B1622&\" \"&Sheet1!C1622)","v":"Molina Bogusia"}]
[{"$f":"IF(Sheet1!B1623=\"\",\"\",Sheet1!B1623&\" \"&Sheet1!C1623)","v":"Mondello Kaitlin D."}]
[{"$f":"IF(Sheet1!B1624=\"\",\"\",Sheet1!B1624&\" \"&Sheet1!C1624)","v":"Monroe Frances C."}]
[{"$f":"IF(Sheet1!B1625=\"\",\"\",Sheet1!B1625&\" \"&Sheet1!C1625)","v":"Monsur Randolph A."}]
[{"$f":"IF(Sheet1!B1626=\"\",\"\",Sheet1!B1626&\" \"&Sheet1!C1626)","v":"Moody Lizabeth A."}]
[{"$f":"IF(Sheet1!B1627=\"\",\"\",Sheet1!B1627&\" \"&Sheet1!C1627)","v":"Moon Walter H."}]
[{"$f":"IF(Sheet1!B1628=\"\",\"\",Sheet1!B1628&\" \"&Sheet1!C1628)","v":"Moore Andrew G. T. II"}]
[{"$f":"IF(Sheet1!B1629=\"\",\"\",Sheet1!B1629&\" \"&Sheet1!C1629)","v":"Moore Archer"}]
[{"$f":"IF(Sheet1!B1630=\"\",\"\",Sheet1!B1630&\" \"&Sheet1!C1630)","v":"Moore Erin"}]
[{"$f":"IF(Sheet1!B1631=\"\",\"\",Sheet1!B1631&\" \"&Sheet1!C1631)","v":"Moore Helia"}]
[{"$f":"IF(Sheet1!B1632=\"\",\"\",Sheet1!B1632&\" \"&Sheet1!C1632)","v":"Moore Kate"}]
[{"$f":"IF(Sheet1!B1633=\"\",\"\",Sheet1!B1633&\" \"&Sheet1!C1633)","v":"Moore Nicole"}]
[{"$f":"IF(Sheet1!B1634=\"\",\"\",Sheet1!B1634&\" \"&Sheet1!C1634)","v":"Moore Robert P."}]
[{"$f":"IF(Sheet1!B1635=\"\",\"\",Sheet1!B1635&\" \"&Sheet1!C1635)","v":"Moore Ruby O."}]
[{"$f":"IF(Sheet1!B1636=\"\",\"\",Sheet1!B1636&\" \"&Sheet1!C1636)","v":"Moreau Kathleen C."}]
[{"$f":"IF(Sheet1!B1637=\"\",\"\",Sheet1!B1637&\" \"&Sheet1!C1637)","v":"Morel Danielle"}]
[{"$f":"IF(Sheet1!B1638=\"\",\"\",Sheet1!B1638&\" \"&Sheet1!C1638)","v":"Morgan Rebecca C."}]
[{"$f":"IF(Sheet1!B1639=\"\",\"\",Sheet1!B1639&\" \"&Sheet1!C1639)","v":"Morland Richard B."}]
[{"$f":"IF(Sheet1!B1640=\"\",\"\",Sheet1!B1640&\" \"&Sheet1!C1640)","v":"Morris Ann Roberson"}]
[{"$f":"IF(Sheet1!B1641=\"\",\"\",Sheet1!B1641&\" \"&Sheet1!C1641)","v":"Morris Herman Elder"}]
[{"$f":"IF(Sheet1!B1642=\"\",\"\",Sheet1!B1642&\" \"&Sheet1!C1642)","v":"Morris Mark D."}]
[{"$f":"IF(Sheet1!B1643=\"\",\"\",Sheet1!B1643&\" \"&Sheet1!C1643)","v":"Morris Nelle Campbell"}]
[{"$f":"IF(Sheet1!B1644=\"\",\"\",Sheet1!B1644&\" \"&Sheet1!C1644)","v":"Morris William O."}]
[{"$f":"IF(Sheet1!B1645=\"\",\"\",Sheet1!B1645&\" \"&Sheet1!C1645)","v":"Morris Marie"}]
[{"$f":"IF(Sheet1!B1646=\"\",\"\",Sheet1!B1646&\" \"&Sheet1!C1646)","v":"Morrison Ellanorr Winfield"}]
[{"$f":"IF(Sheet1!B1647=\"\",\"\",Sheet1!B1647&\" \"&Sheet1!C1647)","v":"Morrissey Joseph F."}]
[{"$f":"IF(Sheet1!B1648=\"\",\"\",Sheet1!B1648&\" \"&Sheet1!C1648)","v":"Morrow Winston Vaughn"}]
[{"$f":"IF(Sheet1!B1649=\"\",\"\",Sheet1!B1649&\" \"&Sheet1!C1649)","v":"Morse Orwin A."}]
[{"$f":"IF(Sheet1!B1650=\"\",\"\",Sheet1!B1650&\" \"&Sheet1!C1650)","v":"Morton Fannie Bess"}]
[{"$f":"IF(Sheet1!B1651=\"\",\"\",Sheet1!B1651&\" \"&Sheet1!C1651)","v":"Morton T. Vassar"}]
[{"$f":"IF(Sheet1!B1652=\"\",\"\",Sheet1!B1652&\" \"&Sheet1!C1652)","v":"Moser G. Gary"}]
[{"$f":"IF(Sheet1!B1653=\"\",\"\",Sheet1!B1653&\" \"&Sheet1!C1653)","v":"Mosley Madison M., Jr."}]
[{"$f":"IF(Sheet1!B1654=\"\",\"\",Sheet1!B1654&\" \"&Sheet1!C1654)","v":"Moss Mary McKenzie"}]
[{"$f":"IF(Sheet1!B1655=\"\",\"\",Sheet1!B1655&\" \"&Sheet1!C1655)","v":"Mott Rafael S."}]
[{"$f":"IF(Sheet1!B1656=\"\",\"\",Sheet1!B1656&\" \"&Sheet1!C1656)","v":"Mottier Nicole"}]
[{"$f":"IF(Sheet1!B1657=\"\",\"\",Sheet1!B1657&\" \"&Sheet1!C1657)","v":"Mowery Bob Lee"}]
[{"$f":"IF(Sheet1!B1658=\"\",\"\",Sheet1!B1658&\" \"&Sheet1!C1658)","v":"Mtei Klara Francis"}]
[{"$f":"IF(Sheet1!B1659=\"\",\"\",Sheet1!B1659&\" \"&Sheet1!C1659)","v":"Mudge Charles R"}]
[{"$f":"IF(Sheet1!B1660=\"\",\"\",Sheet1!B1660&\" \"&Sheet1!C1660)","v":"Mueller Carolyn"}]
[{"$f":"IF(Sheet1!B1661=\"\",\"\",Sheet1!B1661&\" \"&Sheet1!C1661)","v":"Mugavero Michael A."}]
[{"$f":"IF(Sheet1!B1662=\"\",\"\",Sheet1!B1662&\" \"&Sheet1!C1662)","v":"Muir Clive P."}]
[{"$f":"IF(Sheet1!B1663=\"\",\"\",Sheet1!B1663&\" \"&Sheet1!C1663)","v":"Mulstay Chris"}]
[{"$f":"IF(Sheet1!B1664=\"\",\"\",Sheet1!B1664&\" \"&Sheet1!C1664)","v":"Mumpower Lori"}]
[{"$f":"IF(Sheet1!B1665=\"\",\"\",Sheet1!B1665&\" \"&Sheet1!C1665)","v":"Munn Miriam"}]
[{"$f":"IF(Sheet1!B1666=\"\",\"\",Sheet1!B1666&\" \"&Sheet1!C1666)","v":"Murch Grace E."}]
[{"$f":"IF(Sheet1!B1667=\"\",\"\",Sheet1!B1667&\" \"&Sheet1!C1667)","v":"Murphy Gail"}]
[{"$f":"IF(Sheet1!B1668=\"\",\"\",Sheet1!B1668&\" \"&Sheet1!C1668)","v":"Murphy James J."}]
[{"$f":"IF(Sheet1!B1669=\"\",\"\",Sheet1!B1669&\" \"&Sheet1!C1669)","v":"Murphy Jennifer E."}]
[{"$f":"IF(Sheet1!B1670=\"\",\"\",Sheet1!B1670&\" \"&Sheet1!C1670)","v":"Murphy Sean"}]
[{"$f":"IF(Sheet1!B1671=\"\",\"\",Sheet1!B1671&\" \"&Sheet1!C1671)","v":"Murray Darrell"}]
[{"$f":"IF(Sheet1!B1672=\"\",\"\",Sheet1!B1672&\" \"&Sheet1!C1672)","v":"Murray Iris"}]
[{"$f":"IF(Sheet1!B1673=\"\",\"\",Sheet1!B1673&\" \"&Sheet1!C1673)","v":"Murray Lovick Pierce"}]
[{"$f":"IF(Sheet1!B1674=\"\",\"\",Sheet1!B1674&\" \"&Sheet1!C1674)","v":"Musco Lynn Ann"}]
[{"$f":"IF(Sheet1!B1675=\"\",\"\",Sheet1!B1675&\" \"&Sheet1!C1675)","v":"Musgrove Lois K."}]
[{"$f":"IF(Sheet1!B1676=\"\",\"\",Sheet1!B1676&\" \"&Sheet1!C1676)","v":"Musser Donald W."}]
[{"$f":"IF(Sheet1!B1677=\"\",\"\",Sheet1!B1677&\" \"&Sheet1!C1677)","v":"Myers Joe I."}]
[{"$f":"IF(Sheet1!B1678=\"\",\"\",Sheet1!B1678&\" \"&Sheet1!C1678)","v":"Myers Lewis A"}]
[{"$f":"IF(Sheet1!B1679=\"\",\"\",Sheet1!B1679&\" \"&Sheet1!C1679)","v":"Myers Steven"}]
[{"$f":"IF(Sheet1!B1680=\"\",\"\",Sheet1!B1680&\" \"&Sheet1!C1680)","v":"Nagle Luz E. Ortiz"}]
[{"$f":"IF(Sheet1!B1681=\"\",\"\",Sheet1!B1681&\" \"&Sheet1!C1681)","v":"Namack William H., III"}]
[{"$f":"IF(Sheet1!B1682=\"\",\"\",Sheet1!B1682&\" \"&Sheet1!C1682)","v":"Nance Carriella H."}]
[{"$f":"IF(Sheet1!B1683=\"\",\"\",Sheet1!B1683&\" \"&Sheet1!C1683)","v":"Nance Leonard L."}]
[{"$f":"IF(Sheet1!B1684=\"\",\"\",Sheet1!B1684&\" \"&Sheet1!C1684)","v":"Nash Edith"}]
[{"$f":"IF(Sheet1!B1685=\"\",\"\",Sheet1!B1685&\" \"&Sheet1!C1685)","v":"Nash John A."}]
[{"$f":"IF(Sheet1!B1686=\"\",\"\",Sheet1!B1686&\" \"&Sheet1!C1686)","v":"Neal Hazel S."}]
[{"$f":"IF(Sheet1!B1687=\"\",\"\",Sheet1!B1687&\" \"&Sheet1!C1687)","v":"Neal Ida Mary"}]
[{"$f":"IF(Sheet1!B1688=\"\",\"\",Sheet1!B1688&\" \"&Sheet1!C1688)","v":"Neblett John Sterling"}]
[{"$f":"IF(Sheet1!B1689=\"\",\"\",Sheet1!B1689&\" \"&Sheet1!C1689)","v":"Neblett Lucy Ann"}]
[{"$f":"IF(Sheet1!B1690=\"\",\"\",Sheet1!B1690&\" \"&Sheet1!C1690)","v":"Nelson Edward A."}]
[{"$f":"IF(Sheet1!B1691=\"\",\"\",Sheet1!B1691&\" \"&Sheet1!C1691)","v":"Nelson Quincy Thomas"}]
[{"$f":"IF(Sheet1!B1692=\"\",\"\",Sheet1!B1692&\" \"&Sheet1!C1692)","v":"Ness Anna Van"}]
[{"$f":"IF(Sheet1!B1693=\"\",\"\",Sheet1!B1693&\" \"&Sheet1!C1693)","v":"Newby Hazel Bryan"}]
[{"$f":"IF(Sheet1!B1694=\"\",\"\",Sheet1!B1694&\" \"&Sheet1!C1694)","v":"Newby Lucille"}]
[{"$f":"IF(Sheet1!B1695=\"\",\"\",Sheet1!B1695&\" \"&Sheet1!C1695)","v":"Newdome Beth"}]
[{"$f":"IF(Sheet1!B1696=\"\",\"\",Sheet1!B1696&\" \"&Sheet1!C1696)","v":"Newell Louise Edith"}]
[{"$f":"IF(Sheet1!B1697=\"\",\"\",Sheet1!B1697&\" \"&Sheet1!C1697)","v":"Newell Eloise"}]
[{"$f":"IF(Sheet1!B1698=\"\",\"\",Sheet1!B1698&\" \"&Sheet1!C1698)","v":"Ng Stephen"}]
[{"$f":"IF(Sheet1!B1699=\"\",\"\",Sheet1!B1699&\" \"&Sheet1!C1699)","v":"Nichols Hester D."}]
[{"$f":"IF(Sheet1!B1700=\"\",\"\",Sheet1!B1700&\" \"&Sheet1!C1700)","v":"Nichols Nancy"}]
[{"$f":"IF(Sheet1!B1701=\"\",\"\",Sheet1!B1701&\" \"&Sheet1!C1701)","v":"Nicholson A.J."}]
[{"$f":"IF(Sheet1!B1702=\"\",\"\",Sheet1!B1702&\" \"&Sheet1!C1702)","v":"Nicholson Carolyn Y."}]
[{"$f":"IF(Sheet1!B1703=\"\",\"\",Sheet1!B1703&\" \"&Sheet1!C1703)","v":"Nicholson Francis Bates"}]
[{"$f":"IF(Sheet1!B1704=\"\",\"\",Sheet1!B1704&\" \"&Sheet1!C1704)","v":"Nickell Mildred"}]
[{"$f":"IF(Sheet1!B1705=\"\",\"\",Sheet1!B1705&\" \"&Sheet1!C1705)","v":"Nicklas Carol J."}]
[{"$f":"IF(Sheet1!B1706=\"\",\"\",Sheet1!B1706&\" \"&Sheet1!C1706)","v":"Niclas Daniel"}]
[{"$f":"IF(Sheet1!B1707=\"\",\"\",Sheet1!B1707&\" \"&Sheet1!C1707)","v":"Nieb Joseph E."}]
[{"$f":"IF(Sheet1!B1708=\"\",\"\",Sheet1!B1708&\" \"&Sheet1!C1708)","v":"Noffke Gary L"}]
[{"$f":"IF(Sheet1!B1709=\"\",\"\",Sheet1!B1709&\" \"&Sheet1!C1709)","v":"Nolen Russell M."}]
[{"$f":"IF(Sheet1!B1710=\"\",\"\",Sheet1!B1710&\" \"&Sheet1!C1710)","v":"Noonan-Klima Brigid"}]
[{"$f":"IF(Sheet1!B1711=\"\",\"\",Sheet1!B1711&\" \"&Sheet1!C1711)","v":"Nordmann Barbara J."}]
[{"$f":"IF(Sheet1!B1712=\"\",\"\",Sheet1!B1712&\" \"&Sheet1!C1712)","v":"Norman Eliane M."}]
[{"$f":"IF(Sheet1!B1713=\"\",\"\",Sheet1!B1713&\" \"&Sheet1!C1713)","v":"Norman James William"}]
[{"$f":"IF(Sheet1!B1714=\"\",\"\",Sheet1!B1714&\" \"&Sheet1!C1714)","v":"Norman Nancy Rosseter"}]
[{"$f":"IF(Sheet1!B1715=\"\",\"\",Sheet1!B1715&\" \"&Sheet1!C1715)","v":"Nuxol Lisa"}]
[{"$f":"IF(Sheet1!B1716=\"\",\"\",Sheet1!B1716&\" \"&Sheet1!C1716)","v":"Nygren Carolyn J."}]
[{"$f":"IF(Sheet1!B1717=\"\",\"\",Sheet1!B1717&\" \"&Sheet1!C1717)","v":"Nylen David W"}]
[{"$f":"IF(Sheet1!B1718=\"\",\"\",Sheet1!B1718&\" \"&Sheet1!C1718)","v":"Nylen William R."}]
[{"$f":"IF(Sheet1!B1719=\"\",\"\",Sheet1!B1719&\" \"&Sheet1!C1719)","v":"Oates Edward F."}]
[{"$f":"IF(Sheet1!B1720=\"\",\"\",Sheet1!B1720&\" \"&Sheet1!C1720)","v":"Ober Julia M."}]
[{"$f":"IF(Sheet1!B1721=\"\",\"\",Sheet1!B1721&\" \"&Sheet1!C1721)","v":"O'Bier Aaron H., Jr."}]
[{"$f":"IF(Sheet1!B1722=\"\",\"\",Sheet1!B1722&\" \"&Sheet1!C1722)","v":"O'Connor Gertrude Foster"}]
[{"$f":"IF(Sheet1!B1723=\"\",\"\",Sheet1!B1723&\" \"&Sheet1!C1723)","v":"O'Connor William"}]
[{"$f":"IF(Sheet1!B1724=\"\",\"\",Sheet1!B1724&\" \"&Sheet1!C1724)","v":"O'Connor-Felman Marleen"}]
[{"$f":"IF(Sheet1!B1725=\"\",\"\",Sheet1!B1725&\" \"&Sheet1!C1725)","v":"O'Gorman Michael"}]
[{"$f":"IF(Sheet1!B1726=\"\",\"\",Sheet1!B1726&\" \"&Sheet1!C1726)","v":"O'Hara Gordon"}]
[{"$f":"IF(Sheet1!B1727=\"\",\"\",Sheet1!B1727&\" \"&Sheet1!C1727)","v":"Ohlbaum Edward D."}]
[{"$f":"IF(Sheet1!B1728=\"\",\"\",Sheet1!B1728&\" \"&Sheet1!C1728)","v":"Ohlsson Gordon"}]
[{"$f":"IF(Sheet1!B1729=\"\",\"\",Sheet1!B1729&\" \"&Sheet1!C1729)","v":"O'Keefe Daniel E."}]
[{"$f":"IF(Sheet1!B1730=\"\",\"\",Sheet1!B1730&\" \"&Sheet1!C1730)","v":"O'Keefe Kevin J."}]
[{"$f":"IF(Sheet1!B1731=\"\",\"\",Sheet1!B1731&\" \"&Sheet1!C1731)","v":"Oldham Herschel"}]
[{"$f":"IF(Sheet1!B1732=\"\",\"\",Sheet1!B1732&\" \"&Sheet1!C1732)","v":"Oleck Howard L."}]
[{"$f":"IF(Sheet1!B1733=\"\",\"\",Sheet1!B1733&\" \"&Sheet1!C1733)","v":"Oliphant Gary C."}]
[{"$f":"IF(Sheet1!B1734=\"\",\"\",Sheet1!B1734&\" \"&Sheet1!C1734)","v":"Oliphant Rebecca"}]
[{"$f":"IF(Sheet1!B1735=\"\",\"\",Sheet1!B1735&\" \"&Sheet1!C1735)","v":"Oliver Cindy Lovell"}]
[{"$f":"IF(Sheet1!B1736=\"\",\"\",Sheet1!B1736&\" \"&Sheet1!C1736)","v":"Omran Doaa"}]
[{"$f":"IF(Sheet1!B1737=\"\",\"\",Sheet1!B1737&\" \"&Sheet1!C1737)","v":"One Darryl"}]
[{"$f":"IF(Sheet1!B1738=\"\",\"\",Sheet1!B1738&\" \"&Sheet1!C1738)","v":"O'Neill Megan"}]
[{"$f":"IF(Sheet1!B1739=\"\",\"\",Sheet1!B1739&\" \"&Sheet1!C1739)","v":"Orcutt F. Roberta"}]
[{"$f":"IF(Sheet1!B1740=\"\",\"\",Sheet1!B1740&\" \"&Sheet1!C1740)","v":"Orie Daniel A."}]
[{"$f":"IF(Sheet1!B1741=\"\",\"\",Sheet1!B1741&\" \"&Sheet1!C1741)","v":"Orlowski Julie"}]
[{"$f":"IF(Sheet1!B1742=\"\",\"\",Sheet1!B1742&\" \"&Sheet1!C1742)","v":"Osborne Frank R."}]
[{"$f":"IF(Sheet1!B1743=\"\",\"\",Sheet1!B1743&\" \"&Sheet1!C1743)","v":"Osborne Karen"}]
[{"$f":"IF(Sheet1!B1744=\"\",\"\",Sheet1!B1744&\" \"&Sheet1!C1744)","v":"Oslick Mary Ellen"}]
[{"$f":"IF(Sheet1!B1745=\"\",\"\",Sheet1!B1745&\" \"&Sheet1!C1745)","v":"O'Sullivan Michael"}]
[{"$f":"IF(Sheet1!B1746=\"\",\"\",Sheet1!B1746&\" \"&Sheet1!C1746)","v":"Outterson John A."}]
[{"$f":"IF(Sheet1!B1747=\"\",\"\",Sheet1!B1747&\" \"&Sheet1!C1747)","v":"Owen Guy, Jr."}]
[{"$f":"IF(Sheet1!B1748=\"\",\"\",Sheet1!B1748&\" \"&Sheet1!C1748)","v":"Oxendine Laura"}]
[{"$f":"IF(Sheet1!B1749=\"\",\"\",Sheet1!B1749&\" \"&Sheet1!C1749)","v":"Pacheco Peter S."}]
[{"$f":"IF(Sheet1!B1750=\"\",\"\",Sheet1!B1750&\" \"&Sheet1!C1750)","v":"Page Donald A."}]
[{"$f":"IF(Sheet1!B1751=\"\",\"\",Sheet1!B1751&\" \"&Sheet1!C1751)","v":"Paine Ellery B."}]
[{"$f":"IF(Sheet1!B1752=\"\",\"\",Sheet1!B1752&\" \"&Sheet1!C1752)","v":"Painter Noel"}]
[{"$f":"IF(Sheet1!B1753=\"\",\"\",Sheet1!B1753&\" \"&Sheet1!C1753)","v":"Palmer Carolyn"}]
[{"$f":"IF(Sheet1!B1754=\"\",\"\",Sheet1!B1754&\" \"&Sheet1!C1754)","v":"Palmer Edit"}]
[{"$f":"IF(Sheet1!B1755=\"\",\"\",Sheet1!B1755&\" \"&Sheet1!C1755)","v":"Palmer Jason"}]
[{"$f":"IF(Sheet1!B1756=\"\",\"\",Sheet1!B1756&\" \"&Sheet1!C1756)","v":"Palmer John R."}]
[{"$f":"IF(Sheet1!B1757=\"\",\"\",Sheet1!B1757&\" \"&Sheet1!C1757)","v":"Palmer Mary Leigh"}]
[{"$f":"IF(Sheet1!B1758=\"\",\"\",Sheet1!B1758&\" \"&Sheet1!C1758)","v":"Papacosta Pangratios"}]
[{"$f":"IF(Sheet1!B1759=\"\",\"\",Sheet1!B1759&\" \"&Sheet1!C1759)","v":"Parce Addie"}]
[{"$f":"IF(Sheet1!B1760=\"\",\"\",Sheet1!B1760&\" \"&Sheet1!C1760)","v":"Paris Luis"}]
[{"$f":"IF(Sheet1!B1761=\"\",\"\",Sheet1!B1761&\" \"&Sheet1!C1761)","v":"Park John C."}]
[{"$f":"IF(Sheet1!B1762=\"\",\"\",Sheet1!B1762&\" \"&Sheet1!C1762)","v":"Park Mary Catherine"}]
[{"$f":"IF(Sheet1!B1763=\"\",\"\",Sheet1!B1763&\" \"&Sheet1!C1763)","v":"Park Thomas R."}]
[{"$f":"IF(Sheet1!B1764=\"\",\"\",Sheet1!B1764&\" \"&Sheet1!C1764)","v":"Park Lillian"}]
[{"$f":"IF(Sheet1!B1765=\"\",\"\",Sheet1!B1765&\" \"&Sheet1!C1765)","v":"Parker Colvin"}]
[{"$f":"IF(Sheet1!B1766=\"\",\"\",Sheet1!B1766&\" \"&Sheet1!C1766)","v":"Parker Douglas H."}]
[{"$f":"IF(Sheet1!B1767=\"\",\"\",Sheet1!B1767&\" \"&Sheet1!C1767)","v":"Parker Paul C."}]
[{"$f":"IF(Sheet1!B1768=\"\",\"\",Sheet1!B1768&\" \"&Sheet1!C1768)","v":"Parks Charles"}]
[{"$f":"IF(Sheet1!B1769=\"\",\"\",Sheet1!B1769&\" \"&Sheet1!C1769)","v":"Parnall Theodore"}]
[{"$f":"IF(Sheet1!B1770=\"\",\"\",Sheet1!B1770&\" \"&Sheet1!C1770)","v":"Parr Col. Wayland H."}]
[{"$f":"IF(Sheet1!B1771=\"\",\"\",Sheet1!B1771&\" \"&Sheet1!C1771)","v":"Parrish James W."}]
[{"$f":"IF(Sheet1!B1772=\"\",\"\",Sheet1!B1772&\" \"&Sheet1!C1772)","v":"Parsons Mary S."}]
[{"$f":"IF(Sheet1!B1773=\"\",\"\",Sheet1!B1773&\" \"&Sheet1!C1773)","v":"Partin Dallas"}]
[{"$f":"IF(Sheet1!B1774=\"\",\"\",Sheet1!B1774&\" \"&Sheet1!C1774)","v":"Patch George Monroe"}]
[{"$f":"IF(Sheet1!B1775=\"\",\"\",Sheet1!B1775&\" \"&Sheet1!C1775)","v":"Pate Vickie"}]
[{"$f":"IF(Sheet1!B1776=\"\",\"\",Sheet1!B1776&\" \"&Sheet1!C1776)","v":"Patillo Annie"}]
[{"$f":"IF(Sheet1!B1777=\"\",\"\",Sheet1!B1777&\" \"&Sheet1!C1777)","v":"Patridge Lelia E."}]
[{"$f":"IF(Sheet1!B1778=\"\",\"\",Sheet1!B1778&\" \"&Sheet1!C1778)","v":"Pattee John H."}]
[{"$f":"IF(Sheet1!B1779=\"\",\"\",Sheet1!B1779&\" \"&Sheet1!C1779)","v":"Patterson Dallas M."}]
[{"$f":"IF(Sheet1!B1780=\"\",\"\",Sheet1!B1780&\" \"&Sheet1!C1780)","v":"Patterson Loder L."}]
[{"$f":"IF(Sheet1!B1781=\"\",\"\",Sheet1!B1781&\" \"&Sheet1!C1781)","v":"Patterson Matthew"}]
[{"$f":"IF(Sheet1!B1782=\"\",\"\",Sheet1!B1782&\" \"&Sheet1!C1782)","v":"Patterson Maxine L."}]
[{"$f":"IF(Sheet1!B1783=\"\",\"\",Sheet1!B1783&\" \"&Sheet1!C1783)","v":"Pattillo Lewis"}]
[{"$f":"IF(Sheet1!B1784=\"\",\"\",Sheet1!B1784&\" \"&Sheet1!C1784)","v":"Pattishall Daniel Freeman"}]
[{"$f":"IF(Sheet1!B1785=\"\",\"\",Sheet1!B1785&\" \"&Sheet1!C1785)","v":"Pattishall William A."}]
[{"$f":"IF(Sheet1!B1786=\"\",\"\",Sheet1!B1786&\" \"&Sheet1!C1786)","v":"Pattison Ralph W."}]
[{"$f":"IF(Sheet1!B1787=\"\",\"\",Sheet1!B1787&\" \"&Sheet1!C1787)","v":"Paul Elizabeth"}]
[{"$f":"IF(Sheet1!B1788=\"\",\"\",Sheet1!B1788&\" \"&Sheet1!C1788)","v":"Paulk Kayla L."}]
[{"$f":"IF(Sheet1!B1789=\"\",\"\",Sheet1!B1789&\" \"&Sheet1!C1789)","v":"Payette J.J."}]
[{"$f":"IF(Sheet1!B1790=\"\",\"\",Sheet1!B1790&\" \"&Sheet1!C1790)","v":"Peabody Howard"}]
[{"$f":"IF(Sheet1!B1791=\"\",\"\",Sheet1!B1791&\" \"&Sheet1!C1791)","v":"Pearce Katheryn P."}]
[{"$f":"IF(Sheet1!B1792=\"\",\"\",Sheet1!B1792&\" \"&Sheet1!C1792)","v":"Pearce Richard W."}]
[{"$f":"IF(Sheet1!B1793=\"\",\"\",Sheet1!B1793&\" \"&Sheet1!C1793)","v":"Pearson Dr. Robert J"}]
[{"$f":"IF(Sheet1!B1794=\"\",\"\",Sheet1!B1794&\" \"&Sheet1!C1794)","v":"Pearson J.T."}]
[{"$f":"IF(Sheet1!B1795=\"\",\"\",Sheet1!B1795&\" \"&Sheet1!C1795)","v":"Pearson John H."}]
[{"$f":"IF(Sheet1!B1796=\"\",\"\",Sheet1!B1796&\" \"&Sheet1!C1796)","v":"Peavyhouse Russell K."}]
[{"$f":"IF(Sheet1!B1797=\"\",\"\",Sheet1!B1797&\" \"&Sheet1!C1797)","v":"Pedigo Marie"}]
[{"$f":"IF(Sheet1!B1798=\"\",\"\",Sheet1!B1798&\" \"&Sheet1!C1798)","v":"Peek Ellen"}]
[{"$f":"IF(Sheet1!B1799=\"\",\"\",Sheet1!B1799&\" \"&Sheet1!C1799)","v":"Peek Rebecca M."}]
[{"$f":"IF(Sheet1!B1800=\"\",\"\",Sheet1!B1800&\" \"&Sheet1!C1800)","v":"Peet James Melvin"}]
[{"$f":"IF(Sheet1!B1801=\"\",\"\",Sheet1!B1801&\" \"&Sheet1!C1801)","v":"Pelaia William A."}]
[{"$f":"IF(Sheet1!B1802=\"\",\"\",Sheet1!B1802&\" \"&Sheet1!C1802)","v":"Pelot Charles Edward"}]
[{"$f":"IF(Sheet1!B1803=\"\",\"\",Sheet1!B1803&\" \"&Sheet1!C1803)","v":"Pembe Hilda"}]
[{"$f":"IF(Sheet1!B1804=\"\",\"\",Sheet1!B1804&\" \"&Sheet1!C1804)","v":"Penney Robert"}]
[{"$f":"IF(Sheet1!B1805=\"\",\"\",Sheet1!B1805&\" \"&Sheet1!C1805)","v":"Pepper Norma"}]
[{"$f":"IF(Sheet1!B1806=\"\",\"\",Sheet1!B1806&\" \"&Sheet1!C1806)","v":"Peppers-Bates Susan M."}]
[{"$f":"IF(Sheet1!B1807=\"\",\"\",Sheet1!B1807&\" \"&Sheet1!C1807)","v":"Perdue James David"}]
[{"$f":"IF(Sheet1!B1808=\"\",\"\",Sheet1!B1808&\" \"&Sheet1!C1808)","v":"Perdue Susan W."}]
[{"$f":"IF(Sheet1!B1809=\"\",\"\",Sheet1!B1809&\" \"&Sheet1!C1809)","v":"Pereira Cyriaco Lopes"}]
[{"$f":"IF(Sheet1!B1810=\"\",\"\",Sheet1!B1810&\" \"&Sheet1!C1810)","v":"Perkins Robert L."}]
[{"$f":"IF(Sheet1!B1811=\"\",\"\",Sheet1!B1811&\" \"&Sheet1!C1811)","v":"Perkins Slyvia"}]
[{"$f":"IF(Sheet1!B1812=\"\",\"\",Sheet1!B1812&\" \"&Sheet1!C1812)","v":"Perramond Eric"}]
[{"$f":"IF(Sheet1!B1813=\"\",\"\",Sheet1!B1813&\" \"&Sheet1!C1813)","v":"Perry Adrienne M."}]
[{"$f":"IF(Sheet1!B1814=\"\",\"\",Sheet1!B1814&\" \"&Sheet1!C1814)","v":"Perry Mary E."}]
[{"$f":"IF(Sheet1!B1815=\"\",\"\",Sheet1!B1815&\" \"&Sheet1!C1815)","v":"Peruzzetto Sylvaine"}]
[{"$f":"IF(Sheet1!B1816=\"\",\"\",Sheet1!B1816&\" \"&Sheet1!C1816)","v":"Peter Timothy"}]
[{"$f":"IF(Sheet1!B1817=\"\",\"\",Sheet1!B1817&\" \"&Sheet1!C1817)","v":"Peterson Melissa"}]
[{"$f":"IF(Sheet1!B1818=\"\",\"\",Sheet1!B1818&\" \"&Sheet1!C1818)","v":"Peterson Andrea"}]
[{"$f":"IF(Sheet1!B1819=\"\",\"\",Sheet1!B1819&\" \"&Sheet1!C1819)","v":"Peterson Rudolph"}]
[{"$f":"IF(Sheet1!B1820=\"\",\"\",Sheet1!B1820&\" \"&Sheet1!C1820)","v":"Petren Louise"}]
[{"$f":"IF(Sheet1!B1821=\"\",\"\",Sheet1!B1821&\" \"&Sheet1!C1821)","v":"Petrescu Deivy"}]
[{"$f":"IF(Sheet1!B1822=\"\",\"\",Sheet1!B1822&\" \"&Sheet1!C1822)","v":"Petrovic Jelena"}]
[{"$f":"IF(Sheet1!B1823=\"\",\"\",Sheet1!B1823&\" \"&Sheet1!C1823)","v":"Peuquet Sean"}]
[{"$f":"IF(Sheet1!B1824=\"\",\"\",Sheet1!B1824&\" \"&Sheet1!C1824)","v":"Pharr Otis Newton"}]
[{"$f":"IF(Sheet1!B1825=\"\",\"\",Sheet1!B1825&\" \"&Sheet1!C1825)","v":"Philips John William"}]
[{"$f":"IF(Sheet1!B1826=\"\",\"\",Sheet1!B1826&\" \"&Sheet1!C1826)","v":"Phillips Aaron"}]
[{"$f":"IF(Sheet1!B1827=\"\",\"\",Sheet1!B1827&\" \"&Sheet1!C1827)","v":"Phillips Douglas"}]
[{"$f":"IF(Sheet1!B1828=\"\",\"\",Sheet1!B1828&\" \"&Sheet1!C1828)","v":"Phillips Frank McGinley"}]
[{"$f":"IF(Sheet1!B1829=\"\",\"\",Sheet1!B1829&\" \"&Sheet1!C1829)","v":"Phillips Gary M."}]
[{"$f":"IF(Sheet1!B1830=\"\",\"\",Sheet1!B1830&\" \"&Sheet1!C1830)","v":"Phillips Jane L."}]
[{"$f":"IF(Sheet1!B1831=\"\",\"\",Sheet1!B1831&\" \"&Sheet1!C1831)","v":"Phillips Jennie"}]
[{"$f":"IF(Sheet1!B1832=\"\",\"\",Sheet1!B1832&\" \"&Sheet1!C1832)","v":"Phillips John W."}]
[{"$f":"IF(Sheet1!B1833=\"\",\"\",Sheet1!B1833&\" \"&Sheet1!C1833)","v":"Phillips Margaret L."}]
[{"$f":"IF(Sheet1!B1834=\"\",\"\",Sheet1!B1834&\" \"&Sheet1!C1834)","v":"Phillips Paul C."}]
[{"$f":"IF(Sheet1!B1835=\"\",\"\",Sheet1!B1835&\" \"&Sheet1!C1835)","v":"Piccard Ann M."}]
[{"$f":"IF(Sheet1!B1836=\"\",\"\",Sheet1!B1836&\" \"&Sheet1!C1836)","v":"Pickens Watie R."}]
[{"$f":"IF(Sheet1!B1837=\"\",\"\",Sheet1!B1837&\" \"&Sheet1!C1837)","v":"Piechura-Couture Kathy Jo"}]
[{"$f":"IF(Sheet1!B1838=\"\",\"\",Sheet1!B1838&\" \"&Sheet1!C1838)","v":"Pierce Edwin Griffin"}]
[{"$f":"IF(Sheet1!B1839=\"\",\"\",Sheet1!B1839&\" \"&Sheet1!C1839)","v":"Pierson Josephine"}]
[{"$f":"IF(Sheet1!B1840=\"\",\"\",Sheet1!B1840&\" \"&Sheet1!C1840)","v":"Pietruszkiewicz Christopher"}]
[{"$f":"IF(Sheet1!B1841=\"\",\"\",Sheet1!B1841&\" \"&Sheet1!C1841)","v":"Pilgrim Melissa"}]
[{"$f":"IF(Sheet1!B1842=\"\",\"\",Sheet1!B1842&\" \"&Sheet1!C1842)","v":"Pillans Porter P."}]
[{"$f":"IF(Sheet1!B1843=\"\",\"\",Sheet1!B1843&\" \"&Sheet1!C1843)","v":"Pilote Pierre"}]
[{"$f":"IF(Sheet1!B1844=\"\",\"\",Sheet1!B1844&\" \"&Sheet1!C1844)","v":"Pinnell Ronald L."}]
[{"$f":"IF(Sheet1!B1845=\"\",\"\",Sheet1!B1845&\" \"&Sheet1!C1845)","v":"Pitts Mavis O."}]
[{"$f":"IF(Sheet1!B1846=\"\",\"\",Sheet1!B1846&\" \"&Sheet1!C1846)","v":"Plante Daniel"}]
[{"$f":"IF(Sheet1!B1847=\"\",\"\",Sheet1!B1847&\" \"&Sheet1!C1847)","v":"Platt Edward L."}]
[{"$f":"IF(Sheet1!B1848=\"\",\"\",Sheet1!B1848&\" \"&Sheet1!C1848)","v":"Podgor Ellen"}]
[{"$f":"IF(Sheet1!B1849=\"\",\"\",Sheet1!B1849&\" \"&Sheet1!C1849)","v":"Poeter Elisabeth"}]
[{"$f":"IF(Sheet1!B1850=\"\",\"\",Sheet1!B1850&\" \"&Sheet1!C1850)","v":"Pollman Terrill"}]
[{"$f":"IF(Sheet1!B1851=\"\",\"\",Sheet1!B1851&\" \"&Sheet1!C1851)","v":"Pollock Mary R."}]
[{"$f":"IF(Sheet1!B1852=\"\",\"\",Sheet1!B1852&\" \"&Sheet1!C1852)","v":"Popp Rod"}]
[{"$f":"IF(Sheet1!B1853=\"\",\"\",Sheet1!B1853&\" \"&Sheet1!C1853)","v":"Porter Hattye Mae"}]
[{"$f":"IF(Sheet1!B1854=\"\",\"\",Sheet1!B1854&\" \"&Sheet1!C1854)","v":"Porter Paul Robert"}]
[{"$f":"IF(Sheet1!B1855=\"\",\"\",Sheet1!B1855&\" \"&Sheet1!C1855)","v":"Posey Gaynelle"}]
[{"$f":"IF(Sheet1!B1856=\"\",\"\",Sheet1!B1856&\" \"&Sheet1!C1856)","v":"Potts Laura Amanda"}]
[{"$f":"IF(Sheet1!B1857=\"\",\"\",Sheet1!B1857&\" \"&Sheet1!C1857)","v":"Powell Gladys"}]
[{"$f":"IF(Sheet1!B1858=\"\",\"\",Sheet1!B1858&\" \"&Sheet1!C1858)","v":"Powell Lena Mercedes"}]
[{"$f":"IF(Sheet1!B1859=\"\",\"\",Sheet1!B1859&\" \"&Sheet1!C1859)","v":"Powell Mark"}]
[{"$f":"IF(Sheet1!B1860=\"\",\"\",Sheet1!B1860&\" \"&Sheet1!C1860)","v":"Powell Mary Baldwin"}]
[{"$f":"IF(Sheet1!B1861=\"\",\"\",Sheet1!B1861&\" \"&Sheet1!C1861)","v":"Prather Carlisle"}]
[{"$f":"IF(Sheet1!B1862=\"\",\"\",Sheet1!B1862&\" \"&Sheet1!C1862)","v":"Prather Darlie J."}]
[{"$f":"IF(Sheet1!B1863=\"\",\"\",Sheet1!B1863&\" \"&Sheet1!C1863)","v":"Prather Sam W., Jr."}]
[{"$f":"IF(Sheet1!B1864=\"\",\"\",Sheet1!B1864&\" \"&Sheet1!C1864)","v":"Prather Virginia"}]
[{"$f":"IF(Sheet1!B1865=\"\",\"\",Sheet1!B1865&\" \"&Sheet1!C1865)","v":"Prescott Edith May"}]
[{"$f":"IF(Sheet1!B1866=\"\",\"\",Sheet1!B1866&\" \"&Sheet1!C1866)","v":"Preston Andrew C."}]
[{"$f":"IF(Sheet1!B1867=\"\",\"\",Sheet1!B1867&\" \"&Sheet1!C1867)","v":"Preston Lillian"}]
[{"$f":"IF(Sheet1!B1868=\"\",\"\",Sheet1!B1868&\" \"&Sheet1!C1868)","v":"Preston Thelma"}]
[{"$f":"IF(Sheet1!B1869=\"\",\"\",Sheet1!B1869&\" \"&Sheet1!C1869)","v":"Price Harry L."}]
[{"$f":"IF(Sheet1!B1870=\"\",\"\",Sheet1!B1870&\" \"&Sheet1!C1870)","v":"Price Katherine"}]
[{"$f":"IF(Sheet1!B1871=\"\",\"\",Sheet1!B1871&\" \"&Sheet1!C1871)","v":"Price Milburn"}]
[{"$f":"IF(Sheet1!B1872=\"\",\"\",Sheet1!B1872&\" \"&Sheet1!C1872)","v":"Price Thomas A."}]
[{"$f":"IF(Sheet1!B1873=\"\",\"\",Sheet1!B1873&\" \"&Sheet1!C1873)","v":"Prichard Elmer C."}]
[{"$f":"IF(Sheet1!B1874=\"\",\"\",Sheet1!B1874&\" \"&Sheet1!C1874)","v":"Prichard Mary T."}]
[{"$f":"IF(Sheet1!B1875=\"\",\"\",Sheet1!B1875&\" \"&Sheet1!C1875)","v":"Priebe Roger"}]
[{"$f":"IF(Sheet1!B1876=\"\",\"\",Sheet1!B1876&\" \"&Sheet1!C1876)","v":"Prince Albert I."}]
[{"$f":"IF(Sheet1!B1877=\"\",\"\",Sheet1!B1877&\" \"&Sheet1!C1877)","v":"Privezentseva Marina E."}]
[{"$f":"IF(Sheet1!B1878=\"\",\"\",Sheet1!B1878&\" \"&Sheet1!C1878)","v":"Prokorov Alexander"}]
[{"$f":"IF(Sheet1!B1879=\"\",\"\",Sheet1!B1879&\" \"&Sheet1!C1879)","v":"Protopapa Joe"}]
[{"$f":"IF(Sheet1!B1880=\"\",\"\",Sheet1!B1880&\" \"&Sheet1!C1880)","v":"Pulapaka Hari"}]
[{"$f":"IF(Sheet1!B1881=\"\",\"\",Sheet1!B1881&\" \"&Sheet1!C1881)","v":"Pulley Radwan Theresa J."}]
[{"$f":"IF(Sheet1!B1882=\"\",\"\",Sheet1!B1882&\" \"&Sheet1!C1882)","v":"Purcell Leslie Harper"}]
[{"$f":"IF(Sheet1!B1883=\"\",\"\",Sheet1!B1883&\" \"&Sheet1!C1883)","v":"Purkis W. John"}]
[{"$f":"IF(Sheet1!B1884=\"\",\"\",Sheet1!B1884&\" \"&Sheet1!C1884)","v":"Purkis W. John"}]
[{"$f":"IF(Sheet1!B1885=\"\",\"\",Sheet1!B1885&\" \"&Sheet1!C1885)","v":"Purser Sue Bradley"}]
[{"$f":"IF(Sheet1!B1886=\"\",\"\",Sheet1!B1886&\" \"&Sheet1!C1886)","v":"Pusateri John"}]
[{"$f":"IF(Sheet1!B1887=\"\",\"\",Sheet1!B1887&\" \"&Sheet1!C1887)","v":"Putzer Gavin"}]
[{"$f":"IF(Sheet1!B1888=\"\",\"\",Sheet1!B1888&\" \"&Sheet1!C1888)","v":"Pytell Timothy E."}]
[{"$f":"IF(Sheet1!B1889=\"\",\"\",Sheet1!B1889&\" \"&Sheet1!C1889)","v":"Queally Alicia Alford"}]
[{"$f":"IF(Sheet1!B1890=\"\",\"\",Sheet1!B1890&\" \"&Sheet1!C1890)","v":"Queen-Sutherland Kandy"}]
[{"$f":"IF(Sheet1!B1891=\"\",\"\",Sheet1!B1891&\" \"&Sheet1!C1891)","v":"Quinn Garrett"}]
[{"$f":"IF(Sheet1!B1892=\"\",\"\",Sheet1!B1892&\" \"&Sheet1!C1892)","v":"Raborn Sandra C."}]
[{"$f":"IF(Sheet1!B1893=\"\",\"\",Sheet1!B1893&\" \"&Sheet1!C1893)","v":"Race F.A."}]
[{"$f":"IF(Sheet1!B1894=\"\",\"\",Sheet1!B1894&\" \"&Sheet1!C1894)","v":"Race Sadie St. John"}]
[{"$f":"IF(Sheet1!B1895=\"\",\"\",Sheet1!B1895&\" \"&Sheet1!C1895)","v":"Radley Gail"}]
[{"$f":"IF(Sheet1!B1896=\"\",\"\",Sheet1!B1896&\" \"&Sheet1!C1896)","v":"Radwan Theresa J. Pulley"}]
[{"$f":"IF(Sheet1!B1897=\"\",\"\",Sheet1!B1897&\" \"&Sheet1!C1897)","v":"Raffa Jean Benedict"}]
[{"$f":"IF(Sheet1!B1898=\"\",\"\",Sheet1!B1898&\" \"&Sheet1!C1898)","v":"Raffensperger Glen W."}]
[{"$f":"IF(Sheet1!B1899=\"\",\"\",Sheet1!B1899&\" \"&Sheet1!C1899)","v":"Ragan Philip H."}]
[{"$f":"IF(Sheet1!B1900=\"\",\"\",Sheet1!B1900&\" \"&Sheet1!C1900)","v":"Rainer Hewlett E."}]
[{"$f":"IF(Sheet1!B1901=\"\",\"\",Sheet1!B1901&\" \"&Sheet1!C1901)","v":"Raines Alan"}]
[{"$f":"IF(Sheet1!B1902=\"\",\"\",Sheet1!B1902&\" \"&Sheet1!C1902)","v":"Ramocki Marcin"}]
[{"$f":"IF(Sheet1!B1903=\"\",\"\",Sheet1!B1903&\" \"&Sheet1!C1903)","v":"Ramos Manuel"}]
[{"$f":"IF(Sheet1!B1904=\"\",\"\",Sheet1!B1904&\" \"&Sheet1!C1904)","v":"Ramos Ricardo"}]
[{"$f":"IF(Sheet1!B1905=\"\",\"\",Sheet1!B1905&\" \"&Sheet1!C1905)","v":"Ramsey Ruthella"}]
[{"$f":"IF(Sheet1!B1906=\"\",\"\",Sheet1!B1906&\" \"&Sheet1!C1906)","v":"Randall Frank H."}]
[{"$f":"IF(Sheet1!B1907=\"\",\"\",Sheet1!B1907&\" \"&Sheet1!C1907)","v":"Randall Irene"}]
[{"$f":"IF(Sheet1!B1908=\"\",\"\",Sheet1!B1908&\" \"&Sheet1!C1908)","v":"Rape Earl B."}]
[{"$f":"IF(Sheet1!B1909=\"\",\"\",Sheet1!B1909&\" \"&Sheet1!C1909)","v":"Rape Nina Doggart"}]
[{"$f":"IF(Sheet1!B1910=\"\",\"\",Sheet1!B1910&\" \"&Sheet1!C1910)","v":"Rappeport Jack J."}]
[{"$f":"IF(Sheet1!B1911=\"\",\"\",Sheet1!B1911&\" \"&Sheet1!C1911)","v":"Rasco Glynn Owen"}]
[{"$f":"IF(Sheet1!B1912=\"\",\"\",Sheet1!B1912&\" \"&Sheet1!C1912)","v":"Rasco Richmond Austin"}]
[{"$f":"IF(Sheet1!B1913=\"\",\"\",Sheet1!B1913&\" \"&Sheet1!C1913)","v":"Rasp John, Jr."}]
[{"$f":"IF(Sheet1!B1914=\"\",\"\",Sheet1!B1914&\" \"&Sheet1!C1914)","v":"Ray Mary R."}]
[{"$f":"IF(Sheet1!B1915=\"\",\"\",Sheet1!B1915&\" \"&Sheet1!C1915)","v":"Raymond Michael W"}]
[{"$f":"IF(Sheet1!B1916=\"\",\"\",Sheet1!B1916&\" \"&Sheet1!C1916)","v":"Raymond Paul Everett"}]
[{"$f":"IF(Sheet1!B1917=\"\",\"\",Sheet1!B1917&\" \"&Sheet1!C1917)","v":"Reagan Morris T."}]
[{"$f":"IF(Sheet1!B1918=\"\",\"\",Sheet1!B1918&\" \"&Sheet1!C1918)","v":"Rebo Barbara"}]
[{"$f":"IF(Sheet1!B1919=\"\",\"\",Sheet1!B1919&\" \"&Sheet1!C1919)","v":"Reddick Meredith Cooper"}]
[{"$f":"IF(Sheet1!B1920=\"\",\"\",Sheet1!B1920&\" \"&Sheet1!C1920)","v":"Reddick Ralph Harold"}]
[{"$f":"IF(Sheet1!B1921=\"\",\"\",Sheet1!B1921&\" \"&Sheet1!C1921)","v":"Reddish Mitchell G."}]
[{"$f":"IF(Sheet1!B1922=\"\",\"\",Sheet1!B1922&\" \"&Sheet1!C1922)","v":"Reese Jane P."}]
[{"$f":"IF(Sheet1!B1923=\"\",\"\",Sheet1!B1923&\" \"&Sheet1!C1923)","v":"Reese Jesse Byers"}]
[{"$f":"IF(Sheet1!B1924=\"\",\"\",Sheet1!B1924&\" \"&Sheet1!C1924)","v":"Rees-Potter Carolyn A."}]
[{"$f":"IF(Sheet1!B1925=\"\",\"\",Sheet1!B1925&\" \"&Sheet1!C1925)","v":"Reid Martha Mildred"}]
[{"$f":"IF(Sheet1!B1926=\"\",\"\",Sheet1!B1926&\" \"&Sheet1!C1926)","v":"Reilly J. Tim"}]
[{"$f":"IF(Sheet1!B1927=\"\",\"\",Sheet1!B1927&\" \"&Sheet1!C1927)","v":"Reilly Philip"}]
[{"$f":"IF(Sheet1!B1928=\"\",\"\",Sheet1!B1928&\" \"&Sheet1!C1928)","v":"Reiter Kimberly D.S."}]
[{"$f":"IF(Sheet1!B1929=\"\",\"\",Sheet1!B1929&\" \"&Sheet1!C1929)","v":"Remington Bridget"}]
[{"$f":"IF(Sheet1!B1930=\"\",\"\",Sheet1!B1930&\" \"&Sheet1!C1930)","v":"Remington Thomas"}]
[{"$f":"IF(Sheet1!B1931=\"\",\"\",Sheet1!B1931&\" \"&Sheet1!C1931)","v":"Rhett John Taylor"}]
[{"$f":"IF(Sheet1!B1932=\"\",\"\",Sheet1!B1932&\" \"&Sheet1!C1932)","v":"Rhoton Alvis Lemuel"}]
[{"$f":"IF(Sheet1!B1933=\"\",\"\",Sheet1!B1933&\" \"&Sheet1!C1933)","v":"Ricardo Susan"}]
[{"$f":"IF(Sheet1!B1934=\"\",\"\",Sheet1!B1934&\" \"&Sheet1!C1934)","v":"Rich Mollie"}]
[{"$f":"IF(Sheet1!B1935=\"\",\"\",Sheet1!B1935&\" \"&Sheet1!C1935)","v":"Rich Robert"}]
[{"$f":"IF(Sheet1!B1936=\"\",\"\",Sheet1!B1936&\" \"&Sheet1!C1936)","v":"Rich Ruth"}]
[{"$f":"IF(Sheet1!B1937=\"\",\"\",Sheet1!B1937&\" \"&Sheet1!C1937)","v":"Richards Terri"}]
[{"$f":"IF(Sheet1!B1938=\"\",\"\",Sheet1!B1938&\" \"&Sheet1!C1938)","v":"Richardson Ann R."}]
[{"$f":"IF(Sheet1!B1939=\"\",\"\",Sheet1!B1939&\" \"&Sheet1!C1939)","v":"Richardson Charles E."}]
[{"$f":"IF(Sheet1!B1940=\"\",\"\",Sheet1!B1940&\" \"&Sheet1!C1940)","v":"Richardson Edward B."}]
[{"$f":"IF(Sheet1!B1941=\"\",\"\",Sheet1!B1941&\" \"&Sheet1!C1941)","v":"Richardson Emily"}]
[{"$f":"IF(Sheet1!B1942=\"\",\"\",Sheet1!B1942&\" \"&Sheet1!C1942)","v":"Richardson George T."}]
[{"$f":"IF(Sheet1!B1943=\"\",\"\",Sheet1!B1943&\" \"&Sheet1!C1943)","v":"Richardson Ida H."}]
[{"$f":"IF(Sheet1!B1944=\"\",\"\",Sheet1!B1944&\" \"&Sheet1!C1944)","v":"Richardson James R."}]
[{"$f":"IF(Sheet1!B1945=\"\",\"\",Sheet1!B1945&\" \"&Sheet1!C1945)","v":"Richardson Muriel"}]
[{"$f":"IF(Sheet1!B1946=\"\",\"\",Sheet1!B1946&\" \"&Sheet1!C1946)","v":"Richardson Ruth Marcia"}]
[{"$f":"IF(Sheet1!B1947=\"\",\"\",Sheet1!B1947&\" \"&Sheet1!C1947)","v":"Richter Liesa"}]
[{"$f":"IF(Sheet1!B1948=\"\",\"\",Sheet1!B1948&\" \"&Sheet1!C1948)","v":"Rickling Maria"}]
[{"$f":"IF(Sheet1!B1949=\"\",\"\",Sheet1!B1949&\" \"&Sheet1!C1949)","v":"Rickman Jean O."}]
[{"$f":"IF(Sheet1!B1950=\"\",\"\",Sheet1!B1950&\" \"&Sheet1!C1950)","v":"Rickman Michael L."}]
[{"$f":"IF(Sheet1!B1951=\"\",\"\",Sheet1!B1951&\" \"&Sheet1!C1951)","v":"Riddles Stewart D."}]
[{"$f":"IF(Sheet1!B1952=\"\",\"\",Sheet1!B1952&\" \"&Sheet1!C1952)","v":"Riepenhoff Tracy"}]
[{"$f":"IF(Sheet1!B1953=\"\",\"\",Sheet1!B1953&\" \"&Sheet1!C1953)","v":"Riggs George Overton"}]
[{"$f":"IF(Sheet1!B1954=\"\",\"\",Sheet1!B1954&\" \"&Sheet1!C1954)","v":"Riggs Kevin"}]
[{"$f":"IF(Sheet1!B1955=\"\",\"\",Sheet1!B1955&\" \"&Sheet1!C1955)","v":"Riginos Thomas A."}]
[{"$f":"IF(Sheet1!B1956=\"\",\"\",Sheet1!B1956&\" \"&Sheet1!C1956)","v":"Rigsby David C."}]
[{"$f":"IF(Sheet1!B1957=\"\",\"\",Sheet1!B1957&\" \"&Sheet1!C1957)","v":"Riser John S."}]
[{"$f":"IF(Sheet1!B1958=\"\",\"\",Sheet1!B1958&\" \"&Sheet1!C1958)","v":"Ritter Charles C."}]
[{"$f":"IF(Sheet1!B1959=\"\",\"\",Sheet1!B1959&\" \"&Sheet1!C1959)","v":"Roach Leila F."}]
[{"$f":"IF(Sheet1!B1960=\"\",\"\",Sheet1!B1960&\" \"&Sheet1!C1960)","v":"Roberts Celia"}]
[{"$f":"IF(Sheet1!B1961=\"\",\"\",Sheet1!B1961&\" \"&Sheet1!C1961)","v":"Roberts Chris"}]
[{"$f":"IF(Sheet1!B1962=\"\",\"\",Sheet1!B1962&\" \"&Sheet1!C1962)","v":"Roberts Matthew"}]
[{"$f":"IF(Sheet1!B1963=\"\",\"\",Sheet1!B1963&\" \"&Sheet1!C1963)","v":"Roberts Paul B."}]
[{"$f":"IF(Sheet1!B1964=\"\",\"\",Sheet1!B1964&\" \"&Sheet1!C1964)","v":"Roberts Ralph K."}]
[{"$f":"IF(Sheet1!B1965=\"\",\"\",Sheet1!B1965&\" \"&Sheet1!C1965)","v":"Roberts William"}]
[{"$f":"IF(Sheet1!B1966=\"\",\"\",Sheet1!B1966&\" \"&Sheet1!C1966)","v":"Robertson James Alexander"}]
[{"$f":"IF(Sheet1!B1967=\"\",\"\",Sheet1!B1967&\" \"&Sheet1!C1967)","v":"Robertson Minnie A."}]
[{"$f":"IF(Sheet1!B1968=\"\",\"\",Sheet1!B1968&\" \"&Sheet1!C1968)","v":"Robinson Courtney"}]
[{"$f":"IF(Sheet1!B1969=\"\",\"\",Sheet1!B1969&\" \"&Sheet1!C1969)","v":"Robinson David"}]
[{"$f":"IF(Sheet1!B1970=\"\",\"\",Sheet1!B1970&\" \"&Sheet1!C1970)","v":"Robinson James P"}]
[{"$f":"IF(Sheet1!B1971=\"\",\"\",Sheet1!B1971&\" \"&Sheet1!C1971)","v":"Robinson Stephen A."}]
[{"$f":"IF(Sheet1!B1972=\"\",\"\",Sheet1!B1972&\" \"&Sheet1!C1972)","v":"Robson Ruthann"}]
[{"$f":"IF(Sheet1!B1973=\"\",\"\",Sheet1!B1973&\" \"&Sheet1!C1973)","v":"Roche Gregory F., Jr."}]
[{"$f":"IF(Sheet1!B1974=\"\",\"\",Sheet1!B1974&\" \"&Sheet1!C1974)","v":"Rockwood Robert Spencer"}]
[{"$f":"IF(Sheet1!B1975=\"\",\"\",Sheet1!B1975&\" \"&Sheet1!C1975)","v":"Rodgers D.O."}]
[{"$f":"IF(Sheet1!B1976=\"\",\"\",Sheet1!B1976&\" \"&Sheet1!C1976)","v":"Rodgers W. Garrett"}]
[{"$f":"IF(Sheet1!B1977=\"\",\"\",Sheet1!B1977&\" \"&Sheet1!C1977)","v":"Rodriguez Mario"}]
[{"$f":"IF(Sheet1!B1978=\"\",\"\",Sheet1!B1978&\" \"&Sheet1!C1978)","v":"Roebuck R.R."}]
[{"$f":"IF(Sheet1!B1979=\"\",\"\",Sheet1!B1979&\" \"&Sheet1!C1979)","v":"Rogan William J."}]
[{"$f":"IF(Sheet1!B1980=\"\",\"\",Sheet1!B1980&\" \"&Sheet1!C1980)","v":"Rogers D.O."}]
[{"$f":"IF(Sheet1!B1981=\"\",\"\",Sheet1!B1981&\" \"&Sheet1!C1981)","v":"Rogers Jean H."}]
[{"$f":"IF(Sheet1!B1982=\"\",\"\",Sheet1!B1982&\" \"&Sheet1!C1982)","v":"Rogers Jefferson P."}]
[{"$f":"IF(Sheet1!B1983=\"\",\"\",Sheet1!B1983&\" \"&Sheet1!C1983)","v":"Rogers Mary Anne"}]
[{"$f":"IF(Sheet1!B1984=\"\",\"\",Sheet1!B1984&\" \"&Sheet1!C1984)","v":"Rogers Patricia L."}]
[{"$f":"IF(Sheet1!B1985=\"\",\"\",Sheet1!B1985&\" \"&Sheet1!C1985)","v":"Rollins Jack"}]
[{"$f":"IF(Sheet1!B1986=\"\",\"\",Sheet1!B1986&\" \"&Sheet1!C1986)","v":"Rollins Ernest W., Jr."}]
[{"$f":"IF(Sheet1!B1987=\"\",\"\",Sheet1!B1987&\" \"&Sheet1!C1987)","v":"Romine Deanna K."}]
[{"$f":"IF(Sheet1!B1988=\"\",\"\",Sheet1!B1988&\" \"&Sheet1!C1988)","v":"Rooney Terrence"}]
[{"$f":"IF(Sheet1!B1989=\"\",\"\",Sheet1!B1989&\" \"&Sheet1!C1989)","v":"Rosa Clifford B."}]
[{"$f":"IF(Sheet1!B1990=\"\",\"\",Sheet1!B1990&\" \"&Sheet1!C1990)","v":"Rosa Clifford B."}]
[{"$f":"IF(Sheet1!B1991=\"\",\"\",Sheet1!B1991&\" \"&Sheet1!C1991)","v":"Rosa Olive T."}]
[{"$f":"IF(Sheet1!B1992=\"\",\"\",Sheet1!B1992&\" \"&Sheet1!C1992)","v":"Rose Charles H. III"}]
[{"$f":"IF(Sheet1!B1993=\"\",\"\",Sheet1!B1993&\" \"&Sheet1!C1993)","v":"Rosen Larry S."}]
[{"$f":"IF(Sheet1!B1994=\"\",\"\",Sheet1!B1994&\" \"&Sheet1!C1994)","v":"Rosenthal Lawrence D."}]
[{"$f":"IF(Sheet1!B1995=\"\",\"\",Sheet1!B1995&\" \"&Sheet1!C1995)","v":"Rosetti Daniel K."}]
[{"$f":"IF(Sheet1!B1996=\"\",\"\",Sheet1!B1996&\" \"&Sheet1!C1996)","v":"Rosser John"}]
[{"$f":"IF(Sheet1!B1997=\"\",\"\",Sheet1!B1997&\" \"&Sheet1!C1997)","v":"Rossi-Keen Daniel"}]
[{"$f":"IF(Sheet1!B1998=\"\",\"\",Sheet1!B1998&\" \"&Sheet1!C1998)","v":"Roth Lorie J."}]
[{"$f":"IF(Sheet1!B1999=\"\",\"\",Sheet1!B1999&\" \"&Sheet1!C1999)","v":"Roth Wolfgang"}]
[{"$f":"IF(Sheet1!B2000=\"\",\"\",Sheet1!B2000&\" \"&Sheet1!C2000)","v":"Rowe Barbara"}]
[{"$f":"IF(Sheet1!B2001=\"\",\"\",Sheet1!B2001&\" \"&Sheet1!C2001)","v":"Rowe Della M."}]
[{"$f":"IF(Sheet1!B2002=\"\",\"\",Sheet1!B2002&\" \"&Sheet1!C2002)","v":"Rowe Jack Calvin"}]
[{"$f":"IF(Sheet1!B2003=\"\",\"\",Sheet1!B2003&\" \"&Sheet1!C2003)","v":"Rowley Frances L."}]
[{"$f":"IF(Sheet1!B2004=\"\",\"\",Sheet1!B2004&\" \"&Sheet1!C2004)","v":"Royce Herbert"}]
[{"$f":"IF(Sheet1!B2005=\"\",\"\",Sheet1!B2005&\" \"&Sheet1!C2005)","v":"Royster Judith V."}]
[{"$f":"IF(Sheet1!B2006=\"\",\"\",Sheet1!B2006&\" \"&Sheet1!C2006)","v":"Rozea Gerard"}]
[{"$f":"IF(Sheet1!B2007=\"\",\"\",Sheet1!B2007&\" \"&Sheet1!C2007)","v":"Rozelle Susan"}]
[{"$f":"IF(Sheet1!B2008=\"\",\"\",Sheet1!B2008&\" \"&Sheet1!C2008)","v":"Rubin-Scharff Nancy"}]
[{"$f":"IF(Sheet1!B2009=\"\",\"\",Sheet1!B2009&\" \"&Sheet1!C2009)","v":"Ruggles Clarence A."}]
[{"$f":"IF(Sheet1!B2010=\"\",\"\",Sheet1!B2010&\" \"&Sheet1!C2010)","v":"Ruggles William B."}]
[{"$f":"IF(Sheet1!B2011=\"\",\"\",Sheet1!B2011&\" \"&Sheet1!C2011)","v":"Rumble Douglas"}]
[{"$f":"IF(Sheet1!B2012=\"\",\"\",Sheet1!B2012&\" \"&Sheet1!C2012)","v":"Rupe Addie"}]
[{"$f":"IF(Sheet1!B2013=\"\",\"\",Sheet1!B2013&\" \"&Sheet1!C2013)","v":"Russell Lelia"}]
[{"$f":"IF(Sheet1!B2014=\"\",\"\",Sheet1!B2014&\" \"&Sheet1!C2014)","v":"Russell William C."}]
[{"$f":"IF(Sheet1!B2015=\"\",\"\",Sheet1!B2015&\" \"&Sheet1!C2015)","v":"Rust Joshua"}]
[{"$f":"IF(Sheet1!B2016=\"\",\"\",Sheet1!B2016&\" \"&Sheet1!C2016)","v":"Rutter George M."}]
[{"$f":"IF(Sheet1!B2017=\"\",\"\",Sheet1!B2017&\" \"&Sheet1!C2017)","v":"Rutter Jeffrey J."}]
[{"$f":"IF(Sheet1!B2018=\"\",\"\",Sheet1!B2018&\" \"&Sheet1!C2018)","v":"Ryan Karen"}]
[{"$f":"IF(Sheet1!B2019=\"\",\"\",Sheet1!B2019&\" \"&Sheet1!C2019)","v":"Ryan Susan M."}]
[{"$f":"IF(Sheet1!B2020=\"\",\"\",Sheet1!B2020&\" \"&Sheet1!C2020)","v":"Rycerz Anthony M."}]
[{"$f":"IF(Sheet1!B2021=\"\",\"\",Sheet1!B2021&\" \"&Sheet1!C2021)","v":"Ryder Mabel Beulah"}]
[{"$f":"IF(Sheet1!B2022=\"\",\"\",Sheet1!B2022&\" \"&Sheet1!C2022)","v":"Sadler Michael"}]
[{"$f":"IF(Sheet1!B2023=\"\",\"\",Sheet1!B2023&\" \"&Sheet1!C2023)","v":"Saintsing Susan"}]
[{"$f":"IF(Sheet1!B2024=\"\",\"\",Sheet1!B2024&\" \"&Sheet1!C2024)","v":"Salisbury Ethel"}]
[{"$f":"IF(Sheet1!B2025=\"\",\"\",Sheet1!B2025&\" \"&Sheet1!C2025)","v":"Sample A.B."}]
[{"$f":"IF(Sheet1!B2026=\"\",\"\",Sheet1!B2026&\" \"&Sheet1!C2026)","v":"Sanchez-Ramirez Iliana"}]
[{"$f":"IF(Sheet1!B2027=\"\",\"\",Sheet1!B2027&\" \"&Sheet1!C2027)","v":"Sander Allan N."}]
[{"$f":"IF(Sheet1!B2028=\"\",\"\",Sheet1!B2028&\" \"&Sheet1!C2028)","v":"Sanders Albert N."}]
[{"$f":"IF(Sheet1!B2029=\"\",\"\",Sheet1!B2029&\" \"&Sheet1!C2029)","v":"Sanders John D."}]
[{"$f":"IF(Sheet1!B2030=\"\",\"\",Sheet1!B2030&\" \"&Sheet1!C2030)","v":"Sapp D. Gregory"}]
[{"$f":"IF(Sheet1!B2031=\"\",\"\",Sheet1!B2031&\" \"&Sheet1!C2031)","v":"Sartain James A."}]
[{"$f":"IF(Sheet1!B2032=\"\",\"\",Sheet1!B2032&\" \"&Sheet1!C2032)","v":"Sauer Richard L."}]
[{"$f":"IF(Sheet1!B2033=\"\",\"\",Sheet1!B2033&\" \"&Sheet1!C2033)","v":"Saunders Thomas M"}]
[{"$f":"IF(Sheet1!B2034=\"\",\"\",Sheet1!B2034&\" \"&Sheet1!C2034)","v":"Savage Marsha Kent"}]
[{"$f":"IF(Sheet1!B2035=\"\",\"\",Sheet1!B2035&\" \"&Sheet1!C2035)","v":"Savastano Jennifer E."}]
[{"$f":"IF(Sheet1!B2036=\"\",\"\",Sheet1!B2036&\" \"&Sheet1!C2036)","v":"Savely Harvey E."}]
[{"$f":"IF(Sheet1!B2037=\"\",\"\",Sheet1!B2037&\" \"&Sheet1!C2037)","v":"Sawyer James A."}]
[{"$f":"IF(Sheet1!B2038=\"\",\"\",Sheet1!B2038&\" \"&Sheet1!C2038)","v":"Saxl Erich"}]
[{"$f":"IF(Sheet1!B2039=\"\",\"\",Sheet1!B2039&\" \"&Sheet1!C2039)","v":"Scalf John H"}]
[{"$f":"IF(Sheet1!B2040=\"\",\"\",Sheet1!B2040&\" \"&Sheet1!C2040)","v":"Scarlett Joseph Alexander"}]
[{"$f":"IF(Sheet1!B2041=\"\",\"\",Sheet1!B2041&\" \"&Sheet1!C2041)","v":"Scharf Leslie D."}]
[{"$f":"IF(Sheet1!B2042=\"\",\"\",Sheet1!B2042&\" \"&Sheet1!C2042)","v":"Scheb John M."}]
[{"$f":"IF(Sheet1!B2043=\"\",\"\",Sheet1!B2043&\" \"&Sheet1!C2043)","v":"Scheiner James H."}]
[{"$f":"IF(Sheet1!B2044=\"\",\"\",Sheet1!B2044&\" \"&Sheet1!C2044)","v":"Schillinger Olive"}]
[{"$f":"IF(Sheet1!B2045=\"\",\"\",Sheet1!B2045&\" \"&Sheet1!C2045)","v":"Schmid Sasha"}]
[{"$f":"IF(Sheet1!B2046=\"\",\"\",Sheet1!B2046&\" \"&Sheet1!C2046)","v":"Schmidt David A."}]
[{"$f":"IF(Sheet1!B2047=\"\",\"\",Sheet1!B2047&\" \"&Sheet1!C2047)","v":"Schmidt Lisa A. Reel"}]
[{"$f":"IF(Sheet1!B2048=\"\",\"\",Sheet1!B2048&\" \"&Sheet1!C2048)","v":"Schmidt Ned W."}]
[{"$f":"IF(Sheet1!B2049=\"\",\"\",Sheet1!B2049&\" \"&Sheet1!C2049)","v":"Schmidt Tracy"}]
[{"$f":"IF(Sheet1!B2050=\"\",\"\",Sheet1!B2050&\" \"&Sheet1!C2050)","v":"Schmitt Julia"}]
[{"$f":"IF(Sheet1!B2051=\"\",\"\",Sheet1!B2051&\" \"&Sheet1!C2051)","v":"Schneider Jennifer"}]
[{"$f":"IF(Sheet1!B2052=\"\",\"\",Sheet1!B2052&\" \"&Sheet1!C2052)","v":"Schoenberg Lynn"}]
[{"$f":"IF(Sheet1!B2053=\"\",\"\",Sheet1!B2053&\" \"&Sheet1!C2053)","v":"Schofield Minnie Belle"}]
[{"$f":"IF(Sheet1!B2054=\"\",\"\",Sheet1!B2054&\" \"&Sheet1!C2054)","v":"Schofield Robert L."}]
[{"$f":"IF(Sheet1!B2055=\"\",\"\",Sheet1!B2055&\" \"&Sheet1!C2055)","v":"Schorr John K."}]
[{"$f":"IF(Sheet1!B2056=\"\",\"\",Sheet1!B2056&\" \"&Sheet1!C2056)","v":"Schrager Matthew"}]
[{"$f":"IF(Sheet1!B2057=\"\",\"\",Sheet1!B2057&\" \"&Sheet1!C2057)","v":"Schreuder Lena J."}]
[{"$f":"IF(Sheet1!B2058=\"\",\"\",Sheet1!B2058&\" \"&Sheet1!C2058)","v":"Schueler Stephanie"}]
[{"$f":"IF(Sheet1!B2059=\"\",\"\",Sheet1!B2059&\" \"&Sheet1!C2059)","v":"Schultheis Alicia S."}]
[{"$f":"IF(Sheet1!B2060=\"\",\"\",Sheet1!B2060&\" \"&Sheet1!C2060)","v":"Schultz Harold J."}]
[{"$f":"IF(Sheet1!B2061=\"\",\"\",Sheet1!B2061&\" \"&Sheet1!C2061)","v":"Schulz William Frederick"}]
[{"$f":"IF(Sheet1!B2062=\"\",\"\",Sheet1!B2062&\" \"&Sheet1!C2062)","v":"Schumaker Elizabeth"}]
[{"$f":"IF(Sheet1!B2063=\"\",\"\",Sheet1!B2063&\" \"&Sheet1!C2063)","v":"Schumsky Howard"}]
[{"$f":"IF(Sheet1!B2064=\"\",\"\",Sheet1!B2064&\" \"&Sheet1!C2064)","v":"Schuwerk Tara"}]
[{"$f":"IF(Sheet1!B2065=\"\",\"\",Sheet1!B2065&\" \"&Sheet1!C2065)","v":"Schwarz Thomas"}]
[{"$f":"IF(Sheet1!B2066=\"\",\"\",Sheet1!B2066&\" \"&Sheet1!C2066)","v":"Schweizer Mark G."}]
[{"$f":"IF(Sheet1!B2067=\"\",\"\",Sheet1!B2067&\" \"&Sheet1!C2067)","v":"Scott Daniel L."}]
[{"$f":"IF(Sheet1!B2068=\"\",\"\",Sheet1!B2068&\" \"&Sheet1!C2068)","v":"Scott Martha E."}]
[{"$f":"IF(Sheet1!B2069=\"\",\"\",Sheet1!B2069&\" \"&Sheet1!C2069)","v":"Scott R. Neil"}]
[{"$f":"IF(Sheet1!B2070=\"\",\"\",Sheet1!B2070&\" \"&Sheet1!C2070)","v":"Scott Ridgeley A."}]
[{"$f":"IF(Sheet1!B2071=\"\",\"\",Sheet1!B2071&\" \"&Sheet1!C2071)","v":"Scott Taylor Carver"}]
[{"$f":"IF(Sheet1!B2072=\"\",\"\",Sheet1!B2072&\" \"&Sheet1!C2072)","v":"Scriven Mary S."}]
[{"$f":"IF(Sheet1!B2073=\"\",\"\",Sheet1!B2073&\" \"&Sheet1!C2073)","v":"Scroggs Wanita"}]
[{"$f":"IF(Sheet1!B2074=\"\",\"\",Sheet1!B2074&\" \"&Sheet1!C2074)","v":"Scully Judith"}]
[{"$f":"IF(Sheet1!B2075=\"\",\"\",Sheet1!B2075&\" \"&Sheet1!C2075)","v":"Scures Joseph"}]
[{"$f":"IF(Sheet1!B2076=\"\",\"\",Sheet1!B2076&\" \"&Sheet1!C2076)","v":"Seah Leander"}]
[{"$f":"IF(Sheet1!B2077=\"\",\"\",Sheet1!B2077&\" \"&Sheet1!C2077)","v":"Sears Frank Dana"}]
[{"$f":"IF(Sheet1!B2078=\"\",\"\",Sheet1!B2078&\" \"&Sheet1!C2078)","v":"Seay Hugh N., Jr."}]
[{"$f":"IF(Sheet1!B2079=\"\",\"\",Sheet1!B2079&\" \"&Sheet1!C2079)","v":"Sebring Harold Leon"}]
[{"$f":"IF(Sheet1!B2080=\"\",\"\",Sheet1!B2080&\" \"&Sheet1!C2080)","v":"Secemski Isaac I"}]
[{"$f":"IF(Sheet1!B2081=\"\",\"\",Sheet1!B2081&\" \"&Sheet1!C2081)","v":"Seigel Michael L"}]
[{"$f":"IF(Sheet1!B2082=\"\",\"\",Sheet1!B2082&\" \"&Sheet1!C2082)","v":"Self Fred B."}]
[{"$f":"IF(Sheet1!B2083=\"\",\"\",Sheet1!B2083&\" \"&Sheet1!C2083)","v":"Selter Edith"}]
[{"$f":"IF(Sheet1!B2084=\"\",\"\",Sheet1!B2084&\" \"&Sheet1!C2084)","v":"Selter Vivian"}]
[{"$f":"IF(Sheet1!B2085=\"\",\"\",Sheet1!B2085&\" \"&Sheet1!C2085)","v":"Senegas E.H."}]
[{"$f":"IF(Sheet1!B2086=\"\",\"\",Sheet1!B2086&\" \"&Sheet1!C2086)","v":"Senterfitt Rubye"}]
[{"$f":"IF(Sheet1!B2087=\"\",\"\",Sheet1!B2087&\" \"&Sheet1!C2087)","v":"Seoudemire Harry B."}]
[{"$f":"IF(Sheet1!B2088=\"\",\"\",Sheet1!B2088&\" \"&Sheet1!C2088)","v":"Settgast Edward E."}]
[{"$f":"IF(Sheet1!B2089=\"\",\"\",Sheet1!B2089&\" \"&Sheet1!C2089)","v":"Severance Robert Watson"}]
[{"$f":"IF(Sheet1!B2090=\"\",\"\",Sheet1!B2090&\" \"&Sheet1!C2090)","v":"Seward Ora Philander"}]
[{"$f":"IF(Sheet1!B2091=\"\",\"\",Sheet1!B2091&\" \"&Sheet1!C2091)","v":"Seward Robert Douglass"}]
[{"$f":"IF(Sheet1!B2092=\"\",\"\",Sheet1!B2092&\" \"&Sheet1!C2092)","v":"Shackleford Ann O."}]
[{"$f":"IF(Sheet1!B2093=\"\",\"\",Sheet1!B2093&\" \"&Sheet1!C2093)","v":"Shaffer Judith D."}]
[{"$f":"IF(Sheet1!B2094=\"\",\"\",Sheet1!B2094&\" \"&Sheet1!C2094)","v":"Shankar-Brown Rajni"}]
[{"$f":"IF(Sheet1!B2095=\"\",\"\",Sheet1!B2095&\" \"&Sheet1!C2095)","v":"Sharp William E"}]
[{"$f":"IF(Sheet1!B2096=\"\",\"\",Sheet1!B2096&\" \"&Sheet1!C2096)","v":"Sharp Nellie C."}]
[{"$f":"IF(Sheet1!B2097=\"\",\"\",Sheet1!B2097&\" \"&Sheet1!C2097)","v":"Sharp W.A."}]
[{"$f":"IF(Sheet1!B2098=\"\",\"\",Sheet1!B2098&\" \"&Sheet1!C2098)","v":"Sharp W.A."}]
[{"$f":"IF(Sheet1!B2099=\"\",\"\",Sheet1!B2099&\" \"&Sheet1!C2099)","v":"Shaver Mary Mumper"}]
[{"$f":"IF(Sheet1!B2100=\"\",\"\",Sheet1!B2100&\" \"&Sheet1!C2100)","v":"Shearon Ella Mae"}]
[{"$f":"IF(Sheet1!B2101=\"\",\"\",Sheet1!B2101&\" \"&Sheet1!C2101)","v":"Shearon Wallace E."}]
[{"$f":"IF(Sheet1!B2102=\"\",\"\",Sheet1!B2102&\" \"&Sheet1!C2102)","v":"Sheddan Carrie Belle"}]
[{"$f":"IF(Sheet1!B2103=\"\",\"\",Sheet1!B2103&\" \"&Sheet1!C2103)","v":"Sheddan Frank E."}]
[{"$f":"IF(Sheet1!B2104=\"\",\"\",Sheet1!B2104&\" \"&Sheet1!C2104)","v":"Sheddan Hazel H."}]
[{"$f":"IF(Sheet1!B2105=\"\",\"\",Sheet1!B2105&\" \"&Sheet1!C2105)","v":"Sheehan James A."}]
[{"$f":"IF(Sheet1!B2106=\"\",\"\",Sheet1!B2106&\" \"&Sheet1!C2106)","v":"Shelby Betty"}]
[{"$f":"IF(Sheet1!B2107=\"\",\"\",Sheet1!B2107&\" \"&Sheet1!C2107)","v":"Shen Yingtao M"}]
[{"$f":"IF(Sheet1!B2108=\"\",\"\",Sheet1!B2108&\" \"&Sheet1!C2108)","v":"Shepherd Sharon"}]
[{"$f":"IF(Sheet1!B2109=\"\",\"\",Sheet1!B2109&\" \"&Sheet1!C2109)","v":"Sheppard Charles R.M."}]
[{"$f":"IF(Sheet1!B2110=\"\",\"\",Sheet1!B2110&\" \"&Sheet1!C2110)","v":"Sheppard Mary"}]
[{"$f":"IF(Sheet1!B2111=\"\",\"\",Sheet1!B2111&\" \"&Sheet1!C2111)","v":"Sherer Robert G."}]
[{"$f":"IF(Sheet1!B2112=\"\",\"\",Sheet1!B2112&\" \"&Sheet1!C2112)","v":"Sherman Harley Bakwell"}]
[{"$f":"IF(Sheet1!B2113=\"\",\"\",Sheet1!B2113&\" \"&Sheet1!C2113)","v":"Shim Jae-Mahn"}]
[{"$f":"IF(Sheet1!B2114=\"\",\"\",Sheet1!B2114&\" \"&Sheet1!C2114)","v":"Shipman Peter C."}]
[{"$f":"IF(Sheet1!B2115=\"\",\"\",Sheet1!B2115&\" \"&Sheet1!C2115)","v":"Shiver John D"}]
[{"$f":"IF(Sheet1!B2116=\"\",\"\",Sheet1!B2116&\" \"&Sheet1!C2116)","v":"Shore Merrill"}]
[{"$f":"IF(Sheet1!B2117=\"\",\"\",Sheet1!B2117&\" \"&Sheet1!C2117)","v":"Shreffler Scott M."}]
[{"$f":"IF(Sheet1!B2118=\"\",\"\",Sheet1!B2118&\" \"&Sheet1!C2118)","v":"Shuler Kevin"}]
[{"$f":"IF(Sheet1!B2119=\"\",\"\",Sheet1!B2119&\" \"&Sheet1!C2119)","v":"Shumaker James D"}]
[{"$f":"IF(Sheet1!B2120=\"\",\"\",Sheet1!B2120&\" \"&Sheet1!C2120)","v":"Sibbald Paul"}]
[{"$f":"IF(Sheet1!B2121=\"\",\"\",Sheet1!B2121&\" \"&Sheet1!C2121)","v":"Sievers Gay"}]
[{"$f":"IF(Sheet1!B2122=\"\",\"\",Sheet1!B2122&\" \"&Sheet1!C2122)","v":"Simcox Stacy-Rae"}]
[{"$f":"IF(Sheet1!B2123=\"\",\"\",Sheet1!B2123&\" \"&Sheet1!C2123)","v":"Simmons Carl"}]
[{"$f":"IF(Sheet1!B2124=\"\",\"\",Sheet1!B2124&\" \"&Sheet1!C2124)","v":"Simmons Sherwin"}]
[{"$f":"IF(Sheet1!B2125=\"\",\"\",Sheet1!B2125&\" \"&Sheet1!C2125)","v":"Simpson Martin D."}]
[{"$f":"IF(Sheet1!B2126=\"\",\"\",Sheet1!B2126&\" \"&Sheet1!C2126)","v":"Simpson Samantha"}]
[{"$f":"IF(Sheet1!B2127=\"\",\"\",Sheet1!B2127&\" \"&Sheet1!C2127)","v":"Sinatra Anne"}]
[{"$f":"IF(Sheet1!B2128=\"\",\"\",Sheet1!B2128&\" \"&Sheet1!C2128)","v":"Singletary Cary R."}]
[{"$f":"IF(Sheet1!B2129=\"\",\"\",Sheet1!B2129&\" \"&Sheet1!C2129)","v":"Singletary Sebastian"}]
[{"$f":"IF(Sheet1!B2130=\"\",\"\",Sheet1!B2130&\" \"&Sheet1!C2130)","v":"Sinnott Zoe Virginia"}]
[{"$f":"IF(Sheet1!B2131=\"\",\"\",Sheet1!B2131&\" \"&Sheet1!C2131)","v":"Sitler Robert K."}]
[{"$f":"IF(Sheet1!B2132=\"\",\"\",Sheet1!B2132&\" \"&Sheet1!C2132)","v":"Skaff Jonathan K."}]
[{"$f":"IF(Sheet1!B2133=\"\",\"\",Sheet1!B2133&\" \"&Sheet1!C2133)","v":"Skeel Richard"}]
[{"$f":"IF(Sheet1!B2134=\"\",\"\",Sheet1!B2134&\" \"&Sheet1!C2134)","v":"Skelton Michelle"}]
[{"$f":"IF(Sheet1!B2135=\"\",\"\",Sheet1!B2135&\" \"&Sheet1!C2135)","v":"Skinner John W."}]
[{"$f":"IF(Sheet1!B2136=\"\",\"\",Sheet1!B2136&\" \"&Sheet1!C2136)","v":"Skoularakos Pam"}]
[{"$f":"IF(Sheet1!B2137=\"\",\"\",Sheet1!B2137&\" \"&Sheet1!C2137)","v":"Slater Matthew"}]
[{"$f":"IF(Sheet1!B2138=\"\",\"\",Sheet1!B2138&\" \"&Sheet1!C2138)","v":"Sleeper Thomas Michael"}]
[{"$f":"IF(Sheet1!B2139=\"\",\"\",Sheet1!B2139&\" \"&Sheet1!C2139)","v":"Small Ann R."}]
[{"$f":"IF(Sheet1!B2140=\"\",\"\",Sheet1!B2140&\" \"&Sheet1!C2140)","v":"Smiley William McKinley, Jr."}]
[{"$f":"IF(Sheet1!B2141=\"\",\"\",Sheet1!B2141&\" \"&Sheet1!C2141)","v":"Smith Antionette E."}]
[{"$f":"IF(Sheet1!B2142=\"\",\"\",Sheet1!B2142&\" \"&Sheet1!C2142)","v":"Smith Charles G."}]
[{"$f":"IF(Sheet1!B2143=\"\",\"\",Sheet1!B2143&\" \"&Sheet1!C2143)","v":"Smith Charlotte Annette"}]
[{"$f":"IF(Sheet1!B2144=\"\",\"\",Sheet1!B2144&\" \"&Sheet1!C2144)","v":"Smith Charlotte E."}]
[{"$f":"IF(Sheet1!B2145=\"\",\"\",Sheet1!B2145&\" \"&Sheet1!C2145)","v":"Smith Cornelia Marschall"}]
[{"$f":"IF(Sheet1!B2146=\"\",\"\",Sheet1!B2146&\" \"&Sheet1!C2146)","v":"Smith Eleanor Leek"}]
[{"$f":"IF(Sheet1!B2147=\"\",\"\",Sheet1!B2147&\" \"&Sheet1!C2147)","v":"Smith Elizabeth"}]
[{"$f":"IF(Sheet1!B2148=\"\",\"\",Sheet1!B2148&\" \"&Sheet1!C2148)","v":"Smith Ellen Hurt"}]
[{"$f":"IF(Sheet1!B2149=\"\",\"\",Sheet1!B2149&\" \"&Sheet1!C2149)","v":"Smith Fred"}]
[{"$f":"IF(Sheet1!B2150=\"\",\"\",Sheet1!B2150&\" \"&Sheet1!C2150)","v":"Smith J. Archy"}]
[{"$f":"IF(Sheet1!B2151=\"\",\"\",Sheet1!B2151&\" \"&Sheet1!C2151)","v":"Smith J. Thomas"}]
[{"$f":"IF(Sheet1!B2152=\"\",\"\",Sheet1!B2152&\" \"&Sheet1!C2152)","v":"Smith James L."}]
[{"$f":"IF(Sheet1!B2153=\"\",\"\",Sheet1!B2153&\" \"&Sheet1!C2153)","v":"Smith Jenny Lou"}]
[{"$f":"IF(Sheet1!B2154=\"\",\"\",Sheet1!B2154&\" \"&Sheet1!C2154)","v":"Smith Lyrra"}]
[{"$f":"IF(Sheet1!B2155=\"\",\"\",Sheet1!B2155&\" \"&Sheet1!C2155)","v":"Smith Melvin M."}]
[{"$f":"IF(Sheet1!B2156=\"\",\"\",Sheet1!B2156&\" \"&Sheet1!C2156)","v":"Smith Mildred L."}]
[{"$f":"IF(Sheet1!B2157=\"\",\"\",Sheet1!B2157&\" \"&Sheet1!C2157)","v":"Smith Phoebe"}]
[{"$f":"IF(Sheet1!B2158=\"\",\"\",Sheet1!B2158&\" \"&Sheet1!C2158)","v":"Smith Robert L."}]
[{"$f":"IF(Sheet1!B2159=\"\",\"\",Sheet1!B2159&\" \"&Sheet1!C2159)","v":"Smith Ruth I."}]
[{"$f":"IF(Sheet1!B2160=\"\",\"\",Sheet1!B2160&\" \"&Sheet1!C2160)","v":"Smith Sandford O."}]
[{"$f":"IF(Sheet1!B2161=\"\",\"\",Sheet1!B2161&\" \"&Sheet1!C2161)","v":"Smith Sven"}]
[{"$f":"IF(Sheet1!B2162=\"\",\"\",Sheet1!B2162&\" \"&Sheet1!C2162)","v":"Smith Thompson H."}]
[{"$f":"IF(Sheet1!B2163=\"\",\"\",Sheet1!B2163&\" \"&Sheet1!C2163)","v":"Smith William Reece, Jr."}]
[{"$f":"IF(Sheet1!B2164=\"\",\"\",Sheet1!B2164&\" \"&Sheet1!C2164)","v":"Smith Luther Wesley, Jr."}]
[{"$f":"IF(Sheet1!B2165=\"\",\"\",Sheet1!B2165&\" \"&Sheet1!C2165)","v":"Smotherman Thurman Edwin"}]
[{"$f":"IF(Sheet1!B2166=\"\",\"\",Sheet1!B2166&\" \"&Sheet1!C2166)","v":"Snead Lulie A."}]
[{"$f":"IF(Sheet1!B2167=\"\",\"\",Sheet1!B2167&\" \"&Sheet1!C2167)","v":"Snedeker Leo W."}]
[{"$f":"IF(Sheet1!B2168=\"\",\"\",Sheet1!B2168&\" \"&Sheet1!C2168)","v":"Snively Beatrice A.J."}]
[{"$f":"IF(Sheet1!B2169=\"\",\"\",Sheet1!B2169&\" \"&Sheet1!C2169)","v":"Snook Lori"}]
[{"$f":"IF(Sheet1!B2170=\"\",\"\",Sheet1!B2170&\" \"&Sheet1!C2170)","v":"Snowden Jesse Lee"}]
[{"$f":"IF(Sheet1!B2171=\"\",\"\",Sheet1!B2171&\" \"&Sheet1!C2171)","v":"Snowden R. Grady"}]
[{"$f":"IF(Sheet1!B2172=\"\",\"\",Sheet1!B2172&\" \"&Sheet1!C2172)","v":"Sonnenburg Walter H."}]
[{"$f":"IF(Sheet1!B2173=\"\",\"\",Sheet1!B2173&\" \"&Sheet1!C2173)","v":"Sowers Ray V."}]
[{"$f":"IF(Sheet1!B2174=\"\",\"\",Sheet1!B2174&\" \"&Sheet1!C2174)","v":"Spalding Florence Pearl"}]
[{"$f":"IF(Sheet1!B2175=\"\",\"\",Sheet1!B2175&\" \"&Sheet1!C2175)","v":"Sparber France B."}]
[{"$f":"IF(Sheet1!B2176=\"\",\"\",Sheet1!B2176&\" \"&Sheet1!C2176)","v":"Sparkman Maude"}]
[{"$f":"IF(Sheet1!B2177=\"\",\"\",Sheet1!B2177&\" \"&Sheet1!C2177)","v":"Sparkman Thomas J."}]
[{"$f":"IF(Sheet1!B2178=\"\",\"\",Sheet1!B2178&\" \"&Sheet1!C2178)","v":"Sparkman Walter G."}]
[{"$f":"IF(Sheet1!B2179=\"\",\"\",Sheet1!B2179&\" \"&Sheet1!C2179)","v":"Sparling Ronald L."}]
[{"$f":"IF(Sheet1!B2180=\"\",\"\",Sheet1!B2180&\" \"&Sheet1!C2180)","v":"Spence Margaret"}]
[{"$f":"IF(Sheet1!B2181=\"\",\"\",Sheet1!B2181&\" \"&Sheet1!C2181)","v":"Spencer Edwin"}]
[{"$f":"IF(Sheet1!B2182=\"\",\"\",Sheet1!B2182&\" \"&Sheet1!C2182)","v":"Spinks Lucile E."}]
[{"$f":"IF(Sheet1!B2183=\"\",\"\",Sheet1!B2183&\" \"&Sheet1!C2183)","v":"Spofford Marguerite"}]
[{"$f":"IF(Sheet1!B2184=\"\",\"\",Sheet1!B2184&\" \"&Sheet1!C2184)","v":"Spurrier Leo"}]
[{"$f":"IF(Sheet1!B2185=\"\",\"\",Sheet1!B2185&\" \"&Sheet1!C2185)","v":"Srygley Fletcher D."}]
[{"$f":"IF(Sheet1!B2186=\"\",\"\",Sheet1!B2186&\" \"&Sheet1!C2186)","v":"Srygley Gail Gregory"}]
[{"$f":"IF(Sheet1!B2188=\"\",\"\",Sheet1!B2188&\" \"&Sheet1!C2188)","v":"Stadelman Lynn"}]
[{"$f":"IF(Sheet1!B2189=\"\",\"\",Sheet1!B2189&\" \"&Sheet1!C2189)","v":"Staff Sara Elsie"}]
[{"$f":"IF(Sheet1!B2190=\"\",\"\",Sheet1!B2190&\" \"&Sheet1!C2190)","v":"Stafford Richard L."}]
[{"$f":"IF(Sheet1!B2191=\"\",\"\",Sheet1!B2191&\" \"&Sheet1!C2191)","v":"Stahl Peggy"}]
[{"$f":"IF(Sheet1!B2192=\"\",\"\",Sheet1!B2192&\" \"&Sheet1!C2192)","v":"Staley Cooper C."}]
[{"$f":"IF(Sheet1!B2193=\"\",\"\",Sheet1!B2193&\" \"&Sheet1!C2193)","v":"Staley G. Cooper"}]
[{"$f":"IF(Sheet1!B2194=\"\",\"\",Sheet1!B2194&\" \"&Sheet1!C2194)","v":"Stallings George Lawrence"}]
[{"$f":"IF(Sheet1!B2195=\"\",\"\",Sheet1!B2195&\" \"&Sheet1!C2195)","v":"Stanton Mary Georgiana"}]
[{"$f":"IF(Sheet1!B2196=\"\",\"\",Sheet1!B2196&\" \"&Sheet1!C2196)","v":"Stebbins Mary Hart"}]
[{"$f":"IF(Sheet1!B2197=\"\",\"\",Sheet1!B2197&\" \"&Sheet1!C2197)","v":"Steeves Paul D."}]
[{"$f":"IF(Sheet1!B2198=\"\",\"\",Sheet1!B2198&\" \"&Sheet1!C2198)","v":"Stem James"}]
[{"$f":"IF(Sheet1!B2199=\"\",\"\",Sheet1!B2199&\" \"&Sheet1!C2199)","v":"Stephen Charles R"}]
[{"$f":"IF(Sheet1!B2200=\"\",\"\",Sheet1!B2200&\" \"&Sheet1!C2200)","v":"Stephens Annie Etta"}]
[{"$f":"IF(Sheet1!B2201=\"\",\"\",Sheet1!B2201&\" \"&Sheet1!C2201)","v":"Stephens Linda"}]
[{"$f":"IF(Sheet1!B2202=\"\",\"\",Sheet1!B2202&\" \"&Sheet1!C2202)","v":"Stevens Gladys"}]
[{"$f":"IF(Sheet1!B2203=\"\",\"\",Sheet1!B2203&\" \"&Sheet1!C2203)","v":"Stevens Jackson C."}]
[{"$f":"IF(Sheet1!B2204=\"\",\"\",Sheet1!B2204&\" \"&Sheet1!C2204)","v":"Stevens Merle"}]
[{"$f":"IF(Sheet1!B2205=\"\",\"\",Sheet1!B2205&\" \"&Sheet1!C2205)","v":"Stevens Stella M."}]
[{"$f":"IF(Sheet1!B2206=\"\",\"\",Sheet1!B2206&\" \"&Sheet1!C2206)","v":"Stevenson Burton"}]
[{"$f":"IF(Sheet1!B2207=\"\",\"\",Sheet1!B2207&\" \"&Sheet1!C2207)","v":"Stewart James A."}]
[{"$f":"IF(Sheet1!B2208=\"\",\"\",Sheet1!B2208&\" \"&Sheet1!C2208)","v":"Stewart Mary"}]
[{"$f":"IF(Sheet1!B2209=\"\",\"\",Sheet1!B2209&\" \"&Sheet1!C2209)","v":"Stewart Robert D."}]
[{"$f":"IF(Sheet1!B2210=\"\",\"\",Sheet1!B2210&\" \"&Sheet1!C2210)","v":"Stieg Lewis"}]
[{"$f":"IF(Sheet1!B2211=\"\",\"\",Sheet1!B2211&\" \"&Sheet1!C2211)","v":"Stiles Kate"}]
[{"$f":"IF(Sheet1!B2212=\"\",\"\",Sheet1!B2212&\" \"&Sheet1!C2212)","v":"Stillings Christine B."}]
[{"$f":"IF(Sheet1!B2213=\"\",\"\",Sheet1!B2213&\" \"&Sheet1!C2213)","v":"Stilson Kenneth L."}]
[{"$f":"IF(Sheet1!B2214=\"\",\"\",Sheet1!B2214&\" \"&Sheet1!C2214)","v":"Stires Shanele"}]
[{"$f":"IF(Sheet1!B2215=\"\",\"\",Sheet1!B2215&\" \"&Sheet1!C2215)","v":"Stock David Allen"}]
[{"$f":"IF(Sheet1!B2216=\"\",\"\",Sheet1!B2216&\" \"&Sheet1!C2216)","v":"Stockwell Catherine Haynes"}]
[{"$f":"IF(Sheet1!B2217=\"\",\"\",Sheet1!B2217&\" \"&Sheet1!C2217)","v":"Stone Bradford"}]
[{"$f":"IF(Sheet1!B2218=\"\",\"\",Sheet1!B2218&\" \"&Sheet1!C2218)","v":"Storey Wallace Lee"}]
[{"$f":"IF(Sheet1!B2219=\"\",\"\",Sheet1!B2219&\" \"&Sheet1!C2219)","v":"Stoudemire Harry B."}]
[{"$f":"IF(Sheet1!B2220=\"\",\"\",Sheet1!B2220&\" \"&Sheet1!C2220)","v":"Stover Irving C."}]
[{"$f":"IF(Sheet1!B2221=\"\",\"\",Sheet1!B2221&\" \"&Sheet1!C2221)","v":"Straw Frances Winifred"}]
[{"$f":"IF(Sheet1!B2222=\"\",\"\",Sheet1!B2222&\" \"&Sheet1!C2222)","v":"Strayer Franklin R."}]
[{"$f":"IF(Sheet1!B2223=\"\",\"\",Sheet1!B2223&\" \"&Sheet1!C2223)","v":"Strebel Carine"}]
[{"$f":"IF(Sheet1!B2224=\"\",\"\",Sheet1!B2224&\" \"&Sheet1!C2224)","v":"Streich Eugene R."}]
[{"$f":"IF(Sheet1!B2225=\"\",\"\",Sheet1!B2225&\" \"&Sheet1!C2225)","v":"Strickland James"}]
[{"$f":"IF(Sheet1!B2226=\"\",\"\",Sheet1!B2226&\" \"&Sheet1!C2226)","v":"Strickland L. Douglas"}]
[{"$f":"IF(Sheet1!B2227=\"\",\"\",Sheet1!B2227&\" \"&Sheet1!C2227)","v":"Stryker Edgar Cuddeback"}]
[{"$f":"IF(Sheet1!B2228=\"\",\"\",Sheet1!B2228&\" \"&Sheet1!C2228)","v":"Stryker Jay"}]
[{"$f":"IF(Sheet1!B2229=\"\",\"\",Sheet1!B2229&\" \"&Sheet1!C2229)","v":"Stryker Judson P."}]
[{"$f":"IF(Sheet1!B2230=\"\",\"\",Sheet1!B2230&\" \"&Sheet1!C2230)","v":"Stubbs Frank"}]
[{"$f":"IF(Sheet1!B2231=\"\",\"\",Sheet1!B2231&\" \"&Sheet1!C2231)","v":"Stuff Marjorie Ann"}]
[{"$f":"IF(Sheet1!B2232=\"\",\"\",Sheet1!B2232&\" \"&Sheet1!C2232)","v":"Sucher Mary Wadsworth"}]
[{"$f":"IF(Sheet1!B2233=\"\",\"\",Sheet1!B2233&\" \"&Sheet1!C2233)","v":"Suhrie A.L.L."}]
[{"$f":"IF(Sheet1!B2234=\"\",\"\",Sheet1!B2234&\" \"&Sheet1!C2234)","v":"Summers M. Dale"}]
[{"$f":"IF(Sheet1!B2235=\"\",\"\",Sheet1!B2235&\" \"&Sheet1!C2235)","v":"Sumner Angus"}]
[{"$f":"IF(Sheet1!B2236=\"\",\"\",Sheet1!B2236&\" \"&Sheet1!C2236)","v":"Surynt Nancy S."}]
[{"$f":"IF(Sheet1!B2237=\"\",\"\",Sheet1!B2237&\" \"&Sheet1!C2237)","v":"Surynt Theodore J."}]
[{"$f":"IF(Sheet1!B2238=\"\",\"\",Sheet1!B2238&\" \"&Sheet1!C2238)","v":"Sutherland Armour Rand Jr."}]
[{"$f":"IF(Sheet1!B2239=\"\",\"\",Sheet1!B2239&\" \"&Sheet1!C2239)","v":"Sutherland D. Dixon"}]
[{"$f":"IF(Sheet1!B2240=\"\",\"\",Sheet1!B2240&\" \"&Sheet1!C2240)","v":"Sutton Nina"}]
[{"$f":"IF(Sheet1!B2241=\"\",\"\",Sheet1!B2241&\" \"&Sheet1!C2241)","v":"Sutton Charles"}]
[{"$f":"IF(Sheet1!B2242=\"\",\"\",Sheet1!B2242&\" \"&Sheet1!C2242)","v":"Sutton Joseph T."}]
[{"$f":"IF(Sheet1!B2243=\"\",\"\",Sheet1!B2243&\" \"&Sheet1!C2243)","v":"Swan Ruth Taylor"}]
[{"$f":"IF(Sheet1!B2244=\"\",\"\",Sheet1!B2244&\" \"&Sheet1!C2244)","v":"Swann Glenn D."}]
[{"$f":"IF(Sheet1!B2245=\"\",\"\",Sheet1!B2245&\" \"&Sheet1!C2245)","v":"Swanson Howard M."}]
[{"$f":"IF(Sheet1!B2246=\"\",\"\",Sheet1!B2246&\" \"&Sheet1!C2246)","v":"Swarts Valerie R."}]
[{"$f":"IF(Sheet1!B2247=\"\",\"\",Sheet1!B2247&\" \"&Sheet1!C2247)","v":"Swift Jeanine"}]
[{"$f":"IF(Sheet1!B2248=\"\",\"\",Sheet1!B2248&\" \"&Sheet1!C2248)","v":"Swift Mary Louise"}]
[{"$f":"IF(Sheet1!B2249=\"\",\"\",Sheet1!B2249&\" \"&Sheet1!C2249)","v":"Swinford Ryan"}]
[{"$f":"IF(Sheet1!B2250=\"\",\"\",Sheet1!B2250&\" \"&Sheet1!C2250)","v":"Swygert Michael I."}]
[{"$f":"IF(Sheet1!B2251=\"\",\"\",Sheet1!B2251&\" \"&Sheet1!C2251)","v":"Szecsei Denise"}]
[{"$f":"IF(Sheet1!B2252=\"\",\"\",Sheet1!B2252&\" \"&Sheet1!C2252)","v":"Taft Harry J."}]
[{"$f":"IF(Sheet1!B2253=\"\",\"\",Sheet1!B2253&\" \"&Sheet1!C2253)","v":"Taneja Leena A."}]
[{"$f":"IF(Sheet1!B2254=\"\",\"\",Sheet1!B2254&\" \"&Sheet1!C2254)","v":"Tanner Beatrice"}]
[{"$f":"IF(Sheet1!B2255=\"\",\"\",Sheet1!B2255&\" \"&Sheet1!C2255)","v":"Tarleton James W."}]
[{"$f":"IF(Sheet1!B2256=\"\",\"\",Sheet1!B2256&\" \"&Sheet1!C2256)","v":"Tashakkori Abbas"}]
[{"$f":"IF(Sheet1!B2257=\"\",\"\",Sheet1!B2257&\" \"&Sheet1!C2257)","v":"Tatum Sledge Talbot"}]
[{"$f":"IF(Sheet1!B2258=\"\",\"\",Sheet1!B2258&\" \"&Sheet1!C2258)","v":"Taubert Courtney"}]
[{"$f":"IF(Sheet1!B2259=\"\",\"\",Sheet1!B2259&\" \"&Sheet1!C2259)","v":"Taylor Betty Lee"}]
[{"$f":"IF(Sheet1!B2260=\"\",\"\",Sheet1!B2260&\" \"&Sheet1!C2260)","v":"Taylor Harry Leroy"}]
[{"$f":"IF(Sheet1!B2261=\"\",\"\",Sheet1!B2261&\" \"&Sheet1!C2261)","v":"Taylor Hubert R."}]
[{"$f":"IF(Sheet1!B2262=\"\",\"\",Sheet1!B2262&\" \"&Sheet1!C2262)","v":"Taylor Oveda Cheatham"}]
[{"$f":"IF(Sheet1!B2263=\"\",\"\",Sheet1!B2263&\" \"&Sheet1!C2263)","v":"Taylor William E."}]
[{"$f":"IF(Sheet1!B2264=\"\",\"\",Sheet1!B2264&\" \"&Sheet1!C2264)","v":"Teal Alto Douglas"}]
[{"$f":"IF(Sheet1!B2265=\"\",\"\",Sheet1!B2265&\" \"&Sheet1!C2265)","v":"Teigland Elizabeth"}]
[{"$f":"IF(Sheet1!B2266=\"\",\"\",Sheet1!B2266&\" \"&Sheet1!C2266)","v":"Terry M.L."}]
[{"$f":"IF(Sheet1!B2267=\"\",\"\",Sheet1!B2267&\" \"&Sheet1!C2267)","v":"Terry Virginia"}]
[{"$f":"IF(Sheet1!B2268=\"\",\"\",Sheet1!B2268&\" \"&Sheet1!C2268)","v":"Testi Eolo"}]
[{"$f":"IF(Sheet1!B2269=\"\",\"\",Sheet1!B2269&\" \"&Sheet1!C2269)","v":"Thacker Tara, K."}]
[{"$f":"IF(Sheet1!B2270=\"\",\"\",Sheet1!B2270&\" \"&Sheet1!C2270)","v":"Thaler James D."}]
[{"$f":"IF(Sheet1!B2271=\"\",\"\",Sheet1!B2271&\" \"&Sheet1!C2271)","v":"Thanasiu Page"}]
[{"$f":"IF(Sheet1!B2272=\"\",\"\",Sheet1!B2272&\" \"&Sheet1!C2272)","v":"Thaver Ranjini L."}]
[{"$f":"IF(Sheet1!B2273=\"\",\"\",Sheet1!B2273&\" \"&Sheet1!C2273)","v":"Theurer Lydia A."}]
[{"$f":"IF(Sheet1!B2274=\"\",\"\",Sheet1!B2274&\" \"&Sheet1!C2274)","v":"Thomas M. Allan"}]
[{"$f":"IF(Sheet1!B2275=\"\",\"\",Sheet1!B2275&\" \"&Sheet1!C2275)","v":"Thomas Christopher"}]
[{"$f":"IF(Sheet1!B2276=\"\",\"\",Sheet1!B2276&\" \"&Sheet1!C2276)","v":"Thomas Valorie"}]
[{"$f":"IF(Sheet1!B2277=\"\",\"\",Sheet1!B2277&\" \"&Sheet1!C2277)","v":"Thomason William P."}]
[{"$f":"IF(Sheet1!B2278=\"\",\"\",Sheet1!B2278&\" \"&Sheet1!C2278)","v":"Thompson Donald M"}]
[{"$f":"IF(Sheet1!B2279=\"\",\"\",Sheet1!B2279&\" \"&Sheet1!C2279)","v":"Thompson Edgar Allyn"}]
[{"$f":"IF(Sheet1!B2280=\"\",\"\",Sheet1!B2280&\" \"&Sheet1!C2280)","v":"Thompson Elizabeth Libbey"}]
[{"$f":"IF(Sheet1!B2281=\"\",\"\",Sheet1!B2281&\" \"&Sheet1!C2281)","v":"Thompson Frances Hunter"}]
[{"$f":"IF(Sheet1!B2282=\"\",\"\",Sheet1!B2282&\" \"&Sheet1!C2282)","v":"Thompson Jay"}]
[{"$f":"IF(Sheet1!B2283=\"\",\"\",Sheet1!B2283&\" \"&Sheet1!C2283)","v":"Thompson Phyllis A."}]
[{"$f":"IF(Sheet1!B2284=\"\",\"\",Sheet1!B2284&\" \"&Sheet1!C2284)","v":"Thompson William A."}]
[{"$f":"IF(Sheet1!B2285=\"\",\"\",Sheet1!B2285&\" \"&Sheet1!C2285)","v":"Thorne Betty"}]
[{"$f":"IF(Sheet1!B2286=\"\",\"\",Sheet1!B2286&\" \"&Sheet1!C2286)","v":"Thornton Frances Clabaugh"}]
[{"$f":"IF(Sheet1!B2287=\"\",\"\",Sheet1!B2287&\" \"&Sheet1!C2287)","v":"Thorpe Kristopher"}]
[{"$f":"IF(Sheet1!B2288=\"\",\"\",Sheet1!B2288&\" \"&Sheet1!C2288)","v":"Thurman Ruth Fleet"}]
[{"$f":"IF(Sheet1!B2289=\"\",\"\",Sheet1!B2289&\" \"&Sheet1!C2289)","v":"Thwing Henry W."}]
[{"$f":"IF(Sheet1!B2290=\"\",\"\",Sheet1!B2290&\" \"&Sheet1!C2290)","v":"Thwing Sylvelin T."}]
[{"$f":"IF(Sheet1!B2291=\"\",\"\",Sheet1!B2291&\" \"&Sheet1!C2291)","v":"Thyhsen Rebecca"}]
[{"$f":"IF(Sheet1!B2292=\"\",\"\",Sheet1!B2292&\" \"&Sheet1!C2292)","v":"Tichenor John M."}]
[{"$f":"IF(Sheet1!B2293=\"\",\"\",Sheet1!B2293&\" \"&Sheet1!C2293)","v":"Tichenor Mercedes"}]
[{"$f":"IF(Sheet1!B2294=\"\",\"\",Sheet1!B2294&\" \"&Sheet1!C2294)","v":"Tiffany Sherwood H."}]
[{"$f":"IF(Sheet1!B2295=\"\",\"\",Sheet1!B2295&\" \"&Sheet1!C2295)","v":"Tillman Mark D."}]
[{"$f":"IF(Sheet1!B2296=\"\",\"\",Sheet1!B2296&\" \"&Sheet1!C2296)","v":"Tilton Martha L."}]
[{"$f":"IF(Sheet1!B2297=\"\",\"\",Sheet1!B2297&\" \"&Sheet1!C2297)","v":"Tingley Claude Stelle"}]
[{"$f":"IF(Sheet1!B2298=\"\",\"\",Sheet1!B2298&\" \"&Sheet1!C2298)","v":"Tobler Chris"}]
[{"$f":"IF(Sheet1!B2299=\"\",\"\",Sheet1!B2299&\" \"&Sheet1!C2299)","v":"Tolbert Terry"}]
[{"$f":"IF(Sheet1!B2300=\"\",\"\",Sheet1!B2300&\" \"&Sheet1!C2300)","v":"Tompkins Leonard George"}]
[{"$f":"IF(Sheet1!B2301=\"\",\"\",Sheet1!B2301&\" \"&Sheet1!C2301)","v":"Torisky Eugene"}]
[{"$f":"IF(Sheet1!B2302=\"\",\"\",Sheet1!B2302&\" \"&Sheet1!C2302)","v":"Torres-Spelliscy Ciara"}]
[{"$f":"IF(Sheet1!B2303=\"\",\"\",Sheet1!B2303&\" \"&Sheet1!C2303)","v":"Toth Kirk"}]
[{"$f":"IF(Sheet1!B2304=\"\",\"\",Sheet1!B2304&\" \"&Sheet1!C2304)","v":"Touchton Debra"}]
[{"$f":"IF(Sheet1!B2305=\"\",\"\",Sheet1!B2305&\" \"&Sheet1!C2305)","v":"Toups Patricia"}]
[{"$f":"IF(Sheet1!B2306=\"\",\"\",Sheet1!B2306&\" \"&Sheet1!C2306)","v":"Tovar Rina"}]
[{"$f":"IF(Sheet1!B2307=\"\",\"\",Sheet1!B2307&\" \"&Sheet1!C2307)","v":"Town Caren"}]
[{"$f":"IF(Sheet1!B2308=\"\",\"\",Sheet1!B2308&\" \"&Sheet1!C2308)","v":"Townsend Lois"}]
[{"$f":"IF(Sheet1!B2309=\"\",\"\",Sheet1!B2309&\" \"&Sheet1!C2309)","v":"Tracy James Albert"}]
[{"$f":"IF(Sheet1!B2310=\"\",\"\",Sheet1!B2310&\" \"&Sheet1!C2310)","v":"Trammel Rebecca S."}]
[{"$f":"IF(Sheet1!B2311=\"\",\"\",Sheet1!B2311&\" \"&Sheet1!C2311)","v":"Trea Edward"}]
[{"$f":"IF(Sheet1!B2312=\"\",\"\",Sheet1!B2312&\" \"&Sheet1!C2312)","v":"Trenam John James"}]
[{"$f":"IF(Sheet1!B2313=\"\",\"\",Sheet1!B2313&\" \"&Sheet1!C2313)","v":"Tribble Lewis Herndon"}]
[{"$f":"IF(Sheet1!B2314=\"\",\"\",Sheet1!B2314&\" \"&Sheet1!C2314)","v":"Tribble Mary Estelle"}]
[{"$f":"IF(Sheet1!B2315=\"\",\"\",Sheet1!B2315&\" \"&Sheet1!C2315)","v":"Trocolor Robert G."}]
[{"$f":"IF(Sheet1!B2316=\"\",\"\",Sheet1!B2316&\" \"&Sheet1!C2316)","v":"Trueblood Carolyn"}]
[{"$f":"IF(Sheet1!B2317=\"\",\"\",Sheet1!B2317&\" \"&Sheet1!C2317)","v":"Truesdell Clarence G."}]
[{"$f":"IF(Sheet1!B2318=\"\",\"\",Sheet1!B2318&\" \"&Sheet1!C2318)","v":"Truesdell W.S."}]
[{"$f":"IF(Sheet1!B2319=\"\",\"\",Sheet1!B2319&\" \"&Sheet1!C2319)","v":"Trumbull Mary E."}]
[{"$f":"IF(Sheet1!B2320=\"\",\"\",Sheet1!B2320&\" \"&Sheet1!C2320)","v":"Truske Caren"}]
[{"$f":"IF(Sheet1!B2321=\"\",\"\",Sheet1!B2321&\" \"&Sheet1!C2321)","v":"Trusler Harry R."}]
[{"$f":"IF(Sheet1!B2322=\"\",\"\",Sheet1!B2322&\" \"&Sheet1!C2322)","v":"Tubbs Frank R."}]
[{"$f":"IF(Sheet1!B2323=\"\",\"\",Sheet1!B2323&\" \"&Sheet1!C2323)","v":"Tucker Helen H."}]
[{"$f":"IF(Sheet1!B2324=\"\",\"\",Sheet1!B2324&\" \"&Sheet1!C2324)","v":"Tucker Michael"}]
[{"$f":"IF(Sheet1!B2325=\"\",\"\",Sheet1!B2325&\" \"&Sheet1!C2325)","v":"Tucker Tommy T."}]
[{"$f":"IF(Sheet1!B2326=\"\",\"\",Sheet1!B2326&\" \"&Sheet1!C2326)","v":"Tucker Wylie"}]
[{"$f":"IF(Sheet1!B2327=\"\",\"\",Sheet1!B2327&\" \"&Sheet1!C2327)","v":"Tudor Robert B."}]
[{"$f":"IF(Sheet1!B2328=\"\",\"\",Sheet1!B2328&\" \"&Sheet1!C2328)","v":"Turner Charles"}]
[{"$f":"IF(Sheet1!B2329=\"\",\"\",Sheet1!B2329&\" \"&Sheet1!C2329)","v":"Turner Etter McTeer"}]
[{"$f":"IF(Sheet1!B2330=\"\",\"\",Sheet1!B2330&\" \"&Sheet1!C2330)","v":"Turner Sarah T."}]
[{"$f":"IF(Sheet1!B2331=\"\",\"\",Sheet1!B2331&\" \"&Sheet1!C2331)","v":"Turner Thomas J."}]
[{"$f":"IF(Sheet1!B2332=\"\",\"\",Sheet1!B2332&\" \"&Sheet1!C2332)","v":"Turner Vernon W."}]
[{"$f":"IF(Sheet1!B2333=\"\",\"\",Sheet1!B2333&\" \"&Sheet1!C2333)","v":"Turney Gay B."}]
[{"$f":"IF(Sheet1!B2334=\"\",\"\",Sheet1!B2334&\" \"&Sheet1!C2334)","v":"Turnquist Carl"}]
[{"$f":"IF(Sheet1!B2335=\"\",\"\",Sheet1!B2335&\" \"&Sheet1!C2335)","v":"Turnquist Eleanor A."}]
[{"$f":"IF(Sheet1!B2336=\"\",\"\",Sheet1!B2336&\" \"&Sheet1!C2336)","v":"Turnquist Ellen A."}]
[{"$f":"IF(Sheet1!B2337=\"\",\"\",Sheet1!B2337&\" \"&Sheet1!C2337)","v":"Tuthill Anne R."}]
[{"$f":"IF(Sheet1!B2338=\"\",\"\",Sheet1!B2338&\" \"&Sheet1!C2338)","v":"Tuttle Arthur Farwell, Jr."}]
[{"$f":"IF(Sheet1!B2339=\"\",\"\",Sheet1!B2339&\" \"&Sheet1!C2339)","v":"Tyson Jeremy"}]
[{"$f":"IF(Sheet1!B2340=\"\",\"\",Sheet1!B2340&\" \"&Sheet1!C2340)","v":"Ulmer Jeffrey A."}]
[{"$f":"IF(Sheet1!B2341=\"\",\"\",Sheet1!B2341&\" \"&Sheet1!C2341)","v":"Underwood James M."}]
[{"$f":"IF(Sheet1!B2342=\"\",\"\",Sheet1!B2342&\" \"&Sheet1!C2342)","v":"Usher Jan"}]
[{"$f":"IF(Sheet1!B2343=\"\",\"\",Sheet1!B2343&\" \"&Sheet1!C2343)","v":"Uzdavines Marilyn"}]
[{"$f":"IF(Sheet1!B2344=\"\",\"\",Sheet1!B2344&\" \"&Sheet1!C2344)","v":"Valente Richard"}]
[{"$f":"IF(Sheet1!B2345=\"\",\"\",Sheet1!B2345&\" \"&Sheet1!C2345)","v":"Valenti Henry V."}]
[{"$f":"IF(Sheet1!B2346=\"\",\"\",Sheet1!B2346&\" \"&Sheet1!C2346)","v":"Valkenburg Dorothy Van"}]
[{"$f":"IF(Sheet1!B2347=\"\",\"\",Sheet1!B2347&\" \"&Sheet1!C2347)","v":"Van Buskirk Golda"}]
[{"$f":"IF(Sheet1!B2348=\"\",\"\",Sheet1!B2348&\" \"&Sheet1!C2348)","v":"Van Twyver Bob"}]
[{"$f":"IF(Sheet1!B2349=\"\",\"\",Sheet1!B2349&\" \"&Sheet1!C2349)","v":"Vance Charles Blount"}]
[{"$f":"IF(Sheet1!B2350=\"\",\"\",Sheet1!B2350&\" \"&Sheet1!C2350)","v":"Vanlandingham Rachel"}]
[{"$f":"IF(Sheet1!B2351=\"\",\"\",Sheet1!B2351&\" \"&Sheet1!C2351)","v":"Vantrease Richard"}]
[{"$f":"IF(Sheet1!B2352=\"\",\"\",Sheet1!B2352&\" \"&Sheet1!C2352)","v":"Varn Marjorie Boor"}]
[{"$f":"IF(Sheet1!B2353=\"\",\"\",Sheet1!B2353&\" \"&Sheet1!C2353)","v":"Varnadoe Naleene W."}]
[{"$f":"IF(Sheet1!B2354=\"\",\"\",Sheet1!B2354&\" \"&Sheet1!C2354)","v":"Vaughan Stephanie A."}]
[{"$f":"IF(Sheet1!B2355=\"\",\"\",Sheet1!B2355&\" \"&Sheet1!C2355)","v":"Vaughen Charlotte Leacht"}]
[{"$f":"IF(Sheet1!B2356=\"\",\"\",Sheet1!B2356&\" \"&Sheet1!C2356)","v":"Vaughen John V."}]
[{"$f":"IF(Sheet1!B2357=\"\",\"\",Sheet1!B2357&\" \"&Sheet1!C2357)","v":"Vauleon Florian"}]
[{"$f":"IF(Sheet1!B2358=\"\",\"\",Sheet1!B2358&\" \"&Sheet1!C2358)","v":"Vaulx Huetta Snowden"}]
[{"$f":"IF(Sheet1!B2359=\"\",\"\",Sheet1!B2359&\" \"&Sheet1!C2359)","v":"Vaulx Katharine"}]
[{"$f":"IF(Sheet1!B2360=\"\",\"\",Sheet1!B2360&\" \"&Sheet1!C2360)","v":"Vause W. Gary"}]
[{"$f":"IF(Sheet1!B2361=\"\",\"\",Sheet1!B2361&\" \"&Sheet1!C2361)","v":"Vedder Charles B."}]
[{"$f":"IF(Sheet1!B2362=\"\",\"\",Sheet1!B2362&\" \"&Sheet1!C2362)","v":"Veech David"}]
[{"$f":"IF(Sheet1!B2363=\"\",\"\",Sheet1!B2363&\" \"&Sheet1!C2363)","v":"Velez Marie"}]
[{"$f":"IF(Sheet1!B2364=\"\",\"\",Sheet1!B2364&\" \"&Sheet1!C2364)","v":"Venzke Margaret L."}]
[{"$f":"IF(Sheet1!B2365=\"\",\"\",Sheet1!B2365&\" \"&Sheet1!C2365)","v":"Vice Douglas A"}]
[{"$f":"IF(Sheet1!B2366=\"\",\"\",Sheet1!B2366&\" \"&Sheet1!C2366)","v":"Vickers Lawrence O."}]
[{"$f":"IF(Sheet1!B2367=\"\",\"\",Sheet1!B2367&\" \"&Sheet1!C2367)","v":"Villalobos Suzanne E."}]
[{"$f":"IF(Sheet1!B2368=\"\",\"\",Sheet1!B2368&\" \"&Sheet1!C2368)","v":"Vincent Heather"}]
[{"$f":"IF(Sheet1!B2369=\"\",\"\",Sheet1!B2369&\" \"&Sheet1!C2369)","v":"Vincent Stella Burnham"}]
[{"$f":"IF(Sheet1!B2370=\"\",\"\",Sheet1!B2370&\" \"&Sheet1!C2370)","v":"Virelli Louis J. III"}]
[{"$f":"IF(Sheet1!B2371=\"\",\"\",Sheet1!B2371&\" \"&Sheet1!C2371)","v":"Voge Joseph"}]
[{"$f":"IF(Sheet1!B2372=\"\",\"\",Sheet1!B2372&\" \"&Sheet1!C2372)","v":"Vogel Helen M.J."}]
[{"$f":"IF(Sheet1!B2373=\"\",\"\",Sheet1!B2373&\" \"&Sheet1!C2373)","v":"Vogel Thomas"}]
[{"$f":"IF(Sheet1!B2374=\"\",\"\",Sheet1!B2374&\" \"&Sheet1!C2374)","v":"Voglewede Barbara"}]
[{"$f":"IF(Sheet1!B2375=\"\",\"\",Sheet1!B2375&\" \"&Sheet1!C2375)","v":"Voorhis Anna Mae"}]
[{"$f":"IF(Sheet1!B2376=\"\",\"\",Sheet1!B2376&\" \"&Sheet1!C2376)","v":"Voorhis Guilda H."}]
[{"$f":"IF(Sheet1!B2377=\"\",\"\",Sheet1!B2377&\" \"&Sheet1!C2377)","v":"Vorobieva Nadejda Mikhailovna"}]
[{"$f":"IF(Sheet1!B2378=\"\",\"\",Sheet1!B2378&\" \"&Sheet1!C2378)","v":"Vosburg Nancy"}]
[{"$f":"IF(Sheet1!B2379=\"\",\"\",Sheet1!B2379&\" \"&Sheet1!C2379)","v":"Wade Andrew L."}]
[{"$f":"IF(Sheet1!B2380=\"\",\"\",Sheet1!B2380&\" \"&Sheet1!C2380)","v":"Wade Clarice"}]
[{"$f":"IF(Sheet1!B2381=\"\",\"\",Sheet1!B2381&\" \"&Sheet1!C2381)","v":"Wagner Randall"}]
[{"$f":"IF(Sheet1!B2382=\"\",\"\",Sheet1!B2382&\" \"&Sheet1!C2382)","v":"Wagner Terry"}]
[{"$f":"IF(Sheet1!B2383=\"\",\"\",Sheet1!B2383&\" \"&Sheet1!C2383)","v":"Wahle Marie"}]
[{"$f":"IF(Sheet1!B2384=\"\",\"\",Sheet1!B2384&\" \"&Sheet1!C2384)","v":"Wainwright Julia E."}]
[{"$f":"IF(Sheet1!B2385=\"\",\"\",Sheet1!B2385&\" \"&Sheet1!C2385)","v":"Wairaha Chacha"}]
[{"$f":"IF(Sheet1!B2386=\"\",\"\",Sheet1!B2386&\" \"&Sheet1!C2386)","v":"Wald Jean"}]
[{"$f":"IF(Sheet1!B2387=\"\",\"\",Sheet1!B2387&\" \"&Sheet1!C2387)","v":"Waldin Earl D."}]
[{"$f":"IF(Sheet1!B2388=\"\",\"\",Sheet1!B2388&\" \"&Sheet1!C2388)","v":"Walker Alexis"}]
[{"$f":"IF(Sheet1!B2389=\"\",\"\",Sheet1!B2389&\" \"&Sheet1!C2389)","v":"Walker Ella Mae"}]
[{"$f":"IF(Sheet1!B2390=\"\",\"\",Sheet1!B2390&\" \"&Sheet1!C2390)","v":"Walker James Brooks"}]
[{"$f":"IF(Sheet1!B2391=\"\",\"\",Sheet1!B2391&\" \"&Sheet1!C2391)","v":"Walker Jamison"}]
[{"$f":"IF(Sheet1!B2392=\"\",\"\",Sheet1!B2392&\" \"&Sheet1!C2392)","v":"Walker Nefertiti"}]
[{"$f":"IF(Sheet1!B2393=\"\",\"\",Sheet1!B2393&\" \"&Sheet1!C2393)","v":"Walker Oliver LaFayette"}]
[{"$f":"IF(Sheet1!B2394=\"\",\"\",Sheet1!B2394&\" \"&Sheet1!C2394)","v":"Wallbank Stanley T."}]
[{"$f":"IF(Sheet1!B2395=\"\",\"\",Sheet1!B2395&\" \"&Sheet1!C2395)","v":"Walrond Rick"}]
[{"$f":"IF(Sheet1!B2396=\"\",\"\",Sheet1!B2396&\" \"&Sheet1!C2396)","v":"Walter Jean"}]
[{"$f":"IF(Sheet1!B2397=\"\",\"\",Sheet1!B2397&\" \"&Sheet1!C2397)","v":"Walter Meghan"}]
[{"$f":"IF(Sheet1!B2398=\"\",\"\",Sheet1!B2398&\" \"&Sheet1!C2398)","v":"Walters Keith"}]
[{"$f":"IF(Sheet1!B2399=\"\",\"\",Sheet1!B2399&\" \"&Sheet1!C2399)","v":"Walters L. Melissa"}]
[{"$f":"IF(Sheet1!B2400=\"\",\"\",Sheet1!B2400&\" \"&Sheet1!C2400)","v":"Walters Mary Olivia"}]
[{"$f":"IF(Sheet1!B2401=\"\",\"\",Sheet1!B2401&\" \"&Sheet1!C2401)","v":"Walworth Clayton D."}]
[{"$f":"IF(Sheet1!B2402=\"\",\"\",Sheet1!B2402&\" \"&Sheet1!C2402)","v":"Wang Fei"}]
[{"$f":"IF(Sheet1!B2403=\"\",\"\",Sheet1!B2403&\" \"&Sheet1!C2403)","v":"Wang Weishen"}]
[{"$f":"IF(Sheet1!B2404=\"\",\"\",Sheet1!B2404&\" \"&Sheet1!C2404)","v":"Warch Willard"}]
[{"$f":"IF(Sheet1!B2405=\"\",\"\",Sheet1!B2405&\" \"&Sheet1!C2405)","v":"Ward James Morris"}]
[{"$f":"IF(Sheet1!B2406=\"\",\"\",Sheet1!B2406&\" \"&Sheet1!C2406)","v":"Warnock Johnnie Mary"}]
[{"$f":"IF(Sheet1!B2407=\"\",\"\",Sheet1!B2407&\" \"&Sheet1!C2407)","v":"Wasson Hilda C."}]
[{"$f":"IF(Sheet1!B2408=\"\",\"\",Sheet1!B2408&\" \"&Sheet1!C2408)","v":"Waterhouse Francis"}]
[{"$f":"IF(Sheet1!B2409=\"\",\"\",Sheet1!B2409&\" \"&Sheet1!C2409)","v":"Waterman Charles F."}]
[{"$f":"IF(Sheet1!B2410=\"\",\"\",Sheet1!B2410&\" \"&Sheet1!C2410)","v":"Waterman Constance"}]
[{"$f":"IF(Sheet1!B2411=\"\",\"\",Sheet1!B2411&\" \"&Sheet1!C2411)","v":"Waterman Edward L."}]
[{"$f":"IF(Sheet1!B2412=\"\",\"\",Sheet1!B2412&\" \"&Sheet1!C2412)","v":"Waterman Ivan"}]
[{"$f":"IF(Sheet1!B2413=\"\",\"\",Sheet1!B2413&\" \"&Sheet1!C2413)","v":"Waters Sally G."}]
[{"$f":"IF(Sheet1!B2414=\"\",\"\",Sheet1!B2414&\" \"&Sheet1!C2414)","v":"Watson Grace C."}]
[{"$f":"IF(Sheet1!B2415=\"\",\"\",Sheet1!B2415&\" \"&Sheet1!C2415)","v":"Watson Robert"}]
[{"$f":"IF(Sheet1!B2416=\"\",\"\",Sheet1!B2416&\" \"&Sheet1!C2416)","v":"Watters T. Clark"}]
[{"$f":"IF(Sheet1!B2417=\"\",\"\",Sheet1!B2417&\" \"&Sheet1!C2417)","v":"Watts James W."}]
[{"$f":"IF(Sheet1!B2418=\"\",\"\",Sheet1!B2418&\" \"&Sheet1!C2418)","v":"Watts Rebecca B."}]
[{"$f":"IF(Sheet1!B2419=\"\",\"\",Sheet1!B2419&\" \"&Sheet1!C2419)","v":"Waugh Derek"}]
[{"$f":"IF(Sheet1!B2420=\"\",\"\",Sheet1!B2420&\" \"&Sheet1!C2420)","v":"Waygood Charles M."}]
[{"$f":"IF(Sheet1!B2421=\"\",\"\",Sheet1!B2421&\" \"&Sheet1!C2421)","v":"Wayt Miriam"}]
[{"$f":"IF(Sheet1!B2422=\"\",\"\",Sheet1!B2422&\" \"&Sheet1!C2422)","v":"Webb Mabel"}]
[{"$f":"IF(Sheet1!B2423=\"\",\"\",Sheet1!B2423&\" \"&Sheet1!C2423)","v":"Webber Eunice Lucille"}]
[{"$f":"IF(Sheet1!B2424=\"\",\"\",Sheet1!B2424&\" \"&Sheet1!C2424)","v":"Weber Howard D."}]
[{"$f":"IF(Sheet1!B2425=\"\",\"\",Sheet1!B2425&\" \"&Sheet1!C2425)","v":"Webster Helen B."}]
[{"$f":"IF(Sheet1!B2426=\"\",\"\",Sheet1!B2426&\" \"&Sheet1!C2426)","v":"Webster Ben H."}]
[{"$f":"IF(Sheet1!B2427=\"\",\"\",Sheet1!B2427&\" \"&Sheet1!C2427)","v":"Webster Ethel"}]
[{"$f":"IF(Sheet1!B2428=\"\",\"\",Sheet1!B2428&\" \"&Sheet1!C2428)","v":"Weeks Ernest E."}]
[{"$f":"IF(Sheet1!B2429=\"\",\"\",Sheet1!B2429&\" \"&Sheet1!C2429)","v":"Wehle Victor O."}]
[{"$f":"IF(Sheet1!B2430=\"\",\"\",Sheet1!B2430&\" \"&Sheet1!C2430)","v":"Wehrle Alfred L."}]
[{"$f":"IF(Sheet1!B2431=\"\",\"\",Sheet1!B2431&\" \"&Sheet1!C2431)","v":"Wei Zhiping"}]
[{"$f":"IF(Sheet1!B2432=\"\",\"\",Sheet1!B2432&\" \"&Sheet1!C2432)","v":"Weickel Robert W., Jr."}]
[{"$f":"IF(Sheet1!B2433=\"\",\"\",Sheet1!B2433&\" \"&Sheet1!C2433)","v":"Weir John Merle"}]
[{"$f":"IF(Sheet1!B2434=\"\",\"\",Sheet1!B2434&\" \"&Sheet1!C2434)","v":"Weisner Alice McLaughlin"}]
[{"$f":"IF(Sheet1!B2435=\"\",\"\",Sheet1!B2435&\" \"&Sheet1!C2435)","v":"Weiss Robert M."}]
[{"$f":"IF(Sheet1!B2436=\"\",\"\",Sheet1!B2436&\" \"&Sheet1!C2436)","v":"Welch Eva Baker"}]
[{"$f":"IF(Sheet1!B2437=\"\",\"\",Sheet1!B2437&\" \"&Sheet1!C2437)","v":"Welch Morgan"}]
[{"$f":"IF(Sheet1!B2438=\"\",\"\",Sheet1!B2438&\" \"&Sheet1!C2438)","v":"Wells Lillian"}]
[{"$f":"IF(Sheet1!B2439=\"\",\"\",Sheet1!B2439&\" \"&Sheet1!C2439)","v":"Wells Mildred White"}]
[{"$f":"IF(Sheet1!B2440=\"\",\"\",Sheet1!B2440&\" \"&Sheet1!C2440)","v":"West Betty Sue"}]
[{"$f":"IF(Sheet1!B2441=\"\",\"\",Sheet1!B2441&\" \"&Sheet1!C2441)","v":"West Frank"}]
[{"$f":"IF(Sheet1!B2442=\"\",\"\",Sheet1!B2442&\" \"&Sheet1!C2442)","v":"West Jean O."}]
[{"$f":"IF(Sheet1!B2443=\"\",\"\",Sheet1!B2443&\" \"&Sheet1!C2443)","v":"West Jessica"}]
[{"$f":"IF(Sheet1!B2444=\"\",\"\",Sheet1!B2444&\" \"&Sheet1!C2444)","v":"Westcott Warren B., Jr."}]
[{"$f":"IF(Sheet1!B2445=\"\",\"\",Sheet1!B2445&\" \"&Sheet1!C2445)","v":"Westney William"}]
[{"$f":"IF(Sheet1!B2446=\"\",\"\",Sheet1!B2446&\" \"&Sheet1!C2446)","v":"Wetherwax Brianna"}]
[{"$f":"IF(Sheet1!B2448=\"\",\"\",Sheet1!B2448&\" \"&Sheet1!C2448)","v":"Wheeler Paul M."}]
[{"$f":"IF(Sheet1!B2449=\"\",\"\",Sheet1!B2449&\" \"&Sheet1!C2449)","v":"Whitaker Candace S."}]
[{"$f":"IF(Sheet1!B2450=\"\",\"\",Sheet1!B2450&\" \"&Sheet1!C2450)","v":"White Andrea M."}]
[{"$f":"IF(Sheet1!B2451=\"\",\"\",Sheet1!B2451&\" \"&Sheet1!C2451)","v":"White Jack Farrington"}]
[{"$f":"IF(Sheet1!B2452=\"\",\"\",Sheet1!B2452&\" \"&Sheet1!C2452)","v":"White James"}]
[{"$f":"IF(Sheet1!B2453=\"\",\"\",Sheet1!B2453&\" \"&Sheet1!C2453)","v":"White Janet"}]
[{"$f":"IF(Sheet1!B2454=\"\",\"\",Sheet1!B2454&\" \"&Sheet1!C2454)","v":"White Roberta Sloan"}]
[{"$f":"IF(Sheet1!B2455=\"\",\"\",Sheet1!B2455&\" \"&Sheet1!C2455)","v":"Whitehair Reba Thurlene"}]
[{"$f":"IF(Sheet1!B2456=\"\",\"\",Sheet1!B2456&\" \"&Sheet1!C2456)","v":"Whiteman Betty"}]
[{"$f":"IF(Sheet1!B2457=\"\",\"\",Sheet1!B2457&\" \"&Sheet1!C2457)","v":"Whitener Thomas Augustus"}]
[{"$f":"IF(Sheet1!B2458=\"\",\"\",Sheet1!B2458&\" \"&Sheet1!C2458)","v":"Whiteside William B."}]
[{"$f":"IF(Sheet1!B2459=\"\",\"\",Sheet1!B2459&\" \"&Sheet1!C2459)","v":"Whitfield Emma Morehead"}]
[{"$f":"IF(Sheet1!B2460=\"\",\"\",Sheet1!B2460&\" \"&Sheet1!C2460)","v":"Whiting Claire Virginia"}]
[{"$f":"IF(Sheet1!B2461=\"\",\"\",Sheet1!B2461&\" \"&Sheet1!C2461)","v":"Whittaker David E."}]
[{"$f":"IF(Sheet1!B2462=\"\",\"\",Sheet1!B2462&\" \"&Sheet1!C2462)","v":"Wilber Harold Robinson"}]
[{"$f":"IF(Sheet1!B2463=\"\",\"\",Sheet1!B2463&\" \"&Sheet1!C2463)","v":"Wilcox Samuel"}]
[{"$f":"IF(Sheet1!B2464=\"\",\"\",Sheet1!B2464&\" \"&Sheet1!C2464)","v":"Wilcox Winifred"}]
[{"$f":"IF(Sheet1!B2465=\"\",\"\",Sheet1!B2465&\" \"&Sheet1!C2465)","v":"Wilde Edward D."}]
[{"$f":"IF(Sheet1!B2466=\"\",\"\",Sheet1!B2466&\" \"&Sheet1!C2466)","v":"Wilde Stephanie Vaughan"}]
[{"$f":"IF(Sheet1!B2467=\"\",\"\",Sheet1!B2467&\" \"&Sheet1!C2467)","v":"Wilder Edna Grace"}]
[{"$f":"IF(Sheet1!B2468=\"\",\"\",Sheet1!B2468&\" \"&Sheet1!C2468)","v":"Wilder Guss"}]
[{"$f":"IF(Sheet1!B2469=\"\",\"\",Sheet1!B2469&\" \"&Sheet1!C2469)","v":"Wiley Ronald E."}]
[{"$f":"IF(Sheet1!B2470=\"\",\"\",Sheet1!B2470&\" \"&Sheet1!C2470)","v":"Wilhite James A."}]
[{"$f":"IF(Sheet1!B2471=\"\",\"\",Sheet1!B2471&\" \"&Sheet1!C2471)","v":"Wiliams Karen"}]
[{"$f":"IF(Sheet1!B2472=\"\",\"\",Sheet1!B2472&\" \"&Sheet1!C2472)","v":"Wilkes Glenn N."}]
[{"$f":"IF(Sheet1!B2473=\"\",\"\",Sheet1!B2473&\" \"&Sheet1!C2473)","v":"Williams Justin M."}]
[{"$f":"IF(Sheet1!B2474=\"\",\"\",Sheet1!B2474&\" \"&Sheet1!C2474)","v":"Williams Charles"}]
[{"$f":"IF(Sheet1!B2475=\"\",\"\",Sheet1!B2475&\" \"&Sheet1!C2475)","v":"Williams Donna J."}]
[{"$f":"IF(Sheet1!B2476=\"\",\"\",Sheet1!B2476&\" \"&Sheet1!C2476)","v":"Williams Gareth"}]
[{"$f":"IF(Sheet1!B2477=\"\",\"\",Sheet1!B2477&\" \"&Sheet1!C2477)","v":"Williams Garland H."}]
[{"$f":"IF(Sheet1!B2478=\"\",\"\",Sheet1!B2478&\" \"&Sheet1!C2478)","v":"Williams Melvin J."}]
[{"$f":"IF(Sheet1!B2479=\"\",\"\",Sheet1!B2479&\" \"&Sheet1!C2479)","v":"Williams Minnie Ella"}]
[{"$f":"IF(Sheet1!B2480=\"\",\"\",Sheet1!B2480&\" \"&Sheet1!C2480)","v":"Williams Moffatt G."}]
[{"$f":"IF(Sheet1!B2481=\"\",\"\",Sheet1!B2481&\" \"&Sheet1!C2481)","v":"Willian Willie Dee"}]
[{"$f":"IF(Sheet1!B2482=\"\",\"\",Sheet1!B2482&\" \"&Sheet1!C2482)","v":"Wills James E."}]
[{"$f":"IF(Sheet1!B2483=\"\",\"\",Sheet1!B2483&\" \"&Sheet1!C2483)","v":"Wilson Darryl C."}]
[{"$f":"IF(Sheet1!B2484=\"\",\"\",Sheet1!B2484&\" \"&Sheet1!C2484)","v":"Wilson Esther"}]
[{"$f":"IF(Sheet1!B2485=\"\",\"\",Sheet1!B2485&\" \"&Sheet1!C2485)","v":"Wilson Frances May"}]
[{"$f":"IF(Sheet1!B2486=\"\",\"\",Sheet1!B2486&\" \"&Sheet1!C2486)","v":"Wilson James E."}]
[{"$f":"IF(Sheet1!B2487=\"\",\"\",Sheet1!B2487&\" \"&Sheet1!C2487)","v":"Wilson James Robert"}]
[{"$f":"IF(Sheet1!B2488=\"\",\"\",Sheet1!B2488&\" \"&Sheet1!C2488)","v":"Wilson Katie"}]
[{"$f":"IF(Sheet1!B2489=\"\",\"\",Sheet1!B2489&\" \"&Sheet1!C2489)","v":"Wilson Kimberly F."}]
[{"$f":"IF(Sheet1!B2490=\"\",\"\",Sheet1!B2490&\" \"&Sheet1!C2490)","v":"Wilson Matthew"}]
[{"$f":"IF(Sheet1!B2491=\"\",\"\",Sheet1!B2491&\" \"&Sheet1!C2491)","v":"Wilson Robert S."}]
[{"$f":"IF(Sheet1!B2492=\"\",\"\",Sheet1!B2492&\" \"&Sheet1!C2492)","v":"Wilson Susan"}]
[{"$f":"IF(Sheet1!B2493=\"\",\"\",Sheet1!B2493&\" \"&Sheet1!C2493)","v":"Wimberly Ronald C"}]
[{"$f":"IF(Sheet1!B2494=\"\",\"\",Sheet1!B2494&\" \"&Sheet1!C2494)","v":"Wimer Valinda G."}]
[{"$f":"IF(Sheet1!B2495=\"\",\"\",Sheet1!B2495&\" \"&Sheet1!C2495)","v":"Winchester Albert M."}]
[{"$f":"IF(Sheet1!B2496=\"\",\"\",Sheet1!B2496&\" \"&Sheet1!C2496)","v":"Winegar Elizabeth"}]
[{"$f":"IF(Sheet1!B2497=\"\",\"\",Sheet1!B2497&\" \"&Sheet1!C2497)","v":"Wingfield E. Burwell"}]
[{"$f":"IF(Sheet1!B2498=\"\",\"\",Sheet1!B2498&\" \"&Sheet1!C2498)","v":"Winn Charles C."}]
[{"$f":"IF(Sheet1!B2499=\"\",\"\",Sheet1!B2499&\" \"&Sheet1!C2499)","v":"Winseman Alberta E."}]
[{"$f":"IF(Sheet1!B2500=\"\",\"\",Sheet1!B2500&\" \"&Sheet1!C2500)","v":"Winters A.C."}]
[{"$f":"IF(Sheet1!B2501=\"\",\"\",Sheet1!B2501&\" \"&Sheet1!C2501)","v":"Winters Harry Sunderland"}]
[{"$f":"IF(Sheet1!B2502=\"\",\"\",Sheet1!B2502&\" \"&Sheet1!C2502)","v":"Witek Joseph"}]
[{"$f":"IF(Sheet1!B2503=\"\",\"\",Sheet1!B2503&\" \"&Sheet1!C2503)","v":"Witek Therese D."}]
[{"$f":"IF(Sheet1!B2504=\"\",\"\",Sheet1!B2504&\" \"&Sheet1!C2504)","v":"Wojcik Violet Hicks"}]
[{"$f":"IF(Sheet1!B2505=\"\",\"\",Sheet1!B2505&\" \"&Sheet1!C2505)","v":"Wolek Nathan E."}]
[{"$f":"IF(Sheet1!B2506=\"\",\"\",Sheet1!B2506&\" \"&Sheet1!C2506)","v":"Wolfe David R."}]
[{"$f":"IF(Sheet1!B2507=\"\",\"\",Sheet1!B2507&\" \"&Sheet1!C2507)","v":"Wolfe Joseph R."}]
[{"$f":"IF(Sheet1!B2508=\"\",\"\",Sheet1!B2508&\" \"&Sheet1!C2508)","v":"Wolfskill George Kenneth"}]
[{"$f":"IF(Sheet1!B2509=\"\",\"\",Sheet1!B2509&\" \"&Sheet1!C2509)","v":"Womack Joseph L."}]
[{"$f":"IF(Sheet1!B2510=\"\",\"\",Sheet1!B2510&\" \"&Sheet1!C2510)","v":"Womack Martha"}]
[{"$f":"IF(Sheet1!B2511=\"\",\"\",Sheet1!B2511&\" \"&Sheet1!C2511)","v":"Wood Alpha"}]
[{"$f":"IF(Sheet1!B2512=\"\",\"\",Sheet1!B2512&\" \"&Sheet1!C2512)","v":"Wood Evone"}]
[{"$f":"IF(Sheet1!B2513=\"\",\"\",Sheet1!B2513&\" \"&Sheet1!C2513)","v":"Wood Margaret W."}]
[{"$f":"IF(Sheet1!B2514=\"\",\"\",Sheet1!B2514&\" \"&Sheet1!C2514)","v":"Wood Annie B."}]
[{"$f":"IF(Sheet1!B2515=\"\",\"\",Sheet1!B2515&\" \"&Sheet1!C2515)","v":"Wood Richard H., Jr."}]
[{"$f":"IF(Sheet1!B2516=\"\",\"\",Sheet1!B2516&\" \"&Sheet1!C2516)","v":"Woodard J. Lamar"}]
[{"$f":"IF(Sheet1!B2517=\"\",\"\",Sheet1!B2517&\" \"&Sheet1!C2517)","v":"Woodcock Ramsi"}]
[{"$f":"IF(Sheet1!B2518=\"\",\"\",Sheet1!B2518&\" \"&Sheet1!C2518)","v":"Woods Nicole"}]
[{"$f":"IF(Sheet1!B2519=\"\",\"\",Sheet1!B2519&\" \"&Sheet1!C2519)","v":"Woods Ray S."}]
[{"$f":"IF(Sheet1!B2520=\"\",\"\",Sheet1!B2520&\" \"&Sheet1!C2520)","v":"Woods Roger D."}]
[{"$f":"IF(Sheet1!B2521=\"\",\"\",Sheet1!B2521&\" \"&Sheet1!C2521)","v":"Woodside Joseph"}]
[{"$f":"IF(Sheet1!B2522=\"\",\"\",Sheet1!B2522&\" \"&Sheet1!C2522)","v":"Woodson Thomas R."}]
[{"$f":"IF(Sheet1!B2523=\"\",\"\",Sheet1!B2523&\" \"&Sheet1!C2523)","v":"Woodward James E."}]
[{"$f":"IF(Sheet1!B2524=\"\",\"\",Sheet1!B2524&\" \"&Sheet1!C2524)","v":"Woodward P. Stanley"}]
[{"$f":"IF(Sheet1!B2525=\"\",\"\",Sheet1!B2525&\" \"&Sheet1!C2525)","v":"Woodyard Jeffrey Lynn"}]
[{"$f":"IF(Sheet1!B2526=\"\",\"\",Sheet1!B2526&\" \"&Sheet1!C2526)","v":"Work Kirsten"}]
[{"$f":"IF(Sheet1!B2527=\"\",\"\",Sheet1!B2527&\" \"&Sheet1!C2527)","v":"Worth Aileen"}]
[{"$f":"IF(Sheet1!B2528=\"\",\"\",Sheet1!B2528&\" \"&Sheet1!C2528)","v":"Wrenn Paul"}]
[{"$f":"IF(Sheet1!B2529=\"\",\"\",Sheet1!B2529&\" \"&Sheet1!C2529)","v":"Wright James C."}]
[{"$f":"IF(Sheet1!B2530=\"\",\"\",Sheet1!B2530&\" \"&Sheet1!C2530)","v":"Wright Joel S."}]
[{"$f":"IF(Sheet1!B2531=\"\",\"\",Sheet1!B2531&\" \"&Sheet1!C2531)","v":"Wright Judith S."}]
[{"$f":"IF(Sheet1!B2532=\"\",\"\",Sheet1!B2532&\" \"&Sheet1!C2532)","v":"Wright Victor H."}]
[{"$f":"IF(Sheet1!B2533=\"\",\"\",Sheet1!B2533&\" \"&Sheet1!C2533)","v":"Wright Wiliam W."}]
[{"$f":"IF(Sheet1!B2534=\"\",\"\",Sheet1!B2534&\" \"&Sheet1!C2534)","v":"Wroblewski Frank M."}]
[{"$f":"IF(Sheet1!B2535=\"\",\"\",Sheet1!B2535&\" \"&Sheet1!C2535)","v":"Wu Ruoyi"}]
[{"$f":"IF(Sheet1!B2536=\"\",\"\",Sheet1!B2536&\" \"&Sheet1!C2536)","v":"Wuennenberg Terry"}]
[{"$f":"IF(Sheet1!B2537=\"\",\"\",Sheet1!B2537&\" \"&Sheet1!C2537)","v":"Wycoff Jerry Randall"}]
[{"$f":"IF(Sheet1!B2538=\"\",\"\",Sheet1!B2538&\" \"&Sheet1!C2538)","v":"Wynn Malcolm M."}]
[{"$f":"IF(Sheet1!B2539=\"\",\"\",Sheet1!B2539&\" \"&Sheet1!C2539)","v":"Yang Benhua"}]
[{"$f":"IF(Sheet1!B2540=\"\",\"\",Sheet1!B2540&\" \"&Sheet1!C2540)","v":"Yates Dudley V."}]
[{"$f":"IF(Sheet1!B2541=\"\",\"\",Sheet1!B2541&\" \"&Sheet1!C2541)","v":"Yates Harold W."}]
[{"$f":"IF(Sheet1!B2542=\"\",\"\",Sheet1!B2542&\" \"&Sheet1!C2542)","v":"Yates Tommye C."}]
[{"$f":"IF(Sheet1!B2543=\"\",\"\",Sheet1!B2543&\" \"&Sheet1!C2543)","v":"Yaxley Donald Charles"}]
[{"$f":"IF(Sheet1!B2544=\"\",\"\",Sheet1!B2544&\" \"&Sheet1!C2544)","v":"Yaxley Ellenlee M."}]
[{"$f":"IF(Sheet1!B2545=\"\",\"\",Sheet1!B2545&\" \"&Sheet1!C2545)","v":"Yessin Gerson"}]
[{"$f":"IF(Sheet1!B2546=\"\",\"\",Sheet1!B2546&\" \"&Sheet1!C2546)","v":"Yoder Gary L."}]
[{"$f":"IF(Sheet1!B2547=\"\",\"\",Sheet1!B2547&\" \"&Sheet1!C2547)","v":"York Emma J."}]
[{"$f":"IF(Sheet1!B2548=\"\",\"\",Sheet1!B2548&\" \"&Sheet1!C2548)","v":"York John"}]
[{"$f":"IF(Sheet1!B2549=\"\",\"\",Sheet1!B2549&\" \"&Sheet1!C2549)","v":"Young Mark E."}]
[{"$f":"IF(Sheet1!B2550=\"\",\"\",Sheet1!B2550&\" \"&Sheet1!C2550)","v":"Young Wendy"}]
[{"$f":"IF(Sheet1!B2551=\"\",\"\",Sheet1!B2551&\" \"&Sheet1!C2551)","v":"Yu Frederick T. C."}]
[{"$f":"IF(Sheet1!B2552=\"\",\"\",Sheet1!B2552&\" \"&Sheet1!C2552)","v":"Yu Rui"}]
[{"$f":"IF(Sheet1!B2553=\"\",\"\",Sheet1!B2553&\" \"&Sheet1!C2553)","v":"Zapata Roberto Camacho"}]
[{"$f":"IF(Sheet1!B2554=\"\",\"\",Sheet1!B2554&\" \"&Sheet1!C2554)","v":"Zavala Maria"}]
[{"$f":"IF(Sheet1!B2555=\"\",\"\",Sheet1!B2555&\" \"&Sheet1!C2555)","v":"Zavanelli Max"}]
[{"$f":"IF(Sheet1!B2556=\"\",\"\",Sheet1!B2556&\" \"&Sheet1!C2556)","v":"Zavlunov Danil"}]
[{"$f":"IF(Sheet1!B2557=\"\",\"\",Sheet1!B2557&\" \"&Sheet1!C2557)","v":"Zeller Bruno"}]
[{"$f":"IF(Sheet1!B2558=\"\",\"\",Sheet1!B2558&\" \"&Sheet1!C2558)","v":"Zenkovsky Betty Jean"}]
[{"$f":"IF(Sheet1!B2559=\"\",\"\",Sheet1!B2559&\" \"&Sheet1!C2559)","v":"Zenkovsky Serge A."}]
[{"$f":"IF(Sheet1!B2560=\"\",\"\",Sheet1!B2560&\" \"&Sheet1!C2560)","v":"Zhang Xia"}]
[{"$f":"IF(Sheet1!B2561=\"\",\"\",Sheet1!B2561&\" \"&Sheet1!C2561)","v":"Ziegler Barbara Parsons"}]
[{"$f":"IF(Sheet1!B2562=\"\",\"\",Sheet1!B2562&\" \"&Sheet1!C2562)","v":"Zierdt Candace"}]
[{"$f":"IF(Sheet1!B2563=\"\",\"\",Sheet1!B2563&\" \"&Sheet1!C2563)","v":"Zlotnick David M."}]
[{"$f":"IF(Sheet1!B2564=\"\",\"\",Sheet1!B2564&\" \"&Sheet1!C2564)","v":"Zucker Joel"}]
[{"$f":"IF(Sheet1!B2565=\"\",\"\",Sheet1!B2565&\" \"&Sheet1!C2565)","v":"Zucker Susan"}]
[{"$f":"IF(Sheet1!B2566=\"\",\"\",Sheet1!B2566&\" \"&Sheet1!C2566)","v":"Zuppo Laura"}]
[{"$f":"IF(Sheet1!B2567=\"\",\"\",Sheet1!B2567&\" \"&Sheet1!C2567)","v":"ZuTavern Asa B."}]
[{"$f":"IF(Sheet1!B2568=\"\",\"\",Sheet1!B2568&\" \"&Sheet1!C2568)","v":"ZuTavern Charlotte T."}]
[{"$f":"IF(Sheet1!B2569=\"\",\"\",Sheet1!B2569&\" \"&Sheet1!C2569)","v":""}]
[{"$f":"IF(Sheet1!B2570=\"\",\"\",Sheet1!B2570&\" \"&Sheet1!C2570)","v":""}]
[{"$f":"IF(Sheet1!B2571=\"\",\"\",Sheet1!B2571&\" \"&Sheet1!C2571)","v":""}]
[{"$f":"IF(Sheet1!B2572=\"\",\"\",Sheet1!B2572&\" \"&Sheet1!C2572)","v":""}]
[{"$f":"IF(Sheet1!B2573=\"\",\"\",Sheet1!B2573&\" \"&Sheet1!C2573)","v":""}]
[{"$f":"IF(Sheet1!B2574=\"\",\"\",Sheet1!B2574&\" \"&Sheet1!C2574)","v":""}]
[{"$f":"IF(Sheet1!B2575=\"\",\"\",Sheet1!B2575&\" \"&Sheet1!C2575)","v":""}]
[{"$f":"IF(Sheet1!B2576=\"\",\"\",Sheet1!B2576&\" \"&Sheet1!C2576)","v":""}]
[{"$f":"IF(Sheet1!B2577=\"\",\"\",Sheet1!B2577&\" \"&Sheet1!C2577)","v":""}]
[{"$f":"IF(Sheet1!B2578=\"\",\"\",Sheet1!B2578&\" \"&Sheet1!C2578)","v":""}]
[{"$f":"IF(Sheet1!B2579=\"\",\"\",Sheet1!B2579&\" \"&Sheet1!C2579)","v":""}]
[{"$f":"IF(Sheet1!B2580=\"\",\"\",Sheet1!B2580&\" \"&Sheet1!C2580)","v":""}]
[{"$f":"IF(Sheet1!B2581=\"\",\"\",Sheet1!B2581&\" \"&Sheet1!C2581)","v":""}]
[{"$f":"IF(Sheet1!B2582=\"\",\"\",Sheet1!B2582&\" \"&Sheet1!C2582)","v":""}]
[{"$f":"IF(Sheet1!B2583=\"\",\"\",Sheet1!B2583&\" \"&Sheet1!C2583)","v":""}]
[{"$f":"IF(Sheet1!B2584=\"\",\"\",Sheet1!B2584&\" \"&Sheet1!C2584)","v":""}]
[{"$f":"IF(Sheet1!B2585=\"\",\"\",Sheet1!B2585&\" \"&Sheet1!C2585)","v":""}]
[{"$f":"IF(Sheet1!B2586=\"\",\"\",Sheet1!B2586&\" \"&Sheet1!C2586)","v":""}]
[{"$f":"IF(Sheet1!B2587=\"\",\"\",Sheet1!B2587&\" \"&Sheet1!C2587)","v":""}]
[{"$f":"IF(Sheet1!B2588=\"\",\"\",Sheet1!B2588&\" \"&Sheet1!C2588)","v":""}]
[{"$f":"IF(Sheet1!B2589=\"\",\"\",Sheet1!B2589&\" \"&Sheet1!C2589)","v":""}]
[{"$f":"IF(Sheet1!B2590=\"\",\"\",Sheet1!B2590&\" \"&Sheet1!C2590)","v":""}]
[{"$f":"IF(Sheet1!B2591=\"\",\"\",Sheet1!B2591&\" \"&Sheet1!C2591)","v":""}]
[{"$f":"IF(Sheet1!B2592=\"\",\"\",Sheet1!B2592&\" \"&Sheet1!C2592)","v":""}]
[{"$f":"IF(Sheet1!B2593=\"\",\"\",Sheet1!B2593&\" \"&Sheet1!C2593)","v":""}]
[{"$f":"IF(Sheet1!B2594=\"\",\"\",Sheet1!B2594&\" \"&Sheet1!C2594)","v":""}]
[{"$f":"IF(Sheet1!B2595=\"\",\"\",Sheet1!B2595&\" \"&Sheet1!C2595)","v":""}]
[{"$f":"IF(Sheet1!B2596=\"\",\"\",Sheet1!B2596&\" \"&Sheet1!C2596)","v":""}]
[{"$f":"IF(Sheet1!B2597=\"\",\"\",Sheet1!B2597&\" \"&Sheet1!C2597)","v":""}]
[{"$f":"IF(Sheet1!B2598=\"\",\"\",Sheet1!B2598&\" \"&Sheet1!C2598)","v":""}]
[{"$f":"IF(Sheet1!B2599=\"\",\"\",Sheet1!B2599&\" \"&Sheet1!C2599)","v":""}]
[{"$f":"IF(Sheet1!B2600=\"\",\"\",Sheet1!B2600&\" \"&Sheet1!C2600)","v":""}]
[{"$f":"IF(Sheet1!B2601=\"\",\"\",Sheet1!B2601&\" \"&Sheet1!C2601)","v":""}]
[{"$f":"IF(Sheet1!B2602=\"\",\"\",Sheet1!B2602&\" \"&Sheet1!C2602)","v":""}]
[{"$f":"IF(Sheet1!B2603=\"\",\"\",Sheet1!B2603&\" \"&Sheet1!C2603)","v":""}]
[{"$f":"IF(Sheet1!B2604=\"\",\"\",Sheet1!B2604&\" \"&Sheet1!C2604)","v":""}]
[{"$f":"IF(Sheet1!B2605=\"\",\"\",Sheet1!B2605&\" \"&Sheet1!C2605)","v":""}]
[{"$f":"IF(Sheet1!B2606=\"\",\"\",Sheet1!B2606&\" \"&Sheet1!C2606)","v":""}]
[{"$f":"IF(Sheet1!B2607=\"\",\"\",Sheet1!B2607&\" \"&Sheet1!C2607)","v":""}]
[{"$f":"IF(Sheet1!B2608=\"\",\"\",Sheet1!B2608&\" \"&Sheet1!C2608)","v":""}]
[{"$f":"IF(Sheet1!B2609=\"\",\"\",Sheet1!B2609&\" \"&Sheet1!C2609)","v":""}]
[{"$f":"IF(Sheet1!B2610=\"\",\"\",Sheet1!B2610&\" \"&Sheet1!C2610)","v":""}]
[{"$f":"IF(Sheet1!B2611=\"\",\"\",Sheet1!B2611&\" \"&Sheet1!C2611)","v":""}]
[{"$f":"IF(Sheet1!B2612=\"\",\"\",Sheet1!B2612&\" \"&Sheet1!C2612)","v":""}]
[{"$f":"IF(Sheet1!B2613=\"\",\"\",Sheet1!B2613&\" \"&Sheet1!C2613)","v":""}]
[{"$f":"IF(Sheet1!B2614=\"\",\"\",Sheet1!B2614&\" \"&Sheet1!C2614)","v":""}]
[{"$f":"IF(Sheet1!B2615=\"\",\"\",Sheet1!B2615&\" \"&Sheet1!C2615)","v":""}]
[{"$f":"IF(Sheet1!B2616=\"\",\"\",Sheet1!B2616&\" \"&Sheet1!C2616)","v":""}]
[{"$f":"IF(Sheet1!B2617=\"\",\"\",Sheet1!B2617&\" \"&Sheet1!C2617)","v":""}]
[{"$f":"IF(Sheet1!B2618=\"\",\"\",Sheet1!B2618&\" \"&Sheet1!C2618)","v":""}]
[{"$f":"IF(Sheet1!B2619=\"\",\"\",Sheet1!B2619&\" \"&Sheet1!C2619)","v":""}]
[{"$f":"IF(Sheet1!B2620=\"\",\"\",Sheet1!B2620&\" \"&Sheet1!C2620)","v":""}]
[{"$f":"IF(Sheet1!B2621=\"\",\"\",Sheet1!B2621&\" \"&Sheet1!C2621)","v":""}]
[{"$f":"IF(Sheet1!B2622=\"\",\"\",Sheet1!B2622&\" \"&Sheet1!C2622)","v":""}]
[{"$f":"IF(Sheet1!B2623=\"\",\"\",Sheet1!B2623&\" \"&Sheet1!C2623)","v":""}]
[{"$f":"IF(Sheet1!B2624=\"\",\"\",Sheet1!B2624&\" \"&Sheet1!C2624)","v":""}]
[{"$f":"IF(Sheet1!B2625=\"\",\"\",Sheet1!B2625&\" \"&Sheet1!C2625)","v":""}]
[{"$f":"IF(Sheet1!B2626=\"\",\"\",Sheet1!B2626&\" \"&Sheet1!C2626)","v":""}]
[{"$f":"IF(Sheet1!B2627=\"\",\"\",Sheet1!B2627&\" \"&Sheet1!C2627)","v":""}]
[{"$f":"IF(Sheet1!B2628=\"\",\"\",Sheet1!B2628&\" \"&Sheet1!C2628)","v":""}]
[{"$f":"IF(Sheet1!B2629=\"\",\"\",Sheet1!B2629&\" \"&Sheet1!C2629)","v":""}]
[{"$f":"IF(Sheet1!B2630=\"\",\"\",Sheet1!B2630&\" \"&Sheet1!C2630)","v":""}]
[{"$f":"IF(Sheet1!B2631=\"\",\"\",Sheet1!B2631&\" \"&Sheet1!C2631)","v":""}]
[{"$f":"IF(Sheet1!B2632=\"\",\"\",Sheet1!B2632&\" \"&Sheet1!C2632)","v":""}]
[{"$f":"IF(Sheet1!B2633=\"\",\"\",Sheet1!B2633&\" \"&Sheet1!C2633)","v":""}]
[{"$f":"IF(Sheet1!B2634=\"\",\"\",Sheet1!B2634&\" \"&Sheet1!C2634)","v":""}]
[{"$f":"IF(Sheet1!B2635=\"\",\"\",Sheet1!B2635&\" \"&Sheet1!C2635)","v":""}]
[{"$f":"IF(Sheet1!B2636=\"\",\"\",Sheet1!B2636&\" \"&Sheet1!C2636)","v":""}]
[{"$f":"IF(Sheet1!B2637=\"\",\"\",Sheet1!B2637&\" \"&Sheet1!C2637)","v":""}]
[{"$f":"IF(Sheet1!B2638=\"\",\"\",Sheet1!B2638&\" \"&Sheet1!C2638)","v":""}]
[{"$f":"IF(Sheet1!B2639=\"\",\"\",Sheet1!B2639&\" \"&Sheet1!C2639)","v":""}]
[{"$f":"IF(Sheet1!B2640=\"\",\"\",Sheet1!B2640&\" \"&Sheet1!C2640)","v":""}]
[{"$f":"IF(Sheet1!B2641=\"\",\"\",Sheet1!B2641&\" \"&Sheet1!C2641)","v":""}]
[{"$f":"IF(Sheet1!B2642=\"\",\"\",Sheet1!B2642&\" \"&Sheet1!C2642)","v":""}]
[{"$f":"IF(Sheet1!B2643=\"\",\"\",Sheet1!B2643&\" \"&Sheet1!C2643)","v":""}]
[{"$f":"IF(Sheet1!B2644=\"\",\"\",Sheet1!B2644&\" \"&Sheet1!C2644)","v":""}]
[{"$f":"IF(Sheet1!B2645=\"\",\"\",Sheet1!B2645&\" \"&Sheet1!C2645)","v":""}]
[{"$f":"IF(Sheet1!B2646=\"\",\"\",Sheet1!B2646&\" \"&Sheet1!C2646)","v":""}]
[{"$f":"IF(Sheet1!B2647=\"\",\"\",Sheet1!B2647&\" \"&Sheet1!C2647)","v":""}]
[{"$f":"IF(Sheet1!B2648=\"\",\"\",Sheet1!B2648&\" \"&Sheet1!C2648)","v":""}]
[{"$f":"IF(Sheet1!B2649=\"\",\"\",Sheet1!B2649&\" \"&Sheet1!C2649)","v":""}]
[{"$f":"IF(Sheet1!B2650=\"\",\"\",Sheet1!B2650&\" \"&Sheet1!C2650)","v":""}]
[{"$f":"IF(Sheet1!B2651=\"\",\"\",Sheet1!B2651&\" \"&Sheet1!C2651)","v":""}]
[{"$f":"IF(Sheet1!B2652=\"\",\"\",Sheet1!B2652&\" \"&Sheet1!C2652)","v":""}]
[{"$f":"IF(Sheet1!B2653=\"\",\"\",Sheet1!B2653&\" \"&Sheet1!C2653)","v":""}]
[{"$f":"IF(Sheet1!B2654=\"\",\"\",Sheet1!B2654&\" \"&Sheet1!C2654)","v":""}]
[{"$f":"IF(Sheet1!B2655=\"\",\"\",Sheet1!B2655&\" \"&Sheet1!C2655)","v":""}]
[{"$f":"IF(Sheet1!B2656=\"\",\"\",Sheet1!B2656&\" \"&Sheet1!C2656)","v":""}]
[{"$f":"IF(Sheet1!B2657=\"\",\"\",Sheet1!B2657&\" \"&Sheet1!C2657)","v":""}]
[{"$f":"IF(Sheet1!B2658=\"\",\"\",Sheet1!B2658&\" \"&Sheet1!C2658)","v":""}]
[{"$f":"IF(Sheet1!B2659=\"\",\"\",Sheet1!B2659&\" \"&Sheet1!C2659)","v":""}]
[{"$f":"IF(Sheet1!B2660=\"\",\"\",Sheet1!B2660&\" \"&Sheet1!C2660)","v":""}]
[{"$f":"IF(Sheet1!B2661=\"\",\"\",Sheet1!B2661&\" \"&Sheet1!C2661)","v":""}]
[{"$f":"IF(Sheet1!B2662=\"\",\"\",Sheet1!B2662&\" \"&Sheet1!C2662)","v":""}]
[{"$f":"IF(Sheet1!B2663=\"\",\"\",Sheet1!B2663&\" \"&Sheet1!C2663)","v":""}]
[{"$f":"IF(Sheet1!B2664=\"\",\"\",Sheet1!B2664&\" \"&Sheet1!C2664)","v":""}]
[{"$f":"IF(Sheet1!B2665=\"\",\"\",Sheet1!B2665&\" \"&Sheet1!C2665)","v":""}]
[{"$f":"IF(Sheet1!B2666=\"\",\"\",Sheet1!B2666&\" \"&Sheet1!C2666)","v":""}]
[{"$f":"IF(Sheet1!B2667=\"\",\"\",Sheet1!B2667&\" \"&Sheet1!C2667)","v":""}]
[{"$f":"IF(Sheet1!B2668=\"\",\"\",Sheet1!B2668&\" \"&Sheet1!C2668)","v":""}]
[{"$f":"IF(Sheet1!B2669=\"\",\"\",Sheet1!B2669&\" \"&Sheet1!C2669)","v":""}]
[{"$f":"IF(Sheet1!B2670=\"\",\"\",Sheet1!B2670&\" \"&Sheet1!C2670)","v":""}]
[{"$f":"IF(Sheet1!B2671=\"\",\"\",Sheet1!B2671&\" \"&Sheet1!C2671)","v":""}]
[{"$f":"IF(Sheet1!B2672=\"\",\"\",Sheet1!B2672&\" \"&Sheet1!C2672)","v":""}]
[{"$f":"IF(Sheet1!B2673=\"\",\"\",Sheet1!B2673&\" \"&Sheet1!C2673)","v":""}]
[{"$f":"IF(Sheet1!B2674=\"\",\"\",Sheet1!B2674&\" \"&Sheet1!C2674)","v":""}]
[{"$f":"IF(Sheet1!B2675=\"\",\"\",Sheet1!B2675&\" \"&Sheet1!C2675)","v":""}]
[{"$f":"IF(Sheet1!B2676=\"\",\"\",Sheet1!B2676&\" \"&Sheet1!C2676)","v":""}]
[{"$f":"IF(Sheet1!B2677=\"\",\"\",Sheet1!B2677&\" \"&Sheet1!C2677)","v":""}]
[{"$f":"IF(Sheet1!B2678=\"\",\"\",Sheet1!B2678&\" \"&Sheet1!C2678)","v":""}]
[{"$f":"IF(Sheet1!B2679=\"\",\"\",Sheet1!B2679&\" \"&Sheet1!C2679)","v":""}]
[{"$f":"IF(Sheet1!B2680=\"\",\"\",Sheet1!B2680&\" \"&Sheet1!C2680)","v":""}]
[{"$f":"IF(Sheet1!B2681=\"\",\"\",Sheet1!B2681&\" \"&Sheet1!C2681)","v":""}]
[{"$f":"IF(Sheet1!B2682=\"\",\"\",Sheet1!B2682&\" \"&Sheet1!C2682)","v":""}]
[{"$f":"IF(Sheet1!B2683=\"\",\"\",Sheet1!B2683&\" \"&Sheet1!C2683)","v":""}]
[{"$f":"IF(Sheet1!B2684=\"\",\"\",Sheet1!B2684&\" \"&Sheet1!C2684)","v":""}]
[{"$f":"IF(Sheet1!B2685=\"\",\"\",Sheet1!B2685&\" \"&Sheet1!C2685)","v":""}]
[{"$f":"IF(Sheet1!B2686=\"\",\"\",Sheet1!B2686&\" \"&Sheet1!C2686)","v":""}]
[{"$f":"IF(Sheet1!B2687=\"\",\"\",Sheet1!B2687&\" \"&Sheet1!C2687)","v":""}]
[{"$f":"IF(Sheet1!B2688=\"\",\"\",Sheet1!B2688&\" \"&Sheet1!C2688)","v":""}]
[{"$f":"IF(Sheet1!B2689=\"\",\"\",Sheet1!B2689&\" \"&Sheet1!C2689)","v":""}]
[{"$f":"IF(Sheet1!B2690=\"\",\"\",Sheet1!B2690&\" \"&Sheet1!C2690)","v":""}]
[{"$f":"IF(Sheet1!B2691=\"\",\"\",Sheet1!B2691&\" \"&Sheet1!C2691)","v":""}]
[{"$f":"IF(Sheet1!B2692=\"\",\"\",Sheet1!B2692&\" \"&Sheet1!C2692)","v":""}]
[{"$f":"IF(Sheet1!B2693=\"\",\"\",Sheet1!B2693&\" \"&Sheet1!C2693)","v":""}]
[{"$f":"IF(Sheet1!B2694=\"\",\"\",Sheet1!B2694&\" \"&Sheet1!C2694)","v":""}]
[{"$f":"IF(Sheet1!B2695=\"\",\"\",Sheet1!B2695&\" \"&Sheet1!C2695)","v":""}]
[{"$f":"IF(Sheet1!B2696=\"\",\"\",Sheet1!B2696&\" \"&Sheet1!C2696)","v":""}]
[{"$f":"IF(Sheet1!B2697=\"\",\"\",Sheet1!B2697&\" \"&Sheet1!C2697)","v":""}]
[{"$f":"IF(Sheet1!B2698=\"\",\"\",Sheet1!B2698&\" \"&Sheet1!C2698)","v":""}]
[{"$f":"IF(Sheet1!B2699=\"\",\"\",Sheet1!B2699&\" \"&Sheet1!C2699)","v":""}]
[{"$f":"IF(Sheet1!B2700=\"\",\"\",Sheet1!B2700&\" \"&Sheet1!C2700)","v":""}]
[{"$f":"IF(Sheet1!B2701=\"\",\"\",Sheet1!B2701&\" \"&Sheet1!C2701)","v":""}]
[{"$f":"IF(Sheet1!B2702=\"\",\"\",Sheet1!B2702&\" \"&Sheet1!C2702)","v":""}]
[{"$f":"IF(Sheet1!B2703=\"\",\"\",Sheet1!B2703&\" \"&Sheet1!C2703)","v":""}]
[{"$f":"IF(Sheet1!B2704=\"\",\"\",Sheet1!B2704&\" \"&Sheet1!C2704)","v":""}]
[{"$f":"IF(Sheet1!B2705=\"\",\"\",Sheet1!B2705&\" \"&Sheet1!C2705)","v":""}]
[{"$f":"IF(Sheet1!B2706=\"\",\"\",Sheet1!B2706&\" \"&Sheet1!C2706)","v":""}]
[{"$f":"IF(Sheet1!B2707=\"\",\"\",Sheet1!B2707&\" \"&Sheet1!C2707)","v":""}]
[{"$f":"IF(Sheet1!B2708=\"\",\"\",Sheet1!B2708&\" \"&Sheet1!C2708)","v":""}]
[{"$f":"IF(Sheet1!B2709=\"\",\"\",Sheet1!B2709&\" \"&Sheet1!C2709)","v":""}]
[{"$f":"IF(Sheet1!B2710=\"\",\"\",Sheet1!B2710&\" \"&Sheet1!C2710)","v":""}]
[{"$f":"IF(Sheet1!B2711=\"\",\"\",Sheet1!B2711&\" \"&Sheet1!C2711)","v":""}]
[{"$f":"IF(Sheet1!B2712=\"\",\"\",Sheet1!B2712&\" \"&Sheet1!C2712)","v":""}]
[{"$f":"IF(Sheet1!B2713=\"\",\"\",Sheet1!B2713&\" \"&Sheet1!C2713)","v":""}]
[{"$f":"IF(Sheet1!B2714=\"\",\"\",Sheet1!B2714&\" \"&Sheet1!C2714)","v":""}]
[{"$f":"IF(Sheet1!B2715=\"\",\"\",Sheet1!B2715&\" \"&Sheet1!C2715)","v":""}]
[{"$f":"IF(Sheet1!B2716=\"\",\"\",Sheet1!B2716&\" \"&Sheet1!C2716)","v":""}]
[{"$f":"IF(Sheet1!B2717=\"\",\"\",Sheet1!B2717&\" \"&Sheet1!C2717)","v":""}]
[{"$f":"IF(Sheet1!B2718=\"\",\"\",Sheet1!B2718&\" \"&Sheet1!C2718)","v":""}]
[{"$f":"IF(Sheet1!B2719=\"\",\"\",Sheet1!B2719&\" \"&Sheet1!C2719)","v":""}]
[{"$f":"IF(Sheet1!B2720=\"\",\"\",Sheet1!B2720&\" \"&Sheet1!C2720)","v":""}]
[{"$f":"IF(Sheet1!B2721=\"\",\"\",Sheet1!B2721&\" \"&Sheet1!C2721)","v":""}]
[{"$f":"IF(Sheet1!B2722=\"\",\"\",Sheet1!B2722&\" \"&Sheet1!C2722)","v":""}]
[{"$f":"IF(Sheet1!B2723=\"\",\"\",Sheet1!B2723&\" \"&Sheet1!C2723)","v":""}]
[{"$f":"IF(Sheet1!B2724=\"\",\"\",Sheet1!B2724&\" \"&Sheet1!C2724)","v":""}]
[{"$f":"IF(Sheet1!B2725=\"\",\"\",Sheet1!B2725&\" \"&Sheet1!C2725)","v":""}]
[{"$f":"IF(Sheet1!B2726=\"\",\"\",Sheet1!B2726&\" \"&Sheet1!C2726)","v":""}]
[{"$f":"IF(Sheet1!B2727=\"\",\"\",Sheet1!B2727&\" \"&Sheet1!C2727)","v":""}]
[{"$f":"IF(Sheet1!B2728=\"\",\"\",Sheet1!B2728&\" \"&Sheet1!C2728)","v":""}]
[{"$f":"IF(Sheet1!B2729=\"\",\"\",Sheet1!B2729&\" \"&Sheet1!C2729)","v":""}]
[{"$f":"IF(Sheet1!B2730=\"\",\"\",Sheet1!B2730&\" \"&Sheet1!C2730)","v":""}]
[{"$f":"IF(Sheet1!B2731=\"\",\"\",Sheet1!B2731&\" \"&Sheet1!C2731)","v":""}]
[{"$f":"IF(Sheet1!B2732=\"\",\"\",Sheet1!B2732&\" \"&Sheet1!C2732)","v":""}]
[{"$f":"IF(Sheet1!B2733=\"\",\"\",Sheet1!B2733&\" \"&Sheet1!C2733)","v":""}]
[{"$f":"IF(Sheet1!B2734=\"\",\"\",Sheet1!B2734&\" \"&Sheet1!C2734)","v":""}]
[{"$f":"IF(Sheet1!B2735=\"\",\"\",Sheet1!B2735&\" \"&Sheet1!C2735)","v":""}]
[{"$f":"IF(Sheet1!B2736=\"\",\"\",Sheet1!B2736&\" \"&Sheet1!C2736)","v":""}]
[{"$f":"IF(Sheet1!B2737=\"\",\"\",Sheet1!B2737&\" \"&Sheet1!C2737)","v":""}]
[{"$f":"IF(Sheet1!B2738=\"\",\"\",Sheet1!B2738&\" \"&Sheet1!C2738)","v":""}]
[{"$f":"IF(Sheet1!B2739=\"\",\"\",Sheet1!B2739&\" \"&Sheet1!C2739)","v":""}]
[{"$f":"IF(Sheet1!B2740=\"\",\"\",Sheet1!B2740&\" \"&Sheet1!C2740)","v":""}]
[{"$f":"IF(Sheet1!B2741=\"\",\"\",Sheet1!B2741&\" \"&Sheet1!C2741)","v":""}]
[{"$f":"IF(Sheet1!B2742=\"\",\"\",Sheet1!B2742&\" \"&Sheet1!C2742)","v":""}]
[{"$f":"IF(Sheet1!B2743=\"\",\"\",Sheet1!B2743&\" \"&Sheet1!C2743)","v":""}]
[{"$f":"IF(Sheet1!B2744=\"\",\"\",Sheet1!B2744&\" \"&Sheet1!C2744)","v":""}]
[{"$f":"IF(Sheet1!B2745=\"\",\"\",Sheet1!B2745&\" \"&Sheet1!C2745)","v":""}]
[{"$f":"IF(Sheet1!B2746=\"\",\"\",Sheet1!B2746&\" \"&Sheet1!C2746)","v":""}]
[{"$f":"IF(Sheet1!B2747=\"\",\"\",Sheet1!B2747&\" \"&Sheet1!C2747)","v":""}]
[{"$f":"IF(Sheet1!B2748=\"\",\"\",Sheet1!B2748&\" \"&Sheet1!C2748)","v":""}]
[{"$f":"IF(Sheet1!B2749=\"\",\"\",Sheet1!B2749&\" \"&Sheet1!C2749)","v":""}]
[{"$f":"IF(Sheet1!B2750=\"\",\"\",Sheet1!B2750&\" \"&Sheet1!C2750)","v":""}]
[{"$f":"IF(Sheet1!B2751=\"\",\"\",Sheet1!B2751&\" \"&Sheet1!C2751)","v":""}]
[{"$f":"IF(Sheet1!B2752=\"\",\"\",Sheet1!B2752&\" \"&Sheet1!C2752)","v":""}]
[{"$f":"IF(Sheet1!B2753=\"\",\"\",Sheet1!B2753&\" \"&Sheet1!C2753)","v":""}]
[{"$f":"IF(Sheet1!B2754=\"\",\"\",Sheet1!B2754&\" \"&Sheet1!C2754)","v":""}]
[{"$f":"IF(Sheet1!B2755=\"\",\"\",Sheet1!B2755&\" \"&Sheet1!C2755)","v":""}]
[{"$f":"IF(Sheet1!B2756=\"\",\"\",Sheet1!B2756&\" \"&Sheet1!C2756)","v":""}]
[{"$f":"IF(Sheet1!B2757=\"\",\"\",Sheet1!B2757&\" \"&Sheet1!C2757)","v":""}]
[{"$f":"IF(Sheet1!B2758=\"\",\"\",Sheet1!B2758&\" \"&Sheet1!C2758)","v":""}]
[{"$f":"IF(Sheet1!B2759=\"\",\"\",Sheet1!B2759&\" \"&Sheet1!C2759)","v":""}]
[{"$f":"IF(Sheet1!B2760=\"\",\"\",Sheet1!B2760&\" \"&Sheet1!C2760)","v":""}]
[{"$f":"IF(Sheet1!B2761=\"\",\"\",Sheet1!B2761&\" \"&Sheet1!C2761)","v":""}]
[{"$f":"IF(Sheet1!B2762=\"\",\"\",Sheet1!B2762&\" \"&Sheet1!C2762)","v":""}]
[{"$f":"IF(Sheet1!B2763=\"\",\"\",Sheet1!B2763&\" \"&Sheet1!C2763)","v":""}]
[{"$f":"IF(Sheet1!B2764=\"\",\"\",Sheet1!B2764&\" \"&Sheet1!C2764)","v":""}]
[{"$f":"IF(Sheet1!B2765=\"\",\"\",Sheet1!B2765&\" \"&Sheet1!C2765)","v":""}]
[{"$f":"IF(Sheet1!B2766=\"\",\"\",Sheet1!B2766&\" \"&Sheet1!C2766)","v":""}]
[{"$f":"IF(Sheet1!B2767=\"\",\"\",Sheet1!B2767&\" \"&Sheet1!C2767)","v":""}]
[{"$f":"IF(Sheet1!B2768=\"\",\"\",Sheet1!B2768&\" \"&Sheet1!C2768)","v":""}]
[{"$f":"IF(Sheet1!B2769=\"\",\"\",Sheet1!B2769&\" \"&Sheet1!C2769)","v":""}]
[{"$f":"IF(Sheet1!B2770=\"\",\"\",Sheet1!B2770&\" \"&Sheet1!C2770)","v":""}]
[{"$f":"IF(Sheet1!B2771=\"\",\"\",Sheet1!B2771&\" \"&Sheet1!C2771)","v":""}]
[{"$f":"IF(Sheet1!B2772=\"\",\"\",Sheet1!B2772&\" \"&Sheet1!C2772)","v":""}]
[{"$f":"IF(Sheet1!B2773=\"\",\"\",Sheet1!B2773&\" \"&Sheet1!C2773)","v":""}]
[{"$f":"IF(Sheet1!B2774=\"\",\"\",Sheet1!B2774&\" \"&Sheet1!C2774)","v":""}]
[{"$f":"IF(Sheet1!B2775=\"\",\"\",Sheet1!B2775&\" \"&Sheet1!C2775)","v":""}]
[{"$f":"IF(Sheet1!B2776=\"\",\"\",Sheet1!B2776&\" \"&Sheet1!C2776)","v":""}]
[{"$f":"IF(Sheet1!B2777=\"\",\"\",Sheet1!B2777&\" \"&Sheet1!C2777)","v":""}]
[{"$f":"IF(Sheet1!B2778=\"\",\"\",Sheet1!B2778&\" \"&Sheet1!C2778)","v":""}]
[{"$f":"IF(Sheet1!B2779=\"\",\"\",Sheet1!B2779&\" \"&Sheet1!C2779)","v":""}]
[{"$f":"IF(Sheet1!B2780=\"\",\"\",Sheet1!B2780&\" \"&Sheet1!C2780)","v":""}]
[{"$f":"IF(Sheet1!B2781=\"\",\"\",Sheet1!B2781&\" \"&Sheet1!C2781)","v":""}]
[{"$f":"IF(Sheet1!B2782=\"\",\"\",Sheet1!B2782&\" \"&Sheet1!C2782)","v":""}]
[{"$f":"IF(Sheet1!B2783=\"\",\"\",Sheet1!B2783&\" \"&Sheet1!C2783)","v":""}]
[{"$f":"IF(Sheet1!B2784=\"\",\"\",Sheet1!B2784&\" \"&Sheet1!C2784)","v":""}]
[{"$f":"IF(Sheet1!B2785=\"\",\"\",Sheet1!B2785&\" \"&Sheet1!C2785)","v":""}]
[{"$f":"IF(Sheet1!B2786=\"\",\"\",Sheet1!B2786&\" \"&Sheet1!C2786)","v":""}]
[{"$f":"IF(Sheet1!B2787=\"\",\"\",Sheet1!B2787&\" \"&Sheet1!C2787)","v":""}]
[{"$f":"IF(Sheet1!B2788=\"\",\"\",Sheet1!B2788&\" \"&Sheet1!C2788)","v":""}]
[{"$f":"IF(Sheet1!B2789=\"\",\"\",Sheet1!B2789&\" \"&Sheet1!C2789)","v":""}]
[{"$f":"IF(Sheet1!B2790=\"\",\"\",Sheet1!B2790&\" \"&Sheet1!C2790)","v":""}]
[{"$f":"IF(Sheet1!B2791=\"\",\"\",Sheet1!B2791&\" \"&Sheet1!C2791)","v":""}]
[{"$f":"IF(Sheet1!B2792=\"\",\"\",Sheet1!B2792&\" \"&Sheet1!C2792)","v":""}]
[{"$f":"IF(Sheet1!B2793=\"\",\"\",Sheet1!B2793&\" \"&Sheet1!C2793)","v":""}]
[{"$f":"IF(Sheet1!B2794=\"\",\"\",Sheet1!B2794&\" \"&Sheet1!C2794)","v":""}]
[{"$f":"IF(Sheet1!B2795=\"\",\"\",Sheet1!B2795&\" \"&Sheet1!C2795)","v":""}]
[{"$f":"IF(Sheet1!B2796=\"\",\"\",Sheet1!B2796&\" \"&Sheet1!C2796)","v":""}]
[{"$f":"IF(Sheet1!B2797=\"\",\"\",Sheet1!B2797&\" \"&Sheet1!C2797)","v":""}]
[{"$f":"IF(Sheet1!B2798=\"\",\"\",Sheet1!B2798&\" \"&Sheet1!C2798)","v":""}]
[{"$f":"IF(Sheet1!B2799=\"\",\"\",Sheet1!B2799&\" \"&Sheet1!C2799)","v":""}]
[{"$f":"IF(Sheet1!B2800=\"\",\"\",Sheet1!B2800&\" \"&Sheet1!C2800)","v":""}]
[{"$f":"IF(Sheet1!B2801=\"\",\"\",Sheet1!B2801&\" \"&Sheet1!C2801)","v":""}]
[{"$f":"IF(Sheet1!B2802=\"\",\"\",Sheet1!B2802&\" \"&Sheet1!C2802)","v":""}]
[{"$f":"IF(Sheet1!B2803=\"\",\"\",Sheet1!B2803&\" \"&Sheet1!C2803)","v":""}]
[{"$f":"IF(Sheet1!B2804=\"\",\"\",Sheet1!B2804&\" \"&Sheet1!C2804)","v":""}]
[{"$f":"IF(Sheet1!B2805=\"\",\"\",Sheet1!B2805&\" \"&Sheet1!C2805)","v":""}]
[{"$f":"IF(Sheet1!B2806=\"\",\"\",Sheet1!B2806&\" \"&Sheet1!C2806)","v":""}]
[{"$f":"IF(Sheet1!B2807=\"\",\"\",Sheet1!B2807&\" \"&Sheet1!C2807)","v":""}]
[{"$f":"IF(Sheet1!B2808=\"\",\"\",Sheet1!B2808&\" \"&Sheet1!C2808)","v":""}]
[{"$f":"IF(Sheet1!B2809=\"\",\"\",Sheet1!B2809&\" \"&Sheet1!C2809)","v":""}]
[{"$f":"IF(Sheet1!B2810=\"\",\"\",Sheet1!B2810&\" \"&Sheet1!C2810)","v":""}]
[{"$f":"IF(Sheet1!B2811=\"\",\"\",Sheet1!B2811&\" \"&Sheet1!C2811)","v":""}]
[{"$f":"IF(Sheet1!B2812=\"\",\"\",Sheet1!B2812&\" \"&Sheet1!C2812)","v":""}]
[{"$f":"IF(Sheet1!B2813=\"\",\"\",Sheet1!B2813&\" \"&Sheet1!C2813)","v":""}]
[{"$f":"IF(Sheet1!B2814=\"\",\"\",Sheet1!B2814&\" \"&Sheet1!C2814)","v":""}]
[{"$f":"IF(Sheet1!B2815=\"\",\"\",Sheet1!B2815&\" \"&Sheet1!C2815)","v":""}]
[{"$f":"IF(Sheet1!B2816=\"\",\"\",Sheet1!B2816&\" \"&Sheet1!C2816)","v":""}]
[{"$f":"IF(Sheet1!B2817=\"\",\"\",Sheet1!B2817&\" \"&Sheet1!C2817)","v":""}]
[{"$f":"IF(Sheet1!B2818=\"\",\"\",Sheet1!B2818&\" \"&Sheet1!C2818)","v":""}]
[{"$f":"IF(Sheet1!B2819=\"\",\"\",Sheet1!B2819&\" \"&Sheet1!C2819)","v":""}]
[{"$f":"IF(Sheet1!B2820=\"\",\"\",Sheet1!B2820&\" \"&Sheet1!C2820)","v":""}]
[{"$f":"IF(Sheet1!B2821=\"\",\"\",Sheet1!B2821&\" \"&Sheet1!C2821)","v":""}]
[{"$f":"IF(Sheet1!B2822=\"\",\"\",Sheet1!B2822&\" \"&Sheet1!C2822)","v":""}]
[{"$f":"IF(Sheet1!B2823=\"\",\"\",Sheet1!B2823&\" \"&Sheet1!C2823)","v":""}]
[{"$f":"IF(Sheet1!B2824=\"\",\"\",Sheet1!B2824&\" \"&Sheet1!C2824)","v":""}]
[{"$f":"IF(Sheet1!B2825=\"\",\"\",Sheet1!B2825&\" \"&Sheet1!C2825)","v":""}]
[{"$f":"IF(Sheet1!B2826=\"\",\"\",Sheet1!B2826&\" \"&Sheet1!C2826)","v":""}]
[{"$f":"IF(Sheet1!B2827=\"\",\"\",Sheet1!B2827&\" \"&Sheet1!C2827)","v":""}]
[{"$f":"IF(Sheet1!B2828=\"\",\"\",Sheet1!B2828&\" \"&Sheet1!C2828)","v":""}]
[{"$f":"IF(Sheet1!B2829=\"\",\"\",Sheet1!B2829&\" \"&Sheet1!C2829)","v":""}]
[{"$f":"IF(Sheet1!B2830=\"\",\"\",Sheet1!B2830&\" \"&Sheet1!C2830)","v":""}]
[{"$f":"IF(Sheet1!B2831=\"\",\"\",Sheet1!B2831&\" \"&Sheet1!C2831)","v":""}]
[{"$f":"IF(Sheet1!B2832=\"\",\"\",Sheet1!B2832&\" \"&Sheet1!C2832)","v":""}]
[{"$f":"IF(Sheet1!B2833=\"\",\"\",Sheet1!B2833&\" \"&Sheet1!C2833)","v":""}]
[{"$f":"IF(Sheet1!B2834=\"\",\"\",Sheet1!B2834&\" \"&Sheet1!C2834)","v":""}]
[{"$f":"IF(Sheet1!B2835=\"\",\"\",Sheet1!B2835&\" \"&Sheet1!C2835)","v":""}]
[{"$f":"IF(Sheet1!B2836=\"\",\"\",Sheet1!B2836&\" \"&Sheet1!C2836)","v":""}]
[{"$f":"IF(Sheet1!B2837=\"\",\"\",Sheet1!B2837&\" \"&Sheet1!C2837)","v":""}]
[{"$f":"IF(Sheet1!B2838=\"\",\"\",Sheet1!B2838&\" \"&Sheet1!C2838)","v":""}]
[{"$f":"IF(Sheet1!B2839=\"\",\"\",Sheet1!B2839&\" \"&Sheet1!C2839)","v":""}]
[{"$f":"IF(Sheet1!B2840=\"\",\"\",Sheet1!B2840&\" \"&Sheet1!C2840)","v":""}]
[{"$f":"IF(Sheet1!B2841=\"\",\"\",Sheet1!B2841&\" \"&Sheet1!C2841)","v":""}]
[{"$f":"IF(Sheet1!B2842=\"\",\"\",Sheet1!B2842&\" \"&Sheet1!C2842)","v":""}]
[{"$f":"IF(Sheet1!B2843=\"\",\"\",Sheet1!B2843&\" \"&Sheet1!C2843)","v":""}]
[{"$f":"IF(Sheet1!B2844=\"\",\"\",Sheet1!B2844&\" \"&Sheet1!C2844)","v":""}]
[{"$f":"IF(Sheet1!B2845=\"\",\"\",Sheet1!B2845&\" \"&Sheet1!C2845)","v":""}]
[{"$f":"IF(Sheet1!B2846=\"\",\"\",Sheet1!B2846&\" \"&Sheet1!C2846)","v":""}]
[{"$f":"IF(Sheet1!B2847=\"\",\"\",Sheet1!B2847&\" \"&Sheet1!C2847)","v":""}]
[{"$f":"IF(Sheet1!B2848=\"\",\"\",Sheet1!B2848&\" \"&Sheet1!C2848)","v":""}]
[{"$f":"IF(Sheet1!B2849=\"\",\"\",Sheet1!B2849&\" \"&Sheet1!C2849)","v":""}]
[{"$f":"IF(Sheet1!B2850=\"\",\"\",Sheet1!B2850&\" \"&Sheet1!C2850)","v":""}]
[{"$f":"IF(Sheet1!B2851=\"\",\"\",Sheet1!B2851&\" \"&Sheet1!C2851)","v":""}]
[{"$f":"IF(Sheet1!B2852=\"\",\"\",Sheet1!B2852&\" \"&Sheet1!C2852)","v":""}]
[{"$f":"IF(Sheet1!B2853=\"\",\"\",Sheet1!B2853&\" \"&Sheet1!C2853)","v":""}]
[{"$f":"IF(Sheet1!B2854=\"\",\"\",Sheet1!B2854&\" \"&Sheet1!C2854)","v":""}]
[{"$f":"IF(Sheet1!B2855=\"\",\"\",Sheet1!B2855&\" \"&Sheet1!C2855)","v":""}]
[{"$f":"IF(Sheet1!B2856=\"\",\"\",Sheet1!B2856&\" \"&Sheet1!C2856)","v":""}]
[{"$f":"IF(Sheet1!B2857=\"\",\"\",Sheet1!B2857&\" \"&Sheet1!C2857)","v":""}]
[{"$f":"IF(Sheet1!B2858=\"\",\"\",Sheet1!B2858&\" \"&Sheet1!C2858)","v":""}]
[{"$f":"IF(Sheet1!B2859=\"\",\"\",Sheet1!B2859&\" \"&Sheet1!C2859)","v":""}]
[{"$f":"IF(Sheet1!B2860=\"\",\"\",Sheet1!B2860&\" \"&Sheet1!C2860)","v":""}]
[{"$f":"IF(Sheet1!B2861=\"\",\"\",Sheet1!B2861&\" \"&Sheet1!C2861)","v":""}]
[{"$f":"IF(Sheet1!B2862=\"\",\"\",Sheet1!B2862&\" \"&Sheet1!C2862)","v":""}]
[{"$f":"IF(Sheet1!B2863=\"\",\"\",Sheet1!B2863&\" \"&Sheet1!C2863)","v":""}]
[{"$f":"IF(Sheet1!B2864=\"\",\"\",Sheet1!B2864&\" \"&Sheet1!C2864)","v":""}]
[{"$f":"IF(Sheet1!B2865=\"\",\"\",Sheet1!B2865&\" \"&Sheet1!C2865)","v":""}]
[{"$f":"IF(Sheet1!B2866=\"\",\"\",Sheet1!B2866&\" \"&Sheet1!C2866)","v":""}]
[{"$f":"IF(Sheet1!B2867=\"\",\"\",Sheet1!B2867&\" \"&Sheet1!C2867)","v":""}]
[{"$f":"IF(Sheet1!B2868=\"\",\"\",Sheet1!B2868&\" \"&Sheet1!C2868)","v":""}]
[{"$f":"IF(Sheet1!B2869=\"\",\"\",Sheet1!B2869&\" \"&Sheet1!C2869)","v":""}]
[{"$f":"IF(Sheet1!B2870=\"\",\"\",Sheet1!B2870&\" \"&Sheet1!C2870)","v":""}]
[{"$f":"IF(Sheet1!B2871=\"\",\"\",Sheet1!B2871&\" \"&Sheet1!C2871)","v":""}]
[{"$f":"IF(Sheet1!B2872=\"\",\"\",Sheet1!B2872&\" \"&Sheet1!C2872)","v":""}]
[{"$f":"IF(Sheet1!B2873=\"\",\"\",Sheet1!B2873&\" \"&Sheet1!C2873)","v":""}]
[{"$f":"IF(Sheet1!B2874=\"\",\"\",Sheet1!B2874&\" \"&Sheet1!C2874)","v":""}]
[{"$f":"IF(Sheet1!B2875=\"\",\"\",Sheet1!B2875&\" \"&Sheet1!C2875)","v":""}]
[{"$f":"IF(Sheet1!B2876=\"\",\"\",Sheet1!B2876&\" \"&Sheet1!C2876)","v":""}]
[{"$f":"IF(Sheet1!B2877=\"\",\"\",Sheet1!B2877&\" \"&Sheet1!C2877)","v":""}]
[{"$f":"IF(Sheet1!B2878=\"\",\"\",Sheet1!B2878&\" \"&Sheet1!C2878)","v":""}]
[{"$f":"IF(Sheet1!B2879=\"\",\"\",Sheet1!B2879&\" \"&Sheet1!C2879)","v":""}]
[{"$f":"IF(Sheet1!B2880=\"\",\"\",Sheet1!B2880&\" \"&Sheet1!C2880)","v":""}]
[{"$f":"IF(Sheet1!B2881=\"\",\"\",Sheet1!B2881&\" \"&Sheet1!C2881)","v":""}]
[{"$f":"IF(Sheet1!B2882=\"\",\"\",Sheet1!B2882&\" \"&Sheet1!C2882)","v":""}]
[{"$f":"IF(Sheet1!B2883=\"\",\"\",Sheet1!B2883&\" \"&Sheet1!C2883)","v":""}]
[{"$f":"IF(Sheet1!B2884=\"\",\"\",Sheet1!B2884&\" \"&Sheet1!C2884)","v":""}]
[{"$f":"IF(Sheet1!B2885=\"\",\"\",Sheet1!B2885&\" \"&Sheet1!C2885)","v":""}]
[{"$f":"IF(Sheet1!B2886=\"\",\"\",Sheet1!B2886&\" \"&Sheet1!C2886)","v":""}]
[{"$f":"IF(Sheet1!B2887=\"\",\"\",Sheet1!B2887&\" \"&Sheet1!C2887)","v":""}]
[{"$f":"IF(Sheet1!B2888=\"\",\"\",Sheet1!B2888&\" \"&Sheet1!C2888)","v":""}]
[{"$f":"IF(Sheet1!B2889=\"\",\"\",Sheet1!B2889&\" \"&Sheet1!C2889)","v":""}]
[{"$f":"IF(Sheet1!B2890=\"\",\"\",Sheet1!B2890&\" \"&Sheet1!C2890)","v":""}]
[{"$f":"IF(Sheet1!B2891=\"\",\"\",Sheet1!B2891&\" \"&Sheet1!C2891)","v":""}]
[{"$f":"IF(Sheet1!B2892=\"\",\"\",Sheet1!B2892&\" \"&Sheet1!C2892)","v":""}]
[{"$f":"IF(Sheet1!B2893=\"\",\"\",Sheet1!B2893&\" \"&Sheet1!C2893)","v":""}]
[{"$f":"IF(Sheet1!B2894=\"\",\"\",Sheet1!B2894&\" \"&Sheet1!C2894)","v":""}]
[{"$f":"IF(Sheet1!B2895=\"\",\"\",Sheet1!B2895&\" \"&Sheet1!C2895)","v":""}]
[{"$f":"IF(Sheet1!B2896=\"\",\"\",Sheet1!B2896&\" \"&Sheet1!C2896)","v":""}]
[{"$f":"IF(Sheet1!B2897=\"\",\"\",Sheet1!B2897&\" \"&Sheet1!C2897)","v":""}]
[{"$f":"IF(Sheet1!B2898=\"\",\"\",Sheet1!B2898&\" \"&Sheet1!C2898)","v":""}]
[{"$f":"IF(Sheet1!B2899=\"\",\"\",Sheet1!B2899&\" \"&Sheet1!C2899)","v":""}]
[{"$f":"IF(Sheet1!B2900=\"\",\"\",Sheet1!B2900&\" \"&Sheet1!C2900)","v":""}]
[{"$f":"IF(Sheet1!B2901=\"\",\"\",Sheet1!B2901&\" \"&Sheet1!C2901)","v":""}]
[{"$f":"IF(Sheet1!B2902=\"\",\"\",Sheet1!B2902&\" \"&Sheet1!C2902)","v":""}]
[{"$f":"IF(Sheet1!B2903=\"\",\"\",Sheet1!B2903&\" \"&Sheet1!C2903)","v":""}]
[{"$f":"IF(Sheet1!B2904=\"\",\"\",Sheet1!B2904&\" \"&Sheet1!C2904)","v":""}]
[{"$f":"IF(Sheet1!B2905=\"\",\"\",Sheet1!B2905&\" \"&Sheet1!C2905)","v":""}]
[{"$f":"IF(Sheet1!B2906=\"\",\"\",Sheet1!B2906&\" \"&Sheet1!C2906)","v":""}]
[{"$f":"IF(Sheet1!B2907=\"\",\"\",Sheet1!B2907&\" \"&Sheet1!C2907)","v":""}]
[{"$f":"IF(Sheet1!B2908=\"\",\"\",Sheet1!B2908&\" \"&Sheet1!C2908)","v":""}]
[{"$f":"IF(Sheet1!B2909=\"\",\"\",Sheet1!B2909&\" \"&Sheet1!C2909)","v":""}]
[{"$f":"IF(Sheet1!B2910=\"\",\"\",Sheet1!B2910&\" \"&Sheet1!C2910)","v":""}]
[{"$f":"IF(Sheet1!B2911=\"\",\"\",Sheet1!B2911&\" \"&Sheet1!C2911)","v":""}]
[{"$f":"IF(Sheet1!B2912=\"\",\"\",Sheet1!B2912&\" \"&Sheet1!C2912)","v":""}]
[{"$f":"IF(Sheet1!B2913=\"\",\"\",Sheet1!B2913&\" \"&Sheet1!C2913)","v":""}]
[{"$f":"IF(Sheet1!B2914=\"\",\"\",Sheet1!B2914&\" \"&Sheet1!C2914)","v":""}]
[{"$f":"IF(Sheet1!B2915=\"\",\"\",Sheet1!B2915&\" \"&Sheet1!C2915)","v":""}]
[{"$f":"IF(Sheet1!B2916=\"\",\"\",Sheet1!B2916&\" \"&Sheet1!C2916)","v":""}]
[{"$f":"IF(Sheet1!B2917=\"\",\"\",Sheet1!B2917&\" \"&Sheet1!C2917)","v":""}]
[{"$f":"IF(Sheet1!B2918=\"\",\"\",Sheet1!B2918&\" \"&Sheet1!C2918)","v":""}]
[{"$f":"IF(Sheet1!B2919=\"\",\"\",Sheet1!B2919&\" \"&Sheet1!C2919)","v":""}]
[{"$f":"IF(Sheet1!B2920=\"\",\"\",Sheet1!B2920&\" \"&Sheet1!C2920)","v":""}]
[{"$f":"IF(Sheet1!B2921=\"\",\"\",Sheet1!B2921&\" \"&Sheet1!C2921)","v":""}]
[{"$f":"IF(Sheet1!B2922=\"\",\"\",Sheet1!B2922&\" \"&Sheet1!C2922)","v":""}]
[{"$f":"IF(Sheet1!B2923=\"\",\"\",Sheet1!B2923&\" \"&Sheet1!C2923)","v":""}]
[{"$f":"IF(Sheet1!B2924=\"\",\"\",Sheet1!B2924&\" \"&Sheet1!C2924)","v":""}]
[{"$f":"IF(Sheet1!B2925=\"\",\"\",Sheet1!B2925&\" \"&Sheet1!C2925)","v":""}]
[{"$f":"IF(Sheet1!B2926=\"\",\"\",Sheet1!B2926&\" \"&Sheet1!C2926)","v":""}]
[{"$f":"IF(Sheet1!B2927=\"\",\"\",Sheet1!B2927&\" \"&Sheet1!C2927)","v":""}]
[{"$f":"IF(Sheet1!B2928=\"\",\"\",Sheet1!B2928&\" \"&Sheet1!C2928)","v":""}]
[{"$f":"IF(Sheet1!B2929=\"\",\"\",Sheet1!B2929&\" \"&Sheet1!C2929)","v":""}]
[{"$f":"IF(Sheet1!B2930=\"\",\"\",Sheet1!B2930&\" \"&Sheet1!C2930)","v":""}]
[{"$f":"IF(Sheet1!B2931=\"\",\"\",Sheet1!B2931&\" \"&Sheet1!C2931)","v":""}]
[{"$f":"IF(Sheet1!B2932=\"\",\"\",Sheet1!B2932&\" \"&Sheet1!C2932)","v":""}]
[{"$f":"IF(Sheet1!B2933=\"\",\"\",Sheet1!B2933&\" \"&Sheet1!C2933)","v":""}]
[{"$f":"IF(Sheet1!B2934=\"\",\"\",Sheet1!B2934&\" \"&Sheet1!C2934)","v":""}]
[{"$f":"IF(Sheet1!B2935=\"\",\"\",Sheet1!B2935&\" \"&Sheet1!C2935)","v":""}]
[{"$f":"IF(Sheet1!B2936=\"\",\"\",Sheet1!B2936&\" \"&Sheet1!C2936)","v":""}]
[{"$f":"IF(Sheet1!B2937=\"\",\"\",Sheet1!B2937&\" \"&Sheet1!C2937)","v":""}]
[{"$f":"IF(Sheet1!B2938=\"\",\"\",Sheet1!B2938&\" \"&Sheet1!C2938)","v":""}]
[{"$f":"IF(Sheet1!B2939=\"\",\"\",Sheet1!B2939&\" \"&Sheet1!C2939)","v":""}]
[{"$f":"IF(Sheet1!B2940=\"\",\"\",Sheet1!B2940&\" \"&Sheet1!C2940)","v":""}]
[{"$f":"IF(Sheet1!B2941=\"\",\"\",Sheet1!B2941&\" \"&Sheet1!C2941)","v":""}]
[{"$f":"IF(Sheet1!B2942=\"\",\"\",Sheet1!B2942&\" \"&Sheet1!C2942)","v":""}]
[{"$f":"IF(Sheet1!B2943=\"\",\"\",Sheet1!B2943&\" \"&Sheet1!C2943)","v":""}]
[{"$f":"IF(Sheet1!B2944=\"\",\"\",Sheet1!B2944&\" \"&Sheet1!C2944)","v":""}]
[{"$f":"IF(Sheet1!B2945=\"\",\"\",Sheet1!B2945&\" \"&Sheet1!C2945)","v":""}]
[{"$f":"IF(Sheet1!B2946=\"\",\"\",Sheet1!B2946&\" \"&Sheet1!C2946)","v":""}]
[{"$f":"IF(Sheet1!B2947=\"\",\"\",Sheet1!B2947&\" \"&Sheet1!C2947)","v":""}]
[{"$f":"IF(Sheet1!B2948=\"\",\"\",Sheet1!B2948&\" \"&Sheet1!C2948)","v":""}]
[{"$f":"IF(Sheet1!B2949=\"\",\"\",Sheet1!B2949&\" \"&Sheet1!C2949)","v":""}]
[{"$f":"IF(Sheet1!B2950=\"\",\"\",Sheet1!B2950&\" \"&Sheet1!C2950)","v":""}]
[{"$f":"IF(Sheet1!B2951=\"\",\"\",Sheet1!B2951&\" \"&Sheet1!C2951)","v":""}]
[{"$f":"IF(Sheet1!B2952=\"\",\"\",Sheet1!B2952&\" \"&Sheet1!C2952)","v":""}]
[{"$f":"IF(Sheet1!B2953=\"\",\"\",Sheet1!B2953&\" \"&Sheet1!C2953)","v":""}]
[{"$f":"IF(Sheet1!B2954=\"\",\"\",Sheet1!B2954&\" \"&Sheet1!C2954)","v":""}]
[{"$f":"IF(Sheet1!B2955=\"\",\"\",Sheet1!B2955&\" \"&Sheet1!C2955)","v":""}]
[{"$f":"IF(Sheet1!B2956=\"\",\"\",Sheet1!B2956&\" \"&Sheet1!C2956)","v":""}]
[{"$f":"IF(Sheet1!B2957=\"\",\"\",Sheet1!B2957&\" \"&Sheet1!C2957)","v":""}]
[{"$f":"IF(Sheet1!B2958=\"\",\"\",Sheet1!B2958&\" \"&Sheet1!C2958)","v":""}]
[{"$f":"IF(Sheet1!B2959=\"\",\"\",Sheet1!B2959&\" \"&Sheet1!C2959)","v":""}]
[{"$f":"IF(Sheet1!B2960=\"\",\"\",Sheet1!B2960&\" \"&Sheet1!C2960)","v":""}]
[{"$f":"IF(Sheet1!B2961=\"\",\"\",Sheet1!B2961&\" \"&Sheet1!C2961)","v":""}]
[{"$f":"IF(Sheet1!B2962=\"\",\"\",Sheet1!B2962&\" \"&Sheet1!C2962)","v":""}]
[{"$f":"IF(Sheet1!B2963=\"\",\"\",Sheet1!B2963&\" \"&Sheet1!C2963)","v":""}]
[{"$f":"IF(Sheet1!B2964=\"\",\"\",Sheet1!B2964&\" \"&Sheet1!C2964)","v":""}]
[{"$f":"IF(Sheet1!B2965=\"\",\"\",Sheet1!B2965&\" \"&Sheet1!C2965)","v":""}]
[{"$f":"IF(Sheet1!B2966=\"\",\"\",Sheet1!B2966&\" \"&Sheet1!C2966)","v":""}]
[{"$f":"IF(Sheet1!B2967=\"\",\"\",Sheet1!B2967&\" \"&Sheet1!C2967)","v":""}]
[{"$f":"IF(Sheet1!B2968=\"\",\"\",Sheet1!B2968&\" \"&Sheet1!C2968)","v":""}]
[{"$f":"IF(Sheet1!B2969=\"\",\"\",Sheet1!B2969&\" \"&Sheet1!C2969)","v":""}]
[{"$f":"IF(Sheet1!B2970=\"\",\"\",Sheet1!B2970&\" \"&Sheet1!C2970)","v":""}]
[{"$f":"IF(Sheet1!B2971=\"\",\"\",Sheet1!B2971&\" \"&Sheet1!C2971)","v":""}]
[{"$f":"IF(Sheet1!B2972=\"\",\"\",Sheet1!B2972&\" \"&Sheet1!C2972)","v":""}]
[{"$f":"IF(Sheet1!B2973=\"\",\"\",Sheet1!B2973&\" \"&Sheet1!C2973)","v":""}]
[{"$f":"IF(Sheet1!B2974=\"\",\"\",Sheet1!B2974&\" \"&Sheet1!C2974)","v":""}]
[{"$f":"IF(Sheet1!B2975=\"\",\"\",Sheet1!B2975&\" \"&Sheet1!C2975)","v":""}]
[{"$f":"IF(Sheet1!B2976=\"\",\"\",Sheet1!B2976&\" \"&Sheet1!C2976)","v":""}]
[{"$f":"IF(Sheet1!B2977=\"\",\"\",Sheet1!B2977&\" \"&Sheet1!C2977)","v":""}]
[{"$f":"IF(Sheet1!B2978=\"\",\"\",Sheet1!B2978&\" \"&Sheet1!C2978)","v":""}]
[{"$f":"IF(Sheet1!B2979=\"\",\"\",Sheet1!B2979&\" \"&Sheet1!C2979)","v":""}]
[{"$f":"IF(Sheet1!B2980=\"\",\"\",Sheet1!B2980&\" \"&Sheet1!C2980)","v":""}]
[{"$f":"IF(Sheet1!B2981=\"\",\"\",Sheet1!B2981&\" \"&Sheet1!C2981)","v":""}]
[{"$f":"IF(Sheet1!B2982=\"\",\"\",Sheet1!B2982&\" \"&Sheet1!C2982)","v":""}]
[{"$f":"IF(Sheet1!B2983=\"\",\"\",Sheet1!B2983&\" \"&Sheet1!C2983)","v":""}]
[{"$f":"IF(Sheet1!B2984=\"\",\"\",Sheet1!B2984&\" \"&Sheet1!C2984)","v":""}]
[{"$f":"IF(Sheet1!B2985=\"\",\"\",Sheet1!B2985&\" \"&Sheet1!C2985)","v":""}]
[{"$f":"IF(Sheet1!B2986=\"\",\"\",Sheet1!B2986&\" \"&Sheet1!C2986)","v":""}]
[{"$f":"IF(Sheet1!B2987=\"\",\"\",Sheet1!B2987&\" \"&Sheet1!C2987)","v":""}]
[{"$f":"IF(Sheet1!B2988=\"\",\"\",Sheet1!B2988&\" \"&Sheet1!C2988)","v":""}]
[{"$f":"IF(Sheet1!B2989=\"\",\"\",Sheet1!B2989&\" \"&Sheet1!C2989)","v":""}]
[{"$f":"IF(Sheet1!B2990=\"\",\"\",Sheet1!B2990&\" \"&Sheet1!C2990)","v":""}]
[{"$f":"IF(Sheet1!B2991=\"\",\"\",Sheet1!B2991&\" \"&Sheet1!C2991)","v":""}]
[{"$f":"IF(Sheet1!B2992=\"\",\"\",Sheet1!B2992&\" \"&Sheet1!C2992)","v":""}]
[{"$f":"IF(Sheet1!B2993=\"\",\"\",Sheet1!B2993&\" \"&Sheet1!C2993)","v":""}]
[{"$f":"IF(Sheet1!B2994=\"\",\"\",Sheet1!B2994&\" \"&Sheet1!C2994)","v":""}]
[{"$f":"IF(Sheet1!B2995=\"\",\"\",Sheet1!B2995&\" \"&Sheet1!C2995)","v":""}]
[{"$f":"IF(Sheet1!B2996=\"\",\"\",Sheet1!B2996&\" \"&Sheet1!C2996)","v":""}]
[{"$f":"IF(Sheet1!B2997=\"\",\"\",Sheet1!B2997&\" \"&Sheet1!C2997)","v":""}]
[{"$f":"IF(Sheet1!B2998=\"\",\"\",Sheet1!B2998&\" \"&Sheet1!C2998)","v":""}]
[{"$f":"IF(Sheet1!B2999=\"\",\"\",Sheet1!B2999&\" \"&Sheet1!C2999)","v":""}]
[{"$f":"IF(Sheet1!B3000=\"\",\"\",Sheet1!B3000&\" \"&Sheet1!C3000)","v":""}]
[{"$f":"IF(Sheet1!B3001=\"\",\"\",Sheet1!B3001&\" \"&Sheet1!C3001)","v":""}]
[{"$f":"IF(Sheet1!B3002=\"\",\"\",Sheet1!B3002&\" \"&Sheet1!C3002)","v":""}]
[{"$f":"IF(Sheet1!B3003=\"\",\"\",Sheet1!B3003&\" \"&Sheet1!C3003)","v":""}]
[{"$f":"IF(Sheet1!B3004=\"\",\"\",Sheet1!B3004&\" \"&Sheet1!C3004)","v":""}]
[{"$f":"IF(Sheet1!B3005=\"\",\"\",Sheet1!B3005&\" \"&Sheet1!C3005)","v":""}]
[{"$f":"IF(Sheet1!B3006=\"\",\"\",Sheet1!B3006&\" \"&Sheet1!C3006)","v":""}]
[{"$f":"IF(Sheet1!B3007=\"\",\"\",Sheet1!B3007&\" \"&Sheet1!C3007)","v":""}]
[{"$f":"IF(Sheet1!B3008=\"\",\"\",Sheet1!B3008&\" \"&Sheet1!C3008)","v":""}]
[{"$f":"IF(Sheet1!B3009=\"\",\"\",Sheet1!B3009&\" \"&Sheet1!C3009)","v":""}]
[{"$f":"IF(Sheet1!B3010=\"\",\"\",Sheet1!B3010&\" \"&Sheet1!C3010)","v":""}]
[{"$f":"IF(Sheet1!B3011=\"\",\"\",Sheet1!B3011&\" \"&Sheet1!C3011)","v":""}]
[{"$f":"IF(Sheet1!B3012=\"\",\"\",Sheet1!B3012&\" \"&Sheet1!C3012)","v":""}]
[{"$f":"IF(Sheet1!B3013=\"\",\"\",Sheet1!B3013&\" \"&Sheet1!C3013)","v":""}]
[{"$f":"IF(Sheet1!B3014=\"\",\"\",Sheet1!B3014&\" \"&Sheet1!C3014)","v":""}]
[{"$f":"IF(Sheet1!B3015=\"\",\"\",Sheet1!B3015&\" \"&Sheet1!C3015)","v":""}]
[{"$f":"IF(Sheet1!B3016=\"\",\"\",Sheet1!B3016&\" \"&Sheet1!C3016)","v":""}]
[{"$f":"IF(Sheet1!B3017=\"\",\"\",Sheet1!B3017&\" \"&Sheet1!C3017)","v":""}]
[{"$f":"IF(Sheet1!B3018=\"\",\"\",Sheet1!B3018&\" \"&Sheet1!C3018)","v":""}]
[{"$f":"IF(Sheet1!B3019=\"\",\"\",Sheet1!B3019&\" \"&Sheet1!C3019)","v":""}]
[{"$f":"IF(Sheet1!B3020=\"\",\"\",Sheet1!B3020&\" \"&Sheet1!C3020)","v":""}]
[{"$f":"IF(Sheet1!B3021=\"\",\"\",Sheet1!B3021&\" \"&Sheet1!C3021)","v":""}]
[{"$f":"IF(Sheet1!B3022=\"\",\"\",Sheet1!B3022&\" \"&Sheet1!C3022)","v":""}]
[{"$f":"IF(Sheet1!B3023=\"\",\"\",Sheet1!B3023&\" \"&Sheet1!C3023)","v":""}]
[{"$f":"IF(Sheet1!B3024=\"\",\"\",Sheet1!B3024&\" \"&Sheet1!C3024)","v":""}]
[{"$f":"IF(Sheet1!B3025=\"\",\"\",Sheet1!B3025&\" \"&Sheet1!C3025)","v":""}]
[{"$f":"IF(Sheet1!B3026=\"\",\"\",Sheet1!B3026&\" \"&Sheet1!C3026)","v":""}]
[{"$f":"IF(Sheet1!B3027=\"\",\"\",Sheet1!B3027&\" \"&Sheet1!C3027)","v":""}]
[{"$f":"IF(Sheet1!B3028=\"\",\"\",Sheet1!B3028&\" \"&Sheet1!C3028)","v":""}]
[{"$f":"IF(Sheet1!B3029=\"\",\"\",Sheet1!B3029&\" \"&Sheet1!C3029)","v":""}]
[{"$f":"IF(Sheet1!B3030=\"\",\"\",Sheet1!B3030&\" \"&Sheet1!C3030)","v":""}]
[{"$f":"IF(Sheet1!B3031=\"\",\"\",Sheet1!B3031&\" \"&Sheet1!C3031)","v":""}]
[{"$f":"IF(Sheet1!B3032=\"\",\"\",Sheet1!B3032&\" \"&Sheet1!C3032)","v":""}]
[{"$f":"IF(Sheet1!B3033=\"\",\"\",Sheet1!B3033&\" \"&Sheet1!C3033)","v":""}]
[{"$f":"IF(Sheet1!B3034=\"\",\"\",Sheet1!B3034&\" \"&Sheet1!C3034)","v":""}]
[{"$f":"IF(Sheet1!B3035=\"\",\"\",Sheet1!B3035&\" \"&Sheet1!C3035)","v":""}]
[{"$f":"IF(Sheet1!B3036=\"\",\"\",Sheet1!B3036&\" \"&Sheet1!C3036)","v":""}]
[{"$f":"IF(Sheet1!B3037=\"\",\"\",Sheet1!B3037&\" \"&Sheet1!C3037)","v":""}]
[{"$f":"IF(Sheet1!B3038=\"\",\"\",Sheet1!B3038&\" \"&Sheet1!C3038)","v":""}]
[{"$f":"IF(Sheet1!B3039=\"\",\"\",Sheet1!B3039&\" \"&Sheet1!C3039)","v":""}]
[{"$f":"IF(Sheet1!B3040=\"\",\"\",Sheet1!B3040&\" \"&Sheet1!C3040)","v":""}]
[{"$f":"IF(Sheet1!B3041=\"\",\"\",Sheet1!B3041&\" \"&Sheet1!C3041)","v":""}]
[{"$f":"IF(Sheet1!B3042=\"\",\"\",Sheet1!B3042&\" \"&Sheet1!C3042)","v":""}]
[{"$f":"IF(Sheet1!B3043=\"\",\"\",Sheet1!B3043&\" \"&Sheet1!C3043)","v":""}]
[{"$f":"IF(Sheet1!B3044=\"\",\"\",Sheet1!B3044&\" \"&Sheet1!C3044)","v":""}]
[{"$f":"IF(Sheet1!B3045=\"\",\"\",Sheet1!B3045&\" \"&Sheet1!C3045)","v":""}]
[{"$f":"IF(Sheet1!B3046=\"\",\"\",Sheet1!B3046&\" \"&Sheet1!C3046)","v":""}]
[{"$f":"IF(Sheet1!B3047=\"\",\"\",Sheet1!B3047&\" \"&Sheet1!C3047)","v":""}]
[{"$f":"IF(Sheet1!B3048=\"\",\"\",Sheet1!B3048&\" \"&Sheet1!C3048)","v":""}]
[{"$f":"IF(Sheet1!B3049=\"\",\"\",Sheet1!B3049&\" \"&Sheet1!C3049)","v":""}]
[{"$f":"IF(Sheet1!B3050=\"\",\"\",Sheet1!B3050&\" \"&Sheet1!C3050)","v":""}]
[{"$f":"IF(Sheet1!B3051=\"\",\"\",Sheet1!B3051&\" \"&Sheet1!C3051)","v":""}]
[{"$f":"IF(Sheet1!B3052=\"\",\"\",Sheet1!B3052&\" \"&Sheet1!C3052)","v":""}]
[{"$f":"IF(Sheet1!B3053=\"\",\"\",Sheet1!B3053&\" \"&Sheet1!C3053)","v":""}]
[{"$f":"IF(Sheet1!B3054=\"\",\"\",Sheet1!B3054&\" \"&Sheet1!C3054)","v":""}]
[{"$f":"IF(Sheet1!B3055=\"\",\"\",Sheet1!B3055&\" \"&Sheet1!C3055)","v":""}]
[{"$f":"IF(Sheet1!B3056=\"\",\"\",Sheet1!B3056&\" \"&Sheet1!C3056)","v":""}]
[{"$f":"IF(Sheet1!B3057=\"\",\"\",Sheet1!B3057&\" \"&Sheet1!C3057)","v":""}]
[{"$f":"IF(Sheet1!B3058=\"\",\"\",Sheet1!B3058&\" \"&Sheet1!C3058)","v":""}]
[{"$f":"IF(Sheet1!B3059=\"\",\"\",Sheet1!B3059&\" \"&Sheet1!C3059)","v":""}]
[{"$f":"IF(Sheet1!B3060=\"\",\"\",Sheet1!B3060&\" \"&Sheet1!C3060)","v":""}]
[{"$f":"IF(Sheet1!B3061=\"\",\"\",Sheet1!B3061&\" \"&Sheet1!C3061)","v":""}]
[{"$f":"IF(Sheet1!B3062=\"\",\"\",Sheet1!B3062&\" \"&Sheet1!C3062)","v":""}]
[{"$f":"IF(Sheet1!B3063=\"\",\"\",Sheet1!B3063&\" \"&Sheet1!C3063)","v":""}]
[{"$f":"IF(Sheet1!B3064=\"\",\"\",Sheet1!B3064&\" \"&Sheet1!C3064)","v":""}]
[{"$f":"IF(Sheet1!B3065=\"\",\"\",Sheet1!B3065&\" \"&Sheet1!C3065)","v":""}]
[{"$f":"IF(Sheet1!B3066=\"\",\"\",Sheet1!B3066&\" \"&Sheet1!C3066)","v":""}]
[{"$f":"IF(Sheet1!B3067=\"\",\"\",Sheet1!B3067&\" \"&Sheet1!C3067)","v":""}]
[{"$f":"IF(Sheet1!B3068=\"\",\"\",Sheet1!B3068&\" \"&Sheet1!C3068)","v":""}]
[{"$f":"IF(Sheet1!B3069=\"\",\"\",Sheet1!B3069&\" \"&Sheet1!C3069)","v":""}]
[{"$f":"IF(Sheet1!B3070=\"\",\"\",Sheet1!B3070&\" \"&Sheet1!C3070)","v":""}]
[{"$f":"IF(Sheet1!B3071=\"\",\"\",Sheet1!B3071&\" \"&Sheet1!C3071)","v":""}]
[{"$f":"IF(Sheet1!B3072=\"\",\"\",Sheet1!B3072&\" \"&Sheet1!C3072)","v":""}]
[{"$f":"IF(Sheet1!B3073=\"\",\"\",Sheet1!B3073&\" \"&Sheet1!C3073)","v":""}]
[{"$f":"IF(Sheet1!B3074=\"\",\"\",Sheet1!B3074&\" \"&Sheet1!C3074)","v":""}]
[{"$f":"IF(Sheet1!B3075=\"\",\"\",Sheet1!B3075&\" \"&Sheet1!C3075)","v":""}]
[{"$f":"IF(Sheet1!B3076=\"\",\"\",Sheet1!B3076&\" \"&Sheet1!C3076)","v":""}]
[{"$f":"IF(Sheet1!B3077=\"\",\"\",Sheet1!B3077&\" \"&Sheet1!C3077)","v":""}]
[{"$f":"IF(Sheet1!B3078=\"\",\"\",Sheet1!B3078&\" \"&Sheet1!C3078)","v":""}]
[{"$f":"IF(Sheet1!B3079=\"\",\"\",Sheet1!B3079&\" \"&Sheet1!C3079)","v":""}]
[{"$f":"IF(Sheet1!B3080=\"\",\"\",Sheet1!B3080&\" \"&Sheet1!C3080)","v":""}]
[{"$f":"IF(Sheet1!B3081=\"\",\"\",Sheet1!B3081&\" \"&Sheet1!C3081)","v":""}]
[{"$f":"IF(Sheet1!B3082=\"\",\"\",Sheet1!B3082&\" \"&Sheet1!C3082)","v":""}]
[{"$f":"IF(Sheet1!B3083=\"\",\"\",Sheet1!B3083&\" \"&Sheet1!C3083)","v":""}]
[{"$f":"IF(Sheet1!B3084=\"\",\"\",Sheet1!B3084&\" \"&Sheet1!C3084)","v":""}]
[{"$f":"IF(Sheet1!B3085=\"\",\"\",Sheet1!B3085&\" \"&Sheet1!C3085)","v":""}]
[{"$f":"IF(Sheet1!B3086=\"\",\"\",Sheet1!B3086&\" \"&Sheet1!C3086)","v":""}]
[{"$f":"IF(Sheet1!B3087=\"\",\"\",Sheet1!B3087&\" \"&Sheet1!C3087)","v":""}]
[{"$f":"IF(Sheet1!B3088=\"\",\"\",Sheet1!B3088&\" \"&Sheet1!C3088)","v":""}]
[{"$f":"IF(Sheet1!B3089=\"\",\"\",Sheet1!B3089&\" \"&Sheet1!C3089)","v":""}]
[{"$f":"IF(Sheet1!B3090=\"\",\"\",Sheet1!B3090&\" \"&Sheet1!C3090)","v":""}]
[{"$f":"IF(Sheet1!B3091=\"\",\"\",Sheet1!B3091&\" \"&Sheet1!C3091)","v":""}]
[{"$f":"IF(Sheet1!B3092=\"\",\"\",Sheet1!B3092&\" \"&Sheet1!C3092)","v":""}]
[{"$f":"IF(Sheet1!B3093=\"\",\"\",Sheet1!B3093&\" \"&Sheet1!C3093)","v":""}]
[{"$f":"IF(Sheet1!B3094=\"\",\"\",Sheet1!B3094&\" \"&Sheet1!C3094)","v":""}]
[{"$f":"IF(Sheet1!B3095=\"\",\"\",Sheet1!B3095&\" \"&Sheet1!C3095)","v":""}]
[{"$f":"IF(Sheet1!B3096=\"\",\"\",Sheet1!B3096&\" \"&Sheet1!C3096)","v":""}]
[{"$f":"IF(Sheet1!B3097=\"\",\"\",Sheet1!B3097&\" \"&Sheet1!C3097)","v":""}]
[{"$f":"IF(Sheet1!B3098=\"\",\"\",Sheet1!B3098&\" \"&Sheet1!C3098)","v":""}]
[{"$f":"IF(Sheet1!B3099=\"\",\"\",Sheet1!B3099&\" \"&Sheet1!C3099)","v":""}]
[{"$f":"IF(Sheet1!B3100=\"\",\"\",Sheet1!B3100&\" \"&Sheet1!C3100)","v":""}]
[{"$f":"IF(Sheet1!B3101=\"\",\"\",Sheet1!B3101&\" \"&Sheet1!C3101)","v":""}]
[{"$f":"IF(Sheet1!B3102=\"\",\"\",Sheet1!B3102&\" \"&Sheet1!C3102)","v":""}]
[{"$f":"IF(Sheet1!B3103=\"\",\"\",Sheet1!B3103&\" \"&Sheet1!C3103)","v":""}]
[{"$f":"IF(Sheet1!B3104=\"\",\"\",Sheet1!B3104&\" \"&Sheet1!C3104)","v":""}]
[{"$f":"IF(Sheet1!B3105=\"\",\"\",Sheet1!B3105&\" \"&Sheet1!C3105)","v":""}]
[{"$f":"IF(Sheet1!B3106=\"\",\"\",Sheet1!B3106&\" \"&Sheet1!C3106)","v":""}]
[{"$f":"IF(Sheet1!B3107=\"\",\"\",Sheet1!B3107&\" \"&Sheet1!C3107)","v":""}]
[{"$f":"IF(Sheet1!B3108=\"\",\"\",Sheet1!B3108&\" \"&Sheet1!C3108)","v":""}]
[{"$f":"IF(Sheet1!B3109=\"\",\"\",Sheet1!B3109&\" \"&Sheet1!C3109)","v":""}]
[{"$f":"IF(Sheet1!B3110=\"\",\"\",Sheet1!B3110&\" \"&Sheet1!C3110)","v":""}]
[{"$f":"IF(Sheet1!B3111=\"\",\"\",Sheet1!B3111&\" \"&Sheet1!C3111)","v":""}]
[{"$f":"IF(Sheet1!B3112=\"\",\"\",Sheet1!B3112&\" \"&Sheet1!C3112)","v":""}]
[{"$f":"IF(Sheet1!B3113=\"\",\"\",Sheet1!B3113&\" \"&Sheet1!C3113)","v":""}]
[{"$f":"IF(Sheet1!B3114=\"\",\"\",Sheet1!B3114&\" \"&Sheet1!C3114)","v":""}]
[{"$f":"IF(Sheet1!B3115=\"\",\"\",Sheet1!B3115&\" \"&Sheet1!C3115)","v":""}]
[{"$f":"IF(Sheet1!B3116=\"\",\"\",Sheet1!B3116&\" \"&Sheet1!C3116)","v":""}]
[{"$f":"IF(Sheet1!B3117=\"\",\"\",Sheet1!B3117&\" \"&Sheet1!C3117)","v":""}]
[{"$f":"IF(Sheet1!B3118=\"\",\"\",Sheet1!B3118&\" \"&Sheet1!C3118)","v":""}]
[{"$f":"IF(Sheet1!B3119=\"\",\"\",Sheet1!B3119&\" \"&Sheet1!C3119)","v":""}]
[{"$f":"IF(Sheet1!B3120=\"\",\"\",Sheet1!B3120&\" \"&Sheet1!C3120)","v":""}]
[{"$f":"IF(Sheet1!B3121=\"\",\"\",Sheet1!B3121&\" \"&Sheet1!C3121)","v":""}]
[{"$f":"IF(Sheet1!B3122=\"\",\"\",Sheet1!B3122&\" \"&Sheet1!C3122)","v":""}]
[{"$f":"IF(Sheet1!B3123=\"\",\"\",Sheet1!B3123&\" \"&Sheet1!C3123)","v":""}]
[{"$f":"IF(Sheet1!B3124=\"\",\"\",Sheet1!B3124&\" \"&Sheet1!C3124)","v":""}]
[{"$f":"IF(Sheet1!B3125=\"\",\"\",Sheet1!B3125&\" \"&Sheet1!C3125)","v":""}]
[{"$f":"IF(Sheet1!B3126=\"\",\"\",Sheet1!B3126&\" \"&Sheet1!C3126)","v":""}]
[{"$f":"IF(Sheet1!B3127=\"\",\"\",Sheet1!B3127&\" \"&Sheet1!C3127)","v":""}]
[{"$f":"IF(Sheet1!B3128=\"\",\"\",Sheet1!B3128&\" \"&Sheet1!C3128)","v":""}]
[{"$f":"IF(Sheet1!B3129=\"\",\"\",Sheet1!B3129&\" \"&Sheet1!C3129)","v":""}]
[{"$f":"IF(Sheet1!B3130=\"\",\"\",Sheet1!B3130&\" \"&Sheet1!C3130)","v":""}]
[{"$f":"IF(Sheet1!B3131=\"\",\"\",Sheet1!B3131&\" \"&Sheet1!C3131)","v":""}]
[{"$f":"IF(Sheet1!B3132=\"\",\"\",Sheet1!B3132&\" \"&Sheet1!C3132)","v":""}]
[{"$f":"IF(Sheet1!B3133=\"\",\"\",Sheet1!B3133&\" \"&Sheet1!C3133)","v":""}]
[{"$f":"IF(Sheet1!B3134=\"\",\"\",Sheet1!B3134&\" \"&Sheet1!C3134)","v":""}]
[{"$f":"IF(Sheet1!B3135=\"\",\"\",Sheet1!B3135&\" \"&Sheet1!C3135)","v":""}]
[{"$f":"IF(Sheet1!B3136=\"\",\"\",Sheet1!B3136&\" \"&Sheet1!C3136)","v":""}]
[{"$f":"IF(Sheet1!B3137=\"\",\"\",Sheet1!B3137&\" \"&Sheet1!C3137)","v":""}]
[{"$f":"IF(Sheet1!B3138=\"\",\"\",Sheet1!B3138&\" \"&Sheet1!C3138)","v":""}]
[{"$f":"IF(Sheet1!B3139=\"\",\"\",Sheet1!B3139&\" \"&Sheet1!C3139)","v":""}]
[{"$f":"IF(Sheet1!B3140=\"\",\"\",Sheet1!B3140&\" \"&Sheet1!C3140)","v":""}]
[{"$f":"IF(Sheet1!B3141=\"\",\"\",Sheet1!B3141&\" \"&Sheet1!C3141)","v":""}]
[{"$f":"IF(Sheet1!B3142=\"\",\"\",Sheet1!B3142&\" \"&Sheet1!C3142)","v":""}]
[{"$f":"IF(Sheet1!B3143=\"\",\"\",Sheet1!B3143&\" \"&Sheet1!C3143)","v":""}]
[{"$f":"IF(Sheet1!B3144=\"\",\"\",Sheet1!B3144&\" \"&Sheet1!C3144)","v":""}]
[{"$f":"IF(Sheet1!B3145=\"\",\"\",Sheet1!B3145&\" \"&Sheet1!C3145)","v":""}]
[{"$f":"IF(Sheet1!B3146=\"\",\"\",Sheet1!B3146&\" \"&Sheet1!C3146)","v":""}]
[{"$f":"IF(Sheet1!B3147=\"\",\"\",Sheet1!B3147&\" \"&Sheet1!C3147)","v":""}]
[{"$f":"IF(Sheet1!B3148=\"\",\"\",Sheet1!B3148&\" \"&Sheet1!C3148)","v":""}]
[{"$f":"IF(Sheet1!B3149=\"\",\"\",Sheet1!B3149&\" \"&Sheet1!C3149)","v":""}]
[{"$f":"IF(Sheet1!B3150=\"\",\"\",Sheet1!B3150&\" \"&Sheet1!C3150)","v":""}]
[{"$f":"IF(Sheet1!B3151=\"\",\"\",Sheet1!B3151&\" \"&Sheet1!C3151)","v":""}]
[{"$f":"IF(Sheet1!B3152=\"\",\"\",Sheet1!B3152&\" \"&Sheet1!C3152)","v":""}]
[{"$f":"IF(Sheet1!B3153=\"\",\"\",Sheet1!B3153&\" \"&Sheet1!C3153)","v":""}]
[{"$f":"IF(Sheet1!B3154=\"\",\"\",Sheet1!B3154&\" \"&Sheet1!C3154)","v":""}]
[{"$f":"IF(Sheet1!B3155=\"\",\"\",Sheet1!B3155&\" \"&Sheet1!C3155)","v":""}]
[{"$f":"IF(Sheet1!B3156=\"\",\"\",Sheet1!B3156&\" \"&Sheet1!C3156)","v":""}]
[{"$f":"IF(Sheet1!B3157=\"\",\"\",Sheet1!B3157&\" \"&Sheet1!C3157)","v":""}]
[{"$f":"IF(Sheet1!B3158=\"\",\"\",Sheet1!B3158&\" \"&Sheet1!C3158)","v":""}]
[{"$f":"IF(Sheet1!B3159=\"\",\"\",Sheet1!B3159&\" \"&Sheet1!C3159)","v":""}]
[{"$f":"IF(Sheet1!B3160=\"\",\"\",Sheet1!B3160&\" \"&Sheet1!C3160)","v":""}]
[{"$f":"IF(Sheet1!B3161=\"\",\"\",Sheet1!B3161&\" \"&Sheet1!C3161)","v":""}]
[{"$f":"IF(Sheet1!B3162=\"\",\"\",Sheet1!B3162&\" \"&Sheet1!C3162)","v":""}]
[{"$f":"IF(Sheet1!B3163=\"\",\"\",Sheet1!B3163&\" \"&Sheet1!C3163)","v":""}]
[{"$f":"IF(Sheet1!B3164=\"\",\"\",Sheet1!B3164&\" \"&Sheet1!C3164)","v":""}]
[{"$f":"IF(Sheet1!B3165=\"\",\"\",Sheet1!B3165&\" \"&Sheet1!C3165)","v":""}]
[{"$f":"IF(Sheet1!B3166=\"\",\"\",Sheet1!B3166&\" \"&Sheet1!C3166)","v":""}]
[{"$f":"IF(Sheet1!B3167=\"\",\"\",Sheet1!B3167&\" \"&Sheet1!C3167)","v":""}]
[{"$f":"IF(Sheet1!B3168=\"\",\"\",Sheet1!B3168&\" \"&Sheet1!C3168)","v":""}]
[{"$f":"IF(Sheet1!B3169=\"\",\"\",Sheet1!B3169&\" \"&Sheet1!C3169)","v":""}]
[{"$f":"IF(Sheet1!B3170=\"\",\"\",Sheet1!B3170&\" \"&Sheet1!C3170)","v":""}]
[{"$f":"IF(Sheet1!B3171=\"\",\"\",Sheet1!B3171&\" \"&Sheet1!C3171)","v":""}]
[{"$f":"IF(Sheet1!B3172=\"\",\"\",Sheet1!B3172&\" \"&Sheet1!C3172)","v":""}]
[{"$f":"IF(Sheet1!B3173=\"\",\"\",Sheet1!B3173&\" \"&Sheet1!C3173)","v":""}]
[{"$f":"IF(Sheet1!B3174=\"\",\"\",Sheet1!B3174&\" \"&Sheet1!C3174)","v":""}]
[{"$f":"IF(Sheet1!B3175=\"\",\"\",Sheet1!B3175&\" \"&Sheet1!C3175)","v":""}]
[{"$f":"IF(Sheet1!B3176=\"\",\"\",Sheet1!B3176&\" \"&Sheet1!C3176)","v":""}]
[{"$f":"IF(Sheet1!B3177=\"\",\"\",Sheet1!B3177&\" \"&Sheet1!C3177)","v":""}]
[{"$f":"IF(Sheet1!B3178=\"\",\"\",Sheet1!B3178&\" \"&Sheet1!C3178)","v":""}]
[{"$f":"IF(Sheet1!B3179=\"\",\"\",Sheet1!B3179&\" \"&Sheet1!C3179)","v":""}]
[{"$f":"IF(Sheet1!B3180=\"\",\"\",Sheet1!B3180&\" \"&Sheet1!C3180)","v":""}]
[{"$f":"IF(Sheet1!B3181=\"\",\"\",Sheet1!B3181&\" \"&Sheet1!C3181)","v":""}]
[{"$f":"IF(Sheet1!B3182=\"\",\"\",Sheet1!B3182&\" \"&Sheet1!C3182)","v":""}]
[{"$f":"IF(Sheet1!B3183=\"\",\"\",Sheet1!B3183&\" \"&Sheet1!C3183)","v":""}]
[{"$f":"IF(Sheet1!B3184=\"\",\"\",Sheet1!B3184&\" \"&Sheet1!C3184)","v":""}]
[{"$f":"IF(Sheet1!B3185=\"\",\"\",Sheet1!B3185&\" \"&Sheet1!C3185)","v":""}]
[{"$f":"IF(Sheet1!B3186=\"\",\"\",Sheet1!B3186&\" \"&Sheet1!C3186)","v":""}]
[{"$f":"IF(Sheet1!B3187=\"\",\"\",Sheet1!B3187&\" \"&Sheet1!C3187)","v":""}]
[{"$f":"IF(Sheet1!B3188=\"\",\"\",Sheet1!B3188&\" \"&Sheet1!C3188)","v":""}]
[{"$f":"IF(Sheet1!B3189=\"\",\"\",Sheet1!B3189&\" \"&Sheet1!C3189)","v":""}]
[{"$f":"IF(Sheet1!B3190=\"\",\"\",Sheet1!B3190&\" \"&Sheet1!C3190)","v":""}]
[{"$f":"IF(Sheet1!B3191=\"\",\"\",Sheet1!B3191&\" \"&Sheet1!C3191)","v":""}]
[{"$f":"IF(Sheet1!B3192=\"\",\"\",Sheet1!B3192&\" \"&Sheet1!C3192)","v":""}]
[{"$f":"IF(Sheet1!B3193=\"\",\"\",Sheet1!B3193&\" \"&Sheet1!C3193)","v":""}]
[{"$f":"IF(Sheet1!B3194=\"\",\"\",Sheet1!B3194&\" \"&Sheet1!C3194)","v":""}]
[{"$f":"IF(Sheet1!B3195=\"\",\"\",Sheet1!B3195&\" \"&Sheet1!C3195)","v":""}]
[{"$f":"IF(Sheet1!B3196=\"\",\"\",Sheet1!B3196&\" \"&Sheet1!C3196)","v":""}]
[{"$f":"IF(Sheet1!B3197=\"\",\"\",Sheet1!B3197&\" \"&Sheet1!C3197)","v":""}]
[{"$f":"IF(Sheet1!B3198=\"\",\"\",Sheet1!B3198&\" \"&Sheet1!C3198)","v":""}]
[{"$f":"IF(Sheet1!B3199=\"\",\"\",Sheet1!B3199&\" \"&Sheet1!C3199)","v":""}]
[{"$f":"IF(Sheet1!B3200=\"\",\"\",Sheet1!B3200&\" \"&Sheet1!C3200)","v":""}]
[{"$f":"IF(Sheet1!B3201=\"\",\"\",Sheet1!B3201&\" \"&Sheet1!C3201)","v":""}]
[{"$f":"IF(Sheet1!B3202=\"\",\"\",Sheet1!B3202&\" \"&Sheet1!C3202)","v":""}]
[{"$f":"IF(Sheet1!B3203=\"\",\"\",Sheet1!B3203&\" \"&Sheet1!C3203)","v":""}]
[{"$f":"IF(Sheet1!B3204=\"\",\"\",Sheet1!B3204&\" \"&Sheet1!C3204)","v":""}]
[{"$f":"IF(Sheet1!B3205=\"\",\"\",Sheet1!B3205&\" \"&Sheet1!C3205)","v":""}]
[{"$f":"IF(Sheet1!B3206=\"\",\"\",Sheet1!B3206&\" \"&Sheet1!C3206)","v":""}]
[{"$f":"IF(Sheet1!B3207=\"\",\"\",Sheet1!B3207&\" \"&Sheet1!C3207)","v":""}]
[{"$f":"IF(Sheet1!B3208=\"\",\"\",Sheet1!B3208&\" \"&Sheet1!C3208)","v":""}]
[{"$f":"IF(Sheet1!B3209=\"\",\"\",Sheet1!B3209&\" \"&Sheet1!C3209)","v":""}]
[{"$f":"IF(Sheet1!B3210=\"\",\"\",Sheet1!B3210&\" \"&Sheet1!C3210)","v":""}]
[{"$f":"IF(Sheet1!B3211=\"\",\"\",Sheet1!B3211&\" \"&Sheet1!C3211)","v":""}]
[{"$f":"IF(Sheet1!B3212=\"\",\"\",Sheet1!B3212&\" \"&Sheet1!C3212)","v":""}]
[{"$f":"IF(Sheet1!B3213=\"\",\"\",Sheet1!B3213&\" \"&Sheet1!C3213)","v":""}]
[{"$f":"IF(Sheet1!B3214=\"\",\"\",Sheet1!B3214&\" \"&Sheet1!C3214)","v":""}]
[{"$f":"IF(Sheet1!B3215=\"\",\"\",Sheet1!B3215&\" \"&Sheet1!C3215)","v":""}]
[{"$f":"IF(Sheet1!B3216=\"\",\"\",Sheet1!B3216&\" \"&Sheet1!C3216)","v":""}]
[{"$f":"IF(Sheet1!B3217=\"\",\"\",Sheet1!B3217&\" \"&Sheet1!C3217)","v":""}]
[{"$f":"IF(Sheet1!B3218=\"\",\"\",Sheet1!B3218&\" \"&Sheet1!C3218)","v":""}]
[{"$f":"IF(Sheet1!B3219=\"\",\"\",Sheet1!B3219&\" \"&Sheet1!C3219)","v":""}]
[{"$f":"IF(Sheet1!B3220=\"\",\"\",Sheet1!B3220&\" \"&Sheet1!C3220)","v":""}]
[{"$f":"IF(Sheet1!B3221=\"\",\"\",Sheet1!B3221&\" \"&Sheet1!C3221)","v":""}]
[{"$f":"IF(Sheet1!B3222=\"\",\"\",Sheet1!B3222&\" \"&Sheet1!C3222)","v":""}]
[{"$f":"IF(Sheet1!B3223=\"\",\"\",Sheet1!B3223&\" \"&Sheet1!C3223)","v":""}]
[{"$f":"IF(Sheet1!B3224=\"\",\"\",Sheet1!B3224&\" \"&Sheet1!C3224)","v":""}]
[{"$f":"IF(Sheet1!B3225=\"\",\"\",Sheet1!B3225&\" \"&Sheet1!C3225)","v":""}]
[{"$f":"IF(Sheet1!B3226=\"\",\"\",Sheet1!B3226&\" \"&Sheet1!C3226)","v":""}]
[{"$f":"IF(Sheet1!B3227=\"\",\"\",Sheet1!B3227&\" \"&Sheet1!C3227)","v":""}]
[{"$f":"IF(Sheet1!B3228=\"\",\"\",Sheet1!B3228&\" \"&Sheet1!C3228)","v":""}]
[{"$f":"IF(Sheet1!B3229=\"\",\"\",Sheet1!B3229&\" \"&Sheet1!C3229)","v":""}]
[{"$f":"IF(Sheet1!B3230=\"\",\"\",Sheet1!B3230&\" \"&Sheet1!C3230)","v":""}]
[{"$f":"IF(Sheet1!B3231=\"\",\"\",Sheet1!B3231&\" \"&Sheet1!C3231)","v":""}]
[{"$f":"IF(Sheet1!B3232=\"\",\"\",Sheet1!B3232&\" \"&Sheet1!C3232)","v":""}]
[{"$f":"IF(Sheet1!B3233=\"\",\"\",Sheet1!B3233&\" \"&Sheet1!C3233)","v":""}]
[{"$f":"IF(Sheet1!B3234=\"\",\"\",Sheet1!B3234&\" \"&Sheet1!C3234)","v":""}]
[{"$f":"IF(Sheet1!B3235=\"\",\"\",Sheet1!B3235&\" \"&Sheet1!C3235)","v":""}]
[{"$f":"IF(Sheet1!B3236=\"\",\"\",Sheet1!B3236&\" \"&Sheet1!C3236)","v":""}]
[{"$f":"IF(Sheet1!B3237=\"\",\"\",Sheet1!B3237&\" \"&Sheet1!C3237)","v":""}]
[{"$f":"IF(Sheet1!B3238=\"\",\"\",Sheet1!B3238&\" \"&Sheet1!C3238)","v":""}]
[{"$f":"IF(Sheet1!B3239=\"\",\"\",Sheet1!B3239&\" \"&Sheet1!C3239)","v":""}]
[{"$f":"IF(Sheet1!B3240=\"\",\"\",Sheet1!B3240&\" \"&Sheet1!C3240)","v":""}]
[{"$f":"IF(Sheet1!B3241=\"\",\"\",Sheet1!B3241&\" \"&Sheet1!C3241)","v":""}]
[{"$f":"IF(Sheet1!B3242=\"\",\"\",Sheet1!B3242&\" \"&Sheet1!C3242)","v":""}]
[{"$f":"IF(Sheet1!B3243=\"\",\"\",Sheet1!B3243&\" \"&Sheet1!C3243)","v":""}]
[{"$f":"IF(Sheet1!B3244=\"\",\"\",Sheet1!B3244&\" \"&Sheet1!C3244)","v":""}]
[{"$f":"IF(Sheet1!B3245=\"\",\"\",Sheet1!B3245&\" \"&Sheet1!C3245)","v":""}]
[{"$f":"IF(Sheet1!B3246=\"\",\"\",Sheet1!B3246&\" \"&Sheet1!C3246)","v":""}]
[{"$f":"IF(Sheet1!B3247=\"\",\"\",Sheet1!B3247&\" \"&Sheet1!C3247)","v":""}]
[{"$f":"IF(Sheet1!B3248=\"\",\"\",Sheet1!B3248&\" \"&Sheet1!C3248)","v":""}]
[{"$f":"IF(Sheet1!B3249=\"\",\"\",Sheet1!B3249&\" \"&Sheet1!C3249)","v":""}]
[{"$f":"IF(Sheet1!B3250=\"\",\"\",Sheet1!B3250&\" \"&Sheet1!C3250)","v":""}]
[{"$f":"IF(Sheet1!B3251=\"\",\"\",Sheet1!B3251&\" \"&Sheet1!C3251)","v":""}]
[{"$f":"IF(Sheet1!B3252=\"\",\"\",Sheet1!B3252&\" \"&Sheet1!C3252)","v":""}]
[{"$f":"IF(Sheet1!B3253=\"\",\"\",Sheet1!B3253&\" \"&Sheet1!C3253)","v":""}]
[{"$f":"IF(Sheet1!B3254=\"\",\"\",Sheet1!B3254&\" \"&Sheet1!C3254)","v":""}]
[{"$f":"IF(Sheet1!B3255=\"\",\"\",Sheet1!B3255&\" \"&Sheet1!C3255)","v":""}]
[{"$f":"IF(Sheet1!B3256=\"\",\"\",Sheet1!B3256&\" \"&Sheet1!C3256)","v":""}]
[{"$f":"IF(Sheet1!B3257=\"\",\"\",Sheet1!B3257&\" \"&Sheet1!C3257)","v":""}]
[{"$f":"IF(Sheet1!B3258=\"\",\"\",Sheet1!B3258&\" \"&Sheet1!C3258)","v":""}]
[{"$f":"IF(Sheet1!B3259=\"\",\"\",Sheet1!B3259&\" \"&Sheet1!C3259)","v":""}]
[{"$f":"IF(Sheet1!B3260=\"\",\"\",Sheet1!B3260&\" \"&Sheet1!C3260)","v":""}]
[{"$f":"IF(Sheet1!B3261=\"\",\"\",Sheet1!B3261&\" \"&Sheet1!C3261)","v":""}]
[{"$f":"IF(Sheet1!B3262=\"\",\"\",Sheet1!B3262&\" \"&Sheet1!C3262)","v":""}]
[{"$f":"IF(Sheet1!B3263=\"\",\"\",Sheet1!B3263&\" \"&Sheet1!C3263)","v":""}]
[{"$f":"IF(Sheet1!B3264=\"\",\"\",Sheet1!B3264&\" \"&Sheet1!C3264)","v":""}]
[{"$f":"IF(Sheet1!B3265=\"\",\"\",Sheet1!B3265&\" \"&Sheet1!C3265)","v":""}]
[{"$f":"IF(Sheet1!B3266=\"\",\"\",Sheet1!B3266&\" \"&Sheet1!C3266)","v":""}]
[{"$f":"IF(Sheet1!B3267=\"\",\"\",Sheet1!B3267&\" \"&Sheet1!C3267)","v":""}]
[{"$f":"IF(Sheet1!B3268=\"\",\"\",Sheet1!B3268&\" \"&Sheet1!C3268)","v":""}]
[{"$f":"IF(Sheet1!B3269=\"\",\"\",Sheet1!B3269&\" \"&Sheet1!C3269)","v":""}]
[{"$f":"IF(Sheet1!B3270=\"\",\"\",Sheet1!B3270&\" \"&Sheet1!C3270)","v":""}]
[{"$f":"IF(Sheet1!B3271=\"\",\"\",Sheet1!B3271&\" \"&Sheet1!C3271)","v":""}]
[{"$f":"IF(Sheet1!B3272=\"\",\"\",Sheet1!B3272&\" \"&Sheet1!C3272)","v":""}]
[{"$f":"IF(Sheet1!B3273=\"\",\"\",Sheet1!B3273&\" \"&Sheet1!C3273)","v":""}]
[{"$f":"IF(Sheet1!B3274=\"\",\"\",Sheet1!B3274&\" \"&Sheet1!C3274)","v":""}]
[{"$f":"IF(Sheet1!B3275=\"\",\"\",Sheet1!B3275&\" \"&Sheet1!C3275)","v":""}]
[{"$f":"IF(Sheet1!B3276=\"\",\"\",Sheet1!B3276&\" \"&Sheet1!C3276)","v":""}]
[{"$f":"IF(Sheet1!B3277=\"\",\"\",Sheet1!B3277&\" \"&Sheet1!C3277)","v":""}]
[{"$f":"IF(Sheet1!B3278=\"\",\"\",Sheet1!B3278&\" \"&Sheet1!C3278)","v":""}]
[{"$f":"IF(Sheet1!B3279=\"\",\"\",Sheet1!B3279&\" \"&Sheet1!C3279)","v":""}]
[{"$f":"IF(Sheet1!B3280=\"\",\"\",Sheet1!B3280&\" \"&Sheet1!C3280)","v":""}]
[{"$f":"IF(Sheet1!B3281=\"\",\"\",Sheet1!B3281&\" \"&Sheet1!C3281)","v":""}]
[{"$f":"IF(Sheet1!B3282=\"\",\"\",Sheet1!B3282&\" \"&Sheet1!C3282)","v":""}]
[{"$f":"IF(Sheet1!B3283=\"\",\"\",Sheet1!B3283&\" \"&Sheet1!C3283)","v":""}]
[{"$f":"IF(Sheet1!B3284=\"\",\"\",Sheet1!B3284&\" \"&Sheet1!C3284)","v":""}]
[{"$f":"IF(Sheet1!B3285=\"\",\"\",Sheet1!B3285&\" \"&Sheet1!C3285)","v":""}]
[{"$f":"IF(Sheet1!B3286=\"\",\"\",Sheet1!B3286&\" \"&Sheet1!C3286)","v":""}]
[{"$f":"IF(Sheet1!B3287=\"\",\"\",Sheet1!B3287&\" \"&Sheet1!C3287)","v":""}]
[{"$f":"IF(Sheet1!B3288=\"\",\"\",Sheet1!B3288&\" \"&Sheet1!C3288)","v":""}]
[{"$f":"IF(Sheet1!B3289=\"\",\"\",Sheet1!B3289&\" \"&Sheet1!C3289)","v":""}]
[{"$f":"IF(Sheet1!B3290=\"\",\"\",Sheet1!B3290&\" \"&Sheet1!C3290)","v":""}]
[{"$f":"IF(Sheet1!B3291=\"\",\"\",Sheet1!B3291&\" \"&Sheet1!C3291)","v":""}]
[{"$f":"IF(Sheet1!B3292=\"\",\"\",Sheet1!B3292&\" \"&Sheet1!C3292)","v":""}]
[{"$f":"IF(Sheet1!B3293=\"\",\"\",Sheet1!B3293&\" \"&Sheet1!C3293)","v":""}]
[{"$f":"IF(Sheet1!B3294=\"\",\"\",Sheet1!B3294&\" \"&Sheet1!C3294)","v":""}]
[{"$f":"IF(Sheet1!B3295=\"\",\"\",Sheet1!B3295&\" \"&Sheet1!C3295)","v":""}]
[{"$f":"IF(Sheet1!B3296=\"\",\"\",Sheet1!B3296&\" \"&Sheet1!C3296)","v":""}]
[{"$f":"IF(Sheet1!B3297=\"\",\"\",Sheet1!B3297&\" \"&Sheet1!C3297)","v":""}]
[{"$f":"IF(Sheet1!B3298=\"\",\"\",Sheet1!B3298&\" \"&Sheet1!C3298)","v":""}]
[{"$f":"IF(Sheet1!B3299=\"\",\"\",Sheet1!B3299&\" \"&Sheet1!C3299)","v":""}]
[{"$f":"IF(Sheet1!B3300=\"\",\"\",Sheet1!B3300&\" \"&Sheet1!C3300)","v":""}]
[{"$f":"IF(Sheet1!B3301=\"\",\"\",Sheet1!B3301&\" \"&Sheet1!C3301)","v":""}]
[{"$f":"IF(Sheet1!B3302=\"\",\"\",Sheet1!B3302&\" \"&Sheet1!C3302)","v":""}]
[{"$f":"IF(Sheet1!B3303=\"\",\"\",Sheet1!B3303&\" \"&Sheet1!C3303)","v":""}]
[{"$f":"IF(Sheet1!B3304=\"\",\"\",Sheet1!B3304&\" \"&Sheet1!C3304)","v":""}]
[{"$f":"IF(Sheet1!B3305=\"\",\"\",Sheet1!B3305&\" \"&Sheet1!C3305)","v":""}]
[{"$f":"IF(Sheet1!B3306=\"\",\"\",Sheet1!B3306&\" \"&Sheet1!C3306)","v":""}]
[{"$f":"IF(Sheet1!B3307=\"\",\"\",Sheet1!B3307&\" \"&Sheet1!C3307)","v":""}]
[{"$f":"IF(Sheet1!B3308=\"\",\"\",Sheet1!B3308&\" \"&Sheet1!C3308)","v":""}]
[{"$f":"IF(Sheet1!B3309=\"\",\"\",Sheet1!B3309&\" \"&Sheet1!C3309)","v":""}]
[{"$f":"IF(Sheet1!B3310=\"\",\"\",Sheet1!B3310&\" \"&Sheet1!C3310)","v":""}]
[{"$f":"IF(Sheet1!B3311=\"\",\"\",Sheet1!B3311&\" \"&Sheet1!C3311)","v":""}]
[{"$f":"IF(Sheet1!B3312=\"\",\"\",Sheet1!B3312&\" \"&Sheet1!C3312)","v":""}]
[{"$f":"IF(Sheet1!B3313=\"\",\"\",Sheet1!B3313&\" \"&Sheet1!C3313)","v":""}]
[{"$f":"IF(Sheet1!B3314=\"\",\"\",Sheet1!B3314&\" \"&Sheet1!C3314)","v":""}]
[{"$f":"IF(Sheet1!B3315=\"\",\"\",Sheet1!B3315&\" \"&Sheet1!C3315)","v":""}]
[{"$f":"IF(Sheet1!B3316=\"\",\"\",Sheet1!B3316&\" \"&Sheet1!C3316)","v":""}]
[{"$f":"IF(Sheet1!B3317=\"\",\"\",Sheet1!B3317&\" \"&Sheet1!C3317)","v":""}]
[{"$f":"IF(Sheet1!B3318=\"\",\"\",Sheet1!B3318&\" \"&Sheet1!C3318)","v":""}]
[{"$f":"IF(Sheet1!B3319=\"\",\"\",Sheet1!B3319&\" \"&Sheet1!C3319)","v":""}]
[{"$f":"IF(Sheet1!B3320=\"\",\"\",Sheet1!B3320&\" \"&Sheet1!C3320)","v":""}]
[{"$f":"IF(Sheet1!B3321=\"\",\"\",Sheet1!B3321&\" \"&Sheet1!C3321)","v":""}]
[{"$f":"IF(Sheet1!B3322=\"\",\"\",Sheet1!B3322&\" \"&Sheet1!C3322)","v":""}]
[{"$f":"IF(Sheet1!B3323=\"\",\"\",Sheet1!B3323&\" \"&Sheet1!C3323)","v":""}]
[{"$f":"IF(Sheet1!B3324=\"\",\"\",Sheet1!B3324&\" \"&Sheet1!C3324)","v":""}]
[{"$f":"IF(Sheet1!B3325=\"\",\"\",Sheet1!B3325&\" \"&Sheet1!C3325)","v":""}]
[{"$f":"IF(Sheet1!B3326=\"\",\"\",Sheet1!B3326&\" \"&Sheet1!C3326)","v":""}]
[{"$f":"IF(Sheet1!B3327=\"\",\"\",Sheet1!B3327&\" \"&Sheet1!C3327)","v":""}]
[{"$f":"IF(Sheet1!B3328=\"\",\"\",Sheet1!B3328&\" \"&Sheet1!C3328)","v":""}]
[{"$f":"IF(Sheet1!B3329=\"\",\"\",Sheet1!B3329&\" \"&Sheet1!C3329)","v":""}]
[{"$f":"IF(Sheet1!B3330=\"\",\"\",Sheet1!B3330&\" \"&Sheet1!C3330)","v":""}]
[{"$f":"IF(Sheet1!B3331=\"\",\"\",Sheet1!B3331&\" \"&Sheet1!C3331)","v":""}]
[{"$f":"IF(Sheet1!B3332=\"\",\"\",Sheet1!B3332&\" \"&Sheet1!C3332)","v":""}]
[{"$f":"IF(Sheet1!B3333=\"\",\"\",Sheet1!B3333&\" \"&Sheet1!C3333)","v":""}]
[{"$f":"IF(Sheet1!B3334=\"\",\"\",Sheet1!B3334&\" \"&Sheet1!C3334)","v":""}]
[{"$f":"IF(Sheet1!B3335=\"\",\"\",Sheet1!B3335&\" \"&Sheet1!C3335)","v":""}]
[{"$f":"IF(Sheet1!B3336=\"\",\"\",Sheet1!B3336&\" \"&Sheet1!C3336)","v":""}]
[{"$f":"IF(Sheet1!B3337=\"\",\"\",Sheet1!B3337&\" \"&Sheet1!C3337)","v":""}]
[{"$f":"IF(Sheet1!B3338=\"\",\"\",Sheet1!B3338&\" \"&Sheet1!C3338)","v":""}]
[{"$f":"IF(Sheet1!B3339=\"\",\"\",Sheet1!B3339&\" \"&Sheet1!C3339)","v":""}]
[{"$f":"IF(Sheet1!B3340=\"\",\"\",Sheet1!B3340&\" \"&Sheet1!C3340)","v":""}]
[{"$f":"IF(Sheet1!B3341=\"\",\"\",Sheet1!B3341&\" \"&Sheet1!C3341)","v":""}]
[{"$f":"IF(Sheet1!B3342=\"\",\"\",Sheet1!B3342&\" \"&Sheet1!C3342)","v":""}]
[{"$f":"IF(Sheet1!B3343=\"\",\"\",Sheet1!B3343&\" \"&Sheet1!C3343)","v":""}]
[{"$f":"IF(Sheet1!B3344=\"\",\"\",Sheet1!B3344&\" \"&Sheet1!C3344)","v":""}]
[{"$f":"IF(Sheet1!B3345=\"\",\"\",Sheet1!B3345&\" \"&Sheet1!C3345)","v":""}]
[{"$f":"IF(Sheet1!B3346=\"\",\"\",Sheet1!B3346&\" \"&Sheet1!C3346)","v":""}]
[{"$f":"IF(Sheet1!B3347=\"\",\"\",Sheet1!B3347&\" \"&Sheet1!C3347)","v":""}]
[{"$f":"IF(Sheet1!B3348=\"\",\"\",Sheet1!B3348&\" \"&Sheet1!C3348)","v":""}]
[{"$f":"IF(Sheet1!B3349=\"\",\"\",Sheet1!B3349&\" \"&Sheet1!C3349)","v":""}]
[{"$f":"IF(Sheet1!B3350=\"\",\"\",Sheet1!B3350&\" \"&Sheet1!C3350)","v":""}]
[{"$f":"IF(Sheet1!B3351=\"\",\"\",Sheet1!B3351&\" \"&Sheet1!C3351)","v":""}]
[{"$f":"IF(Sheet1!B3352=\"\",\"\",Sheet1!B3352&\" \"&Sheet1!C3352)","v":""}]
[{"$f":"IF(Sheet1!B3353=\"\",\"\",Sheet1!B3353&\" \"&Sheet1!C3353)","v":""}]
[{"$f":"IF(Sheet1!B3354=\"\",\"\",Sheet1!B3354&\" \"&Sheet1!C3354)","v":""}]
[{"$f":"IF(Sheet1!B3355=\"\",\"\",Sheet1!B3355&\" \"&Sheet1!C3355)","v":""}]
[{"$f":"IF(Sheet1!B3356=\"\",\"\",Sheet1!B3356&\" \"&Sheet1!C3356)","v":""}]
[{"$f":"IF(Sheet1!B3357=\"\",\"\",Sheet1!B3357&\" \"&Sheet1!C3357)","v":""}]
[{"$f":"IF(Sheet1!B3358=\"\",\"\",Sheet1!B3358&\" \"&Sheet1!C3358)","v":""}]
[{"$f":"IF(Sheet1!B3359=\"\",\"\",Sheet1!B3359&\" \"&Sheet1!C3359)","v":""}]
[{"$f":"IF(Sheet1!B3360=\"\",\"\",Sheet1!B3360&\" \"&Sheet1!C3360)","v":""}]
[{"$f":"IF(Sheet1!B3361=\"\",\"\",Sheet1!B3361&\" \"&Sheet1!C3361)","v":""}]
[{"$f":"IF(Sheet1!B3362=\"\",\"\",Sheet1!B3362&\" \"&Sheet1!C3362)","v":""}]
[{"$f":"IF(Sheet1!B3363=\"\",\"\",Sheet1!B3363&\" \"&Sheet1!C3363)","v":""}]
[{"$f":"IF(Sheet1!B3364=\"\",\"\",Sheet1!B3364&\" \"&Sheet1!C3364)","v":""}]
[{"$f":"IF(Sheet1!B3365=\"\",\"\",Sheet1!B3365&\" \"&Sheet1!C3365)","v":""}]
[{"$f":"IF(Sheet1!B3366=\"\",\"\",Sheet1!B3366&\" \"&Sheet1!C3366)","v":""}]
[{"$f":"IF(Sheet1!B3367=\"\",\"\",Sheet1!B3367&\" \"&Sheet1!C3367)","v":""}]
[{"$f":"IF(Sheet1!B3368=\"\",\"\",Sheet1!B3368&\" \"&Sheet1!C3368)","v":""}]
[{"$f":"IF(Sheet1!B3369=\"\",\"\",Sheet1!B3369&\" \"&Sheet1!C3369)","v":""}]
[{"$f":"IF(Sheet1!B3370=\"\",\"\",Sheet1!B3370&\" \"&Sheet1!C3370)","v":""}]
[{"$f":"IF(Sheet1!B3371=\"\",\"\",Sheet1!B3371&\" \"&Sheet1!C3371)","v":""}]
[{"$f":"IF(Sheet1!B3372=\"\",\"\",Sheet1!B3372&\" \"&Sheet1!C3372)","v":""}]
[{"$f":"IF(Sheet1!B3373=\"\",\"\",Sheet1!B3373&\" \"&Sheet1!C3373)","v":""}]
[{"$f":"IF(Sheet1!B3374=\"\",\"\",Sheet1!B3374&\" \"&Sheet1!C3374)","v":""}]
[{"$f":"IF(Sheet1!B3375=\"\",\"\",Sheet1!B3375&\" \"&Sheet1!C3375)","v":""}]
[{"$f":"IF(Sheet1!B3376=\"\",\"\",Sheet1!B3376&\" \"&Sheet1!C3376)","v":""}]
[{"$f":"IF(Sheet1!B3377=\"\",\"\",Sheet1!B3377&\" \"&Sheet1!C3377)","v":""}]
[{"$f":"IF(Sheet1!B3378=\"\",\"\",Sheet1!B3378&\" \"&Sheet1!C3378)","v":""}]
[{"$f":"IF(Sheet1!B3379=\"\",\"\",Sheet1!B3379&\" \"&Sheet1!C3379)","v":""}]
[{"$f":"IF(Sheet1!B3380=\"\",\"\",Sheet1!B3380&\" \"&Sheet1!C3380)","v":""}]
[{"$f":"IF(Sheet1!B3381=\"\",\"\",Sheet1!B3381&\" \"&Sheet1!C3381)","v":""}]
[{"$f":"IF(Sheet1!B3382=\"\",\"\",Sheet1!B3382&\" \"&Sheet1!C3382)","v":""}]
[{"$f":"IF(Sheet1!B3383=\"\",\"\",Sheet1!B3383&\" \"&Sheet1!C3383)","v":""}]
[{"$f":"IF(Sheet1!B3384=\"\",\"\",Sheet1!B3384&\" \"&Sheet1!C3384)","v":""}]
[{"$f":"IF(Sheet1!B3385=\"\",\"\",Sheet1!B3385&\" \"&Sheet1!C3385)","v":""}]
[{"$f":"IF(Sheet1!B3386=\"\",\"\",Sheet1!B3386&\" \"&Sheet1!C3386)","v":""}]
[{"$f":"IF(Sheet1!B3387=\"\",\"\",Sheet1!B3387&\" \"&Sheet1!C3387)","v":""}]
[{"$f":"IF(Sheet1!B3388=\"\",\"\",Sheet1!B3388&\" \"&Sheet1!C3388)","v":""}]
[{"$f":"IF(Sheet1!B3389=\"\",\"\",Sheet1!B3389&\" \"&Sheet1!C3389)","v":""}]
[{"$f":"IF(Sheet1!B3390=\"\",\"\",Sheet1!B3390&\" \"&Sheet1!C3390)","v":""}]
[{"$f":"IF(Sheet1!B3391=\"\",\"\",Sheet1!B3391&\" \"&Sheet1!C3391)","v":""}]
[{"$f":"IF(Sheet1!B3392=\"\",\"\",Sheet1!B3392&\" \"&Sheet1!C3392)","v":""}]
[{"$f":"IF(Sheet1!B3393=\"\",\"\",Sheet1!B3393&\" \"&Sheet1!C3393)","v":""}]
[{"$f":"IF(Sheet1!B3394=\"\",\"\",Sheet1!B3394&\" \"&Sheet1!C3394)","v":""}]
[{"$f":"IF(Sheet1!B3395=\"\",\"\",Sheet1!B3395&\" \"&Sheet1!C3395)","v":""}]
[{"$f":"IF(Sheet1!B3396=\"\",\"\",Sheet1!B3396&\" \"&Sheet1!C3396)","v":""}]
[{"$f":"IF(Sheet1!B3397=\"\",\"\",Sheet1!B3397&\" \"&Sheet1!C3397)","v":""}]
[{"$f":"IF(Sheet1!B3398=\"\",\"\",Sheet1!B3398&\" \"&Sheet1!C3398)","v":""}]
[{"$f":"IF(Sheet1!B3399=\"\",\"\",Sheet1!B3399&\" \"&Sheet1!C3399)","v":""}]
[{"$f":"IF(Sheet1!B3400=\"\",\"\",Sheet1!B3400&\" \"&Sheet1!C3400)","v":""}]
[{"$f":"IF(Sheet1!B3401=\"\",\"\",Sheet1!B3401&\" \"&Sheet1!C3401)","v":""}]
[{"$f":"IF(Sheet1!B3402=\"\",\"\",Sheet1!B3402&\" \"&Sheet1!C3402)","v":""}]
[{"$f":"IF(Sheet1!B3403=\"\",\"\",Sheet1!B3403&\" \"&Sheet1!C3403)","v":""}]
[{"$f":"IF(Sheet1!B3404=\"\",\"\",Sheet1!B3404&\" \"&Sheet1!C3404)","v":""}]
[{"$f":"IF(Sheet1!B3405=\"\",\"\",Sheet1!B3405&\" \"&Sheet1!C3405)","v":""}]
[{"$f":"IF(Sheet1!B3406=\"\",\"\",Sheet1!B3406&\" \"&Sheet1!C3406)","v":""}]
[{"$f":"IF(Sheet1!B3407=\"\",\"\",Sheet1!B3407&\" \"&Sheet1!C3407)","v":""}]
[{"$f":"IF(Sheet1!B3408=\"\",\"\",Sheet1!B3408&\" \"&Sheet1!C3408)","v":""}]
[{"$f":"IF(Sheet1!B3409=\"\",\"\",Sheet1!B3409&\" \"&Sheet1!C3409)","v":""}]
[{"$f":"IF(Sheet1!B3410=\"\",\"\",Sheet1!B3410&\" \"&Sheet1!C3410)","v":""}]
[{"$f":"IF(Sheet1!B3411=\"\",\"\",Sheet1!B3411&\" \"&Sheet1!C3411)","v":""}]
[{"$f":"IF(Sheet1!B3412=\"\",\"\",Sheet1!B3412&\" \"&Sheet1!C3412)","v":""}]
[{"$f":"IF(Sheet1!B3413=\"\",\"\",Sheet1!B3413&\" \"&Sheet1!C3413)","v":""}]
[{"$f":"IF(Sheet1!B3414=\"\",\"\",Sheet1!B3414&\" \"&Sheet1!C3414)","v":""}]
[{"$f":"IF(Sheet1!B3415=\"\",\"\",Sheet1!B3415&\" \"&Sheet1!C3415)","v":""}]
[{"$f":"IF(Sheet1!B3416=\"\",\"\",Sheet1!B3416&\" \"&Sheet1!C3416)","v":""}]
[{"$f":"IF(Sheet1!B3417=\"\",\"\",Sheet1!B3417&\" \"&Sheet1!C3417)","v":""}]
[{"$f":"IF(Sheet1!B3418=\"\",\"\",Sheet1!B3418&\" \"&Sheet1!C3418)","v":""}]
[{"$f":"IF(Sheet1!B3419=\"\",\"\",Sheet1!B3419&\" \"&Sheet1!C3419)","v":""}]
[{"$f":"IF(Sheet1!B3420=\"\",\"\",Sheet1!B3420&\" \"&Sheet1!C3420)","v":""}]
[{"$f":"IF(Sheet1!B3421=\"\",\"\",Sheet1!B3421&\" \"&Sheet1!C3421)","v":""}]
[{"$f":"IF(Sheet1!B3422=\"\",\"\",Sheet1!B3422&\" \"&Sheet1!C3422)","v":""}]
[{"$f":"IF(Sheet1!B3423=\"\",\"\",Sheet1!B3423&\" \"&Sheet1!C3423)","v":""}]
[{"$f":"IF(Sheet1!B3424=\"\",\"\",Sheet1!B3424&\" \"&Sheet1!C3424)","v":""}]
[{"$f":"IF(Sheet1!B3425=\"\",\"\",Sheet1!B3425&\" \"&Sheet1!C3425)","v":""}]
[{"$f":"IF(Sheet1!B3426=\"\",\"\",Sheet1!B3426&\" \"&Sheet1!C3426)","v":""}]
[{"$f":"IF(Sheet1!B3427=\"\",\"\",Sheet1!B3427&\" \"&Sheet1!C3427)","v":""}]
[{"$f":"IF(Sheet1!B3428=\"\",\"\",Sheet1!B3428&\" \"&Sheet1!C3428)","v":""}]
[{"$f":"IF(Sheet1!B3429=\"\",\"\",Sheet1!B3429&\" \"&Sheet1!C3429)","v":""}]
[{"$f":"IF(Sheet1!B3430=\"\",\"\",Sheet1!B3430&\" \"&Sheet1!C3430)","v":""}]
[{"$f":"IF(Sheet1!B3431=\"\",\"\",Sheet1!B3431&\" \"&Sheet1!C3431)","v":""}]
[{"$f":"IF(Sheet1!B3432=\"\",\"\",Sheet1!B3432&\" \"&Sheet1!C3432)","v":""}]
[{"$f":"IF(Sheet1!B3433=\"\",\"\",Sheet1!B3433&\" \"&Sheet1!C3433)","v":""}]
[{"$f":"IF(Sheet1!B3434=\"\",\"\",Sheet1!B3434&\" \"&Sheet1!C3434)","v":""}]
[{"$f":"IF(Sheet1!B3435=\"\",\"\",Sheet1!B3435&\" \"&Sheet1!C3435)","v":""}]
[{"$f":"IF(Sheet1!B3436=\"\",\"\",Sheet1!B3436&\" \"&Sheet1!C3436)","v":""}]
[{"$f":"IF(Sheet1!B3437=\"\",\"\",Sheet1!B3437&\" \"&Sheet1!C3437)","v":""}]
[{"$f":"IF(Sheet1!B3438=\"\",\"\",Sheet1!B3438&\" \"&Sheet1!C3438)","v":""}]
[{"$f":"IF(Sheet1!B3439=\"\",\"\",Sheet1!B3439&\" \"&Sheet1!C3439)","v":""}]
[{"$f":"IF(Sheet1!B3440=\"\",\"\",Sheet1!B3440&\" \"&Sheet1!C3440)","v":""}]
[{"$f":"IF(Sheet1!B3441=\"\",\"\",Sheet1!B3441&\" \"&Sheet1!C3441)","v":""}]
[{"$f":"IF(Sheet1!B3442=\"\",\"\",Sheet1!B3442&\" \"&Sheet1!C3442)","v":""}]
[{"$f":"IF(Sheet1!B3443=\"\",\"\",Sheet1!B3443&\" \"&Sheet1!C3443)","v":""}]
[{"$f":"IF(Sheet1!B3444=\"\",\"\",Sheet1!B3444&\" \"&Sheet1!C3444)","v":""}]
[{"$f":"IF(Sheet1!B3445=\"\",\"\",Sheet1!B3445&\" \"&Sheet1!C3445)","v":""}]
[{"$f":"IF(Sheet1!B3446=\"\",\"\",Sheet1!B3446&\" \"&Sheet1!C3446)","v":""}]
[{"$f":"IF(Sheet1!B3447=\"\",\"\",Sheet1!B3447&\" \"&Sheet1!C3447)","v":""}]
[{"$f":"IF(Sheet1!B3448=\"\",\"\",Sheet1!B3448&\" \"&Sheet1!C3448)","v":""}]
[{"$f":"IF(Sheet1!B3449=\"\",\"\",Sheet1!B3449&\" \"&Sheet1!C3449)","v":""}]
[{"$f":"IF(Sheet1!B3450=\"\",\"\",Sheet1!B3450&\" \"&Sheet1!C3450)","v":""}]
[{"$f":"IF(Sheet1!B3451=\"\",\"\",Sheet1!B3451&\" \"&Sheet1!C3451)","v":""}]
[{"$f":"IF(Sheet1!B3452=\"\",\"\",Sheet1!B3452&\" \"&Sheet1!C3452)","v":""}]
[{"$f":"IF(Sheet1!B3453=\"\",\"\",Sheet1!B3453&\" \"&Sheet1!C3453)","v":""}]
[{"$f":"IF(Sheet1!B3454=\"\",\"\",Sheet1!B3454&\" \"&Sheet1!C3454)","v":""}]
[{"$f":"IF(Sheet1!B3455=\"\",\"\",Sheet1!B3455&\" \"&Sheet1!C3455)","v":""}]
[{"$f":"IF(Sheet1!B3456=\"\",\"\",Sheet1!B3456&\" \"&Sheet1!C3456)","v":""}]
[{"$f":"IF(Sheet1!B3457=\"\",\"\",Sheet1!B3457&\" \"&Sheet1!C3457)","v":""}]
[{"$f":"IF(Sheet1!B3458=\"\",\"\",Sheet1!B3458&\" \"&Sheet1!C3458)","v":""}]
[{"$f":"IF(Sheet1!B3459=\"\",\"\",Sheet1!B3459&\" \"&Sheet1!C3459)","v":""}]
[{"$f":"IF(Sheet1!B3460=\"\",\"\",Sheet1!B3460&\" \"&Sheet1!C3460)","v":""}]
[{"$f":"IF(Sheet1!B3461=\"\",\"\",Sheet1!B3461&\" \"&Sheet1!C3461)","v":""}]
[{"$f":"IF(Sheet1!B3462=\"\",\"\",Sheet1!B3462&\" \"&Sheet1!C3462)","v":""}]
[{"$f":"IF(Sheet1!B3463=\"\",\"\",Sheet1!B3463&\" \"&Sheet1!C3463)","v":""}]
[{"$f":"IF(Sheet1!B3464=\"\",\"\",Sheet1!B3464&\" \"&Sheet1!C3464)","v":""}]
[{"$f":"IF(Sheet1!B3465=\"\",\"\",Sheet1!B3465&\" \"&Sheet1!C3465)","v":""}]
[{"$f":"IF(Sheet1!B3466=\"\",\"\",Sheet1!B3466&\" \"&Sheet1!C3466)","v":""}]
[{"$f":"IF(Sheet1!B3467=\"\",\"\",Sheet1!B3467&\" \"&Sheet1!C3467)","v":""}]
[{"$f":"IF(Sheet1!B3468=\"\",\"\",Sheet1!B3468&\" \"&Sheet1!C3468)","v":""}]
[{"$f":"IF(Sheet1!B3469=\"\",\"\",Sheet1!B3469&\" \"&Sheet1!C3469)","v":""}]
[{"$f":"IF(Sheet1!B3470=\"\",\"\",Sheet1!B3470&\" \"&Sheet1!C3470)","v":""}]
[{"$f":"IF(Sheet1!B3471=\"\",\"\",Sheet1!B3471&\" \"&Sheet1!C3471)","v":""}]
[{"$f":"IF(Sheet1!B3472=\"\",\"\",Sheet1!B3472&\" \"&Sheet1!C3472)","v":""}]
[{"$f":"IF(Sheet1!B3473=\"\",\"\",Sheet1!B3473&\" \"&Sheet1!C3473)","v":""}]
[{"$f":"IF(Sheet1!B3474=\"\",\"\",Sheet1!B3474&\" \"&Sheet1!C3474)","v":""}]
[{"$f":"IF(Sheet1!B3475=\"\",\"\",Sheet1!B3475&\" \"&Sheet1!C3475)","v":""}]
[{"$f":"IF(Sheet1!B3476=\"\",\"\",Sheet1!B3476&\" \"&Sheet1!C3476)","v":""}]
[{"$f":"IF(Sheet1!B3477=\"\",\"\",Sheet1!B3477&\" \"&Sheet1!C3477)","v":""}]
[{"$f":"IF(Sheet1!B3478=\"\",\"\",Sheet1!B3478&\" \"&Sheet1!C3478)","v":""}]
[{"$f":"IF(Sheet1!B3479=\"\",\"\",Sheet1!B3479&\" \"&Sheet1!C3479)","v":""}]
[{"$f":"IF(Sheet1!B3480=\"\",\"\",Sheet1!B3480&\" \"&Sheet1!C3480)","v":""}]
[{"$f":"IF(Sheet1!B3481=\"\",\"\",Sheet1!B3481&\" \"&Sheet1!C3481)","v":""}]
[{"$f":"IF(Sheet1!B3482=\"\",\"\",Sheet1!B3482&\" \"&Sheet1!C3482)","v":""}]
[{"$f":"IF(Sheet1!B3483=\"\",\"\",Sheet1!B3483&\" \"&Sheet1!C3483)","v":""}]
[{"$f":"IF(Sheet1!B3484=\"\",\"\",Sheet1!B3484&\" \"&Sheet1!C3484)","v":""}]
[{"$f":"IF(Sheet1!B3485=\"\",\"\",Sheet1!B3485&\" \"&Sheet1!C3485)","v":""}]
[{"$f":"IF(Sheet1!B3486=\"\",\"\",Sheet1!B3486&\" \"&Sheet1!C3486)","v":""}]
[{"$f":"IF(Sheet1!B3487=\"\",\"\",Sheet1!B3487&\" \"&Sheet1!C3487)","v":""}]
[{"$f":"IF(Sheet1!B3488=\"\",\"\",Sheet1!B3488&\" \"&Sheet1!C3488)","v":""}]
[{"$f":"IF(Sheet1!B3489=\"\",\"\",Sheet1!B3489&\" \"&Sheet1!C3489)","v":""}]
[{"$f":"IF(Sheet1!B3490=\"\",\"\",Sheet1!B3490&\" \"&Sheet1!C3490)","v":""}]
[{"$f":"IF(Sheet1!B3491=\"\",\"\",Sheet1!B3491&\" \"&Sheet1!C3491)","v":""}]
[{"$f":"IF(Sheet1!B3492=\"\",\"\",Sheet1!B3492&\" \"&Sheet1!C3492)","v":""}]
[{"$f":"IF(Sheet1!B3493=\"\",\"\",Sheet1!B3493&\" \"&Sheet1!C3493)","v":""}]
[{"$f":"IF(Sheet1!B3494=\"\",\"\",Sheet1!B3494&\" \"&Sheet1!C3494)","v":""}]
[{"$f":"IF(Sheet1!B3495=\"\",\"\",Sheet1!B3495&\" \"&Sheet1!C3495)","v":""}]
[{"$f":"IF(Sheet1!B3496=\"\",\"\",Sheet1!B3496&\" \"&Sheet1!C3496)","v":""}]
[{"$f":"IF(Sheet1!B3497=\"\",\"\",Sheet1!B3497&\" \"&Sheet1!C3497)","v":""}]
[{"$f":"IF(Sheet1!B3498=\"\",\"\",Sheet1!B3498&\" \"&Sheet1!C3498)","v":""}]
[{"$f":"IF(Sheet1!B3499=\"\",\"\",Sheet1!B3499&\" \"&Sheet1!C3499)","v":""}]
[{"$f":"IF(Sheet1!B3500=\"\",\"\",Sheet1!B3500&\" \"&Sheet1!C3500)","v":""}]
[{"$f":"IF(Sheet1!B3501=\"\",\"\",Sheet1!B3501&\" \"&Sheet1!C3501)","v":""}]
[{"$f":"IF(Sheet1!B3502=\"\",\"\",Sheet1!B3502&\" \"&Sheet1!C3502)","v":""}]
[{"$f":"IF(Sheet1!B3503=\"\",\"\",Sheet1!B3503&\" \"&Sheet1!C3503)","v":""}]
[{"$f":"IF(Sheet1!B3504=\"\",\"\",Sheet1!B3504&\" \"&Sheet1!C3504)","v":""}]
[{"$f":"IF(Sheet1!B3505=\"\",\"\",Sheet1!B3505&\" \"&Sheet1!C3505)","v":""}]
[{"$f":"IF(Sheet1!B3506=\"\",\"\",Sheet1!B3506&\" \"&Sheet1!C3506)","v":""}]
[{"$f":"IF(Sheet1!B3507=\"\",\"\",Sheet1!B3507&\" \"&Sheet1!C3507)","v":""}]
[{"$f":"IF(Sheet1!B3508=\"\",\"\",Sheet1!B3508&\" \"&Sheet1!C3508)","v":""}]
[{"$f":"IF(Sheet1!B3509=\"\",\"\",Sheet1!B3509&\" \"&Sheet1!C3509)","v":""}]
[{"$f":"IF(Sheet1!B3510=\"\",\"\",Sheet1!B3510&\" \"&Sheet1!C3510)","v":""}]
[{"$f":"IF(Sheet1!B3511=\"\",\"\",Sheet1!B3511&\" \"&Sheet1!C3511)","v":""}]
[{"$f":"IF(Sheet1!B3512=\"\",\"\",Sheet1!B3512&\" \"&Sheet1!C3512)","v":""}]
[{"$f":"IF(Sheet1!B3513=\"\",\"\",Sheet1!B3513&\" \"&Sheet1!C3513)","v":""}]
[{"$f":"IF(Sheet1!B3514=\"\",\"\",Sheet1!B3514&\" \"&Sheet1!C3514)","v":""}]
[{"$f":"IF(Sheet1!B3515=\"\",\"\",Sheet1!B3515&\" \"&Sheet1!C3515)","v":""}]
[{"$f":"IF(Sheet1!B3516=\"\",\"\",Sheet1!B3516&\" \"&Sheet1!C3516)","v":""}]
[{"$f":"IF(Sheet1!B3517=\"\",\"\",Sheet1!B3517&\" \"&Sheet1!C3517)","v":""}]
[{"$f":"IF(Sheet1!B3518=\"\",\"\",Sheet1!B3518&\" \"&Sheet1!C3518)","v":""}]
[{"$f":"IF(Sheet1!B3519=\"\",\"\",Sheet1!B3519&\" \"&Sheet1!C3519)","v":""}]
[{"$f":"IF(Sheet1!B3520=\"\",\"\",Sheet1!B3520&\" \"&Sheet1!C3520)","v":""}]
[{"$f":"IF(Sheet1!B3521=\"\",\"\",Sheet1!B3521&\" \"&Sheet1!C3521)","v":""}]
[{"$f":"IF(Sheet1!B3522=\"\",\"\",Sheet1!B3522&\" \"&Sheet1!C3522)","v":""}]
[{"$f":"IF(Sheet1!B3523=\"\",\"\",Sheet1!B3523&\" \"&Sheet1!C3523)","v":""}]
[{"$f":"IF(Sheet1!B3524=\"\",\"\",Sheet1!B3524&\" \"&Sheet1!C3524)","v":""}]
[{"$f":"IF(Sheet1!B3525=\"\",\"\",Sheet1!B3525&\" \"&Sheet1!C3525)","v":""}]
[{"$f":"IF(Sheet1!B3526=\"\",\"\",Sheet1!B3526&\" \"&Sheet1!C3526)","v":""}]
[{"$f":"IF(Sheet1!B3527=\"\",\"\",Sheet1!B3527&\" \"&Sheet1!C3527)","v":""}]
[{"$f":"IF(Sheet1!B3528=\"\",\"\",Sheet1!B3528&\" \"&Sheet1!C3528)","v":""}]
[{"$f":"IF(Sheet1!B3529=\"\",\"\",Sheet1!B3529&\" \"&Sheet1!C3529)","v":""}]
[{"$f":"IF(Sheet1!B3530=\"\",\"\",Sheet1!B3530&\" \"&Sheet1!C3530)","v":""}]
[{"$f":"IF(Sheet1!B3531=\"\",\"\",Sheet1!B3531&\" \"&Sheet1!C3531)","v":""}]
[{"$f":"IF(Sheet1!B3532=\"\",\"\",Sheet1!B3532&\" \"&Sheet1!C3532)","v":""}]
[{"$f":"IF(Sheet1!B3533=\"\",\"\",Sheet1!B3533&\" \"&Sheet1!C3533)","v":""}]
[{"$f":"IF(Sheet1!B3534=\"\",\"\",Sheet1!B3534&\" \"&Sheet1!C3534)","v":""}]
[{"$f":"IF(Sheet1!B3535=\"\",\"\",Sheet1!B3535&\" \"&Sheet1!C3535)","v":""}]
[{"$f":"IF(Sheet1!B3536=\"\",\"\",Sheet1!B3536&\" \"&Sheet1!C3536)","v":""}]
[{"$f":"IF(Sheet1!B3537=\"\",\"\",Sheet1!B3537&\" \"&Sheet1!C3537)","v":""}]
[{"$f":"IF(Sheet1!B3538=\"\",\"\",Sheet1!B3538&\" \"&Sheet1!C3538)","v":""}]
[{"$f":"IF(Sheet1!B3539=\"\",\"\",Sheet1!B3539&\" \"&Sheet1!C3539)","v":""}]
[{"$f":"IF(Sheet1!B3540=\"\",\"\",Sheet1!B3540&\" \"&Sheet1!C3540)","v":""}]
[{"$f":"IF(Sheet1!B3541=\"\",\"\",Sheet1!B3541&\" \"&Sheet1!C3541)","v":""}]
[{"$f":"IF(Sheet1!B3542=\"\",\"\",Sheet1!B3542&\" \"&Sheet1!C3542)","v":""}]
[{"$f":"IF(Sheet1!B3543=\"\",\"\",Sheet1!B3543&\" \"&Sheet1!C3543)","v":""}]
[{"$f":"IF(Sheet1!B3544=\"\",\"\",Sheet1!B3544&\" \"&Sheet1!C3544)","v":""}]
[{"$f":"IF(Sheet1!B3545=\"\",\"\",Sheet1!B3545&\" \"&Sheet1!C3545)","v":""}]
[{"$f":"IF(Sheet1!B3546=\"\",\"\",Sheet1!B3546&\" \"&Sheet1!C3546)","v":""}]
[{"$f":"IF(Sheet1!B3547=\"\",\"\",Sheet1!B3547&\" \"&Sheet1!C3547)","v":""}]
[{"$f":"IF(Sheet1!B3548=\"\",\"\",Sheet1!B3548&\" \"&Sheet1!C3548)","v":""}]
[{"$f":"IF(Sheet1!B3549=\"\",\"\",Sheet1!B3549&\" \"&Sheet1!C3549)","v":""}]
[{"$f":"IF(Sheet1!B3550=\"\",\"\",Sheet1!B3550&\" \"&Sheet1!C3550)","v":""}]
[{"$f":"IF(Sheet1!B3551=\"\",\"\",Sheet1!B3551&\" \"&Sheet1!C3551)","v":""}]
[{"$f":"IF(Sheet1!B3552=\"\",\"\",Sheet1!B3552&\" \"&Sheet1!C3552)","v":""}]
[{"$f":"IF(Sheet1!B3553=\"\",\"\",Sheet1!B3553&\" \"&Sheet1!C3553)","v":""}]
[{"$f":"IF(Sheet1!B3554=\"\",\"\",Sheet1!B3554&\" \"&Sheet1!C3554)","v":""}]
[{"$f":"IF(Sheet1!B3555=\"\",\"\",Sheet1!B3555&\" \"&Sheet1!C3555)","v":""}]
[{"$f":"IF(Sheet1!B3556=\"\",\"\",Sheet1!B3556&\" \"&Sheet1!C3556)","v":""}]
[{"$f":"IF(Sheet1!B3557=\"\",\"\",Sheet1!B3557&\" \"&Sheet1!C3557)","v":""}]
[{"$f":"IF(Sheet1!B3558=\"\",\"\",Sheet1!B3558&\" \"&Sheet1!C3558)","v":""}]
[{"$f":"IF(Sheet1!B3559=\"\",\"\",Sheet1!B3559&\" \"&Sheet1!C3559)","v":""}]
[{"$f":"IF(Sheet1!B3560=\"\",\"\",Sheet1!B3560&\" \"&Sheet1!C3560)","v":""}]
[{"$f":"IF(Sheet1!B3561=\"\",\"\",Sheet1!B3561&\" \"&Sheet1!C3561)","v":""}]
[{"$f":"IF(Sheet1!B3562=\"\",\"\",Sheet1!B3562&\" \"&Sheet1!C3562)","v":""}]
[{"$f":"IF(Sheet1!B3563=\"\",\"\",Sheet1!B3563&\" \"&Sheet1!C3563)","v":""}]
[{"$f":"IF(Sheet1!B3564=\"\",\"\",Sheet1!B3564&\" \"&Sheet1!C3564)","v":""}]
[{"$f":"IF(Sheet1!B3565=\"\",\"\",Sheet1!B3565&\" \"&Sheet1!C3565)","v":""}]
[{"$f":"IF(Sheet1!B3566=\"\",\"\",Sheet1!B3566&\" \"&Sheet1!C3566)","v":""}]
[{"$f":"IF(Sheet1!B3567=\"\",\"\",Sheet1!B3567&\" \"&Sheet1!C3567)","v":""}]
[{"$f":"IF(Sheet1!B3568=\"\",\"\",Sheet1!B3568&\" \"&Sheet1!C3568)","v":""}]
[{"$f":"IF(Sheet1!B3569=\"\",\"\",Sheet1!B3569&\" \"&Sheet1!C3569)","v":""}]
[{"$f":"IF(Sheet1!B3570=\"\",\"\",Sheet1!B3570&\" \"&Sheet1!C3570)","v":""}]
[{"$f":"IF(Sheet1!B3571=\"\",\"\",Sheet1!B3571&\" \"&Sheet1!C3571)","v":""}]
[{"$f":"IF(Sheet1!B3572=\"\",\"\",Sheet1!B3572&\" \"&Sheet1!C3572)","v":""}]
[{"$f":"IF(Sheet1!B3573=\"\",\"\",Sheet1!B3573&\" \"&Sheet1!C3573)","v":""}]
[{"$f":"IF(Sheet1!B3574=\"\",\"\",Sheet1!B3574&\" \"&Sheet1!C3574)","v":""}]
[{"$f":"IF(Sheet1!B3575=\"\",\"\",Sheet1!B3575&\" \"&Sheet1!C3575)","v":""}]
[{"$f":"IF(Sheet1!B3576=\"\",\"\",Sheet1!B3576&\" \"&Sheet1!C3576)","v":""}]
[{"$f":"IF(Sheet1!B3577=\"\",\"\",Sheet1!B3577&\" \"&Sheet1!C3577)","v":""}]
[{"$f":"IF(Sheet1!B3578=\"\",\"\",Sheet1!B3578&\" \"&Sheet1!C3578)","v":""}]
[{"$f":"IF(Sheet1!B3579=\"\",\"\",Sheet1!B3579&\" \"&Sheet1!C3579)","v":""}]
[{"$f":"IF(Sheet1!B3580=\"\",\"\",Sheet1!B3580&\" \"&Sheet1!C3580)","v":""}]
[{"$f":"IF(Sheet1!B3581=\"\",\"\",Sheet1!B3581&\" \"&Sheet1!C3581)","v":""}]
[{"$f":"IF(Sheet1!B3582=\"\",\"\",Sheet1!B3582&\" \"&Sheet1!C3582)","v":""}]
[{"$f":"IF(Sheet1!B3583=\"\",\"\",Sheet1!B3583&\" \"&Sheet1!C3583)","v":""}]
[{"$f":"IF(Sheet1!B3584=\"\",\"\",Sheet1!B3584&\" \"&Sheet1!C3584)","v":""}]
[{"$f":"IF(Sheet1!B3585=\"\",\"\",Sheet1!B3585&\" \"&Sheet1!C3585)","v":""}]
[{"$f":"IF(Sheet1!B3586=\"\",\"\",Sheet1!B3586&\" \"&Sheet1!C3586)","v":""}]
[{"$f":"IF(Sheet1!B3587=\"\",\"\",Sheet1!B3587&\" \"&Sheet1!C3587)","v":""}]
[{"$f":"IF(Sheet1!B3588=\"\",\"\",Sheet1!B3588&\" \"&Sheet1!C3588)","v":""}]
[{"$f":"IF(Sheet1!B3589=\"\",\"\",Sheet1!B3589&\" \"&Sheet1!C3589)","v":""}]
[{"$f":"IF(Sheet1!B3590=\"\",\"\",Sheet1!B3590&\" \"&Sheet1!C3590)","v":""}]
[{"$f":"IF(Sheet1!B3591=\"\",\"\",Sheet1!B3591&\" \"&Sheet1!C3591)","v":""}]
[{"$f":"IF(Sheet1!B3592=\"\",\"\",Sheet1!B3592&\" \"&Sheet1!C3592)","v":""}]
[{"$f":"IF(Sheet1!B3593=\"\",\"\",Sheet1!B3593&\" \"&Sheet1!C3593)","v":""}]
[{"$f":"IF(Sheet1!B3594=\"\",\"\",Sheet1!B3594&\" \"&Sheet1!C3594)","v":""}]
[{"$f":"IF(Sheet1!B3595=\"\",\"\",Sheet1!B3595&\" \"&Sheet1!C3595)","v":""}]
[{"$f":"IF(Sheet1!B3596=\"\",\"\",Sheet1!B3596&\" \"&Sheet1!C3596)","v":""}]
[{"$f":"IF(Sheet1!B3597=\"\",\"\",Sheet1!B3597&\" \"&Sheet1!C3597)","v":""}]
[{"$f":"IF(Sheet1!B3598=\"\",\"\",Sheet1!B3598&\" \"&Sheet1!C3598)","v":""}]
[{"$f":"IF(Sheet1!B3599=\"\",\"\",Sheet1!B3599&\" \"&Sheet1!C3599)","v":""}]
[{"$f":"IF(Sheet1!B3600=\"\",\"\",Sheet1!B3600&\" \"&Sheet1!C3600)","v":""}]
[{"$f":"IF(Sheet1!B3601=\"\",\"\",Sheet1!B3601&\" \"&Sheet1!C3601)","v":""}]
[{"$f":"IF(Sheet1!B3602=\"\",\"\",Sheet1!B3602&\" \"&Sheet1!C3602)","v":""}]
[{"$f":"IF(Sheet1!B3603=\"\",\"\",Sheet1!B3603&\" \"&Sheet1!C3603)","v":""}]
[{"$f":"IF(Sheet1!B3604=\"\",\"\",Sheet1!B3604&\" \"&Sheet1!C3604)","v":""}]
[{"$f":"IF(Sheet1!B3605=\"\",\"\",Sheet1!B3605&\" \"&Sheet1!C3605)","v":""}]
[{"$f":"IF(Sheet1!B3606=\"\",\"\",Sheet1!B3606&\" \"&Sheet1!C3606)","v":""}]
[{"$f":"IF(Sheet1!B3607=\"\",\"\",Sheet1!B3607&\" \"&Sheet1!C3607)","v":""}]
[{"$f":"IF(Sheet1!B3608=\"\",\"\",Sheet1!B3608&\" \"&Sheet1!C3608)","v":""}]
[{"$f":"IF(Sheet1!B3609=\"\",\"\",Sheet1!B3609&\" \"&Sheet1!C3609)","v":""}]
[{"$f":"IF(Sheet1!B3610=\"\",\"\",Sheet1!B3610&\" \"&Sheet1!C3610)","v":""}]
[{"$f":"IF(Sheet1!B3611=\"\",\"\",Sheet1!B3611&\" \"&Sheet1!C3611)","v":""}]
[{"$f":"IF(Sheet1!B3612=\"\",\"\",Sheet1!B3612&\" \"&Sheet1!C3612)","v":""}]
[{"$f":"IF(Sheet1!B3613=\"\",\"\",Sheet1!B3613&\" \"&Sheet1!C3613)","v":""}]
[{"$f":"IF(Sheet1!B3614=\"\",\"\",Sheet1!B3614&\" \"&Sheet1!C3614)","v":""}]
[{"$f":"IF(Sheet1!B3615=\"\",\"\",Sheet1!B3615&\" \"&Sheet1!C3615)","v":""}]
[{"$f":"IF(Sheet1!B3616=\"\",\"\",Sheet1!B3616&\" \"&Sheet1!C3616)","v":""}]
[{"$f":"IF(Sheet1!B3617=\"\",\"\",Sheet1!B3617&\" \"&Sheet1!C3617)","v":""}]
[{"$f":"IF(Sheet1!B3618=\"\",\"\",Sheet1!B3618&\" \"&Sheet1!C3618)","v":""}]
[{"$f":"IF(Sheet1!B3619=\"\",\"\",Sheet1!B3619&\" \"&Sheet1!C3619)","v":""}]
[{"$f":"IF(Sheet1!B3620=\"\",\"\",Sheet1!B3620&\" \"&Sheet1!C3620)","v":""}]
[{"$f":"IF(Sheet1!B3621=\"\",\"\",Sheet1!B3621&\" \"&Sheet1!C3621)","v":""}]
[{"$f":"IF(Sheet1!B3622=\"\",\"\",Sheet1!B3622&\" \"&Sheet1!C3622)","v":""}]
[{"$f":"IF(Sheet1!B3623=\"\",\"\",Sheet1!B3623&\" \"&Sheet1!C3623)","v":""}]
[{"$f":"IF(Sheet1!B3624=\"\",\"\",Sheet1!B3624&\" \"&Sheet1!C3624)","v":""}]
[{"$f":"IF(Sheet1!B3625=\"\",\"\",Sheet1!B3625&\" \"&Sheet1!C3625)","v":""}]
[{"$f":"IF(Sheet1!B3626=\"\",\"\",Sheet1!B3626&\" \"&Sheet1!C3626)","v":""}]
[{"$f":"IF(Sheet1!B3627=\"\",\"\",Sheet1!B3627&\" \"&Sheet1!C3627)","v":""}]
[{"$f":"IF(Sheet1!B3628=\"\",\"\",Sheet1!B3628&\" \"&Sheet1!C3628)","v":""}]
[{"$f":"IF(Sheet1!B3629=\"\",\"\",Sheet1!B3629&\" \"&Sheet1!C3629)","v":""}]
[{"$f":"IF(Sheet1!B3630=\"\",\"\",Sheet1!B3630&\" \"&Sheet1!C3630)","v":""}]
[{"$f":"IF(Sheet1!B3631=\"\",\"\",Sheet1!B3631&\" \"&Sheet1!C3631)","v":""}]
[{"$f":"IF(Sheet1!B3632=\"\",\"\",Sheet1!B3632&\" \"&Sheet1!C3632)","v":""}]
[{"$f":"IF(Sheet1!B3633=\"\",\"\",Sheet1!B3633&\" \"&Sheet1!C3633)","v":""}]
[{"$f":"IF(Sheet1!B3634=\"\",\"\",Sheet1!B3634&\" \"&Sheet1!C3634)","v":""}]
[{"$f":"IF(Sheet1!B3635=\"\",\"\",Sheet1!B3635&\" \"&Sheet1!C3635)","v":""}]
[{"$f":"IF(Sheet1!B3636=\"\",\"\",Sheet1!B3636&\" \"&Sheet1!C3636)","v":""}]
[{"$f":"IF(Sheet1!B3637=\"\",\"\",Sheet1!B3637&\" \"&Sheet1!C3637)","v":""}]
[{"$f":"IF(Sheet1!B3638=\"\",\"\",Sheet1!B3638&\" \"&Sheet1!C3638)","v":""}]
[{"$f":"IF(Sheet1!B3639=\"\",\"\",Sheet1!B3639&\" \"&Sheet1!C3639)","v":""}]
[{"$f":"IF(Sheet1!B3640=\"\",\"\",Sheet1!B3640&\" \"&Sheet1!C3640)","v":""}]
[{"$f":"IF(Sheet1!B3641=\"\",\"\",Sheet1!B3641&\" \"&Sheet1!C3641)","v":""}]
[{"$f":"IF(Sheet1!B3642=\"\",\"\",Sheet1!B3642&\" \"&Sheet1!C3642)","v":""}]
[{"$f":"IF(Sheet1!B3643=\"\",\"\",Sheet1!B3643&\" \"&Sheet1!C3643)","v":""}]
[{"$f":"IF(Sheet1!B3644=\"\",\"\",Sheet1!B3644&\" \"&Sheet1!C3644)","v":""}]
[{"$f":"IF(Sheet1!B3645=\"\",\"\",Sheet1!B3645&\" \"&Sheet1!C3645)","v":""}]
[{"$f":"IF(Sheet1!B3646=\"\",\"\",Sheet1!B3646&\" \"&Sheet1!C3646)","v":""}]
[{"$f":"IF(Sheet1!B3647=\"\",\"\",Sheet1!B3647&\" \"&Sheet1!C3647)","v":""}]
[{"$f":"IF(Sheet1!B3648=\"\",\"\",Sheet1!B3648&\" \"&Sheet1!C3648)","v":""}]
[{"$f":"IF(Sheet1!B3649=\"\",\"\",Sheet1!B3649&\" \"&Sheet1!C3649)","v":""}]
[{"$f":"IF(Sheet1!B3650=\"\",\"\",Sheet1!B3650&\" \"&Sheet1!C3650)","v":""}]
[{"$f":"IF(Sheet1!B3651=\"\",\"\",Sheet1!B3651&\" \"&Sheet1!C3651)","v":""}]
[{"$f":"IF(Sheet1!B3652=\"\",\"\",Sheet1!B3652&\" \"&Sheet1!C3652)","v":""}]
[{"$f":"IF(Sheet1!B3653=\"\",\"\",Sheet1!B3653&\" \"&Sheet1!C3653)","v":""}]
[{"$f":"IF(Sheet1!B3654=\"\",\"\",Sheet1!B3654&\" \"&Sheet1!C3654)","v":""}]
[{"$f":"IF(Sheet1!B3655=\"\",\"\",Sheet1!B3655&\" \"&Sheet1!C3655)","v":""}]
[{"$f":"IF(Sheet1!B3656=\"\",\"\",Sheet1!B3656&\" \"&Sheet1!C3656)","v":""}]
[{"$f":"IF(Sheet1!B3657=\"\",\"\",Sheet1!B3657&\" \"&Sheet1!C3657)","v":""}]
[{"$f":"IF(Sheet1!B3658=\"\",\"\",Sheet1!B3658&\" \"&Sheet1!C3658)","v":""}]
[{"$f":"IF(Sheet1!B3659=\"\",\"\",Sheet1!B3659&\" \"&Sheet1!C3659)","v":""}]
[{"$f":"IF(Sheet1!B3660=\"\",\"\",Sheet1!B3660&\" \"&Sheet1!C3660)","v":""}]
[{"$f":"IF(Sheet1!B3661=\"\",\"\",Sheet1!B3661&\" \"&Sheet1!C3661)","v":""}]
[{"$f":"IF(Sheet1!B3662=\"\",\"\",Sheet1!B3662&\" \"&Sheet1!C3662)","v":""}]
[{"$f":"IF(Sheet1!B3663=\"\",\"\",Sheet1!B3663&\" \"&Sheet1!C3663)","v":""}]
[{"$f":"IF(Sheet1!B3664=\"\",\"\",Sheet1!B3664&\" \"&Sheet1!C3664)","v":""}]
[{"$f":"IF(Sheet1!B3665=\"\",\"\",Sheet1!B3665&\" \"&Sheet1!C3665)","v":""}]
[{"$f":"IF(Sheet1!B3666=\"\",\"\",Sheet1!B3666&\" \"&Sheet1!C3666)","v":""}]
[{"$f":"IF(Sheet1!B3667=\"\",\"\",Sheet1!B3667&\" \"&Sheet1!C3667)","v":""}]
[{"$f":"IF(Sheet1!B3668=\"\",\"\",Sheet1!B3668&\" \"&Sheet1!C3668)","v":""}]
[{"$f":"IF(Sheet1!B3669=\"\",\"\",Sheet1!B3669&\" \"&Sheet1!C3669)","v":""}]
[{"$f":"IF(Sheet1!B3670=\"\",\"\",Sheet1!B3670&\" \"&Sheet1!C3670)","v":""}]
[{"$f":"IF(Sheet1!B3671=\"\",\"\",Sheet1!B3671&\" \"&Sheet1!C3671)","v":""}]
[{"$f":"IF(Sheet1!B3672=\"\",\"\",Sheet1!B3672&\" \"&Sheet1!C3672)","v":""}]
[{"$f":"IF(Sheet1!B3673=\"\",\"\",Sheet1!B3673&\" \"&Sheet1!C3673)","v":""}]
[{"$f":"IF(Sheet1!B3674=\"\",\"\",Sheet1!B3674&\" \"&Sheet1!C3674)","v":""}]
[{"$f":"IF(Sheet1!B3675=\"\",\"\",Sheet1!B3675&\" \"&Sheet1!C3675)","v":""}]
[{"$f":"IF(Sheet1!B3676=\"\",\"\",Sheet1!B3676&\" \"&Sheet1!C3676)","v":""}]
[{"$f":"IF(Sheet1!B3677=\"\",\"\",Sheet1!B3677&\" \"&Sheet1!C3677)","v":""}]
[{"$f":"IF(Sheet1!B3678=\"\",\"\",Sheet1!B3678&\" \"&Sheet1!C3678)","v":""}]
[{"$f":"IF(Sheet1!B3679=\"\",\"\",Sheet1!B3679&\" \"&Sheet1!C3679)","v":""}]
[{"$f":"IF(Sheet1!B3680=\"\",\"\",Sheet1!B3680&\" \"&Sheet1!C3680)","v":""}]
[{"$f":"IF(Sheet1!B3681=\"\",\"\",Sheet1!B3681&\" \"&Sheet1!C3681)","v":""}]
[{"$f":"IF(Sheet1!B3682=\"\",\"\",Sheet1!B3682&\" \"&Sheet1!C3682)","v":""}]
[{"$f":"IF(Sheet1!B3683=\"\",\"\",Sheet1!B3683&\" \"&Sheet1!C3683)","v":""}]
[{"$f":"IF(Sheet1!B3684=\"\",\"\",Sheet1!B3684&\" \"&Sheet1!C3684)","v":""}]
[{"$f":"IF(Sheet1!B3685=\"\",\"\",Sheet1!B3685&\" \"&Sheet1!C3685)","v":""}]
[{"$f":"IF(Sheet1!B3686=\"\",\"\",Sheet1!B3686&\" \"&Sheet1!C3686)","v":""}]
[{"$f":"IF(Sheet1!B3687=\"\",\"\",Sheet1!B3687&\" \"&Sheet1!C3687)","v":""}]
[{"$f":"IF(Sheet1!B3688=\"\",\"\",Sheet1!B3688&\" \"&Sheet1!C3688)","v":""}]
[{"$f":"IF(Sheet1!B3689=\"\",\"\",Sheet1!B3689&\" \"&Sheet1!C3689)","v":""}]
[{"$f":"IF(Sheet1!B3690=\"\",\"\",Sheet1!B3690&\" \"&Sheet1!C3690)","v":""}]
[{"$f":"IF(Sheet1!B3691=\"\",\"\",Sheet1!B3691&\" \"&Sheet1!C3691)","v":""}]
[{"$f":"IF(Sheet1!B3692=\"\",\"\",Sheet1!B3692&\" \"&Sheet1!C3692)","v":""}]
[{"$f":"IF(Sheet1!B3693=\"\",\"\",Sheet1!B3693&\" \"&Sheet1!C3693)","v":""}]
[{"$f":"IF(Sheet1!B3694=\"\",\"\",Sheet1!B3694&\" \"&Sheet1!C3694)","v":""}]
[{"$f":"IF(Sheet1!B3695=\"\",\"\",Sheet1!B3695&\" \"&Sheet1!C3695)","v":""}]
[{"$f":"IF(Sheet1!B3696=\"\",\"\",Sheet1!B3696&\" \"&Sheet1!C3696)","v":""}]
[{"$f":"IF(Sheet1!B3697=\"\",\"\",Sheet1!B3697&\" \"&Sheet1!C3697)","v":""}]
[{"$f":"IF(Sheet1!B3698=\"\",\"\",Sheet1!B3698&\" \"&Sheet1!C3698)","v":""}]
[{"$f":"IF(Sheet1!B3699=\"\",\"\",Sheet1!B3699&\" \"&Sheet1!C3699)","v":""}]
[{"$f":"IF(Sheet1!B3700=\"\",\"\",Sheet1!B3700&\" \"&Sheet1!C3700)","v":""}]
[{"$f":"IF(Sheet1!B3701=\"\",\"\",Sheet1!B3701&\" \"&Sheet1!C3701)","v":""}]
[{"$f":"IF(Sheet1!B3702=\"\",\"\",Sheet1!B3702&\" \"&Sheet1!C3702)","v":""}]
[{"$f":"IF(Sheet1!B3703=\"\",\"\",Sheet1!B3703&\" \"&Sheet1!C3703)","v":""}]
[{"$f":"IF(Sheet1!B3704=\"\",\"\",Sheet1!B3704&\" \"&Sheet1!C3704)","v":""}]
[{"$f":"IF(Sheet1!B3705=\"\",\"\",Sheet1!B3705&\" \"&Sheet1!C3705)","v":""}]
[{"$f":"IF(Sheet1!B3706=\"\",\"\",Sheet1!B3706&\" \"&Sheet1!C3706)","v":""}]
[{"$f":"IF(Sheet1!B3707=\"\",\"\",Sheet1!B3707&\" \"&Sheet1!C3707)","v":""}]
[{"$f":"IF(Sheet1!B3708=\"\",\"\",Sheet1!B3708&\" \"&Sheet1!C3708)","v":""}]
[{"$f":"IF(Sheet1!B3709=\"\",\"\",Sheet1!B3709&\" \"&Sheet1!C3709)","v":""}]
[{"$f":"IF(Sheet1!B3710=\"\",\"\",Sheet1!B3710&\" \"&Sheet1!C3710)","v":""}]
[{"$f":"IF(Sheet1!B3711=\"\",\"\",Sheet1!B3711&\" \"&Sheet1!C3711)","v":""}]
[{"$f":"IF(Sheet1!B3712=\"\",\"\",Sheet1!B3712&\" \"&Sheet1!C3712)","v":""}]
[{"$f":"IF(Sheet1!B3713=\"\",\"\",Sheet1!B3713&\" \"&Sheet1!C3713)","v":""}]
[{"$f":"IF(Sheet1!B3714=\"\",\"\",Sheet1!B3714&\" \"&Sheet1!C3714)","v":""}]
[{"$f":"IF(Sheet1!B3715=\"\",\"\",Sheet1!B3715&\" \"&Sheet1!C3715)","v":""}]
[{"$f":"IF(Sheet1!B3716=\"\",\"\",Sheet1!B3716&\" \"&Sheet1!C3716)","v":""}]
[{"$f":"IF(Sheet1!B3717=\"\",\"\",Sheet1!B3717&\" \"&Sheet1!C3717)","v":""}]
[{"$f":"IF(Sheet1!B3718=\"\",\"\",Sheet1!B3718&\" \"&Sheet1!C3718)","v":""}]
[{"$f":"IF(Sheet1!B3719=\"\",\"\",Sheet1!B3719&\" \"&Sheet1!C3719)","v":""}]
[{"$f":"IF(Sheet1!B3720=\"\",\"\",Sheet1!B3720&\" \"&Sheet1!C3720)","v":""}]
[{"$f":"IF(Sheet1!B3721=\"\",\"\",Sheet1!B3721&\" \"&Sheet1!C3721)","v":""}]
[{"$f":"IF(Sheet1!B3722=\"\",\"\",Sheet1!B3722&\" \"&Sheet1!C3722)","v":""}]
[{"$f":"IF(Sheet1!B3723=\"\",\"\",Sheet1!B3723&\" \"&Sheet1!C3723)","v":""}]
[{"$f":"IF(Sheet1!B3724=\"\",\"\",Sheet1!B3724&\" \"&Sheet1!C3724)","v":""}]
[{"$f":"IF(Sheet1!B3725=\"\",\"\",Sheet1!B3725&\" \"&Sheet1!C3725)","v":""}]
[{"$f":"IF(Sheet1!B3726=\"\",\"\",Sheet1!B3726&\" \"&Sheet1!C3726)","v":""}]
[{"$f":"IF(Sheet1!B3727=\"\",\"\",Sheet1!B3727&\" \"&Sheet1!C3727)","v":""}]
[{"$f":"IF(Sheet1!B3728=\"\",\"\",Sheet1!B3728&\" \"&Sheet1!C3728)","v":""}]
[{"$f":"IF(Sheet1!B3729=\"\",\"\",Sheet1!B3729&\" \"&Sheet1!C3729)","v":""}]
[{"$f":"IF(Sheet1!B3730=\"\",\"\",Sheet1!B3730&\" \"&Sheet1!C3730)","v":""}]
[{"$f":"IF(Sheet1!B3731=\"\",\"\",Sheet1!B3731&\" \"&Sheet1!C3731)","v":""}]
[{"$f":"IF(Sheet1!B3732=\"\",\"\",Sheet1!B3732&\" \"&Sheet1!C3732)","v":""}]
[{"$f":"IF(Sheet1!B3733=\"\",\"\",Sheet1!B3733&\" \"&Sheet1!C3733)","v":""}]
[{"$f":"IF(Sheet1!B3734=\"\",\"\",Sheet1!B3734&\" \"&Sheet1!C3734)","v":""}]
[{"$f":"IF(Sheet1!B3735=\"\",\"\",Sheet1!B3735&\" \"&Sheet1!C3735)","v":""}]
[{"$f":"IF(Sheet1!B3736=\"\",\"\",Sheet1!B3736&\" \"&Sheet1!C3736)","v":""}]
[{"$f":"IF(Sheet1!B3737=\"\",\"\",Sheet1!B3737&\" \"&Sheet1!C3737)","v":""}]
[{"$f":"IF(Sheet1!B3738=\"\",\"\",Sheet1!B3738&\" \"&Sheet1!C3738)","v":""}]
[{"$f":"IF(Sheet1!B3739=\"\",\"\",Sheet1!B3739&\" \"&Sheet1!C3739)","v":""}]
[{"$f":"IF(Sheet1!B3740=\"\",\"\",Sheet1!B3740&\" \"&Sheet1!C3740)","v":""}]
[{"$f":"IF(Sheet1!B3741=\"\",\"\",Sheet1!B3741&\" \"&Sheet1!C3741)","v":""}]
[{"$f":"IF(Sheet1!B3742=\"\",\"\",Sheet1!B3742&\" \"&Sheet1!C3742)","v":""}]
[{"$f":"IF(Sheet1!B3743=\"\",\"\",Sheet1!B3743&\" \"&Sheet1!C3743)","v":""}]
[{"$f":"IF(Sheet1!B3744=\"\",\"\",Sheet1!B3744&\" \"&Sheet1!C3744)","v":""}]
[{"$f":"IF(Sheet1!B3745=\"\",\"\",Sheet1!B3745&\" \"&Sheet1!C3745)","v":""}]
[{"$f":"IF(Sheet1!B3746=\"\",\"\",Sheet1!B3746&\" \"&Sheet1!C3746)","v":""}]
[{"$f":"IF(Sheet1!B3747=\"\",\"\",Sheet1!B3747&\" \"&Sheet1!C3747)","v":""}]
[{"$f":"IF(Sheet1!B3748=\"\",\"\",Sheet1!B3748&\" \"&Sheet1!C3748)","v":""}]
[{"$f":"IF(Sheet1!B3749=\"\",\"\",Sheet1!B3749&\" \"&Sheet1!C3749)","v":""}]
[{"$f":"IF(Sheet1!B3750=\"\",\"\",Sheet1!B3750&\" \"&Sheet1!C3750)","v":""}]
[{"$f":"IF(Sheet1!B3751=\"\",\"\",Sheet1!B3751&\" \"&Sheet1!C3751)","v":""}]
[{"$f":"IF(Sheet1!B3752=\"\",\"\",Sheet1!B3752&\" \"&Sheet1!C3752)","v":""}]
[{"$f":"IF(Sheet1!B3753=\"\",\"\",Sheet1!B3753&\" \"&Sheet1!C3753)","v":""}]
[{"$f":"IF(Sheet1!B3754=\"\",\"\",Sheet1!B3754&\" \"&Sheet1!C3754)","v":""}]
[{"$f":"IF(Sheet1!B3755=\"\",\"\",Sheet1!B3755&\" \"&Sheet1!C3755)","v":""}]
[{"$f":"IF(Sheet1!B3756=\"\",\"\",Sheet1!B3756&\" \"&Sheet1!C3756)","v":""}]
[{"$f":"IF(Sheet1!B3757=\"\",\"\",Sheet1!B3757&\" \"&Sheet1!C3757)","v":""}]
[{"$f":"IF(Sheet1!B3758=\"\",\"\",Sheet1!B3758&\" \"&Sheet1!C3758)","v":""}]
[{"$f":"IF(Sheet1!B3759=\"\",\"\",Sheet1!B3759&\" \"&Sheet1!C3759)","v":""}]
[{"$f":"IF(Sheet1!B3760=\"\",\"\",Sheet1!B3760&\" \"&Sheet1!C3760)","v":""}]
[{"$f":"IF(Sheet1!B3761=\"\",\"\",Sheet1!B3761&\" \"&Sheet1!C3761)","v":""}]
[{"$f":"IF(Sheet1!B3762=\"\",\"\",Sheet1!B3762&\" \"&Sheet1!C3762)","v":""}]
[{"$f":"IF(Sheet1!B3763=\"\",\"\",Sheet1!B3763&\" \"&Sheet1!C3763)","v":""}]
[{"$f":"IF(Sheet1!B3764=\"\",\"\",Sheet1!B3764&\" \"&Sheet1!C3764)","v":""}]
[{"$f":"IF(Sheet1!B3765=\"\",\"\",Sheet1!B3765&\" \"&Sheet1!C3765)","v":""}]
[{"$f":"IF(Sheet1!B3766=\"\",\"\",Sheet1!B3766&\" \"&Sheet1!C3766)","v":""}]
[{"$f":"IF(Sheet1!B3767=\"\",\"\",Sheet1!B3767&\" \"&Sheet1!C3767)","v":""}]
[{"$f":"IF(Sheet1!B3768=\"\",\"\",Sheet1!B3768&\" \"&Sheet1!C3768)","v":""}]
[{"$f":"IF(Sheet1!B3769=\"\",\"\",Sheet1!B3769&\" \"&Sheet1!C3769)","v":""}]
[{"$f":"IF(Sheet1!B3770=\"\",\"\",Sheet1!B3770&\" \"&Sheet1!C3770)","v":""}]
[{"$f":"IF(Sheet1!B3771=\"\",\"\",Sheet1!B3771&\" \"&Sheet1!C3771)","v":""}]
[{"$f":"IF(Sheet1!B3772=\"\",\"\",Sheet1!B3772&\" \"&Sheet1!C3772)","v":""}]
[{"$f":"IF(Sheet1!B3773=\"\",\"\",Sheet1!B3773&\" \"&Sheet1!C3773)","v":""}]
[{"$f":"IF(Sheet1!B3774=\"\",\"\",Sheet1!B3774&\" \"&Sheet1!C3774)","v":""}]
[{"$f":"IF(Sheet1!B3775=\"\",\"\",Sheet1!B3775&\" \"&Sheet1!C3775)","v":""}]
[{"$f":"IF(Sheet1!B3776=\"\",\"\",Sheet1!B3776&\" \"&Sheet1!C3776)","v":""}]
[{"$f":"IF(Sheet1!B3777=\"\",\"\",Sheet1!B3777&\" \"&Sheet1!C3777)","v":""}]
[{"$f":"IF(Sheet1!B3778=\"\",\"\",Sheet1!B3778&\" \"&Sheet1!C3778)","v":""}]
[{"$f":"IF(Sheet1!B3779=\"\",\"\",Sheet1!B3779&\" \"&Sheet1!C3779)","v":""}]
[{"$f":"IF(Sheet1!B3780=\"\",\"\",Sheet1!B3780&\" \"&Sheet1!C3780)","v":""}]
[{"$f":"IF(Sheet1!B3781=\"\",\"\",Sheet1!B3781&\" \"&Sheet1!C3781)","v":""}]
[{"$f":"IF(Sheet1!B3782=\"\",\"\",Sheet1!B3782&\" \"&Sheet1!C3782)","v":""}]
[{"$f":"IF(Sheet1!B3783=\"\",\"\",Sheet1!B3783&\" \"&Sheet1!C3783)","v":""}]
[{"$f":"IF(Sheet1!B3784=\"\",\"\",Sheet1!B3784&\" \"&Sheet1!C3784)","v":""}]
[{"$f":"IF(Sheet1!B3785=\"\",\"\",Sheet1!B3785&\" \"&Sheet1!C3785)","v":""}]
[{"$f":"IF(Sheet1!B3786=\"\",\"\",Sheet1!B3786&\" \"&Sheet1!C3786)","v":""}]
[{"$f":"IF(Sheet1!B3787=\"\",\"\",Sheet1!B3787&\" \"&Sheet1!C3787)","v":""}]
[{"$f":"IF(Sheet1!B3788=\"\",\"\",Sheet1!B3788&\" \"&Sheet1!C3788)","v":""}]
[{"$f":"IF(Sheet1!B3789=\"\",\"\",Sheet1!B3789&\" \"&Sheet1!C3789)","v":""}]
[{"$f":"IF(Sheet1!B3790=\"\",\"\",Sheet1!B3790&\" \"&Sheet1!C3790)","v":""}]
[{"$f":"IF(Sheet1!B3791=\"\",\"\",Sheet1!B3791&\" \"&Sheet1!C3791)","v":""}]
[{"$f":"IF(Sheet1!B3792=\"\",\"\",Sheet1!B3792&\" \"&Sheet1!C3792)","v":""}]
[{"$f":"IF(Sheet1!B3793=\"\",\"\",Sheet1!B3793&\" \"&Sheet1!C3793)","v":""}]
[{"$f":"IF(Sheet1!B3794=\"\",\"\",Sheet1!B3794&\" \"&Sheet1!C3794)","v":""}]
[{"$f":"IF(Sheet1!B3795=\"\",\"\",Sheet1!B3795&\" \"&Sheet1!C3795)","v":""}]
[{"$f":"IF(Sheet1!B3796=\"\",\"\",Sheet1!B3796&\" \"&Sheet1!C3796)","v":""}]
[{"$f":"IF(Sheet1!B3797=\"\",\"\",Sheet1!B3797&\" \"&Sheet1!C3797)","v":""}]
[{"$f":"IF(Sheet1!B3798=\"\",\"\",Sheet1!B3798&\" \"&Sheet1!C3798)","v":""}]
[{"$f":"IF(Sheet1!B3799=\"\",\"\",Sheet1!B3799&\" \"&Sheet1!C3799)","v":""}]
[{"$f":"IF(Sheet1!B3800=\"\",\"\",Sheet1!B3800&\" \"&Sheet1!C3800)","v":""}]
[{"$f":"IF(Sheet1!B3801=\"\",\"\",Sheet1!B3801&\" \"&Sheet1!C3801)","v":""}]
[{"$f":"IF(Sheet1!B3802=\"\",\"\",Sheet1!B3802&\" \"&Sheet1!C3802)","v":""}]
[{"$f":"IF(Sheet1!B3803=\"\",\"\",Sheet1!B3803&\" \"&Sheet1!C3803)","v":""}]
[{"$f":"IF(Sheet1!B3804=\"\",\"\",Sheet1!B3804&\" \"&Sheet1!C3804)","v":""}]
[{"$f":"IF(Sheet1!B3805=\"\",\"\",Sheet1!B3805&\" \"&Sheet1!C3805)","v":""}]
[{"$f":"IF(Sheet1!B3806=\"\",\"\",Sheet1!B3806&\" \"&Sheet1!C3806)","v":""}]
[{"$f":"IF(Sheet1!B3807=\"\",\"\",Sheet1!B3807&\" \"&Sheet1!C3807)","v":""}]
[{"$f":"IF(Sheet1!B3808=\"\",\"\",Sheet1!B3808&\" \"&Sheet1!C3808)","v":""}]
[{"$f":"IF(Sheet1!B3809=\"\",\"\",Sheet1!B3809&\" \"&Sheet1!C3809)","v":""}]
[{"$f":"IF(Sheet1!B3810=\"\",\"\",Sheet1!B3810&\" \"&Sheet1!C3810)","v":""}]
[{"$f":"IF(Sheet1!B3811=\"\",\"\",Sheet1!B3811&\" \"&Sheet1!C3811)","v":""}]
[{"$f":"IF(Sheet1!B3812=\"\",\"\",Sheet1!B3812&\" \"&Sheet1!C3812)","v":""}]
[{"$f":"IF(Sheet1!B3813=\"\",\"\",Sheet1!B3813&\" \"&Sheet1!C3813)","v":""}]
[{"$f":"IF(Sheet1!B3814=\"\",\"\",Sheet1!B3814&\" \"&Sheet1!C3814)","v":""}]
[{"$f":"IF(Sheet1!B3815=\"\",\"\",Sheet1!B3815&\" \"&Sheet1!C3815)","v":""}]
[{"$f":"IF(Sheet1!B3816=\"\",\"\",Sheet1!B3816&\" \"&Sheet1!C3816)","v":""}]
[{"$f":"IF(Sheet1!B3817=\"\",\"\",Sheet1!B3817&\" \"&Sheet1!C3817)","v":""}]
[{"$f":"IF(Sheet1!B3818=\"\",\"\",Sheet1!B3818&\" \"&Sheet1!C3818)","v":""}]
[{"$f":"IF(Sheet1!B3819=\"\",\"\",Sheet1!B3819&\" \"&Sheet1!C3819)","v":""}]
[{"$f":"IF(Sheet1!B3820=\"\",\"\",Sheet1!B3820&\" \"&Sheet1!C3820)","v":""}]
[{"$f":"IF(Sheet1!B3821=\"\",\"\",Sheet1!B3821&\" \"&Sheet1!C3821)","v":""}]
[{"$f":"IF(Sheet1!B3822=\"\",\"\",Sheet1!B3822&\" \"&Sheet1!C3822)","v":""}]
[{"$f":"IF(Sheet1!B3823=\"\",\"\",Sheet1!B3823&\" \"&Sheet1!C3823)","v":""}]
[{"$f":"IF(Sheet1!B3824=\"\",\"\",Sheet1!B3824&\" \"&Sheet1!C3824)","v":""}]
[{"$f":"IF(Sheet1!B3825=\"\",\"\",Sheet1!B3825&\" \"&Sheet1!C3825)","v":""}]
[{"$f":"IF(Sheet1!B3826=\"\",\"\",Sheet1!B3826&\" \"&Sheet1!C3826)","v":""}]
[{"$f":"IF(Sheet1!B3827=\"\",\"\",Sheet1!B3827&\" \"&Sheet1!C3827)","v":""}]
[{"$f":"IF(Sheet1!B3828=\"\",\"\",Sheet1!B3828&\" \"&Sheet1!C3828)","v":""}]
[{"$f":"IF(Sheet1!B3829=\"\",\"\",Sheet1!B3829&\" \"&Sheet1!C3829)","v":""}]
[{"$f":"IF(Sheet1!B3830=\"\",\"\",Sheet1!B3830&\" \"&Sheet1!C3830)","v":""}]
[{"$f":"IF(Sheet1!B3831=\"\",\"\",Sheet1!B3831&\" \"&Sheet1!C3831)","v":""}]
[{"$f":"IF(Sheet1!B3832=\"\",\"\",Sheet1!B3832&\" \"&Sheet1!C3832)","v":""}]
[{"$f":"IF(Sheet1!B3833=\"\",\"\",Sheet1!B3833&\" \"&Sheet1!C3833)","v":""}]
[{"$f":"IF(Sheet1!B3834=\"\",\"\",Sheet1!B3834&\" \"&Sheet1!C3834)","v":""}]
[{"$f":"IF(Sheet1!B3835=\"\",\"\",Sheet1!B3835&\" \"&Sheet1!C3835)","v":""}]
[{"$f":"IF(Sheet1!B3836=\"\",\"\",Sheet1!B3836&\" \"&Sheet1!C3836)","v":""}]
[{"$f":"IF(Sheet1!B3837=\"\",\"\",Sheet1!B3837&\" \"&Sheet1!C3837)","v":""}]
[{"$f":"IF(Sheet1!B3838=\"\",\"\",Sheet1!B3838&\" \"&Sheet1!C3838)","v":""}]
[{"$f":"IF(Sheet1!B3839=\"\",\"\",Sheet1!B3839&\" \"&Sheet1!C3839)","v":""}]
[{"$f":"IF(Sheet1!B3840=\"\",\"\",Sheet1!B3840&\" \"&Sheet1!C3840)","v":""}]
[{"$f":"IF(Sheet1!B3841=\"\",\"\",Sheet1!B3841&\" \"&Sheet1!C3841)","v":""}]
[{"$f":"IF(Sheet1!B3842=\"\",\"\",Sheet1!B3842&\" \"&Sheet1!C3842)","v":""}]
[{"$f":"IF(Sheet1!B3843=\"\",\"\",Sheet1!B3843&\" \"&Sheet1!C3843)","v":""}]
[{"$f":"IF(Sheet1!B3844=\"\",\"\",Sheet1!B3844&\" \"&Sheet1!C3844)","v":""}]
[{"$f":"IF(Sheet1!B3845=\"\",\"\",Sheet1!B3845&\" \"&Sheet1!C3845)","v":""}]
[{"$f":"IF(Sheet1!B3846=\"\",\"\",Sheet1!B3846&\" \"&Sheet1!C3846)","v":""}]
[{"$f":"IF(Sheet1!B3847=\"\",\"\",Sheet1!B3847&\" \"&Sheet1!C3847)","v":""}]
[{"$f":"IF(Sheet1!B3848=\"\",\"\",Sheet1!B3848&\" \"&Sheet1!C3848)","v":""}]
[{"$f":"IF(Sheet1!B3849=\"\",\"\",Sheet1!B3849&\" \"&Sheet1!C3849)","v":""}]
[{"$f":"IF(Sheet1!B3850=\"\",\"\",Sheet1!B3850&\" \"&Sheet1!C3850)","v":""}]
[{"$f":"IF(Sheet1!B3851=\"\",\"\",Sheet1!B3851&\" \"&Sheet1!C3851)","v":""}]
[{"$f":"IF(Sheet1!B3852=\"\",\"\",Sheet1!B3852&\" \"&Sheet1!C3852)","v":""}]
[{"$f":"IF(Sheet1!B3853=\"\",\"\",Sheet1!B3853&\" \"&Sheet1!C3853)","v":""}]
[{"$f":"IF(Sheet1!B3854=\"\",\"\",Sheet1!B3854&\" \"&Sheet1!C3854)","v":""}]
[{"$f":"IF(Sheet1!B3855=\"\",\"\",Sheet1!B3855&\" \"&Sheet1!C3855)","v":""}]
[{"$f":"IF(Sheet1!B3856=\"\",\"\",Sheet1!B3856&\" \"&Sheet1!C3856)","v":""}]
[{"$f":"IF(Sheet1!B3857=\"\",\"\",Sheet1!B3857&\" \"&Sheet1!C3857)","v":""}]
[{"$f":"IF(Sheet1!B3858=\"\",\"\",Sheet1!B3858&\" \"&Sheet1!C3858)","v":""}]
[{"$f":"IF(Sheet1!B3859=\"\",\"\",Sheet1!B3859&\" \"&Sheet1!C3859)","v":""}]
[{"$f":"IF(Sheet1!B3860=\"\",\"\",Sheet1!B3860&\" \"&Sheet1!C3860)","v":""}]
[{"$f":"IF(Sheet1!B3861=\"\",\"\",Sheet1!B3861&\" \"&Sheet1!C3861)","v":""}]
[{"$f":"IF(Sheet1!B3862=\"\",\"\",Sheet1!B3862&\" \"&Sheet1!C3862)","v":""}]
[{"$f":"IF(Sheet1!B3863=\"\",\"\",Sheet1!B3863&\" \"&Sheet1!C3863)","v":""}]
[{"$f":"IF(Sheet1!B3864=\"\",\"\",Sheet1!B3864&\" \"&Sheet1!C3864)","v":""}]
[{"$f":"IF(Sheet1!B3865=\"\",\"\",Sheet1!B3865&\" \"&Sheet1!C3865)","v":""}]
[{"$f":"IF(Sheet1!B3866=\"\",\"\",Sheet1!B3866&\" \"&Sheet1!C3866)","v":""}]
[{"$f":"IF(Sheet1!B3867=\"\",\"\",Sheet1!B3867&\" \"&Sheet1!C3867)","v":""}]
[{"$f":"IF(Sheet1!B3868=\"\",\"\",Sheet1!B3868&\" \"&Sheet1!C3868)","v":""}]
[{"$f":"IF(Sheet1!B3869=\"\",\"\",Sheet1!B3869&\" \"&Sheet1!C3869)","v":""}]
[{"$f":"IF(Sheet1!B3870=\"\",\"\",Sheet1!B3870&\" \"&Sheet1!C3870)","v":""}]
[{"$f":"IF(Sheet1!B3871=\"\",\"\",Sheet1!B3871&\" \"&Sheet1!C3871)","v":""}]
[{"$f":"IF(Sheet1!B3872=\"\",\"\",Sheet1!B3872&\" \"&Sheet1!C3872)","v":""}]
[{"$f":"IF(Sheet1!B3873=\"\",\"\",Sheet1!B3873&\" \"&Sheet1!C3873)","v":""}]
[{"$f":"IF(Sheet1!B3874=\"\",\"\",Sheet1!B3874&\" \"&Sheet1!C3874)","v":""}]
[{"$f":"IF(Sheet1!B3875=\"\",\"\",Sheet1!B3875&\" \"&Sheet1!C3875)","v":""}]
[{"$f":"IF(Sheet1!B3876=\"\",\"\",Sheet1!B3876&\" \"&Sheet1!C3876)","v":""}]
[{"$f":"IF(Sheet1!B3877=\"\",\"\",Sheet1!B3877&\" \"&Sheet1!C3877)","v":""}]
[{"$f":"IF(Sheet1!B3878=\"\",\"\",Sheet1!B3878&\" \"&Sheet1!C3878)","v":""}]
[{"$f":"IF(Sheet1!B3879=\"\",\"\",Sheet1!B3879&\" \"&Sheet1!C3879)","v":""}]
[{"$f":"IF(Sheet1!B3880=\"\",\"\",Sheet1!B3880&\" \"&Sheet1!C3880)","v":""}]
[{"$f":"IF(Sheet1!B3881=\"\",\"\",Sheet1!B3881&\" \"&Sheet1!C3881)","v":""}]
[{"$f":"IF(Sheet1!B3882=\"\",\"\",Sheet1!B3882&\" \"&Sheet1!C3882)","v":""}]
[{"$f":"IF(Sheet1!B3883=\"\",\"\",Sheet1!B3883&\" \"&Sheet1!C3883)","v":""}]
[{"$f":"IF(Sheet1!B3884=\"\",\"\",Sheet1!B3884&\" \"&Sheet1!C3884)","v":""}]
[{"$f":"IF(Sheet1!B3885=\"\",\"\",Sheet1!B3885&\" \"&Sheet1!C3885)","v":""}]
[{"$f":"IF(Sheet1!B3886=\"\",\"\",Sheet1!B3886&\" \"&Sheet1!C3886)","v":""}]
[{"$f":"IF(Sheet1!B3887=\"\",\"\",Sheet1!B3887&\" \"&Sheet1!C3887)","v":""}]
[{"$f":"IF(Sheet1!B3888=\"\",\"\",Sheet1!B3888&\" \"&Sheet1!C3888)","v":""}]
[{"$f":"IF(Sheet1!B3889=\"\",\"\",Sheet1!B3889&\" \"&Sheet1!C3889)","v":""}]
[{"$f":"IF(Sheet1!B3890=\"\",\"\",Sheet1!B3890&\" \"&Sheet1!C3890)","v":""}]
[{"$f":"IF(Sheet1!B3891=\"\",\"\",Sheet1!B3891&\" \"&Sheet1!C3891)","v":""}]
[{"$f":"IF(Sheet1!B3892=\"\",\"\",Sheet1!B3892&\" \"&Sheet1!C3892)","v":""}]
[{"$f":"IF(Sheet1!B3893=\"\",\"\",Sheet1!B3893&\" \"&Sheet1!C3893)","v":""}]
[{"$f":"IF(Sheet1!B3894=\"\",\"\",Sheet1!B3894&\" \"&Sheet1!C3894)","v":""}]
[{"$f":"IF(Sheet1!B3895=\"\",\"\",Sheet1!B3895&\" \"&Sheet1!C3895)","v":""}]
[{"$f":"IF(Sheet1!B3896=\"\",\"\",Sheet1!B3896&\" \"&Sheet1!C3896)","v":""}]
[{"$f":"IF(Sheet1!B3897=\"\",\"\",Sheet1!B3897&\" \"&Sheet1!C3897)","v":""}]
[{"$f":"IF(Sheet1!B3898=\"\",\"\",Sheet1!B3898&\" \"&Sheet1!C3898)","v":""}]
[{"$f":"IF(Sheet1!B3899=\"\",\"\",Sheet1!B3899&\" \"&Sheet1!C3899)","v":""}]
[{"$f":"IF(Sheet1!B3900=\"\",\"\",Sheet1!B3900&\" \"&Sheet1!C3900)","v":""}]
[{"$f":"IF(Sheet1!B3901=\"\",\"\",Sheet1!B3901&\" \"&Sheet1!C3901)","v":""}]
[{"$f":"IF(Sheet1!B3902=\"\",\"\",Sheet1!B3902&\" \"&Sheet1!C3902)","v":""}]
[{"$f":"IF(Sheet1!B3903=\"\",\"\",Sheet1!B3903&\" \"&Sheet1!C3903)","v":""}]
[{"$f":"IF(Sheet1!B3904=\"\",\"\",Sheet1!B3904&\" \"&Sheet1!C3904)","v":""}]
[{"$f":"IF(Sheet1!B3905=\"\",\"\",Sheet1!B3905&\" \"&Sheet1!C3905)","v":""}]
[{"$f":"IF(Sheet1!B3906=\"\",\"\",Sheet1!B3906&\" \"&Sheet1!C3906)","v":""}]
[{"$f":"IF(Sheet1!B3907=\"\",\"\",Sheet1!B3907&\" \"&Sheet1!C3907)","v":""}]
[{"$f":"IF(Sheet1!B3908=\"\",\"\",Sheet1!B3908&\" \"&Sheet1!C3908)","v":""}]
[{"$f":"IF(Sheet1!B3909=\"\",\"\",Sheet1!B3909&\" \"&Sheet1!C3909)","v":""}]
[{"$f":"IF(Sheet1!B3910=\"\",\"\",Sheet1!B3910&\" \"&Sheet1!C3910)","v":""}]
[{"$f":"IF(Sheet1!B3911=\"\",\"\",Sheet1!B3911&\" \"&Sheet1!C3911)","v":""}]
[{"$f":"IF(Sheet1!B3912=\"\",\"\",Sheet1!B3912&\" \"&Sheet1!C3912)","v":""}]
[{"$f":"IF(Sheet1!B3913=\"\",\"\",Sheet1!B3913&\" \"&Sheet1!C3913)","v":""}]
[{"$f":"IF(Sheet1!B3914=\"\",\"\",Sheet1!B3914&\" \"&Sheet1!C3914)","v":""}]
[{"$f":"IF(Sheet1!B3915=\"\",\"\",Sheet1!B3915&\" \"&Sheet1!C3915)","v":""}]
[{"$f":"IF(Sheet1!B3916=\"\",\"\",Sheet1!B3916&\" \"&Sheet1!C3916)","v":""}]
[{"$f":"IF(Sheet1!B3917=\"\",\"\",Sheet1!B3917&\" \"&Sheet1!C3917)","v":""}]
[{"$f":"IF(Sheet1!B3918=\"\",\"\",Sheet1!B3918&\" \"&Sheet1!C3918)","v":""}]
[{"$f":"IF(Sheet1!B3919=\"\",\"\",Sheet1!B3919&\" \"&Sheet1!C3919)","v":""}]
[{"$f":"IF(Sheet1!B3920=\"\",\"\",Sheet1!B3920&\" \"&Sheet1!C3920)","v":""}]
[{"$f":"IF(Sheet1!B3921=\"\",\"\",Sheet1!B3921&\" \"&Sheet1!C3921)","v":""}]
[{"$f":"IF(Sheet1!B3922=\"\",\"\",Sheet1!B3922&\" \"&Sheet1!C3922)","v":""}]
[{"$f":"IF(Sheet1!B3923=\"\",\"\",Sheet1!B3923&\" \"&Sheet1!C3923)","v":""}]
[{"$f":"IF(Sheet1!B3924=\"\",\"\",Sheet1!B3924&\" \"&Sheet1!C3924)","v":""}]
[{"$f":"IF(Sheet1!B3925=\"\",\"\",Sheet1!B3925&\" \"&Sheet1!C3925)","v":""}]
[{"$f":"IF(Sheet1!B3926=\"\",\"\",Sheet1!B3926&\" \"&Sheet1!C3926)","v":""}]
[{"$f":"IF(Sheet1!B3927=\"\",\"\",Sheet1!B3927&\" \"&Sheet1!C3927)","v":""}]
[{"$f":"IF(Sheet1!B3928=\"\",\"\",Sheet1!B3928&\" \"&Sheet1!C3928)","v":""}]
[{"$f":"IF(Sheet1!B3929=\"\",\"\",Sheet1!B3929&\" \"&Sheet1!C3929)","v":""}]
[{"$f":"IF(Sheet1!B3930=\"\",\"\",Sheet1!B3930&\" \"&Sheet1!C3930)","v":""}]
[{"$f":"IF(Sheet1!B3931=\"\",\"\",Sheet1!B3931&\" \"&Sheet1!C3931)","v":""}]
[{"$f":"IF(Sheet1!B3932=\"\",\"\",Sheet1!B3932&\" \"&Sheet1!C3932)","v":""}]
[{"$f":"IF(Sheet1!B3933=\"\",\"\",Sheet1!B3933&\" \"&Sheet1!C3933)","v":""}]
[{"$f":"IF(Sheet1!B3934=\"\",\"\",Sheet1!B3934&\" \"&Sheet1!C3934)","v":""}]
[{"$f":"IF(Sheet1!B3935=\"\",\"\",Sheet1!B3935&\" \"&Sheet1!C3935)","v":""}]
[{"$f":"IF(Sheet1!B3936=\"\",\"\",Sheet1!B3936&\" \"&Sheet1!C3936)","v":""}]
[{"$f":"IF(Sheet1!B3937=\"\",\"\",Sheet1!B3937&\" \"&Sheet1!C3937)","v":""}]
[{"$f":"IF(Sheet1!B3938=\"\",\"\",Sheet1!B3938&\" \"&Sheet1!C3938)","v":""}]
[{"$f":"IF(Sheet1!B3939=\"\",\"\",Sheet1!B3939&\" \"&Sheet1!C3939)","v":""}]
[{"$f":"IF(Sheet1!B3940=\"\",\"\",Sheet1!B3940&\" \"&Sheet1!C3940)","v":""}]
[{"$f":"IF(Sheet1!B3941=\"\",\"\",Sheet1!B3941&\" \"&Sheet1!C3941)","v":""}]
[{"$f":"IF(Sheet1!B3942=\"\",\"\",Sheet1!B3942&\" \"&Sheet1!C3942)","v":""}]
[{"$f":"IF(Sheet1!B3943=\"\",\"\",Sheet1!B3943&\" \"&Sheet1!C3943)","v":""}]
[{"$f":"IF(Sheet1!B3944=\"\",\"\",Sheet1!B3944&\" \"&Sheet1!C3944)","v":""}]
[{"$f":"IF(Sheet1!B3945=\"\",\"\",Sheet1!B3945&\" \"&Sheet1!C3945)","v":""}]
[{"$f":"IF(Sheet1!B3946=\"\",\"\",Sheet1!B3946&\" \"&Sheet1!C3946)","v":""}]
[{"$f":"IF(Sheet1!B3947=\"\",\"\",Sheet1!B3947&\" \"&Sheet1!C3947)","v":""}]
[{"$f":"IF(Sheet1!B3948=\"\",\"\",Sheet1!B3948&\" \"&Sheet1!C3948)","v":""}]
[{"$f":"IF(Sheet1!B3949=\"\",\"\",Sheet1!B3949&\" \"&Sheet1!C3949)","v":""}]
[{"$f":"IF(Sheet1!B3950=\"\",\"\",Sheet1!B3950&\" \"&Sheet1!C3950)","v":""}]
[{"$f":"IF(Sheet1!B3951=\"\",\"\",Sheet1!B3951&\" \"&Sheet1!C3951)","v":""}]
[{"$f":"IF(Sheet1!B3952=\"\",\"\",Sheet1!B3952&\" \"&Sheet1!C3952)","v":""}]
[{"$f":"IF(Sheet1!B3953=\"\",\"\",Sheet1!B3953&\" \"&Sheet1!C3953)","v":""}]
[{"$f":"IF(Sheet1!B3954=\"\",\"\",Sheet1!B3954&\" \"&Sheet1!C3954)","v":""}]
[{"$f":"IF(Sheet1!B3955=\"\",\"\",Sheet1!B3955&\" \"&Sheet1!C3955)","v":""}]
[{"$f":"IF(Sheet1!B3956=\"\",\"\",Sheet1!B3956&\" \"&Sheet1!C3956)","v":""}]
[{"$f":"IF(Sheet1!B3957=\"\",\"\",Sheet1!B3957&\" \"&Sheet1!C3957)","v":""}]
[{"$f":"IF(Sheet1!B3958=\"\",\"\",Sheet1!B3958&\" \"&Sheet1!C3958)","v":""}]
[{"$f":"IF(Sheet1!B3959=\"\",\"\",Sheet1!B3959&\" \"&Sheet1!C3959)","v":""}]
[{"$f":"IF(Sheet1!B3960=\"\",\"\",Sheet1!B3960&\" \"&Sheet1!C3960)","v":""}]
[{"$f":"IF(Sheet1!B3961=\"\",\"\",Sheet1!B3961&\" \"&Sheet1!C3961)","v":""}]
[{"$f":"IF(Sheet1!B3962=\"\",\"\",Sheet1!B3962&\" \"&Sheet1!C3962)","v":""}]
[{"$f":"IF(Sheet1!B3963=\"\",\"\",Sheet1!B3963&\" \"&Sheet1!C3963)","v":""}]
[{"$f":"IF(Sheet1!B3964=\"\",\"\",Sheet1!B3964&\" \"&Sheet1!C3964)","v":""}]
[{"$f":"IF(Sheet1!B3965=\"\",\"\",Sheet1!B3965&\" \"&Sheet1!C3965)","v":""}]
[{"$f":"IF(Sheet1!B3966=\"\",\"\",Sheet1!B3966&\" \"&Sheet1!C3966)","v":""}]
[{"$f":"IF(Sheet1!B3967=\"\",\"\",Sheet1!B3967&\" \"&Sheet1!C3967)","v":""}]
[{"$f":"IF(Sheet1!B3968=\"\",\"\",Sheet1!B3968&\" \"&Sheet1!C3968)","v":""}]
[{"$f":"IF(Sheet1!B3969=\"\",\"\",Sheet1!B3969&\" \"&Sheet1!C3969)","v":""}]
[{"$f":"IF(Sheet1!B3970=\"\",\"\",Sheet1!B3970&\" \"&Sheet1!C3970)","v":""}]
[{"$f":"IF(Sheet1!B3971=\"\",\"\",Sheet1!B3971&\" \"&Sheet1!C3971)","v":""}]
[{"$f":"IF(Sheet1!B3972=\"\",\"\",Sheet1!B3972&\" \"&Sheet1!C3972)","v":""}]
[{"$f":"IF(Sheet1!B3973=\"\",\"\",Sheet1!B3973&\" \"&Sheet1!C3973)","v":""}]
[{"$f":"IF(Sheet1!B3974=\"\",\"\",Sheet1!B3974&\" \"&Sheet1!C3974)","v":""}]
[{"$f":"IF(Sheet1!B3975=\"\",\"\",Sheet1!B3975&\" \"&Sheet1!C3975)","v":""}]
[{"$f":"IF(Sheet1!B3976=\"\",\"\",Sheet1!B3976&\" \"&Sheet1!C3976)","v":""}]
[{"$f":"IF(Sheet1!B3977=\"\",\"\",Sheet1!B3977&\" \"&Sheet1!C3977)","v":""}]
[{"$f":"IF(Sheet1!B3978=\"\",\"\",Sheet1!B3978&\" \"&Sheet1!C3978)","v":""}]
[{"$f":"IF(Sheet1!B3979=\"\",\"\",Sheet1!B3979&\" \"&Sheet1!C3979)","v":""}]
[{"$f":"IF(Sheet1!B3980=\"\",\"\",Sheet1!B3980&\" \"&Sheet1!C3980)","v":""}]
[{"$f":"IF(Sheet1!B3981=\"\",\"\",Sheet1!B3981&\" \"&Sheet1!C3981)","v":""}]
[{"$f":"IF(Sheet1!B3982=\"\",\"\",Sheet1!B3982&\" \"&Sheet1!C3982)","v":""}]
[{"$f":"IF(Sheet1!B3983=\"\",\"\",Sheet1!B3983&\" \"&Sheet1!C3983)","v":""}]
[{"$f":"IF(Sheet1!B3984=\"\",\"\",Sheet1!B3984&\" \"&Sheet1!C3984)","v":""}]
[{"$f":"IF(Sheet1!B3985=\"\",\"\",Sheet1!B3985&\" \"&Sheet1!C3985)","v":""}]
[{"$f":"IF(Sheet1!B3986=\"\",\"\",Sheet1!B3986&\" \"&Sheet1!C3986)","v":""}]
[{"$f":"IF(Sheet1!B3987=\"\",\"\",Sheet1!B3987&\" \"&Sheet1!C3987)","v":""}]
[{"$f":"IF(Sheet1!B3988=\"\",\"\",Sheet1!B3988&\" \"&Sheet1!C3988)","v":""}]
[{"$f":"IF(Sheet1!B3989=\"\",\"\",Sheet1!B3989&\" \"&Sheet1!C3989)","v":""}]
[{"$f":"IF(Sheet1!B3990=\"\",\"\",Sheet1!B3990&\" \"&Sheet1!C3990)","v":""}]
[{"$f":"IF(Sheet1!B3991=\"\",\"\",Sheet1!B3991&\" \"&Sheet1!C3991)","v":""}]
[{"$f":"IF(Sheet1!B3992=\"\",\"\",Sheet1!B3992&\" \"&Sheet1!C3992)","v":""}]
[{"$f":"IF(Sheet1!B3993=\"\",\"\",Sheet1!B3993&\" \"&Sheet1!C3993)","v":""}]
[{"$f":"IF(Sheet1!B3994=\"\",\"\",Sheet1!B3994&\" \"&Sheet1!C3994)","v":""}]
[{"$f":"IF(Sheet1!B3995=\"\",\"\",Sheet1!B3995&\" \"&Sheet1!C3995)","v":""}]
[{"$f":"IF(Sheet1!B3996=\"\",\"\",Sheet1!B3996&\" \"&Sheet1!C3996)","v":""}]
[{"$f":"IF(Sheet1!B3997=\"\",\"\",Sheet1!B3997&\" \"&Sheet1!C3997)","v":""}]
[{"$f":"IF(Sheet1!B3998=\"\",\"\",Sheet1!B3998&\" \"&Sheet1!C3998)","v":""}]
[{"$f":"IF(Sheet1!B3999=\"\",\"\",Sheet1!B3999&\" \"&Sheet1!C3999)","v":""}]
[{"$f":"IF(Sheet1!B4000=\"\",\"\",Sheet1!B4000&\" \"&Sheet1!C4000)","v":""}]
[{"$f":"IF(Sheet1!B4001=\"\",\"\",Sheet1!B4001&\" \"&Sheet1!C4001)","v":""}]
[{"$f":"IF(Sheet1!B4002=\"\",\"\",Sheet1!B4002&\" \"&Sheet1!C4002)","v":""}]
[{"$f":"IF(Sheet1!B4003=\"\",\"\",Sheet1!B4003&\" \"&Sheet1!C4003)","v":""}]
[{"$f":"IF(Sheet1!B4004=\"\",\"\",Sheet1!B4004&\" \"&Sheet1!C4004)","v":""}]
[{"$f":"IF(Sheet1!B4005=\"\",\"\",Sheet1!B4005&\" \"&Sheet1!C4005)","v":""}]
[{"$f":"IF(Sheet1!B4006=\"\",\"\",Sheet1!B4006&\" \"&Sheet1!C4006)","v":""}]
[{"$f":"IF(Sheet1!B4007=\"\",\"\",Sheet1!B4007&\" \"&Sheet1!C4007)","v":""}]
[{"$f":"IF(Sheet1!B4008=\"\",\"\",Sheet1!B4008&\" \"&Sheet1!C4008)","v":""}]
[{"$f":"IF(Sheet1!B4009=\"\",\"\",Sheet1!B4009&\" \"&Sheet1!C4009)","v":""}]
[{"$f":"IF(Sheet1!B4010=\"\",\"\",Sheet1!B4010&\" \"&Sheet1!C4010)","v":""}]
[{"$f":"IF(Sheet1!B4011=\"\",\"\",Sheet1!B4011&\" \"&Sheet1!C4011)","v":""}]
[{"$f":"IF(Sheet1!B4012=\"\",\"\",Sheet1!B4012&\" \"&Sheet1!C4012)","v":""}]
[{"$f":"IF(Sheet1!B4013=\"\",\"\",Sheet1!B4013&\" \"&Sheet1!C4013)","v":""}]
[{"$f":"IF(Sheet1!B4014=\"\",\"\",Sheet1!B4014&\" \"&Sheet1!C4014)","v":""}]
[{"$f":"IF(Sheet1!B4015=\"\",\"\",Sheet1!B4015&\" \"&Sheet1!C4015)","v":""}]
[{"$f":"IF(Sheet1!B4016=\"\",\"\",Sheet1!B4016&\" \"&Sheet1!C4016)","v":""}]
[{"$f":"IF(Sheet1!B4017=\"\",\"\",Sheet1!B4017&\" \"&Sheet1!C4017)","v":""}]
[{"$f":"IF(Sheet1!B4018=\"\",\"\",Sheet1!B4018&\" \"&Sheet1!C4018)","v":""}]
[{"$f":"IF(Sheet1!B4019=\"\",\"\",Sheet1!B4019&\" \"&Sheet1!C4019)","v":""}]
[{"$f":"IF(Sheet1!B4020=\"\",\"\",Sheet1!B4020&\" \"&Sheet1!C4020)","v":""}]
[{"$f":"IF(Sheet1!B4021=\"\",\"\",Sheet1!B4021&\" \"&Sheet1!C4021)","v":""}]
[{"$f":"IF(Sheet1!B4022=\"\",\"\",Sheet1!B4022&\" \"&Sheet1!C4022)","v":""}]
[{"$f":"IF(Sheet1!B4023=\"\",\"\",Sheet1!B4023&\" \"&Sheet1!C4023)","v":""}]
[{"$f":"IF(Sheet1!B4024=\"\",\"\",Sheet1!B4024&\" \"&Sheet1!C4024)","v":""}]
[{"$f":"IF(Sheet1!B4025=\"\",\"\",Sheet1!B4025&\" \"&Sheet1!C4025)","v":""}]
[{"$f":"IF(Sheet1!B4026=\"\",\"\",Sheet1!B4026&\" \"&Sheet1!C4026)","v":""}]
[{"$f":"IF(Sheet1!B4027=\"\",\"\",Sheet1!B4027&\" \"&Sheet1!C4027)","v":""}]
[{"$f":"IF(Sheet1!B4028=\"\",\"\",Sheet1!B4028&\" \"&Sheet1!C4028)","v":""}]
[{"$f":"IF(Sheet1!B4029=\"\",\"\",Sheet1!B4029&\" \"&Sheet1!C4029)","v":""}]
[{"$f":"IF(Sheet1!B4030=\"\",\"\",Sheet1!B4030&\" \"&Sheet1!C4030)","v":""}]
[{"$f":"IF(Sheet1!B4031=\"\",\"\",Sheet1!B4031&\" \"&Sheet1!C4031)","v":""}]
[{"$f":"IF(Sheet1!B4032=\"\",\"\",Sheet1!B4032&\" \"&Sheet1!C4032)","v":""}]
[{"$f":"IF(Sheet1!B4033=\"\",\"\",Sheet1!B4033&\" \"&Sheet1!C4033)","v":""}]
[{"$f":"IF(Sheet1!B4034=\"\",\"\",Sheet1!B4034&\" \"&Sheet1!C4034)","v":""}]
[{"$f":"IF(Sheet1!B4035=\"\",\"\",Sheet1!B4035&\" \"&Sheet1!C4035)","v":""}]
[{"$f":"IF(Sheet1!B4036=\"\",\"\",Sheet1!B4036&\" \"&Sheet1!C4036)","v":""}]
[{"$f":"IF(Sheet1!B4037=\"\",\"\",Sheet1!B4037&\" \"&Sheet1!C4037)","v":""}]
[{"$f":"IF(Sheet1!B4038=\"\",\"\",Sheet1!B4038&\" \"&Sheet1!C4038)","v":""}]
[{"$f":"IF(Sheet1!B4039=\"\",\"\",Sheet1!B4039&\" \"&Sheet1!C4039)","v":""}]
[{"$f":"IF(Sheet1!B4040=\"\",\"\",Sheet1!B4040&\" \"&Sheet1!C4040)","v":""}]
[{"$f":"IF(Sheet1!B4041=\"\",\"\",Sheet1!B4041&\" \"&Sheet1!C4041)","v":""}]
[{"$f":"IF(Sheet1!B4042=\"\",\"\",Sheet1!B4042&\" \"&Sheet1!C4042)","v":""}]
[{"$f":"IF(Sheet1!B4043=\"\",\"\",Sheet1!B4043&\" \"&Sheet1!C4043)","v":""}]
[{"$f":"IF(Sheet1!B4044=\"\",\"\",Sheet1!B4044&\" \"&Sheet1!C4044)","v":""}]
[{"$f":"IF(Sheet1!B4045=\"\",\"\",Sheet1!B4045&\" \"&Sheet1!C4045)","v":""}]
[{"$f":"IF(Sheet1!B4046=\"\",\"\",Sheet1!B4046&\" \"&Sheet1!C4046)","v":""}]
[{"$f":"IF(Sheet1!B4047=\"\",\"\",Sheet1!B4047&\" \"&Sheet1!C4047)","v":""}]
[{"$f":"IF(Sheet1!B4048=\"\",\"\",Sheet1!B4048&\" \"&Sheet1!C4048)","v":""}]
[{"$f":"IF(Sheet1!B4049=\"\",\"\",Sheet1!B4049&\" \"&Sheet1!C4049)","v":""}]
[{"$f":"IF(Sheet1!B4050=\"\",\"\",Sheet1!B4050&\" \"&Sheet1!C4050)","v":""}]
[{"$f":"IF(Sheet1!B4051=\"\",\"\",Sheet1!B4051&\" \"&Sheet1!C4051)","v":""}]
[{"$f":"IF(Sheet1!B4052=\"\",\"\",Sheet1!B4052&\" \"&Sheet1!C4052)","v":""}]
[{"$f":"IF(Sheet1!B4053=\"\",\"\",Sheet1!B4053&\" \"&Sheet1!C4053)","v":""}]
[{"$f":"IF(Sheet1!B4054=\"\",\"\",Sheet1!B4054&\" \"&Sheet1!C4054)","v":""}]
[{"$f":"IF(Sheet1!B4055=\"\",\"\",Sheet1!B4055&\" \"&Sheet1!C4055)","v":""}]
[{"$f":"IF(Sheet1!B4056=\"\",\"\",Sheet1!B4056&\" \"&Sheet1!C4056)","v":""}]
[{"$f":"IF(Sheet1!B4057=\"\",\"\",Sheet1!B4057&\" \"&Sheet1!C4057)","v":""}]
[{"$f":"IF(Sheet1!B4058=\"\",\"\",Sheet1!B4058&\" \"&Sheet1!C4058)","v":""}]
[{"$f":"IF(Sheet1!B4059=\"\",\"\",Sheet1!B4059&\" \"&Sheet1!C4059)","v":""}]
[{"$f":"IF(Sheet1!B4060=\"\",\"\",Sheet1!B4060&\" \"&Sheet1!C4060)","v":""}]
[{"$f":"IF(Sheet1!B4061=\"\",\"\",Sheet1!B4061&\" \"&Sheet1!C4061)","v":""}]
[{"$f":"IF(Sheet1!B4062=\"\",\"\",Sheet1!B4062&\" \"&Sheet1!C4062)","v":""}]
[{"$f":"IF(Sheet1!B4063=\"\",\"\",Sheet1!B4063&\" \"&Sheet1!C4063)","v":""}]
[{"$f":"IF(Sheet1!B4064=\"\",\"\",Sheet1!B4064&\" \"&Sheet1!C4064)","v":""}]
[{"$f":"IF(Sheet1!B4065=\"\",\"\",Sheet1!B4065&\" \"&Sheet1!C4065)","v":""}]
[{"$f":"IF(Sheet1!B4066=\"\",\"\",Sheet1!B4066&\" \"&Sheet1!C4066)","v":""}]
[{"$f":"IF(Sheet1!B4067=\"\",\"\",Sheet1!B4067&\" \"&Sheet1!C4067)","v":""}]
[{"$f":"IF(Sheet1!B4068=\"\",\"\",Sheet1!B4068&\" \"&Sheet1!C4068)","v":""}]
[{"$f":"IF(Sheet1!B4069=\"\",\"\",Sheet1!B4069&\" \"&Sheet1!C4069)","v":""}]
[{"$f":"IF(Sheet1!B4070=\"\",\"\",Sheet1!B4070&\" \"&Sheet1!C4070)","v":""}]
[{"$f":"IF(Sheet1!B4071=\"\",\"\",Sheet1!B4071&\" \"&Sheet1!C4071)","v":""}]
[{"$f":"IF(Sheet1!B4072=\"\",\"\",Sheet1!B4072&\" \"&Sheet1!C4072)","v":""}]
[{"$f":"IF(Sheet1!B4073=\"\",\"\",Sheet1!B4073&\" \"&Sheet1!C4073)","v":""}]
[{"$f":"IF(Sheet1!B4074=\"\",\"\",Sheet1!B4074&\" \"&Sheet1!C4074)","v":""}]
[{"$f":"IF(Sheet1!B4075=\"\",\"\",Sheet1!B4075&\" \"&Sheet1!C4075)","v":""}]
[{"$f":"IF(Sheet1!B4076=\"\",\"\",Sheet1!B4076&\" \"&Sheet1!C4076)","v":""}]
[{"$f":"IF(Sheet1!B4077=\"\",\"\",Sheet1!B4077&\" \"&Sheet1!C4077)","v":""}]
[{"$f":"IF(Sheet1!B4078=\"\",\"\",Sheet1!B4078&\" \"&Sheet1!C4078)","v":""}]
[{"$f":"IF(Sheet1!B4079=\"\",\"\",Sheet1!B4079&\" \"&Sheet1!C4079)","v":""}]
[{"$f":"IF(Sheet1!B4080=\"\",\"\",Sheet1!B4080&\" \"&Sheet1!C4080)","v":""}]
[{"$f":"IF(Sheet1!B4081=\"\",\"\",Sheet1!B4081&\" \"&Sheet1!C4081)","v":""}]
[{"$f":"IF(Sheet1!B4082=\"\",\"\",Sheet1!B4082&\" \"&Sheet1!C4082)","v":""}]
[{"$f":"IF(Sheet1!B4083=\"\",\"\",Sheet1!B4083&\" \"&Sheet1!C4083)","v":""}]
[{"$f":"IF(Sheet1!B4084=\"\",\"\",Sheet1!B4084&\" \"&Sheet1!C4084)","v":""}]
[{"$f":"IF(Sheet1!B4085=\"\",\"\",Sheet1!B4085&\" \"&Sheet1!C4085)","v":""}]
[{"$f":"IF(Sheet1!B4086=\"\",\"\",Sheet1!B4086&\" \"&Sheet1!C4086)","v":""}]
[{"$f":"IF(Sheet1!B4087=\"\",\"\",Sheet1!B4087&\" \"&Sheet1!C4087)","v":""}]
[{"$f":"IF(Sheet1!B4088=\"\",\"\",Sheet1!B4088&\" \"&Sheet1!C4088)","v":""}]
[{"$f":"IF(Sheet1!B4089=\"\",\"\",Sheet1!B4089&\" \"&Sheet1!C4089)","v":""}]
[{"$f":"IF(Sheet1!B4090=\"\",\"\",Sheet1!B4090&\" \"&Sheet1!C4090)","v":""}]
[{"$f":"IF(Sheet1!B4091=\"\",\"\",Sheet1!B4091&\" \"&Sheet1!C4091)","v":""}]
[{"$f":"IF(Sheet1!B4092=\"\",\"\",Sheet1!B4092&\" \"&Sheet1!C4092)","v":""}]
[{"$f":"IF(Sheet1!B4093=\"\",\"\",Sheet1!B4093&\" \"&Sheet1!C4093)","v":""}]
[{"$f":"IF(Sheet1!B4094=\"\",\"\",Sheet1!B4094&\" \"&Sheet1!C4094)","v":""}]
[{"$f":"IF(Sheet1!B4095=\"\",\"\",Sheet1!B4095&\" \"&Sheet1!C4095)","v":""}]
[{"$f":"IF(Sheet1!B4096=\"\",\"\",Sheet1!B4096&\" \"&Sheet1!C4096)","v":""}]
[{"$f":"IF(Sheet1!B4097=\"\",\"\",Sheet1!B4097&\" \"&Sheet1!C4097)","v":""}]
[{"$f":"IF(Sheet1!B4098=\"\",\"\",Sheet1!B4098&\" \"&Sheet1!C4098)","v":""}]
[{"$f":"IF(Sheet1!B4099=\"\",\"\",Sheet1!B4099&\" \"&Sheet1!C4099)","v":""}]
[{"$f":"IF(Sheet1!B4100=\"\",\"\",Sheet1!B4100&\" \"&Sheet1!C4100)","v":""}]
[{"$f":"IF(Sheet1!B4101=\"\",\"\",Sheet1!B4101&\" \"&Sheet1!C4101)","v":""}]
[{"$f":"IF(Sheet1!B4102=\"\",\"\",Sheet1!B4102&\" \"&Sheet1!C4102)","v":""}]
[{"$f":"IF(Sheet1!B4103=\"\",\"\",Sheet1!B4103&\" \"&Sheet1!C4103)","v":""}]
[{"$f":"IF(Sheet1!B4104=\"\",\"\",Sheet1!B4104&\" \"&Sheet1!C4104)","v":""}]
[{"$f":"IF(Sheet1!B4105=\"\",\"\",Sheet1!B4105&\" \"&Sheet1!C4105)","v":""}]
[{"$f":"IF(Sheet1!B4106=\"\",\"\",Sheet1!B4106&\" \"&Sheet1!C4106)","v":""}]
[{"$f":"IF(Sheet1!B4107=\"\",\"\",Sheet1!B4107&\" \"&Sheet1!C4107)","v":""}]
[{"$f":"IF(Sheet1!B4108=\"\",\"\",Sheet1!B4108&\" \"&Sheet1!C4108)","v":""}]
[{"$f":"IF(Sheet1!B4109=\"\",\"\",Sheet1!B4109&\" \"&Sheet1!C4109)","v":""}]
[{"$f":"IF(Sheet1!B4110=\"\",\"\",Sheet1!B4110&\" \"&Sheet1!C4110)","v":""}]
[{"$f":"IF(Sheet1!B4111=\"\",\"\",Sheet1!B4111&\" \"&Sheet1!C4111)","v":""}]
[{"$f":"IF(Sheet1!B4112=\"\",\"\",Sheet1!B4112&\" \"&Sheet1!C4112)","v":""}]
[{"$f":"IF(Sheet1!B4113=\"\",\"\",Sheet1!B4113&\" \"&Sheet1!C4113)","v":""}]
[{"$f":"IF(Sheet1!B4114=\"\",\"\",Sheet1!B4114&\" \"&Sheet1!C4114)","v":""}]
[{"$f":"IF(Sheet1!B4115=\"\",\"\",Sheet1!B4115&\" \"&Sheet1!C4115)","v":""}]
[{"$f":"IF(Sheet1!B4116=\"\",\"\",Sheet1!B4116&\" \"&Sheet1!C4116)","v":""}]
[{"$f":"IF(Sheet1!B4117=\"\",\"\",Sheet1!B4117&\" \"&Sheet1!C4117)","v":""}]
[{"$f":"IF(Sheet1!B4118=\"\",\"\",Sheet1!B4118&\" \"&Sheet1!C4118)","v":""}]
[{"$f":"IF(Sheet1!B4119=\"\",\"\",Sheet1!B4119&\" \"&Sheet1!C4119)","v":""}]
[{"$f":"IF(Sheet1!B4120=\"\",\"\",Sheet1!B4120&\" \"&Sheet1!C4120)","v":""}]
[{"$f":"IF(Sheet1!B4121=\"\",\"\",Sheet1!B4121&\" \"&Sheet1!C4121)","v":""}]
[{"$f":"IF(Sheet1!B4122=\"\",\"\",Sheet1!B4122&\" \"&Sheet1!C4122)","v":""}]
[{"$f":"IF(Sheet1!B4123=\"\",\"\",Sheet1!B4123&\" \"&Sheet1!C4123)","v":""}]
[{"$f":"IF(Sheet1!B4124=\"\",\"\",Sheet1!B4124&\" \"&Sheet1!C4124)","v":""}]
[{"$f":"IF(Sheet1!B4125=\"\",\"\",Sheet1!B4125&\" \"&Sheet1!C4125)","v":""}]
[{"$f":"IF(Sheet1!B4126=\"\",\"\",Sheet1!B4126&\" \"&Sheet1!C4126)","v":""}]
[{"$f":"IF(Sheet1!B4127=\"\",\"\",Sheet1!B4127&\" \"&Sheet1!C4127)","v":""}]
[{"$f":"IF(Sheet1!B4128=\"\",\"\",Sheet1!B4128&\" \"&Sheet1!C4128)","v":""}]
[{"$f":"IF(Sheet1!B4129=\"\",\"\",Sheet1!B4129&\" \"&Sheet1!C4129)","v":""}]
[{"$f":"IF(Sheet1!B4130=\"\",\"\",Sheet1!B4130&\" \"&Sheet1!C4130)","v":""}]
[{"$f":"IF(Sheet1!B4131=\"\",\"\",Sheet1!B4131&\" \"&Sheet1!C4131)","v":""}]
[{"$f":"IF(Sheet1!B4132=\"\",\"\",Sheet1!B4132&\" \"&Sheet1!C4132)","v":""}]
[{"$f":"IF(Sheet1!B4133=\"\",\"\",Sheet1!B4133&\" \"&Sheet1!C4133)","v":""}]
[{"$f":"IF(Sheet1!B4134=\"\",\"\",Sheet1!B4134&\" \"&Sheet1!C4134)","v":""}]
[{"$f":"IF(Sheet1!B4135=\"\",\"\",Sheet1!B4135&\" \"&Sheet1!C4135)","v":""}]
[{"$f":"IF(Sheet1!B4136=\"\",\"\",Sheet1!B4136&\" \"&Sheet1!C4136)","v":""}]
[{"$f":"IF(Sheet1!B4137=\"\",\"\",Sheet1!B4137&\" \"&Sheet1!C4137)","v":""}]
[{"$f":"IF(Sheet1!B4138=\"\",\"\",Sheet1!B4138&\" \"&Sheet1!C4138)","v":""}]
[{"$f":"IF(Sheet1!B4139=\"\",\"\",Sheet1!B4139&\" \"&Sheet1!C4139)","v":""}]
[{"$f":"IF(Sheet1!B4140=\"\",\"\",Sheet1!B4140&\" \"&Sheet1!C4140)","v":""}]
[{"$f":"IF(Sheet1!B4141=\"\",\"\",Sheet1!B4141&\" \"&Sheet1!C4141)","v":""}]
[{"$f":"IF(Sheet1!B4142=\"\",\"\",Sheet1!B4142&\" \"&Sheet1!C4142)","v":""}]
[{"$f":"IF(Sheet1!B4143=\"\",\"\",Sheet1!B4143&\" \"&Sheet1!C4143)","v":""}]
[{"$f":"IF(Sheet1!B4144=\"\",\"\",Sheet1!B4144&\" \"&Sheet1!C4144)","v":""}]
[{"$f":"IF(Sheet1!B4145=\"\",\"\",Sheet1!B4145&\" \"&Sheet1!C4145)","v":""}]
[{"$f":"IF(Sheet1!B4146=\"\",\"\",Sheet1!B4146&\" \"&Sheet1!C4146)","v":""}]
[{"$f":"IF(Sheet1!B4147=\"\",\"\",Sheet1!B4147&\" \"&Sheet1!C4147)","v":""}]
[{"$f":"IF(Sheet1!B4148=\"\",\"\",Sheet1!B4148&\" \"&Sheet1!C4148)","v":""}]
[{"$f":"IF(Sheet1!B4149=\"\",\"\",Sheet1!B4149&\" \"&Sheet1!C4149)","v":""}]
[{"$f":"IF(Sheet1!B4150=\"\",\"\",Sheet1!B4150&\" \"&Sheet1!C4150)","v":""}]
[{"$f":"IF(Sheet1!B4151=\"\",\"\",Sheet1!B4151&\" \"&Sheet1!C4151)","v":""}]
[{"$f":"IF(Sheet1!B4152=\"\",\"\",Sheet1!B4152&\" \"&Sheet1!C4152)","v":""}]
[{"$f":"IF(Sheet1!B4153=\"\",\"\",Sheet1!B4153&\" \"&Sheet1!C4153)","v":""}]
[{"$f":"IF(Sheet1!B4154=\"\",\"\",Sheet1!B4154&\" \"&Sheet1!C4154)","v":""}]
[{"$f":"IF(Sheet1!B4155=\"\",\"\",Sheet1!B4155&\" \"&Sheet1!C4155)","v":""}]
[{"$f":"IF(Sheet1!B4156=\"\",\"\",Sheet1!B4156&\" \"&Sheet1!C4156)","v":""}]
[{"$f":"IF(Sheet1!B4157=\"\",\"\",Sheet1!B4157&\" \"&Sheet1!C4157)","v":""}]
[{"$f":"IF(Sheet1!B4158=\"\",\"\",Sheet1!B4158&\" \"&Sheet1!C4158)","v":""}]
[{"$f":"IF(Sheet1!B4159=\"\",\"\",Sheet1!B4159&\" \"&Sheet1!C4159)","v":""}]
[{"$f":"IF(Sheet1!B4160=\"\",\"\",Sheet1!B4160&\" \"&Sheet1!C4160)","v":""}]
[{"$f":"IF(Sheet1!B4161=\"\",\"\",Sheet1!B4161&\" \"&Sheet1!C4161)","v":""}]
[{"$f":"IF(Sheet1!B4162=\"\",\"\",Sheet1!B4162&\" \"&Sheet1!C4162)","v":""}]
[{"$f":"IF(Sheet1!B4163=\"\",\"\",Sheet1!B4163&\" \"&Sheet1!C4163)","v":""}]
[{"$f":"IF(Sheet1!B4164=\"\",\"\",Sheet1!B4164&\" \"&Sheet1!C4164)","v":""}]
[{"$f":"IF(Sheet1!B4165=\"\",\"\",Sheet1!B4165&\" \"&Sheet1!C4165)","v":""}]
[{"$f":"IF(Sheet1!B4166=\"\",\"\",Sheet1!B4166&\" \"&Sheet1!C4166)","v":""}]
[{"$f":"IF(Sheet1!B4167=\"\",\"\",Sheet1!B4167&\" \"&Sheet1!C4167)","v":""}]
[{"$f":"IF(Sheet1!B4168=\"\",\"\",Sheet1!B4168&\" \"&Sheet1!C4168)","v":""}]
[{"$f":"IF(Sheet1!B4169=\"\",\"\",Sheet1!B4169&\" \"&Sheet1!C4169)","v":""}]
[{"$f":"IF(Sheet1!B4170=\"\",\"\",Sheet1!B4170&\" \"&Sheet1!C4170)","v":""}]
[{"$f":"IF(Sheet1!B4171=\"\",\"\",Sheet1!B4171&\" \"&Sheet1!C4171)","v":""}]
[{"$f":"IF(Sheet1!B4172=\"\",\"\",Sheet1!B4172&\" \"&Sheet1!C4172)","v":""}]
[{"$f":"IF(Sheet1!B4173=\"\",\"\",Sheet1!B4173&\" \"&Sheet1!C4173)","v":""}]
[{"$f":"IF(Sheet1!B4174=\"\",\"\",Sheet1!B4174&\" \"&Sheet1!C4174)","v":""}]
[{"$f":"IF(Sheet1!B4175=\"\",\"\",Sheet1!B4175&\" \"&Sheet1!C4175)","v":""}]
[{"$f":"IF(Sheet1!B4176=\"\",\"\",Sheet1!B4176&\" \"&Sheet1!C4176)","v":""}]
[{"$f":"IF(Sheet1!B4177=\"\",\"\",Sheet1!B4177&\" \"&Sheet1!C4177)","v":""}]
[{"$f":"IF(Sheet1!B4178=\"\",\"\",Sheet1!B4178&\" \"&Sheet1!C4178)","v":""}]
[{"$f":"IF(Sheet1!B4179=\"\",\"\",Sheet1!B4179&\" \"&Sheet1!C4179)","v":""}]
[{"$f":"IF(Sheet1!B4180=\"\",\"\",Sheet1!B4180&\" \"&Sheet1!C4180)","v":""}]
[{"$f":"IF(Sheet1!B4181=\"\",\"\",Sheet1!B4181&\" \"&Sheet1!C4181)","v":""}]
[{"$f":"IF(Sheet1!B4182=\"\",\"\",Sheet1!B4182&\" \"&Sheet1!C4182)","v":""}]
[{"$f":"IF(Sheet1!B4183=\"\",\"\",Sheet1!B4183&\" \"&Sheet1!C4183)","v":""}]
[{"$f":"IF(Sheet1!B4184=\"\",\"\",Sheet1!B4184&\" \"&Sheet1!C4184)","v":""}]
[{"$f":"IF(Sheet1!B4185=\"\",\"\",Sheet1!B4185&\" \"&Sheet1!C4185)","v":""}]
[{"$f":"IF(Sheet1!B4186=\"\",\"\",Sheet1!B4186&\" \"&Sheet1!C4186)","v":""}]
[{"$f":"IF(Sheet1!B4187=\"\",\"\",Sheet1!B4187&\" \"&Sheet1!C4187)","v":""}]
[{"$f":"IF(Sheet1!B4188=\"\",\"\",Sheet1!B4188&\" \"&Sheet1!C4188)","v":""}]
[{"$f":"IF(Sheet1!B4189=\"\",\"\",Sheet1!B4189&\" \"&Sheet1!C4189)","v":""}]
[{"$f":"IF(Sheet1!B4190=\"\",\"\",Sheet1!B4190&\" \"&Sheet1!C4190)","v":""}]
[{"$f":"IF(Sheet1!B4191=\"\",\"\",Sheet1!B4191&\" \"&Sheet1!C4191)","v":""}]
[{"$f":"IF(Sheet1!B4192=\"\",\"\",Sheet1!B4192&\" \"&Sheet1!C4192)","v":""}]
[{"$f":"IF(Sheet1!B4193=\"\",\"\",Sheet1!B4193&\" \"&Sheet1!C4193)","v":""}]
[{"$f":"IF(Sheet1!B4194=\"\",\"\",Sheet1!B4194&\" \"&Sheet1!C4194)","v":""}]
[{"$f":"IF(Sheet1!B4195=\"\",\"\",Sheet1!B4195&\" \"&Sheet1!C4195)","v":""}]
[{"$f":"IF(Sheet1!B4196=\"\",\"\",Sheet1!B4196&\" \"&Sheet1!C4196)","v":""}]
[{"$f":"IF(Sheet1!B4197=\"\",\"\",Sheet1!B4197&\" \"&Sheet1!C4197)","v":""}]
[{"$f":"IF(Sheet1!B4198=\"\",\"\",Sheet1!B4198&\" \"&Sheet1!C4198)","v":""}]
[{"$f":"IF(Sheet1!B4199=\"\",\"\",Sheet1!B4199&\" \"&Sheet1!C4199)","v":""}]
[{"$f":"IF(Sheet1!B4200=\"\",\"\",Sheet1!B4200&\" \"&Sheet1!C4200)","v":""}]
[{"$f":"IF(Sheet1!B4201=\"\",\"\",Sheet1!B4201&\" \"&Sheet1!C4201)","v":""}]
[{"$f":"IF(Sheet1!B4202=\"\",\"\",Sheet1!B4202&\" \"&Sheet1!C4202)","v":""}]
[{"$f":"IF(Sheet1!B4203=\"\",\"\",Sheet1!B4203&\" \"&Sheet1!C4203)","v":""}]
[{"$f":"IF(Sheet1!B4204=\"\",\"\",Sheet1!B4204&\" \"&Sheet1!C4204)","v":""}]
[{"$f":"IF(Sheet1!B4205=\"\",\"\",Sheet1!B4205&\" \"&Sheet1!C4205)","v":""}]
[{"$f":"IF(Sheet1!B4206=\"\",\"\",Sheet1!B4206&\" \"&Sheet1!C4206)","v":""}]
[{"$f":"IF(Sheet1!B4207=\"\",\"\",Sheet1!B4207&\" \"&Sheet1!C4207)","v":""}]
[{"$f":"IF(Sheet1!B4208=\"\",\"\",Sheet1!B4208&\" \"&Sheet1!C4208)","v":""}]
[{"$f":"IF(Sheet1!B4209=\"\",\"\",Sheet1!B4209&\" \"&Sheet1!C4209)","v":""}]
[{"$f":"IF(Sheet1!B4210=\"\",\"\",Sheet1!B4210&\" \"&Sheet1!C4210)","v":""}]
[{"$f":"IF(Sheet1!B4211=\"\",\"\",Sheet1!B4211&\" \"&Sheet1!C4211)","v":""}]
[{"$f":"IF(Sheet1!B4212=\"\",\"\",Sheet1!B4212&\" \"&Sheet1!C4212)","v":""}]
[{"$f":"IF(Sheet1!B4213=\"\",\"\",Sheet1!B4213&\" \"&Sheet1!C4213)","v":""}]
[{"$f":"IF(Sheet1!B4214=\"\",\"\",Sheet1!B4214&\" \"&Sheet1!C4214)","v":""}]
[{"$f":"IF(Sheet1!B4215=\"\",\"\",Sheet1!B4215&\" \"&Sheet1!C4215)","v":""}]
[{"$f":"IF(Sheet1!B4216=\"\",\"\",Sheet1!B4216&\" \"&Sheet1!C4216)","v":""}]
[{"$f":"IF(Sheet1!B4217=\"\",\"\",Sheet1!B4217&\" \"&Sheet1!C4217)","v":""}]
[{"$f":"IF(Sheet1!B4218=\"\",\"\",Sheet1!B4218&\" \"&Sheet1!C4218)","v":""}]
[{"$f":"IF(Sheet1!B4219=\"\",\"\",Sheet1!B4219&\" \"&Sheet1!C4219)","v":""}]
[{"$f":"IF(Sheet1!B4220=\"\",\"\",Sheet1!B4220&\" \"&Sheet1!C4220)","v":""}]
[{"$f":"IF(Sheet1!B4221=\"\",\"\",Sheet1!B4221&\" \"&Sheet1!C4221)","v":""}]
[{"$f":"IF(Sheet1!B4222=\"\",\"\",Sheet1!B4222&\" \"&Sheet1!C4222)","v":""}]
[{"$f":"IF(Sheet1!B4223=\"\",\"\",Sheet1!B4223&\" \"&Sheet1!C4223)","v":""}]
[{"$f":"IF(Sheet1!B4224=\"\",\"\",Sheet1!B4224&\" \"&Sheet1!C4224)","v":""}]
[{"$f":"IF(Sheet1!B4225=\"\",\"\",Sheet1!B4225&\" \"&Sheet1!C4225)","v":""}]
[{"$f":"IF(Sheet1!B4226=\"\",\"\",Sheet1!B4226&\" \"&Sheet1!C4226)","v":""}]
[{"$f":"IF(Sheet1!B4227=\"\",\"\",Sheet1!B4227&\" \"&Sheet1!C4227)","v":""}]
[{"$f":"IF(Sheet1!B4228=\"\",\"\",Sheet1!B4228&\" \"&Sheet1!C4228)","v":""}]
[{"$f":"IF(Sheet1!B4229=\"\",\"\",Sheet1!B4229&\" \"&Sheet1!C4229)","v":""}]
[{"$f":"IF(Sheet1!B4230=\"\",\"\",Sheet1!B4230&\" \"&Sheet1!C4230)","v":""}]
[{"$f":"IF(Sheet1!B4231=\"\",\"\",Sheet1!B4231&\" \"&Sheet1!C4231)","v":""}]
[{"$f":"IF(Sheet1!B4232=\"\",\"\",Sheet1!B4232&\" \"&Sheet1!C4232)","v":""}]
[{"$f":"IF(Sheet1!B4233=\"\",\"\",Sheet1!B4233&\" \"&Sheet1!C4233)","v":""}]
[{"$f":"IF(Sheet1!B4234=\"\",\"\",Sheet1!B4234&\" \"&Sheet1!C4234)","v":""}]
[{"$f":"IF(Sheet1!B4235=\"\",\"\",Sheet1!B4235&\" \"&Sheet1!C4235)","v":""}]
[{"$f":"IF(Sheet1!B4236=\"\",\"\",Sheet1!B4236&\" \"&Sheet1!C4236)","v":""}]
[{"$f":"IF(Sheet1!B4237=\"\",\"\",Sheet1!B4237&\" \"&Sheet1!C4237)","v":""}]
[{"$f":"IF(Sheet1!B4238=\"\",\"\",Sheet1!B4238&\" \"&Sheet1!C4238)","v":""}]
[{"$f":"IF(Sheet1!B4239=\"\",\"\",Sheet1!B4239&\" \"&Sheet1!C4239)","v":""}]
[{"$f":"IF(Sheet1!B4240=\"\",\"\",Sheet1!B4240&\" \"&Sheet1!C4240)","v":""}]
[{"$f":"IF(Sheet1!B4241=\"\",\"\",Sheet1!B4241&\" \"&Sheet1!C4241)","v":""}]
[{"$f":"IF(Sheet1!B4242=\"\",\"\",Sheet1!B4242&\" \"&Sheet1!C4242)","v":""}]
[{"$f":"IF(Sheet1!B4243=\"\",\"\",Sheet1!B4243&\" \"&Sheet1!C4243)","v":""}]
[{"$f":"IF(Sheet1!B4244=\"\",\"\",Sheet1!B4244&\" \"&Sheet1!C4244)","v":""}]
[{"$f":"IF(Sheet1!B4245=\"\",\"\",Sheet1!B4245&\" \"&Sheet1!C4245)","v":""}]
[{"$f":"IF(Sheet1!B4246=\"\",\"\",Sheet1!B4246&\" \"&Sheet1!C4246)","v":""}]
[{"$f":"IF(Sheet1!B4247=\"\",\"\",Sheet1!B4247&\" \"&Sheet1!C4247)","v":""}]
[{"$f":"IF(Sheet1!B4248=\"\",\"\",Sheet1!B4248&\" \"&Sheet1!C4248)","v":""}]
[{"$f":"IF(Sheet1!B4249=\"\",\"\",Sheet1!B4249&\" \"&Sheet1!C4249)","v":""}]
[{"$f":"IF(Sheet1!B4250=\"\",\"\",Sheet1!B4250&\" \"&Sheet1!C4250)","v":""}]
[{"$f":"IF(Sheet1!B4251=\"\",\"\",Sheet1!B4251&\" \"&Sheet1!C4251)","v":""}]
[{"$f":"IF(Sheet1!B4252=\"\",\"\",Sheet1!B4252&\" \"&Sheet1!C4252)","v":""}]
[{"$f":"IF(Sheet1!B4253=\"\",\"\",Sheet1!B4253&\" \"&Sheet1!C4253)","v":""}]
[{"$f":"IF(Sheet1!B4254=\"\",\"\",Sheet1!B4254&\" \"&Sheet1!C4254)","v":""}]
[{"$f":"IF(Sheet1!B4255=\"\",\"\",Sheet1!B4255&\" \"&Sheet1!C4255)","v":""}]
[{"$f":"IF(Sheet1!B4256=\"\",\"\",Sheet1!B4256&\" \"&Sheet1!C4256)","v":""}]
[{"$f":"IF(Sheet1!B4257=\"\",\"\",Sheet1!B4257&\" \"&Sheet1!C4257)","v":""}]
[{"$f":"IF(Sheet1!B4258=\"\",\"\",Sheet1!B4258&\" \"&Sheet1!C4258)","v":""}]
[{"$f":"IF(Sheet1!B4259=\"\",\"\",Sheet1!B4259&\" \"&Sheet1!C4259)","v":""}]
[{"$f":"IF(Sheet1!B4260=\"\",\"\",Sheet1!B4260&\" \"&Sheet1!C4260)","v":""}]
[{"$f":"IF(Sheet1!B4261=\"\",\"\",Sheet1!B4261&\" \"&Sheet1!C4261)","v":""}]
[{"$f":"IF(Sheet1!B4262=\"\",\"\",Sheet1!B4262&\" \"&Sheet1!C4262)","v":""}]
[{"$f":"IF(Sheet1!B4263=\"\",\"\",Sheet1!B4263&\" \"&Sheet1!C4263)","v":""}]
[{"$f":"IF(Sheet1!B4264=\"\",\"\",Sheet1!B4264&\" \"&Sheet1!C4264)","v":""}]
[{"$f":"IF(Sheet1!B4265=\"\",\"\",Sheet1!B4265&\" \"&Sheet1!C4265)","v":""}]
[{"$f":"IF(Sheet1!B4266=\"\",\"\",Sheet1!B4266&\" \"&Sheet1!C4266)","v":""}]
[{"$f":"IF(Sheet1!B4267=\"\",\"\",Sheet1!B4267&\" \"&Sheet1!C4267)","v":""}]
[{"$f":"IF(Sheet1!B4268=\"\",\"\",Sheet1!B4268&\" \"&Sheet1!C4268)","v":""}]
[{"$f":"IF(Sheet1!B4269=\"\",\"\",Sheet1!B4269&\" \"&Sheet1!C4269)","v":""}]
[{"$f":"IF(Sheet1!B4270=\"\",\"\",Sheet1!B4270&\" \"&Sheet1!C4270)","v":""}]
[{"$f":"IF(Sheet1!B4271=\"\",\"\",Sheet1!B4271&\" \"&Sheet1!C4271)","v":""}]
[{"$f":"IF(Sheet1!B4272=\"\",\"\",Sheet1!B4272&\" \"&Sheet1!C4272)","v":""}]
[{"$f":"IF(Sheet1!B4273=\"\",\"\",Sheet1!B4273&\" \"&Sheet1!C4273)","v":""}]
[{"$f":"IF(Sheet1!B4274=\"\",\"\",Sheet1!B4274&\" \"&Sheet1!C4274)","v":""}]
[{"$f":"IF(Sheet1!B4275=\"\",\"\",Sheet1!B4275&\" \"&Sheet1!C4275)","v":""}]
[{"$f":"IF(Sheet1!B4276=\"\",\"\",Sheet1!B4276&\" \"&Sheet1!C4276)","v":""}]
[{"$f":"IF(Sheet1!B4277=\"\",\"\",Sheet1!B4277&\" \"&Sheet1!C4277)","v":""}]
[{"$f":"IF(Sheet1!B4278=\"\",\"\",Sheet1!B4278&\" \"&Sheet1!C4278)","v":""}]
[{"$f":"IF(Sheet1!B4279=\"\",\"\",Sheet1!B4279&\" \"&Sheet1!C4279)","v":""}]
[{"$f":"IF(Sheet1!B4280=\"\",\"\",Sheet1!B4280&\" \"&Sheet1!C4280)","v":""}]
[{"$f":"IF(Sheet1!B4281=\"\",\"\",Sheet1!B4281&\" \"&Sheet1!C4281)","v":""}]
[{"$f":"IF(Sheet1!B4282=\"\",\"\",Sheet1!B4282&\" \"&Sheet1!C4282)","v":""}]
[{"$f":"IF(Sheet1!B4283=\"\",\"\",Sheet1!B4283&\" \"&Sheet1!C4283)","v":""}]
[{"$f":"IF(Sheet1!B4284=\"\",\"\",Sheet1!B4284&\" \"&Sheet1!C4284)","v":""}]
[{"$f":"IF(Sheet1!B4285=\"\",\"\",Sheet1!B4285&\" \"&Sheet1!C4285)","v":""}]
[{"$f":"IF(Sheet1!B4286=\"\",\"\",Sheet1!B4286&\" \"&Sheet1!C4286)","v":""}]
[{"$f":"IF(Sheet1!B4287=\"\",\"\",Sheet1!B4287&\" \"&Sheet1!C4287)","v":""}]
[{"$f":"IF(Sheet1!B4288=\"\",\"\",Sheet1!B4288&\" \"&Sheet1!C4288)","v":""}]
[{"$f":"IF(Sheet1!B4289=\"\",\"\",Sheet1!B4289&\" \"&Sheet1!C4289)","v":""}]
[{"$f":"IF(Sheet1!B4290=\"\",\"\",Sheet1!B4290&\" \"&Sheet1!C4290)","v":""}]
[{"$f":"IF(Sheet1!B4291=\"\",\"\",Sheet1!B4291&\" \"&Sheet1!C4291)","v":""}]
[{"$f":"IF(Sheet1!B4292=\"\",\"\",Sheet1!B4292&\" \"&Sheet1!C4292)","v":""}]
[{"$f":"IF(Sheet1!B4293=\"\",\"\",Sheet1!B4293&\" \"&Sheet1!C4293)","v":""}]
[{"$f":"IF(Sheet1!B4294=\"\",\"\",Sheet1!B4294&\" \"&Sheet1!C4294)","v":""}]
[{"$f":"IF(Sheet1!B4295=\"\",\"\",Sheet1!B4295&\" \"&Sheet1!C4295)","v":""}]
[{"$f":"IF(Sheet1!B4296=\"\",\"\",Sheet1!B4296&\" \"&Sheet1!C4296)","v":""}]
[{"$f":"IF(Sheet1!B4297=\"\",\"\",Sheet1!B4297&\" \"&Sheet1!C4297)","v":""}]
[{"$f":"IF(Sheet1!B4298=\"\",\"\",Sheet1!B4298&\" \"&Sheet1!C4298)","v":""}]
[{"$f":"IF(Sheet1!B4299=\"\",\"\",Sheet1!B4299&\" \"&Sheet1!C4299)","v":""}]
[{"$f":"IF(Sheet1!B4300=\"\",\"\",Sheet1!B4300&\" \"&Sheet1!C4300)","v":""}]
[{"$f":"IF(Sheet1!B4301=\"\",\"\",Sheet1!B4301&\" \"&Sheet1!C4301)","v":""}]
[{"$f":"IF(Sheet1!B4302=\"\",\"\",Sheet1!B4302&\" \"&Sheet1!C4302)","v":""}]
[{"$f":"IF(Sheet1!B4303=\"\",\"\",Sheet1!B4303&\" \"&Sheet1!C4303)","v":""}]
[{"$f":"IF(Sheet1!B4304=\"\",\"\",Sheet1!B4304&\" \"&Sheet1!C4304)","v":""}]
[{"$f":"IF(Sheet1!B4305=\"\",\"\",Sheet1!B4305&\" \"&Sheet1!C4305)","v":""}]
[{"$f":"IF(Sheet1!B4306=\"\",\"\",Sheet1!B4306&\" \"&Sheet1!C4306)","v":""}]
[{"$f":"IF(Sheet1!B4307=\"\",\"\",Sheet1!B4307&\" \"&Sheet1!C4307)","v":""}]
[{"$f":"IF(Sheet1!B4308=\"\",\"\",Sheet1!B4308&\" \"&Sheet1!C4308)","v":""}]
[{"$f":"IF(Sheet1!B4309=\"\",\"\",Sheet1!B4309&\" \"&Sheet1!C4309)","v":""}]
[{"$f":"IF(Sheet1!B4310=\"\",\"\",Sheet1!B4310&\" \"&Sheet1!C4310)","v":""}]
[{"$f":"IF(Sheet1!B4311=\"\",\"\",Sheet1!B4311&\" \"&Sheet1!C4311)","v":""}]
[{"$f":"IF(Sheet1!B4312=\"\",\"\",Sheet1!B4312&\" \"&Sheet1!C4312)","v":""}]
[{"$f":"IF(Sheet1!B4313=\"\",\"\",Sheet1!B4313&\" \"&Sheet1!C4313)","v":""}]
[{"$f":"IF(Sheet1!B4314=\"\",\"\",Sheet1!B4314&\" \"&Sheet1!C4314)","v":""}]
[{"$f":"IF(Sheet1!B4315=\"\",\"\",Sheet1!B4315&\" \"&Sheet1!C4315)","v":""}]
[{"$f":"IF(Sheet1!B4316=\"\",\"\",Sheet1!B4316&\" \"&Sheet1!C4316)","v":""}]
[{"$f":"IF(Sheet1!B4317=\"\",\"\",Sheet1!B4317&\" \"&Sheet1!C4317)","v":""}]
[{"$f":"IF(Sheet1!B4318=\"\",\"\",Sheet1!B4318&\" \"&Sheet1!C4318)","v":""}]
[{"$f":"IF(Sheet1!B4319=\"\",\"\",Sheet1!B4319&\" \"&Sheet1!C4319)","v":""}]
[{"$f":"IF(Sheet1!B4320=\"\",\"\",Sheet1!B4320&\" \"&Sheet1!C4320)","v":""}]
[{"$f":"IF(Sheet1!B4321=\"\",\"\",Sheet1!B4321&\" \"&Sheet1!C4321)","v":""}]
[{"$f":"IF(Sheet1!B4322=\"\",\"\",Sheet1!B4322&\" \"&Sheet1!C4322)","v":""}]
[{"$f":"IF(Sheet1!B4323=\"\",\"\",Sheet1!B4323&\" \"&Sheet1!C4323)","v":""}]
[{"$f":"IF(Sheet1!B4324=\"\",\"\",Sheet1!B4324&\" \"&Sheet1!C4324)","v":""}]
[{"$f":"IF(Sheet1!B4325=\"\",\"\",Sheet1!B4325&\" \"&Sheet1!C4325)","v":""}]
[{"$f":"IF(Sheet1!B4326=\"\",\"\",Sheet1!B4326&\" \"&Sheet1!C4326)","v":""}]
[{"$f":"IF(Sheet1!B4327=\"\",\"\",Sheet1!B4327&\" \"&Sheet1!C4327)","v":""}]
[{"$f":"IF(Sheet1!B4328=\"\",\"\",Sheet1!B4328&\" \"&Sheet1!C4328)","v":""}]
[{"$f":"IF(Sheet1!B4329=\"\",\"\",Sheet1!B4329&\" \"&Sheet1!C4329)","v":""}]
[{"$f":"IF(Sheet1!B4330=\"\",\"\",Sheet1!B4330&\" \"&Sheet1!C4330)","v":""}]
[{"$f":"IF(Sheet1!B4331=\"\",\"\",Sheet1!B4331&\" \"&Sheet1!C4331)","v":""}]
[{"$f":"IF(Sheet1!B4332=\"\",\"\",Sheet1!B4332&\" \"&Sheet1!C4332)","v":""}]
[{"$f":"IF(Sheet1!B4333=\"\",\"\",Sheet1!B4333&\" \"&Sheet1!C4333)","v":""}]
[{"$f":"IF(Sheet1!B4334=\"\",\"\",Sheet1!B4334&\" \"&Sheet1!C4334)","v":""}]
[{"$f":"IF(Sheet1!B4335=\"\",\"\",Sheet1!B4335&\" \"&Sheet1!C4335)","v":""}]
[{"$f":"IF(Sheet1!B4336=\"\",\"\",Sheet1!B4336&\" \"&Sheet1!C4336)","v":""}]
[{"$f":"IF(Sheet1!B4337=\"\",\"\",Sheet1!B4337&\" \"&Sheet1!C4337)","v":""}]
[{"$f":"IF(Sheet1!B4338=\"\",\"\",Sheet1!B4338&\" \"&Sheet1!C4338)","v":""}]
[{"$f":"IF(Sheet1!B4339=\"\",\"\",Sheet1!B4339&\" \"&Sheet1!C4339)","v":""}]
[{"$f":"IF(Sheet1!B4340=\"\",\"\",Sheet1!B4340&\" \"&Sheet1!C4340)","v":""}]
[{"$f":"IF(Sheet1!B4341=\"\",\"\",Sheet1!B4341&\" \"&Sheet1!C4341)","v":""}]
[{"$f":"IF(Sheet1!B4342=\"\",\"\",Sheet1!B4342&\" \"&Sheet1!C4342)","v":""}]
[{"$f":"IF(Sheet1!B4343=\"\",\"\",Sheet1!B4343&\" \"&Sheet1!C4343)","v":""}]
[{"$f":"IF(Sheet1!B4344=\"\",\"\",Sheet1!B4344&\" \"&Sheet1!C4344)","v":""}]
[{"$f":"IF(Sheet1!B4345=\"\",\"\",Sheet1!B4345&\" \"&Sheet1!C4345)","v":""}]
[{"$f":"IF(Sheet1!B4346=\"\",\"\",Sheet1!B4346&\" \"&Sheet1!C4346)","v":""}]
[{"$f":"IF(Sheet1!B4347=\"\",\"\",Sheet1!B4347&\" \"&Sheet1!C4347)","v":""}]
[{"$f":"IF(Sheet1!B4348=\"\",\"\",Sheet1!B4348&\" \"&Sheet1!C4348)","v":""}]
[{"$f":"IF(Sheet1!B4349=\"\",\"\",Sheet1!B4349&\" \"&Sheet1!C4349)","v":""}]
[{"$f":"IF(Sheet1!B4350=\"\",\"\",Sheet1!B4350&\" \"&Sheet1!C4350)","v":""}]
[{"$f":"IF(Sheet1!B4351=\"\",\"\",Sheet1!B4351&\" \"&Sheet1!C4351)","v":""}]
[{"$f":"IF(Sheet1!B4352=\"\",\"\",Sheet1!B4352&\" \"&Sheet1!C4352)","v":""}]
[{"$f":"IF(Sheet1!B4353=\"\",\"\",Sheet1!B4353&\" \"&Sheet1!C4353)","v":""}]
[{"$f":"IF(Sheet1!B4354=\"\",\"\",Sheet1!B4354&\" \"&Sheet1!C4354)","v":""}]
[{"$f":"IF(Sheet1!B4355=\"\",\"\",Sheet1!B4355&\" \"&Sheet1!C4355)","v":""}]
[{"$f":"IF(Sheet1!B4356=\"\",\"\",Sheet1!B4356&\" \"&Sheet1!C4356)","v":""}]
[{"$f":"IF(Sheet1!B4357=\"\",\"\",Sheet1!B4357&\" \"&Sheet1!C4357)","v":""}]
[{"$f":"IF(Sheet1!B4358=\"\",\"\",Sheet1!B4358&\" \"&Sheet1!C4358)","v":""}]
[{"$f":"IF(Sheet1!B4359=\"\",\"\",Sheet1!B4359&\" \"&Sheet1!C4359)","v":""}]
[{"$f":"IF(Sheet1!B4360=\"\",\"\",Sheet1!B4360&\" \"&Sheet1!C4360)","v":""}]
[{"$f":"IF(Sheet1!B4361=\"\",\"\",Sheet1!B4361&\" \"&Sheet1!C4361)","v":""}]
[{"$f":"IF(Sheet1!B4362=\"\",\"\",Sheet1!B4362&\" \"&Sheet1!C4362)","v":""}]
[{"$f":"IF(Sheet1!B4363=\"\",\"\",Sheet1!B4363&\" \"&Sheet1!C4363)","v":""}]
[{"$f":"IF(Sheet1!B4364=\"\",\"\",Sheet1!B4364&\" \"&Sheet1!C4364)","v":""}]
[{"$f":"IF(Sheet1!B4365=\"\",\"\",Sheet1!B4365&\" \"&Sheet1!C4365)","v":""}]
[{"$f":"IF(Sheet1!B4366=\"\",\"\",Sheet1!B4366&\" \"&Sheet1!C4366)","v":""}]
[{"$f":"IF(Sheet1!B4367=\"\",\"\",Sheet1!B4367&\" \"&Sheet1!C4367)","v":""}]
[{"$f":"IF(Sheet1!B4368=\"\",\"\",Sheet1!B4368&\" \"&Sheet1!C4368)","v":""}]
[{"$f":"IF(Sheet1!B4369=\"\",\"\",Sheet1!B4369&\" \"&Sheet1!C4369)","v":""}]
[{"$f":"IF(Sheet1!B4370=\"\",\"\",Sheet1!B4370&\" \"&Sheet1!C4370)","v":""}]
[{"$f":"IF(Sheet1!B4371=\"\",\"\",Sheet1!B4371&\" \"&Sheet1!C4371)","v":""}]
[{"$f":"IF(Sheet1!B4372=\"\",\"\",Sheet1!B4372&\" \"&Sheet1!C4372)","v":""}]
[{"$f":"IF(Sheet1!B4373=\"\",\"\",Sheet1!B4373&\" \"&Sheet1!C4373)","v":""}]
[{"$f":"IF(Sheet1!B4374=\"\",\"\",Sheet1!B4374&\" \"&Sheet1!C4374)","v":""}]
[{"$f":"IF(Sheet1!B4375=\"\",\"\",Sheet1!B4375&\" \"&Sheet1!C4375)","v":""}]
[{"$f":"IF(Sheet1!B4376=\"\",\"\",Sheet1!B4376&\" \"&Sheet1!C4376)","v":""}]
[{"$f":"IF(Sheet1!B4377=\"\",\"\",Sheet1!B4377&\" \"&Sheet1!C4377)","v":""}]
[{"$f":"IF(Sheet1!B4378=\"\",\"\",Sheet1!B4378&\" \"&Sheet1!C4378)","v":""}]
[{"$f":"IF(Sheet1!B4379=\"\",\"\",Sheet1!B4379&\" \"&Sheet1!C4379)","v":""}]
[{"$f":"IF(Sheet1!B4380=\"\",\"\",Sheet1!B4380&\" \"&Sheet1!C4380)","v":""}]
[{"$f":"IF(Sheet1!B4381=\"\",\"\",Sheet1!B4381&\" \"&Sheet1!C4381)","v":""}]
[{"$f":"IF(Sheet1!B4382=\"\",\"\",Sheet1!B4382&\" \"&Sheet1!C4382)","v":""}]
[{"$f":"IF(Sheet1!B4383=\"\",\"\",Sheet1!B4383&\" \"&Sheet1!C4383)","v":""}]
[{"$f":"IF(Sheet1!B4384=\"\",\"\",Sheet1!B4384&\" \"&Sheet1!C4384)","v":""}]
[{"$f":"IF(Sheet1!B4385=\"\",\"\",Sheet1!B4385&\" \"&Sheet1!C4385)","v":""}]
[{"$f":"IF(Sheet1!B4386=\"\",\"\",Sheet1!B4386&\" \"&Sheet1!C4386)","v":""}]
[{"$f":"IF(Sheet1!B4387=\"\",\"\",Sheet1!B4387&\" \"&Sheet1!C4387)","v":""}]
[{"$f":"IF(Sheet1!B4388=\"\",\"\",Sheet1!B4388&\" \"&Sheet1!C4388)","v":""}]
[{"$f":"IF(Sheet1!B4389=\"\",\"\",Sheet1!B4389&\" \"&Sheet1!C4389)","v":""}]
[{"$f":"IF(Sheet1!B4390=\"\",\"\",Sheet1!B4390&\" \"&Sheet1!C4390)","v":""}]
[{"$f":"IF(Sheet1!B4391=\"\",\"\",Sheet1!B4391&\" \"&Sheet1!C4391)","v":""}]
[{"$f":"IF(Sheet1!B4392=\"\",\"\",Sheet1!B4392&\" \"&Sheet1!C4392)","v":""}]
[{"$f":"IF(Sheet1!B4393=\"\",\"\",Sheet1!B4393&\" \"&Sheet1!C4393)","v":""}]
[{"$f":"IF(Sheet1!B4394=\"\",\"\",Sheet1!B4394&\" \"&Sheet1!C4394)","v":""}]
[{"$f":"IF(Sheet1!B4395=\"\",\"\",Sheet1!B4395&\" \"&Sheet1!C4395)","v":""}]
[{"$f":"IF(Sheet1!B4396=\"\",\"\",Sheet1!B4396&\" \"&Sheet1!C4396)","v":""}]
[{"$f":"IF(Sheet1!B4397=\"\",\"\",Sheet1!B4397&\" \"&Sheet1!C4397)","v":""}]
[{"$f":"IF(Sheet1!B4398=\"\",\"\",Sheet1!B4398&\" \"&Sheet1!C4398)","v":""}]
[{"$f":"IF(Sheet1!B4399=\"\",\"\",Sheet1!B4399&\" \"&Sheet1!C4399)","v":""}]
[{"$f":"IF(Sheet1!B4400=\"\",\"\",Sheet1!B4400&\" \"&Sheet1!C4400)","v":""}]
[{"$f":"IF(Sheet1!B4401=\"\",\"\",Sheet1!B4401&\" \"&Sheet1!C4401)","v":""}]
[{"$f":"IF(Sheet1!B4402=\"\",\"\",Sheet1!B4402&\" \"&Sheet1!C4402)","v":""}]
[{"$f":"IF(Sheet1!B4403=\"\",\"\",Sheet1!B4403&\" \"&Sheet1!C4403)","v":""}]
[{"$f":"IF(Sheet1!B4404=\"\",\"\",Sheet1!B4404&\" \"&Sheet1!C4404)","v":""}]
[{"$f":"IF(Sheet1!B4405=\"\",\"\",Sheet1!B4405&\" \"&Sheet1!C4405)","v":""}]
[{"$f":"IF(Sheet1!B4406=\"\",\"\",Sheet1!B4406&\" \"&Sheet1!C4406)","v":""}]
[{"$f":"IF(Sheet1!B4407=\"\",\"\",Sheet1!B4407&\" \"&Sheet1!C4407)","v":""}]
[{"$f":"IF(Sheet1!B4408=\"\",\"\",Sheet1!B4408&\" \"&Sheet1!C4408)","v":""}]
[{"$f":"IF(Sheet1!B4409=\"\",\"\",Sheet1!B4409&\" \"&Sheet1!C4409)","v":""}]
[{"$f":"IF(Sheet1!B4410=\"\",\"\",Sheet1!B4410&\" \"&Sheet1!C4410)","v":""}]
[{"$f":"IF(Sheet1!B4411=\"\",\"\",Sheet1!B4411&\" \"&Sheet1!C4411)","v":""}]
[{"$f":"IF(Sheet1!B4412=\"\",\"\",Sheet1!B4412&\" \"&Sheet1!C4412)","v":""}]
[{"$f":"IF(Sheet1!B4413=\"\",\"\",Sheet1!B4413&\" \"&Sheet1!C4413)","v":""}]
[{"$f":"IF(Sheet1!B4414=\"\",\"\",Sheet1!B4414&\" \"&Sheet1!C4414)","v":""}]
[{"$f":"IF(Sheet1!B4415=\"\",\"\",Sheet1!B4415&\" \"&Sheet1!C4415)","v":""}]
[{"$f":"IF(Sheet1!B4416=\"\",\"\",Sheet1!B4416&\" \"&Sheet1!C4416)","v":""}]
[{"$f":"IF(Sheet1!B4417=\"\",\"\",Sheet1!B4417&\" \"&Sheet1!C4417)","v":""}]
[{"$f":"IF(Sheet1!B4418=\"\",\"\",Sheet1!B4418&\" \"&Sheet1!C4418)","v":""}]
[{"$f":"IF(Sheet1!B4419=\"\",\"\",Sheet1!B4419&\" \"&Sheet1!C4419)","v":""}]
[{"$f":"IF(Sheet1!B4420=\"\",\"\",Sheet1!B4420&\" \"&Sheet1!C4420)","v":""}]
[{"$f":"IF(Sheet1!B4421=\"\",\"\",Sheet1!B4421&\" \"&Sheet1!C4421)","v":""}]
[{"$f":"IF(Sheet1!B4422=\"\",\"\",Sheet1!B4422&\" \"&Sheet1!C4422)","v":""}]
[{"$f":"IF(Sheet1!B4423=\"\",\"\",Sheet1!B4423&\" \"&Sheet1!C4423)","v":""}]
[{"$f":"IF(Sheet1!B4424=\"\",\"\",Sheet1!B4424&\" \"&Sheet1!C4424)","v":""}]
[{"$f":"IF(Sheet1!B4425=\"\",\"\",Sheet1!B4425&\" \"&Sheet1!C4425)","v":""}]
[{"$f":"IF(Sheet1!B4426=\"\",\"\",Sheet1!B4426&\" \"&Sheet1!C4426)","v":""}]
[{"$f":"IF(Sheet1!B4427=\"\",\"\",Sheet1!B4427&\" \"&Sheet1!C4427)","v":""}]
[{"$f":"IF(Sheet1!B4428=\"\",\"\",Sheet1!B4428&\" \"&Sheet1!C4428)","v":""}]
[{"$f":"IF(Sheet1!B4429=\"\",\"\",Sheet1!B4429&\" \"&Sheet1!C4429)","v":""}]
[{"$f":"IF(Sheet1!B4430=\"\",\"\",Sheet1!B4430&\" \"&Sheet1!C4430)","v":""}]
[{"$f":"IF(Sheet1!B4431=\"\",\"\",Sheet1!B4431&\" \"&Sheet1!C4431)","v":""}]
[{"$f":"IF(Sheet1!B4432=\"\",\"\",Sheet1!B4432&\" \"&Sheet1!C4432)","v":""}]
[{"$f":"IF(Sheet1!B4433=\"\",\"\",Sheet1!B4433&\" \"&Sheet1!C4433)","v":""}]
[{"$f":"IF(Sheet1!B4434=\"\",\"\",Sheet1!B4434&\" \"&Sheet1!C4434)","v":""}]
[{"$f":"IF(Sheet1!B4435=\"\",\"\",Sheet1!B4435&\" \"&Sheet1!C4435)","v":""}]
[{"$f":"IF(Sheet1!B4436=\"\",\"\",Sheet1!B4436&\" \"&Sheet1!C4436)","v":""}]
[{"$f":"IF(Sheet1!B4437=\"\",\"\",Sheet1!B4437&\" \"&Sheet1!C4437)","v":""}]
[{"$f":"IF(Sheet1!B4438=\"\",\"\",Sheet1!B4438&\" \"&Sheet1!C4438)","v":""}]
[{"$f":"IF(Sheet1!B4439=\"\",\"\",Sheet1!B4439&\" \"&Sheet1!C4439)","v":""}]
[{"$f":"IF(Sheet1!B4440=\"\",\"\",Sheet1!B4440&\" \"&Sheet1!C4440)","v":""}]
[{"$f":"IF(Sheet1!B4441=\"\",\"\",Sheet1!B4441&\" \"&Sheet1!C4441)","v":""}]
[{"$f":"IF(Sheet1!B4442=\"\",\"\",Sheet1!B4442&\" \"&Sheet1!C4442)","v":""}]
[{"$f":"IF(Sheet1!B4443=\"\",\"\",Sheet1!B4443&\" \"&Sheet1!C4443)","v":""}]
[{"$f":"IF(Sheet1!B4444=\"\",\"\",Sheet1!B4444&\" \"&Sheet1!C4444)","v":""}]
[{"$f":"IF(Sheet1!B4445=\"\",\"\",Sheet1!B4445&\" \"&Sheet1!C4445)","v":""}]
[{"$f":"IF(Sheet1!B4446=\"\",\"\",Sheet1!B4446&\" \"&Sheet1!C4446)","v":""}]
[{"$f":"IF(Sheet1!B4447=\"\",\"\",Sheet1!B4447&\" \"&Sheet1!C4447)","v":""}]
[{"$f":"IF(Sheet1!B4448=\"\",\"\",Sheet1!B4448&\" \"&Sheet1!C4448)","v":""}]
[{"$f":"IF(Sheet1!B4449=\"\",\"\",Sheet1!B4449&\" \"&Sheet1!C4449)","v":""}]
[{"$f":"IF(Sheet1!B4450=\"\",\"\",Sheet1!B4450&\" \"&Sheet1!C4450)","v":""}]
[{"$f":"IF(Sheet1!B4451=\"\",\"\",Sheet1!B4451&\" \"&Sheet1!C4451)","v":""}]
[{"$f":"IF(Sheet1!B4452=\"\",\"\",Sheet1!B4452&\" \"&Sheet1!C4452)","v":""}]
[{"$f":"IF(Sheet1!B4453=\"\",\"\",Sheet1!B4453&\" \"&Sheet1!C4453)","v":""}]
[{"$f":"IF(Sheet1!B4454=\"\",\"\",Sheet1!B4454&\" \"&Sheet1!C4454)","v":""}]
[{"$f":"IF(Sheet1!B4455=\"\",\"\",Sheet1!B4455&\" \"&Sheet1!C4455)","v":""}]
[{"$f":"IF(Sheet1!B4456=\"\",\"\",Sheet1!B4456&\" \"&Sheet1!C4456)","v":""}]
[{"$f":"IF(Sheet1!B4457=\"\",\"\",Sheet1!B4457&\" \"&Sheet1!C4457)","v":""}]
[{"$f":"IF(Sheet1!B4458=\"\",\"\",Sheet1!B4458&\" \"&Sheet1!C4458)","v":""}]
[{"$f":"IF(Sheet1!B4459=\"\",\"\",Sheet1!B4459&\" \"&Sheet1!C4459)","v":""}]
[{"$f":"IF(Sheet1!B4460=\"\",\"\",Sheet1!B4460&\" \"&Sheet1!C4460)","v":""}]
[{"$f":"IF(Sheet1!B4461=\"\",\"\",Sheet1!B4461&\" \"&Sheet1!C4461)","v":""}]
[{"$f":"IF(Sheet1!B4462=\"\",\"\",Sheet1!B4462&\" \"&Sheet1!C4462)","v":""}]
[{"$f":"IF(Sheet1!B4463=\"\",\"\",Sheet1!B4463&\" \"&Sheet1!C4463)","v":""}]
[{"$f":"IF(Sheet1!B4464=\"\",\"\",Sheet1!B4464&\" \"&Sheet1!C4464)","v":""}]
[{"$f":"IF(Sheet1!B4465=\"\",\"\",Sheet1!B4465&\" \"&Sheet1!C4465)","v":""}]
[{"$f":"IF(Sheet1!B4466=\"\",\"\",Sheet1!B4466&\" \"&Sheet1!C4466)","v":""}]
[{"$f":"IF(Sheet1!B4467=\"\",\"\",Sheet1!B4467&\" \"&Sheet1!C4467)","v":""}]
[{"$f":"IF(Sheet1!B4468=\"\",\"\",Sheet1!B4468&\" \"&Sheet1!C4468)","v":""}]
[{"$f":"IF(Sheet1!B4469=\"\",\"\",Sheet1!B4469&\" \"&Sheet1!C4469)","v":""}]
[{"$f":"IF(Sheet1!B4470=\"\",\"\",Sheet1!B4470&\" \"&Sheet1!C4470)","v":""}]
[{"$f":"IF(Sheet1!B4471=\"\",\"\",Sheet1!B4471&\" \"&Sheet1!C4471)","v":""}]
[{"$f":"IF(Sheet1!B4472=\"\",\"\",Sheet1!B4472&\" \"&Sheet1!C4472)","v":""}]
[{"$f":"IF(Sheet1!B4473=\"\",\"\",Sheet1!B4473&\" \"&Sheet1!C4473)","v":""}]
[{"$f":"IF(Sheet1!B4474=\"\",\"\",Sheet1!B4474&\" \"&Sheet1!C4474)","v":""}]
[{"$f":"IF(Sheet1!B4475=\"\",\"\",Sheet1!B4475&\" \"&Sheet1!C4475)","v":""}]
[{"$f":"IF(Sheet1!B4476=\"\",\"\",Sheet1!B4476&\" \"&Sheet1!C4476)","v":""}]
[{"$f":"IF(Sheet1!B4477=\"\",\"\",Sheet1!B4477&\" \"&Sheet1!C4477)","v":""}]
[{"$f":"IF(Sheet1!B4478=\"\",\"\",Sheet1!B4478&\" \"&Sheet1!C4478)","v":""}]
[{"$f":"IF(Sheet1!B4479=\"\",\"\",Sheet1!B4479&\" \"&Sheet1!C4479)","v":""}]
[{"$f":"IF(Sheet1!B4480=\"\",\"\",Sheet1!B4480&\" \"&Sheet1!C4480)","v":""}]
[{"$f":"IF(Sheet1!B4481=\"\",\"\",Sheet1!B4481&\" \"&Sheet1!C4481)","v":""}]
[{"$f":"IF(Sheet1!B4482=\"\",\"\",Sheet1!B4482&\" \"&Sheet1!C4482)","v":""}]
[{"$f":"IF(Sheet1!B4483=\"\",\"\",Sheet1!B4483&\" \"&Sheet1!C4483)","v":""}]
[{"$f":"IF(Sheet1!B4484=\"\",\"\",Sheet1!B4484&\" \"&Sheet1!C4484)","v":""}]
[{"$f":"IF(Sheet1!B4485=\"\",\"\",Sheet1!B4485&\" \"&Sheet1!C4485)","v":""}]
[{"$f":"IF(Sheet1!B4486=\"\",\"\",Sheet1!B4486&\" \"&Sheet1!C4486)","v":""}]
[{"$f":"IF(Sheet1!B4487=\"\",\"\",Sheet1!B4487&\" \"&Sheet1!C4487)","v":""}]
[{"$f":"IF(Sheet1!B4488=\"\",\"\",Sheet1!B4488&\" \"&Sheet1!C4488)","v":""}]
[{"$f":"IF(Sheet1!B4489=\"\",\"\",Sheet1!B4489&\" \"&Sheet1!C4489)","v":""}]
[{"$f":"IF(Sheet1!B4490=\"\",\"\",Sheet1!B4490&\" \"&Sheet1!C4490)","v":""}]
[{"$f":"IF(Sheet1!B4491=\"\",\"\",Sheet1!B4491&\" \"&Sheet1!C4491)","v":""}]
[{"$f":"IF(Sheet1!B4492=\"\",\"\",Sheet1!B4492&\" \"&Sheet1!C4492)","v":""}]
[{"$f":"IF(Sheet1!B4493=\"\",\"\",Sheet1!B4493&\" \"&Sheet1!C4493)","v":""}]
[{"$f":"IF(Sheet1!B4494=\"\",\"\",Sheet1!B4494&\" \"&Sheet1!C4494)","v":""}]
[{"$f":"IF(Sheet1!B4495=\"\",\"\",Sheet1!B4495&\" \"&Sheet1!C4495)","v":""}]
[{"$f":"IF(Sheet1!B4496=\"\",\"\",Sheet1!B4496&\" \"&Sheet1!C4496)","v":""}]
[{"$f":"IF(Sheet1!B4497=\"\",\"\",Sheet1!B4497&\" \"&Sheet1!C4497)","v":""}]
[{"$f":"IF(Sheet1!B4498=\"\",\"\",Sheet1!B4498&\" \"&Sheet1!C4498)","v":""}]
[{"$f":"IF(Sheet1!B4499=\"\",\"\",Sheet1!B4499&\" \"&Sheet1!C4499)","v":""}]
[{"$f":"IF(Sheet1!B4500=\"\",\"\",Sheet1!B4500&\" \"&Sheet1!C4500)","v":""}]
[{"$f":"IF(Sheet1!B4501=\"\",\"\",Sheet1!B4501&\" \"&Sheet1!C4501)","v":""}]
[{"$f":"IF(Sheet1!B4502=\"\",\"\",Sheet1!B4502&\" \"&Sheet1!C4502)","v":""}]
[{"$f":"IF(Sheet1!B4503=\"\",\"\",Sheet1!B4503&\" \"&Sheet1!C4503)","v":""}]
[{"$f":"IF(Sheet1!B4504=\"\",\"\",Sheet1!B4504&\" \"&Sheet1!C4504)","v":""}]
[{"$f":"IF(Sheet1!B4505=\"\",\"\",Sheet1!B4505&\" \"&Sheet1!C4505)","v":""}]
[{"$f":"IF(Sheet1!B4506=\"\",\"\",Sheet1!B4506&\" \"&Sheet1!C4506)","v":""}]
[{"$f":"IF(Sheet1!B4507=\"\",\"\",Sheet1!B4507&\" \"&Sheet1!C4507)","v":""}]
[{"$f":"IF(Sheet1!B4508=\"\",\"\",Sheet1!B4508&\" \"&Sheet1!C4508)","v":""}]
[{"$f":"IF(Sheet1!B4509=\"\",\"\",Sheet1!B4509&\" \"&Sheet1!C4509)","v":""}]
[{"$f":"IF(Sheet1!B4510=\"\",\"\",Sheet1!B4510&\" \"&Sheet1!C4510)","v":""}]
[{"$f":"IF(Sheet1!B4511=\"\",\"\",Sheet1!B4511&\" \"&Sheet1!C4511)","v":""}]
[{"$f":"IF(Sheet1!B4512=\"\",\"\",Sheet1!B4512&\" \"&Sheet1!C4512)","v":""}]
[{"$f":"IF(Sheet1!B4513=\"\",\"\",Sheet1!B4513&\" \"&Sheet1!C4513)","v":""}]
[{"$f":"IF(Sheet1!B4514=\"\",\"\",Sheet1!B4514&\" \"&Sheet1!C4514)","v":""}]
[{"$f":"IF(Sheet1!B4515=\"\",\"\",Sheet1!B4515&\" \"&Sheet1!C4515)","v":""}]
[{"$f":"IF(Sheet1!B4516=\"\",\"\",Sheet1!B4516&\" \"&Sheet1!C4516)","v":""}]
[{"$f":"IF(Sheet1!B4517=\"\",\"\",Sheet1!B4517&\" \"&Sheet1!C4517)","v":""}]
[{"$f":"IF(Sheet1!B4518=\"\",\"\",Sheet1!B4518&\" \"&Sheet1!C4518)","v":""}]
[{"$f":"IF(Sheet1!B4519=\"\",\"\",Sheet1!B4519&\" \"&Sheet1!C4519)","v":""}]
[{"$f":"IF(Sheet1!B4520=\"\",\"\",Sheet1!B4520&\" \"&Sheet1!C4520)","v":""}]
[{"$f":"IF(Sheet1!B4521=\"\",\"\",Sheet1!B4521&\" \"&Sheet1!C4521)","v":""}]
[{"$f":"IF(Sheet1!B4522=\"\",\"\",Sheet1!B4522&\" \"&Sheet1!C4522)","v":""}]
[{"$f":"IF(Sheet1!B4523=\"\",\"\",Sheet1!B4523&\" \"&Sheet1!C4523)","v":""}]
[{"$f":"IF(Sheet1!B4524=\"\",\"\",Sheet1!B4524&\" \"&Sheet1!C4524)","v":""}]
[{"$f":"IF(Sheet1!B4525=\"\",\"\",Sheet1!B4525&\" \"&Sheet1!C4525)","v":""}]
[{"$f":"IF(Sheet1!B4526=\"\",\"\",Sheet1!B4526&\" \"&Sheet1!C4526)","v":""}]
[{"$f":"IF(Sheet1!B4527=\"\",\"\",Sheet1!B4527&\" \"&Sheet1!C4527)","v":""}]
[{"$f":"IF(Sheet1!B4528=\"\",\"\",Sheet1!B4528&\" \"&Sheet1!C4528)","v":""}]
[{"$f":"IF(Sheet1!B4529=\"\",\"\",Sheet1!B4529&\" \"&Sheet1!C4529)","v":""}]
[{"$f":"IF(Sheet1!B4530=\"\",\"\",Sheet1!B4530&\" \"&Sheet1!C4530)","v":""}]
[{"$f":"IF(Sheet1!B4531=\"\",\"\",Sheet1!B4531&\" \"&Sheet1!C4531)","v":""}]
[{"$f":"IF(Sheet1!B4532=\"\",\"\",Sheet1!B4532&\" \"&Sheet1!C4532)","v":""}]
[{"$f":"IF(Sheet1!B4533=\"\",\"\",Sheet1!B4533&\" \"&Sheet1!C4533)","v":""}]
[{"$f":"IF(Sheet1!B4534=\"\",\"\",Sheet1!B4534&\" \"&Sheet1!C4534)","v":""}]
[{"$f":"IF(Sheet1!B4535=\"\",\"\",Sheet1!B4535&\" \"&Sheet1!C4535)","v":""}]
[{"$f":"IF(Sheet1!B4536=\"\",\"\",Sheet1!B4536&\" \"&Sheet1!C4536)","v":""}]
[{"$f":"IF(Sheet1!B4537=\"\",\"\",Sheet1!B4537&\" \"&Sheet1!C4537)","v":""}]
[{"$f":"IF(Sheet1!B4538=\"\",\"\",Sheet1!B4538&\" \"&Sheet1!C4538)","v":""}]
[{"$f":"IF(Sheet1!B4539=\"\",\"\",Sheet1!B4539&\" \"&Sheet1!C4539)","v":""}]
[{"$f":"IF(Sheet1!B4540=\"\",\"\",Sheet1!B4540&\" \"&Sheet1!C4540)","v":""}]
[{"$f":"IF(Sheet1!B4541=\"\",\"\",Sheet1!B4541&\" \"&Sheet1!C4541)","v":""}]
[{"$f":"IF(Sheet1!B4542=\"\",\"\",Sheet1!B4542&\" \"&Sheet1!C4542)","v":""}]
[{"$f":"IF(Sheet1!B4543=\"\",\"\",Sheet1!B4543&\" \"&Sheet1!C4543)","v":""}]
[{"$f":"IF(Sheet1!B4544=\"\",\"\",Sheet1!B4544&\" \"&Sheet1!C4544)","v":""}]
[{"$f":"IF(Sheet1!B4545=\"\",\"\",Sheet1!B4545&\" \"&Sheet1!C4545)","v":""}]
[{"$f":"IF(Sheet1!B4546=\"\",\"\",Sheet1!B4546&\" \"&Sheet1!C4546)","v":""}]
[{"$f":"IF(Sheet1!B4547=\"\",\"\",Sheet1!B4547&\" \"&Sheet1!C4547)","v":""}]
[{"$f":"IF(Sheet1!B4548=\"\",\"\",Sheet1!B4548&\" \"&Sheet1!C4548)","v":""}]
[{"$f":"IF(Sheet1!B4549=\"\",\"\",Sheet1!B4549&\" \"&Sheet1!C4549)","v":""}]
[{"$f":"IF(Sheet1!B4550=\"\",\"\",Sheet1!B4550&\" \"&Sheet1!C4550)","v":""}]
[{"$f":"IF(Sheet1!B4551=\"\",\"\",Sheet1!B4551&\" \"&Sheet1!C4551)","v":""}]
[{"$f":"IF(Sheet1!B4552=\"\",\"\",Sheet1!B4552&\" \"&Sheet1!C4552)","v":""}]
[{"$f":"IF(Sheet1!B4553=\"\",\"\",Sheet1!B4553&\" \"&Sheet1!C4553)","v":""}]
[{"$f":"IF(Sheet1!B4554=\"\",\"\",Sheet1!B4554&\" \"&Sheet1!C4554)","v":""}]
[{"$f":"IF(Sheet1!B4555=\"\",\"\",Sheet1!B4555&\" \"&Sheet1!C4555)","v":""}]
[{"$f":"IF(Sheet1!B4556=\"\",\"\",Sheet1!B4556&\" \"&Sheet1!C4556)","v":""}]
[{"$f":"IF(Sheet1!B4557=\"\",\"\",Sheet1!B4557&\" \"&Sheet1!C4557)","v":""}]
[{"$f":"IF(Sheet1!B4558=\"\",\"\",Sheet1!B4558&\" \"&Sheet1!C4558)","v":""}]
[{"$f":"IF(Sheet1!B4559=\"\",\"\",Sheet1!B4559&\" \"&Sheet1!C4559)","v":""}]
[{"$f":"IF(Sheet1!B4560=\"\",\"\",Sheet1!B4560&\" \"&Sheet1!C4560)","v":""}]
[{"$f":"IF(Sheet1!B4561=\"\",\"\",Sheet1!B4561&\" \"&Sheet1!C4561)","v":""}]
[{"$f":"IF(Sheet1!B4562=\"\",\"\",Sheet1!B4562&\" \"&Sheet1!C4562)","v":""}]
[{"$f":"IF(Sheet1!B4563=\"\",\"\",Sheet1!B4563&\" \"&Sheet1!C4563)","v":""}]
[{"$f":"IF(Sheet1!B4564=\"\",\"\",Sheet1!B4564&\" \"&Sheet1!C4564)","v":""}]
[{"$f":"IF(Sheet1!B4565=\"\",\"\",Sheet1!B4565&\" \"&Sheet1!C4565)","v":""}]
[{"$f":"IF(Sheet1!B4566=\"\",\"\",Sheet1!B4566&\" \"&Sheet1!C4566)","v":""}]
[{"$f":"IF(Sheet1!B4567=\"\",\"\",Sheet1!B4567&\" \"&Sheet1!C4567)","v":""}]
[{"$f":"IF(Sheet1!B4568=\"\",\"\",Sheet1!B4568&\" \"&Sheet1!C4568)","v":""}]
[{"$f":"IF(Sheet1!B4569=\"\",\"\",Sheet1!B4569&\" \"&Sheet1!C4569)","v":""}]
[{"$f":"IF(Sheet1!B4570=\"\",\"\",Sheet1!B4570&\" \"&Sheet1!C4570)","v":""}]
[{"$f":"IF(Sheet1!B4571=\"\",\"\",Sheet1!B4571&\" \"&Sheet1!C4571)","v":""}]
[{"$f":"IF(Sheet1!B4572=\"\",\"\",Sheet1!B4572&\" \"&Sheet1!C4572)","v":""}]
[{"$f":"IF(Sheet1!B4573=\"\",\"\",Sheet1!B4573&\" \"&Sheet1!C4573)","v":""}]
[{"$f":"IF(Sheet1!B4574=\"\",\"\",Sheet1!B4574&\" \"&Sheet1!C4574)","v":""}]
[{"$f":"IF(Sheet1!B4575=\"\",\"\",Sheet1!B4575&\" \"&Sheet1!C4575)","v":""}]
[{"$f":"IF(Sheet1!B4576=\"\",\"\",Sheet1!B4576&\" \"&Sheet1!C4576)","v":""}]
[{"$f":"IF(Sheet1!B4577=\"\",\"\",Sheet1!B4577&\" \"&Sheet1!C4577)","v":""}]
[{"$f":"IF(Sheet1!B4578=\"\",\"\",Sheet1!B4578&\" \"&Sheet1!C4578)","v":""}]
[{"$f":"IF(Sheet1!B4579=\"\",\"\",Sheet1!B4579&\" \"&Sheet1!C4579)","v":""}]
[{"$f":"IF(Sheet1!B4580=\"\",\"\",Sheet1!B4580&\" \"&Sheet1!C4580)","v":""}]
[{"$f":"IF(Sheet1!B4581=\"\",\"\",Sheet1!B4581&\" \"&Sheet1!C4581)","v":""}]
[{"$f":"IF(Sheet1!B4582=\"\",\"\",Sheet1!B4582&\" \"&Sheet1!C4582)","v":""}]
[{"$f":"IF(Sheet1!B4583=\"\",\"\",Sheet1!B4583&\" \"&Sheet1!C4583)","v":""}]
[{"$f":"IF(Sheet1!B4584=\"\",\"\",Sheet1!B4584&\" \"&Sheet1!C4584)","v":""}]
[{"$f":"IF(Sheet1!B4585=\"\",\"\",Sheet1!B4585&\" \"&Sheet1!C4585)","v":""}]
[{"$f":"IF(Sheet1!B4586=\"\",\"\",Sheet1!B4586&\" \"&Sheet1!C4586)","v":""}]
[{"$f":"IF(Sheet1!B4587=\"\",\"\",Sheet1!B4587&\" \"&Sheet1!C4587)","v":""}]
[{"$f":"IF(Sheet1!B4588=\"\",\"\",Sheet1!B4588&\" \"&Sheet1!C4588)","v":""}]
[{"$f":"IF(Sheet1!B4589=\"\",\"\",Sheet1!B4589&\" \"&Sheet1!C4589)","v":""}]
[{"$f":"IF(Sheet1!B4590=\"\",\"\",Sheet1!B4590&\" \"&Sheet1!C4590)","v":""}]
[{"$f":"IF(Sheet1!B4591=\"\",\"\",Sheet1!B4591&\" \"&Sheet1!C4591)","v":""}]
[{"$f":"IF(Sheet1!B4592=\"\",\"\",Sheet1!B4592&\" \"&Sheet1!C4592)","v":""}]
[{"$f":"IF(Sheet1!B4593=\"\",\"\",Sheet1!B4593&\" \"&Sheet1!C4593)","v":""}]
[{"$f":"IF(Sheet1!B4594=\"\",\"\",Sheet1!B4594&\" \"&Sheet1!C4594)","v":""}]
[{"$f":"IF(Sheet1!B4595=\"\",\"\",Sheet1!B4595&\" \"&Sheet1!C4595)","v":""}]
[{"$f":"IF(Sheet1!B4596=\"\",\"\",Sheet1!B4596&\" \"&Sheet1!C4596)","v":""}]
[{"$f":"IF(Sheet1!B4597=\"\",\"\",Sheet1!B4597&\" \"&Sheet1!C4597)","v":""}]
[{"$f":"IF(Sheet1!B4598=\"\",\"\",Sheet1!B4598&\" \"&Sheet1!C4598)","v":""}]
[{"$f":"IF(Sheet1!B4599=\"\",\"\",Sheet1!B4599&\" \"&Sheet1!C4599)","v":""}]
[{"$f":"IF(Sheet1!B4600=\"\",\"\",Sheet1!B4600&\" \"&Sheet1!C4600)","v":""}]
[{"$f":"IF(Sheet1!B4601=\"\",\"\",Sheet1!B4601&\" \"&Sheet1!C4601)","v":""}]
[{"$f":"IF(Sheet1!B4602=\"\",\"\",Sheet1!B4602&\" \"&Sheet1!C4602)","v":""}]
[{"$f":"IF(Sheet1!B4603=\"\",\"\",Sheet1!B4603&\" \"&Sheet1!C4603)","v":""}]
[{"$f":"IF(Sheet1!B4604=\"\",\"\",Sheet1!B4604&\" \"&Sheet1!C4604)","v":""}]
[{"$f":"IF(Sheet1!B4605=\"\",\"\",Sheet1!B4605&\" \"&Sheet1!C4605)","v":""}]
[{"$f":"IF(Sheet1!B4606=\"\",\"\",Sheet1!B4606&\" \"&Sheet1!C4606)","v":""}]
[{"$f":"IF(Sheet1!B4607=\"\",\"\",Sheet1!B4607&\" \"&Sheet1!C4607)","v":""}]
[{"$f":"IF(Sheet1!B4608=\"\",\"\",Sheet1!B4608&\" \"&Sheet1!C4608)","v":""}]
[{"$f":"IF(Sheet1!B4609=\"\",\"\",Sheet1!B4609&\" \"&Sheet1!C4609)","v":""}]
[{"$f":"IF(Sheet1!B4610=\"\",\"\",Sheet1!B4610&\" \"&Sheet1!C4610)","v":""}]
[{"$f":"IF(Sheet1!B4611=\"\",\"\",Sheet1!B4611&\" \"&Sheet1!C4611)","v":""}]
[{"$f":"IF(Sheet1!B4612=\"\",\"\",Sheet1!B4612&\" \"&Sheet1!C4612)","v":""}]
[{"$f":"IF(Sheet1!B4613=\"\",\"\",Sheet1!B4613&\" \"&Sheet1!C4613)","v":""}]
[{"$f":"IF(Sheet1!B4614=\"\",\"\",Sheet1!B4614&\" \"&Sheet1!C4614)","v":""}]
[{"$f":"IF(Sheet1!B4615=\"\",\"\",Sheet1!B4615&\" \"&Sheet1!C4615)","v":""}]
[{"$f":"IF(Sheet1!B4616=\"\",\"\",Sheet1!B4616&\" \"&Sheet1!C4616)","v":""}]
[{"$f":"IF(Sheet1!B4617=\"\",\"\",Sheet1!B4617&\" \"&Sheet1!C4617)","v":""}]
[{"$f":"IF(Sheet1!B4618=\"\",\"\",Sheet1!B4618&\" \"&Sheet1!C4618)","v":""}]
[{"$f":"IF(Sheet1!B4619=\"\",\"\",Sheet1!B4619&\" \"&Sheet1!C4619)","v":""}]
[{"$f":"IF(Sheet1!B4620=\"\",\"\",Sheet1!B4620&\" \"&Sheet1!C4620)","v":""}]
[{"$f":"IF(Sheet1!B4621=\"\",\"\",Sheet1!B4621&\" \"&Sheet1!C4621)","v":""}]
[{"$f":"IF(Sheet1!B4622=\"\",\"\",Sheet1!B4622&\" \"&Sheet1!C4622)","v":""}]
[{"$f":"IF(Sheet1!B4623=\"\",\"\",Sheet1!B4623&\" \"&Sheet1!C4623)","v":""}]
[{"$f":"IF(Sheet1!B4624=\"\",\"\",Sheet1!B4624&\" \"&Sheet1!C4624)","v":""}]
[{"$f":"IF(Sheet1!B4625=\"\",\"\",Sheet1!B4625&\" \"&Sheet1!C4625)","v":""}]
[{"$f":"IF(Sheet1!B4626=\"\",\"\",Sheet1!B4626&\" \"&Sheet1!C4626)","v":""}]
[{"$f":"IF(Sheet1!B4627=\"\",\"\",Sheet1!B4627&\" \"&Sheet1!C4627)","v":""}]
[{"$f":"IF(Sheet1!B4628=\"\",\"\",Sheet1!B4628&\" \"&Sheet1!C4628)","v":""}]
[{"$f":"IF(Sheet1!B4629=\"\",\"\",Sheet1!B4629&\" \"&Sheet1!C4629)","v":""}]
[{"$f":"IF(Sheet1!B4630=\"\",\"\",Sheet1!B4630&\" \"&Sheet1!C4630)","v":""}]
[{"$f":"IF(Sheet1!B4631=\"\",\"\",Sheet1!B4631&\" \"&Sheet1!C4631)","v":""}]
[{"$f":"IF(Sheet1!B4632=\"\",\"\",Sheet1!B4632&\" \"&Sheet1!C4632)","v":""}]
[{"$f":"IF(Sheet1!B4633=\"\",\"\",Sheet1!B4633&\" \"&Sheet1!C4633)","v":""}]
[{"$f":"IF(Sheet1!B4634=\"\",\"\",Sheet1!B4634&\" \"&Sheet1!C4634)","v":""}]
[{"$f":"IF(Sheet1!B4635=\"\",\"\",Sheet1!B4635&\" \"&Sheet1!C4635)","v":""}]
[{"$f":"IF(Sheet1!B4636=\"\",\"\",Sheet1!B4636&\" \"&Sheet1!C4636)","v":""}]
[{"$f":"IF(Sheet1!B4637=\"\",\"\",Sheet1!B4637&\" \"&Sheet1!C4637)","v":""}]
[{"$f":"IF(Sheet1!B4638=\"\",\"\",Sheet1!B4638&\" \"&Sheet1!C4638)","v":""}]
[{"$f":"IF(Sheet1!B4639=\"\",\"\",Sheet1!B4639&\" \"&Sheet1!C4639)","v":""}]
[{"$f":"IF(Sheet1!B4640=\"\",\"\",Sheet1!B4640&\" \"&Sheet1!C4640)","v":""}]
[{"$f":"IF(Sheet1!B4641=\"\",\"\",Sheet1!B4641&\" \"&Sheet1!C4641)","v":""}]
[{"$f":"IF(Sheet1!B4642=\"\",\"\",Sheet1!B4642&\" \"&Sheet1!C4642)","v":""}]
[{"$f":"IF(Sheet1!B4643=\"\",\"\",Sheet1!B4643&\" \"&Sheet1!C4643)","v":""}]
[{"$f":"IF(Sheet1!B4644=\"\",\"\",Sheet1!B4644&\" \"&Sheet1!C4644)","v":""}]
[{"$f":"IF(Sheet1!B4645=\"\",\"\",Sheet1!B4645&\" \"&Sheet1!C4645)","v":""}]
[{"$f":"IF(Sheet1!B4646=\"\",\"\",Sheet1!B4646&\" \"&Sheet1!C4646)","v":""}]
[{"$f":"IF(Sheet1!B4647=\"\",\"\",Sheet1!B4647&\" \"&Sheet1!C4647)","v":""}]
[{"$f":"IF(Sheet1!B4648=\"\",\"\",Sheet1!B4648&\" \"&Sheet1!C4648)","v":""}]
[{"$f":"IF(Sheet1!B4649=\"\",\"\",Sheet1!B4649&\" \"&Sheet1!C4649)","v":""}]
[{"$f":"IF(Sheet1!B4650=\"\",\"\",Sheet1!B4650&\" \"&Sheet1!C4650)","v":""}]
[{"$f":"IF(Sheet1!B4651=\"\",\"\",Sheet1!B4651&\" \"&Sheet1!C4651)","v":""}]
[{"$f":"IF(Sheet1!B4652=\"\",\"\",Sheet1!B4652&\" \"&Sheet1!C4652)","v":""}]
[{"$f":"IF(Sheet1!B4653=\"\",\"\",Sheet1!B4653&\" \"&Sheet1!C4653)","v":""}]
[{"$f":"IF(Sheet1!B4654=\"\",\"\",Sheet1!B4654&\" \"&Sheet1!C4654)","v":""}]
[{"$f":"IF(Sheet1!B4655=\"\",\"\",Sheet1!B4655&\" \"&Sheet1!C4655)","v":""}]
[{"$f":"IF(Sheet1!B4656=\"\",\"\",Sheet1!B4656&\" \"&Sheet1!C4656)","v":""}]
[{"$f":"IF(Sheet1!B4657=\"\",\"\",Sheet1!B4657&\" \"&Sheet1!C4657)","v":""}]
[{"$f":"IF(Sheet1!B4658=\"\",\"\",Sheet1!B4658&\" \"&Sheet1!C4658)","v":""}]
[{"$f":"IF(Sheet1!B4659=\"\",\"\",Sheet1!B4659&\" \"&Sheet1!C4659)","v":""}]
[{"$f":"IF(Sheet1!B4660=\"\",\"\",Sheet1!B4660&\" \"&Sheet1!C4660)","v":""}]
[{"$f":"IF(Sheet1!B4661=\"\",\"\",Sheet1!B4661&\" \"&Sheet1!C4661)","v":""}]
[{"$f":"IF(Sheet1!B4662=\"\",\"\",Sheet1!B4662&\" \"&Sheet1!C4662)","v":""}]
[{"$f":"IF(Sheet1!B4663=\"\",\"\",Sheet1!B4663&\" \"&Sheet1!C4663)","v":""}]
[{"$f":"IF(Sheet1!B4664=\"\",\"\",Sheet1!B4664&\" \"&Sheet1!C4664)","v":""}]
[{"$f":"IF(Sheet1!B4665=\"\",\"\",Sheet1!B4665&\" \"&Sheet1!C4665)","v":""}]
[{"$f":"IF(Sheet1!B4666=\"\",\"\",Sheet1!B4666&\" \"&Sheet1!C4666)","v":""}]
[{"$f":"IF(Sheet1!B4667=\"\",\"\",Sheet1!B4667&\" \"&Sheet1!C4667)","v":""}]
[{"$f":"IF(Sheet1!B4668=\"\",\"\",Sheet1!B4668&\" \"&Sheet1!C4668)","v":""}]
[{"$f":"IF(Sheet1!B4669=\"\",\"\",Sheet1!B4669&\" \"&Sheet1!C4669)","v":""}]
[{"$f":"IF(Sheet1!B4670=\"\",\"\",Sheet1!B4670&\" \"&Sheet1!C4670)","v":""}]
[{"$f":"IF(Sheet1!B4671=\"\",\"\",Sheet1!B4671&\" \"&Sheet1!C4671)","v":""}]
[{"$f":"IF(Sheet1!B4672=\"\",\"\",Sheet1!B4672&\" \"&Sheet1!C4672)","v":""}]
[{"$f":"IF(Sheet1!B4673=\"\",\"\",Sheet1!B4673&\" \"&Sheet1!C4673)","v":""}]
[{"$f":"IF(Sheet1!B4674=\"\",\"\",Sheet1!B4674&\" \"&Sheet1!C4674)","v":""}]
[{"$f":"IF(Sheet1!B4675=\"\",\"\",Sheet1!B4675&\" \"&Sheet1!C4675)","v":""}]
[{"$f":"IF(Sheet1!B4676=\"\",\"\",Sheet1!B4676&\" \"&Sheet1!C4676)","v":""}]
[{"$f":"IF(Sheet1!B4677=\"\",\"\",Sheet1!B4677&\" \"&Sheet1!C4677)","v":""}]
[{"$f":"IF(Sheet1!B4678=\"\",\"\",Sheet1!B4678&\" \"&Sheet1!C4678)","v":""}]
[{"$f":"IF(Sheet1!B4679=\"\",\"\",Sheet1!B4679&\" \"&Sheet1!C4679)","v":""}]
[{"$f":"IF(Sheet1!B4680=\"\",\"\",Sheet1!B4680&\" \"&Sheet1!C4680)","v":""}]
[{"$f":"IF(Sheet1!B4681=\"\",\"\",Sheet1!B4681&\" \"&Sheet1!C4681)","v":""}]
[{"$f":"IF(Sheet1!B4682=\"\",\"\",Sheet1!B4682&\" \"&Sheet1!C4682)","v":""}]
[{"$f":"IF(Sheet1!B4683=\"\",\"\",Sheet1!B4683&\" \"&Sheet1!C4683)","v":""}]
[{"$f":"IF(Sheet1!B4684=\"\",\"\",Sheet1!B4684&\" \"&Sheet1!C4684)","v":""}]
[{"$f":"IF(Sheet1!B4685=\"\",\"\",Sheet1!B4685&\" \"&Sheet1!C4685)","v":""}]
[{"$f":"IF(Sheet1!B4686=\"\",\"\",Sheet1!B4686&\" \"&Sheet1!C4686)","v":""}]
[{"$f":"IF(Sheet1!B4687=\"\",\"\",Sheet1!B4687&\" \"&Sheet1!C4687)","v":""}]
[{"$f":"IF(Sheet1!B4688=\"\",\"\",Sheet1!B4688&\" \"&Sheet1!C4688)","v":""}]
[{"$f":"IF(Sheet1!B4689=\"\",\"\",Sheet1!B4689&\" \"&Sheet1!C4689)","v":""}]
[{"$f":"IF(Sheet1!B4690=\"\",\"\",Sheet1!B4690&\" \"&Sheet1!C4690)","v":""}]
[{"$f":"IF(Sheet1!B4691=\"\",\"\",Sheet1!B4691&\" \"&Sheet1!C4691)","v":""}]
[{"$f":"IF(Sheet1!B4692=\"\",\"\",Sheet1!B4692&\" \"&Sheet1!C4692)","v":""}]
[{"$f":"IF(Sheet1!B4693=\"\",\"\",Sheet1!B4693&\" \"&Sheet1!C4693)","v":""}]
[{"$f":"IF(Sheet1!B4694=\"\",\"\",Sheet1!B4694&\" \"&Sheet1!C4694)","v":""}]
[{"$f":"IF(Sheet1!B4695=\"\",\"\",Sheet1!B4695&\" \"&Sheet1!C4695)","v":""}]
[{"$f":"IF(Sheet1!B4696=\"\",\"\",Sheet1!B4696&\" \"&Sheet1!C4696)","v":""}]
[{"$f":"IF(Sheet1!B4697=\"\",\"\",Sheet1!B4697&\" \"&Sheet1!C4697)","v":""}]
[{"$f":"IF(Sheet1!B4698=\"\",\"\",Sheet1!B4698&\" \"&Sheet1!C4698)","v":""}]
[{"$f":"IF(Sheet1!B4699=\"\",\"\",Sheet1!B4699&\" \"&Sheet1!C4699)","v":""}]
[{"$f":"IF(Sheet1!B4700=\"\",\"\",Sheet1!B4700&\" \"&Sheet1!C4700)","v":""}]
[{"$f":"IF(Sheet1!B4701=\"\",\"\",Sheet1!B4701&\" \"&Sheet1!C4701)","v":""}]
[{"$f":"IF(Sheet1!B4702=\"\",\"\",Sheet1!B4702&\" \"&Sheet1!C4702)","v":""}]
[{"$f":"IF(Sheet1!B4703=\"\",\"\",Sheet1!B4703&\" \"&Sheet1!C4703)","v":""}]
[{"$f":"IF(Sheet1!B4704=\"\",\"\",Sheet1!B4704&\" \"&Sheet1!C4704)","v":""}]
[{"$f":"IF(Sheet1!B4705=\"\",\"\",Sheet1!B4705&\" \"&Sheet1!C4705)","v":""}]
[{"$f":"IF(Sheet1!B4706=\"\",\"\",Sheet1!B4706&\" \"&Sheet1!C4706)","v":""}]
[{"$f":"IF(Sheet1!B4707=\"\",\"\",Sheet1!B4707&\" \"&Sheet1!C4707)","v":""}]
[{"$f":"IF(Sheet1!B4708=\"\",\"\",Sheet1!B4708&\" \"&Sheet1!C4708)","v":""}]
[{"$f":"IF(Sheet1!B4709=\"\",\"\",Sheet1!B4709&\" \"&Sheet1!C4709)","v":""}]
[{"$f":"IF(Sheet1!B4710=\"\",\"\",Sheet1!B4710&\" \"&Sheet1!C4710)","v":""}]
[{"$f":"IF(Sheet1!B4711=\"\",\"\",Sheet1!B4711&\" \"&Sheet1!C4711)","v":""}]
[{"$f":"IF(Sheet1!B4712=\"\",\"\",Sheet1!B4712&\" \"&Sheet1!C4712)","v":""}]
[{"$f":"IF(Sheet1!B4713=\"\",\"\",Sheet1!B4713&\" \"&Sheet1!C4713)","v":""}]
[{"$f":"IF(Sheet1!B4714=\"\",\"\",Sheet1!B4714&\" \"&Sheet1!C4714)","v":""}]
[{"$f":"IF(Sheet1!B4715=\"\",\"\",Sheet1!B4715&\" \"&Sheet1!C4715)","v":""}]
[{"$f":"IF(Sheet1!B4716=\"\",\"\",Sheet1!B4716&\" \"&Sheet1!C4716)","v":""}]
[{"$f":"IF(Sheet1!B4717=\"\",\"\",Sheet1!B4717&\" \"&Sheet1!C4717)","v":""}]
[{"$f":"IF(Sheet1!B4718=\"\",\"\",Sheet1!B4718&\" \"&Sheet1!C4718)","v":""}]
[{"$f":"IF(Sheet1!B4719=\"\",\"\",Sheet1!B4719&\" \"&Sheet1!C4719)","v":""}]
[{"$f":"IF(Sheet1!B4720=\"\",\"\",Sheet1!B4720&\" \"&Sheet1!C4720)","v":""}]
[{"$f":"IF(Sheet1!B4721=\"\",\"\",Sheet1!B4721&\" \"&Sheet1!C4721)","v":""}]
[{"$f":"IF(Sheet1!B4722=\"\",\"\",Sheet1!B4722&\" \"&Sheet1!C4722)","v":""}]
[{"$f":"IF(Sheet1!B4723=\"\",\"\",Sheet1!B4723&\" \"&Sheet1!C4723)","v":""}]
[{"$f":"IF(Sheet1!B4724=\"\",\"\",Sheet1!B4724&\" \"&Sheet1!C4724)","v":""}]
[{"$f":"IF(Sheet1!B4725=\"\",\"\",Sheet1!B4725&\" \"&Sheet1!C4725)","v":""}]
[{"$f":"IF(Sheet1!B4726=\"\",\"\",Sheet1!B4726&\" \"&Sheet1!C4726)","v":""}]
[{"$f":"IF(Sheet1!B4727=\"\",\"\",Sheet1!B4727&\" \"&Sheet1!C4727)","v":""}]
[{"$f":"IF(Sheet1!B4728=\"\",\"\",Sheet1!B4728&\" \"&Sheet1!C4728)","v":""}]
[{"$f":"IF(Sheet1!B4729=\"\",\"\",Sheet1!B4729&\" \"&Sheet1!C4729)","v":""}]
[{"$f":"IF(Sheet1!B4730=\"\",\"\",Sheet1!B4730&\" \"&Sheet1!C4730)","v":""}]
[{"$f":"IF(Sheet1!B4731=\"\",\"\",Sheet1!B4731&\" \"&Sheet1!C4731)","v":""}]
[{"$f":"IF(Sheet1!B4732=\"\",\"\",Sheet1!B4732&\" \"&Sheet1!C4732)","v":""}]
[{"$f":"IF(Sheet1!B4733=\"\",\"\",Sheet1!B4733&\" \"&Sheet1!C4733)","v":""}]
[{"$f":"IF(Sheet1!B4734=\"\",\"\",Sheet1!B4734&\" \"&Sheet1!C4734)","v":""}]
[{"$f":"IF(Sheet1!B4735=\"\",\"\",Sheet1!B4735&\" \"&Sheet1!C4735)","v":""}]
[{"$f":"IF(Sheet1!B4736=\"\",\"\",Sheet1!B4736&\" \"&Sheet1!C4736)","v":""}]
[{"$f":"IF(Sheet1!B4737=\"\",\"\",Sheet1!B4737&\" \"&Sheet1!C4737)","v":""}]
[{"$f":"IF(Sheet1!B4738=\"\",\"\",Sheet1!B4738&\" \"&Sheet1!C4738)","v":""}]
[{"$f":"IF(Sheet1!B4739=\"\",\"\",Sheet1!B4739&\" \"&Sheet1!C4739)","v":""}]
[{"$f":"IF(Sheet1!B4740=\"\",\"\",Sheet1!B4740&\" \"&Sheet1!C4740)","v":""}]
[{"$f":"IF(Sheet1!B4741=\"\",\"\",Sheet1!B4741&\" \"&Sheet1!C4741)","v":""}]
[{"$f":"IF(Sheet1!B4742=\"\",\"\",Sheet1!B4742&\" \"&Sheet1!C4742)","v":""}]
[{"$f":"IF(Sheet1!B4743=\"\",\"\",Sheet1!B4743&\" \"&Sheet1!C4743)","v":""}]
[{"$f":"IF(Sheet1!B4744=\"\",\"\",Sheet1!B4744&\" \"&Sheet1!C4744)","v":""}]
[{"$f":"IF(Sheet1!B4745=\"\",\"\",Sheet1!B4745&\" \"&Sheet1!C4745)","v":""}]
[{"$f":"IF(Sheet1!B4746=\"\",\"\",Sheet1!B4746&\" \"&Sheet1!C4746)","v":""}]
[{"$f":"IF(Sheet1!B4747=\"\",\"\",Sheet1!B4747&\" \"&Sheet1!C4747)","v":""}]
[{"$f":"IF(Sheet1!B4748=\"\",\"\",Sheet1!B4748&\" \"&Sheet1!C4748)","v":""}]
[{"$f":"IF(Sheet1!B4749=\"\",\"\",Sheet1!B4749&\" \"&Sheet1!C4749)","v":""}]
[{"$f":"IF(Sheet1!B4750=\"\",\"\",Sheet1!B4750&\" \"&Sheet1!C4750)","v":""}]
[{"$f":"IF(Sheet1!B4751=\"\",\"\",Sheet1!B4751&\" \"&Sheet1!C4751)","v":""}]
[{"$f":"IF(Sheet1!B4752=\"\",\"\",Sheet1!B4752&\" \"&Sheet1!C4752)","v":""}]
[{"$f":"IF(Sheet1!B4753=\"\",\"\",Sheet1!B4753&\" \"&Sheet1!C4753)","v":""}]
[{"$f":"IF(Sheet1!B4754=\"\",\"\",Sheet1!B4754&\" \"&Sheet1!C4754)","v":""}]
[{"$f":"IF(Sheet1!B4755=\"\",\"\",Sheet1!B4755&\" \"&Sheet1!C4755)","v":""}]
[{"$f":"IF(Sheet1!B4756=\"\",\"\",Sheet1!B4756&\" \"&Sheet1!C4756)","v":""}]
[{"$f":"IF(Sheet1!B4757=\"\",\"\",Sheet1!B4757&\" \"&Sheet1!C4757)","v":""}]
[{"$f":"IF(Sheet1!B4758=\"\",\"\",Sheet1!B4758&\" \"&Sheet1!C4758)","v":""}]
[{"$f":"IF(Sheet1!B4759=\"\",\"\",Sheet1!B4759&\" \"&Sheet1!C4759)","v":""}]
[{"$f":"IF(Sheet1!B4760=\"\",\"\",Sheet1!B4760&\" \"&Sheet1!C4760)","v":""}]
[{"$f":"IF(Sheet1!B4761=\"\",\"\",Sheet1!B4761&\" \"&Sheet1!C4761)","v":""}]
[{"$f":"IF(Sheet1!B4762=\"\",\"\",Sheet1!B4762&\" \"&Sheet1!C4762)","v":""}]
[{"$f":"IF(Sheet1!B4763=\"\",\"\",Sheet1!B4763&\" \"&Sheet1!C4763)","v":""}]
[{"$f":"IF(Sheet1!B4764=\"\",\"\",Sheet1!B4764&\" \"&Sheet1!C4764)","v":""}]
[{"$f":"IF(Sheet1!B4765=\"\",\"\",Sheet1!B4765&\" \"&Sheet1!C4765)","v":""}]
[{"$f":"IF(Sheet1!B4766=\"\",\"\",Sheet1!B4766&\" \"&Sheet1!C4766)","v":""}]
[{"$f":"IF(Sheet1!B4767=\"\",\"\",Sheet1!B4767&\" \"&Sheet1!C4767)","v":""}]
[{"$f":"IF(Sheet1!B4768=\"\",\"\",Sheet1!B4768&\" \"&Sheet1!C4768)","v":""}]
[{"$f":"IF(Sheet1!B4769=\"\",\"\",Sheet1!B4769&\" \"&Sheet1!C4769)","v":""}]
[{"$f":"IF(Sheet1!B4770=\"\",\"\",Sheet1!B4770&\" \"&Sheet1!C4770)","v":""}]
[{"$f":"IF(Sheet1!B4771=\"\",\"\",Sheet1!B4771&\" \"&Sheet1!C4771)","v":""}]
[{"$f":"IF(Sheet1!B4772=\"\",\"\",Sheet1!B4772&\" \"&Sheet1!C4772)","v":""}]
[{"$f":"IF(Sheet1!B4773=\"\",\"\",Sheet1!B4773&\" \"&Sheet1!C4773)","v":""}]
[{"$f":"IF(Sheet1!B4774=\"\",\"\",Sheet1!B4774&\" \"&Sheet1!C4774)","v":""}]
[{"$f":"IF(Sheet1!B4775=\"\",\"\",Sheet1!B4775&\" \"&Sheet1!C4775)","v":""}]
[{"$f":"IF(Sheet1!B4776=\"\",\"\",Sheet1!B4776&\" \"&Sheet1!C4776)","v":""}]
[{"$f":"IF(Sheet1!B4777=\"\",\"\",Sheet1!B4777&\" \"&Sheet1!C4777)","v":""}]
[{"$f":"IF(Sheet1!B4778=\"\",\"\",Sheet1!B4778&\" \"&Sheet1!C4778)","v":""}]
[{"$f":"IF(Sheet1!B4779=\"\",\"\",Sheet1!B4779&\" \"&Sheet1!C4779)","v":""}]
[{"$f":"IF(Sheet1!B4780=\"\",\"\",Sheet1!B4780&\" \"&Sheet1!C4780)","v":""}]
[{"$f":"IF(Sheet1!B4781=\"\",\"\",Sheet1!B4781&\" \"&Sheet1!C4781)","v":""}]
[{"$f":"IF(Sheet1!B4782=\"\",\"\",Sheet1!B4782&\" \"&Sheet1!C4782)","v":""}]
[{"$f":"IF(Sheet1!B4783=\"\",\"\",Sheet1!B4783&\" \"&Sheet1!C4783)","v":""}]
[{"$f":"IF(Sheet1!B4784=\"\",\"\",Sheet1!B4784&\" \"&Sheet1!C4784)","v":""}]
[{"$f":"IF(Sheet1!B4785=\"\",\"\",Sheet1!B4785&\" \"&Sheet1!C4785)","v":""}]
[{"$f":"IF(Sheet1!B4786=\"\",\"\",Sheet1!B4786&\" \"&Sheet1!C4786)","v":""}]
[{"$f":"IF(Sheet1!B4787=\"\",\"\",Sheet1!B4787&\" \"&Sheet1!C4787)","v":""}]
[{"$f":"IF(Sheet1!B4788=\"\",\"\",Sheet1!B4788&\" \"&Sheet1!C4788)","v":""}]
[{"$f":"IF(Sheet1!B4789=\"\",\"\",Sheet1!B4789&\" \"&Sheet1!C4789)","v":""}]
[{"$f":"IF(Sheet1!B4790=\"\",\"\",Sheet1!B4790&\" \"&Sheet1!C4790)","v":""}]
[{"$f":"IF(Sheet1!B4791=\"\",\"\",Sheet1!B4791&\" \"&Sheet1!C4791)","v":""}]
[{"$f":"IF(Sheet1!B4792=\"\",\"\",Sheet1!B4792&\" \"&Sheet1!C4792)","v":""}]
[{"$f":"IF(Sheet1!B4793=\"\",\"\",Sheet1!B4793&\" \"&Sheet1!C4793)","v":""}]
[{"$f":"IF(Sheet1!B4794=\"\",\"\",Sheet1!B4794&\" \"&Sheet1!C4794)","v":""}]
[{"$f":"IF(Sheet1!B4795=\"\",\"\",Sheet1!B4795&\" \"&Sheet1!C4795)","v":""}]
[{"$f":"IF(Sheet1!B4796=\"\",\"\",Sheet1!B4796&\" \"&Sheet1!C4796)","v":""}]
[{"$f":"IF(Sheet1!B4797=\"\",\"\",Sheet1!B4797&\" \"&Sheet1!C4797)","v":""}]
[{"$f":"IF(Sheet1!B4798=\"\",\"\",Sheet1!B4798&\" \"&Sheet1!C4798)","v":""}]
[{"$f":"IF(Sheet1!B4799=\"\",\"\",Sheet1!B4799&\" \"&Sheet1!C4799)","v":""}]
[{"$f":"IF(Sheet1!B4800=\"\",\"\",Sheet1!B4800&\" \"&Sheet1!C4800)","v":""}]
[{"$f":"IF(Sheet1!B4801=\"\",\"\",Sheet1!B4801&\" \"&Sheet1!C4801)","v":""}]
[{"$f":"IF(Sheet1!B4802=\"\",\"\",Sheet1!B4802&\" \"&Sheet1!C4802)","v":""}]
[{"$f":"IF(Sheet1!B4803=\"\",\"\",Sheet1!B4803&\" \"&Sheet1!C4803)","v":""}]
[{"$f":"IF(Sheet1!B4804=\"\",\"\",Sheet1!B4804&\" \"&Sheet1!C4804)","v":""}]
[{"$f":"IF(Sheet1!B4805=\"\",\"\",Sheet1!B4805&\" \"&Sheet1!C4805)","v":""}]
[{"$f":"IF(Sheet1!B4806=\"\",\"\",Sheet1!B4806&\" \"&Sheet1!C4806)","v":""}]
[{"$f":"IF(Sheet1!B4807=\"\",\"\",Sheet1!B4807&\" \"&Sheet1!C4807)","v":""}]
[{"$f":"IF(Sheet1!B4808=\"\",\"\",Sheet1!B4808&\" \"&Sheet1!C4808)","v":""}]
[{"$f":"IF(Sheet1!B4809=\"\",\"\",Sheet1!B4809&\" \"&Sheet1!C4809)","v":""}]
[{"$f":"IF(Sheet1!B4810=\"\",\"\",Sheet1!B4810&\" \"&Sheet1!C4810)","v":""}]
[{"$f":"IF(Sheet1!B4811=\"\",\"\",Sheet1!B4811&\" \"&Sheet1!C4811)","v":""}]
[{"$f":"IF(Sheet1!B4812=\"\",\"\",Sheet1!B4812&\" \"&Sheet1!C4812)","v":""}]
[{"$f":"IF(Sheet1!B4813=\"\",\"\",Sheet1!B4813&\" \"&Sheet1!C4813)","v":""}]
[{"$f":"IF(Sheet1!B4814=\"\",\"\",Sheet1!B4814&\" \"&Sheet1!C4814)","v":""}]
[{"$f":"IF(Sheet1!B4815=\"\",\"\",Sheet1!B4815&\" \"&Sheet1!C4815)","v":""}]
[{"$f":"IF(Sheet1!B4816=\"\",\"\",Sheet1!B4816&\" \"&Sheet1!C4816)","v":""}]
[{"$f":"IF(Sheet1!B4817=\"\",\"\",Sheet1!B4817&\" \"&Sheet1!C4817)","v":""}]
[{"$f":"IF(Sheet1!B4818=\"\",\"\",Sheet1!B4818&\" \"&Sheet1!C4818)","v":""}]
[{"$f":"IF(Sheet1!B4819=\"\",\"\",Sheet1!B4819&\" \"&Sheet1!C4819)","v":""}]
[{"$f":"IF(Sheet1!B4820=\"\",\"\",Sheet1!B4820&\" \"&Sheet1!C4820)","v":""}]
[{"$f":"IF(Sheet1!B4821=\"\",\"\",Sheet1!B4821&\" \"&Sheet1!C4821)","v":""}]
[{"$f":"IF(Sheet1!B4822=\"\",\"\",Sheet1!B4822&\" \"&Sheet1!C4822)","v":""}]
[{"$f":"IF(Sheet1!B4823=\"\",\"\",Sheet1!B4823&\" \"&Sheet1!C4823)","v":""}]
[{"$f":"IF(Sheet1!B4824=\"\",\"\",Sheet1!B4824&\" \"&Sheet1!C4824)","v":""}]
[{"$f":"IF(Sheet1!B4825=\"\",\"\",Sheet1!B4825&\" \"&Sheet1!C4825)","v":""}]
[{"$f":"IF(Sheet1!B4826=\"\",\"\",Sheet1!B4826&\" \"&Sheet1!C4826)","v":""}]
[{"$f":"IF(Sheet1!B4827=\"\",\"\",Sheet1!B4827&\" \"&Sheet1!C4827)","v":""}]
[{"$f":"IF(Sheet1!B4828=\"\",\"\",Sheet1!B4828&\" \"&Sheet1!C4828)","v":""}]
[{"$f":"IF(Sheet1!B4829=\"\",\"\",Sheet1!B4829&\" \"&Sheet1!C4829)","v":""}]
[{"$f":"IF(Sheet1!B4830=\"\",\"\",Sheet1!B4830&\" \"&Sheet1!C4830)","v":""}]
[{"$f":"IF(Sheet1!B4831=\"\",\"\",Sheet1!B4831&\" \"&Sheet1!C4831)","v":""}]
[{"$f":"IF(Sheet1!B4832=\"\",\"\",Sheet1!B4832&\" \"&Sheet1!C4832)","v":""}]
[{"$f":"IF(Sheet1!B4833=\"\",\"\",Sheet1!B4833&\" \"&Sheet1!C4833)","v":""}]
[{"$f":"IF(Sheet1!B4834=\"\",\"\",Sheet1!B4834&\" \"&Sheet1!C4834)","v":""}]
[{"$f":"IF(Sheet1!B4835=\"\",\"\",Sheet1!B4835&\" \"&Sheet1!C4835)","v":""}]
[{"$f":"IF(Sheet1!B4836=\"\",\"\",Sheet1!B4836&\" \"&Sheet1!C4836)","v":""}]
[{"$f":"IF(Sheet1!B4837=\"\",\"\",Sheet1!B4837&\" \"&Sheet1!C4837)","v":""}]
[{"$f":"IF(Sheet1!B4838=\"\",\"\",Sheet1!B4838&\" \"&Sheet1!C4838)","v":""}]
[{"$f":"IF(Sheet1!B4839=\"\",\"\",Sheet1!B4839&\" \"&Sheet1!C4839)","v":""}]
[{"$f":"IF(Sheet1!B4840=\"\",\"\",Sheet1!B4840&\" \"&Sheet1!C4840)","v":""}]
[{"$f":"IF(Sheet1!B4841=\"\",\"\",Sheet1!B4841&\" \"&Sheet1!C4841)","v":""}]
[{"$f":"IF(Sheet1!B4842=\"\",\"\",Sheet1!B4842&\" \"&Sheet1!C4842)","v":""}]
[{"$f":"IF(Sheet1!B4843=\"\",\"\",Sheet1!B4843&\" \"&Sheet1!C4843)","v":""}]
[{"$f":"IF(Sheet1!B4844=\"\",\"\",Sheet1!B4844&\" \"&Sheet1!C4844)","v":""}]
[{"$f":"IF(Sheet1!B4845=\"\",\"\",Sheet1!B4845&\" \"&Sheet1!C4845)","v":""}]
[{"$f":"IF(Sheet1!B4846=\"\",\"\",Sheet1!B4846&\" \"&Sheet1!C4846)","v":""}]
[{"$f":"IF(Sheet1!B4847=\"\",\"\",Sheet1!B4847&\" \"&Sheet1!C4847)","v":""}]
[{"$f":"IF(Sheet1!B4848=\"\",\"\",Sheet1!B4848&\" \"&Sheet1!C4848)","v":""}]
[{"$f":"IF(Sheet1!B4849=\"\",\"\",Sheet1!B4849&\" \"&Sheet1!C4849)","v":""}]
[{"$f":"IF(Sheet1!B4850=\"\",\"\",Sheet1!B4850&\" \"&Sheet1!C4850)","v":""}]
[{"$f":"IF(Sheet1!B4851=\"\",\"\",Sheet1!B4851&\" \"&Sheet1!C4851)","v":""}]
[{"$f":"IF(Sheet1!B4852=\"\",\"\",Sheet1!B4852&\" \"&Sheet1!C4852)","v":""}]
[{"$f":"IF(Sheet1!B4853=\"\",\"\",Sheet1!B4853&\" \"&Sheet1!C4853)","v":""}]
[{"$f":"IF(Sheet1!B4854=\"\",\"\",Sheet1!B4854&\" \"&Sheet1!C4854)","v":""}]
[{"$f":"IF(Sheet1!B4855=\"\",\"\",Sheet1!B4855&\" \"&Sheet1!C4855)","v":""}]
[{"$f":"IF(Sheet1!B4856=\"\",\"\",Sheet1!B4856&\" \"&Sheet1!C4856)","v":""}]
[{"$f":"IF(Sheet1!B4857=\"\",\"\",Sheet1!B4857&\" \"&Sheet1!C4857)","v":""}]
[{"$f":"IF(Sheet1!B4858=\"\",\"\",Sheet1!B4858&\" \"&Sheet1!C4858)","v":""}]
[{"$f":"IF(Sheet1!B4859=\"\",\"\",Sheet1!B4859&\" \"&Sheet1!C4859)","v":""}]
[{"$f":"IF(Sheet1!B4860=\"\",\"\",Sheet1!B4860&\" \"&Sheet1!C4860)","v":""}]
[{"$f":"IF(Sheet1!B4861=\"\",\"\",Sheet1!B4861&\" \"&Sheet1!C4861)","v":""}]
[{"$f":"IF(Sheet1!B4862=\"\",\"\",Sheet1!B4862&\" \"&Sheet1!C4862)","v":""}]
[{"$f":"IF(Sheet1!B4863=\"\",\"\",Sheet1!B4863&\" \"&Sheet1!C4863)","v":""}]
[{"$f":"IF(Sheet1!B4864=\"\",\"\",Sheet1!B4864&\" \"&Sheet1!C4864)","v":""}]
[{"$f":"IF(Sheet1!B4865=\"\",\"\",Sheet1!B4865&\" \"&Sheet1!C4865)","v":""}]
[{"$f":"IF(Sheet1!B4866=\"\",\"\",Sheet1!B4866&\" \"&Sheet1!C4866)","v":""}]
[{"$f":"IF(Sheet1!B4867=\"\",\"\",Sheet1!B4867&\" \"&Sheet1!C4867)","v":""}]
[{"$f":"IF(Sheet1!B4868=\"\",\"\",Sheet1!B4868&\" \"&Sheet1!C4868)","v":""}]
[{"$f":"IF(Sheet1!B4869=\"\",\"\",Sheet1!B4869&\" \"&Sheet1!C4869)","v":""}]
[{"$f":"IF(Sheet1!B4870=\"\",\"\",Sheet1!B4870&\" \"&Sheet1!C4870)","v":""}]
[{"$f":"IF(Sheet1!B4871=\"\",\"\",Sheet1!B4871&\" \"&Sheet1!C4871)","v":""}]
[{"$f":"IF(Sheet1!B4872=\"\",\"\",Sheet1!B4872&\" \"&Sheet1!C4872)","v":""}]
[{"$f":"IF(Sheet1!B4873=\"\",\"\",Sheet1!B4873&\" \"&Sheet1!C4873)","v":""}]
[{"$f":"IF(Sheet1!B4874=\"\",\"\",Sheet1!B4874&\" \"&Sheet1!C4874)","v":""}]
[{"$f":"IF(Sheet1!B4875=\"\",\"\",Sheet1!B4875&\" \"&Sheet1!C4875)","v":""}]
[{"$f":"IF(Sheet1!B4876=\"\",\"\",Sheet1!B4876&\" \"&Sheet1!C4876)","v":""}]
[{"$f":"IF(Sheet1!B4877=\"\",\"\",Sheet1!B4877&\" \"&Sheet1!C4877)","v":""}]
[{"$f":"IF(Sheet1!B4878=\"\",\"\",Sheet1!B4878&\" \"&Sheet1!C4878)","v":""}]
[{"$f":"IF(Sheet1!B4879=\"\",\"\",Sheet1!B4879&\" \"&Sheet1!C4879)","v":""}]
[{"$f":"IF(Sheet1!B4880=\"\",\"\",Sheet1!B4880&\" \"&Sheet1!C4880)","v":""}]
[{"$f":"IF(Sheet1!B4881=\"\",\"\",Sheet1!B4881&\" \"&Sheet1!C4881)","v":""}]
[{"$f":"IF(Sheet1!B4882=\"\",\"\",Sheet1!B4882&\" \"&Sheet1!C4882)","v":""}]
[{"$f":"IF(Sheet1!B4883=\"\",\"\",Sheet1!B4883&\" \"&Sheet1!C4883)","v":""}]
[{"$f":"IF(Sheet1!B4884=\"\",\"\",Sheet1!B4884&\" \"&Sheet1!C4884)","v":""}]
[{"$f":"IF(Sheet1!B4885=\"\",\"\",Sheet1!B4885&\" \"&Sheet1!C4885)","v":""}]
[{"$f":"IF(Sheet1!B4886=\"\",\"\",Sheet1!B4886&\" \"&Sheet1!C4886)","v":""}]
[{"$f":"IF(Sheet1!B4887=\"\",\"\",Sheet1!B4887&\" \"&Sheet1!C4887)","v":""}]
[{"$f":"IF(Sheet1!B4888=\"\",\"\",Sheet1!B4888&\" \"&Sheet1!C4888)","v":""}]
[{"$f":"IF(Sheet1!B4889=\"\",\"\",Sheet1!B4889&\" \"&Sheet1!C4889)","v":""}]
[{"$f":"IF(Sheet1!B4890=\"\",\"\",Sheet1!B4890&\" \"&Sheet1!C4890)","v":""}]
[{"$f":"IF(Sheet1!B4891=\"\",\"\",Sheet1!B4891&\" \"&Sheet1!C4891)","v":""}]
[{"$f":"IF(Sheet1!B4892=\"\",\"\",Sheet1!B4892&\" \"&Sheet1!C4892)","v":""}]
[{"$f":"IF(Sheet1!B4893=\"\",\"\",Sheet1!B4893&\" \"&Sheet1!C4893)","v":""}]
[{"$f":"IF(Sheet1!B4894=\"\",\"\",Sheet1!B4894&\" \"&Sheet1!C4894)","v":""}]
[{"$f":"IF(Sheet1!B4895=\"\",\"\",Sheet1!B4895&\" \"&Sheet1!C4895)","v":""}]
[{"$f":"IF(Sheet1!B4896=\"\",\"\",Sheet1!B4896&\" \"&Sheet1!C4896)","v":""}]
[{"$f":"IF(Sheet1!B4897=\"\",\"\",Sheet1!B4897&\" \"&Sheet1!C4897)","v":""}]
[{"$f":"IF(Sheet1!B4898=\"\",\"\",Sheet1!B4898&\" \"&Sheet1!C4898)","v":""}]
[{"$f":"IF(Sheet1!B4899=\"\",\"\",Sheet1!B4899&\" \"&Sheet1!C4899)","v":""}]
[{"$f":"IF(Sheet1!B4900=\"\",\"\",Sheet1!B4900&\" \"&Sheet1!C4900)","v":""}]
[{"$f":"IF(Sheet1!B4901=\"\",\"\",Sheet1!B4901&\" \"&Sheet1!C4901)","v":""}]
[{"$f":"IF(Sheet1!B4902=\"\",\"\",Sheet1!B4902&\" \"&Sheet1!C4902)","v":""}]
[{"$f":"IF(Sheet1!B4903=\"\",\"\",Sheet1!B4903&\" \"&Sheet1!C4903)","v":""}]
[{"$f":"IF(Sheet1!B4904=\"\",\"\",Sheet1!B4904&\" \"&Sheet1!C4904)","v":""}]
[{"$f":"IF(Sheet1!B4905=\"\",\"\",Sheet1!B4905&\" \"&Sheet1!C4905)","v":""}]
[{"$f":"IF(Sheet1!B4906=\"\",\"\",Sheet1!B4906&\" \"&Sheet1!C4906)","v":""}]
[{"$f":"IF(Sheet1!B4907=\"\",\"\",Sheet1!B4907&\" \"&Sheet1!C4907)","v":""}]
[{"$f":"IF(Sheet1!B4908=\"\",\"\",Sheet1!B4908&\" \"&Sheet1!C4908)","v":""}]
[{"$f":"IF(Sheet1!B4909=\"\",\"\",Sheet1!B4909&\" \"&Sheet1!C4909)","v":""}]
[{"$f":"IF(Sheet1!B4910=\"\",\"\",Sheet1!B4910&\" \"&Sheet1!C4910)","v":""}]
[{"$f":"IF(Sheet1!B4911=\"\",\"\",Sheet1!B4911&\" \"&Sheet1!C4911)","v":""}]
[{"$f":"IF(Sheet1!B4912=\"\",\"\",Sheet1!B4912&\" \"&Sheet1!C4912)","v":""}]
[{"$f":"IF(Sheet1!B4913=\"\",\"\",Sheet1!B4913&\" \"&Sheet1!C4913)","v":""}]
[{"$f":"IF(Sheet1!B4914=\"\",\"\",Sheet1!B4914&\" \"&Sheet1!C4914)","v":""}]
[{"$f":"IF(Sheet1!B4915=\"\",\"\",Sheet1!B4915&\" \"&Sheet1!C4915)","v":""}]
[{"$f":"IF(Sheet1!B4916=\"\",\"\",Sheet1!B4916&\" \"&Sheet1!C4916)","v":""}]
[{"$f":"IF(Sheet1!B4917=\"\",\"\",Sheet1!B4917&\" \"&Sheet1!C4917)","v":""}]
[{"$f":"IF(Sheet1!B4918=\"\",\"\",Sheet1!B4918&\" \"&Sheet1!C4918)","v":""}]
[{"$f":"IF(Sheet1!B4919=\"\",\"\",Sheet1!B4919&\" \"&Sheet1!C4919)","v":""}]
[{"$f":"IF(Sheet1!B4920=\"\",\"\",Sheet1!B4920&\" \"&Sheet1!C4920)","v":""}]
[{"$f":"IF(Sheet1!B4921=\"\",\"\",Sheet1!B4921&\" \"&Sheet1!C4921)","v":""}]
[{"$f":"IF(Sheet1!B4922=\"\",\"\",Sheet1!B4922&\" \"&Sheet1!C4922)","v":""}]
[{"$f":"IF(Sheet1!B4923=\"\",\"\",Sheet1!B4923&\" \"&Sheet1!C4923)","v":""}]
[{"$f":"IF(Sheet1!B4924=\"\",\"\",Sheet1!B4924&\" \"&Sheet1!C4924)","v":""}]
[{"$f":"IF(Sheet1!B4925=\"\",\"\",Sheet1!B4925&\" \"&Sheet1!C4925)","v":""}]
[{"$f":"IF(Sheet1!B4926=\"\",\"\",Sheet1!B4926&\" \"&Sheet1!C4926)","v":""}]
[{"$f":"IF(Sheet1!B4927=\"\",\"\",Sheet1!B4927&\" \"&Sheet1!C4927)","v":""}]
[{"$f":"IF(Sheet1!B4928=\"\",\"\",Sheet1!B4928&\" \"&Sheet1!C4928)","v":""}]
[{"$f":"IF(Sheet1!B4929=\"\",\"\",Sheet1!B4929&\" \"&Sheet1!C4929)","v":""}]
[{"$f":"IF(Sheet1!B4930=\"\",\"\",Sheet1!B4930&\" \"&Sheet1!C4930)","v":""}]
[{"$f":"IF(Sheet1!B4931=\"\",\"\",Sheet1!B4931&\" \"&Sheet1!C4931)","v":""}]
[{"$f":"IF(Sheet1!B4932=\"\",\"\",Sheet1!B4932&\" \"&Sheet1!C4932)","v":""}]
[{"$f":"IF(Sheet1!B4933=\"\",\"\",Sheet1!B4933&\" \"&Sheet1!C4933)","v":""}]
[{"$f":"IF(Sheet1!B4934=\"\",\"\",Sheet1!B4934&\" \"&Sheet1!C4934)","v":""}]
[{"$f":"IF(Sheet1!B4935=\"\",\"\",Sheet1!B4935&\" \"&Sheet1!C4935)","v":""}]
[{"$f":"IF(Sheet1!B4936=\"\",\"\",Sheet1!B4936&\" \"&Sheet1!C4936)","v":""}]
[{"$f":"IF(Sheet1!B4937=\"\",\"\",Sheet1!B4937&\" \"&Sheet1!C4937)","v":""}]
[{"$f":"IF(Sheet1!B4938=\"\",\"\",Sheet1!B4938&\" \"&Sheet1!C4938)","v":""}]
[{"$f":"IF(Sheet1!B4939=\"\",\"\",Sheet1!B4939&\" \"&Sheet1!C4939)","v":""}]
[{"$f":"IF(Sheet1!B4940=\"\",\"\",Sheet1!B4940&\" \"&Sheet1!C4940)","v":""}]
[{"$f":"IF(Sheet1!B4941=\"\",\"\",Sheet1!B4941&\" \"&Sheet1!C4941)","v":""}]
[{"$f":"IF(Sheet1!B4942=\"\",\"\",Sheet1!B4942&\" \"&Sheet1!C4942)","v":""}]
[{"$f":"IF(Sheet1!B4943=\"\",\"\",Sheet1!B4943&\" \"&Sheet1!C4943)","v":""}]
[{"$f":"IF(Sheet1!B4944=\"\",\"\",Sheet1!B4944&\" \"&Sheet1!C4944)","v":""}]
[{"$f":"IF(Sheet1!B4945=\"\",\"\",Sheet1!B4945&\" \"&Sheet1!C4945)","v":""}]
[{"$f":"IF(Sheet1!B4946=\"\",\"\",Sheet1!B4946&\" \"&Sheet1!C4946)","v":""}]
[{"$f":"IF(Sheet1!B4947=\"\",\"\",Sheet1!B4947&\" \"&Sheet1!C4947)","v":""}]
[{"$f":"IF(Sheet1!B4948=\"\",\"\",Sheet1!B4948&\" \"&Sheet1!C4948)","v":""}]
[{"$f":"IF(Sheet1!B4949=\"\",\"\",Sheet1!B4949&\" \"&Sheet1!C4949)","v":""}]
[{"$f":"IF(Sheet1!B4950=\"\",\"\",Sheet1!B4950&\" \"&Sheet1!C4950)","v":""}]
[{"$f":"IF(Sheet1!B4951=\"\",\"\",Sheet1!B4951&\" \"&Sheet1!C4951)","v":""}]
[{"$f":"IF(Sheet1!B4952=\"\",\"\",Sheet1!B4952&\" \"&Sheet1!C4952)","v":""}]
[{"$f":"IF(Sheet1!B4953=\"\",\"\",Sheet1!B4953&\" \"&Sheet1!C4953)","v":""}]
[{"$f":"IF(Sheet1!B4954=\"\",\"\",Sheet1!B4954&\" \"&Sheet1!C4954)","v":""}]
[{"$f":"IF(Sheet1!B4955=\"\",\"\",Sheet1!B4955&\" \"&Sheet1!C4955)","v":""}]
[{"$f":"IF(Sheet1!B4956=\"\",\"\",Sheet1!B4956&\" \"&Sheet1!C4956)","v":""}]
[{"$f":"IF(Sheet1!B4957=\"\",\"\",Sheet1!B4957&\" \"&Sheet1!C4957)","v":""}]
[{"$f":"IF(Sheet1!B4958=\"\",\"\",Sheet1!B4958&\" \"&Sheet1!C4958)","v":""}]
[{"$f":"IF(Sheet1!B4959=\"\",\"\",Sheet1!B4959&\" \"&Sheet1!C4959)","v":""}]
[{"$f":"IF(Sheet1!B4960=\"\",\"\",Sheet1!B4960&\" \"&Sheet1!C4960)","v":""}]
[{"$f":"IF(Sheet1!B4961=\"\",\"\",Sheet1!B4961&\" \"&Sheet1!C4961)","v":""}]
[{"$f":"IF(Sheet1!B4962=\"\",\"\",Sheet1!B4962&\" \"&Sheet1!C4962)","v":""}]
[{"$f":"IF(Sheet1!B4963=\"\",\"\",Sheet1!B4963&\" \"&Sheet1!C4963)","v":""}]
[{"$f":"IF(Sheet1!B4964=\"\",\"\",Sheet1!B4964&\" \"&Sheet1!C4964)","v":""}]
[{"$f":"IF(Sheet1!B4965=\"\",\"\",Sheet1!B4965&\" \"&Sheet1!C4965)","v":""}]
[{"$f":"IF(Sheet1!B4966=\"\",\"\",Sheet1!B4966&\" \"&Sheet1!C4966)","v":""}]
[{"$f":"IF(Sheet1!B4967=\"\",\"\",Sheet1!B4967&\" \"&Sheet1!C4967)","v":""}]
[{"$f":"IF(Sheet1!B4968=\"\",\"\",Sheet1!B4968&\" \"&Sheet1!C4968)","v":""}]
[{"$f":"IF(Sheet1!B4969=\"\",\"\",Sheet1!B4969&\" \"&Sheet1!C4969)","v":""}]
[{"$f":"IF(Sheet1!B4970=\"\",\"\",Sheet1!B4970&\" \"&Sheet1!C4970)","v":""}]
[{"$f":"IF(Sheet1!B4971=\"\",\"\",Sheet1!B4971&\" \"&Sheet1!C4971)","v":""}]
[{"$f":"IF(Sheet1!B4972=\"\",\"\",Sheet1!B4972&\" \"&Sheet1!C4972)","v":""}]
[{"$f":"IF(Sheet1!B4973=\"\",\"\",Sheet1!B4973&\" \"&Sheet1!C4973)","v":""}]
[{"$f":"IF(Sheet1!B4974=\"\",\"\",Sheet1!B4974&\" \"&Sheet1!C4974)","v":""}]
[{"$f":"IF(Sheet1!B4975=\"\",\"\",Sheet1!B4975&\" \"&Sheet1!C4975)","v":""}]
[{"$f":"IF(Sheet1!B4976=\"\",\"\",Sheet1!B4976&\" \"&Sheet1!C4976)","v":""}]
[{"$f":"IF(Sheet1!B4977=\"\",\"\",Sheet1!B4977&\" \"&Sheet1!C4977)","v":""}]
[{"$f":"IF(Sheet1!B4978=\"\",\"\",Sheet1!B4978&\" \"&Sheet1!C4978)","v":""}]
[{"$f":"IF(Sheet1!B4979=\"\",\"\",Sheet1!B4979&\" \"&Sheet1!C4979)","v":""}]
[{"$f":"IF(Sheet1!B4980=\"\",\"\",Sheet1!B4980&\" \"&Sheet1!C4980)","v":""}]
[{"$f":"IF(Sheet1!B4981=\"\",\"\",Sheet1!B4981&\" \"&Sheet1!C4981)","v":""}]
[{"$f":"IF(Sheet1!B4982=\"\",\"\",Sheet1!B4982&\" \"&Sheet1!C4982)","v":""}]
[{"$f":"IF(Sheet1!B4983=\"\",\"\",Sheet1!B4983&\" \"&Sheet1!C4983)","v":""}]
[{"$f":"IF(Sheet1!B4984=\"\",\"\",Sheet1!B4984&\" \"&Sheet1!C4984)","v":""}]
[{"$f":"IF(Sheet1!B4985=\"\",\"\",Sheet1!B4985&\" \"&Sheet1!C4985)","v":""}]
[{"$f":"IF(Sheet1!B4986=\"\",\"\",Sheet1!B4986&\" \"&Sheet1!C4986)","v":""}]
[{"$f":"IF(Sheet1!B4987=\"\",\"\",Sheet1!B4987&\" \"&Sheet1!C4987)","v":""}]
[{"$f":"IF(Sheet1!B4988=\"\",\"\",Sheet1!B4988&\" \"&Sheet1!C4988)","v":""}]
[{"$f":"IF(Sheet1!B4989=\"\",\"\",Sheet1!B4989&\" \"&Sheet1!C4989)","v":""}]
[{"$f":"IF(Sheet1!B4990=\"\",\"\",Sheet1!B4990&\" \"&Sheet1!C4990)","v":""}]
[{"$f":"IF(Sheet1!B4991=\"\",\"\",Sheet1!B4991&\" \"&Sheet1!C4991)","v":""}]
[{"$f":"IF(Sheet1!B4992=\"\",\"\",Sheet1!B4992&\" \"&Sheet1!C4992)","v":""}]
[{"$f":"IF(Sheet1!B4993=\"\",\"\",Sheet1!B4993&\" \"&Sheet1!C4993)","v":""}]
[{"$f":"IF(Sheet1!B4994=\"\",\"\",Sheet1!B4994&\" \"&Sheet1!C4994)","v":""}]
[{"$f":"IF(Sheet1!B4995=\"\",\"\",Sheet1!B4995&\" \"&Sheet1!C4995)","v":""}]
[{"$f":"IF(Sheet1!B4996=\"\",\"\",Sheet1!B4996&\" \"&Sheet1!C4996)","v":""}]
[{"$f":"IF(Sheet1!B4997=\"\",\"\",Sheet1!B4997&\" \"&Sheet1!C4997)","v":""}]
[{"$f":"IF(Sheet1!B4998=\"\",\"\",Sheet1!B4998&\" \"&Sheet1!C4998)","v":""}]
[{"$f":"IF(Sheet1!B4999=\"\",\"\",Sheet1!B4999&\" \"&Sheet1!C4999)","v":""}]
[{"$f":"IF(Sheet1!B5000=\"\",\"\",Sheet1!B5000&\" \"&Sheet1!C5000)","v":""}]
[{"$f":"IF(Sheet1!B5001=\"\",\"\",Sheet1!B5001&\" \"&Sheet1!C5001)","v":""}]
[{"$f":"IF(Sheet1!B5002=\"\",\"\",Sheet1!B5002&\" \"&Sheet1!C5002)","v":""}]
[{"$f":"IF(Sheet1!B5003=\"\",\"\",Sheet1!B5003&\" \"&Sheet1!C5003)","v":""}]
[{"$f":"IF(Sheet1!B5004=\"\",\"\",Sheet1!B5004&\" \"&Sheet1!C5004)","v":""}]
[{"$f":"IF(Sheet1!B5005=\"\",\"\",Sheet1!B5005&\" \"&Sheet1!C5005)","v":""}]
[{"$f":"IF(Sheet1!B5006=\"\",\"\",Sheet1!B5006&\" \"&Sheet1!C5006)","v":""}]
[{"$f":"IF(Sheet1!B5007=\"\",\"\",Sheet1!B5007&\" \"&Sheet1!C5007)","v":""}]
[{"$f":"IF(Sheet1!B5008=\"\",\"\",Sheet1!B5008&\" \"&Sheet1!C5008)","v":""}]
[{"$f":"IF(Sheet1!B5009=\"\",\"\",Sheet1!B5009&\" \"&Sheet1!C5009)","v":""}]
[{"$f":"IF(Sheet1!B5010=\"\",\"\",Sheet1!B5010&\" \"&Sheet1!C5010)","v":""}]
[{"$f":"IF(Sheet1!B5011=\"\",\"\",Sheet1!B5011&\" \"&Sheet1!C5011)","v":""}]
[{"$f":"IF(Sheet1!B5012=\"\",\"\",Sheet1!B5012&\" \"&Sheet1!C5012)","v":""}]
[{"$f":"IF(Sheet1!B5013=\"\",\"\",Sheet1!B5013&\" \"&Sheet1!C5013)","v":""}]
[{"$f":"IF(Sheet1!B5014=\"\",\"\",Sheet1!B5014&\" \"&Sheet1!C5014)","v":""}]
[{"$f":"IF(Sheet1!B5015=\"\",\"\",Sheet1!B5015&\" \"&Sheet1!C5015)","v":""}]
[{"$f":"IF(Sheet1!B5016=\"\",\"\",Sheet1!B5016&\" \"&Sheet1!C5016)","v":""}]
[{"$f":"IF(Sheet1!B5017=\"\",\"\",Sheet1!B5017&\" \"&Sheet1!C5017)","v":""}]
[{"$f":"IF(Sheet1!B5018=\"\",\"\",Sheet1!B5018&\" \"&Sheet1!C5018)","v":""}]
[{"$f":"IF(Sheet1!B5019=\"\",\"\",Sheet1!B5019&\" \"&Sheet1!C5019)","v":""}]
[{"$f":"IF(Sheet1!B5020=\"\",\"\",Sheet1!B5020&\" \"&Sheet1!C5020)","v":""}]
[{"$f":"IF(Sheet1!B5021=\"\",\"\",Sheet1!B5021&\" \"&Sheet1!C5021)","v":""}]
[{"$f":"IF(Sheet1!B5022=\"\",\"\",Sheet1!B5022&\" \"&Sheet1!C5022)","v":""}]
[{"$f":"IF(Sheet1!B5023=\"\",\"\",Sheet1!B5023&\" \"&Sheet1!C5023)","v":""}]
[{"$f":"IF(Sheet1!B5024=\"\",\"\",Sheet1!B5024&\" \"&Sheet1!C5024)","v":""}]
[{"$f":"IF(Sheet1!B5025=\"\",\"\",Sheet1!B5025&\" \"&Sheet1!C5025)","v":""}]
[{"$f":"IF(Sheet1!B5026=\"\",\"\",Sheet1!B5026&\" \"&Sheet1!C5026)","v":""}]
[{"$f":"IF(Sheet1!B5027=\"\",\"\",Sheet1!B5027&\" \"&Sheet1!C5027)","v":""}]
[{"$f":"IF(Sheet1!B5028=\"\",\"\",Sheet1!B5028&\" \"&Sheet1!C5028)","v":""}]
[{"$f":"IF(Sheet1!B5029=\"\",\"\",Sheet1!B5029&\" \"&Sheet1!C5029)","v":""}]
[{"$f":"IF(Sheet1!B5030=\"\",\"\",Sheet1!B5030&\" \"&Sheet1!C5030)","v":""}]
[{"$f":"IF(Sheet1!B5031=\"\",\"\",Sheet1!B5031&\" \"&Sheet1!C5031)","v":""}]
[{"$f":"IF(Sheet1!B5032=\"\",\"\",Sheet1!B5032&\" \"&Sheet1!C5032)","v":""}]
[{"$f":"IF(Sheet1!B5033=\"\",\"\",Sheet1!B5033&\" \"&Sheet1!C5033)","v":""}]
[{"$f":"IF(Sheet1!B5034=\"\",\"\",Sheet1!B5034&\" \"&Sheet1!C5034)","v":""}]
[{"$f":"IF(Sheet1!B5035=\"\",\"\",Sheet1!B5035&\" \"&Sheet1!C5035)","v":""}]