{"text_format":"1","workbook":"xlsx","n_sheets":3,"sheets":["SEARCHABLE TRUSTEE LIST","FULL TRUSTEE LIST","List"],"not_rendered":{"charts":0,"images":0,"macros":1,"external_links":0,"defined_names":5,"comments":0,"pivot_tables":0},"unopened":[],"bounds":{"document_bytes":16777216,"sheet_cells":100000,"rows_first":2000,"rows_last":500,"rows_between":2000,"halvings":0,"cell_chars":16384,"cell_head_chars":4096},"cells_cut":0,"cells_raw":0,"read":"whole","date_system":"1900"}

{"sheet":"SEARCHABLE TRUSTEE LIST","index":0,"n_rows":3075,"n_cols":6,"rows_kept":3075,"cut":false,"hidden":false,"merged":[[0,0,1,5],[2,0,3,5],[4,0,5,5]]}
["STETSON UNIVERSITY"]
[]
["TRUSTEE BULLETIN LIST\n1885 - 2014"]
[]
["This list reflects trustee members' names as published in the Stetson University Bulletin.\nTrustee members may have started their service with Stetson the year before they first appear in the Bulletin"]
[]
[]
[]
[]
["Select A Year","       OR       ","Select A Name","       OR       ",null,"Trustee"]
[]
[]
[]
[]
["ID","LAST NAME","FIRST NAME","DEGREE","YEAR","Job Title"]
[" ","Alexander","Steven",null,"2012 / 2013","Trustee"]
[" ","Alexander","Steven",null,"2013 / 2014","Trustee"]
[" ","Allen","Frederick S.",null,"1958 / 1959","Library Maintenance Trustee"]
[" ","Allen","Frederick S.",null,"1964 / 1965","Trustee"]
[" ","Allen","Frederick S.",null,"1965 / 1966","Trustee"]
[" ","Allen","Frederick S.",null,"1966 / 1967","Trustee"]
[" ","Allen","Frederick S.",null,"1967 / 1968","Trustee"]
[" ","Allen","Frederick S.",null,"1968 / 1969","Trustee"]
[" ","Allen","Frederick S.",null,"1969 / 1970","Trustee"]
[" ","Allen","Frederick S.",null,"1970 / 1971","Trustee"]
[" ","Allen","Frederick S.",null,"1971 / 1972","Trustee"]
[" ","Allen","Frederick S.",null,"1972 / 1973","Trustee"]
[" ","Allen","Frederick S.",null,"1974 / 1975","Trustee"]
[" ","Allen","Frederick S.",null,"1975 / 1976","Trustee"]
[" ","Allen","Frederick S.",null,"1978 / 1979","Trustee"]
[" ","Allen","Frederick S.",null,"1979 / 1980","Trustee"]
[" ","Allen","Frederick S.",null,"1980 / 1981","Trustee"]
[" ","Allen","Frederick S.",null,"1981 / 1982","Trustee"]
[" ","Allen","Frederick S.",null,"1982 / 1983","Trustee"]
[" ","Allen","Frederick S.",null,"1983 / 1984","Trustee"]
[" ","Allen","Riley W.",null,"1906 / 1907","Trustee"]
[" ","Allen","Riley W.",null,"1907 / 1908","Trustee"]
[" ","Allen","Riley W.",null,"1908 / 1909","Trustee"]
[" ","Allen","Riley W.",null,"1909 / 1910","Trustee"]
[" ","Allen","Riley W.",null,"1910 / 1911","Trustee"]
[" ","Allen","Riley W.",null,"1911 / 1912","Trustee"]
[" ","Allen","Riley W.",null,"1912 / 1913","Trustee"]
[" ","Allen","Riley W.",null,"1913 / 1914","Trustee"]
[" ","Allen","Riley W.",null,"1914 / 1915","Trustee"]
[" ","Allen","Riley W.",null,"1915 / 1916","Trustee"]
[" ","Allen","Riley W.",null,"1916 / 1917","Trustee"]
[" ","Allen","Riley W.",null,"1917 / 1918","Trustee"]
[" ","Allen","Riley W.",null,"1918 / 1919","Trustee"]
[" ","Allen","William Sims","Ph.D.","1934 / 1935","Trustee Treasurer & Committee on Administrative"]
[" ","Allen","William Sims","Ph.D.","1935 / 1936","Trustee Treasurer & Committee on Administrative"]
[" ","Allen","William Sims","Ph.D.","1937 / 1938","Trustee Treasurer & Committee on Administrative"]
[" ","Allen","William Sims","Ph.D.","1938 / 1939","Trustee Treasurer & Committee on Administrative"]
[" ","Allen","William Sims","Ph.D.","1939 / 1940","Trustee Treasurer & Committee on Administrative & Finance Committee"]
[" ","Allen","William Sims","Ph.D.","1940 / 1941","Trustee Treasurer & Committee on Administrative & Finance Committee"]
[" ","Allen","William Sims","Ph.D.","1941 / 1942","Trustee Treasurer & Committee on Administrative"]
[" ","Allen","William Sims","Ph.D.","1942 / 1943","Trustee Treasurer & Committee on Administrative"]
[" ","Allen","William Sims","Ph.D.","1943 / 1944","Trustee Treasurer & Committee on Administrative"]
[" ","Allen","William Sims","Ph.D.","1944 / 1945","Trustee Treasurer & Committee on Administrative"]
[" ","Allen","William Sims","Ph.D.","1945 / 1946","Trustee Treasurer & Committee on Administrative"]
[" ","Allen","William Sims","Ph.D.","1946 / 1947","Trustee Treasurer & Committee on Administrative"]
[" ","Allen","William Sims","Ph.D.","1947 / 1948","Trustee (resigned)"]
[" ","Angell","C. Roy ","D.D.","1941 / 1942","Trustee"]
[" ","Angell","C. Roy ","D.D.","1942 / 1943","Trustee & Committee on Administrative"]
[" ","Angell","C. Roy ","D.D.","1943 / 1944","Trustee & Committee on Administrative"]
[" ","Angell","C. Roy ","D.D.","1944 / 1945","Trustee & Committee on Administrative"]
[" ","Angell","C. Roy ","D.D.","1945 / 1946","Trustee & Committee on Administrative"]
[" ","Angell","C. Roy ","D.D.","1946 / 1947","Trustee"]
[" ","Angell","C. Roy ","D.D.","1947 / 1948","Trustee"]
[" ","Angell","C. Roy ","D.D.","1948 / 1949","Trustee"]
[" ","Angell","C. Roy ","D.D.","1949 / 1950","Trustee"]
[" ","Angell","C. Roy ","D.D.","1950 / 1951","Trustee"]
[" ","Angell","C. Roy ","D.D.","1952 / 1953","Trustee"]
[" ","Angell","C. Roy ","D.D.","1953 / 1954","Trustee"]
[" ","Angell","C. Roy ","D.D.","1954 / 1955","Trustee"]
[" ","Angell","C. Roy ","D.D.","1955 / 1956","Trustee"]
[" ","Angell","C. Roy ","D.D.","1956 / 1957","Trustee"]
[" ","Angell","C. Roy ","D.D.","1957 / 1958","Trustee"]
[" ","Arnold","Richard E.",null,"1972 / 1973","Trustee"]
[" ","Arnold","Richard E.",null,"1974 / 1975","Trustee"]
[" ","Arnold","Richard E.",null,"1975 / 1976","Trustee"]
[" ","Arnold","Richard E.",null,"1978 / 1979","Trustee"]
[" ","Arnold","Richard E.",null,"1979 / 1980","Trustee"]
[" ","Arnold","Richard E.",null,"1980 / 1981","Trustee"]
[" ","Atkinson","Alonzo M.",null,"1887 / 1888","Trustee"]
[" ","Atkinson","Alonzo M.",null,"1888 / 1889","Trustee"]
[" ","Atkinson","Alonzo M.",null,"1889 / 1890","Trustee"]
[" ","Atkinson","Alonzo M.",null,"1891 / 1892","Trustee"]
[" ","Atkinson","Alonzo M.",null,"1892 / 1893","Trustee"]
[" ","Atkinson","Alonzo M.",null,"1894 / 1895","Trustee"]
[" ","Baggett","B.B.",null,"1937 / 1938","Trustee"]
[" ","Baggett","B.B.",null,"1938 / 1939","Trustee"]
[" ","Baggett","B.B.",null,"1939 / 1940","Trustee & Committee on Administrative & Finance Committee"]
[" ","Baggett","B.B.",null,"1940 / 1941","Trustee & Committee on Administrative & Finance Committee"]
[" ","Baggett","B.B.",null,"1941 / 1942","Trustee & Finance Committee"]
[" ","Baggett","B.B.",null,"1942 / 1943","Trustee & Finance Committee"]
[" ","Baggett","B.B.",null,"1943 / 1944","Trustee & Finance Committee"]
[" ","Baggett","B.B.",null,"1944 / 1945","Trustee & Finance Committee"]
[" ","Baggett","B.B.",null,"1945 / 1946","Trustee & Finance Committee"]
[" ","Baggett","B.B.",null,"1946 / 1947","Trustee & Finance Committee"]
[" ","Baggett","B.B.",null,"1947 / 1948","Trustee & Finance Committee"]
[" ","Baggett","B.B.",null,"1948 / 1949","Trustee & Finance Committee"]
[" ","Baggett","B.B.",null,"1949 / 1950","Trustee & Finance Committee"]
[" ","Baggett","B.B.",null,"1950 / 1951","Trustee"]
[" ","Baggett","B.B.",null,"1952 / 1953","Trustee"]
[" ","Baggett","B.B.",null,"1954 / 1955","Trustee"]
[" ","Bailey","F.N.K.",null,"1934 / 1935","Trustee"]
[" ","Bailey","F.N.K.",null,"1935 / 1936","Trustee"]
[" ","Bailey","F.N.K.",null,"1937 / 1938","Trustee"]
[" ","Bailey","F.N.K.",null,"1938 / 1939","Trustee"]
[" ","Bailey","F.N.K.",null,"1939 / 1940","Trustee & Finance Committee"]
[" ","Bailey","F.N.K.",null,"1940 / 1941","Trustee & Finance Committee"]
[" ","Bailey","F.N.K.",null,"1941 / 1942","Trustee President & Committee on Administrative"]
[" ","Bailey","F.N.K.",null,"1942 / 1943","Trustee President & Committee on Administrative"]
[" ","Bailey","F.N.K.",null,"1943 / 1944","Trustee President & Committee on Administrative"]
[" ","Bailey","F.N.K.",null,"1944 / 1945","Trustee President & Committee on Administrative"]
[" ","Bailey","F.N.K.",null,"1945 / 1946","Trustee President & Committee on Administrative"]
[" ","Bailey","F.N.K.",null,"1946 / 1947","Trustee President & Committee on Administrative"]
[" ","Bailey","F.N.K.",null,"1947 / 1948","Trustee President & Committee on Administrative"]
[" ","Bailey","F.N.K.",null,"1948 / 1949","Trustee President & Chairman of Administrative Committee"]
[" ","Bailey","F.N.K.",null,"1949 / 1950","Trustee President & Chairman of Administrative Committee \n& Finance Committee"]
[" ","Bailey","F.N.K.",null,"1950 / 1951","Trustee President & Chairman of Administrative Committee "]
[" ","Bailey","F.N.K.",null,"1952 / 1953","Trustee"]
[" ","Bailey","F.N.K.",null,"1953 / 1954","Trustee President"]
[" ","Bailey","F.N.K.",null,"1954 / 1955","Trustee President"]
[" ","Bailey","F.N.K.",null,"1955 / 1956","Trustee"]
[" ","Balll","Jess C.",null,"1995 / 1996","Trustee Chair, Business School Board"]
[" ","Bamberg","Joe",null,"1975 / 1976","Trustee"]
[" ","Bamberg","Joe",null,"1978 / 1979","Trustee"]
[" ","Bamberg","Joe",null,"1979 / 1980","Trustee"]
[" ","Bamberg","Joe",null,"1980 / 1981","Trustee"]
[" ","Bamberg","Joe",null,"1981 / 1982","Trustee"]
[" ","Bamberg","Joe",null,"1982 / 1983","Trustee"]
[" ","Banes","Charles H.","Col.","1895 / 1896","Trustee"]
[" ","Bean","E.",null,"1885 / 1886","Trustee"]
[" ","Beatty","Robert G.",null,"1999 / 2000","Trustee"]
[" ","Beatty","Robert G.",null,"2004 / 2005","Trustee"]
[" ","Beatty","Robert G.",null,"2005 / 2006","Trustee"]
[" ","Beauchamp","Richard",null,"1980 / 1981","Trustee"]
[" ","Beauchamp","Richard",null,"1981 / 1982","Trustee"]
[" ","Beauchamp","Richard",null,"1982 / 1983","Trustee"]
[" ","Beauchamp","Richard",null,"1983 / 1984","Trustee"]
[" ","Beauchamp","Richard",null,"1984 / 1985","Trustee"]
[" ","Beauchamp","Richard",null,"1985 / 1986","Trustee"]
[" ","Beauchamp","Richard",null,"1986 / 1987","Trustee"]
[" ","Beauchamp","Richard",null,"1987 / 1988","Trustee"]
[" ","Beauchamp","Richard",null,"1988 / 1989","Trustee"]
[" ","Beauchamp","Richard",null,"1989 / 1990","Trustee"]
[" ","Beauchamp","Richard",null,"1990 / 1991","Trustee"]
[" ","Beauchamp","Richard",null,"2005 / 2006","Trustee"]
[" ","Beaver","Frederick P.",null,"1916 / 1917","Trustee"]
[" ","Beaver","Frederick P.",null,"1917 / 1918","Trustee"]
[" ","Beaver","Frederick P.",null,"1918 / 1919","Trustee"]
[" ","Beaver","Frederick P.",null,"1919 / 1920","Trustee"]
[" ","Beaver","Frederick P.",null,"1920 / 1921","Trustee"]
[" ","Beaver","Frederick P.",null,"1921 / 1922","Trustee"]
[" ","Beaver","Frederick P.",null,"1922 / 1923","Trustee"]
[" ","Beaver","Frederick P.",null,"1923 / 1924","Trustee"]
[" ","Beaver","Frederick P.",null,"1924 / 1925","Trustee"]
[" ","Beaver","Frederick P.",null,"1925 / 1926","Trustee"]
[" ","Beaver","Frederick P.",null,"1926 / 1927","Trustee"]
[" ","Beaver","Frederick P.",null,"1927 / 1928","Trustee"]
[" ","Beaver","Frederick P.",null,"1928 / 1929","Trustee"]
[" ","Beaver","Frederick P.",null,"1929 / 1930","Trustee"]
[" ","Beaver","Frederick P.",null,"1930 / 1931","Trustee"]
[" ","Beaver","Frederick P.",null,"1931 / 1932","Trustee"]
[" ","Beaver","Frederick P.",null,"1932 / 1933","Trustee"]
[" ","Beaver","Frederick P.",null,"1933 / 1934","Trustee"]
[" ","Beaver","Frederick P.",null,"1934 / 1935","Trustee"]
[" ","Beaver","Frederick P.",null,"1935 / 1936","Trustee (deceased)"]
[" ","Bentley","Frank B.",null,"1919 / 1920","Trustee"]
[" ","Bentley","Frank B.",null,"1920 / 1921","Trustee"]
[" ","Bentley","Frank B.",null,"1921 / 1922","Trustee"]
[" ","Bentley","Frank B.",null,"1922 / 1923","Trustee"]
[" ","Bentley","Frank B.",null,"1923 / 1924","Trustee"]
[" ","Bentley","Frank B.",null,"1924 / 1925","Trustee"]
[" ","Bentley","Frank B.",null,"1925 / 1926","Trustee"]
[" ","Bentley","Frank B.",null,"1926 / 1927","Trustee"]
[" ","Bentley","Frank B.",null,"1927 / 1928","Trustee"]
[" ","Bentley","Frank B.",null,"1928 / 1929","Trustee"]
[" ","Bentley","Frank B.",null,"1929 / 1930","Trustee"]
[" ","Bentley","Frank B.",null,"1930 / 1931","Trustee"]
[" ","Bentley","Frank B.",null,"1931 / 1932","Trustee"]
[" ","Bentley","Frank B.",null,"1932 / 1933","Trustee"]
[" ","Bishop","P.P.","Hon.","1885 / 1886","Trustee"]
[" ","Blalock","Dan S. Sr.",null,"1964 / 1965","Trustee"]
[" ","Blalock","Dan S. Sr.",null,"1965 / 1966","Trustee"]
[" ","Blalock","Dan S. Sr.",null,"1966 / 1967","Trustee"]
[" ","Blalock","Dan S. Sr.",null,"1967 / 1968","Trustee"]
[" ","Blalock","Dan S. Sr.",null,"1968 / 1969","Trustee"]
[" ","Blalock","Dan S. Sr.",null,"1969 / 1970","Trustee"]
[" ","Blalock","Dan S. Sr.",null,"1970 / 1971","Trustee"]
[" ","Blalock","Dan S. Sr.",null,"1971 / 1972","Trustee"]
[" ","Blalock","Dan S. Sr.",null,"1972 / 1973","Trustee"]
[" ","Blalock","Dan S. Sr.",null,"1974 / 1975","Trustee"]
[" ","Blanton","Robin",null,"2000 / 2001","Trustee; President, Alumni Association"]
[" ","Blanton","Robin",null,"2001 / 2002","Trustee; President, Alumni Association"]
[" ","Blews","William F.",null,"1996 / 1997","Trustee Ex Officio"]
[" ","Blews","William F.",null,"1997 / 1998","Trustee Ex Officio; Chair, Law Board"]
[" ","Blews","William F.",null,"1999 / 2000","Trustee"]
[" ","Blount","W.H.",null,"1956 / 1957","Trustee"]
[" ","Boehmer","Fred",null,"1989 / 1990","Trustee"]
[" ","Boehmer","Fred",null,"1990 / 1991","Trustee"]
[" ","Boehmer","Fred",null,"1991 / 1992","Trustee"]
[" ","Boehmer","Fred",null,"1993 / 1994","Trustee"]
[" ","Boehmer","Fred",null,"1994 / 1995","Trustee"]
[" ","Bolton","C.H.","Rev., D.D.","1937 / 1938","Trustee"]
[" ","Bolton","C.H.","Rev., D.D.","1938 / 1939","Trustee"]
[" ","Bolton","C.H.","Rev., D.D.","1939 / 1940","Trustee"]
[" ","Bolton","C.H.","Rev., D.D.","1940 / 1941","Trustee"]
[" ","Bolton","C.H.","Rev., D.D.","1941 / 1942","Trustee & Finance Committee"]
[" ","Bolton","C.H.","Rev., D.D.","1942 / 1943","Trustee & Finance Committee"]
[" ","Bolton","C.H.","Rev., D.D.","1943 / 1944","Trustee & Finance Committee"]
[" ","Bolton","C.H.","Rev., D.D.","1944 / 1945","Trustee & Finance Committee"]
[" ","Bolton","C.H.","Rev., D.D.","1945 / 1946","Trustee & Finance Committee"]
[" ","Bolton","C.H.","Rev., D.D.","1946 / 1947","Trustee & Finance Committee"]
[" ","Bolton","C.H.","Rev., D.D.","1947 / 1948","Trustee & Finance Committee"]
[" ","Bolton","C.H.","Rev., D.D.","1948 / 1949","Trustee Vice President & Finance Committee"]
[" ","Bolton","C.H.","Rev., D.D.","1949 / 1950","Trustee"]
[" ","Bolton","C.H.","Rev., D.D.","1950 / 1951","Trustee"]
[" ","Bolton","C.H.","Rev., D.D.","1952 / 1953","Trustee"]
[" ","Bolton","C.H.","Rev., D.D.","1953 / 1954","Trustee"]
[" ","Bolton","C.H.","Rev., D.D.","1954 / 1955","Trustee"]
[" ","Bolton","C.H.","Rev., D.D.","1955 / 1956","Trustee President & Committee on Administrative & Finance Committee"]
[" ","Bolton","C.H.","Rev., D.D.","1956 / 1957","Trustee President & Committee on Administrative & Finance Com"]
[" ","Bolton","C.H.","Rev., D.D.","1957 / 1958","Trustee President & Committee on Administrative & Finance Com"]
[" ","Bolton","C.H.","Rev., D.D.","1958 / 1959","Trustee President & Committee on Administrative"]
[" ","Bolton","C.H.","Rev., D.D.","1960 / 1961","Trustee President & Committee on Administrative"]
[" ","Bolton","C.H.","Rev., D.D.","1962 / 1963","Trustee & Executive Committee"]
[" ","Bolton","C.H.","Rev., D.D.","1963 / 1964","Trustee Emeritus"]
[" ","Bolton","C.H.","Rev., D.D.","1964 / 1965","Trustee Emeritus"]
[" ","Bolton","C.H.","Rev., D.D.","1965 / 1966","Trustee Emeritus"]
[" ","Bolton","C.H.","Rev., D.D.","1966 / 1967","Trustee Emeritus"]
[" ","Bolton","C.H.","Rev., D.D.","1967 / 1968","Trustee Emeritus"]
[" ","Bolton","C.H.","Rev., D.D.","1968 / 1969","Trustee Emeritus"]
[" ","Bolton","C.H.","Rev., D.D.","1969 / 1970","Trustee Emeritus"]
[" ","Bolton","C.H.","Rev., D.D.","1970 / 1971","Trustee Emeritus"]
[" ","Bolton","C.H.","Rev., D.D.","1971 / 1972","Trustee Emeritus"]
[" ","Bolton","C.H.","Rev., D.D.","1972 / 1973","Trustee Emeritus"]
[" ","Bolton","C.H.","Rev., D.D.","1974 / 1975","Trustee Emeritus"]
[" ","Breakiron-Evans","Maureen",null,"2011 / 2012","Trustee Ex-Officio"]
[" ","Breakiron-Evans","Maureen",null,"2012 / 2013","Trustee Ex-Officio"]
[" ","Breakiron-Evans","Maureen",null,"2013 / 2014","Trustee"]
[" ","Brittain","C.M.","Rev., D.D.","1926 / 1927","Trustee"]
[" ","Brittain","C.M.","Rev., D.D.","1927 / 1928","Trustee"]
[" ","Brittain","C.M.","Rev., D.D.","1928 / 1929","Trustee"]
[" ","Brittain","C.M.","Rev., D.D.","1929 / 1930","Trustee"]
[" ","Brittain","C.M.","Rev., D.D.","1930 / 1931","Trustee"]
[" ","Brittain","C.M.","Rev., D.D.","1931 / 1932","Trustee"]
[" ","Brittain","C.M.","Rev., D.D.","1932 / 1933","Trustee"]
[" ","Brittain","C.M.","Rev., D.D.","1933 / 1934","Trustee"]
[" ","Brittain","C.M.","Rev., D.D.","1934 / 1935","Trustee"]
[" ","Brittain","C.M.","Rev., D.D.","1935 / 1936","Trustee"]
[" ","Brittain","C.M.","Rev., D.D.","1937 / 1938","Trustee"]
[" ","Brittain","C.M.","Rev., D.D.","1938 / 1939","Trustee"]
[" ","Brittain","C.M.","Rev., D.D.","1939 / 1940","Trustee & Finance Committee"]
[" ","Brittain","C.M.","Rev., D.D.","1940 / 1941","Trustee"]
[" ","Brittain","C.M.","Rev., D.D.","1941 / 1942","Trustee & Committee on Administrative"]
[" ","Brittain","C.M.","Rev., D.D.","1942 / 1943","Trustee (deceased)"]
[" ","Brockway","Peter",null,"2005 / 2006","Trustee"]
[" ","Brooks","Theodore C.",null,"1938 / 1939","Trustee & Committee on Administrative"]
[" ","Brooks","Theodore C.",null,"1939 / 1940","Trustee & Committee on Administrative"]
[" ","Brooks","Theodore C.",null,"1940 / 1941","Trustee & Committee on Administrative"]
[" ","Brooks","Theodore C.",null,"1941 / 1942","Trustee & Committee on Administrative"]
[" ","Brooks","Theodore C.",null,"1942 / 1943","Trustee & Committee on Administrative"]
[" ","Brooks","Theodore C.",null,"1943 / 1944","Trustee & Committee on Administrative"]
[" ","Brooks","Theodore C.",null,"1944 / 1945","Trustee & Committee on Administrative"]
[" ","Brooks","Theodore C.",null,"1945 / 1946","Trustee & Committee on Administrative"]
[" ","Brooks","Theodore C.",null,"1946 / 1947","Trustee & Committee on Administrative"]
[" ","Brooks","Theodore C.",null,"1947 / 1948","Trustee & Committee on Administrative"]
[" ","Brooks","Theodore C.",null,"1948 / 1949","Trustee & Administrative Committee"]
[" ","Brooks","Theodore C.",null,"1949 / 1950","Trustee & Administrative Committee"]
[" ","Brooks","Theodore C.",null,"1950 / 1951","Trustee"]
[" ","Brooks","Theodore C.",null,"1952 / 1953","Trustee"]
[" ","Brooks","Theodore C.",null,"1953 / 1954","Trustee"]
[" ","Brooks","Theodore C.",null,"1954 / 1955","Trustee (deceased)"]
[" ","Brown","Cici",null,"1997 / 1998","Trustee Ex Officio; Chair, Arts & Sciences Board"]
[" ","Brown","Cici",null,"1999 / 2000","Trustee Ex Officio; Chair, Arts & Sciences Board"]
[" ","Brown","Cici",null,"2000 / 2001","Trustee"]
[" ","Brown","Cici",null,"2001 / 2002","Trustee"]
[" ","Brown","Cici",null,"2002 / 2003","Trustee"]
[" ","Brown","Cici",null,"2003 / 2004","Trustee"]
[" ","Brown","Cici",null,"2004 / 2005","Trustee"]
[" ","Brown","Cynthia",null,"2005 / 2006","Trustee"]
[" ","Brown","Cynthia",null,"2006 / 2007","Trustee"]
[" ","Brown","Cynthia",null,"2007 / 2008","Trustee"]
[" ","Brown","Cynthia",null,"2008 / 2009","Trustee"]
[" ","Brown","Cynthia",null,"2009 / 2010","Trustee"]
[" ","Brown","Cynthia",null,"2010 / 2011","Trustee"]
[" ","Brown","Cynthia",null,"2011 / 2012","Trustee"]
[" ","Brown","Cynthia",null,"2012 / 2013","Trustee"]
[" ","Brown","Cynthia",null,"2013 / 2014","Trustee"]
[" ","Brown","J Hyatt",null,"1982 / 1983","Trustee"]
[" ","Brown","J Hyatt",null,"1983 / 1984","Trustee"]
[" ","Brown","J Hyatt",null,"1984 / 1985","Trustee"]
[" ","Brown","J Hyatt",null,"1985 / 1986","Trustee"]
[" ","Brown","J Hyatt",null,"1986 / 1987","Trustee"]
[" ","Brown","J Hyatt",null,"1987 / 1988","Trustee"]
[" ","Brown","J Hyatt",null,"1988 / 1989","Trustee"]
[" ","Brown","J Hyatt",null,"1989 / 1990","Trustee"]
[" ","Brown","J Hyatt",null,"1990 / 1991","Trustee"]
[" ","Brown","J Hyatt",null,"1991 / 1992","Trustee"]
[" ","Brown","J Hyatt",null,"1993 / 1994","Trustee"]
[" ","Brown","J Hyatt",null,"1994 / 1995","Trustee"]
[" ","Brown","J Hyatt",null,"1995 / 1996","Trustee"]
[" ","Brown","J Hyatt",null,"1996 / 1997","Trustee"]
[" ","Brown","J Hyatt",null,"1997 / 1998","Trustee"]
[" ","Brown","J Hyatt",null,"1999 / 2000","Trustee"]
[" ","Brown","J Hyatt",null,"2000 / 2001","Trustee"]
[" ","Brown","J Hyatt",null,"2001 / 2002","Trustee"]
[" ","Brown","J Hyatt",null,"2002 / 2003","Trustee"]
[" ","Brown","J Hyatt",null,"2003 / 2004","Trustee"]
[" ","Brown","J Hyatt",null,"2004 / 2005","Trustee"]
[" ","Brown","J Hyatt",null,"2005 / 2006","Trustee"]
[" ","Brown","J Hyatt",null,"2006 / 2007","Trustee"]
[" ","Brown","J Hyatt",null,"2007 / 2008","Trustee"]
[" ","Brown","J Hyatt",null,"2008 / 2009","Trustee"]
[" ","Brown","J Hyatt",null,"2009 / 2010","Trustee"]
[" ","Brown","J Hyatt",null,"2010 / 2011","Trustee"]
[" ","Brown","J Hyatt",null,"2011 / 2012","Trustee"]
[" ","Brown","J Hyatt",null,"2012 / 2013","Trustee"]
[" ","Brown","J Hyatt",null,"2013 / 2014","Trustee"]
[" ","Brown","Mary Lou",null,"1996 / 1997","Trustee Ex Officio"]
[" ","Brown","Mary Lou",null,"1997 / 1998","Trustee"]
[" ","Brumback","Emerson",null,"2009 / 2010","Trustee"]
[" ","Brumback","Emerson",null,"2010 / 2011","Trustee"]
[" ","Brumback","Emerson",null,"2011 / 2012","Trustee"]
[" ","Brumback","Emerson",null,"2012 / 2013","Trustee"]
[" ","Butler","Alton",null,"1983 / 1984","Trustee"]
[" ","Butler","Alton",null,"1984 / 1985","Trustee"]
[" ","Butler","Alton",null,"1985 / 1986","Trustee"]
[" ","Butler","Alton",null,"1986 / 1987","Trustee"]
[" ","Butler","Alton",null,"1987 / 1988","Trustee"]
[" ","Butler","Alton",null,"1988 / 1989","Trustee"]
[" ","Butler","Alton",null,"1989 / 1990","Trustee"]
[" ","Butler","Alton",null,"1990 / 1991","Trustee"]
[" ","Butler","Alton",null,"1991 / 1992","Trustee"]
[" ","Butler","Alton",null,"1993 / 1994","Trustee"]
[" ","Cacciatore, Jr.","S. Sammy",null,"2000 / 2001","Trustee"]
[" ","Cacciatore, Jr.","S. Sammy",null,"2001 / 2002","Trustee"]
[" ","Cacciatore, Jr.","S. Sammy",null,"2002 / 2003","Trustee"]
[" ","Cacciatore, Jr.","S. Sammy",null,"2003 / 2004","Trustee"]
[" ","Cacciatore, Jr.","S. Sammy",null,"2004 / 2005","Trustee"]
[" ","Cacciatore, Jr.","S. Sammy",null,"2005 / 2006","Trustee"]
[" ","Cacciatore, Jr.","S. Sammy",null,"2006 / 2007","Trustee"]
[" ","Cacciatore, Jr.","S. Sammy",null,"2007 / 2008","Trustee"]
[" ","Cacciatore, Jr.","S. Sammy",null,"2008 / 2009","Trustee"]
[" ","Cacciatore, Jr.","S. Sammy",null,"2009 / 2010","Trustee"]
[" ","Cacciatore, Jr.","S. Sammy",null,"2010 / 2011","Trustee"]
[" ","Cacciatore, Jr.","S. Sammy",null,"2011 / 2012","Trustee"]
[" ","Cacciatore, Jr.","S. Sammy",null,"2012 / 2013","Trustee"]
[" ","Cacciatore, Jr.","S. Sammy",null,"2013 / 2014","Trustee"]
[" ","Camp","B.F.","M.D.","1900 / 1901","Trustee"]
[" ","Camp","B.F.","M.D.","1901 / 1902","Trustee"]
[" ","Camp","B.F.","M.D.","1902 / 1903","Trustee"]
[" ","Camp","B.F.","M.D.","1903 / 1904","Trustee President"]
[" ","Camp","B.F.","M.D.","1904 / 1905","Trustee"]
[" ","Camp","B.F.","M.D.","1905 / 1906","Trustee"]
[" ","Camp","B.F.","M.D.","1906 / 1907","Trustee"]
[" ","Camp","B.F.","M.D.","1907 / 1908","Trustee"]
[" ","Camp","B.F.","M.D.","1908 / 1909","Trustee"]
[" ","Camp","B.F.","M.D.","1909 / 1910","Trustee"]
[" ","Camp","B.F.","M.D.","1910 / 1911","Trustee"]
[" ","Camp","B.F.","M.D.","1911 / 1912","Trustee"]
[" ","Camp","B.F.","M.D.","1912 / 1913","Trustee"]
[" ","Camp","B.F.","M.D.","1913 / 1914","Trustee"]
[" ","Camp","B.F.","M.D.","1914 / 1915","Trustee"]
[" ","Camp","B.F.","M.D.","1915 / 1916","Trustee"]
[" ","Camp","B.F.","M.D.","1916 / 1917","Trustee"]
[" ","Camp","B.F.","M.D.","1917 / 1918","Trustee"]
[" ","Camp","B.F.","M.D.","1918 / 1919","Trustee"]
[" ","Camp","B.F.","M.D.","1919 / 1920","Trustee"]
[" ","Camp","B.F.","M.D.","1920 / 1921","Trustee"]
[" ","Camp","B.F.","M.D.","1921 / 1922","Trustee"]
[" ","Camp","B.F.","M.D.","1922 / 1923","Trustee"]
[" ","Camp","B.F.","M.D.","1923 / 1924","Trustee"]
[" ","Camp","B.F.","M.D.","1924 / 1925","Trustee"]
[" ","Camp","B.F.","M.D.","1925 / 1926","Trustee"]
[" ","Camp","B.F.","M.D.","1926 / 1927","Trustee"]
[" ","Camp","B.F.","M.D.","1927 / 1928","Trustee"]
[" ","Camp","B.F.","M.D.","1928 / 1929","Trustee"]
[" ","Camp","B.F.","M.D.","1929 / 1930","Trustee (deceased)"]
[" ","Campbell","Charles W.",null,"1960 / 1961","Trustee"]
[" ","Campbell","Charles W.",null,"1962 / 1963","Trustee"]
[" ","Campbell","Charles W.",null,"1963 / 1964","Trustee"]
[" ","Campbell","Charles W.",null,"1964 / 1965","Trustee"]
[" ","Campbell","Charles W.",null,"1965 / 1966","Trustee"]
[" ","Campbell","Charles W.",null,"1966 / 1967","Trustee"]
[" ","Campbell","Charles W.",null,"1967 / 1968","Trustee"]
[" ","Campbell","Charles W.",null,"1968 / 1969","Trustee"]
[" ","Campbell","Charles W.",null,"1969 / 1970","Trustee"]
[" ","Campbell","Charles W.",null,"1970 / 1971","Trustee"]
[" ","Campbell","Charles W.",null,"1971 / 1972","Trustee"]
[" ","Campbell","Charles W.",null,"1972 / 1973","Trustee"]
[" ","Campbell","Charles W.",null,"1974 / 1975","Trustee"]
[" ","Campbell","Charles W.",null,"1975 / 1976","Trustee"]
[" ","Campbell","Charles W.",null,"1978 / 1979","Trustee"]
[" ","Campbell","Charles W.",null,"1979 / 1980","Trustee"]
[" ","Campbell","Charles W.",null,"1980 / 1981","Trustee"]
[" ","Campbell","Charles W.",null,"1981 / 1982","Trustee"]
[" ","Campbell","Charles W.",null,"1982 / 1983","Trustee"]
[" ","Campbell","Charles W.",null,"1983 / 1984","Trustee"]
[" ","Carlton Jr.","Doyle E.",null,"1970 / 1971","Trustee"]
[" ","Carlton Jr.","Doyle E.",null,"1971 / 1972","Trustee"]
[" ","Carlton Jr.","Doyle E.",null,"1972 / 1973","Trustee"]
[" ","Carlton Jr.","Doyle E.",null,"1974 / 1975","Trustee"]
[" ","Carlton Jr.","Doyle E.",null,"1975 / 1976","Trustee"]
[" ","Carlton Jr.","Doyle E.",null,"1978 / 1979","Trustee"]
[" ","Carlton Jr.","Doyle E.",null,"1979 / 1980","Trustee"]
[" ","Carlton Jr.","Doyle E.",null,"1980 / 1981","Trustee"]
[" ","Carlton Jr.","Doyle E.",null,"1981 / 1982","Trustee"]
[" ","Carlton Jr.","Doyle E.",null,"1982 / 1983","Trustee"]
[" ","Carlton Jr.","Doyle E.",null,"1983 / 1984","Trustee"]
[" ","Carlton Jr.","Doyle E.",null,"1987 / 1988","Trustee"]
[" ","Carlton Jr.","Doyle E.",null,"1988 / 1989","Trustee"]
[" ","Carlton Jr.","Doyle E.",null,"1989 / 1990","Trustee"]
[" ","Carlton Jr.","Doyle E.",null,"1990 / 1991","Trustee"]
[" ","Carlton Jr.","Doyle E.",null,"1991 / 1992","Trustee"]
[" ","Carlton Jr.","Doyle E.",null,"1993 / 1994","Trustee"]
[" ","Carlton Jr.","Doyle E.",null,"1994 / 1995","Trustee"]
[" ","Carlton Jr.","Doyle E.",null,"1995 / 1996","Trustee"]
[" ","Carlton Jr.","Doyle E.",null,"1996 / 1997","Trustee Emeritus"]
[" ","Carlton Jr.","Doyle E.",null,"1997 / 1998","Trustee Emeritus"]
[" ","Carlton Jr.","Doyle E.",null,"2000 / 2001","Trustee Emeritus"]
[" ","Carlton Jr.","Doyle E.",null,"2001 / 2002","Trustee Emeritus"]
[" ","Carlton Jr.","Doyle E.",null,"2002 / 2003","Trustee Emeritus"]
[" ","Carlton Sr.","Doyle Elam","Gov. of Florida","1919 / 1920","Trustee"]
[" ","Carlton Sr.","Doyle Elam","Gov. of Florida","1920 / 1921","Trustee"]
[" ","Carlton Sr.","Doyle Elam","Gov. of Florida","1921 / 1922","Trustee"]
[" ","Carlton Sr.","Doyle Elam","Gov. of Florida","1922 / 1923","Trustee"]
[" ","Carlton Sr.","Doyle Elam","Gov. of Florida","1923 / 1924","Trustee"]
[" ","Carlton Sr.","Doyle Elam","Gov. of Florida","1924 / 1925","Trustee"]
[" ","Carlton Sr.","Doyle Elam","Gov. of Florida","1925 / 1926","Trustee"]
[" ","Carlton Sr.","Doyle Elam","Gov. of Florida","1926 / 1927","Trustee"]
[" ","Carlton Sr.","Doyle Elam","Gov. of Florida","1927 / 1928","Trustee"]
[" ","Carlton Sr.","Doyle Elam","Gov. of Florida","1928 / 1929","Trustee"]
[" ","Carlton Sr.","Doyle Elam","Gov. of Florida","1929 / 1930","Trustee"]
[" ","Carlton Sr.","Doyle Elam","Gov. of Florida","1930 / 1931","Trustee"]
[" ","Carlton Sr.","Doyle Elam","Gov. of Florida","1931 / 1932","Trustee"]
[" ","Carlton Sr.","Doyle Elam","Gov. of Florida","1932 / 1933","Trustee"]
[" ","Carlton Sr.","Doyle Elam","Gov. of Florida","1933 / 1934","Trustee"]
[" ","Carlton Sr.","Doyle Elam","Gov. of Florida","1934 / 1935","Trustee"]
[" ","Carlton Sr.","Doyle Elam","Gov. of Florida","1935 / 1936","Trustee"]
[" ","Carlton Sr.","Doyle Elam","Gov. of Florida","1937 / 1938","Trustee"]
[" ","Carlton Sr.","Doyle Elam","Gov. of Florida","1938 / 1939","Trustee"]
[" ","Carlton Sr.","Doyle Elam","Gov. of Florida","1939 / 1940","Trustee"]
[" ","Carlton Sr.","Doyle Elam","Gov. of Florida","1940 / 1941","Trustee"]
[" ","Carlton Sr.","Doyle Elam","Gov. of Florida","1941 / 1942","Trustee"]
[" ","Carlton Sr.","Doyle Elam","Gov. of Florida","1942 / 1943","Trustee"]
[" ","Carlton Sr.","Doyle Elam","Gov. of Florida","1943 / 1944","Trustee"]
[" ","Carlton Sr.","Doyle Elam","Gov. of Florida","1944 / 1945","Trustee"]
[" ","Carlton Sr.","Doyle Elam","Gov. of Florida","1945 / 1946","Trustee"]
[" ","Carlton Sr.","Doyle Elam","Gov. of Florida","1946 / 1947","Trustee"]
[" ","Carlton Sr.","Doyle Elam","Gov. of Florida","1947 / 1948","Trustee & Finance Committee"]
[" ","Carlton Sr.","Doyle Elam","Gov. of Florida","1948 / 1949","Trustee"]
[" ","Carlton Sr.","Doyle Elam","Gov. of Florida","1949 / 1950","Trustee Vice President"]
[" ","Carlton Sr.","Doyle Elam","Gov. of Florida","1950 / 1951","Trustee Vice President"]
[" ","Carlton Sr.","Doyle Elam","Gov. of Florida","1952 / 1953","Trustee Vice President"]
[" ","Carlton Sr.","Doyle Elam","Gov. of Florida","1953 / 1954","Trustee Vice President"]
[" ","Carlton Sr.","Doyle Elam","Gov. of Florida","1954 / 1955","Trustee Vice President"]
[" ","Carlton Sr.","Doyle Elam","Gov. of Florida","1955 / 1956","Trustee Vice President"]
[" ","Carlton Sr.","Doyle Elam","Gov. of Florida","1956 / 1957","Trustee Vice President"]
[" ","Carlton Sr.","Doyle Elam","Gov. of Florida","1957 / 1958","Trustee Vice President"]
[" ","Carlton Sr.","Doyle Elam","Gov. of Florida","1958 / 1959","Trustee Vice President"]
[" ","Carlton Sr.","Doyle Elam","Gov. of Florida","1960 / 1961","Trustee Vice President & Executive Committee"]
[" ","Carlton Sr.","Doyle Elam","Gov. of Florida","1962 / 1963","Trustee President & Executive Committee"]
[" ","Carlton Sr.","Doyle Elam","Gov. of Florida","1963 / 1964","Trustee President & Executive Committee"]
[" ","Carlton Sr.","Doyle Elam","Gov. of Florida","1964 / 1965","Trustee President & Executive Committee"]
[" ","Carlton Sr.","Doyle Elam","Gov. of Florida","1965 / 1966","Trustee President & Executive Committee"]
[" ","Carlton Sr.","Doyle Elam","Gov. of Florida","1966 / 1967","Trustee President & Executive Committee"]
[" ","Carlton Sr.","Doyle Elam","Gov. of Florida","1967 / 1968","Trustee Chairman"]
[" ","Carlton Sr.","Doyle Elam","Gov. of Florida","1968 / 1969","Trustee Chairman"]
[" ","Carlton Sr.","Doyle Elam","Gov. of Florida","1969 / 1970","Trustee Chairman"]
[" ","Carlton Sr.","Doyle Elam","Gov. of Florida","1970 / 1971","Trustee Emeritus"]
[" ","Carlton Sr.","Doyle Elam","Gov. of Florida","1971 / 1972","Trustee Emeritus"]
[" ","Carlton Sr.","Doyle Elam","Gov. of Florida","1972 / 1973","Trustee Emeritus"]
[" ","Carlton Sr.","Doyle Elam","Gov. of Florida","1974 / 1975","Trustee Emeritus"]
[" ","Carlton Sr.","Doyle Elam","Gov. of Florida","1999 / 2000","Trustee Emeritus"]
[" ","Carnett","Albert L.",null,"1962 / 1963","Trustee"]
[" ","Carnett","Albert L.",null,"1963 / 1964","Trustee"]
[" ","Carnett","Albert L.",null,"1964 / 1965","Trustee"]
[" ","Carnett","Albert L.",null,"1965 / 1966","Trustee & Executive Committee"]
[" ","Carnett","Albert L.",null,"1966 / 1967","Trustee & Executive Committee"]
[" ","Carnett","Albert L.",null,"1967 / 1968","Trustee"]
[" ","Carnett","Albert L.",null,"1968 / 1969","Trustee"]
[" ","Carnett","Albert L.",null,"1969 / 1970","Trustee"]
[" ","Carnett","Albert L.",null,"1970 / 1971","Trustee"]
[" ","Cater","J.J.",null,"1949 / 1950","Trustee & Finance Committee"]
[" ","Cater","J.J.",null,"1950 / 1951","Trustee"]
[" ","Cater","J.J.",null,"1952 / 1953","Trustee"]
[" ","Cater","J.J.",null,"1953 / 1954","Trustee"]
[" ","Cater","J.J.",null,"1954 / 1955","Trustee"]
[" ","Cater","J.J.",null,"1955 / 1956","Trustee, Committee on Administrative & Finance Committee"]
[" ","Cater","J.J.",null,"1956 / 1957","Trustee, Committee on Administrative & Finance Committee"]
[" ","Cater","J.J.",null,"1957 / 1958","Trustee, Committee on Administrative & Finance Committee"]
[" ","Cater","J.J.",null,"1958 / 1959","Trustee, Committee on Administrative"]
[" ","Cater","J.J.",null,"1960 / 1961","Trustee & Executive Committee"]
[" ","Chaudoin","W.N.","Rev.","1885 / 1886","Trustee"]
[" ","Chaudoin","W.N.","Rev.","1887 / 1888","Trustee"]
[" ","Chaudoin","W.N.","Rev.","1888 / 1889","Trustee"]
[" ","Chaudoin","W.N.","Rev.","1889 / 1890","Trustee"]
[" ","Chaudoin","W.N.","Rev.","1891 / 1892","Trustee"]
[" ","Chaudoin","W.N.","Rev.","1892 / 1893","Trustee"]
[" ","Chaudoin","W.N.","Rev.","1894 / 1895","Trustee"]
[" ","Chaudoin","W.N.","Rev.","1895 / 1896","Trustee"]
[" ","Chaudoin","W.N.","Rev.","1896 / 1897","Trustee"]
[" ","Chaudoin","W.N.","Rev.","1897 / 1898","Trustee"]
[" ","Chaudoin","W.N.","Rev.","1898 / 1899","Trustee"]
[" ","Chaudoin","W.N.","Rev.","1899 / 1900","Trustee"]
[" ","Chaudoin","W.N.","Rev.","1900 / 1901","Trustee"]
[" ","Chaudoin","W.N.","Rev.","1901 / 1902","Trustee"]
[" ","Chaudoin","W.N.","Rev.","1902 / 1903","Trustee President"]
[" ","Chipley","W.D.","Hon.","1891 / 1892","Trustee"]
[" ","Chipley","W.D.","Hon.","1892 / 1893","Trustee"]
[" ","Chipley","W.D.","Hon.","1894 / 1895","Trustee"]
[" ","Chipley","W.D.","Hon.","1895 / 1896","Trustee"]
[" ","Chipley","W.D.","Hon.","1896 / 1897","Trustee"]
[" ","Chipley","W.D.","Hon.","1897 / 1898","Trustee (deceased)"]
[" ","Clake","J.T.",null,"1896 / 1897","Trustee & Executive Committee"]
[" ","Clake","J.T.",null,"1897 / 1898","Trustee & Executive Committee"]
[" ","Clake","J.T.",null,"1898 / 1899","Trustee & Executive Committee"]
[" ","Clake","J.T.",null,"1899 / 1900","Trustee & Executive Committee"]
[" ","Clake","J.T.",null,"1900 / 1901","Trustee & Executive Committee"]
[" ","Clake","J.T.",null,"1901 / 1902","Trustee & Executive Committee"]
[" ","Clake","J.T.",null,"1902 / 1903","Trustee & Committee on Administrative"]
[" ","Clake","J.T.",null,"1903 / 1904","Trustee & Committee on Administrative"]
[" ","Clake","J.T.",null,"1904 / 1905","Trustee & Committee on Administrative"]
[" ","Clake","J.T.",null,"1905 / 1906","Trustee & Committee on Administrative"]
[" ","Clake","J.T.",null,"1906 / 1907","Trustee & Committee on Administrative"]
[" ","Clake","J.T.",null,"1907 / 1908","Trustee & Committee on Administrative"]
[" ","Clapp","W.J.",null,"1956 / 1957","Trustee"]
[" ","Clapp","W.J.",null,"1957 / 1958","Trustee & Finance Committee"]
[" ","Clapp","W.J.",null,"1958 / 1959","Trustee & Administrative & Finance Committee"]
[" ","Clapp","W.J.",null,"1960 / 1961","Trustee"]
[" ","Clapp","W.J.",null,"1962 / 1963","Trustee"]
[" ","Clapp","W.J.",null,"1963 / 1964","Trustee"]
[" ","Clapp","W.J.",null,"1964 / 1965","Trustee"]
[" ","Clapp","W.J.",null,"1965 / 1966","Trustee"]
[" ","Clapp","W.J.",null,"1966 / 1967","Trustee"]
[" ","Clapp","W.J.",null,"1967 / 1968","Trustee"]
[" ","Clapp","W.J.",null,"1968 / 1969","Trustee"]
[" ","Clapp","W.J.",null,"1969 / 1970","Trustee"]
[" ","Clapp","W.J.",null,"1970 / 1971","Trustee"]
[" ","Clapp","W.J.",null,"1971 / 1972","Trustee"]
[" ","Clapp","W.J.",null,"1972 / 1973","Trustee"]
[" ","Clapp","W.J.",null,"1974 / 1975","Trustee"]
[" ","Clapp","W.J.",null,"1975 / 1976","Trustee"]
[" ","Clapp","W.J.",null,"1978 / 1979","Trustee"]
[" ","Clapp","W.J.",null,"1979 / 1980","Trustee"]
[" ","Cleland","Max",null,"2002 / 2003","Trustee"]
[" ","Cleland","Max",null,"2003 / 2004","Trustee"]
[" ","Cleland","Max",null,"2004 / 2005","Trustee"]
[" ","Cleland","Max",null,"2005 / 2006","Trustee"]
[" ","Cleland","Max",null,"2006 / 2007","Trustee"]
[" ","Cleland","Max",null,"2007 / 2008","Trustee"]
[" ","Cleland","Max",null,"2008 / 2009","Trustee"]
[" ","Cleland","Max",null,"2009 / 2010","Trustee"]
[" ","Clemmens","Nelson",null,"2005 / 2006","Trustee Ex-Officio; Chair, School of Business \nAdministrative Board"]
[" ","Clemmens","Nelson",null,"2006 / 2007","Trustee Ex-Officio; Chair, School of Business \nAdministrative Board"]
[" ","Clemmens","Nelson",null,"2007 / 2008","Trustee Ex-Officio; Chair, School of Business \nAdministrative Board"]
[" ","Clemmens","Nelson",null,"2008 / 2009","Trustee Ex-Officio; Chair, School of Business \nAdministrative Board"]
[" ","Clemmens","Nelson",null,"2009 / 2010","Trustee"]
[" ","Clemmens","Nelson",null,"2010 / 2011","Trustee"]
[" ","Clemmens","Nelson",null,"2011 / 2012","Trustee"]
[" ","Clemmens","Nelson",null,"2012 / 2013","Trustee"]
[" ","Cleveland Jr.","Mack N.",null,"1987 / 1988","Trustee"]
[" ","Cleveland Jr.","Mack N.",null,"1988 / 1989","Trustee"]
[" ","Cleveland Jr.","Mack N.",null,"1989 / 1990","Trustee General Counsel"]
[" ","Cleveland Jr.","Mack N.",null,"1990 / 1991","Trustee General Counsel"]
[" ","Cleveland Jr.","Mack N.",null,"1991 / 1992","Trustee General Counsel"]
[" ","Cleveland Jr.","Mack N.",null,"1993 / 1994","Trustee General Counsel"]
[" ","Cleveland Jr.","Mack N.",null,"1994 / 1995","Trustee General Counsel"]
[" ","Cleveland Jr.","Mack N.",null,"1995 / 1996","Trustee General Counsel"]
[" ","Cleveland Jr.","Mack N.",null,"1996 / 1997","Trustee General Counsel"]
[" ","Cleveland Jr.","Mack N.",null,"1997 / 1998","Trustee General Counsel"]
[" ","Cleveland Jr.","Mack N.",null,"1999 / 2000","Trustee Ex-Officio; General Counsel"]
[" ","Cleveland Jr.","Mack N.",null,"2000 / 2001","Trustee Ex-Officio; General Counsel"]
[" ","Cleveland Jr.","Mack N.",null,"2001 / 2002","Trustee Ex-Officio; General Counsel"]
[" ","Cleveland Jr.","Mack N.",null,"2002 / 2003","Trustee Ex-Officio; General Counsel"]
[" ","Cleveland Jr.","Mack N.",null,"2003 / 2004","Trustee Ex-Officio; General Counsel"]
[" ","Cleveland Jr.","Mack N.",null,"2004 / 2005","Trustee Emeritus; General Counsel"]
[" ","Cleveland Jr.","Mack N.",null,"2005 / 2006","Trustee Emeritus; General Counsel"]
[" ","Cleveland Jr.","Mack N.",null,"2006 / 2007","Trustee Emeritus; General Counsel"]
[" ","Cleveland Jr.","Mack N.",null,"2007 / 2008","Trustee Emeritus; General Counsel"]
[" ","Cleveland Jr.","Mack N.",null,"2008 / 2009","Trustee Emeritus; General Counsel"]
[" ","Cleveland Jr.","Mack N.",null,"2009 / 2010","Trustee Emeritus; General Counsel Emeritus"]
[" ","Cleveland Jr.","Mack N.",null,"2010 / 2011","Trustee Emeriti"]
[" ","Coleman","T. Rupert",null,"1963 / 1964","Trustee"]
[" ","Coleman","T. Rupert",null,"1964 / 1965","Trustee"]
[" ","Coleman","T. Rupert",null,"1965 / 1966","Trustee"]
[" ","Coleman","T. Rupert",null,"1966 / 1967","Trustee"]
[" ","Coleman","T. Rupert",null,"1967 / 1968","Trustee"]
[" ","Coleman","T. Rupert",null,"1968 / 1969","Trustee"]
[" ","Coleman","T. Rupert",null,"1969 / 1970","Trustee"]
[" ","Coleman","T. Rupert",null,"1970 / 1971","Trustee Secretary"]
[" ","Coleman","T. Rupert",null,"1971 / 1972","Trustee Secretary"]
[" ","Coleman","T. Rupert",null,"1972 / 1973","Trustee Secretary"]
[" ","Coleman","T. Rupert",null,"1974 / 1975","Trustee Secretary"]
[" ","Conrad","Fred N. ",null,"1919 / 1920","Trustee"]
[" ","Conrad","Fred N. ",null,"1920 / 1921","Trustee"]
[" ","Conrad","Fred N. ",null,"1921 / 1922","Trustee"]
[" ","Conrad","Fred N. ",null,"1922 / 1923","Trustee"]
[" ","Conrad","Fred N. ",null,"1923 / 1924","Trustee"]
[" ","Conrad","Fred N. ",null,"1924 / 1925","Trustee"]
[" ","Conrad","Fred N. ",null,"1925 / 1926","Trustee"]
[" ","Conrad","Fred N. ",null,"1926 / 1927","Trustee"]
[" ","Conrad","Fred N. ",null,"1927 / 1928","Trustee"]
[" ","Conrad","Fred N. ",null,"1928 / 1929","Trustee"]
[" ","Conrad","Fred N. ",null,"1929 / 1930"," Trustee"]
[" ","Conrad","Fred N. ",null,"1930 / 1931","Trustee"]
[" ","Conrad","Fred N. ",null,"1931 / 1932","Trustee"]
[" ","Conrad","Fred N. ",null,"1932 / 1933","Trustee"]
[" ","Conrad","Fred N. ",null,"1933 / 1934","Trustee"]
[" ","Conrad","J.B.",null,"1905 / 1906","Trustee"]
[" ","Conrad","J.B.",null,"1906 / 1907","Trustee"]
[" ","Conrad","J.B.",null,"1907 / 1908","Trustee"]
[" ","Conrad","J.B.",null,"1908 / 1909","Trustee"]
[" ","Conrad","J.B.",null,"1909 / 1910","Trustee"]
[" ","Conrad","J.B.",null,"1910 / 1911","Trustee"]
[" ","Conrad","J.B.",null,"1911 / 1912","Trustee"]
[" ","Conrad","J.B.",null,"1912 / 1913","Trustee"]
[" ","Conrad","J.B.",null,"1913 / 1914","Trustee & Committee on Administrative"]
[" ","Conrad","J.B.",null,"1914 / 1915","Trustee & Committee on Administrative"]
[" ","Cooper","Joe R.",null,"2011 / 2012","Trustee"]
[" ","Cooper","Joe R.",null,"2012 / 2013","Trustee"]
[" ","Cooper","Joe R.",null,"2013 / 2014","Trustee"]
[" ","Dasilva","Diane",null,"1995 / 1996","Trustee"]
[" ","Dasilva","Diane",null,"1996 / 1997","Trustee"]
[" ","Dasilva","Diane",null,"1997 / 1998","Trustee"]
[" ","Davenport","Carolyn",null,"1985 / 1986","Trustee"]
[" ","Davenport","Carolyn",null,"1986 / 1987","Trustee"]
[" ","Davenport","Carolyn",null,"1987 / 1988","Trustee"]
[" ","Davenport","Carolyn",null,"1988 / 1989","Trustee"]
[" ","Davenport","Carolyn",null,"1989 / 1990","Trustee"]
[" ","Davenport","Carolyn",null,"1990 / 1991","Trustee"]
[" ","Davis","A. Dano",null,"1984 / 1985","Trustee"]
[" ","Davis","A. Dano",null,"1985 / 1986","Trustee"]
[" ","Davis","A. Dano",null,"1986 / 1987","Trustee"]
[" ","Davis","A. Dano",null,"1987 / 1988","Trustee"]
[" ","Davis","A. Dano",null,"1988 / 1989","Trustee"]
[" ","Davis","A. Dano",null,"1989 / 1990","Trustee"]
[" ","Davis","A. Dano",null,"1990 / 1991","Trustee"]
[" ","Davis","A. Dano",null,"1991 / 1992","Trustee"]
[" ","Davis","A. Dano",null,"1993 / 1994","Trustee"]
[" ","Davis","A. Dano",null,"1994 / 1995","Trustee"]
[" ","Davis","A. Dano",null,"1995 / 1996","Trustee"]
[" ","Davis","A. Dano",null,"1996 / 1997","Trustee"]
[" ","Davis","A. Dano",null,"1997 / 1998","Trustee"]
[" ","Davis","Marty",null,"1997 / 1998","Trustee; Chair, Alumni Association"]
[" ","Davison","Bill",null,"1996 / 1997","Trustee Ex Officio"]
[" ","Davison","Bill",null,"1997 / 1998","Trustee Ex Officio"]
[" ","Dawson","Marie",null,"1986 / 1987","Trustee Treasurer"]
[" ","Dawson","Marie",null,"1987 / 1988","Trustee Treasurer"]
[" ","Dawson","Marie",null,"1988 / 1989","Trustee"]
[" ","Dawson","Marie",null,"1989 / 1990","Trustee"]
[" ","Dawson","Marie",null,"1990 / 1991","Trustee"]
[" ","Dawson","Marie",null,"1991 / 1992","Trustee"]
[" ","Dawson","Marie",null,"1993 / 1994","Trustee"]
[" ","Dawson","Marie",null,"1994 / 1995","Trustee"]
[" ","Dawson","Marie",null,"1995 / 1996","Trustee"]
[" ","Dawson","Marie",null,"1996 / 1997","Trustee"]
[" ","Dawson","Marie",null,"1997 / 1998","Trustee"]
[" ","DeArmas","Nestor M.",null,"1982 / 1983","Trustee"]
[" ","DeArmas","Nestor M.",null,"1983 / 1984","Trustee"]
[" ","DeArmas","Nestor M.",null,"2001 / 2002","Trustee"]
[" ","DeArmas","Nestor M.",null,"2002 / 2003","Trustee"]
[" ","DeArmas","Nestor M.",null,"2003 / 2004","Trustee"]
[" ","DeArmas","Nestor M.",null,"2004 / 2005","Trustee"]
[" ","DeArmas","Nestor M.",null,"2005 / 2006","Trustee"]
[" ","DeArmas","Nestor M.",null,"2006 / 2007","Trustee"]
[" ","DeArmas","Nestor M.",null,"2007 / 2008","Trustee"]
[" ","DeArmas","Nestor M.",null,"2008 / 2009","Trustee"]
[" ","DeArmas","Nestor M.",null,"2009 / 2010","Trustee"]
[" ","DeArmas","Nestor M.",null,"2010 / 2011","Trustee"]
[" ","DeArmas","Nestor M.",null,"2011 / 2012","Trustee Emeriti"]
[" ","DeArmas","Nestor M.",null,"2012 / 2013","Trustee Emeriti"]
[" ","DeArmas","Nestor M.",null,"2013 / 2014","Trustee Emeriti"]
[" ","DeLand","H.A.","Hon.","1885 / 1886","Trustees President & Executive Committee"]
[" ","DeLand","H.A.","Hon.","1887 / 1888","Trustees President & Executive Committee"]
[" ","DeLand","H.A.","Hon.","1888 / 1889","Trustee & Executive Committee"]
[" ","DeLand","H.A.","Hon.","1889 / 1890","Trustee & Executive Committee"]
[" ","DeLand","H.A.","Hon.","1891 / 1892","Trustee & Executive Committee"]
[" ","DeLand","H.A.","Hon.","1892 / 1893","Trustee & Executive Committee"]
[" ","DeLand","H.A.","Hon.","1894 / 1895","Trustee & Executive Committee"]
[" ","DeLand","H.A.","Hon.","1895 / 1896","Trustee"]
[" ","DeLand","H.A.","Hon.","1896 / 1897","Trustee"]
[" ","DeLand","H.A.","Hon.","1897 / 1898","Trustee"]
[" ","DeLand","H.A.","Hon.","1898 / 1899","Trustee"]
[" ","DeLand","H.A.","Hon.","1899 / 1900","Trustee"]
[" ","DeLand","H.A.","Hon.","1900 / 1901","Trustee"]
[" ","DeLand","H.A.","Hon.","1901 / 1902","Trustee"]
[" ","DeLand","H.A.","Hon.","1902 / 1903","Trustee"]
[" ","DeLand","H.A.","Hon.","1903 / 1904","Trustee"]
[" ","DeLand","H.A.","Hon.","1904 / 1905","Trustee"]
[" ","DeLand","H.A.","Hon.","1905 / 1906","Trustee"]
[" ","DeLand","H.A.","Hon.","1906 / 1907","Trustee"]
[" ","DeLand","H.A.","Hon.","1907 / 1908","Trustee (deceased)"]
[" ","Disney","Diane",null,"2000 / 2001","Trustee Ex-Officio; Chair, Arts & Sciences Board"]
[" ","Disney","Diane",null,"2001 / 2002","Trustee Ex-Officio; Chair, Arts & Sciences Board"]
[" ","Disney","Diane",null,"2002 / 2003","Trustee Ex-Officio; Chair, Arts & Sciences Board"]
[" ","Disney","Diane",null,"2003 / 2004","Trustee Ex-Officio; Chair, Arts & Sciences Board"]
[" ","Disney","Diane",null,"2004 / 2005","Trustee"]
[" ","Disney","Diane",null,"2005 / 2006","Trustee"]
[" ","Disney","Diane",null,"2006 / 2007","Trustee"]
[" ","Disney","Diane",null,"2007 / 2008","Trustee"]
[" ","Disney","Diane",null,"2008 / 2009","Trustee"]
[" ","Disney","Diane",null,"2009 / 2010","Trustee"]
[" ","Doremus Jr.","Theodore A.",null,"1988 / 1989","Trustee"]
[" ","Doremus Jr.","Theodore A.",null,"1989 / 1990","Trustee"]
[" ","Doremus Jr.","Theodore A.",null,"1990 / 1991","Trustee"]
[" ","Duke","Claude W.","Rev., D.D.","1924 / 1925","Trustee"]
[" ","Duke","Claude W.","Rev., D.D.","1925 / 1926","Trustee"]
[" ","Duke","Claude W.","Rev., D.D.","1926 / 1927","Trustee"]
[" ","Duke","Claude W.","Rev., D.D.","1927 / 1928","Trustee"]
[" ","Duke","Claude W.","Rev., D.D.","1928 / 1929","Trustee"]
[" ","Duke","Claude W.","Rev., D.D.","1929 / 1930","Trustee"]
[" ","Duke","Claude W.","Rev., D.D.","1930 / 1931","Trustee"]
[" ","Duke","Claude W.","Rev., D.D.","1931 / 1932","Trustee"]
[" ","Duke","Claude W.","Rev., D.D.","1932 / 1933","Trustee"]
[" ","Duke","Claude W.","Rev., D.D.","1933 / 1934","Trustee"]
[" ","Duke","Claude W.","Rev., D.D.","1934 / 1935","Trustee"]
[" ","Duke","Claude W.","Rev., D.D.","1935 / 1936","Trustee"]
[" ","Duncan","Pope A.",null,"1979 / 1980","Trustee Ex Officio"]
[" ","Duncan","Pope A.",null,"1980 / 1981","Trustee Ex Officio"]
[" ","Duncan","Pope A.",null,"1981 / 1982","Trustee Ex Officio"]
[" ","Duncan","Pope A.",null,"1982 / 1983","Trustee Ex Officio President"]
[" ","Duncan","Pope A.",null,"1983 / 1984","Trustee Ex Officio President"]
[" ","Duncan","Pope A.",null,"1984 / 1985","Trustee Ex Officio President"]
[" ","Duncan","Pope A.",null,"1985 / 1986","Trustee Ex Officio"]
[" ","Duncan","Pope A.",null,"1986 / 1987","Trustee Ex Officio President"]
[" ","Duncan","Pope A.",null,"1987 / 1988","Trustee Ex Officio President"]
[" ","Duncan","Pope A.",null,"1988 / 1989","Trustee Chancellor"]
[" ","Duncan","Pope A.",null,"1989 / 1990","Trustee Chancellor"]
[" ","Duncan","Pope A.",null,"1990 / 1991","Trustee Chancellor"]
[" ","Duncan","Pope A.",null,"1991 / 1992","Trustee Chancellor"]
[" ","Duncan","Pope A.",null,"1993 / 1994","Trustee Chancellor"]
[" ","Duncan","Pope A.",null,"1994 / 1995","Trustee Chancellor"]
[" ","Duncan","Pope A.",null,"1995 / 1996","Trustee Chancellor"]
[" ","Duncan","Pope A.",null,"1997 / 1998","Trustee Ex Officio; Chancellor Trustee"]
[" ","Duncan","Pope A.",null,"1999 / 2000","Trustee Ex Officio; Chancellor"]
[" ","Duncan","Pope A.",null,"2000 / 2001","Trustee Ex-Officio; Chancellor"]
[" ","Duncan","Pope A.",null,"2001 / 2002","Trustee Ex-Officio; Chancellor"]
[" ","Duncan","Pope A.",null,"2002 / 2003","Trustee Emeritus"]
[" ","duPont","Alfred I.","Mrs.","1938 / 1939","Trustee"]
[" ","duPont","Alfred I.","Mrs.","1939 / 1940","Trustee & Finance Committee"]
[" ","duPont","Alfred I.","Mrs.","1940 / 1941","Trustee & Finance Committee"]
[" ","duPont","Alfred I.","Mrs.","1941 / 1942","Trustee & Finance Committee"]
[" ","duPont","Alfred I.","Mrs.","1942 / 1943","Trustee & Finance Committee"]
[" ","duPont","Alfred I.","Mrs.","1943 / 1944","Trustee & Finance Committee"]
[" ","duPont","Alfred I.","Mrs.","1944 / 1945","Trustee & Finance Committee"]
[" ","duPont","Alfred I.","Mrs.","1945 / 1946","Trustee (resigned)"]
[" ","duPont","Alfred I.","Mrs.","1956 / 1957","Trustee"]
[" ","duPont","Alfred I.","Mrs.","1957 / 1958","Trustee"]
[" ","duPont","Alfred I.","Mrs.","1958 / 1959","Trustee & Finance Committee"]
[" ","duPont","Alfred I.","Mrs.","1960 / 1961","Trustee"]
[" ","duPont","Alfred I.","Mrs.","1962 / 1963","Trustee"]
[" ","duPont","Alfred I.","Mrs.","1963 / 1964","Trustee"]
[" ","duPont","Alfred I.","Mrs.","1964 / 1965","Trustee"]
[" ","duPont","Alfred I.","Mrs.","1965 / 1966","Trustee"]
[" ","duPont","Alfred I.","Mrs.","1966 / 1967","Trustee"]
[" ","duPont","Alfred I.","Mrs.","1967 / 1968","Trustee"]
[" ","duPont","Alfred I.","Mrs.","1968 / 1969","Trustee"]
[" ","duPont","Alfred I.","Mrs.","1969 / 1970","Trustee"]
[" ","duPont","Alfred I.","Mrs.","1970 / 1971","Trustee"]
[" ","Edington","Earl B.",null,"1956 / 1957","Trustee"]
[" ","Edington","Earl B.",null,"1957 / 1958","Trustee"]
[" ","Edington","Earl B.",null,"1958 / 1959","Trustee Secretary"]
[" ","Edington","Earl B.",null,"1960 / 1961","Trustee Secretary & Executive Committee"]
[" ","Edington","Earl B.",null,"1962 / 1963","Trustee Secretary & Executive Committee"]
[" ","Edington","Earl B.",null,"1963 / 1964","Trustee Secretary & Executive Committee"]
[" ","Edington","Earl B.",null,"1964 / 1965","Trustee Secretary & Executive Committee"]
[" ","Edington","Earl B.",null,"1965 / 1966","Trustee Secretary & Executive Committee"]
[" ","Edington","Earl B.",null,"1966 / 1967","Trustee Secretary & Executive Committee"]
[" ","Edington","Earl B.",null,"1967 / 1968","Trustee Secretary"]
[" ","Edington","Earl B.",null,"1968 / 1969","Trustee Secretary"]
[" ","Edington","Earl B.",null,"1969 / 1970","Trustee Secretary"]
[" ","Edington","Earl B.",null,"1970 / 1971","Trustee Chairman"]
[" ","Edington","Earl B.",null,"1971 / 1972","Trustee Chairman"]
[" ","Edington","Earl B.",null,"1972 / 1973","Trustee Chairman"]
[" ","Edington","Earl B.",null,"1974 / 1975","Trustee Chairman"]
[" ","Edington","Earl B.",null,"1975 / 1976","Trustee"]
[" ","Edington","Earl B.",null,"1978 / 1979","Trustee"]
[" ","Edington","Earl B.",null,"1979 / 1980","Trustee"]
[" ","Edington","Earl B.",null,"1980 / 1981","Trustee"]
[" ","Edington","Earl B.",null,"1981 / 1982","Trustee"]
[" ","Edington","Earl B.",null,"1982 / 1983","Trustee"]
[" ","Edington","Earl B.",null,"1983 / 1984","Trustee"]
[" ","Edington","Earl B.",null,"1984 / 1985","Trustee"]
[" ","Edington","Earl B.",null,"1985 / 1986","Trustee"]
[" ","Edington","Earl B.",null,"1986 / 1987","Trustee"]
[" ","Edington","Earl B.",null,"1987 / 1988","Trustee"]
[" ","Edington","Earl B.",null,"1988 / 1989","Trustee"]
[" ","Edington","Earl B.",null,"1989 / 1990","Trustee"]
[" ","Edmunds","J. Ollie",null,"1933 / 1934","Trustee"]
[" ","Edmunds","J. Ollie",null,"1934 / 1935","Trustee"]
[" ","Edmunds","J. Ollie",null,"1935 / 1936","Trustee & Committee on Administrative"]
[" ","Edmunds","J. Ollie",null,"1937 / 1938","Trustee"]
[" ","Edmunds","J. Ollie",null,"1938 / 1939","Trustee"]
[" ","Edmunds","J. Ollie",null,"1939 / 1940","Trustee & Finance Committee"]
[" ","Edmunds","J. Ollie",null,"1940 / 1941","Trustee & Finance Committee"]
[" ","Edmunds","J. Ollie",null,"1941 / 1942","Trustee & Finance Committee"]
[" ","Edmunds","J. Ollie",null,"1942 / 1943","Trustee & Finance Committee"]
[" ","Edmunds","J. Ollie",null,"1943 / 1944","Trustee & Finance Committee"]
[" ","Edmunds","J. Ollie",null,"1944 / 1945","Trustee & Finance Committee"]
[" ","Edmunds","J. Ollie",null,"1945 / 1946","Trustee & Finance Committee"]
[" ","Edmunds","J. Ollie",null,"1946 / 1947","Trustee & Finance Committee"]
[" ","Edmunds","J. Ollie",null,"1947 / 1948","Trustee Treasurer & Committee on Administrative"]
[" ","Edmunds","J. Ollie",null,"1948 / 1949","Trustee Treasurer"]
[" ","Edmunds","J. Ollie",null,"1949 / 1950","Trustee Treasurer"]
[" ","Edmunds","J. Ollie",null,"1950 / 1951","Trustee Treasurer"]
[" ","Edmunds","J. Ollie",null,"1952 / 1953","Trustee Treasurer & President of Administrative Officers"]
[" ","Edmunds","J. Ollie",null,"1953 / 1954","Trustee Treasurer & President of Administrative Officers \n& Library Maintenance Trustees"]
[" ","Edmunds","J. Ollie",null,"1954 / 1955","Trustee & Library Maintenance Trustees"]
[" ","Edmunds","J. Ollie",null,"1955 / 1956","Trustee Treasurer, Committee on Administrative, \nFinance Committee & Library Maintenance Trustee"]
[" ","Edmunds","J. Ollie",null,"1956 / 1957","Trustee Treasurer Administrative, Finance, Library \nMaintenance"]
[" ","Edmunds","J. Ollie",null,"1957 / 1958","Trustee Treasurer Administrative, Finance, Library \nMaintenance"]
[" ","Edmunds","J. Ollie",null,"1958 / 1959","Trustee Treasurer Administrative, Finance, Library \nMaintenance"]
[" ","Edmunds","J. Ollie",null,"1975 / 1976","Trustee Ex Officio"]
[" ","Edmunds","J. Ollie",null,"1978 / 1979","Trustee Ex Officio"]
[" ","Edmunds","J. Ollie",null,"1979 / 1980","Trustee Ex Officio"]
[" ","Edmunds","J. Ollie",null,"1980 / 1981","Trustee Ex Officio"]
[" ","Edmunds","J. Ollie",null,"1981 / 1982","Trustee Ex Officio"]
[" ","Edmunds","J. Ollie",null,"1982 / 1983","Trustee Ex Officio Chancellor"]
[" ","Edmunds","J. Ollie",null,"1983 / 1984","Trustee Ex Officio Chancellor"]
[" ","Edwards","F.C.","Rev.","1905 / 1906","Trustee"]
[" ","Edwards","F.C.","Rev.","1906 / 1907","Trustee"]
[" ","Edwards","F.C.","Rev.","1907 / 1908","Trustee"]
[" ","Edwards","F.C.","Rev.","1908 / 1909","Trustee"]
[" ","Edwards","F.C.","Rev.","1909 / 1910","Trustee"]
[" ","Edwards","F.C.","Rev.","1910 / 1911","Trustee"]
[" ","Edwards","F.C.","Rev.","1911 / 1912","Trustee"]
[" ","Edwards","F.C.","Rev.","1912 / 1913","Trustee"]
[" ","Edwards","F.C.","Rev.","1913 / 1914","Trustee"]
[" ","Edwards","F.C.","Rev.","1914 / 1915","Trustee"]
[" ","Edwards","F.C.","Rev.","1915 / 1916","Trustee"]
[" ","Edwards","F.C.","Rev.","1916 / 1917","Trustee"]
[" ","Edwards","F.C.","Rev.","1917 / 1918","Trustee"]
[" ","Edwards","F.C.","Rev.","1918 / 1919","Trustee"]
[" ","Edwards","F.C.","Rev.","1919 / 1920","Trustee"]
[" ","Edwards","John L.",null,"1930 / 1931","Trustee"]
[" ","Edwards","John L.",null,"1931 / 1932","Trustee"]
[" ","Edwards","John L.",null,"1932 / 1933","Trustee"]
[" ","Edwards","John L.",null,"1933 / 1934","Trustee"]
[" ","Edwards","John L.",null,"1934 / 1935","Trustee"]
[" ","Edwards","John L.",null,"1935 / 1936","Trustee"]
[" ","Edwards","John L.",null,"1937 / 1938","Trustee"]
[" ","Edwards","John L.",null,"1938 / 1939","Trustee"]
[" ","Edwards","John L.",null,"1939 / 1940","Trustee"]
[" ","Edwards","John L.",null,"1940 / 1941","Trustee"]
[" ","Edwards","John L.",null,"1941 / 1942","Trustee"]
[" ","Edwards","John L.",null,"1942 / 1943","Trustee (deceased)"]
[" ","Ellis","Frank M.","Rev., D.D.","1885 / 1886","Trustee"]
[" ","Ellis","Frank M.","Rev., D.D.","1888 / 1889","Trustee"]
[" ","Ellis","Frank M.","Rev., D.D.","1889 / 1890","Trustee"]
[" ","Ellis","Frank M.","Rev., D.D.","1891 / 1892","Trustee"]
[" ","Ellis","Frank M.","Rev., D.D.","1892 / 1893","Trustee"]
[" ","Ellis","Frank M.","Rev., D.D.","1894 / 1895","Trustee"]
[" ","Ellis","Frank M.","Rev., D.D.","1895 / 1896","Trustee"]
[" ","Ellis","Frank M.","Rev., D.D.","1896 / 1897","Trustee"]
[" ","Ellis","Frank M.","Rev., D.D.","1897 / 1898","Trustee (deceased)"]
[" ","Farmer","Nancy",null,"2013 / 2014","Trustee"]
[" ","Ferrell","Ralph H.",null,"1960 / 1961","Trustee Treasurer & Executive Committee"]
[" ","Ferrell","Ralph H.",null,"1962 / 1963","Trustee Vice President & Executive Committee"]
[" ","Ferrell","Ralph H.",null,"1963 / 1964","Trustee Vice President & Executive Committee"]
[" ","Ferrell","Ralph H.",null,"1964 / 1965","Trustee Vice President & Executive Committee"]
[" ","Ferrell","Ralph H.",null,"1965 / 1966","Trustee Vice President & Executive Committee"]
[" ","Ferrell","Ralph H.",null,"1966 / 1967","Trustee Vice President & Executive Committee"]
[" ","Ferrell","Ralph H.",null,"1967 / 1968","Trustee Vice Chairman"]
[" ","Ferrell","Ralph H.",null,"1968 / 1969","Trustee Vice Chairman"]
[" ","Ferrell","Ralph H.",null,"1969 / 1970","Trustee Vice Chairman"]
[" ","Ferrell","Ralph H.",null,"1970 / 1971","Trustee"]
[" ","Ferrell","Ralph H.",null,"1971 / 1972","Trustee"]
[" ","Ferrell","Ralph H.",null,"1972 / 1973","Trustee"]
[" ","Ferrell","Ralph H.",null,"1974 / 1975","Trustee"]
[" ","Ferrell","Ralph H.",null,"1975 / 1976","Trustee"]
[" ","Ferrell","Ralph H.",null,"1978 / 1979","Trustee"]
[" ","Ferrell","Ralph H.",null,"1979 / 1980","Trustee"]
[" ","Ferrell","Ralph H.",null,"1980 / 1981","Trustee"]
[" ","Ferrell","Ralph H.",null,"1981 / 1982","Trustee"]
[" ","Ferrell","Ralph H.",null,"1982 / 1983","Trustee"]
[" ","Ferrell","Ralph H.",null,"1983 / 1984","Trustee"]
[" ","Ferrell","Ralph H.",null,"1984 / 1985","Trustee"]
[" ","Ferrell","Ralph H.",null,"1985 / 1986","Trustee"]
[" ","Finn","Jim L.",null,"1995 / 1996","Trustee Chair, Music School Board"]
[" ","Finn","Jim L.",null,"1996 / 1997","Trustee Co-Chair, Music School Board, Ex Officio"]
[" ","Fletcher","D.U.","U.S. Senator","1900 / 1901","Trustee"]
[" ","Fletcher","D.U.","U.S. Senator","1901 / 1902","Trustee"]
[" ","Fletcher","D.U.","U.S. Senator","1902 / 1903","Trustee & Committee on Administrative"]
[" ","Fletcher","D.U.","U.S. Senator","1903 / 1904","Trustee & Committee on Administrative"]
[" ","Fletcher","D.U.","U.S. Senator","1904 / 1905","Trustee"]
[" ","Fletcher","D.U.","U.S. Senator","1905 / 1906","Trustee"]
[" ","Fletcher","D.U.","U.S. Senator","1906 / 1907","Trustee"]
[" ","Fletcher","D.U.","U.S. Senator","1907 / 1908","Trustee"]
[" ","Fletcher","D.U.","U.S. Senator","1908 / 1909","Trustee"]
[" ","Fletcher","D.U.","U.S. Senator","1909 / 1910","Trustee"]
[" ","Fletcher","D.U.","U.S. Senator","1910 / 1911","Trustee"]
[" ","Fletcher","D.U.","U.S. Senator","1911 / 1912","Trustee"]
[" ","Fletcher","D.U.","U.S. Senator","1912 / 1913","Trustee"]
[" ","Fletcher","D.U.","U.S. Senator","1913 / 1914","Trustee"]
[" ","Fletcher","D.U.","U.S. Senator","1914 / 1915","Trustee"]
[" ","Fletcher","D.U.","U.S. Senator","1915 / 1916","Trustee"]
[" ","Fletcher","D.U.","U.S. Senator","1916 / 1917","Trustee"]
[" ","Fletcher","D.U.","U.S. Senator","1917 / 1918","Trustee"]
[" ","Fletcher","D.U.","U.S. Senator","1918 / 1919","Trustee"]
[" ","Fletcher","D.U.","U.S. Senator","1919 / 1920","Trustee"]
[" ","Fletcher","D.U.","U.S. Senator","1920 / 1921","Trustee"]
[" ","Fletcher","D.U.","U.S. Senator","1921 / 1922","Trustee"]
[" ","Fletcher","D.U.","U.S. Senator","1922 / 1923","Trustee"]
[" ","Fletcher","D.U.","U.S. Senator","1923 / 1924","Trustee"]
[" ","Fletcher","D.U.","U.S. Senator","1924 / 1925","Trustee"]
[" ","Fletcher","D.U.","U.S. Senator","1925 / 1926","Trustee"]
[" ","Fletcher","D.U.","U.S. Senator","1926 / 1927","Trustee"]
[" ","Fletcher","D.U.","U.S. Senator","1927 / 1928","Trustee"]
[" ","Fletcher","D.U.","U.S. Senator","1928 / 1929","Trustee"]
[" ","Fletcher","D.U.","U.S. Senator","1929 / 1930","Trustee"]
[" ","Fletcher","D.U.","U.S. Senator","1930 / 1931","Trustee"]
[" ","Fletcher","D.U.","U.S. Senator","1931 / 1932","Trustee"]
[" ","Fletcher","D.U.","U.S. Senator","1932 / 1933","Trustee"]
[" ","Fletcher","D.U.","U.S. Senator","1933 / 1934","Trustee"]
[" ","Fletcher","D.U.","U.S. Senator","1934 / 1935","Trustee"]
[" ","Fletcher","D.U.","U.S. Senator","1935 / 1936","Trustee"]
[" ","Flippo","Robert D.",null,"1962 / 1963","Trustee"]
[" ","Flippo","Robert D.",null,"1963 / 1964","Trustee"]
[" ","Flippo","Robert D.",null,"1964 / 1965","Trustee"]
[" ","Flippo","Robert D.",null,"1965 / 1966","Trustee"]
[" ","Flippo","Robert D.",null,"1966 / 1967","Trustee"]
[" ","Flippo","Robert D.",null,"1967 / 1968","Trustee"]
[" ","Flippo","Robert D.",null,"1968 / 1969","Trustee"]
[" ","Flippo","Robert D.",null,"1969 / 1970","Trustee"]
[" ","Flippo","Robert D.",null,"1970 / 1971","Trustee"]
[" ","Flippo","Robert D.",null,"1971 / 1972","Trustee"]
[" ","Flippo","Robert D.",null,"1972 / 1973","Trustee"]
[" ","Flippo","Robert D.",null,"1974 / 1975","Trustee"]
[" ","Flippo","Robert D.",null,"1975 / 1976","Trustee"]
[" ","Flippo","Robert D.",null,"1978 / 1979","Trustee"]
[" ","Flippo","Robert D.",null,"1979 / 1980","Trustee"]
[" ","Flippo","Robert D.",null,"1980 / 1981","Trustee"]
[" ","Flippo","Robert D.",null,"1981 / 1982","Trustee"]
[" ","Flippo","Robert D.",null,"1982 / 1983","Trustee"]
[" ","Flippo","Robert D.",null,"1983 / 1984","Trustee"]
[" ","Flippo","Robert D.",null,"1984 / 1985","Trustee"]
[" ","Flippo","Robert D.",null,"1985 / 1986","Trustee"]
[" ","Flippo","Robert D.",null,"1986 / 1987","Trustee"]
[" ","Flippo","Robert D.",null,"1987 / 1988","Trustee"]
[" ","Flippo","Robert D.",null,"1988 / 1989","Trustee"]
[" ","Flippo","Robert D.",null,"1989 / 1990","Trustee"]
[" ","Forbes","J.F.",null,"1885 / 1886","Trustee"]
[" ","Forbes","J.F.",null,"1887 / 1888","Trustee Ex-Officio & Executive Committee"]
[" ","Forbes","J.F.",null,"1888 / 1889","Trustee Treasurer & Executive Committee"]
[" ","Forbes","J.F.",null,"1889 / 1890","Trustee Treasurer & Executive Committee"]
[" ","Forbes","J.F.",null,"1891 / 1892","Trustee Treasurer & Executive Committee"]
[" ","Forbes","J.F.",null,"1892 / 1893","Trustee Treasurer & Executive Committee"]
[" ","Forbes","J.F.",null,"1894 / 1895","Trustee Treasurer & Executive Committee"]
[" ","Forbes","J.F.",null,"1895 / 1896","Trustee Treasurer & Executive Committee"]
[" ","Forbes","J.F.",null,"1896 / 1897","Trustee Treasurer & Executive Committee"]
[" ","Forbes","J.F.",null,"1897 / 1898","Trustee Treasurer & Executive Committee"]
[" ","Forbes","J.F.",null,"1898 / 1899","Trustee Treasurer & Executive Committee"]
[" ","Forbes","J.F.",null,"1899 / 1900","Trustee Treasurer & Executive Committee"]
[" ","Forbes","J.F.",null,"1900 / 1901","Trustee Treasurer & Executive Committee"]
[" ","Forbes","J.F.",null,"1901 / 1902","Trustee Treasurer & Executive Committee"]
[" ","Forbes","J.F.",null,"1902 / 1903","Trustee Treasurer & Committee on Administrative"]
[" ","Forbes","J.F.",null,"1903 / 1904","Trustee"]
[" ","Forbes","J.F.",null,"1904 / 1905","Trustee"]
[" ","Forbes","J.F.",null,"1905 / 1906","Trustee"]
[" ","Forbes","S. B.",null,"1962 / 1963","Trustee"]
[" ","Foreman","Bonnie",null,"2007 / 2008","Trustee"]
[" ","Foreman","Bonnie",null,"2008 / 2009","Trustee"]
[" ","Foreman","Bonnie",null,"2009 / 2010","Trustee"]
[" ","Foreman","Bonnie",null,"2010 / 2011","Trustee"]
[" ","Foreman","Bonnie",null,"2011 / 2012","Trustee"]
[" ","Foreman","Bonnie",null,"2012 / 2013","Trustee"]
[" ","Foreman","Bonnie",null,"2013 / 2014","Trustee"]
[" ","Freeman","Albert T.",null,"1908 / 1909","Trustee"]
[" ","Freeman","Albert T.",null,"1909 / 1910","Trustee"]
[" ","Freeman","Albert T.",null,"1910 / 1911","Trustee"]
[" ","Freeman","Albert T.",null,"1911 / 1912","Trustee"]
[" ","Freeman","Albert T.",null,"1912 / 1913","Trustee"]
[" ","Freeman","Albert T.",null,"1913 / 1914","Trustee"]
[" ","Freeman","Albert T.",null,"1914 / 1915","Trustee"]
[" ","Freeman","Albert T.",null,"1915 / 1916","Trustee"]
[" ","Freeman","Albert T.",null,"1916 / 1917","Trustee"]
[" ","Freeman","Albert T.",null,"1917 / 1918","Trustee (deceased)"]
[" ","Fronk","Michael R.",null,"2002 / 2003","Trustee"]
[" ","Fronk","Michael R.",null,"2003 / 2004","Trustee"]
[" ","Furches","John",null,"1999 / 2000","Trustee"]
[" ","Furches","Sandy",null,"1999 / 2000","Trustee (Co-Chair, Alumni Assoc.)"]
[" ","Gardner","David M.","D.D.","1943 / 1944","Trustee"]
[" ","Gardner","David M.","D.D.","1944 / 1945","Trustee"]
[" ","Gardner","David M.","D.D.","1945 / 1946","Trustee"]
[" ","Gardner","David M.","D.D.","1946 / 1947","Trustee"]
[" ","Gardner","David M.","D.D.","1947 / 1948","Trustee"]
[" ","Gaston","Earl R.",null,"1948 / 1949","Trustee & Finance Committee"]
[" ","Gaston","Earl R.",null,"1949 / 1950","Trustee & Finance Committee"]
[" ","Gaston","Earl R.",null,"1950 / 1951","Trustee"]
[" ","Gaston","Earl R.",null,"1952 / 1953","Trustee"]
[" ","Gaston","Earl R.",null,"1953 / 1954","Trustee & Finance Committee"]
[" ","Gaston","Earl R.",null,"1954 / 1955","Trustee & Finance Committee"]
[" ","Gaston","Earl R.",null,"1955 / 1956","Trustee & Finance Committee"]
[" ","Gaston","Earl R.",null,"1956 / 1957","Trustee & Finance Committee"]
[" ","Gaston","Earl R.",null,"1957 / 1958","Trustee & Finance Committee"]
[" ","Gaston","Earl R.",null,"1958 / 1959","Trustee & Finance Committee"]
[" ","Gaston","Earl R.",null,"1960 / 1961","Trustee"]
[" ","Gaston","Earl R.",null,"1962 / 1963","Trustee & Executive Committee"]
[" ","Gaston","Earl R.",null,"1963 / 1964","Trustee & Executive Committee"]
[" ","Gaston","Earl R.",null,"1964 / 1965","Trustee & Executive Committee"]
[" ","Gaston","Earl R.",null,"1965 / 1966","Trustee & Executive Committee"]
[" ","Gaston","Earl R.",null,"1966 / 1967","Trustee & Executive Committee"]
[" ","Gaston","Earl R.",null,"1967 / 1968","Trustee"]
[" ","Gaston","Earl R.",null,"1968 / 1969","Trustee"]
[" ","Gaston","Earl R.",null,"1969 / 1970","Trustee"]
[" ","Gaylord","Frank T.",null,"1988 / 1989","Trustee"]
[" ","Gaylord","Frank T.",null,"1989 / 1990","Trustee"]
[" ","Gaylord","Frank T.",null,"1990 / 1991","Trustee"]
[" ","Gaylord","Frank T.",null,"1991 / 1992","Trustee"]
[" ","Gaylord","Frank T.",null,"1993 / 1994","Trustee"]
[" ","Gaylord","Frank T.",null,"1994 / 1995","Trustee"]
[" ","Gaylord","Frank T.",null,"1995 / 1996","Trustee"]
[" ","Gaylord","Frank T.",null,"1996 / 1997","Trustee"]
[" ","Gaylord","Frank T.",null,"1997 / 1998","Trustee"]
[" ","Gaylord","Frank T.",null,"1999 / 2000","Trustee"]
[" ","Gaylord","Frank T.",null,"2000 / 2001","Trustee"]
[" ","Gaylord","Frank T.",null,"2001 / 2002","Trustee"]
[" ","Gaylord","Frank T.",null,"2002 / 2003","Trustee"]
[" ","Gaylord","Frank T.",null,"2003 / 2004","Trustee"]
[" ","Gaylord","Frank T.",null,"2004 / 2005","Trustee"]
[" ","Gaylord","Frank T.",null,"2005 / 2006","Trustee"]
[" ","Gaylord","Frank T.",null,"2006 / 2007","Trustee"]
[" ","Gaylord","Frank T.",null,"2007 / 2008","Trustee"]
[" ","Gaylord","Frank T.",null,"2008 / 2009","Trustee"]
[" ","Gaylord","Frank T.",null,"2009 / 2010","Trustee"]
[" ","Gaylord","Frank T.",null,"2010 / 2011","Trustee Emeriti"]
[" ","Gaylord","Frank T.",null,"2011 / 2012","Trustee Emeriti"]
[" ","Gaylord","Frank T.",null,"2012 / 2013","Trustee Emeriti"]
[" ","Gaylord","Frank T.",null,"2013 / 2014","Trustee Emeriti"]
[" ","Gelston","H.C.","Rev.","1885 / 1886","Trustee & Executive Committee"]
[" ","Gelston","H.C.","Rev.","1887 / 1888","Trustee & Executive Committee"]
[" ","Gelston","H.C.","Rev.","1888 / 1889","Trustee & Executive Committee"]
[" ","Gelston","H.C.","Rev.","1889 / 1890","Trustee & Executive Committee"]
[" ","Gelston","H.C.","Rev.","1891 / 1892","Trustee & Executive Committee"]
[" ","Gelston","H.C.","Rev.","1892 / 1893","Trustee & Executive Committee"]
[" ","Gelston","H.C.","Rev.","1894 / 1895","Trustee & Executive Committee"]
[" ","Gelston","H.C.","Rev.","1895 / 1896","Trustee & Executive Committee"]
[" ","Gelston","H.C.","Rev.","1896 / 1897","Trustee & Executive Committee"]
[" ","Gelston","H.C.","Rev.","1897 / 1898","Trustee & Executive Committee"]
[" ","Gelston","H.C.","Rev.","1898 / 1899","Trustee & Executive Committee"]
[" ","Gelston","H.C.","Rev.","1899 / 1900","Trustee & Executive Committee"]
[" ","George","Rich",null,"2012 / 2013","Trustee"]
[" ","George","Rich",null,"2013 / 2014","Trustee"]
[" ","Gillen","R.H.","Dr.","1895 / 1896","Trustee & Executive Committee"]
[" ","Gillen","R.H.","Dr.","1896 / 1897","Trustee & Executive Committee"]
[" ","Gillen","R.H.","Dr.","1897 / 1898","Trustee & Executive Committee"]
[" ","Gillen","R.H.","Dr.","1898 / 1899","Trustee & Executive Committee"]
[" ","Gillen","R.H.","Dr.","1899 / 1900","Trustee & Executive Committee"]
[" ","Gillen","R.H.","Dr.","1900 / 1901","Trustee & Executive Committee"]
[" ","Gillespie","Sally",null,"1987 / 1988","Trustee"]
[" ","Govoni","Leo",null,"2006 / 2007","Trustee"]
[" ","Govoni","Leo",null,"2007 / 2008","Trustee"]
[" ","Govoni","Leo",null,"2008 / 2009","Trustee"]
[" ","Govoni","Leo",null,"2009 / 2010","Trustee"]
[" ","Govoni","Leo",null,"2010 / 2011","Trustee"]
[" ","Graf","Kathleen L.",null,"2011 / 2012","Trustee Ex-Officio"]
[" ","Graf","Kathleen L.",null,"2012 / 2013","Trustee Ex-Officio"]
[" ","Graves","James F.",null,"1991 / 1992","Trustee"]
[" ","Graves","James F.",null,"1993 / 1994","Trustee"]
[" ","Gray","William A.",null,"2007 / 2008","Trustee Ex-Officio; President, Alumni Association"]
[" ","Gray","William A.",null,"2008 / 2009","Trustee Ex-Officio; President, Alumni Association"]
[" ","Gray","William A.",null,"2009 / 2010","Trustee Ex-Officio; President, Alumni Association"]
[" ","Gray","William A.",null,"2010 / 2011","Trustee Ex-Officio"]
[" ","Griffith","J.H. ","D.D.","1885 / 1886","Trustee "]
[" ","Griffith","Jack S.",null,"1991 / 1992","Trustee"]
[" ","Gurney","J. Tom",null,"1960 / 1961","Trustee General Council"]
[" ","Gurney","J. Tom",null,"1962 / 1963","Trustee General Council"]
[" ","Gurney","J. Tom",null,"1963 / 1964","Trustee General Council"]
[" ","Gurney","J. Tom",null,"1964 / 1965","Trustee General Council"]
[" ","Gurney","J. Tom",null,"1965 / 1966","Trustee General Council"]
[" ","Gurney","J. Tom",null,"1966 / 1967","Trustee General Council"]
[" ","Gurney","J. Tom",null,"1967 / 1968","Trustee General Council"]
[" ","Gurney","J. Tom",null,"1968 / 1969","Trustee General Council"]
[" ","Gurney","J. Tom",null,"1969 / 1970","Trustee General Council"]
[" ","Gurney","J. Tom",null,"1970 / 1971","Trustee General Council"]
[" ","Gurney","J. Tom",null,"1971 / 1972","Trustee General Council"]
[" ","Gwynn","Walter","Hon.","1885 / 1886","Trustee & Executive Committee"]
[" ","Gwynn","Walter","Hon.","1887 / 1888","Trustee & Executive Committee"]
[" ","Gwynn","Walter","Hon.","1888 / 1889","Trustee & Executive Committee"]
[" ","Gwynn","Walter","Hon.","1889 / 1890","Trustee & Executive Committee"]
[" ","Gwynn","Walter","Hon.","1891 / 1892","Trustee & Executive Committee"]
[" ","Gwynn","Walter","Hon.","1892 / 1893","Trustee & Executive Committee"]
[" ","Gwynn","Walter","Hon.","1894 / 1895","Trustee & Executive Committee"]
[" ","Gwynn","Walter","Hon.","1895 / 1896","Trustee & Executive Committee"]
[" ","Gwynn","Walter","Hon.","1896 / 1897","Trustee & Executive Committee"]
[" ","Gwynn","Walter","Hon.","1897 / 1898","Trustee & Executive Committee (deceased)"]
[" ","Hagstrom","Lorna Jean",null,"1999 / 2000","Trustee Ex-Officio; Chair, Music Board"]
[" ","Hamlin","Arthur G.",null,"1887 / 1888","Trustee"]
[" ","Hamlin","Arthur G.",null,"1888 / 1889","Trustee"]
[" ","Hamlin","Arthur G.",null,"1889 / 1890","Trustee"]
[" ","Hamlin","Arthur G.",null,"1891 / 1892","Trustee"]
[" ","Hamlin","Arthur G.",null,"1892 / 1893","Trustee & Executive Committee"]
[" ","Hamlin","Arthur G.",null,"1894 / 1895","Trustee & Executive Committee"]
[" ","Hamlin","Arthur G.",null,"1895 / 1896","Trustee & Executive Committee"]
[" ","Hamlin","Arthur G.",null,"1896 / 1897","Trustee & Executive Committee"]
[" ","Hamlin","Arthur G.",null,"1897 / 1898","Trustee & Executive Committee"]
[" ","Hamlin","Arthur G.",null,"1898 / 1899","Trustee & Executive Committee"]
[" ","Hamlin","Arthur G.",null,"1899 / 1900","Trustee & Executive Committee"]
[" ","Hamlin","Arthur G.",null,"1900 / 1901","Trustee & Executive Committee"]
[" ","Hamlin","Arthur G.",null,"1901 / 1902","Trustee & Executive Committee"]
[" ","Hamlin","Arthur G.",null,"1902 / 1903","Trustee"]
[" ","Hamlin","Arthur G.",null,"1903 / 1904","Trustee"]
[" ","Hamlin","Arthur G.",null,"1904 / 1905","Trustee"]
[" ","Hand","Dolly",null,"1995 / 1996","Trustee"]
[" ","Hand","Dolly",null,"1996 / 1997","Trustee"]
[" ","Hand","Dolly",null,"1997 / 1998","Trustee"]
[" ","Hand","Dolly",null,"1999 / 2000","Trustee"]
[" ","Hand","Dolly",null,"2000 / 2001","Trustee"]
[" ","Hand","Dolly",null,"2001 / 2002","Trustee"]
[" ","Hand","Dolly",null,"2002 / 2003","Trustee"]
[" ","Hand","Dolly",null,"2003 / 2004","Trustee"]
[" ","Hand","Dolly",null,"2004 / 2005","Trustee"]
[" ","Hand","Dolly",null,"2005 / 2006","Trustee"]
[" ","Hand","Dolly",null,"2006 / 2007","Trustee"]
[" ","Hand","Dolly",null,"2007 / 2008","Trustee"]
[" ","Hand","Dolly",null,"2008 / 2009","Trustee"]
[" ","Hand","Dolly",null,"2009 / 2010","Trustee"]
[" ","Hand","Dolly",null,"2010 / 2011","Trustee"]
[" ","Hand","Dolly",null,"2013 / 2014","Trustee Emeriti"]
[" ","Hand","Frances Rutledge",null,"2011 / 2012","Trustee"]
[" ","Hand","Frances Rutledge",null,"2012 / 2013","Trustee Emeriti"]
[" ","Hansen","Roderick P.",null,"1993 / 1994","Trustee Ex Officio"]
[" ","Hansen","Roderick P.",null,"1994 / 1995","Trustee Ex Officio"]
[" ","Hansen","Thomas",null,"1948 / 1949","Trustee & Administrative Committee"]
[" ","Hansen","Thomas",null,"1949 / 1950","Trustee & Administrative Committee"]
[" ","Hansen","Thomas",null,"1950 / 1951","Trustee"]
[" ","Hansen","Thomas",null,"1952 / 1953","Trustee"]
[" ","Hansen","Thomas",null,"1953 / 1954","Trustee & Administrative Committee"]
[" ","Hansen","Thomas",null,"1954 / 1955","Trustee & Administrative Committee"]
[" ","Hansen","Thomas",null,"1955 / 1956","Trustee & Administrative Committee"]
[" ","Hansen","Thomas",null,"1956 / 1957","Trustee & Administrative Committee"]
[" ","Hansen","Thomas",null,"1957 / 1958","Trustee & Administrative Committee"]
[" ","Hansen","Thomas",null,"1958 / 1959","Trustee & Administrative Committee"]
[" ","Hansen","Thomas",null,"1960 / 1961","Trustee & Executive Committee"]
[" ","Hansen","Thomas",null,"1962 / 1963","Trustee & Executive Committee"]
[" ","Hansen","Thomas",null,"1963 / 1964","Trustee & Executive Committee"]
[" ","Harshaw","David H.",null,"1954 / 1955","Library Maintenance Trustee"]
[" ","Harshaw","David H.",null,"1955 / 1956","Library Maintenance Trustee"]
[" ","Harshaw","David H.",null,"1956 / 1957","Library Maintenance Trustee"]
[" ","Harshaw","David H.",null,"1957 / 1958","Trustee & Library Maintenance Trustee"]
[" ","Harshaw","David H.",null,"1958 / 1959","Trustee & Finance & Library Maintenance Trustee"]
[" ","Harshaw","David H.",null,"1960 / 1961","Trustee"]
[" ","Harshaw","David H.",null,"1962 / 1963","Trustee"]
[" ","Harshaw","David H.",null,"1963 / 1964","Trustee"]
[" ","Harshaw","David H.",null,"1964 / 1965","Trustee"]
[" ","Harshaw","David H.",null,"1965 / 1966","Trustee"]
[" ","Harshaw","David H.",null,"1966 / 1967","Trustee"]
[" ","Harshaw","David H.",null,"1967 / 1968","Trustee"]
[" ","Harshaw","David H.",null,"1968 / 1969","Trustee"]
[" ","Harshaw","David H.",null,"1969 / 1970","Trustee"]
[" ","Harshaw","David H.",null,"1970 / 1971","Trustee"]
[" ","Harshaw","David H.",null,"1971 / 1972","Trustee"]
[" ","Harshaw","David H.",null,"1972 / 1973","Trustee"]
[" ","Harshaw","David H.",null,"1974 / 1975","Trustee"]
[" ","Harshaw","David H.",null,"1975 / 1976","Trustee"]
[" ","Harshaw","David H.",null,"1978 / 1979","Trustee"]
[" ","Harshaw","David H.",null,"1979 / 1980","Trustee"]
[" ","Harshaw","David H.",null,"1980 / 1981","Trustee"]
[" ","Harshaw","David H.",null,"1981 / 1982","Trustee"]
[" ","Harshaw","David H.",null,"1982 / 1983","Trustee"]
[" ","Harshaw","David H.",null,"1983 / 1984","Trustee"]
[" ","Harshaw","David H.",null,"1984 / 1985","Trustee"]
[" ","Harshaw","David H.",null,"1985 / 1986","Trustee"]
[" ","Harshaw","David H.",null,"1986 / 1987","Trustee"]
[" ","Harshaw","David H.",null,"1987 / 1988","Trustee"]
[" ","Harshaw","David H.",null,"1988 / 1989","Trustee"]
[" ","Harshaw","David H.",null,"1989 / 1990","Trustee"]
[" ","Harshaw","David H.",null,"1990 / 1991","Trustee"]
[" ","Harshaw","David H.",null,"1991 / 1992","Trustee Emeritus"]
[" ","Hickem","B.G.",null,"1984 / 1985","Trustee"]
[" ","Hickem","B.G.",null,"1985 / 1986","Trustee"]
[" ","Hickem","B.G.",null,"1986 / 1987","Trustee"]
[" ","Hickem","B.G.",null,"1987 / 1988","Trustee"]
[" ","Higginbotham","Dennis",null,"1999 / 2000","Trustee Ex-Officio; on leave"]
[" ","Higginbotham","Dennis",null,"2000 / 2001","Trustee Ex-Officio; on leave"]
[" ","Higginbotham","Dennis",null,"2001 / 2002","Trustee Ex-Officio; on leave"]
[" ","Highbaugh","L. Le Roy",null,"1958 / 1959","Trustee & Finance Committee"]
[" ","Highbaugh","L. Le Roy",null,"1960 / 1961","Trustee"]
[" ","Highbaugh","L. LeRoy Jr.",null,"1962 / 1963","Trustee"]
[" ","Highbaugh","L. LeRoy Jr.",null,"1963 / 1964","Trustee"]
[" ","Highbaugh","L. LeRoy Jr.",null,"1964 / 1965","Trustee"]
[" ","Highbaugh","L. LeRoy Jr.",null,"1965 / 1966","Trustee"]
[" ","Highbaugh","L. LeRoy Jr.",null,"1966 / 1967","Trustee"]
[" ","Highbaugh","L. LeRoy Jr.",null,"1967 / 1968","Trustee"]
[" ","Highbaugh","L. LeRoy Jr.",null,"1968 / 1969","Trustee"]
[" ","Highbaugh","L. LeRoy Jr.",null,"1969 / 1970","Trustee"]
[" ","Highbaugh","L. LeRoy Jr.",null,"1970 / 1971","Trustee"]
[" ","Highbaugh","L. LeRoy Jr.",null,"1971 / 1972","Trustee"]
[" ","Highbaugh","L. LeRoy Jr.",null,"1972 / 1973","Trustee"]
[" ","Highbaugh","L. LeRoy Jr.",null,"1974 / 1975","Trustee"]
[" ","Highbaugh","L. LeRoy Jr.",null,"1975 / 1976","Trustee"]
[" ","Highbaugh","L. LeRoy Jr.",null,"1978 / 1979","Trustee"]
[" ","Highbaugh","L. LeRoy Jr.",null,"1979 / 1980","Trustee"]
[" ","Highbaugh","L. LeRoy Jr.",null,"1980 / 1981","Trustee"]
[" ","Hobson","W.A.","Rev., D.D.","1902 / 1903","Trustee"]
[" ","Hobson","W.A.","Rev., D.D.","1903 / 1904","Trustee"]
[" ","Hobson","W.A.","Rev., D.D.","1904 / 1905","Trustee"]
[" ","Hobson","W.A.","Rev., D.D.","1905 / 1906","Trustee"]
[" ","Hobson","W.A.","Rev., D.D.","1906 / 1907","Trustee"]
[" ","Hobson","W.A.","Rev., D.D.","1907 / 1908","Trustee"]
[" ","Hobson","W.A.","Rev., D.D.","1908 / 1909","Trustee"]
[" ","Hobson","W.A.","Rev., D.D.","1909 / 1910","Trustee"]
[" ","Hobson","W.A.","Rev., D.D.","1910 / 1911","Trustee"]
[" ","Hobson","W.A.","Rev., D.D.","1911 / 1912","Trustee"]
[" ","Hobson","W.A.","Rev., D.D.","1912 / 1913","Trustee"]
[" ","Hobson","W.A.","Rev., D.D.","1913 / 1914","Trustee"]
[" ","Hobson","W.A.","Rev., D.D.","1914 / 1915","Trustee"]
[" ","Hobson","W.A.","Rev., D.D.","1915 / 1916","Trustee"]
[" ","Hobson","W.A.","Rev., D.D.","1916 / 1917","Trustee"]
[" ","Hobson","W.A.","Rev., D.D.","1917 / 1918","Trustee"]
[" ","Hobson","W.A.","Rev., D.D.","1918 / 1919","Trustee"]
[" ","Hobson","W.A.","Rev., D.D.","1919 / 1920","Trustee"]
[" ","Hobson","W.A.","Rev., D.D.","1920 / 1921","Trustee"]
[" ","Hobson","W.A.","Rev., D.D.","1921 / 1922","Trustee"]
[" ","Hobson","W.A.","Rev., D.D.","1922 / 1923","Trustee"]
[" ","Hobson","W.A.","Rev., D.D.","1923 / 1924","Trustee"]
[" ","Hobson","W.A.","Rev., D.D.","1924 / 1925","Trustee"]
[" ","Hobson","W.A.","Rev., D.D.","1925 / 1926","Trustee"]
[" ","Hobson","W.A.","Rev., D.D.","1926 / 1927","Trustee"]
[" ","Hobson","W.A.","Rev., D.D.","1927 / 1928","Trustee"]
[" ","Hobson","W.A.","Rev., D.D.","1928 / 1929","Trustee"]
[" ","Hobson","W.A.","Rev., D.D.","1929 / 1930","Trustee"]
[" ","Hobson","W.A.","Rev., D.D.","1930 / 1931","Trustee"]
[" ","Hobson","W.A.","Rev., D.D.","1931 / 1932","Trustee"]
[" ","Hobson","W.A.","Rev., D.D.","1932 / 1933","Trustee"]
[" ","Hobson","W.A.","Rev., D.D.","1933 / 1934","Trustee"]
[" ","Hobson","W.A.","Rev., D.D.","1934 / 1935","Trustee"]
[" ","Hobson","W.A.","Rev., D.D.","1935 / 1936","Trustee"]
[" ","Hobson","W.A.","Rev., D.D.","1937 / 1938","Trustee"]
[" ","Hobson","W.A.","Rev., D.D.","1938 / 1939","Trustee"]
[" ","Hobson","W.A.","Rev., D.D.","1939 / 1940","Trustee"]
[" ","Hobson","W.A.","Rev., D.D.","1940 / 1941","Trustee"]
[" ","Hobson","W.A.","Rev., D.D.","1941 / 1942","Trustee"]
[" ","Hobson","W.A.","Rev., D.D.","1942 / 1943","Trustee"]
[" ","Hobson","W.A.","Rev., D.D.","1943 / 1944","Trustee"]
[" ","Hobson","W.A.","Rev., D.D.","1944 / 1945","Trustee "]
[" ","Hobson","W.A.","Rev., D.D.","1945 / 1946","Trustee "]
[" ","Hobson","W.A.","Rev., D.D.","1946 / 1947","Trustee "]
[" ","Hobson","W.A.","Rev., D.D.","1947 / 1948","Trustee "]
[" ","Hobson","W.A.","Rev., D.D.","1948 / 1949","Trustee "]
[" ","Hobson","W.A.","Rev., D.D.","1949 / 1950","Trustee "]
[" ","Hobson","W.A.","Rev., D.D.","1950 / 1951","Trustee "]
[" ","Hobson","W.A.","Rev., D.D.","1952 / 1953","Trustee"]
[" ","Hobson","W.A.","Rev., D.D.","1953 / 1954","Trustee"]
[" ","Hobson","W.A.","Rev., D.D.","1954 / 1955","Trustee"]
[" ","Hobson","W.A.","Rev., D.D.","1955 / 1956","Trustee "]
[" ","Hobson","W.A.","Rev., D.D.","1956 / 1957","Trustee"]
[" ","Hobson","W.A.","Rev., D.D.","1957 / 1958","Trustee"]
[" ","Hobson","W.A.","Rev., D.D.","1958 / 1959","Trustee"]
[" ","Hobson","W.A.","Rev., D.D.","1960 / 1961","Trustee Emeritus"]
[" ","Holbrooke","Helen C.",null,"1950 / 1951","Trustee"]
[" ","Holbrooke","Helen C.",null,"1952 / 1953","Trustee"]
[" ","Holbrooke","Helen C.",null,"1953 / 1954","Trustee"]
[" ","Holbrooke","Helen C.",null,"1954 / 1955","Trustee"]
[" ","Holbrooke","Helen C.",null,"1955 / 1956","Trustee"]
[" ","Holbrooke","Helen C.",null,"1956 / 1957","Trustee"]
[" ","Holbrooke","Helen C.",null,"1957 / 1958","Trustee"]
[" ","Holbrooke","Helen C.",null,"1958 / 1959","Trustee"]
[" ","Hollis","Mark C.",null,"1979 / 1980","Trustee"]
[" ","Hollis","Mark C.",null,"1980 / 1981","Trustee"]
[" ","Hollis","Mark C.",null,"1981 / 1982","Trustee"]
[" ","Hollis","Mark C.",null,"1982 / 1983","Trustee"]
[" ","Hollis","Mark C.",null,"1983 / 1984","Trustee"]
[" ","Hollis","Mark C.",null,"1984 / 1985","Trustee"]
[" ","Hollis","Mark C.",null,"1985 / 1986","Trustee"]
[" ","Hollis","Mark C.",null,"1986 / 1987","Trustee"]
[" ","Hollis","Mark C.",null,"1987 / 1988","Trustee"]
[" ","Hollis","Mark C.",null,"1988 / 1989","Trustee"]
[" ","Hollis","Mark C.",null,"1989 / 1990","Trustee"]
[" ","Hollis","Mark C.",null,"1990 / 1991","Trustee"]
[" ","Hollis","Mark C.",null,"1991 / 1992","Trustee"]
[" ","Hollis","Mark C.",null,"1993 / 1994","Trustee"]
[" ","Hollis","Mark C.",null,"1994 / 1995","Trustee"]
[" ","Hollis","Mark C.",null,"1995 / 1996","Trustee"]
[" ","Hollis","Mark C.",null,"1996 / 1997","Trustee"]
[" ","Hollis","Mark C.",null,"1997 / 1998","Trustee"]
[" ","Hollis","Mark C.",null,"1999 / 2000","Trustee"]
[" ","Hollis","Mark C.",null,"2000 / 2001","Trustee"]
[" ","Hollis","Mark C.",null,"2001 / 2002","Trustee"]
[" ","Hollis","Mark C.",null,"2002 / 2003","Trustee"]
[" ","Hollis","Mark C.",null,"2003 / 2004","Trustee"]
[" ","Hollis","Mark C.",null,"2004 / 2005","Trustee"]
[" ","Hollis","Mark C.",null,"2005 / 2006","Trustee"]
[" ","Hollis","Mark C.",null,"2006 / 2007","Trustee"]
[" ","Hollis","Mark C.",null,"2007 / 2008","Trustee"]
[" ","Hollis","Mark C.",null,"2008 / 2009","Trustee"]
[" ","Hollis","Mark C.",null,"2009 / 2010","Trustee"]
[" ","Hollis","Mark C.",null,"2010 / 2011","Trustee Emeriti"]
[" ","Hollis","Mark C.",null,"2011 / 2012","Trustee Emeriti"]
[" ","Hollis","Mark C.",null,"2012 / 2013","Trustee Emeriti"]
[" ","Hollis","R. Dean",null,"2000 / 2001","Trustee"]
[" ","Hollis","R. Dean",null,"2001 / 2002","Trustee"]
[" ","Hollis","R. Dean",null,"2002 / 2003","Trustee"]
[" ","Hollis","R. Dean",null,"2003 / 2004","Trustee"]
[" ","Hollis","R. Dean",null,"2004 / 2005","Trustee"]
[" ","Hollis","R. Dean",null,"2005 / 2006","Trustee"]
[" ","Hollis","R. Dean",null,"2006 / 2007","Trustee"]
[" ","Hollis","R. Dean",null,"2007 / 2008","Trustee"]
[" ","Hollis","R. Dean",null,"2008 / 2009","Trustee"]
[" ","Hollis","R. Dean",null,"2009 / 2010","Trustee"]
[" ","Hollis","R. Dean",null,"2010 / 2011","Trustee"]
[" ","Hollis","R. Dean",null,"2011 / 2012","Trustee"]
[" ","Hollis","R. Dean",null,"2013 / 2014","Trustee"]
[" ","Holmes","Robert Shailor","Litt.D.","1930 / 1931","Trustee"]
[" ","Holmes","Robert Shailor","Litt.D.","1931 / 1932","Trustee"]
[" ","Holmes","Robert Shailor","Litt.D.","1932 / 1933","Trustee"]
[" ","Holmes","Robert Shailor","Litt.D.","1933 / 1934","Trustee"]
[" ","Holmes","Robert Shailor","Litt.D.","1934 / 1935","Trustee"]
[" ","Holmes","Robert Shailor","Litt.D.","1935 / 1936","Trustee"]
[" ","Holmes","Robert Shailor","Litt.D.","1937 / 1938","Trustee"]
[" ","Holmes","Robert Shailor","Litt.D.","1938 / 1939","Trustee"]
[" ","Holmes","Robert Shailor","Litt.D.","1939 / 1940","Trustee (deceased)"]
[" ","Hon","E.L.",null,"1905 / 1906","Trustee"]
[" ","Hon","E.L.",null,"1906 / 1907","Trustee"]
[" ","Hon","E.L.",null,"1907 / 1908","Trustee"]
[" ","Hon","E.L.",null,"1908 / 1909","Trustee & Committee on Administrative"]
[" ","Hon","E.L.",null,"1909 / 1910","Trustee & Committee on Administrative"]
[" ","Hon","E.L.",null,"1910 / 1911","Trustee & Committee on Administrative"]
[" ","Hon","E.L.",null,"1911 / 1912","Trustee & Committee on Administrative"]
[" ","Hon","E.L.",null,"1912 / 1913","Trustee & Committee on Administrative"]
[" ","Hon","E.L.",null,"1913 / 1914","Trustee & Committee on Administrative"]
[" ","Hon","E.L.",null,"1914 / 1915","Trustee & Committee on Administrative"]
[" ","Hon","E.L.",null,"1915 / 1916","Trustee & Committee on Administrative"]
[" ","Hon","E.L.",null,"1916 / 1917","Trustee & Committee on Administrative"]
[" ","Hon","E.L.",null,"1917 / 1918","Trustee & Committee on Administrative"]
[" ","Hon","E.L.",null,"1918 / 1919","Trustee & Committee on Administrative"]
[" ","Hon","E.L.",null,"1919 / 1920","Trustee & Committee on Administrative"]
[" ","Hon","E.L.",null,"1920 / 1921","Trustee & Committee on Administrative"]
[" ","Hon","E.L.",null,"1921 / 1922","Trustee & Committee on Administrative"]
[" ","Hon","E.L.",null,"1922 / 1923","Trustee & Committee on Administrative"]
[" ","Hon","E.L.",null,"1923 / 1924","Trustee & Committee on Administrative"]
[" ","Hon","E.L.",null,"1924 / 1925","Trustee & Committee on Administrative"]
[" ","Hon","E.L.",null,"1925 / 1926","Trustee & Committee on Administrative"]
[" ","Hon","E.L.",null,"1926 / 1927","Trustee & Committee on Administrative"]
[" ","Hon","E.L.",null,"1927 / 1928","Trustee & Committee on Administrative"]
[" ","Hon","E.L.",null,"1928 / 1929","Trustee & Committee on Administrative"]
[" ","Hon","E.L.",null,"1929 / 1930","Trustee & Committee on Administrative"]
[" ","Hon","E.L.",null,"1930 / 1931","Trustee & Committee on Administrative"]
[" ","Hon","E.L.",null,"1931 / 1932","Trustee & Committee on Administrative"]
[" ","Hon","E.L.",null,"1932 / 1933","Trustee & Committee on Administrative"]
[" ","Hon","E.L.",null,"1933 / 1934","Trustee & Committee on Administrative"]
[" ","Hon","E.L.",null,"1934 / 1935","Trustee & Committee on Administrative"]
[" ","Hon","E.L.",null,"1935 / 1936","Trustee Vice-President & Committee on Administrative"]
[" ","Hon","E.L.",null,"1937 / 1938","Trustee Vice-President & Committee on Administrative"]
[" ","Hon","E.L.",null,"1938 / 1939","Trustee Vice-President & Committee on Administrative"]
[" ","Hon","E.L.",null,"1939 / 1940","Trustee Vice-President & Committee on Administrative"]
[" ","Hon","E.L.",null,"1940 / 1941","Trustee Vice-President & Committee on Administrative"]
[" ","Hon","E.L.",null,"1941 / 1942","Trustee Vice-President & Committee on Administrative"]
[" ","Hon","E.L.",null,"1942 / 1943","Trustee Vice-President & Committee on Administrative"]
[" ","Hon","E.L.",null,"1943 / 1944","Trustee Vice-President & Committee on Administrative"]
[" ","Hon","E.L.",null,"1944 / 1945","Trustee Vice-President & Committee on Administrative"]
[" ","Hon","E.L.",null,"1945 / 1946","Trustee Vice-President & Committee on Administrative"]
[" ","Hon","E.L.",null,"1946 / 1947","Trustee Vice-President & Committee on Administrative"]
[" ","Hon","E.L.",null,"1947 / 1948","Trustee Vice-President "]
[" ","Horton","Thomas R.",null,"1978 / 1979","Trustee"]
[" ","Horton","Thomas R.",null,"1979 / 1980","Trustee"]
[" ","Horton","Thomas R.",null,"1997 / 1998","Trustee Emeritus"]
[" ","Horton","Thomas R.",null,"1999 / 2000","Trustee Emeritus"]
[" ","Horton","Thomas R.",null,"2000 / 2001","Trustee Emeritus"]
[" ","Horton","Thomas R.",null,"2001 / 2002","Trustee Emeritus"]
[" ","Horton","Thomas R.",null,"2002 / 2003","Trustee Emeritus"]
[" ","Hough","S.V.",null,"1905 / 1906","Trustee"]
[" ","Hough","S.V.",null,"1906 / 1907","Trustee & Committee on Administrative"]
[" ","Hough","S.V.",null,"1907 / 1908","Trustee & Committee on Administrative"]
[" ","Hough","S.V.",null,"1908 / 1909","Trustee & Committee on Administrative"]
[" ","Hough","S.V.",null,"1909 / 1910","Trustee & Committee on Administrative"]
[" ","Hough","S.V.",null,"1910 / 1911","Trustee & Committee on Administrative"]
[" ","Hough","S.V.",null,"1911 / 1912","Trustee & Committee on Administrative"]
[" ","Hough","S.V.",null,"1912 / 1913","Trustee & Committee on Administrative"]
[" ","Hough","S.V.",null,"1913 / 1914","Trustee"]
[" ","Hough","S.V.",null,"1914 / 1915","Trustee"]
[" ","Hough","S.V.",null,"1915 / 1916","Trustee"]
[" ","Hough","S.V.",null,"1916 / 1917","Trustee"]
[" ","Hough","S.V.",null,"1917 / 1918","Trustee"]
[" ","Hough","S.V.",null,"1918 / 1919","Trustee"]
[" ","Hough","S.V.",null,"1919 / 1920","Trustee"]
[" ","Hough","S.V.",null,"1920 / 1921","Trustee"]
[" ","Hough","S.V.",null,"1921 / 1922","Trustee"]
[" ","Hough","S.V.",null,"1922 / 1923","Trustee"]
[" ","Hough","S.V.",null,"1923 / 1924","Trustee"]
[" ","Hough","S.V.",null,"1924 / 1925","Trustee"]
[" ","Hough","S.V.",null,"1925 / 1926","Trustee"]
[" ","Hough","S.V.",null,"1926 / 1927","Trustee"]
[" ","Hough","S.V.",null,"1927 / 1928","Trustee"]
[" ","Hough","S.V.",null,"1928 / 1929","Trustee"]
[" ","Hough","S.V.",null,"1929 / 1930","Trustee"]
[" ","Hough","S.V.",null,"1930 / 1931","Trustee"]
[" ","Hough","S.V.",null,"1931 / 1932","Trustee"]
[" ","Hough","S.V.",null,"1932 / 1933","Trustee"]
[" ","Hough","S.V.",null,"1933 / 1934","Trustee"]
[" ","Hough","S.V.",null,"1934 / 1935","Trustee"]
[" ","Hough","S.V.",null,"1935 / 1936","Trustee"]
[" ","Hough","S.V.",null,"1937 / 1938","Trustee"]
[" ","Hough","S.V.",null,"1938 / 1939","Trustee"]
[" ","Hough","S.V.",null,"1939 / 1940","Trustee"]
[" ","Hough","S.V.",null,"1940 / 1941","Trustee"]
[" ","Hough","S.V.",null,"1941 / 1942","Trustee"]
[" ","Hough","S.V.",null,"1942 / 1943","Trustee"]
[" ","Hough","S.V.",null,"1943 / 1944","Trustee"]
[" ","Hough","S.V.",null,"1944 / 1945","Trustee"]
[" ","Hough","S.V.",null,"1945 / 1946","Trustee"]
[" ","Hough","S.V.",null,"1946 / 1947","Trustee"]
[" ","Hough","S.V.",null,"1947 / 1948","Trustee"]
[" ","Hough","S.V.",null,"1948 / 1949","Trustee"]
[" ","Hough","S.V.",null,"1949 / 1950","Trustee"]
[" ","Hulley","Elkanah B.","D. Eng.","1933 / 1934","Trustee"]
[" ","Hulley","Elkanah B.","D. Eng.","1934 / 1935","Trustee"]
[" ","Hulley","Elkanah B.","D. Eng.","1935 / 1936","Trustee"]
[" ","Hulley","Elkanah B.","D. Eng.","1937 / 1938","Trustee"]
[" ","Hulley","Elkanah B.","D. Eng.","1938 / 1939","Trustee"]
[" ","Hulley","Elkanah B.","D. Eng.","1939 / 1940","Trustee"]
[" ","Hulley","Elkanah B.","D. Eng.","1940 / 1941","Trustee"]
[" ","Hulley","Elkanah B.","D. Eng.","1941 / 1942","Trustee"]
[" ","Hulley","Elkanah B.","D. Eng.","1942 / 1943","Trustee"]
[" ","Hulley","Elkanah B.","D. Eng.","1943 / 1944","Trustee"]
[" ","Hulley","Elkanah B.","D. Eng.","1944 / 1945","Trustee"]
[" ","Hulley","Elkanah B.","D. Eng.","1945 / 1946","Trustee"]
[" ","Hulley","Elkanah B.","D. Eng.","1946 / 1947","Trustee"]
[" ","Hulley","Elkanah B.","D. Eng.","1947 / 1948","Trustee"]
[" ","Hulley","Elkanah B.","D. Eng.","1948 / 1949","Trustee"]
[" ","Hulley","Elkanah B.","D. Eng.","1949 / 1950","Trustee"]
[" ","Hulley","Elkanah B.","D. Eng.","1950 / 1951","Trustee"]
[" ","Hulley","Elkanah B.","D. Eng.","1952 / 1953","Trustee"]
[" ","Hulley","Elkanah B.","D. Eng.","1953 / 1954","Trustee"]
[" ","Hulley","Elkanah B.","D. Eng.","1954 / 1955","Trustee"]
[" ","Hulley","Elkanah B.","D. Eng.","1955 / 1956","Trustee"]
[" ","Hulley","Elkanah B.","D. Eng.","1956 / 1957","Trustee"]
[" ","Hulley","Lincoln","Rev., Ph.D.","1904 / 1905","Trustee Treasurer & Committee on Administrative"]
[" ","Hulley","Lincoln","Rev., Ph.D.","1905 / 1906","Trustee Treasurer & Committee on Administrative"]
[" ","Hulley","Lincoln","Rev., Ph.D.","1906 / 1907","Trustee Treasurer & Committee on Administrative"]
[" ","Hulley","Lincoln","Rev., Ph.D.","1907 / 1908","Trustee Treasurer & Committee on Administrative"]
[" ","Hulley","Lincoln","Rev., Ph.D.","1908 / 1909","Trustee Treasurer & Committee on Administrative"]
[" ","Hulley","Lincoln","Rev., Ph.D.","1909 / 1910","Trustee Treasurer & Committee on Administrative"]
[" ","Hulley","Lincoln","Rev., Ph.D.","1910 / 1911","Trustee Treasurer & Committee on Administrative"]
[" ","Hulley","Lincoln","Rev., Ph.D.","1911 / 1912","Trustee Treasurer & Committee on Administrative"]
[" ","Hulley","Lincoln","Rev., Ph.D.","1912 / 1913","Trustee Treasurer & Committee on Administrative"]
[" ","Hulley","Lincoln","Rev., Ph.D.","1913 / 1914","Trustee Treasurer & Committee on Administrative"]
[" ","Hulley","Lincoln","Rev., Ph.D.","1914 / 1915","Trustee Treasurer & Committee on Administrative"]
[" ","Hulley","Lincoln","Rev., Ph.D.","1915 / 1916","Trustee Treasurer & Committee on Administrative"]
[" ","Hulley","Lincoln","Rev., Ph.D.","1916 / 1917","Trustee Treasurer & Committee on Administrative"]
[" ","Hulley","Lincoln","Rev., Ph.D.","1917 / 1918","Trustee Treasurer & Committee on Administrative"]
[" ","Hulley","Lincoln","Rev., Ph.D.","1918 / 1919","Trustee Treasurer & Committee on Administrative"]
[" ","Hulley","Lincoln","Rev., Ph.D.","1919 / 1920","Trustee Treasurer & Committee on Administrative"]
[" ","Hulley","Lincoln","Rev., Ph.D.","1920 / 1921","Trustee Treasurer & Committee on Administrative"]
[" ","Hulley","Lincoln","Rev., Ph.D.","1921 / 1922","Trustee Treasurer & Committee on Administrative"]
[" ","Hulley","Lincoln","Rev., Ph.D.","1922 / 1923","Trustee Treasurer & Committee on Administrative"]
[" ","Hulley","Lincoln","Rev., Ph.D.","1923 / 1924","Trustee Treasurer & Committee on Administrative"]
[" ","Hulley","Lincoln","Rev., Ph.D.","1924 / 1925","Trustee Treasurer & Committee on Administrative"]
[" ","Hulley","Lincoln","Rev., Ph.D.","1925 / 1926","Trustee Treasurer & Committee on Administrative"]
[" ","Hulley","Lincoln","Rev., Ph.D.","1926 / 1927","Trustee Treasurer & Committee on Administrative"]
[" ","Hulley","Lincoln","Rev., Ph.D.","1927 / 1928","Trustee Treasurer & Committee on Administrative"]
[" ","Hulley","Lincoln","Rev., Ph.D.","1928 / 1929","Trustee Treasurer & Committee on Administrative"]
[" ","Hulley","Lincoln","Rev., Ph.D.","1929 / 1930","Trustee Treasurer & Committee on Administrative"]
[" ","Hulley","Lincoln","Rev., Ph.D.","1930 / 1931","Trustee Treasurer & Committee on Administrative"]
[" ","Hulley","Lincoln","Rev., Ph.D.","1931 / 1932","Trustee Treasurer & Committee on Administrative"]
[" ","Hulley","Lincoln","Rev., Ph.D.","1932 / 1933","Trustee Treasurer & Committee on Administrative"]
[" ","Hulley","Lincoln","Rev., Ph.D.","1933 / 1934","Trustee Treasurer & Committee on Administrative (deceased)"]
[" ","Huntley","Byron E.",null,"1896 / 1897","Trustee"]
[" ","Huntley","Byron E.",null,"1897 / 1898","Trustee"]
[" ","Huntley","Byron E.",null,"1898 / 1899","Trustee"]
[" ","Huntley","Byron E.",null,"1899 / 1900","Trustee"]
[" ","Huntley","Byron E.",null,"1900 / 1901","Trustee"]
[" ","Huntley","Byron E.",null,"1901 / 1902","Trustee"]
[" ","Huntley","Byron E.",null,"1902 / 1903","Trustee"]
[" ","Huntley","Byron E.",null,"1903 / 1904","Trustee"]
[" ","Huntley","Byron E.",null,"1904 / 1905","Trustee"]
[" ","Huntley","Byron E.",null,"1905 / 1906","Trustee"]
[" ","Icard","Thomas F.",null,"1982 / 1983","Trustee"]
[" ","Icard","Thomas F.",null,"1983 / 1984","Trustee"]
[" ","Icard","Thomas F.",null,"1984 / 1985","Trustee"]
[" ","Icard","Thomas F.",null,"1985 / 1986","Trustee"]
[" ","Jarrard Jr.","Wendell",null,"1979 / 1980","Trustee Treasurer"]
[" ","Jarrard Jr.","Wendell",null,"1980 / 1981","Trustee Treasurer"]
[" ","Jarrard Jr.","Wendell",null,"1981 / 1982","Trustee Treasurer Secretary"]
[" ","Jarrard Jr.","Wendell",null,"1982 / 1983","Trustee Treasurer"]
[" ","Jarrard Jr.","Wendell",null,"1983 / 1984","Trustee Treasurer"]
[" ","Jarrard Jr.","Wendell",null,"1984 / 1985","Trustee"]
[" ","Jarrard Jr.","Wendell",null,"1985 / 1986","Trustee"]
[" ","Jarrard Jr.","Wendell",null,"1986 / 1987","Trustee"]
[" ","Jarrard Jr.","Wendell",null,"1987 / 1988","Trustee"]
[" ","Jarrard Jr.","Wendell",null,"1988 / 1989","Trustee Treasurer"]
[" ","Jarrard Jr.","Wendell",null,"1989 / 1990","Trustee Treasurer"]
[" ","Jarrard Jr.","Wendell",null,"1990 / 1991","Trustee Treasurer"]
[" ","Jarrard Jr.","Wendell",null,"1991 / 1992","Trustee Treasurer"]
[" ","Jarrard Sr.","Wendell",null,"1967 / 1968","Trustee"]
[" ","Jarrard Sr.","Wendell",null,"1968 / 1969","Trustee"]
[" ","Jarrard Sr.","Wendell",null,"1969 / 1970","Trustee"]
[" ","Jarrard Sr.","Wendell",null,"1970 / 1971","Trustee Vice Chairman"]
[" ","Jarrard Sr.","Wendell",null,"1971 / 1972","Trustee Vice Chairman"]
[" ","Jarrard Sr.","Wendell",null,"1972 / 1973","Trustee Vice Chairman"]
[" ","Jarrard Sr.","Wendell",null,"1974 / 1975","Trustee Vice Chairman"]
[" ","Jarrard Sr.","Wendell",null,"1975 / 1976","Trustee"]
[" ","Jarrard Sr.","Wendell",null,"1978 / 1979","Trustee"]
[" ","Jarrard Sr.","Wendell",null,"1984 / 1985","Trustee Treasurer"]
[" ","Jarrard Sr.","Wendell",null,"1985 / 1986","Trustee Treasurer"]
[" ","Jenkins","Tony",null,"2012 / 2013","Trustee"]
[" ","Jenkins","Tony",null,"2013 / 2014","Trustee"]
[" ","Jennings","S. Bryan",null,"1920 / 1921","Trustee"]
[" ","Jennings","S. Bryan",null,"1921 / 1922","Trustee"]
[" ","Jennings","S. Bryan",null,"1922 / 1923","Trustee"]
[" ","Jennings","S. Bryan",null,"1923 / 1924","Trustee"]
[" ","Jennings","S. Bryan",null,"1924 / 1925","Trustee"]
[" ","Jennings","S. Bryan",null,"1925 / 1926","Trustee"]
[" ","Jennings","S. Bryan",null,"1926 / 1927","Trustee"]
[" ","Jennings","S. Bryan",null,"1927 / 1928","Trustee"]
[" ","Jennings","S. Bryan",null,"1928 / 1929","Trustee"]
[" ","Jennings","S. Bryan",null,"1929 / 1930","Trustee"]
[" ","Jennings","S. Bryan",null,"1930 / 1931","Trustee"]
[" ","Jennings","S. Bryan",null,"1931 / 1932","Trustee"]
[" ","Jennings","S. Bryan",null,"1932 / 1933","Trustee"]
[" ","Jennings","S. Bryan",null,"1933 / 1934","Trustee & Committee on Administrative"]
[" ","Jennings","S. Bryan",null,"1934 / 1935","Trustee & Committee on Administrative"]
[" ","Jennings","S. Bryan",null,"1935 / 1936","Trustee"]
[" ","Jennings","S. Bryan",null,"1937 / 1938","Trustee"]
[" ","Jennings","S. Bryan",null,"1938 / 1939","Trustee"]
[" ","Jennings","S. Bryan",null,"1939 / 1940","Trustee"]
[" ","Jennings","S. Bryan",null,"1940 / 1941","Trustee"]
[" ","Jennings","S. Bryan",null,"1941 / 1942","Trustee"]
[" ","Jennings","S. Bryan",null,"1942 / 1943","Trustee"]
[" ","Jennings","S. Bryan",null,"1943 / 1944","Trustee"]
[" ","Jennings","S. Bryan",null,"1944 / 1945","Trustee"]
[" ","Jennings","S. Bryan",null,"1945 / 1946","Trustee"]
[" ","Jennings","S. Bryan",null,"1946 / 1947","Trustee & Committee on Administrative"]
[" ","Jennings","S. Bryan",null,"1947 / 1948","Trustee & Committee on Administrative"]
[" ","Jennings","S. Bryan",null,"1948 / 1949","Trustee & Administrative Committee"]
[" ","Jennings","S. Bryan",null,"1949 / 1950","Trustee & Administrative Committee"]
[" ","Jennings","S. Bryan",null,"1950 / 1951","Trustee"]
[" ","Jennings","S. Bryan",null,"1952 / 1953","Trustee"]
[" ","Jennings","S. Bryan",null,"1953 / 1954","Trustee"]
[" ","Jennings","S. Bryan",null,"1954 / 1955","Trustee"]
[" ","Jennings","S. Bryan",null,"1955 / 1956","Trustee & Committee on Administrative"]
[" ","Jennings","S. Bryan",null,"1956 / 1957","Trustee & Committee on Administrative"]
[" ","Jennings","S. Bryan",null,"1957 / 1958","Trustee"]
[" ","Jennings","S. Bryan",null,"1958 / 1959","Trustee"]
[" ","Jennings","William S.","Ex-Gov","1900 / 1901","Trustee"]
[" ","Jennings","William S.","Ex-Gov","1901 / 1902","Trustee"]
[" ","Jennings","William S.","Ex-Gov","1902 / 1903","Trustee"]
[" ","Jennings","William S.","Ex-Gov","1903 / 1904","Trustee"]
[" ","Jennings","William S.","Ex-Gov","1904 / 1905","Trustee"]
[" ","Jennings","William S.","Ex-Gov","1905 / 1906","Trustee"]
[" ","Jennings","William S.","Ex-Gov","1906 / 1907","Trustee"]
[" ","Jennings","William S.","Ex-Gov","1907 / 1908","Trustee"]
[" ","Jennings","William S.","Ex-Gov","1908 / 1909","Trustee"]
[" ","Jennings","William S.","Ex-Gov","1909 / 1910","Trustee"]
[" ","Jennings","William S.","Ex-Gov","1910 / 1911","Trustee"]
[" ","Jennings","William S.","Ex-Gov","1911 / 1912","Trustee"]
[" ","Jennings","William S.","Ex-Gov","1912 / 1913","Trustee"]
[" ","Jennings","William S.","Ex-Gov","1913 / 1914","Trustee"]
[" ","Jennings","William S.","Ex-Gov","1914 / 1915","Trustee"]
[" ","Jennings","William S.","Ex-Gov","1915 / 1916","Trustee & Committee on Administrative"]
[" ","Jennings","William S.","Ex-Gov","1916 / 1917","Trustee & Committee on Administrative"]
[" ","Jennings","William S.","Ex-Gov","1917 / 1918","Trustee & Committee on Administrative"]
[" ","Jennings","William S.","Ex-Gov","1918 / 1919","Trustee & Committee on Administrative"]
[" ","Jennings","William S.","Ex-Gov","1919 / 1920","Trustee & Committee on Administrative (deceased)"]
[" ","Jernegan","P.F.","Rev.","1895 / 1896","Trustee"]
[" ","Jinks","Jill",null,"2001 / 2002","Trustee Ex-Officio; Chair, Business Board"]
[" ","Jinks","Jill",null,"2002 / 2003","Trustee"]
[" ","Jinks","Jill",null,"2003 / 2004","Trustee"]
[" ","Jinks","Jill",null,"2004 / 2005","Trustee"]
[" ","Jinks","Jill",null,"2005 / 2006","Trustee"]
[" ","Jinks","Jill",null,"2006 / 2007","Trustee"]
[" ","Jinks","Jill",null,"2007 / 2008","Trustee"]
[" ","Jinks","Jill",null,"2008 / 2009","Trustee"]
[" ","Jinks","Jill",null,"2009 / 2010","Trustee"]
[" ","Jinks","Jill",null,"2010 / 2011","Trustee"]
[" ","Jinks","Jill",null,"2011 / 2012","Trustee"]
[" ","Jinks","Jill",null,"2012 / 2013","Trustee"]
[" ","Jinks","Jill",null,"2013 / 2014","Trustee"]
[" ","Johnson","Betty Drees",null,"2011 / 2012","Trustee"]
[" ","Johnson","Betty Drees",null,"2012 / 2013","Trustee"]
[" ","Johnson","Betty Drees",null,"2013 / 2014","Trustee"]
[" ","Johnson","C. Paul",null,"2006 / 2007","Trustee"]
[" ","Johnson","C. Paul",null,"2007 / 2008","Trustee"]
[" ","Johnson","C. Paul",null,"2008 / 2009","Trustee"]
[" ","Johnson","C. Paul",null,"2009 / 2010","Trustee"]
[" ","Johnson","C. Paul",null,"2010 / 2011","Trustee"]
[" ","Jollay","Geoffrey",null,"2009 / 2010","Trustee"]
[" ","Jollay","Geoffrey",null,"2010 / 2011","Trustee"]
[" ","Jollay","Geoffrey",null,"2011 / 2012","Trustee"]
[" ","Jollay","Geoffrey",null,"2012 / 2013","Trustee"]
[" ","Jollay","Geoffrey",null,"2013 / 2014","Trustee"]
[" ","Kantor","Hal",null,"2005 / 2006","Trustee"]
[" ","Kantor","Hal",null,"2006 / 2007","Trustee"]
[" ","Kennedy","Lesa France",null,"1995 / 1996","Trustee"]
[" ","Kennedy","Lesa France",null,"1996 / 1997","Trustee"]
[" ","Kennedy","Lesa France",null,"1997 / 1998","Trustee Ex Officio; on Leave"]
[" ","Kennedy","Lesa France",null,"1999 / 2000","Trustee Ex-Officio; on leave"]
[" ","Kennedy","Lesa France",null,"2000 / 2001","Trustee Ex-Officio; on leave"]
[" ","Kennedy","Lesa France",null,"2001 / 2002","Trustee Ex-Officio; on leave"]
[" ","Kent","Robert A.",null,"1984 / 1985","Trustee"]
[" ","Kent","Robert A.",null,"1985 / 1986","Trustee"]
[" ","Kent","Robert A.",null,"1986 / 1987","Trustee"]
[" ","King","H.M.","Rev.","1885 / 1886","Trustee"]
[" ","King","H.M.","Rev.","1887 / 1888","Trustee"]
[" ","King","H.M.","Rev.","1888 / 1889","Trustee"]
[" ","King","H.M.","Rev.","1889 / 1890","Trustee"]
[" ","King","H.M.","Rev.","1891 / 1892","Trustee"]
[" ","King","H.M.","Rev.","1892 / 1893","Trustee"]
[" ","King","H.M.","Rev.","1894 / 1895","Trustee"]
[" ","King","H.M.","Rev.","1895 / 1896","Trustee"]
[" ","King","H.M.","Rev.","1896 / 1897","Trustee"]
[" ","King","H.M.","Rev.","1897 / 1898","Trustee"]
[" ","King","H.M.","Rev.","1898 / 1899","Trustee"]
[" ","King","Judge Z.",null,"1885 / 1886","Trustee"]
[" ","King","Judge Z.",null,"1887 / 1888","Trustee"]
[" ","King","Judge Z.",null,"1888 / 1889","Trustee"]
[" ","King","Judge Z.",null,"1889 / 1890","Trustee"]
[" ","King","Judge Z.",null,"1891 / 1892","Trustee"]
[" ","King","Judge Z.",null,"1892 / 1893","Trustee"]
[" ","King","Judge Z.",null,"1894 / 1895","Trustee"]
[" ","King","Judge Z.",null,"1895 / 1896","Trustee"]
[" ","King","Judge Z.",null,"1896 / 1897","Trustee"]
[" ","King","Judge Z.",null,"1897 / 1898","Trustee"]
[" ","King","Judge Z.",null,"1898 / 1899","Trustee"]
[" ","King","Judge Z.",null,"1899 / 1900","Trustee"]
[" ","King","Judge Z.",null,"1900 / 1901","Trustee (deceased)"]
[" ","Kirchman","Kenneth Paul",null,"1975 / 1976","Trustee"]
[" ","Kirchman","Kenneth Paul",null,"1978 / 1979","Trustee"]
[" ","Kirchman","Kenneth Paul",null,"1979 / 1980","Trustee"]
[" ","Kirchman","Kenneth Paul",null,"1980 / 1981","Trustee"]
[" ","Kirchman","Kenneth Paul",null,"1981 / 1982","Trustee"]
[" ","Kirchman","Kenneth Paul",null,"1982 / 1983","Trustee"]
[" ","Kirchman","Kenneth Paul",null,"1983 / 1984","Trustee"]
[" ","Kirchman","Kenneth Paul",null,"1984 / 1985","Trustee"]
[" ","Kirchman","Kenneth Paul",null,"1989 / 1990","Trustee"]
[" ","Kirchman","Kenneth Paul",null,"1990 / 1991","Trustee"]
[" ","Kirchman","Kenneth Paul",null,"1991 / 1992","Trustee"]
[" ","Kirchman","Kenneth Paul",null,"1993 / 1994","Trustee"]
[" ","Kirchman","Kenneth Paul",null,"1994 / 1995","Trustee"]
[" ","Kirchman","Kenneth Paul",null,"1995 / 1996","Trustee"]
[" ","Kirchman","Kenneth Paul",null,"1996 / 1997","Trustee"]
[" ","Kirchman","Kenneth Paul",null,"1997 / 1998","Trustee"]
[" ","Knight","Malcolm B.",null,"1965 / 1966","Trustee"]
[" ","Knight","Malcolm B.",null,"1966 / 1967","Trustee"]
[" ","Knight","Malcolm B.",null,"1967 / 1968","Trustee"]
[" ","Knight","Malcolm B.",null,"1968 / 1969","Trustee"]
[" ","Knight","Malcolm B.",null,"1969 / 1970","Trustee"]
[" ","Knight","Malcolm B.",null,"1970 / 1971","Trustee"]
[" ","Knight","Malcolm B.",null,"1971 / 1972","Trustee"]
[" ","Knight","Malcolm B.",null,"1972 / 1973","Trustee"]
[" ","Knight","Malcolm B.",null,"1974 / 1975","Trustee"]
[" ","Kost","A.","D.D., LL.D.","1885 / 1886","Trustee"]
[" ","Kruhm","Gerald D.",null,"2011 / 2012","Ex-Officio Trustee"]
[" ","Kruhm","Gerald D.",null,"2012 / 2013","Trustee Ex-Officio"]
[" ","Kunze","Diana L.",null,"2004 / 2005","Trustee Ex-Officio; Chair, Arts & Sciences Board"]
[" ","Kunze","Diana L.",null,"2005 / 2006","Trustee Ex-Officio; Chair, Arts & Sciences Board"]
[" ","Kunze","Diana L.",null,"2006 / 2007","Trustee Ex-Officio; Chair, Arts & Sciences Board"]
[" ","Kunze","Diana L.",null,"2007 / 2008","Trustee Ex-Officio; Chair, Arts & Sciences Board"]
[" ","Kunze","Diana L.",null,"2008 / 2009","Trustee Ex-Officio; Chair, Arts & Sciences Board"]
[" ","Landers Jr.","Joseph W.",null,"1995 / 1996","Trustee Chair, Arts & Sciences Board"]
[" ","Landers Jr.","Joseph W.",null,"1996 / 1997","Trustee"]
[" ","Landers Jr.","Joseph W.",null,"1997 / 1998","Trustee"]
[" ","Landers Jr.","Joseph W.",null,"1999 / 2000","Trustee"]
[" ","Landers Jr.","Joseph W.",null,"2000 / 2001","Trustee"]
[" ","Landers Jr.","Joseph W.",null,"2001 / 2002","Trustee"]
[" ","Landers Jr.","Joseph W.",null,"2002 / 2003","Trustee"]
[" ","Landers Jr.","Joseph W.",null,"2003 / 2004","Trustee"]
[" ","Landers Jr.","Joseph W.",null,"2004 / 2005","Trustee"]
[" ","Landers Jr.","Joseph W.",null,"2005 / 2006","Trustee"]
[" ","Landers Jr.","Joseph W.",null,"2006 / 2007","Trustee"]
[" ","Landers Jr.","Joseph W.",null,"2007 / 2008","Trustee"]
[" ","Landers Jr.","Joseph W.",null,"2008 / 2009","Trustee"]
[" ","Landers Jr.","Joseph W.",null,"2009 / 2010","Trustee"]
[" ","Landers Jr.","Joseph W.",null,"2010 / 2011","Trustee"]
[" ","Landers Jr.","Joseph W.",null,"2011 / 2012","Trustee"]
[" ","Landers Jr.","Joseph W.",null,"2012 / 2013","Trustee"]
[" ","Landers Jr.","Joseph W.",null,"2013 / 2014","Trustee"]
[" ","Lane","L. Patrick",null,"2005 / 2006","Trustee Ex-Officio; Chair, School of Music Board"]
[" ","Lane","L. Patrick",null,"2006 / 2007","Trustee Ex-Officio; Chair, School of Music Board"]
[" ","Lane","L. Patrick",null,"2007 / 2008","Trustee"]
[" ","Lane","L. Patrick",null,"2008 / 2009","Trustee"]
[" ","Lane","L. Patrick",null,"2009 / 2010","Trustee"]
[" ","Lane","L. Patrick",null,"2010 / 2011","Trustee"]
[" ","Lane","L. Patrick",null,"2011 / 2012","Trustee"]
[" ","Lane","L. Patrick",null,"2012 / 2013","Trustee"]
[" ","Lane","L. Patrick",null,"2013 / 2014","Trustee"]
[" ","Latour","Janelle Bozard",null,"1995 / 1996","Trustee, Chair, Alumni Association"]
[" ","Latour","Janelle Bozard",null,"1996 / 1997","Trustee, Chair, Alumni Association"]
[" ","Law ","J.B.",null,"1901 / 1902","Trustee & Executive Committee"]
[" ","Law ","J.B.",null,"1902 / 1903","Trustee"]
[" ","Law ","J.B.",null,"1903 / 1904","Trustee"]
[" ","Law ","J.B.",null,"1904 / 1905","Trustee"]
[" ","Lawton","R.W.","Rev.","1891 / 1892","Trustee"]
[" ","Lawton","R.W.","Rev.","1892 / 1893","Trustee"]
[" ","Lawton","R.W.","Rev.","1894 / 1895","Trustee"]
[" ","Lee","H. Douglas",null,"1988 / 1989","Trustee"]
[" ","Lee","H. Douglas",null,"1989 / 1990","Trustee, President"]
[" ","Lee","H. Douglas",null,"1990 / 1991","Trustee, President"]
[" ","Lee","H. Douglas",null,"1991 / 1992","Trustee"]
[" ","Lee","H. Douglas",null,"1993 / 1994","Trustee"]
[" ","Lee","H. Douglas",null,"1994 / 1995","Trustee"]
[" ","Lee","H. Douglas",null,"1995 / 1996","Trustee"]
[" ","Lee","H. Douglas",null,"1996 / 1997","Trustee"]
[" ","Lee","H. Douglas",null,"1997 / 1998","Trustee"]
[" ","Lee","H. Douglas",null,"1999 / 2000","Trustee"]
[" ","Lee","H. Douglas",null,"2000 / 2001","Trustee"]
[" ","Lee","H. Douglas",null,"2001 / 2002","Trustee"]
[" ","Lee","H. Douglas",null,"2002 / 2003","Trustee"]
[" ","Lee","H. Douglas",null,"2003 / 2004","Trustee"]
[" ","Lee","H. Douglas",null,"2004 / 2005","Trustee"]
[" ","Lee","H. Douglas",null,"2005 / 2006","Trustee"]
[" ","Lee","H. Douglas",null,"2006 / 2007","Trustee"]
[" ","Lee","H. Douglas",null,"2007 / 2008","Trustee"]
[" ","Lee","H. Douglas",null,"2008 / 2009","Trustee"]
[" ","Lee","H. Douglas",null,"2009 / 2010","Trustee"]
[" ","Lewicki","Lee McGraw",null,"1997 / 1998","Trustee"]
[" ","Lewicki","Lee McGraw",null,"1999 / 2000","Trustee"]
[" ","Lewicki","Lee McGraw",null,"2001 / 2002","Trustee"]
[" ","Lewis","Carroll E.",null,"2000 / 2001","Trustee"]
[" ","Lewis","Carroll E.",null,"2001 / 2002","Trustee"]
[" ","Lewis","Carroll E.",null,"2002 / 2003","Trustee"]
[" ","Lewis","Carroll E.",null,"2003 / 2004","Trustee"]
[" ","Lewis","Carroll E.",null,"2004 / 2005","Trustee"]
[" ","Lewis","Carroll E.",null,"2005 / 2006","Trustee"]
[" ","Lewis","Carroll E.",null,"2006 / 2007","Trustee"]
[" ","Lewis","Carroll E.",null,"2007 / 2008","Trustee"]
[" ","Lewis","Carroll E.",null,"2008 / 2009","Trustee"]
[" ","Libby","Gary R",null,"2009 / 2010","Trustee Ex-Officio; Chair, Arts & Sciences Board"]
[" ","Libby","Gary R",null,"2010 / 2011","Trustee Ex-Officio"]
[" ","Libby","Wendy",null,"2010 / 2011","Trustee"]
[" ","Libby","Wendy",null,"2011 / 2012","Trustee"]
[" ","Libby","Wendy",null,"2012 / 2013","Trustee"]
[" ","Libby","Wendy",null,"2013 / 2014","Trustee"]
[" ","Longdon","Frank J.",null,"1900 / 1901","Trustee"]
[" ","Longdon","Frank J.",null,"1901 / 1902","Trustee"]
[" ","Longdon","Frank J.",null,"1902 / 1903","Trustee"]
[" ","Longdon","Frank J.",null,"1903 / 1904","Trustee"]
[" ","Longdon","Frank J.",null,"1904 / 1905","Trustee"]
[" ","Longdon","Frank J.",null,"1905 / 1906","Trustee"]
[" ","Longdon","Frank J.",null,"1906 / 1907","Trustee"]
[" ","Longdon","Frank J.",null,"1907 / 1908","Trustee"]
[" ","Longdon","Frank J.",null,"1908 / 1909","Trustee"]
[" ","Longdon","Frank J.",null,"1909 / 1910","Trustee"]
[" ","Longdon","Frank J.",null,"1910 / 1911","Trustee"]
[" ","Longdon","Frank J.",null,"1911 / 1912","Trustee"]
[" ","Longdon","Frank J.",null,"1912 / 1913","Trustee"]
[" ","Longdon","Frank J.",null,"1913 / 1914","Trustee"]
[" ","Longdon","Frank J.",null,"1914 / 1915","Trustee"]
[" ","Longdon","Frank J.",null,"1915 / 1916","Trustee"]
[" ","Longdon","Frank J.",null,"1916 / 1917","Trustee"]
[" ","Longdon","Frank J.",null,"1917 / 1918","Trustee"]
[" ","Longdon","Frank J.",null,"1918 / 1919","Trustee"]
[" ","Longdon","Frank J.",null,"1919 / 1920","Trustee"]
[" ","Longdon","Frank J.",null,"1920 / 1921","Trustee"]
[" ","Longdon","Frank J.",null,"1921 / 1922","Trustee"]
[" ","Lopez","Brenda H.",null,"2012 / 2013","Trustee"]
[" ","Lopez","Brenda H.",null,"2013 / 2014","Trustee"]
[" ","Lynn","Christine",null,"1995 / 1996","Trustee"]
[" ","Lynn","Christine",null,"1996 / 1997","Trustee"]
[" ","Lynn","Christine",null,"1997 / 1998","Trustee"]
[" ","Lynn","Christine",null,"1999 / 2000","Trustee"]
[" ","Lynn","Christine",null,"2000 / 2001","Trustee"]
[" ","Lynn","Christine",null,"2001 / 2002","Trustee"]
[" ","Lynn","Christine",null,"2002 / 2003","Trustee"]
[" ","Lynn","Christine",null,"2003 / 2004","Trustee"]
[" ","Lynn","Christine",null,"2004 / 2005","Trustee"]
[" ","Lynn","Christine",null,"2005 / 2006","Trustee"]
[" ","Lynn","Christine",null,"2006 / 2007","Trustee"]
[" ","Lynn","Christine",null,"2007 / 2008","Trustee"]
[" ","Lynn","Christine",null,"2008 / 2009","Trustee"]
[" ","Lynn","Christine",null,"2009 / 2010","Trustee"]
[" ","Lynn","Christine",null,"2010 / 2011","Trustee"]
[" ","Lynn","Christine",null,"2011 / 2012","Trustee"]
[" ","Lynn","Christine",null,"2012 / 2013","Trustee"]
[" ","Lynn","Christine",null,"2013 / 2014","Trustee"]
[" ","MacArthur","Robert S.","Rev., D.D.","1885 / 1886","Trustee"]
[" ","MacArthur","Robert S.","Rev., D.D.","1888 / 1889","Trustee"]
[" ","MacArthur","Robert S.","Rev., D.D.","1889 / 1890","Trustee"]
[" ","MacArthur","Robert S.","Rev., D.D.","1891 / 1892","Trustee"]
[" ","MacArthur","Robert S.","Rev., D.D.","1892 / 1893","Trustee"]
[" ","MacArthur","Robert S.","Rev., D.D.","1894 / 1895","Trustee"]
[" ","MacArthur","Robert S.","Rev., D.D.","1895 / 1896","Trustee"]
[" ","MacArthur","Robert S.","Rev., D.D.","1896 / 1897","Trustee"]
[" ","MacArthur","Robert S.","Rev., D.D.","1897 / 1898","Trustee"]
[" ","MacArthur","Robert S.","Rev., D.D.","1898 / 1899","Trustee"]
[" ","MacArthur","Robert S.","Rev., D.D.","1899 / 1900","Trustee"]
[" ","MacArthur","Robert S.","Rev., D.D.","1900 / 1901","Trustee"]
[" ","MacArthur","Robert S.","Rev., D.D.","1901 / 1902","Trustee"]
[" ","MacArthur","Robert S.","Rev., D.D.","1902 / 1903","Trustee"]
[" ","MacArthur","Robert S.","Rev., D.D.","1903 / 1904","Trustee"]
[" ","MacArthur","Robert S.","Rev., D.D.","1904 / 1905","Trustee"]
[" ","Magidson","Joshua",null,"2007 / 2008","Trustee Ex-Officio; Law Board of Overseers Rep."]
[" ","Magidson","Joshua",null,"2008 / 2009","Trustee Ex-Officio; Law Board of Overseers Rep."]
[" ","Magidson","Joshua",null,"2009 / 2010","Trustee Ex-Officio; Chair, College of Law Board"]
[" ","Magidson","Joshua",null,"2010 / 2011","Trustee Ex-Officio"]
[" ","Magidson","Joshua",null,"2011 / 2012","Trustee Ex-Officio"]
[" ","Magidson","Joshua",null,"2012 / 2013","Trustee Ex-Officio"]
[" ","Mahon","W.L.C.","Rev., D.D.","1924 / 1925","Trustee"]
[" ","Mahon","W.L.C.","Rev., D.D.","1925 / 1926","Trustee"]
[" ","Mahon","W.L.C.","Rev., D.D.","1926 / 1927","Trustee"]
[" ","Mahon","W.L.C.","Rev., D.D.","1927 / 1928","Trustee"]
[" ","Mahon","W.L.C.","Rev., D.D.","1928 / 1929","Trustee"]
[" ","Mahon","W.L.C.","Rev., D.D.","1929 / 1930","Trustee"]
[" ","Mahon","W.L.C.","Rev., D.D.","1930 / 1931","Trustee"]
[" ","Mann","Walter H.",null,"1948 / 1949","Trustee & Finance Committee"]
[" ","Mann","Walter H.",null,"1949 / 1950","Trustee & Finance Committee"]
[" ","Mann","Walter H.",null,"1950 / 1951","Trustee"]
[" ","Mann","Walter H.",null,"1952 / 1953","Trustee"]
[" ","Mann","Walter H.",null,"1953 / 1954","Trustee & Finance Committee"]
[" ","Mann","Walter H.",null,"1954 / 1955","Trustee & Finance Committee"]
[" ","Mann","Walter H.",null,"1955 / 1956","Trustee & Finance Committee"]
[" ","Mann","Walter H.",null,"1956 / 1957","Trustee & Finance Committee"]
[" ","Mann","Walter H.",null,"1957 / 1958","Trustee & Finance Committee"]
[" ","Mann","Walter H.",null,"1958 / 1959","Trustee & Finance Committee"]
[" ","Mann","Walter H.",null,"1960 / 1961","Trustee"]
[" ","Mann","Walter H.",null,"1962 / 1963","Trustee"]
[" ","Mann","Walter H.",null,"1963 / 1964","Trustee"]
[" ","Mann","Walter H.",null,"1964 / 1965","Trustee"]
[" ","Mann","Walter H.",null,"1965 / 1966","Trustee"]
[" ","Mann","Walter H.",null,"1966 / 1967","Trustee"]
[" ","Mann","Walter H.",null,"1967 / 1968","Trustee"]
[" ","Mann","Walter H.",null,"1968 / 1969","Trustee"]
[" ","Mann","Walter H.",null,"1969 / 1970","Trustee"]
[" ","Mann","Walter H.",null,"1970 / 1971","Trustee"]
[" ","Mann","Walter H.",null,"1971 / 1972","Trustee"]
[" ","Mann","Walter H.",null,"1972 / 1973","Trustee"]
[" ","Mann","Walter H.",null,"1974 / 1975","Trustee"]
[" ","Mann","Walter H.",null,"1975 / 1976","Trustee"]
[" ","Mann","Walter H.",null,"1979 / 1980","Trustee Emeritus"]
[" ","Mann","Walter H.",null,"1980 / 1981","Trustee Emeritus"]
[" ","Mann","Walter H.",null,"1981 / 1982","Trustee Emeritus"]
[" ","Marchman, Jr.","Hal S.",null,"1994 / 1995","Trustee"]
[" ","Marchman, Jr.","Hal S.",null,"1995 / 1996","Trustee"]
[" ","Marchman, Jr.","Hal S.",null,"1996 / 1997","Trustee"]
[" ","Marchman, Jr.","Hal S.",null,"1997 / 1998","Trustee"]
[" ","Marchman, Jr.","Hal S.",null,"1999 / 2000","Trustee Ex-Officio; Assistant Secretary"]
[" ","Marchman, Jr.","Hal S.",null,"2000 / 2001","Trustee Ex-Officio; Assistant Secretary"]
[" ","Marchman, Jr.","Hal S.",null,"2001 / 2002","Trustee Ex-Officio; Assistant Secretary"]
[" ","Marchman, Jr.","Hal S.",null,"2002 / 2003","Trustee Ex-Officio; Assistant Secretary"]
[" ","Martien ","J. Carey",null,"1910 / 1911","Trustee"]
[" ","Martien ","J. Carey",null,"1911 / 1912","Trustee"]
[" ","Martien ","J. Carey",null,"1912 / 1913","Trustee"]
[" ","Martien ","J. Carey",null,"1913 / 1914","Trustee"]
[" ","Martien ","J. Carey",null,"1914 / 1915","Trustee"]
[" ","Martien ","J. Carey",null,"1915 / 1916","Trustee"]
[" ","Martien ","J. Carey",null,"1916 / 1917","Trustee"]
[" ","Martien ","J. Carey",null,"1917 / 1918","Trustee"]
[" ","Martien ","J. Carey",null,"1918 / 1919","Trustee"]
[" ","Martien ","J. Carey",null,"1919 / 1920","Trustee"]
[" ","Martien ","J. Carey",null,"1920 / 1921","Trustee"]
[" ","Martien ","J. Carey",null,"1921 / 1922","Trustee"]
[" ","Martien ","J. Carey",null,"1922 / 1923","Trustee"]
[" ","Martien ","J. Carey",null,"1923 / 1924","Trustee"]
[" ","Massey","Harvey",null,"1997 / 1998","Trustee"]
[" ","Massey","Harvey",null,"1999 / 2000","Trustee"]
[" ","Massey","Harvey",null,"2000 / 2001","Trustee"]
[" ","Massey","Harvey",null,"2001 / 2002","Trustee"]
[" ","Massey","Harvey",null,"2002 / 2003","Trustee"]
[" ","Master","Joseph J.",null,"1995 / 1996","Trustee Treasurer"]
[" ","Master","Joseph J.",null,"1996 / 1997","Trustee"]
[" ","Master","Joseph J.",null,"1997 / 1998","Trustee"]
[" ","Master","Joseph J.",null,"1999 / 2000","Trustee"]
[" ","McCallister","Muff",null,"1996 / 1997","Trustee Ex Officio, Co-Chair, Music School Board"]
[" ","McCallister","Muff",null,"1997 / 1998","Trustee Ex Officio; Chair, Music Board"]
[" ","McGraw","M. Lee",null,"2002 / 2003","Trustee"]
[" ","McGraw","M. Lee",null,"2003 / 2004","Trustee"]
[" ","McGraw","M. Lee",null,"2009 / 2010","Trustee"]
[" ","McGraw","M. Lee",null,"2011 / 2012","Trustee"]
[" ","McGraw","M. Lee",null,"2012 / 2013","Trustee"]
[" ","McGraw","M. Lee",null,"2013 / 2014","Trustee"]
[" ","McKinney","John","Rev.","1888 / 1889","Trustee Secretary & Executive Committee"]
[" ","McKinney","John","Rev.","1889 / 1890","Trustee Secretary & Executive Committee"]
[" ","McKinney","John","Rev.","1891 / 1892","Trustee Secretary & Executive Committee"]
[" ","McKinney","John","Rev.","1892 / 1893","Trustee Secretary & Executive Committee"]
[" ","McKinney","John","Rev.","1894 / 1895","Trustee Secretary & Executive Committee"]
[" ","McKinney","John","Rev.","1895 / 1896","Trustee Secretary & Executive Committee"]
[" ","McKinney","John","Rev.","1896 / 1897","Trustee Secretary & Executive Committee"]
[" ","McKinney","John","Rev.","1897 / 1898","Trustee Secretary & Executive Committee (deceased)"]
[" ","McMahan","Richard A.",null,"1995 / 1996","Trustee"]
[" ","McMahan","Richard A.",null,"1996 / 1997","Trustee"]
[" ","McMahan","Richard A.",null,"1997 / 1998","Trustee"]
[" ","McMahan","Richard A.",null,"1999 / 2000","Trustee"]
[" ","McMahan","Richard A.",null,"2000 / 2001","Trustee"]
[" ","McMahan","Richard A.",null,"2001 / 2002","Trustee"]
[" ","McMahan","Richard A.",null,"2002 / 2003","Trustee"]
[" ","McMahan","Richard A.",null,"2003 / 2004","Trustee"]
[" ","McMahan","Richard A.",null,"2004 / 2005","Trustee"]
[" ","McMahan","Richard A.",null,"2005 / 2006","Trustee"]
[" ","McMahan","Richard A.",null,"2006 / 2007","Trustee"]
[" ","McMahan","Richard A.",null,"2007 / 2008","Trustee"]
[" ","McMahan","Richard A.",null,"2008 / 2009","Trustee"]
[" ","McMahan","Richard A.",null,"2009 / 2010","Trustee"]
[" ","McMahan","Richard A.",null,"2010 / 2011","Trustee Emeriti"]
[" ","McMillan","Robert M.",null,"1978 / 1979","Trustee"]
[" ","McMillan","Robert M.",null,"1979 / 1980","Trustee"]
[" ","McMillan","Robert M.",null,"1980 / 1981","Trustee"]
[" ","McMillan","Robert M.",null,"1981 / 1982","Trustee"]
[" ","McMillan","Robert M.",null,"1982 / 1983","Trustee"]
[" ","McMillan","Robert M.",null,"1983 / 1984","Trustee"]
[" ","McMillan","Robert M.",null,"1984 / 1985","Trustee"]
[" ","McMillan","Robert M.",null,"1985 / 1986","Trustee"]
[" ","McMillan","Robert M.",null,"1986 / 1987","Trustee"]
[" ","McMillan","Robert M.",null,"1987 / 1988","Trustee"]
[" ","McNamara Sr.","Dennis C.",null,"1984 / 1985","Trustee"]
[" ","McNamara Sr.","Dennis C.",null,"1985 / 1986","Trustee"]
[" ","McNamara Sr.","Dennis C.",null,"1986 / 1987","Trustee"]
[" ","McNamara Sr.","Dennis C.",null,"1987 / 1988","Trustee"]
[" ","McNamara Sr.","Dennis C.",null,"1988 / 1989","Trustee"]
[" ","McNamara Sr.","Dennis C.",null,"1989 / 1990","Trustee"]
[" ","McNamara Sr.","Dennis C.",null,"1990 / 1991","Trustee"]
[" ","McNamara Sr.","Dennis C.",null,"1991 / 1992","Trustee"]
[" ","McNamara Sr.","Dennis C.",null,"1993 / 1994","Trustee"]
[" ","McNamara Sr.","Dennis C.",null,"1994 / 1995","Trustee"]
[" ","McNamara Sr.","Dennis C.",null,"1995 / 1996","Trustee"]
[" ","McNamara Sr.","Dennis C.",null,"1996 / 1997","Trustee"]
[" ","McNamara Sr.","Dennis C.",null,"1997 / 1998","Trustee"]
[" ","McNamara Sr.","Dennis C.",null,"1999 / 2000","Trustee Emeritus"]
[" ","McNamara Sr.","Dennis C.",null,"2000 / 2001","Trustee Emeritus"]
[" ","McNamara Sr.","Dennis C.",null,"2001 / 2002","Trustee Emeritus"]
[" ","McNamara Sr.","Dennis C.",null,"2002 / 2003","Trustee Emeritus"]
[" ","McNamara Sr.","Dennis C.",null,"2003 / 2004","Trustee Emeritus"]
[" ","McNamara Sr.","Dennis C.",null,"2004 / 2005","Trustee Emeritus"]
[" ","McNamara Sr.","Dennis C.",null,"2005 / 2006","Trustee Emeritus"]
[" ","McNamara Sr.","Dennis C.",null,"2006 / 2007","Trustee Emeritus"]
[" ","McNamara Sr.","Dennis C.",null,"2007 / 2008","Trustee Emeritus"]
[" ","McNamara Sr.","Dennis C.",null,"2008 / 2009","Trustee Emeritus"]
[" ","Mickle","Edward L.",null,"1925 / 1926","Trustee"]
[" ","Mickle","Edward L.",null,"1926 / 1927","Trustee"]
[" ","Mickle","Edward L.",null,"1927 / 1928","Trustee"]
[" ","Mickle","Edward L.",null,"1928 / 1929","Trustee"]
[" ","Mickle","Edward L.",null,"1929 / 1930","Trustee"]
[" ","Mickle","Edward L.",null,"1930 / 1931","Trustee"]
[" ","Mickle","Edward L.",null,"1931 / 1932","Trustee & Committee on Administrative"]
[" ","Mickle","Edward L.",null,"1932 / 1933","Trustee & Committee on Administrative"]
[" ","Mickle","Edward L.",null,"1933 / 1934","Trustee & Committee on Administrative"]
[" ","Mickle","Edward L.",null,"1934 / 1935","Trustee & Committee on Administrative"]
[" ","Mickle","Edward L.",null,"1935 / 1936","Trustee Assistant Secretary & Committee on Administrative"]
[" ","Mickle","Edward L.",null,"1937 / 1938","Trustee Assistant Secretary & Committee on Administrative"]
[" ","Mickle","Edward L.",null,"1938 / 1939","Trustee Assistant Secretary & Committee on Administrative"]
[" ","Mickle","Edward L.",null,"1939 / 1940","Trustee Assistant Secretary & Committee on Administrative"]
[" ","Mickle","Edward L.",null,"1940 / 1941","Trustee"]
[" ","Mickle","Edward L.",null,"1941 / 1942","Trustee"]
[" ","Mickle","Edward L.",null,"1942 / 1943","Trustee"]
[" ","Mickle","Edward L.",null,"1943 / 1944","Trustee"]
[" ","Mickle","Edward L.",null,"1944 / 1945","Trustee"]
[" ","Mickle","Edward L.",null,"1945 / 1946","Trustee"]
[" ","Mickle","Edward L.",null,"1946 / 1947","Trustee (resigned)"]
[" ","Monroe","James",null,"1972 / 1973","Trustee"]
[" ","Monroe","James",null,"1974 / 1975","Trustee"]
[" ","Monroe","James",null,"1975 / 1976","Trustee"]
[" ","Montgomery","Robert E.",null,"2000 / 2001","Trustee"]
[" ","Montgomery","Robert E.",null,"2001 / 2002","Trustee"]
[" ","Montgomery","Robert E.",null,"2002 / 2003","Trustee"]
[" ","Montgomery","Robert E.",null,"2003 / 2004","Trustee"]
[" ","Montgomery","Robert E.",null,"2004 / 2005","Trustee"]
[" ","Moodie","F.B.",null,"1885 / 1886","Trustee"]
[" ","Moodie","F.B.",null,"1887 / 1888","Trustee"]
[" ","Moodie","F.B.",null,"1888 / 1889","Trustee"]
[" ","Moodie","F.B.",null,"1889 / 1890","Trustee"]
[" ","Moodie","F.B.",null,"1891 / 1892","Trustee"]
[" ","Moodie","F.B.",null,"1892 / 1893","Trustee"]
[" ","Moodie","F.B.",null,"1894 / 1895","Trustee"]
[" ","Moodie","F.B.",null,"1895 / 1896","Trustee"]
[" ","Moodie","F.B.",null,"1896 / 1897","Trustee"]
[" ","Moodie","F.B.",null,"1897 / 1898","Trustee"]
[" ","Moodie","F.B.",null,"1898 / 1899","Trustee"]
[" ","Moodie","F.B.",null,"1899 / 1900","Trustee"]
[" ","Moodie","F.B.",null,"1900 / 1901","Trustee"]
[" ","Moodie","F.B.",null,"1901 / 1902","Trustee"]
[" ","Moodie","F.B.",null,"1902 / 1903","Trustee"]
[" ","Moodie","F.B.",null,"1903 / 1904","Trustee "]
[" ","Moodie","F.B.",null,"1904 / 1905","Trustee"]
[" ","Moodie","F.B.",null,"1905 / 1906","Trustee"]
[" ","Moodie","F.B.",null,"1906 / 1907","Trustee"]
[" ","Moodie","F.B.",null,"1907 / 1908","Trustee"]
[" ","Moodie","F.B.",null,"1908 / 1909","Trustee"]
[" ","Moodie","F.B.",null,"1909 / 1910","Trustee"]
[" ","Moore","David","Rev., D.D.","1885 / 1886","Trustee & Executive Committee"]
[" ","Moore","David","Rev., D.D.","1887 / 1888","Trustee & Executive Committee"]
[" ","Moore","David","Rev., D.D.","1888 / 1889","Trustee & Executive Committee"]
[" ","Moore","David","Rev., D.D.","1889 / 1890","Trustee & Executive Committee"]
[" ","Moore","David","Rev., D.D.","1891 / 1892","Trustee & Executive Committee"]
[" ","Moore","David","Rev., D.D.","1892 / 1893","Trustee"]
[" ","Moore","David","Rev., D.D.","1894 / 1895","Trustee"]
[" ","Moore","David","Rev., D.D.","1895 / 1896","Trustee"]
[" ","Moore","David","Rev., D.D.","1896 / 1897","Trustee"]
[" ","Moore","David","Rev., D.D.","1897 / 1898","Trustee"]
[" ","Moore","David","Rev., D.D.","1898 / 1899","Trustee"]
[" ","Moore","David","Rev., D.D.","1899 / 1900","Trustee"]
[" ","Moore","David","Rev., D.D.","1900 / 1901","Trustee"]
[" ","Moore","David","Rev., D.D.","1901 / 1902","Trustee"]
[" ","Moore","David","Rev., D.D.","1902 / 1903","Trustee"]
[" ","Moore","David","Rev., D.D.","1903 / 1904","Trustee"]
[" ","Moore","David","Rev., D.D.","1904 / 1905","Trustee"]
[" ","Morris","Arthur N.",null,"1956 / 1957","Trustee"]
[" ","Morris","Arthur N.",null,"1957 / 1958","Trustee & Administrative & Finance Committee"]
[" ","Morris","Arthur N.",null,"1958 / 1959","Trustee & Administrative & Finance Committee"]
[" ","Morris","Arthur N.",null,"1960 / 1961","Trustee"]
[" ","Morris","Arthur N.",null,"1962 / 1963","Trustee"]
[" ","Morris","Arthur N.",null,"1963 / 1964","Trustee"]
[" ","Morris","Arthur N.",null,"1964 / 1965","Trustee"]
[" ","Morris","Arthur N.",null,"1965 / 1966","Trustee"]
[" ","Morris","Arthur N.",null,"1966 / 1967","Trustee"]
[" ","Morris","Arthur N.",null,"1967 / 1968","Trustee"]
[" ","Morris","Arthur N.",null,"1968 / 1969","Trustee"]
[" ","Morris","Arthur N.",null,"1969 / 1970","Trustee"]
[" ","Morris","Arthur N.",null,"1970 / 1971","Trustee"]
[" ","Morris","Arthur N.",null,"1971 / 1972","Trustee"]
[" ","Morris","Arthur N.",null,"1972 / 1973","Trustee"]
[" ","Morris","Arthur N.",null,"1974 / 1975","Trustee"]
[" ","Morris","Arthur N.",null,"1975 / 1976","Trustee"]
[" ","Morris","Arthur N.",null,"1978 / 1979","Trustee"]
[" ","Morris","Arthur N.",null,"1979 / 1980","Trustee"]
[" ","Morris","Arthur N.",null,"1980 / 1981","Trustee"]
[" ","Morris","Arthur N.",null,"1981 / 1982","Trustee"]
[" ","Morris","Arthur N.",null,"1982 / 1983","Trustee"]
[" ","Morris","Arthur N.",null,"1983 / 1984","Trustee"]
[" ","Morris","Arthur N.",null,"1984 / 1985","Trustee"]
[" ","Murphy, Jr.","Earnest W.",null,"2000 / 2001","Trustee Ex-Officio; Chair, Music Board"]
[" ","Murphy, Jr.","Earnest W.",null,"2001 / 2002","Trustee Ex-Officio; Chair, Music Board"]
[" ","Murphy, Jr.","Earnest W.",null,"2002 / 2003","Trustee Ex-Officio; Chair, Music Board"]
[" ","Murphy, Jr.","Earnest W.",null,"2003 / 2004","Trustee Ex-Officio; Chair, Music Board"]
[" ","Murphy, Jr.","Earnest W.",null,"2004 / 2005","Trustee Ex-Officio; Chair, Music Board"]
[" ","Murphy, Jr.","Earnest W.",null,"2009 / 2010","Trustee Ex-Officio; Chair, School of Music Board"]
[" ","Murphy, Jr.","Earnest W.",null,"2010 / 2011","Trustee Ex-Officio"]
[" ","Neukom Jr.","George A.",null,"1987 / 1988","Trustee"]
[" ","Neukom Jr.","George A.",null,"1988 / 1989","Trustee"]
[" ","Neukom Jr.","George A.",null,"1989 / 1990","Trustee"]
[" ","Neukom Jr.","George A.",null,"1990 / 1991","Trustee"]
[" ","Neukom Jr.","George A.",null,"1991 / 1992","Trustee"]
[" ","Neukom Jr.","George A.",null,"1993 / 1994","Trustee"]
[" ","Neukom Jr.","George A.",null,"1994 / 1995","Trustee"]
[" ","Neukom Jr.","George A.",null,"1995 / 1996","Trustee"]
[" ","Neukom Jr.","George A.",null,"1996 / 1997","Trustee"]
[" ","Novak","Jane Edmunds",null,"1996 / 1997","Trustee"]
[" ","Novak","Jane Edmunds",null,"1997 / 1998","Trustee"]
[" ","Novak","Jane Edmunds",null,"1999 / 2000","Trustee"]
[" ","Novak","Jane Edmunds",null,"2000 / 2001","Trustee"]
[" ","Novak","Jane Edmunds",null,"2001 / 2002","Trustee"]
[" ","Novak","Jane Edmunds",null,"2002 / 2003","Trustee"]
[" ","Novak","Jane Edmunds",null,"2003 / 2004","Trustee"]
[" ","Novak","Jane Edmunds",null,"2004 / 2005","Trustee"]
[" ","Novak","Jane Edmunds",null,"2005 / 2006","Trustee"]
[" ","Novak","Jane Edmunds",null,"2006 / 2007","Trustee"]
[" ","Novak","Jane Edmunds",null,"2007 / 2008","Trustee"]
[" ","Novak","Jane Edmunds",null,"2008 / 2009","Trustee"]
[" ","Novak","Jane Edmunds",null,"2009 / 2010","Trustee"]
[" ","Novak","Jane Edmunds",null,"2010 / 2011","Trustee"]
[" ","Novak","Jane Edmunds",null,"2011 / 2012","Trustee"]
[" ","Novak","Jane Edmunds",null,"2012 / 2013","Trustee"]
[" ","Novak","Jane Edmunds",null,"2013 / 2014","Trustee"]
[" ","Oates","J.E.","Rev.","1903 / 1904","Trustee & Committee on Administrative"]
[" ","Oates","J.E.","Rev.","1904 / 1905","Trustee & Committee on Administrative"]
[" ","Oates","J.E.","Rev.","1905 / 1906","Trustee Vice-President & Committee on Administrative"]
[" ","Oates","J.E.","Rev.","1906 / 1907","Trustee Vice-President & Committee on Administrative"]
[" ","Oates","J.E.","Rev.","1907 / 1908","Trustee Vice-President & Committee on Administrative"]
[" ","Oates","J.E.","Rev.","1908 / 1909","Trustee"]
[" ","Oates","J.E.","Rev.","1909 / 1910","Trustee"]
[" ","Oates","J.E.","Rev.","1910 / 1911","Trustee"]
[" ","Oates","J.E.","Rev.","1911 / 1912","Trustee"]
[" ","Oates","J.E.","Rev.","1912 / 1913","Trustee"]
[" ","Oates","J.E.","Rev.","1913 / 1914","Trustee"]
[" ","Oates","J.E.","Rev.","1914 / 1915","Trustee"]
[" ","Oates","J.E.","Rev.","1915 / 1916","Trustee"]
[" ","Oates","J.E.","Rev.","1916 / 1917","Trustee"]
[" ","Oates","J.E.","Rev.","1917 / 1918","Trustee"]
[" ","Oates","J.E.","Rev.","1918 / 1919","Trustee"]
[" ","Oates","J.E.","Rev.","1919 / 1920","Trustee"]
[" ","Oates","J.E.","Rev.","1920 / 1921","Trustee"]
[" ","Oates","J.E.","Rev.","1921 / 1922","Trustee"]
[" ","Oates","J.E.","Rev.","1922 / 1923","Trustee"]
[" ","Oates","J.E.","Rev.","1923 / 1924","Trustee"]
[" ","Osborne","Frank R.",null,"1923 / 1924","Trustee & Committee on Administrative"]
[" ","Osborne","Frank R.",null,"1924 / 1925","Trustee & Committee on Administrative"]
[" ","Osborne","Frank R.",null,"1925 / 1926","Trustee Secretary & Committee on Administrative"]
[" ","Osborne","Frank R.",null,"1926 / 1927","Trustee Secretary & Committee on Administrative"]
[" ","Osborne","Frank R.",null,"1927 / 1928","Trustee Secretary & Committee on Administrative"]
[" ","Osborne","Frank R.",null,"1928 / 1929","Trustee Secretary & Committee on Administrative"]
[" ","Osborne","Frank R.",null,"1929 / 1930","Trustee Secretary & Committee on Administrative"]
[" ","Osborne","Frank R.",null,"1930 / 1931","Trustee Secretary & Committee on Administrative"]
[" ","Osborne","Frank R.",null,"1931 / 1932","Trustee Secretary & Committee on Administrative"]
[" ","Osborne","Frank R.",null,"1932 / 1933","Trustee Secretary & Committee on Administrative"]
[" ","Osborne","Frank R.",null,"1933 / 1934","Trustee Secretary & Committee on Administrative"]
[" ","Osborne","Frank R.",null,"1934 / 1935","Trustee Secretary & Committee on Administrative"]
[" ","Osborne","Frank R.",null,"1935 / 1936","Trustee Secretary & Committee on Administrative"]
[" ","Osborne","Frank R.",null,"1937 / 1938","Trustee Secretary & Committee on Administrative"]
[" ","Osborne","Frank R.",null,"1938 / 1939","Trustee Secretary & Committee on Administrative"]
[" ","Osborne","Frank R.",null,"1939 / 1940","Trustee (deceased)"]
[" ","Osteen","H.E.",null,"1885 / 1886","Trustee"]
[" ","Osteen","H.E.",null,"1887 / 1888","Trustee"]
[" ","Osteen","H.E.",null,"1888 / 1889","Trustee"]
[" ","Osteen","H.E.",null,"1889 / 1890","Trustee"]
[" ","Osteen","H.E.",null,"1891 / 1892","Trustee"]
[" ","Painter","E.O",null,"1891 / 1892","Trustee & Executive Committee"]
[" ","Painter","E.O",null,"1892 / 1893","Trustee & Executive Committee"]
[" ","Painter","E.O",null,"1894 / 1895","Trustee & Executive Committee"]
[" ","Painter","E.O",null,"1895 / 1896","Trustee & Executive Committee"]
[" ","Painter","E.O",null,"1896 / 1897","Trustee & Executive Committee"]
[" ","Painter","E.O",null,"1897 / 1898","Trustee & Executive Committee"]
[" ","Painter","E.O",null,"1898 / 1899","Trustee & Executive Committee"]
[" ","Painter","E.O",null,"1899 / 1900","Trustee & Executive Committee"]
[" ","Painter","E.O",null,"1900 / 1901","Trustee & Executive Committee"]
[" ","Painter","E.O",null,"1901 / 1902","Trustee & Executive Committee"]
[" ","Painter","E.O",null,"1902 / 1903","Trustee & Committee on Administrative"]
[" ","Painter","E.O",null,"1903 / 1904","Trustee & Committee on Administrative"]
[" ","Painter","E.O",null,"1904 / 1905","Trustee & Committee on Administrative"]
[" ","Painter","E.O",null,"1905 / 1906","Trustee & Committee on Administrative"]
[" ","Painter","E.O",null,"1906 / 1907","Trustee & Committee on Administrative"]
[" ","Painter","E.O",null,"1907 / 1908","Trustee & Committee on Administrative"]
[" ","Painter","E.O",null,"1908 / 1909","Trustee & Committee on Administrative"]
[" ","Painter","E.O",null,"1909 / 1910","Trustee & Committee on Administrative"]
[" ","Painter","E.O",null,"1910 / 1911","Trustee & Committee on Administrative"]
[" ","Painter","E.O",null,"1911 / 1912","Trustee & Committee on Administrative"]
[" ","Painter","E.O",null,"1912 / 1913","Trustee & Committee on Administrative"]
[" ","Parce","J.Y.",null,"1885 / 1886","Trustee & Executive Committee"]
[" ","Parce","J.Y.",null,"1887 / 1888","Trustee & Executive Committee"]
[" ","Parce","J.Y.",null,"1888 / 1889","Trustee & Executive Committee"]
[" ","Parce","J.Y.",null,"1889 / 1890","Trustee & Executive Committee"]
[" ","Parce","J.Y.",null,"1891 / 1892","Trustee"]
[" ","Parce","J.Y.",null,"1892 / 1893","Trustee"]
[" ","Parce","J.Y.",null,"1894 / 1895","Trustee"]
[" ","Parker","Henry A.",null,"1963 / 1964","Trustee"]
[" ","Parker","Henry A.",null,"1964 / 1965","Trustee"]
[" ","Parker","Henry A.",null,"1965 / 1966","Trustee"]
[" ","Parker","Henry A.",null,"1966 / 1967","Trustee"]
[" ","Parker","Henry A.",null,"1967 / 1968","Trustee"]
[" ","Parker","Henry A.",null,"1968 / 1969","Trustee"]
[" ","Parker","Henry A.",null,"1969 / 1970","Trustee"]
[" ","Parker","Henry A.",null,"1970 / 1971","Trustee"]
[" ","Parker","Henry A.",null,"1971 / 1972","Trustee"]
[" ","Parker","Henry A.",null,"1972 / 1973","Trustee"]
[" ","Parker","Henry A.",null,"1974 / 1975","Trustee"]
[" ","Paul","Harlan",null,"2004 / 2005","Trustee"]
[" ","Paul","Harlan",null,"2005 / 2006","Trustee"]
[" ","Paul","Harlan",null,"2006 / 2007","Trustee"]
[" ","Paul","Harlan",null,"2007 / 2008","Trustee"]
[" ","Paul","Harlan",null,"2008 / 2009","Trustee"]
[" ","Paul","Harlan",null,"2009 / 2010","Trustee"]
[" ","Paul","Harlan",null,"2010 / 2011","Trustee"]
[" ","Paul","Harlan",null,"2011 / 2012","Trustee"]
[" ","Paul","Harlan",null,"2012 / 2013","Trustee"]
[" ","Paul","Harlan",null,"2013 / 2014","Trustee"]
[" ","Peddie","John","D.D","1887 / 1888","Trustee"]
[" ","Peddie","John","D.D","1888 / 1889","Trustee "]
[" ","Peddie","John","D.D","1889 / 1890","Trustee"]
[" ","Pelham","John L.",null,"1975 / 1976","Trustee"]
[" ","Pelham","John L.",null,"1978 / 1979","Trustee"]
[" ","Pelham","John L.",null,"1979 / 1980","Trustee"]
[" ","Pelham","John L.",null,"1980 / 1981","Trustee"]
[" ","Pelham","John L.",null,"1981 / 1982","Trustee"]
[" ","Pelham","John L.",null,"1982 / 1983","Trustee"]
[" ","Pelham","John L.",null,"1983 / 1984","Trustee"]
[" ","Pelham","John L.",null,"1984 / 1985","Trustee"]
[" ","Pelham","John L.",null,"1985 / 1986","Trustee Secretary"]
[" ","Pelham","John L.",null,"1986 / 1987","Trustee Secretary"]
[" ","Pelham","John L.",null,"1987 / 1988","Trustee Secretary"]
[" ","Pelham","John L.",null,"1988 / 1989","Trustee Assistant Secretary"]
[" ","Pelham","John L.",null,"1989 / 1990","Trustee Assistant Secretary"]
[" ","Pelham","John L.",null,"1990 / 1991","Trustee Assistant Secretary"]
[" ","Pelham","John L.",null,"1991 / 1992","Trustee Assistant Secretary"]
[" ","Pelham","John L.",null,"1993 / 1994","Trustee Assistant Secretary"]
[" ","Pelham","John L.",null,"1994 / 1995","Trustee Assistant Secretary"]
[" ","Pelham","John L.",null,"1995 / 1996","Trustee Secretary"]
[" ","Pelham","John L.",null,"1996 / 1997","Trustee Secretary, Ex Officio"]
[" ","Pelham","John L.",null,"1997 / 1998","Trustee Ex Officio; Assistant Secretary Trustee"]
[" ","Pelham","John L.",null,"1999 / 2000","Trustee Emeritus"]
[" ","Pelham","John L.",null,"2000 / 2001","Trustee Emeritus"]
[" ","Pelham","John L.",null,"2001 / 2002","Trustee Emeritus"]
[" ","Pelham","John L.",null,"2002 / 2003","Trustee Emeritus"]
[" ","Pelham","John L.",null,"2003 / 2004","Trustee Emeritus"]
[" ","Perkins","L.A.","Jr.","1940 / 1941","Trustee & Committee on Administrative & Finance Committee"]
[" ","Perkins","L.A.","Jr.","1941 / 1942","Trustee Secretary & Committee on Administrative"]
[" ","Perkins","L.A.","Jr.","1942 / 1943","Trustee Secretary & Committee on Administrative"]
[" ","Perkins","L.A.","Jr.","1943 / 1944","Trustee Secretary & Committee on Administrative"]
[" ","Perkins","L.A.","Jr.","1944 / 1945","Trustee Secretary & Committee on Administrative"]
[" ","Perkins","L.A.","Jr.","1945 / 1946","Trustee Secretary & Administrative Committee"]
[" ","Perkins","L.A.","Jr.","1946 / 1947","Trustee Secretary & Administrative Committee"]
[" ","Perkins","L.A.","Jr.","1947 / 1948","Trustee Secretary & Administrative Committee"]
[" ","Perkins","L.A.","Jr.","1948 / 1949","Trustee Secretary & Administrative Committee"]
[" ","Perkins","L.A.","Jr.","1949 / 1950","Trustee Secretary & Administrative Committee"]
[" ","Perkins","L.A.","Jr.","1950 / 1951","Trustee Secretary & Administrative Committee"]
[" ","Perkins","L.A.","Jr.","1952 / 1953","Trustee Secretary & Administrative Committee"]
[" ","Perkins","L.A.","Jr.","1953 / 1954","Trustee Secretary & Administrative Committee"]
[" ","Perkins","L.A.","Jr.","1954 / 1955","Trustee Secretary & Administrative Committee"]
[" ","Perkins","L.A.","Jr.","1955 / 1956","Trustee Secretary & Administrative Committee"]
[" ","Perkins","L.A.","Jr.","1956 / 1957","Trustee Secretary & Administrative Committee"]
[" ","Perkins","L.A.","Jr.","1957 / 1958","Trustee Secretary & Administrative Committee"]
[" ","Pinner Jr.","Thomas M.",null,"1988 / 1989","Trustee"]
[" ","Pinner Jr.","Thomas M.",null,"1989 / 1990","Trustee"]
[" ","Pinner Jr.","Thomas M.",null,"1990 / 1991","Trustee"]
[" ","Pinner Jr.","Thomas M.",null,"1991 / 1992","Trustee"]
[" ","Pinner Jr.","Thomas M.",null,"1993 / 1994","Trustee"]
[" ","Pinner Jr.","Thomas M.",null,"1994 / 1995","Trustee"]
[" ","Pinner Jr.","Thomas M.",null,"1995 / 1996","Trustee"]
[" ","Pinner Jr.","Thomas M.",null,"1996 / 1997","Trustee"]
[" ","Pinner Jr.","Thomas M.",null,"1999 / 2000","Trustee"]
[" ","Pinner Jr.","Thomas M.",null,"2000 / 2001","Trustee"]
[" ","Pinner Jr.","Thomas M.",null,"2001 / 2002","Trustee"]
[" ","Portier","Sandra",null,"1991 / 1992","Trustee"]
[" ","Portier","Sandra",null,"1993 / 1994","Trustee"]
[" ","Portier","Sandra",null,"1994 / 1995","Trustee"]
[" ","Portier","Sandra",null,"1995 / 1996","Trustee"]
[" ","Portier","Sandra",null,"1996 / 1997","Trustee"]
[" ","Prats","Luis",null,"2004 / 2005","Trustee"]
[" ","Prats","Luis",null,"2005 / 2006","Trustee"]
[" ","Prats","Luis",null,"2006 / 2007","Trustee Ex-Officio"]
[" ","Prats","Luis",null,"2007 / 2008","Trustee"]
[" ","Prats","Luis",null,"2008 / 2009","Trustee"]
[" ","Prats","Luis",null,"2009 / 2010","Trustee"]
[" ","Prats","Luis",null,"2010 / 2011","Trustee"]
[" ","Prats","Luis",null,"2011 / 2012","Trustee"]
[" ","Prats","Luis",null,"2012 / 2013","Trustee"]
[" ","Prats","Luis",null,"2013 / 2014","Trustee"]
[" ","Price","E. H. Jr.",null,"1962 / 1963","Trustee"]
[" ","Price","E. H. Jr.",null,"1963 / 1964","Trustee & Executive Committee"]
[" ","Price","E. H. Jr.",null,"1964 / 1965","Trustee & Executive Committee"]
[" ","Price","E. H. Jr.",null,"1965 / 1966","Trustee & Executive Committee"]
[" ","Price","E. H. Jr.",null,"1966 / 1967","Trustee & Executive Committee"]
[" ","Price","E. H. Jr.",null,"1967 / 1968","Trustee"]
[" ","Price","E. H. Jr.",null,"1968 / 1969","Trustee"]
[" ","Prince","Thomas P.",null,"1991 / 1992","Trustee"]
[" ","Prince","Thomas P.",null,"1993 / 1994","Trustee"]
[" ","Prince","Thomas P.",null,"1994 / 1995","Trustee"]
[" ","Prince","Thomas P.",null,"1995 / 1996","Trustee"]
[" ","Prince","Thomas P.",null,"2001 / 2002","Trustee"]
[" ","Prince","Thomas P.",null,"2002 / 2003","Trustee"]
[" ","Pullam","J. Stephen",null,"1999 / 2000","Trustee Ex-Officio; Chair, Business Board"]
[" ","Pullam","J. Stephen",null,"2000 / 2001","Trustee Ex-Officio; Chair, Business Board"]
[" ","Raley","Billy",null,"2004 / 2005","Trustee"]
[" ","Raley","Billy",null,"2005 / 2006","Trustee"]
[" ","Raley","Billy",null,"2006 / 2007","Trustee"]
[" ","Raley","Billy",null,"2007 / 2008","Trustee"]
[" ","Raley","Billy",null,"2008 / 2009","Trustee"]
[" ","Raley","Billy",null,"2009 / 2010","Trustee"]
[" ","Raley","Billy",null,"2010 / 2011","Trustee"]
[" ","Raley","Billy",null,"2011 / 2012","Trustee"]
[" ","Raley","Billy",null,"2012 / 2013","Trustee"]
[" ","Raley","Billy",null,"2013 / 2014","Trustee"]
[" ","Raymond","Paul",null,"1980 / 1981","Trustee General Counsel"]
[" ","Raymond","Paul",null,"1981 / 1982","Trustee General Counsel"]
[" ","Raymond","Paul",null,"1982 / 1983","Trustee General Counsel"]
[" ","Raymond","Paul",null,"1983 / 1984","Trustee General Counsel"]
[" ","Raymond","Paul",null,"1984 / 1985","Trustee General Counsel"]
[" ","Raymond","Paul",null,"1985 / 1986","Trustee General Counsel"]
[" ","Raymond","Paul",null,"1986 / 1987","Trustee General Counsel"]
[" ","Reaves","O.K.",null,"1920 / 1921","Trustee"]
[" ","Reaves","O.K.",null,"1921 / 1922","Trustee"]
[" ","Reaves","O.K.",null,"1922 / 1923","Trustee"]
[" ","Reaves","O.K.",null,"1923 / 1924","Trustee"]
[" ","Reaves","O.K.",null,"1924 / 1925","Trustee"]
[" ","Reaves","O.K.",null,"1925 / 1926","Trustee"]
[" ","Reaves","O.K.",null,"1926 / 1927","Trustee"]
[" ","Reaves","O.K.",null,"1927 / 1928","Trustee"]
[" ","Reaves","O.K.",null,"1928 / 1929","Trustee"]
[" ","Reaves","O.K.",null,"1929 / 1930","Trustee"]
[" ","Reaves","O.K.",null,"1930 / 1931","Trustee"]
[" ","Reaves","O.K.",null,"1931 / 1932","Trustee"]
[" ","Reaves","O.K.",null,"1932 / 1933","Trustee"]
[" ","Reaves","O.K.",null,"1933 / 1934","Trustee"]
[" ","Reaves","O.K.",null,"1934 / 1935","Trustee"]
[" ","Reaves","O.K.",null,"1935 / 1936","Trustee"]
[" ","Reaves","O.K.",null,"1937 / 1938","Trustee"]
[" ","Reaves","O.K.",null,"1938 / 1939","Trustee"]
[" ","Reaves","O.K.",null,"1939 / 1940","Trustee"]
[" ","Reaves","O.K.",null,"1940 / 1941","Trustee"]
[" ","Reaves","O.K.",null,"1941 / 1942","Trustee & Finance Committee"]
[" ","Reaves","O.K.",null,"1942 / 1943","Trustee & Finance Committee"]
[" ","Reaves","O.K.",null,"1943 / 1944","Trustee & Finance Committee"]
[" ","Reaves","O.K.",null,"1944 / 1945","Trustee & Finance Committee"]
[" ","Reaves","O.K.",null,"1945 / 1946","Trustee & Finance Committee"]
[" ","Reaves","O.K.",null,"1946 / 1947","Trustee & Finance Committee"]
[" ","Reaves","O.K.",null,"1947 / 1948","Trustee & Finance Committee"]
[" ","Reaves","O.K.",null,"1948 / 1949","Trustee & Finance Committee"]
[" ","Reaves","O.K.",null,"1949 / 1950","Trustee & Finance Committee"]
[" ","Reaves","O.K.",null,"1950 / 1951","Trustee"]
[" ","Reaves","O.K.",null,"1952 / 1953","Trustee"]
[" ","Reaves","O.K.",null,"1953 / 1954","Trustee & Finance Committee"]
[" ","Reaves","O.K.",null,"1954 / 1955","Trustee & Finance Committee"]
[" ","Reaves","O.K.",null,"1955 / 1956","Trustee & Finance Committee"]
[" ","Reaves","O.K.",null,"1956 / 1957","Trustee"]
[" ","Reaves","O.K.",null,"1957 / 1958","Trustee"]
[" ","Reaves","O.K.",null,"1958 / 1959","Trustee"]
[" ","Reaves","O.K.",null,"1960 / 1961","Trustee Emeritus"]
[" ","Reaves","O.K.",null,"1962 / 1963","Trustee Emeritus"]
[" ","Reaves","O.K.",null,"1963 / 1964","Trustee Emeritus"]
[" ","Reaves","O.K.",null,"1964 / 1965","Trustee Emeritus"]
[" ","Reaves","O.K.",null,"1965 / 1966","Trustee Emeritus"]
[" ","Reaves","O.K.",null,"1966 / 1967","Trustee Emeritus"]
[" ","Reaves","O.K.",null,"1967 / 1968","Trustee Emeritus"]
[" ","Reaves","O.K.",null,"1968 / 1969","Trustee Emeritus"]
[" ","Reaves","O.K.",null,"1969 / 1970","Trustee Emeritus"]
[" ","Reaves","O.K.",null,"1970 / 1971","Trustee Emeritus"]
[" ","Reaves","O.K.",null,"1971 / 1972","Trustee Emeritus"]
[" ","Reddick","Gary D",null,"2009 / 2010","Trustee"]
[" ","Reddick","Gary D",null,"2010 / 2011","Trustee"]
[" ","Reddick","Gary D",null,"2011 / 2012","Trustee"]
[" ","Reddick","Gary D",null,"2012 / 2013","Trustee"]
[" ","Reddick","Gary D",null,"2013 / 2014","Trustee"]
[" ","Reid","B. S.",null,"1962 / 1963","Trustee Treasurer"]
[" ","Reid","B. S.",null,"1963 / 1964","Trustee Treasurer & Executive Committee"]
[" ","Reid","B. S.",null,"1964 / 1965","Trustee Treasurer & Executive Committee"]
[" ","Reid","B. S.",null,"1965 / 1966","Trustee Treasurer & Executive Committee"]
[" ","Reid","B. S.",null,"1966 / 1967","Trustee Treasurer & Executive Committee"]
[" ","Reid","B. S.",null,"1967 / 1968","Trustee Treasurer"]
[" ","Reid","B. S.",null,"1968 / 1969","Trustee Treasurer"]
[" ","Reid","B. S.",null,"1970 / 1971","Trustee Treasurer"]
[" ","Reid","B. S.",null,"1971 / 1972","Trustee Treasurer"]
[" ","Reid","B. S.",null,"1972 / 1973","Trustee Treasurer"]
[" ","Reid","B. S.",null,"1974 / 1975","Trustee Treasurer"]
[" ","Renfroe","Lowell Edwin",null,"1988 / 1989","Trustee Secretary"]
[" ","Renfroe","Lowell Edwin",null,"1989 / 1990","Trustee Secretary"]
[" ","Renfroe","Lowell Edwin",null,"1990 / 1991","Trustee Secretary"]
[" ","Renfroe","Lowell Edwin",null,"1991 / 1992","Trustee Secretary"]
[" ","Renfroe","Lowell Edwin",null,"1993 / 1994","Trustee Treasurer"]
[" ","Renfroe","Lowell Edwin",null,"1994 / 1995","Trustee Treasurer"]
[" ","Renfroe","Lowell Edwin",null,"1995 / 1996","Trustee"]
[" ","Renfroe","Lowell Edwin",null,"1996 / 1997","Trustee"]
[" ","Renfroe","Lowell Edwin",null,"1997 / 1998","Trustee"]
[" ","Rhodes","Terry J.",null,"1995 / 1996","Trustee"]
[" ","Rhodes","Terry J.",null,"1996 / 1997","Trustee"]
[" ","Rhodes","Terry J.",null,"1997 / 1998","Trustee"]
[" ","Rhodes","Terry J.",null,"1999 / 2000","Trustee"]
[" ","Rhodes","Terry J.",null,"2000 / 2001","Trustee"]
[" ","Rhodes","Terry J.",null,"2001 / 2002","Trustee"]
[" ","Rhodes","Terry J.",null,"2002 / 2003","Trustee"]
[" ","Rhodes","Terry J.",null,"2003 / 2004","Trustee"]
[" ","Rhodes","Terry J.",null,"2004 / 2005","Trustee"]
[" ","Rhodes","Terry J.",null,"2005 / 2006","Trustee"]
[" ","Rhodes","Terry J.",null,"2006 / 2007","Trustee"]
[" ","Rhodes","Terry J.",null,"2007 / 2008","Trustee"]
[" ","Rhodes","Terry J.",null,"2008 / 2009","Trustee"]
[" ","Rhodes","Terry J.",null,"2009 / 2010","Trustee"]
[" ","Rinker","David B.",null,"1988 / 1989","Trustee"]
[" ","Rinker","David B.",null,"1989 / 1990","Trustee"]
[" ","Rinker","David B.",null,"1990 / 1991","Trustee"]
[" ","Rinker","David B.",null,"1991 / 1992","Trustee"]
[" ","Rinker","David B.",null,"1993 / 1994","Trustee"]
[" ","Rinker","David B.",null,"1994 / 1995","Trustee"]
[" ","Rinker","David B.",null,"1995 / 1996","Trustee"]
[" ","Rinker","David B.",null,"1996 / 1997","Trustee"]
[" ","Rinker","David B.",null,"1997 / 1998","Trustee"]
[" ","Rinker","David B.",null,"1999 / 2000","Trustee"]
[" ","Rinker","David B.",null,"2000 / 2001","Trustee"]
[" ","Rinker","David B.",null,"2001 / 2002","Trustee"]
[" ","Rinker","David B.",null,"2002 / 2003","Trustee"]
[" ","Rinker","David B.",null,"2003 / 2004","Trustee"]
[" ","Rinker","David B.",null,"2004 / 2005","Trustee"]
[" ","Rinker","David B.",null,"2005 / 2006","Trustee"]
[" ","Rinker","David B.",null,"2006 / 2007","Trustee"]
[" ","Rinker","David B.",null,"2007 / 2008","Trustee"]
[" ","Rinker","David B.",null,"2008 / 2009","Trustee"]
[" ","Rinker","David B.",null,"2009 / 2010","Trustee"]
[" ","Rinker","David B.",null,"2010 / 2011","Trustee"]
[" ","Rinker","David B.",null,"2011 / 2012","Trustee"]
[" ","Rinker","David B.",null,"2012 / 2013","Trustee"]
[" ","Rinker","David B.",null,"2013 / 2014","Trustee"]
[" ","Rinker","M. E.",null,"1969 / 1970","Trustee"]
[" ","Rinker","M. E.",null,"1970 / 1971","Trustee"]
[" ","Rinker","M. E.",null,"1971 / 1972","Trustee"]
[" ","Rinker","M. E.",null,"1972 / 1973","Trustee"]
[" ","Rinker","M. E.",null,"1974 / 1975","Trustee"]
[" ","Rinker","M. E.",null,"1975 / 1976","Trustee"]
[" ","Rinker","M. E.",null,"1978 / 1979","Trustee"]
[" ","Rinker","M. E.",null,"1979 / 1980","Trustee"]
[" ","Rinker","M. E.",null,"1980 / 1981","Trustee"]
[" ","Rinker","M. E.",null,"1981 / 1982","Trustee"]
[" ","Rinker","M. E.",null,"1982 / 1983","Trustee"]
[" ","Rinker","M. E.",null,"1983 / 1984","Trustee"]
[" ","Rinker","M. E.",null,"1984 / 1985","Trustee"]
[" ","Rinker","M. E.",null,"1985 / 1986","Trustee"]
[" ","Rinker","M. E.",null,"1986 / 1987","Trustee"]
[" ","Rinker","M. E.",null,"1987 / 1988","Trustee Emeritus"]
[" ","Rinker","M. E.",null,"1988 / 1989","Trustee Emeritus"]
[" ","Rinker","M. E.",null,"1989 / 1990","Trustee Emeritus"]
[" ","Rinker","M. E.",null,"1990 / 1991","Trustee Emeritus"]
[" ","Rinker","M. E.",null,"1991 / 1992","Trustee Emeritus"]
[" ","Rinker","M. E.",null,"1995 / 1996","Trustee Emeritus"]
[" ","Rinker","M. E.",null,"1996 / 1997","Trustee Emeritus"]
[" ","Roberts III","William M.",null,"1991 / 1992","Trustee"]
[" ","Robinson","J. E.",null,"1944 / 1945","Trustee"]
[" ","Robinson","J. E.",null,"1945 / 1946","Trustee & Finance Committee"]
[" ","Robinson","J. E.",null,"1946 / 1947","Trustee & Finance Committee"]
[" ","Robinson","J. E.",null,"1947 / 1948","Trustee & Finance Committee"]
[" ","Robinson","J. E.",null,"1948 / 1949","Trustee & Finance Committee"]
[" ","Robinson","J. E.",null,"1949 / 1950","Trustee & Finance Committee"]
[" ","Robinson","J. E.",null,"1950 / 1951","Trustee"]
[" ","Robinson","J. E.",null,"1952 / 1953","Trustee"]
[" ","Robinson","J. E.",null,"1953 / 1954","Trustee & Finance Committee"]
[" ","Robinson","J. E.",null,"1954 / 1955","Trustee & Finance Committee"]
[" ","Robinson","J. E.",null,"1955 / 1956","Trustee & Finance Committee"]
[" ","Robinson","J. E.",null,"1956 / 1957","Trustee & Finance Committee"]
[" ","Robinson","J. E.",null,"1957 / 1958","Trustee & Finance Committee"]
[" ","Robinson","J. E.",null,"1958 / 1959","Trustee"]
[" ","Robinson","J. E.",null,"1960 / 1961","Trustee"]
[" ","Robinson","J. E.",null,"1962 / 1963","Trustee"]
[" ","Robinson","J. E.",null,"1963 / 1964","Trustee"]
[" ","Robinson","J. E.",null,"1964 / 1965","Trustee"]
[" ","Robinson","J. E.",null,"1965 / 1966","Trustee"]
[" ","Robinson","J. E.",null,"1966 / 1967","Trustee"]
[" ","Robinson","J. E.",null,"1967 / 1968","Trustee"]
[" ","Robinson","J. E.",null,"1968 / 1969","Trustee"]
[" ","Robinson","J. E.",null,"1969 / 1970","Trustee"]
[" ","Robinson","J. E.",null,"1970 / 1971","Trustee Emeritus"]
[" ","Robinson","J. E.",null,"1971 / 1972","Trustee Emeritus"]
[" ","Rogers","S.B.","D.D.","1919 / 1920","Trustee"]
[" ","Rogers","S.B.","D.D.","1920 / 1921","Trustee"]
[" ","Rogers","S.B.","D.D.","1921 / 1922","Trustee"]
[" ","Rogers","S.B.","D.D.","1922 / 1923","Trustee"]
[" ","Rogers","S.B.","D.D.","1923 / 1924","Trustee"]
[" ","Rogers","S.B.","D.D.","1924 / 1925","Trustee"]
[" ","Rogers","S.B.","D.D.","1925 / 1926","Trustee"]
[" ","Rogers","Wallace R.","D.D.","1946 / 1947","Trustee"]
[" ","Rogers","Wallace R.","D.D.","1947 / 1948","Trustee"]
[" ","Rosselle","William Q.","Rev., Ph.D.","1908 / 1909","Trustee"]
[" ","Rosselle","William Q.","Rev., Ph.D.","1909 / 1910","Trustee"]
[" ","Rosselle","William Q.","Rev., Ph.D.","1910 / 1911","Trustee"]
[" ","Rosselle","William Q.","Rev., Ph.D.","1911 / 1912","Trustee"]
[" ","Rosselle","William Q.","Rev., Ph.D.","1912 / 1913","Trustee"]
[" ","Rosselle","William Q.","Rev., Ph.D.","1913 / 1914","Trustee"]
[" ","Rosselle","William Q.","Rev., Ph.D.","1914 / 1915","Trustee"]
[" ","Rosselle","William Q.","Rev., Ph.D.","1915 / 1916","Trustee"]
[" ","Rosselle","William Q.","Rev., Ph.D.","1916 / 1917","Trustee"]
[" ","Rosselle","William Q.","Rev., Ph.D.","1917 / 1918","Trustee"]
[" ","Rosselle","William Q.","Rev., Ph.D.","1918 / 1919","Trustee"]
[" ","Rydberg","Marsha Griffin",null,"2003 / 2004","Trustee Ex-Officio; Chair, Law Board"]
[" ","Rydberg","Marsha Griffin",null,"2004 / 2005","Trustee Ex-Officio; Chair, Law Board"]
[" ","Rydberg","Marsha Griffin",null,"2005 / 2006","Trustee Ex-Officio; Chair, Law Board"]
[" ","Sampson","C.T.",null,"1887 / 1888","Trustee"]
[" ","Sampson","C.T.",null,"1888 / 1889","Trustee"]
[" ","Sampson","C.T.",null,"1889 / 1890","Trustee"]
[" ","Sampson","C.T.",null,"1891 / 1892","Trustee"]
[" ","Sampson","C.T.",null,"1892 / 1893","Trustee"]
[" ","Sanders","Harold G.",null,"1956 / 1957","Trustee"]
[" ","Sanders","Harold G.",null,"1957 / 1958","Trustee"]
[" ","Sanders","Harold G.",null,"1958 / 1959","Trustee"]
[" ","Sanders","Harold G.",null,"1960 / 1961","Trustee"]
[" ","Sanders","Harold G.",null,"1962 / 1963","Trustee"]
[" ","Sandridge","Dorothy Jennings",null,"1997 / 1998","Trustee"]
[" ","Sandridge","Dorothy Jennings",null,"1999 / 2000","Trustee"]
[" ","Sandridge","Dorothy Jennings",null,"2000 / 2001","Trustee"]
[" ","Santa Eulalia","Elizabeth","Countess","1913 / 1914","Trustee & Committee on Administrative"]
[" ","Santa Eulalia","Elizabeth","Countess","1914 / 1915","Trustee & Committee on Administrative"]
[" ","Santa Eulalia","Elizabeth","Countess","1915 / 1916","Trustee & Committee on Administrative"]
[" ","Santa Eulalia","Elizabeth","Countess","1916 / 1917","Trustee & Committee on Administrative"]
[" ","Santa Eulalia","Elizabeth","Countess","1917 / 1918","Trustee & Committee on Administrative"]
[" ","Santa Eulalia","Elizabeth","Countess","1918 / 1919","Trustee & Committee on Administrative"]
[" ","Santa Eulalia","Elizabeth","Countess","1919 / 1920","Trustee & Committee on Administrative"]
[" ","Santa Eulalia","Elizabeth","Countess","1920 / 1921","Trustee & Committee on Administrative"]
[" ","Santa Eulalia","Elizabeth","Countess","1921 / 1922","Trustee & Committee on Administrative"]
[" ","Santa Eulalia","Elizabeth","Countess","1922 / 1923","Trustee & Committee on Administrative"]
[" ","Santa Eulalia","Elizabeth","Countess","1923 / 1924","Trustee & Committee on Administrative"]
[" ","Santa Eulalia","Elizabeth","Countess","1924 / 1925","Trustee & Committee on Administrative"]
[" ","Santa Eulalia","Elizabeth","Countess","1925 / 1926","Trustee & Committee on Administrative"]
[" ","Santa Eulalia","Elizabeth","Countess","1926 / 1927","Trustee & Committee on Administrative"]
[" ","Santa Eulalia","Elizabeth","Countess","1927 / 1928","Trustee & Committee on Administrative"]
[" ","Santa Eulalia","Elizabeth","Countess","1928 / 1929","Trustee & Committee on Administrative"]
[" ","Santa Eulalia","Elizabeth","Countess","1929 / 1930","Trustee & Committee on Administrative (deceased)"]
[" ","Sargent","M.W.",null,"1885 / 1886","Trustee Treasurer & Executive Committee"]
[" ","Sargent","M.W.",null,"1887 / 1888","Trustee Treasurer & Executive Committee"]
[" ","Sargent","M.W.",null,"1888 / 1889","Trustee & Executive Committee"]
[" ","Sargent","M.W.",null,"1889 / 1890","Trustee & Executive Committee"]
[" ","Sargent","M.W.",null,"1891 / 1892","Trustee & Executive Committee"]
[" ","Sargent","M.W.",null,"1892 / 1893","Trustee & Executive Committee"]
[" ","Sargent","M.W.",null,"1894 / 1895","Trustee & Executive Committee"]
[" ","Sargent","M.W.",null,"1895 / 1896","Trustee & Executive Committee"]
[" ","Search","Theodore C.",null,"1896 / 1897","Trustee"]
[" ","Search","Theodore C.",null,"1897 / 1898","Trustee"]
[" ","Search","Theodore C.",null,"1898 / 1899","Trustee"]
[" ","Search","Theodore C.",null,"1899 / 1900","Trustee"]
[" ","Search","Theodore C.",null,"1900 / 1901","Trustee"]
[" ","Search","Theodore C.",null,"1901 / 1902","Trustee"]
[" ","Search","Theodore C.",null,"1902 / 1903","Trustee"]
[" ","Search","Theodore C.",null,"1903 / 1904","Trustee"]
[" ","Search","Theodore C.",null,"1904 / 1905","Trustee"]
[" ","Search","Theodore C.",null,"1905 / 1906","Trustee President"]
[" ","Search","Theodore C.",null,"1906 / 1907","Trustee President"]
[" ","Search","Theodore C.",null,"1907 / 1908","Trustee"]
[" ","Search","Theodore C.",null,"1908 / 1909","Trustee"]
[" ","Search","Theodore C.",null,"1909 / 1910","Trustee"]
[" ","Search","Theodore C.",null,"1910 / 1911","Trustee"]
[" ","Search","Theodore C.",null,"1911 / 1912","Trustee"]
[" ","Search","Theodore C.",null,"1912 / 1913","Trustee"]
[" ","Search","Theodore C.",null,"1913 / 1914","Trustee"]
[" ","Search","Theodore C.",null,"1914 / 1915","Trustee"]
[" ","Search","Theodore C.",null,"1915 / 1916","Trustee"]
[" ","Search","Theodore C.",null,"1916 / 1917","Trustee"]
[" ","Search","Theodore C.",null,"1917 / 1918","Trustee"]
[" ","Search","Theodore C.",null,"1918 / 1919","Trustee"]
[" ","Search","Theodore C.",null,"1919 / 1920","Trustee"]
[" ","Self","William L.",null,"1985 / 1986","Trustee"]
[" ","Self","William L.",null,"1986 / 1987","Trustee"]
[" ","Self","William L.",null,"1987 / 1988","Trustee"]
[" ","Self","William L.",null,"1988 / 1989","Trustee"]
[" ","Self","William L.",null,"1989 / 1990","Trustee"]
[" ","Self","William L.",null,"1990 / 1991","Trustee"]
[" ","Self","William L.",null,"1991 / 1992","Trustee"]
[" ","Self","William L.",null,"1993 / 1994","Trustee"]
[" ","Shotwell","Theo.",null,"1887 / 1888","Trustee Secretary & Executive Committee"]
[" ","Smith","Robert L.",null,"1983 / 1984","Trustee"]
[" ","Smith","Robert L.",null,"1984 / 1985","Trustee"]
[" ","Smith, Jr.","William Reece",null,"1999 / 2000","Trustee"]
[" ","Smith, Jr.","William Reece",null,"2000 / 2001","Trustee"]
[" ","Smith, Jr.","William Reece",null,"2001 / 2002","Trustee"]
[" ","Solomon","Edward B.",null,"1899 / 1900","Trustee"]
[" ","Solomon","Edward B.",null,"1901 / 1902","Trustee"]
[" ","Solomon","Edward B.",null,"1902 / 1903","Trustee"]
[" ","Solomon","Edward B.",null,"1903 / 1904","Trustee"]
[" ","Solomon","Edward B.",null,"1904 / 1905","Trustee"]
[" ","Solomon","Edward B.",null,"1905 / 1906","Trustee"]
[" ","Solomon","Edward B.",null,"1915 / 1916","Trustee"]
[" ","Solomon","Edward B.",null,"1916 / 1917","Trustee"]
[" ","Solomon","Edward B.",null,"1917 / 1918","Trustee"]
[" ","Solomon","Edward B.",null,"1918 / 1919","Trustee"]
[" ","Solomon","Edward B.",null,"1919 / 1920","Trustee"]
[" ","Solomon","Edward B.",null,"1920 / 1921","Trustee"]
[" ","Solomon","Edward B.",null,"1921 / 1922","Trustee"]
[" ","Solomon","Edward B.",null,"1922 / 1923","Trustee"]
[" ","Solomon","Edward B.",null,"1923 / 1924","Trustee"]
[" ","Solomon","Edward B.",null,"1924 / 1925","Trustee"]
[" ","Solomon","Edward B.",null,"1926 / 1927","Trustee"]
[" ","Solomon","Edward B.",null,"1927 / 1928","Trustee"]
[" ","Solomon","Edward B.",null,"1928 / 1929","Trustee"]
[" ","Solomon","Edward B.",null,"1929 / 1930","Trustee (deceased)"]
[" ","Sparkman","T.J.",null,"1885 / 1886","Trustee"]
[" ","Sparkman","T.J.",null,"1887 / 1888","Trustee"]
[" ","Sparkman","T.J.",null,"1888 / 1889","Trustee"]
[" ","Sparkman","T.J.",null,"1889 / 1890","Trustee"]
[" ","Sparkman","T.J.",null,"1891 / 1892","Trustee"]
[" ","Sparkman","T.J.",null,"1892 / 1893","Trustee"]
[" ","Sparkman","T.J.",null,"1894 / 1895","Trustee"]
[" ","Sparkman","T.J.",null,"1895 / 1896","Trustee"]
[" ","Sparkman","T.J.",null,"1896 / 1897","Trustee"]
[" ","Sparkman","T.J.",null,"1897 / 1898","Trustee"]
[" ","Sparkman","T.J.",null,"1898 / 1899","Trustee"]
[" ","Sparkman","T.J.",null,"1899 / 1900","Trustee"]
[" ","Sparkman","T.J.",null,"1900 / 1901","Trustee"]
[" ","Sparkman","T.J.",null,"1901 / 1902","Trustee"]
[" ","Sparkman","T.J.",null,"1902 / 1903","Trustee Vice-President & Committee on Administrative"]
[" ","Sparkman","T.J.",null,"1903 / 1904","Trustee Vice-President & Committee on Administrative"]
[" ","Sparkman","T.J.",null,"1904 / 1905","Trustee Vice-President"]
[" ","Sparkman","T.J.",null,"1905 / 1906","Trustee"]
[" ","Sparkman","T.J.",null,"1906 / 1907","Trustee"]
[" ","Sparkman","T.J.",null,"1907 / 1908","Trustee"]
[" ","Sparkman","T.J.",null,"1908 / 1909","Trustee"]
[" ","Sparkman","T.J.",null,"1909 / 1910","Trustee"]
[" ","Sparkman","T.J.",null,"1910 / 1911","Trustee"]
[" ","Sparkman","T.J.",null,"1911 / 1912","Trustee"]
[" ","Sparkman","T.J.",null,"1912 / 1913","Trustee"]
[" ","Sparkman","T.J.",null,"1913 / 1914","Trustee"]
[" ","Sparkman","T.J.",null,"1914 / 1915","Trustee"]
[" ","Sparkman","T.J.",null,"1915 / 1916","Trustee"]
[" ","Speller","H.C.","Rev.","1892 / 1893","Trustee"]
[" ","Speller","H.C.","Rev.","1894 / 1895","Trustee"]
[" ","Speller","H.C.","Rev.","1895 / 1896","Trustee"]
[" ","Staed","Thomas W.",null,"1995 / 1996","Trustee"]
[" ","Staed","Thomas W.",null,"1996 / 1997","Trustee"]
[" ","Staed","Thomas W.",null,"1997 / 1998","Trustee"]
[" ","Staed","Thomas W.",null,"1999 / 2000","Trustee Ex-Officio; on leave"]
[" ","Staed","Thomas W.",null,"2000 / 2001","Trustee Ex-Officio; on leave"]
[" ","Staed","Thomas W.",null,"2001 / 2002","Trustee Ex-Officio; on leave"]
[" ","Stenstrom","O. Douglas",null,"1969 / 1970","Trustee"]
[" ","Stenstrom","O. Douglas",null,"1970 / 1971","Trustee"]
[" ","Stenstrom","O. Douglas",null,"1971 / 1972","Trustee"]
[" ","Stenstrom","O. Douglas",null,"1975 / 1976","Trustee"]
[" ","Stenstrom","O. Douglas",null,"1987 / 1988","Trustee General Counsel"]
[" ","Stenstrom","O. Douglas",null,"1988 / 1989","Trustee General Counsel"]
[" ","Stetson","G. Henry",null,"1913 / 1914","Trustee"]
[" ","Stetson","G. Henry",null,"1914 / 1915","Trustee"]
[" ","Stetson","G. Henry",null,"1915 / 1916","Trustee"]
[" ","Stetson","G. Henry",null,"1916 / 1917","Trustee"]
[" ","Stetson","G. Henry",null,"1917 / 1918","Trustee"]
[" ","Stetson","G. Henry",null,"1918 / 1919","Trustee"]
[" ","Stetson","G. Henry",null,"1919 / 1920","Trustee"]
[" ","Stetson","G. Henry",null,"1920 / 1921","Trustee"]
[" ","Stetson","G. Henry",null,"1921 / 1922","Trustee"]
[" ","Stetson","G. Henry",null,"1922 / 1923","Trustee"]
[" ","Stetson","G. Henry",null,"1923 / 1924","Trustee"]
[" ","Stetson","G. Henry",null,"1924 / 1925","Trustee"]
[" ","Stetson","G. Henry",null,"1925 / 1926","Trustee"]
[" ","Stetson","G. Henry",null,"1926 / 1927","Trustee"]
[" ","Stetson","G. Henry",null,"1927 / 1928","Trustee"]
[" ","Stetson","G. Henry",null,"1928 / 1929","Trustee"]
[" ","Stetson","G. Henry",null,"1929 / 1930","Trustee"]
[" ","Stetson","G. Henry",null,"1930 / 1931","Trustee"]
[" ","Stetson","G. Henry",null,"1931 / 1932","Trustee"]
[" ","Stetson","G. Henry",null,"1932 / 1933","Trustee"]
[" ","Stetson","G. Henry",null,"1933 / 1934","Trustee"]
[" ","Stetson","G. Henry",null,"1934 / 1935","Trustee"]
[" ","Stetson","G. Henry",null,"1935 / 1936","Trustee"]
[" ","Stetson","G. Henry",null,"1937 / 1938","Trustee"]
[" ","Stetson","G. Henry",null,"1938 / 1939","Trustee"]
[" ","Stetson","G. Henry",null,"1939 / 1940","Trustee"]
[" ","Stetson","G. Henry",null,"1940 / 1941","Trustee"]
[" ","Stetson","G. Henry",null,"1941 / 1942","Trustee"]
[" ","Stetson","G. Henry",null,"1942 / 1943","Trustee"]
[" ","Stetson","G. Henry",null,"1943 / 1944","Trustee"]
[" ","Stetson","G. Henry",null,"1944 / 1945","Trustee"]
[" ","Stetson","G. Henry",null,"1945 / 1946","Trustee"]
[" ","Stetson","G. Henry",null,"1946 / 1947","Trustee"]
[" ","Stetson","G. Henry",null,"1947 / 1948","Trustee"]
[" ","Stetson","G. Henry",null,"1948 / 1949","Trustee"]
[" ","Stetson","G. Henry",null,"1949 / 1950","Trustee"]
[" ","Stetson","G. Henry",null,"1950 / 1951","Trustee"]
[" ","Stetson","G. Henry",null,"1952 / 1953","Trustee"]
[" ","Stetson","G. Henry",null,"1953 / 1954","Trustee & Library Maintenance Trustee"]
[" ","Stetson","G. Henry",null,"1954 / 1955","Trustee & Library Maintenance Trustee"]
[" ","Stetson","G. Henry",null,"1955 / 1956","Trustee & Library Maintenance Trustee"]
[" ","Stetson","G. Henry",null,"1956 / 1957","Trustee & Library Maintenance Trustee"]
[" ","Stetson","G. Henry",null,"1957 / 1958","Trustee & Library Maintenance Trustee"]
[" ","Stetson","G. Henry",null,"1958 / 1959","Trustee & Library Maintenance Trustee"]
[" ","Stetson","G. Henry",null,"1960 / 1961","Trustee"]
[" ","Stetson","G. Henry",null,"1962 / 1963","Trustee"]
[" ","Stetson","G. Henry",null,"1963 / 1964","Trustee"]
[" ","Stetson","G. Henry",null,"1964 / 1965","Trustee Emeritus"]
[" ","Stetson","G. Henry",null,"1965 / 1966","Trustee Emeritus"]
[" ","Stetson","G. Henry",null,"1966 / 1967","Trustee Emeritus"]
[" ","Stetson","G. Henry",null,"1967 / 1968","Trustee Emeritus"]
[" ","Stetson","G. Henry",null,"1968 / 1969","Trustee Emeritus"]
[" ","Stetson","G. Henry",null,"1969 / 1970","Trustee Emeritus"]
[" ","Stetson","G. Henry",null,"1970 / 1971","Trustee Emeritus"]
[" ","Stetson","G. Henry",null,"1971 / 1972","Trustee Emeritus"]
[" ","Stetson","G. Henry",null,"1972 / 1973","Trustee Emeritus"]
[" ","Stetson","G. Henry",null,"1974 / 1975","Trustee Emeritus"]
[" ","Stetson","G. Henry",null,"1975 / 1976","Trustee Emeritus"]
[" ","Stetson","G. Henry",null,"1978 / 1979","Trustee Emeritus"]
[" ","Stetson","G. Henry",null,"1979 / 1980","Trustee Emeritus"]
[" ","Stetson","G. Henry",null,"1980 / 1981","Trustee Emeritus"]
[" ","Stetson","G. Henry",null,"1981 / 1982","Trustee Emeritus"]
[" ","Stetson","G. Henry",null,"1982 / 1983","Trustee Emeritus"]
[" ","Stetson","John B.",null,"1887 / 1888","Trustee & Executive Committee"]
[" ","Stetson","John B.",null,"1888 / 1889","Trustee President & Executive Committee"]
[" ","Stetson","John B.",null,"1889 / 1890","Trustee President & Executive Committee"]
[" ","Stetson","John B.",null,"1891 / 1892","Trustee President & Executive Committee"]
[" ","Stetson","John B.",null,"1892 / 1893","Trustee President & Executive Committee"]
[" ","Stetson","John B.",null,"1894 / 1895","Trustee President & Executive Committee"]
[" ","Stetson","John B.",null,"1895 / 1896","Trustee President & Executive Committee"]
[" ","Stetson","John B.",null,"1896 / 1897","Trustee President & Executive Committee"]
[" ","Stetson","John B.",null,"1897 / 1898","Trustee President & Executive Committee"]
[" ","Stetson","John B.",null,"1898 / 1899","Trustee President & Executive Committee"]
[" ","Stetson","John B.",null,"1899 / 1900","Trustee President & Executive Committee"]
[" ","Stetson","John B.",null,"1900 / 1901","Trustee President & Executive Committee"]
[" ","Stetson","John B.",null,"1901 / 1902","Trustee President & Executive Committee"]
[" ","Stetson","John B.",null,"1902 / 1903","Trustee"]
[" ","Stetson","John B.",null,"1903 / 1904","Trustee"]
[" ","Stetson","John B.",null,"1904 / 1905","Trustee President & Committee on Administrative"]
[" ","Stetson","John B., Jr.","D.C.L.","1906 / 1907","Trustee"]
[" ","Stetson","John B., Jr.","D.C.L.","1907 / 1908","Trustee President"]
[" ","Stetson","John B., Jr.","D.C.L.","1908 / 1909","Trustee President"]
[" ","Stetson","John B., Jr.","D.C.L.","1909 / 1910","Trustee President"]
[" ","Stetson","John B., Jr.","D.C.L.","1910 / 1911","Trustee President"]
[" ","Stetson","John B., Jr.","D.C.L.","1911 / 1912","Trustee President"]
[" ","Stetson","John B., Jr.","D.C.L.","1912 / 1913","Trustee President"]
[" ","Stetson","John B., Jr.","D.C.L.","1913 / 1914","Trustee President"]
[" ","Stetson","John B., Jr.","D.C.L.","1914 / 1915","Trustee President"]
[" ","Stetson","John B., Jr.","D.C.L.","1915 / 1916","Trustee President"]
[" ","Stetson","John B., Jr.","D.C.L.","1916 / 1917","Trustee President"]
[" ","Stetson","John B., Jr.","D.C.L.","1917 / 1918","Trustee President"]
[" ","Stetson","John B., Jr.","D.C.L.","1918 / 1919","Trustee President"]
[" ","Stetson","John B., Jr.","D.C.L.","1919 / 1920","Trustee President"]
[" ","Stetson","John B., Jr.","D.C.L.","1920 / 1921","Trustee President & Committee on Administrative"]
[" ","Stetson","John B., Jr.","D.C.L.","1921 / 1922","Trustee President & Committee on Administrative"]
[" ","Stetson","John B., Jr.","D.C.L.","1922 / 1923","Trustee President & Committee on Administrative"]
[" ","Stetson","John B., Jr.","D.C.L.","1923 / 1924","Trustee President"]
[" ","Stetson","John B., Jr.","D.C.L.","1924 / 1925","Trustee President"]
[" ","Stetson","John B., Jr.","D.C.L.","1925 / 1926","Trustee President"]
[" ","Stetson","John B., Jr.","D.C.L.","1926 / 1927","Trustee President"]
[" ","Stetson","John B., Jr.","D.C.L.","1927 / 1928","Trustee President"]
[" ","Stetson","John B., Jr.","D.C.L.","1928 / 1929","Trustee President"]
[" ","Stetson","John B., Jr.","D.C.L.","1929 / 1930","Trustee President"]
[" ","Stetson","John B., Jr.","D.C.L.","1930 / 1931","Trustee President & Committee on Administrative"]
[" ","Stetson","John B., Jr.","D.C.L.","1931 / 1932","Trustee President & Committee on Administrative"]
[" ","Stetson","John B., Jr.","D.C.L.","1932 / 1933","Trustee President & Committee on Administrative"]
[" ","Stetson","John B., Jr.","D.C.L.","1933 / 1934","Trustee President & Committee on Administrative"]
[" ","Stetson","John B., Jr.","D.C.L.","1934 / 1935","Trustee President & Committee on Administrative"]
[" ","Stetson","John B., Jr.","D.C.L.","1935 / 1936","Trustee President & Committee on Administrative"]
[" ","Stetson","John B., Jr.","D.C.L.","1937 / 1938","Trustee President & Committee on Administrative"]
[" ","Stetson","John B., Jr.","D.C.L.","1938 / 1939","Trustee President & Committee on Administrative"]
[" ","Stetson","John B., Jr.","D.C.L.","1939 / 1940","Trustee President & Committee on Administrative"]
[" ","Stetson","John B., Jr.","D.C.L.","1940 / 1941","Trustee President & Committee on Administrative"]
[" ","Stetson","John B., Jr.","D.C.L.","1941 / 1942","Trustee"]
[" ","Stetson","John B., Jr.","D.C.L.","1942 / 1943","Trustee"]
[" ","Stetson","John B., Jr.","D.C.L.","1943 / 1944","Trustee"]
[" ","Stetson","John B., Jr.","D.C.L.","1944 / 1945","Trustee"]
[" ","Stetson","John B., Jr.","D.C.L.","1945 / 1946","Trustee"]
[" ","Stetson","John B., Jr.","D.C.L.","1946 / 1947","Trustee"]
[" ","Stetson","John B., Jr.","D.C.L.","1947 / 1948","Trustee"]
[" ","Stetson","John B., Jr.","D.C.L.","1948 / 1949","Trustee"]
[" ","Stetson","John B., Jr.","D.C.L.","1949 / 1950","Trustee"]
[" ","Stetson","John B., Jr.","D.C.L.","1950 / 1951","Trustee"]
[" ","Stetson","John B., Jr.","D.C.L.","1952 / 1953","Trustee"]
[" ","Stetson","John B., Jr.","D.C.L.","1953 / 1954","Trustee & Library Maintenance Trustee (deceased)"]
[" ","Stetson","John B., III",null,"1930 / 1931","Trustee"]
[" ","Stetson","John B., III",null,"1931 / 1932","Trustee"]
[" ","Stetson","John B., III",null,"1932 / 1933","Trustee"]
[" ","Stetson","John B., III",null,"1933 / 1934","Trustee"]
[" ","Stetson","John B., III",null,"1934 / 1935","Trustee"]
[" ","Stetson","John B., III",null,"1935 / 1936","Trustee"]
[" ","Stetson","John B., III",null,"1937 / 1938","Trustee"]
[" ","Stetson","John B., III",null,"1938 / 1939","Trustee"]
[" ","Stetson","John B., III",null,"1939 / 1940","Trustee"]
[" ","Stetson","John B., III",null,"1940 / 1941","Trustee"]
[" ","Stetson","John B., III",null,"1941 / 1942","Trustee"]
[" ","Stetson","John B., III",null,"1942 / 1943","Trustee"]
[" ","Stetson","John B., III",null,"1943 / 1944","Trustee"]
[" ","Stetson","John B., III",null,"1944 / 1945","Trustee (deceased)"]
[" ","Stevens","Elmer T.","Rev.","1898 / 1899","Trustee Secretary & Executive Committee"]
[" ","Stevens","Elmer T.","Rev.","1899 / 1900","Trustee Secretary & Executive Committee"]
[" ","Stevens","Elmer T.","Rev.","1900 / 1901","Trustee Secretary & Executive Committee"]
[" ","Stevens","H.B.",null,"1891 / 1892","Trustee"]
[" ","Stevens","H.B.",null,"1892 / 1893","Trustee"]
[" ","Stevens","H.B.",null,"1894 / 1895","Trustee"]
[" ","Stevens","H.B.",null,"1895 / 1896","Trustee"]
[" ","Stevens","H.B.",null,"1896 / 1897","Trustee"]
[" ","Stevens","H.B.",null,"1897 / 1898","Trustee"]
[" ","Stevens","H.B.",null,"1898 / 1899","Trustee"]
[" ","Stevens","H.B.",null,"1899 / 1900","Trustee & Executive Committee"]
[" ","Stevens","H.B.",null,"1900 / 1901","Trustee & Executive Committee"]
[" ","Stevens","H.B.",null,"1901 / 1902","Trustee & Executive Committee"]
[" ","Stevens","H.B.",null,"1902 / 1903","Trustee"]
[" ","Stevens","H.B.",null,"1903 / 1904","Trustee & Committee on Administrative"]
[" ","Stevens","H.B.",null,"1904 / 1905","Trustee & Committee on Administrative"]
[" ","Stevens","H.B.",null,"1905 / 1906","Trustee & Committee on Administrative"]
[" ","Stevens","H.B.",null,"1906 / 1907","Trustee & Committee on Administrative"]
[" ","Stevens","H.B.",null,"1907 / 1908","Trustee & Committee on Administrative"]
[" ","Stevens","H.B.",null,"1908 / 1909","Trustee Vice-President & Committee on Administrative"]
[" ","Stevens","H.B.",null,"1909 / 1910","Trustee Vice-President & Committee on Administrative"]
[" ","Stevens","H.B.",null,"1910 / 1911","Trustee Vice-President & Committee on Administrative"]
[" ","Stevens","H.B.",null,"1911 / 1912","Trustee Vice-President & Committee on Administrative"]
[" ","Stevens","H.B.",null,"1912 / 1913","Trustee Vice-President & Committee on Administrative"]
[" ","Stevens","H.B.",null,"1913 / 1914","Trustee Vice-President & Committee on Administrative"]
[" ","Stevens","H.B.",null,"1914 / 1915","Trustee Vice-President & Committee on Administrative"]
[" ","Stevens","H.B.",null,"1915 / 1916","Trustee Vice-President & Committee on Administrative"]
[" ","Stevens","H.B.",null,"1916 / 1917","Trustee Vice-President & Committee on Administrative"]
[" ","Stevens","H.B.",null,"1917 / 1918","Trustee Vice-President & Committee on Administrative"]
[" ","Stevens","H.B.",null,"1918 / 1919","Trustee Vice-President & Committee on Administrative"]
[" ","Stevens","H.B.",null,"1919 / 1920","Trustee Vice-President & Committee on Administrative"]
[" ","Stevens","H.B.",null,"1920 / 1921","Trustee Vice-President & Committee on Administrative"]
[" ","Stevens","H.B.",null,"1921 / 1922","Trustee Vice-President & Committee on Administrative"]
[" ","Stevens","H.B.",null,"1922 / 1923","Trustee Vice-President & Committee on Administrative"]
[" ","Stevens","H.B.",null,"1923 / 1924","Trustee Vice-President & Committee on Administrative"]
[" ","Stevens","H.B.",null,"1924 / 1925","Trustee Vice-President & Committee on Administrative"]
[" ","Stevens","H.B.",null,"1925 / 1926","Trustee Vice-President & Committee on Administrative"]
[" ","Stevens","H.B.",null,"1926 / 1927","Trustee Vice-President & Committee on Administrative"]
[" ","Stevens","H.B.",null,"1927 / 1928","Trustee Vice-President & Committee on Administrative"]
[" ","Stevens","H.B.",null,"1928 / 1929","Trustee Vice-President & Committee on Administrative"]
[" ","Stevens","H.B.",null,"1929 / 1930","Trustee Vice-President & Committee on Administrative"]
[" ","Stevens","H.B.",null,"1930 / 1931","Trustee Vice-President & Committee on Administrative"]
[" ","Stevens","H.B.",null,"1931 / 1932","Trustee Vice-President & Committee on Administrative"]
[" ","Stevens","H.B.",null,"1932 / 1933","Trustee Vice-President & Committee on Administrative"]
[" ","Stevens","H.B.",null,"1933 / 1934","Trustee Vice-President & Committee on Administrative"]
[" ","Stevens","H.B.",null,"1934 / 1935","Trustee & Committee on Administrative"]
[" ","Stevens","H.B.",null,"1935 / 1936","Trustee & Committee on Administrative"]
[" ","Stevens","H.B.",null,"1937 / 1938","Trustee & Committee on Administrative"]
[" ","Stevens","H.B.",null,"1938 / 1939","Trustee (deceased)"]
[" ","Stewart","William H.","Rev.","1899 / 1900","Trustee"]
[" ","Stewart","William H.","Rev.","1900 / 1901","Trustee"]
[" ","Stewart","William H.","Rev.","1901 / 1902","Trustee & Executive Committee"]
[" ","Stewart","William H.","Rev.","1902 / 1903","Trustee & Committee on Administrative"]
[" ","Stewart","William H.","Rev.","1903 / 1904","Trustee Treasurer"]
[" ","Stewart","William H.","Rev.","1904 / 1905","Trustee"]
[" ","Stewart","William H.","Rev.","1905 / 1906","Trustee"]
[" ","Stewart","William H.","Rev.","1906 / 1907","Trustee"]
[" ","Stewart","William H.","Rev.","1907 / 1908","Trustee"]
[" ","Stewart","William H.","Rev.","1908 / 1909","Trustee"]
[" ","Stewart","William H.","Rev.","1909 / 1910","Trustee"]
[" ","Stewart","William H.","Rev.","1910 / 1911","Trustee"]
[" ","Stewart","William H.","Rev.","1911 / 1912","Trustee"]
[" ","Stewart","William H.","Rev.","1912 / 1913","Trustee (deceased)"]
[" ","Strickland","David M.",null,"1997 / 1998","Trustee"]
[" ","Strickland","David M.",null,"1999 / 2000","Trustee"]
[" ","Strickland","David M.",null,"2000 / 2001","Trustee"]
[" ","Strickland","David M.",null,"2001 / 2002","Trustee"]
[" ","Strickland","David M.",null,"2002 / 2003","Trustee"]
[" ","Strickland","David M.",null,"2003 / 2004","Trustee"]
[" ","Strickland","David M.",null,"2004 / 2005","Trustee"]
[" ","Strickland","David M.",null,"2005 / 2006","Trustee"]
[" ","Strickland","David M.",null,"2006 / 2007","Trustee"]
[" ","Strickland","David M.",null,"2007 / 2008","Trustee"]
[" ","Strickland","David M.",null,"2008 / 2009","Trustee"]
[" ","Stringer Sr.","Thomas E.",null,"1993 / 1994","Trustee Secretary"]
[" ","Stringer Sr.","Thomas E.",null,"1994 / 1995","Trustee Secretary"]
[" ","Stringer Sr.","Thomas E.",null,"1995 / 1996","Trustee"]
[" ","Stringer Sr.","Thomas E.",null,"1996 / 1997","Trustee"]
[" ","Stringer Sr.","Thomas E.",null,"1997 / 1998","Trustee"]
[" ","Stringer Sr.","Thomas E.",null,"1999 / 2000","Trustee Ex-Officio; Chair, Law Board"]
[" ","Stringer Sr.","Thomas E.",null,"2000 / 2001","Trustee Ex-Officio; Chair, Law Board"]
[" ","Stringer Sr.","Thomas E.",null,"2001 / 2002","Trustee Ex-Officio; Chair, Law Board"]
[" ","Stringer Sr.","Thomas E.",null,"2002 / 2003","Trustee Ex-Officio; Chair, Law Board"]
[" ","Sullivan","Arthur P.",null,"1995 / 1996","Trustee"]
[" ","Sullivan","Arthur P.",null,"1996 / 1997","Trustee"]
[" ","Sullivan","Arthur P.",null,"1997 / 1998","Trustee"]
[" ","Sullivan","Arthur P.",null,"1999 / 2000","Trustee"]
[" ","Sullivan","Arthur P.",null,"2000 / 2001","Trustee"]
[" ","Sullivan","Arthur P.",null,"2001 / 2002","Trustee"]
[" ","Sullivan","Arthur P.",null,"2002 / 2003","Trustee"]
[" ","Sullivan","Arthur P.",null,"2003 / 2004","Trustee"]
[" ","Sullivan","Arthur P.",null,"2004 / 2005","Trustee"]
[" ","Sullivan","Arthur P.",null,"2005 / 2006","Trustee"]
[" ","Sullivan","Arthur P.",null,"2006 / 2007","Trustee"]
[" ","Sullivan","Arthur P.",null,"2007 / 2008","Trustee"]
[" ","Sullivan","Arthur P.",null,"2008 / 2009","Trustee"]
[" ","Sullivan","Arthur P.",null,"2012 / 2013","Trustee Emeriti"]
[" ","Sullivan","Arthur P.",null,"2013 / 2014","Trustee Emeriti"]
[" ","Taylor","Mrs. G. Dekle",null,"1964 / 1965","Trustee"]
[" ","Taylor","Mrs. G. Dekle",null,"1965 / 1966","Trustee"]
[" ","Taylor","Mrs. G. Dekle",null,"1966 / 1967","Trustee"]
[" ","Taylor","Mrs. Marjorie S.",null,"1960 / 1961","Trustee"]
[" ","Taylor","Mrs. Marjorie S.",null,"1962 / 1963","Trustee"]
[" ","Taylor","Mrs. Marjorie S.",null,"1963 / 1964","Trustee"]
[" ","Turner","James S.",null,"1885 / 1886","Trustee"]
[" ","Turner","James S.",null,"1887 / 1888","Trustee"]
[" ","Turner","James S.",null,"1888 / 1889","Trustee"]
[" ","Turner","James S.",null,"1889 / 1890","Trustee"]
[" ","Turner","James S.",null,"1891 / 1892","Trustee"]
[" ","Turner","James S.",null,"1892 / 1893","Trustee"]
[" ","Turner","James S.",null,"1894 / 1895","Trustee"]
[" ","Turner","James S.",null,"1895 / 1896","Trustee"]
[" ","Turner","James S.",null,"1896 / 1897","Trustee"]
[" ","Turner","James S.",null,"1897 / 1898","Trustee"]
[" ","Turner","James S.",null,"1898 / 1899","Trustee"]
[" ","Turner","James S.",null,"1899 / 1900","Trustee"]
[" ","Turner","James S.",null,"1900 / 1901","Trustee"]
[" ","Turner","James S.",null,"1901 / 1902","Trustee"]
[" ","Turner","James S.",null,"1902 / 1903","Trustee"]
[" ","Turner","James S.",null,"1903 / 1904","Trustee (deceased)"]
[" ","Underhill","William Amory",null,"1978 / 1979","Trustee"]
[" ","Underhill","William Amory",null,"1979 / 1980","Trustee"]
[" ","Underhill","William Amory",null,"1980 / 1981","Trustee"]
[" ","Underhill","William Amory",null,"1981 / 1982","Trustee"]
[" ","Underhill","William Amory",null,"1982 / 1983","Trustee"]
[" ","Underhill","William Amory",null,"1983 / 1984","Trustee"]
[" ","Underhill","William Amory",null,"1984 / 1985","Trustee"]
[" ","Underhill","William Amory",null,"1985 / 1986","Trustee"]
[" ","Underhill","William Amory",null,"1986 / 1987","Trustee"]
[" ","Underhill","William Amory",null,"1987 / 1988","Trustee"]
[" ","Underhill","William Amory",null,"1995 / 1996","Trustee Emeritus"]
[" ","Underhill","William Amory",null,"1996 / 1997","Trustee Emeritus"]
[" ","Underhill","William Amory",null,"1997 / 1998","Trustee Emeritus, Honorary Chairman Emeritus, \nCollege of Law Board"]
[" ","Waits","J. C.",null,"1944 / 1945","Trustee"]
[" ","Waits","J. C.",null,"1945 / 1946","Trustee"]
[" ","Waits","J. C.",null,"1946 / 1947","Trustee"]
[" ","Waits","J. C.",null,"1947 / 1948","Trustee"]
[" ","Walda","John",null,"2011 / 2012","Trustee"]
[" ","Walda","John",null,"2012 / 2013","Trustee"]
[" ","Walda","John",null,"2013 / 2014","Trustee"]
[" ","Walker","Whitfield",null,"1885 / 1886","Trustee"]
[" ","Walker","Whitfield",null,"1887 / 1888","Trustee"]
[" ","Walker","Whitfield",null,"1888 / 1889","Trustee"]
[" ","Walker","Whitfield",null,"1889 / 1890","Trustee"]
[" ","Wands","Thomas F.",null,"1996 / 1997","Trustee"]
[" ","Wands","Thomas F.",null,"1997 / 1998","Trustee"]
[" ","Wands","Thomas F.",null,"1999 / 2000","Trustee"]
[" ","Wands","Thomas F.",null,"2000 / 2001","Trustee"]
[" ","Wands","Thomas F.",null,"2001 / 2002","Trustee"]
[" ","Wands","Thomas F.",null,"2002 / 2003","Trustee"]
[" ","Wands","Thomas F.",null,"2003 / 2004","Trustee"]
[" ","Wands","Thomas F.",null,"2004 / 2005","Trustee Emeritus"]
[" ","Wands","Thomas F.",null,"2005 / 2006","Trustee Emeritus"]
[" ","Wands","Thomas F.",null,"2006 / 2007","Trustee Emeritus"]
[" ","Wands","Thomas F.",null,"2007 / 2008","Trustee Emeritus"]
[" ","Wands","Thomas F.",null,"2008 / 2009","Trustee Emeritus"]
[" ","Wands","Thomas F.",null,"2009 / 2010","Trustee Emeritus"]
[" ","Wands","Thomas F.",null,"2010 / 2011","Trustee Emeriti"]
[" ","Weiss","Al",null,"1999 / 2000","Trustee"]
[" ","Weiss","Al",null,"2000 / 2001","Trustee"]
[" ","Weiss","Al",null,"2001 / 2002","Trustee"]
[" ","Weiss","Al",null,"2002 / 2003","Trustee"]
[" ","Weiss","Al",null,"2003 / 2004","Trustee"]
[" ","West","Evelyn T.",null,"1980 / 1981","Trustee"]
[" ","West","Evelyn T.",null,"1981 / 1982","Trustee"]
[" ","West","Hugh","M.D.","1937 / 1938","Trustee & Committee on Administrative"]
[" ","West","Hugh","M.D.","1938 / 1939","Trustee & Committee on Administrative"]
[" ","West","Hugh","M.D.","1939 / 1940","Trustee Secretary & Committee on Administrative & Finance Committee"]
[" ","West","Hugh","M.D.","1940 / 1941","Trustee Secretary & Committee on Administrative & Finance Committee"]
[" ","West","Hugh","M.D.","1941 / 1942","Trustee & Committee on Administrative"]
[" ","West","Hugh","M.D.","1942 / 1943","Trustee & Committee on Administrative"]
[" ","West","Hugh","M.D.","1943 / 1944","Trustee & Committee on Administrative"]
[" ","West","Hugh","M.D.","1944 / 1945","Trustee & Committee on Administrative"]
[" ","West","Hugh","M.D.","1945 / 1946","Trustee & Committee on Administrative"]
[" ","West","Hugh","M.D.","1946 / 1947","Trustee & Committee on Administrative"]
[" ","West","Hugh","M.D.","1947 / 1948","Trustee & Committee on Administrative"]
[" ","West","Hugh","M.D.","1948 / 1949","Trustee & Administrative Committee"]
[" ","West","Hugh","M.D.","1949 / 1950","Trustee & Administrative Committee"]
[" ","West","Hugh","M.D.","1950 / 1951","Trustee"]
[" ","West","Hugh","M.D.","1952 / 1953","Trustee"]
[" ","West","Hugh","M.D.","1953 / 1954","Trustee"]
[" ","West","Hugh","M.D.","1954 / 1955","Trustee"]
[" ","West","Hugh","M.D.","1955 / 1956","Trustee & Committee on Administrative"]
[" ","West","Hugh","M.D.","1956 / 1957","Trustee & Committee on Administrative"]
[" ","West","Hugh","M.D.","1957 / 1958","Trustee"]
[" ","Weston","John W.","M.D., Sc.D.","1906 / 1907","Trustee"]
[" ","Weston","John W.","M.D., Sc.D.","1907 / 1908","Trustee"]
[" ","Weston","John W.","M.D., Sc.D.","1908 / 1909","Trustee"]
[" ","Weston","John W.","M.D., Sc.D.","1909 / 1910","Trustee"]
[" ","Weston","John W.","M.D., Sc.D.","1910 / 1911","Trustee"]
[" ","Weston","John W.","M.D., Sc.D.","1911 / 1912","Trustee"]
[" ","Weston","John W.","M.D., Sc.D.","1912 / 1913","Trustee"]
[" ","Weston","John W.","M.D., Sc.D.","1913 / 1914","Trustee"]
[" ","Weston","John W.","M.D., Sc.D.","1914 / 1915","Trustee"]
[" ","Weston","John W.","M.D., Sc.D.","1915 / 1916","Trustee"]
[" ","Weston","John W.","M.D., Sc.D.","1916 / 1917","Trustee"]
[" ","Weston","John W.","M.D., Sc.D.","1917 / 1918","Trustee"]
[" ","Weston","John W.","M.D., Sc.D.","1918 / 1919","Trustee"]
[" ","Weston","John W.","M.D., Sc.D.","1920 / 1921","Trustee"]
[" ","Weston","John W.","M.D., Sc.D.","1921 / 1922","Trustee"]
[" ","Weston","John W.","M.D., Sc.D.","1922 / 1923","Trustee"]
[" ","Weston","John W.","M.D., Sc.D.","1923 / 1924","Trustee"]
[" ","Wheeler, Jr.","B. Frank",null,"1970 / 1971","Trustee"]
[" ","Wheeler, Jr.","B. Frank",null,"1971 / 1972","Trustee"]
[" ","Wheeler, Jr.","B. Frank",null,"1972 / 1973","Trustee"]
[" ","Wheeler, Jr.","B. Frank",null,"1974 / 1975","Trustee"]
[" ","Wheeler, Jr.","B. Frank",null,"1975 / 1976","Trustee"]
[" ","Wheeler, Jr.","B. Frank",null,"1978 / 1979","Trustee"]
[" ","Wheeler, Jr.","B. Frank",null,"1979 / 1980","Trustee"]
[" ","Wheeler, Jr.","B. Frank",null,"1980 / 1981","Trustee"]
[" ","Wheeler, Jr.","B. Frank",null,"1981 / 1982","Trustee"]
[" ","Wheeler, Jr.","B. Frank",null,"1982 / 1983","Trustee"]
[" ","Wheeler, Jr.","B. Frank",null,"1983 / 1984","Trustee"]
[" ","Wheeler, Jr.","B. Frank",null,"1985 / 1986","Trustee"]
[" ","Wheeler, Jr.","B. Frank",null,"1986 / 1987","Trustee"]
[" ","Wheeler, Jr.","B. Frank",null,"1987 / 1988","Trustee"]
[" ","Wheeler, Jr.","B. Frank",null,"1988 / 1989","Trustee"]
[" ","Wheeler, Jr.","B. Frank",null,"1989 / 1990","Trustee"]
[" ","Wheeler, Jr.","B. Frank",null,"1990 / 1991","Trustee"]
[" ","Wheeler, Jr.","B. Frank",null,"1991 / 1992","Trustee"]
[" ","Wheeler, Jr.","B. Frank",null,"1993 / 1994","Trustee"]
[" ","Wheeler, Jr.","B. Frank",null,"1994 / 1995","Trustee"]
[" ","Wheeler, Jr.","B. Frank",null,"1995 / 1996","Trustee"]
[" ","Wheeler, Jr.","B. Frank",null,"1996 / 1997","Trustee"]
[" ","Wheeler, Jr.","B. Frank",null,"1997 / 1998","Trustee"]
[" ","Wheeler, Jr.","B. Frank",null,"1999 / 2000","Trustee"]
[" ","Wheeler, Jr.","B. Frank",null,"2000 / 2001","Trustee Emeritus"]
[" ","Wheeler, Jr.","B. Frank",null,"2001 / 2002","Trustee Emeritus"]
[" ","Wheeler, Jr.","B. Frank",null,"2002 / 2003","Trustee Emeritus"]
[" ","Wheeler, Jr.","B. Frank",null,"2003 / 2004","Trustee Emeritus"]
[" ","Wheeler, Jr.","B. Frank",null,"2004 / 2005","Trustee Emeritus"]
[" ","Wheeler, Jr.","B. Frank",null,"2005 / 2006","Trustee Emeritus"]
[" ","Whidden","Gene A.",null,"1970 / 1971","Trustee"]
[" ","Whidden","Gene A.",null,"1971 / 1972","Trustee"]
[" ","Whidden","Gene A.",null,"1972 / 1973","Trustee"]
[" ","Whidden","Gene A.",null,"1974 / 1975","Trustee"]
[" ","Whidden","Gene A.",null,"1975 / 1976","Trustee"]
[" ","Whidden","Gene A.",null,"1978 / 1979","Trustee"]
[" ","White","J.L.","Rev., D.D.","1924 / 1925","Trustee"]
[" ","White","J.L.","Rev., D.D.","1925 / 1926","Trustee"]
[" ","White","J.L.","Rev., D.D.","1926 / 1927","Trustee"]
[" ","White","J.L.","Rev., D.D.","1927 / 1928","Trustee"]
[" ","White","J.L.","Rev., D.D.","1928 / 1929","Trustee"]
[" ","White","J.L.","Rev., D.D.","1929 / 1930","Trustee"]
[" ","White","J.L.","Rev., D.D.","1930 / 1931","Trustee"]
[" ","White","J.L.","Rev., D.D.","1931 / 1932","Trustee"]
[" ","White","J.L.","Rev., D.D.","1932 / 1933","Trustee"]
[" ","White","J.L.","Rev., D.D.","1933 / 1934","Trustee"]
[" ","White","J.L.","Rev., D.D.","1934 / 1935","Trustee"]
[" ","White","J.L.","Rev., D.D.","1935 / 1936","Trustee"]
[" ","White","J.L.","Rev., D.D.","1937 / 1938","Trustee"]
[" ","White","J.L.","Rev., D.D.","1938 / 1939","Trustee"]
[" ","White","J.L.","Rev., D.D.","1939 / 1940","Trustee"]
[" ","White","J.L.","Rev., D.D.","1940 / 1941","Trustee"]
[" ","White","J.L.","Rev., D.D.","1941 / 1942","Trustee"]
[" ","White","J.L.","Rev., D.D.","1942 / 1943","Trustee"]
[" ","White","J.L.","Rev., D.D.","1943 / 1944","Trustee"]
[" ","White","J.L.","Rev., D.D.","1944 / 1945","Trustee"]
[" ","White","J.L.","Rev., D.D.","1945 / 1946","Trustee"]
[" ","White","J.L.","Rev., D.D.","1946 / 1947","Trustee"]
[" ","White","J.L.","Rev., D.D.","1947 / 1948","Trustee"]
[" ","White","O. L.",null,"1964 / 1965","Trustee"]
[" ","White","O. L.",null,"1965 / 1966","Trustee"]
[" ","White","O. L.",null,"1966 / 1967","Trustee"]
[" ","White","O. L.",null,"1967 / 1968","Trustee"]
[" ","White","O. L.",null,"1968 / 1969","Trustee"]
[" ","White","O. L.",null,"1969 / 1970","Trustee"]
[" ","White","O. L.",null,"1970 / 1971","Trustee"]
[" ","White","O. L.",null,"1971 / 1972","Trustee"]
[" ","White","O. L.",null,"1972 / 1973","Trustee"]
[" ","White","O. L.",null,"1974 / 1975","Trustee"]
[" ","Wilcox","Mrs. Amy S.",null,"1975 / 1976","Trustee"]
[" ","Wilcox","Mrs. Amy S.",null,"1978 / 1979","Trustee"]
[" ","Wilcox","Mrs. Amy S.",null,"1979 / 1980","Trustee"]
[" ","Wilcox","Mrs. Amy S.",null,"1980 / 1981","Trustee"]
[" ","Wilcox","Mrs. Amy S.",null,"1981 / 1982","Trustee"]
[" ","Wilcox","Mrs. Amy S.",null,"1982 / 1983","Trustee"]
[" ","Wilcox","Mrs. Amy S.",null,"1983 / 1984","Trustee"]
[" ","Willard","Conrad",null,"1975 / 1976","Trustee"]
[" ","Willard","Conrad",null,"1978 / 1979","Trustee"]
[" ","Willard","Conrad",null,"1979 / 1980","Trustee"]
[" ","Willard","Conrad",null,"1980 / 1981","Trustee"]
[" ","Willard","Conrad",null,"1981 / 1982","Trustee"]
[" ","Willard","Conrad",null,"1982 / 1983","Trustee"]
[" ","Williams","W.J.","Rev.","1899 / 1900","Trustee"]
[" ","Williams","W.J.","Rev.","1900 / 1901","Trustee"]
[" ","Wilson","John M.",null,"1917 / 1918","Trustee"]
[" ","Wilson","John M.",null,"1918 / 1919","Trustee"]
[" ","Wilson","Lloyd T.","Rev., D.D.","1931 / 1932","Trustee"]
[" ","Wilson","Lloyd T.","Rev., D.D.","1932 / 1933","Trustee"]
[" ","Wilson","Patricia Maxcy",null,"1987 / 1988","Trustee"]
[" ","Wilson","Patricia Maxcy",null,"1988 / 1989","Trustee"]
[" ","Wilson","Patricia Maxcy",null,"1989 / 1990","Trustee"]
[" ","Wilson","Patricia Maxcy",null,"1990 / 1991","Trustee"]
[" ","Wilson","Patricia Maxcy",null,"1991 / 1992","Trustee Ex Officio"]
[" ","Wilson","Patricia Maxcy",null,"1993 / 1994","Trustee"]
[" ","Wilson","Patricia Maxcy",null,"1994 / 1995","Trustee"]
[" ","Wilson","Patricia Maxcy",null,"1995 / 1996","Trustee"]
[" ","Wilson","Patricia Maxcy",null,"1996 / 1997","Trustee"]
[" ","Wilson","Patricia Maxcy",null,"1999 / 2000","Trustee Emeritus"]
[" ","Wilson","Patricia Maxcy",null,"2000 / 2001","Trustee Emeritus"]
[" ","Wilson","Patricia Maxcy",null,"2001 / 2002","Trustee Emeritus"]
[" ","Wilson","Patricia Maxcy",null,"2002 / 2003","Trustee Emeritus"]
[" ","Wilson","Patricia Maxcy",null,"2003 / 2004","Trustee Emeritus"]
[" ","Wilson","Patricia Maxcy",null,"2004 / 2005","Trustee Emeritus"]
[" ","Wilson","Patricia Maxcy",null,"2005 / 2006","Trustee Emeritus"]
[" ","Wilson","Patricia Maxcy",null,"2006 / 2007","Trustee Emeritus"]
[" ","Wilson","Patricia Maxcy",null,"2007 / 2008","Trustee Emeritus"]
[" ","Wilson","Patricia Maxcy",null,"2008 / 2009","Trustee Emeritus"]
[" ","Wilson","Patricia Maxcy",null,"2009 / 2010","Trustee Emeritus"]
[" ","Wilson","Patricia Maxcy",null,"2010 / 2011","Trustee Emeriti"]
[" ","Wilson","Patricia Maxcy",null,"2011 / 2012","Trustee Emeriti"]
[" ","Wilson","Patricia Maxcy",null,"2012 / 2013","Trustee Emeriti"]
[" ","Wilson","Patricia Maxcy",null,"2013 / 2014","Trustee Emeriti"]
[" ","Wilson","Sam",null,"1988 / 1989","Trustee"]
[" ","Wilson","Sam",null,"1989 / 1990","Trustee"]
[" ","Wood","S.A.",null,"1905 / 1906","Trustee"]
[" ","Wood","S.A.",null,"1906 / 1907","Trustee"]
[" ","Wood","S.A.",null,"1907 / 1908","Trustee"]
[" ","Wood","S.A.",null,"1908 / 1909","Trustee & Committee on Administrative"]
[" ","Wood","S.A.",null,"1909 / 1910","Trustee & Committee on Administrative"]
[" ","Wood","S.A.",null,"1910 / 1911","Trustee & Committee on Administrative"]
[" ","Wood","S.A.",null,"1911 / 1912","Trustee & Committee on Administrative"]
[" ","Wood","S.A.",null,"1912 / 1913","Trustee & Committee on Administrative"]
[" ","Wood","S.A.",null,"1913 / 1914","Trustee & Committee on Administrative"]
[" ","Wood","S.A.",null,"1914 / 1915","Trustee & Committee on Administrative"]
[" ","Wood","S.A.",null,"1915 / 1916","Trustee & Committee on Administrative"]
[" ","Wood","S.A.",null,"1916 / 1917","Trustee & Committee on Administrative"]
[" ","Wood","S.A.",null,"1917 / 1918","Trustee & Committee on Administrative"]
[" ","Wood","S.A.",null,"1918 / 1919","Trustee & Committee on Administrative"]
[" ","Wood","S.A.",null,"1919 / 1920","Trustee & Committee on Administrative"]
[" ","Wood","S.A.",null,"1920 / 1921","Trustee & Committee on Administrative"]
[" ","Wood","S.A.",null,"1921 / 1922","Trustee & Committee on Administrative"]
[" ","Wood","S.A.",null,"1922 / 1923","Trustee & Committee on Administrative"]
[" ","Wood","S.A.",null,"1923 / 1924","Trustee & Committee on Administrative"]
[" ","Wood","S.A.",null,"1924 / 1925","Trustee & Committee on Administrative"]
[" ","Wood","S.A.",null,"1925 / 1926","Trustee & Committee on Administrative"]
[" ","Wood","S.A.",null,"1926 / 1927","Trustee & Committee on Administrative"]
[" ","Wood","S.A.",null,"1927 / 1928","Trustee & Committee on Administrative"]
[" ","Wood","S.A.",null,"1928 / 1929","Trustee & Committee on Administrative"]
[" ","Wood","S.A.",null,"1929 / 1930","Trustee & Committee on Administrative"]
[" ","Wood","S.A.",null,"1930 / 1931","Trustee & Committee on Administrative"]
[" ","Wood","S.A.",null,"1931 / 1932","Trustee & Committee on Administrative"]
[" ","Wood","S.A.",null,"1932 / 1933","Trustee & Committee on Administrative"]
[" ","Wood","S.A.",null,"1933 / 1934","Trustee"]
[" ","Wood","S.A.",null,"1934 / 1935","Trustee"]
[" ","Wood","S.A.",null,"1935 / 1936","Trustee"]
[" ","Wood","S.A.",null,"1937 / 1938","Trustee"]
[" ","Wolfe","Charles A.",null,"2011 / 2012","Ex-Officio Trustee"]
[" ","Wolfe","Charles A.",null,"2012 / 2013","Trustee Ex-Officio"]
[" ","Wright","S.B.",null,"1901 / 1902","Trustee Secretary & Executive Committee"]
[" ","Wright","S.B.",null,"1902 / 1903","Trustee Secretary & Committee on Administrative"]
[" ","Wright","S.B.",null,"1903 / 1904","Trustee Secretary & Committee on Administrative"]
[" ","Wright","S.B.",null,"1904 / 1905","Trustee Secretary & Committee on Administrative"]
[" ","Wright","S.B.",null,"1905 / 1906","Trustee Secretary & Committee on Administrative"]
[" ","Wright","S.B.",null,"1906 / 1907","Trustee Secretary & Committee on Administrative"]
[" ","Wright","S.B.",null,"1907 / 1908","Trustee Secretary & Committee on Administrative"]
[" ","Wright","S.B.",null,"1908 / 1909","Trustee Secretary & Committee on Administrative"]
[" ","Wright","S.B.",null,"1909 / 1910","Trustee Secretary & Committee on Administrative"]
[" ","Wright","S.B.",null,"1910 / 1911","Trustee Secretary & Committee on Administrative"]
[" ","Wright","S.B.",null,"1911 / 1912","Trustee Secretary & Committee on Administrative"]
[" ","Wright","S.B.",null,"1912 / 1913","Trustee Secretary & Committee on Administrative"]
[" ","Wright","S.B.",null,"1913 / 1914","Trustee Secretary & Committee on Administrative"]
[" ","Wright","S.B.",null,"1914 / 1915","Trustee Secretary & Committee on Administrative"]
[" ","Wright","S.B.",null,"1915 / 1916","Trustee Secretary & Committee on Administrative"]
[" ","Wright","S.B.",null,"1916 / 1917","Trustee Secretary & Committee on Administrative"]
[" ","Wright","S.B.",null,"1917 / 1918","Trustee Secretary & Committee on Administrative"]
[" ","Wright","S.B.",null,"1918 / 1919","Trustee Secretary & Committee on Administrative"]
[" ","Wright","S.B.",null,"1919 / 1920","Trustee Secretary & Committee on Administrative"]
[" ","Wright","S.B.",null,"1920 / 1921","Trustee Secretary & Committee on Administrative"]
[" ","Wright","S.B.",null,"1921 / 1922","Trustee Secretary & Committee on Administrative"]
[" ","Wright","S.B.",null,"1922 / 1923","Trustee Secretary & Committee on Administrative"]
[" ","Wright","S.B.",null,"1923 / 1924","Trustee Secretary & Committee on Administrative"]
[" ","Wright","S.B.",null,"1924 / 1925","Trustee Secretary & Committee on Administrative"]
[" ","Ziesenheim","Ken",null,"2012 / 2013","Trustee"]
[null,"Ziesenheim","Ken",null,"2013 / 2014","Trustee"]

{"sheet":"FULL TRUSTEE LIST","index":1,"n_rows":262,"n_cols":125,"rows_kept":262,"cut":false,"hidden":false,"merged":[]}
["ID","LASTNAME","FIRSTNAME","TITLE / DEGREES","1885 / 1886","1886 / 1887","1887 / 1888","1888 / 1889","1889 / 1890","1891 / 1892","1892 / 1893","1894 / 1895","1895 / 1896","1896 / 1897","1897 / 1898","1898 / 1899","1899 / 1900","1900 / 1901","1901 / 1902","1902 / 1903","1903 / 1904","1904 / 1905","1905 / 1906","1906 / 1907","1907 / 1908","1908 / 1909","1909 / 1910","1910 / 1911","1911 / 1912","1912 / 1913","1913 / 1914","1914 / 1915","1915 / 1916","1916 / 1917","1917 / 1918","1918 / 1919","1919 / 1920","1920 / 1921","1921 / 1922","1922 / 1923","1923 / 1924","1924 / 1925","1925 / 1926","1926 / 1927","1927 / 1928","1928 / 1929","1929 / 1930","1930 / 1931","1931 / 1932","1932 / 1933","1933 / 1934","1934 / 1935","1935 / 1936","1937 / 1938","1938 / 1939","1939 / 1940","1940 / 1941","1941 / 1942","1942 / 1943","1943 / 1944","1944 / 1945","1945 / 1946","1946 / 1947","1947 / 1948","1948 / 1949","1949 / 1950","1950 / 1951","1951 / 1952","1952 / 1953","1953 / 1954","1954 / 1955","1955 / 1956","1956 / 1957","1957 / 1958","1958 / 1959","1959 / 1960","1960 / 1961","1961 / 1962","1962 / 1963","1963 / 1964","1964 / 1965","1965 / 1966","1966 / 1967","1967 / 1968","1968 / 1969","1969 / 1970","1970 / 1971","1971 / 1972","1972 / 1973","1974 / 1975","1975 / 1976","1978 / 1979","1979 / 1980","1980 / 1981","1981 / 1982","1982 / 1983","1983 / 1984","1984 / 1985","1985 / 1986","1986 / 1987","1987 / 1988","1988 / 1989","1989 / 1990","1990 / 1991","1991 / 1992","1993 / 1994","1994 / 1995","1995 / 1996","1996 / 1997","1997 / 1998","1999 / 2000","2000 / 2001","2001 / 2002","2002 / 2003","2003 / 2004","2004 / 2005","2005 / 2006","2006 / 2007","2007 / 2008","2008 / 2009","2009 / 2010","2010 / 2011","2011 / 2012","2012 / 2013","2013 / 2014"]
[" ","Alexander","Steven",null,null,null,null,null,null,null,null,null,null,null,null,null,null,null,null,null,null,null,null,null,null,null,null,null,null,null,null,null,null,null,null,null,null,null,null,null,null,null,null,null,null,null,null,null,null,null,null,null,null,null,null,null,null,null,null,null,null,null,null,null,null,null,null,null,null,null,null,null,null,null,null,null,null,null,null,null,null,null,null,null,null,null,null,null,null,null,null,null,null,null,null,null,null,null,null,null,null,null,null,null,null,null,null,null,null,null,null,null,null,null,null,null,null,null,null,null,null,null,null,"Trustee","Trustee"]
[" ","Allen","Frederick S.",null,null,null,null,null,null,null,null,null,null,null,null,null,null,null,null,null,null,null,null,null,null,null,null,null,null,null,null,null,null,null,null,null,null,null,null,null,null,null,null,null,null,null,null,null,null,null,null,null,null,null,null,null,null,null,null,null,null,null,null,null,null,null,null,null,null,null,null,null,null,null,"Library Maintenance Trustee",null,null,null,null,null,"Trustee","Trustee","Trustee","Trustee","Trustee","Trustee","Trustee","Trustee","Trustee","Trustee","Trustee","Trustee","Trustee","Trustee","Trustee","Trustee","Trustee"]
[" ","Allen","Riley W.",null,null,null,null,null,null,null,null,null,null,null,null,null,null,null,null,null,null,null,null,"Trustee","Trustee","Trustee","Trustee","Trustee","Trustee","Trustee","Trustee","Trustee","Trustee","Trustee","Trustee","Trustee"]
[" ","Allen","William Sims","Ph.D.",null,null,null,null,null,null,null,null,null,null,null,null,null,null,null,null,null,null,null,null,null,null,null,null,null,null,null,null,null,null,null,null,null,null,null,null,null,null,null,null,null,null,null,null,null,null,null,"Trustee Treasurer & Committee on Administrative","Trustee Treasurer & Committee on Administrative","Trustee Treasurer & Committee on Administrative","Trustee Treasurer & Committee on Administrative","Trustee Treasurer & Committee on Administrative & Finance Committee","Trustee Treasurer & Committee on Administrative & Finance Committee","Trustee Treasurer & Committee on Administrative","Trustee Treasurer & Committee on Administrative","Trustee Treasurer & Committee on Administrative","Trustee Treasurer & Committee on Administrative","Trustee Treasurer & Committee on Administrative","Trustee Treasurer & Committee on Administrative","Trustee (resigned)"]
[" ","Angell","C. Roy ","D.D.",null,null,null,null,null,null,null,null,null,null,null,null,null,null,null,null,null,null,null,null,null,null,null,null,null,null,null,null,null,null,null,null,null,null,null,null,null,null,null,null,null,null,null,null,null,null,null,null,null,null,null,null,null,"Trustee","Trustee & Committee on Administrative","Trustee & Committee on Administrative","Trustee & Committee on Administrative","Trustee & Committee on Administrative","Trustee","Trustee","Trustee","Trustee","Trustee",null,"Trustee","Trustee","Trustee","Trustee","Trustee","Trustee"]
[" ","Arnold","Richard E.",null,null,null,null,null,null,null,null,null,null,null,null,null,null,null,null,null,null,null,null,null,null,null,null,null,null,null,null,null,null,null,null,null,null,null,null,null,null,null,null,null,null,null,null,null,null,null,null,null,null,null,null,null,null,null,null,null,null,null,null,null,null,null,null,null,null,null,null,null,null,null,null,null,null,null,null,null,null,null,null,null,null,null,null,null,"Trustee","Trustee","Trustee","Trustee","Trustee","Trustee"]
[" ","Atkinson","Alonzo M.",null,null,null,"Trustee","Trustee","Trustee","Trustee","Trustee","Trustee"]
[" ","Baggett","B.B.",null,null,null,null,null,null,null,null,null,null,null,null,null,null,null,null,null,null,null,null,null,null,null,null,null,null,null,null,null,null,null,null,null,null,null,null,null,null,null,null,null,null,null,null,null,null,null,null,null,null,"Trustee","Trustee","Trustee & Committee on Administrative & Finance Committee","Trustee & Committee on Administrative & Finance Committee","Trustee & Finance Committee","Trustee & Finance Committee","Trustee & Finance Committee","Trustee & Finance Committee","Trustee & Finance Committee","Trustee & Finance Committee","Trustee & Finance Committee","Trustee & Finance Committee","Trustee & Finance Committee","Trustee",null,"Trustee",null,"Trustee"]
[" ","Bailey","F.N.K.",null,null,null,null,null,null,null,null,null,null,null,null,null,null,null,null,null,null,null,null,null,null,null,null,null,null,null,null,null,null,null,null,null,null,null,null,null,null,null,null,null,null,null,null,null,null,null,null,"Trustee","Trustee","Trustee","Trustee","Trustee & Finance Committee","Trustee & Finance Committee","Trustee President & Committee on Administrative","Trustee President & Committee on Administrative","Trustee President & Committee on Administrative","Trustee President & Committee on Administrative","Trustee President & Committee on Administrative","Trustee President & Committee on Administrative","Trustee President & Committee on Administrative","Trustee President & Chairman of Administrative Committee","Trustee President & Chairman of Administrative Committee \n& Finance Committee","Trustee President & Chairman of Administrative Committee ",null,"Trustee","Trustee President","Trustee President","Trustee"]
[" ","Balll","Jess C.",null,null,null,null,null,null,null,null,null,null,null,null,null,null,null,null,null,null,null,null,null,null,null,null,null,null,null,null,null,null,null,null,null,null,null,null,null,null,null,null,null,null,null,null,null,null,null,null,null,null,null,null,null,null,null,null,null,null,null,null,null,null,null,null,null,null,null,null,null,null,null,null,null,null,null,null,null,null,null,null,null,null,null,null,null,null,null,null,null,null,null,null,null,null,null,null,null,null,null,null,null,null,null,null,"Trustee Chair, Business School Board"]
[" ","Bamberg","Joe",null,null,null,null,null,null,null,null,null,null,null,null,null,null,null,null,null,null,null,null,null,null,null,null,null,null,null,null,null,null,null,null,null,null,null,null,null,null,null,null,null,null,null,null,null,null,null,null,null,null,null,null,null,null,null,null,null,null,null,null,null,null,null,null,null,null,null,null,null,null,null,null,null,null,null,null,null,null,null,null,null,null,null,null,null,null,null,"Trustee","Trustee","Trustee","Trustee","Trustee","Trustee"]
[" ","Banes","Charles H.","Col.",null,null,null,null,null,null,null,null,"Trustee"]
[" ","Bean","E.",null,"Trustee"]
[" ","Beatty","Robert G.",null,null,null,null,null,null,null,null,null,null,null,null,null,null,null,null,null,null,null,null,null,null,null,null,null,null,null,null,null,null,null,null,null,null,null,null,null,null,null,null,null,null,null,null,null,null,null,null,null,null,null,null,null,null,null,null,null,null,null,null,null,null,null,null,null,null,null,null,null,null,null,null,null,null,null,null,null,null,null,null,null,null,null,null,null,null,null,null,null,null,null,null,null,null,null,null,null,null,null,null,null,null,null,null,null,null,null,"Trustee",null,null,null,null,"Trustee","Trustee"]
[" ","Beauchamp","Richard",null,null,null,null,null,null,null,null,null,null,null,null,null,null,null,null,null,null,null,null,null,null,null,null,null,null,null,null,null,null,null,null,null,null,null,null,null,null,null,null,null,null,null,null,null,null,null,null,null,null,null,null,null,null,null,null,null,null,null,null,null,null,null,null,null,null,null,null,null,null,null,null,null,null,null,null,null,null,null,null,null,null,null,null,null,null,null,null,null,null,"Trustee","Trustee","Trustee","Trustee","Trustee","Trustee","Trustee","Trustee","Trustee","Trustee","Trustee",null,null,null,null,null,null,null,null,null,null,null,null,"Trustee"]
[" ","Beaver","Frederick P.",null,null,null,null,null,null,null,null,null,null,null,null,null,null,null,null,null,null,null,null,null,null,null,null,null,null,null,null,null,null,"Trustee","Trustee","Trustee","Trustee","Trustee","Trustee","Trustee","Trustee","Trustee","Trustee","Trustee","Trustee","Trustee","Trustee","Trustee","Trustee","Trustee","Trustee","Trustee","Trustee (deceased)"]
[" ","Bentley","Frank B.",null,null,null,null,null,null,null,null,null,null,null,null,null,null,null,null,null,null,null,null,null,null,null,null,null,null,null,null,null,null,null,null,null,"Trustee","Trustee","Trustee","Trustee","Trustee","Trustee","Trustee","Trustee","Trustee","Trustee","Trustee","Trustee","Trustee","Trustee"]
[" ","Bishop","P.P.","Hon.","Trustee"]
[" ","Blalock","Dan S. Sr.",null,null,null,null,null,null,null,null,null,null,null,null,null,null,null,null,null,null,null,null,null,null,null,null,null,null,null,null,null,null,null,null,null,null,null,null,null,null,null,null,null,null,null,null,null,null,null,null,null,null,null,null,null,null,null,null,null,null,null,null,null,null,null,null,null,null,null,null,null,null,null,null,null,null,null,null,null,"Trustee","Trustee","Trustee","Trustee","Trustee","Trustee","Trustee","Trustee","Trustee","Trustee"]
[" ","Blanton","Robin",null,null,null,null,null,null,null,null,null,null,null,null,null,null,null,null,null,null,null,null,null,null,null,null,null,null,null,null,null,null,null,null,null,null,null,null,null,null,null,null,null,null,null,null,null,null,null,null,null,null,null,null,null,null,null,null,null,null,null,null,null,null,null,null,null,null,null,null,null,null,null,null,null,null,null,null,null,null,null,null,null,null,null,null,null,null,null,null,null,null,null,null,null,null,null,null,null,null,null,null,null,null,null,null,null,null,null,null,"Trustee; President, Alumni Association","Trustee; President, Alumni Association"]
[" ","Blews","William F.",null,null,null,null,null,null,null,null,null,null,null,null,null,null,null,null,null,null,null,null,null,null,null,null,null,null,null,null,null,null,null,null,null,null,null,null,null,null,null,null,null,null,null,null,null,null,null,null,null,null,null,null,null,null,null,null,null,null,null,null,null,null,null,null,null,null,null,null,null,null,null,null,null,null,null,null,null,null,null,null,null,null,null,null,null,null,null,null,null,null,null,null,null,null,null,null,null,null,null,null,null,null,null,null,null,"Trustee Ex Officio","Trustee Ex Officio; Chair, Law Board","Trustee"]
[" ","Blount","W.H.",null,null,null,null,null,null,null,null,null,null,null,null,null,null,null,null,null,null,null,null,null,null,null,null,null,null,null,null,null,null,null,null,null,null,null,null,null,null,null,null,null,null,null,null,null,null,null,null,null,null,null,null,null,null,null,null,null,null,null,null,null,null,null,null,null,null,null,null,null,"Trustee"]
[" ","Boehmer","Fred",null,null,null,null,null,null,null,null,null,null,null,null,null,null,null,null,null,null,null,null,null,null,null,null,null,null,null,null,null,null,null,null,null,null,null,null,null,null,null,null,null,null,null,null,null,null,null,null,null,null,null,null,null,null,null,null,null,null,null,null,null,null,null,null,null,null,null,null,null,null,null,null,null,null,null,null,null,null,null,null,null,null,null,null,null,null,null,null,null,null,null,null,null,null,null,null,null,null,null,"Trustee","Trustee","Trustee","Trustee","Trustee"]
[" ","Bolton","C.H.","Rev., D.D.",null,null,null,null,null,null,null,null,null,null,null,null,null,null,null,null,null,null,null,null,null,null,null,null,null,null,null,null,null,null,null,null,null,null,null,null,null,null,null,null,null,null,null,null,null,null,null,null,null,"Trustee","Trustee","Trustee","Trustee","Trustee & Finance Committee","Trustee & Finance Committee","Trustee & Finance Committee","Trustee & Finance Committee","Trustee & Finance Committee","Trustee & Finance Committee","Trustee & Finance Committee","Trustee Vice President & Finance Committee","Trustee","Trustee",null,"Trustee","Trustee","Trustee","Trustee President & Committee on Administrative & Finance Committee","Trustee President & Committee on Administrative & Finance Com","Trustee President & Committee on Administrative & Finance Com","Trustee President & Committee on Administrative",null,"Trustee President & Committee on Administrative",null,"Trustee & Executive Committee","Trustee Emeritus","Trustee Emeritus","Trustee Emeritus","Trustee Emeritus","Trustee Emeritus","Trustee Emeritus","Trustee Emeritus","Trustee Emeritus","Trustee Emeritus","Trustee Emeritus","Trustee Emeritus"]
[" ","Breakiron-Evans","Maureen",null,null,null,null,null,null,null,null,null,null,null,null,null,null,null,null,null,null,null,null,null,null,null,null,null,null,null,null,null,null,null,null,null,null,null,null,null,null,null,null,null,null,null,null,null,null,null,null,null,null,null,null,null,null,null,null,null,null,null,null,null,null,null,null,null,null,null,null,null,null,null,null,null,null,null,null,null,null,null,null,null,null,null,null,null,null,null,null,null,null,null,null,null,null,null,null,null,null,null,null,null,null,null,null,null,null,null,null,null,null,null,null,null,null,null,null,null,null,null,"Trustee Ex-Officio","Trustee Ex-Officio","Trustee"]
[" ","Brittain","C.M.","Rev., D.D.",null,null,null,null,null,null,null,null,null,null,null,null,null,null,null,null,null,null,null,null,null,null,null,null,null,null,null,null,null,null,null,null,null,null,null,null,null,null,null,"Trustee","Trustee","Trustee","Trustee","Trustee","Trustee","Trustee","Trustee","Trustee","Trustee","Trustee","Trustee","Trustee & Finance Committee","Trustee","Trustee & Committee on Administrative","Trustee (deceased)"]
[" ","Brockway","Peter",null,null,null,null,null,null,null,null,null,null,null,null,null,null,null,null,null,null,null,null,null,null,null,null,null,null,null,null,null,null,null,null,null,null,null,null,null,null,null,null,null,null,null,null,null,null,null,null,null,null,null,null,null,null,null,null,null,null,null,null,null,null,null,null,null,null,null,null,null,null,null,null,null,null,null,null,null,null,null,null,null,null,null,null,null,null,null,null,null,null,null,null,null,null,null,null,null,null,null,null,null,null,null,null,null,null,null,null,null,null,null,null,null,"Trustee"]
[" ","Brooks","Theodore C.",null,null,null,null,null,null,null,null,null,null,null,null,null,null,null,null,null,null,null,null,null,null,null,null,null,null,null,null,null,null,null,null,null,null,null,null,null,null,null,null,null,null,null,null,null,null,null,null,null,null,null,"Trustee & Committee on Administrative","Trustee & Committee on Administrative","Trustee & Committee on Administrative","Trustee & Committee on Administrative","Trustee & Committee on Administrative","Trustee & Committee on Administrative","Trustee & Committee on Administrative","Trustee & Committee on Administrative","Trustee & Committee on Administrative","Trustee & Committee on Administrative","Trustee & Administrative Committee","Trustee & Administrative Committee","Trustee",null,"Trustee","Trustee","Trustee (deceased)"]
[" ","Brown","Cici",null,null,null,null,null,null,null,null,null,null,null,null,null,null,null,null,null,null,null,null,null,null,null,null,null,null,null,null,null,null,null,null,null,null,null,null,null,null,null,null,null,null,null,null,null,null,null,null,null,null,null,null,null,null,null,null,null,null,null,null,null,null,null,null,null,null,null,null,null,null,null,null,null,null,null,null,null,null,null,null,null,null,null,null,null,null,null,null,null,null,null,null,null,null,null,null,null,null,null,null,null,null,null,null,null,null,"Trustee Ex Officio; Chair, Arts & Sciences Board","Trustee Ex Officio; Chair, Arts & Sciences Board","Trustee","Trustee","Trustee","Trustee","Trustee"]
[" ","Brown","Cynthia",null,null,null,null,null,null,null,null,null,null,null,null,null,null,null,null,null,null,null,null,null,null,null,null,null,null,null,null,null,null,null,null,null,null,null,null,null,null,null,null,null,null,null,null,null,null,null,null,null,null,null,null,null,null,null,null,null,null,null,null,null,null,null,null,null,null,null,null,null,null,null,null,null,null,null,null,null,null,null,null,null,null,null,null,null,null,null,null,null,null,null,null,null,null,null,null,null,null,null,null,null,null,null,null,null,null,null,null,null,null,null,null,null,"Trustee","Trustee","Trustee","Trustee","Trustee","Trustee","Trustee","Trustee","Trustee"]
[" ","Brown","J Hyatt",null,null,null,null,null,null,null,null,null,null,null,null,null,null,null,null,null,null,null,null,null,null,null,null,null,null,null,null,null,null,null,null,null,null,null,null,null,null,null,null,null,null,null,null,null,null,null,null,null,null,null,null,null,null,null,null,null,null,null,null,null,null,null,null,null,null,null,null,null,null,null,null,null,null,null,null,null,null,null,null,null,null,null,null,null,null,null,null,null,null,null,null,"Trustee","Trustee","Trustee","Trustee","Trustee","Trustee","Trustee","Trustee","Trustee","Trustee","Trustee","Trustee","Trustee","Trustee","Trustee","Trustee","Trustee","Trustee","Trustee","Trustee","Trustee","Trustee","Trustee","Trustee","Trustee","Trustee","Trustee","Trustee","Trustee","Trustee"]
[" ","Brown","Mary Lou",null,null,null,null,null,null,null,null,null,null,null,null,null,null,null,null,null,null,null,null,null,null,null,null,null,null,null,null,null,null,null,null,null,null,null,null,null,null,null,null,null,null,null,null,null,null,null,null,null,null,null,null,null,null,null,null,null,null,null,null,null,null,null,null,null,null,null,null,null,null,null,null,null,null,null,null,null,null,null,null,null,null,null,null,null,null,null,null,null,null,null,null,null,null,null,null,null,null,null,null,null,null,null,null,null,"Trustee Ex Officio","Trustee"]
[" ","Brumback","Emerson",null,null,null,null,null,null,null,null,null,null,null,null,null,null,null,null,null,null,null,null,null,null,null,null,null,null,null,null,null,null,null,null,null,null,null,null,null,null,null,null,null,null,null,null,null,null,null,null,null,null,null,null,null,null,null,null,null,null,null,null,null,null,null,null,null,null,null,null,null,null,null,null,null,null,null,null,null,null,null,null,null,null,null,null,null,null,null,null,null,null,null,null,null,null,null,null,null,null,null,null,null,null,null,null,null,null,null,null,null,null,null,null,null,null,null,null,null,"Trustee","Trustee","Trustee","Trustee"]
[" ","Butler","Alton",null,null,null,null,null,null,null,null,null,null,null,null,null,null,null,null,null,null,null,null,null,null,null,null,null,null,null,null,null,null,null,null,null,null,null,null,null,null,null,null,null,null,null,null,null,null,null,null,null,null,null,null,null,null,null,null,null,null,null,null,null,null,null,null,null,null,null,null,null,null,null,null,null,null,null,null,null,null,null,null,null,null,null,null,null,null,null,null,null,null,null,null,null,"Trustee","Trustee","Trustee","Trustee","Trustee","Trustee","Trustee","Trustee","Trustee","Trustee"]
[" ","Cacciatore, Jr.","S. Sammy",null,null,null,null,null,null,null,null,null,null,null,null,null,null,null,null,null,null,null,null,null,null,null,null,null,null,null,null,null,null,null,null,null,null,null,null,null,null,null,null,null,null,null,null,null,null,null,null,null,null,null,null,null,null,null,null,null,null,null,null,null,null,null,null,null,null,null,null,null,null,null,null,null,null,null,null,null,null,null,null,null,null,null,null,null,null,null,null,null,null,null,null,null,null,null,null,null,null,null,null,null,null,null,null,null,null,null,null,"Trustee","Trustee","Trustee","Trustee","Trustee","Trustee","Trustee","Trustee","Trustee","Trustee","Trustee","Trustee","Trustee","Trustee"]
[" ","Camp","B.F.","M.D.",null,null,null,null,null,null,null,null,null,null,null,null,null,"Trustee","Trustee","Trustee","Trustee President","Trustee","Trustee","Trustee","Trustee","Trustee","Trustee","Trustee","Trustee","Trustee","Trustee","Trustee","Trustee","Trustee","Trustee","Trustee","Trustee","Trustee","Trustee","Trustee","Trustee","Trustee","Trustee","Trustee","Trustee","Trustee","Trustee (deceased)"]
[" ","Campbell","Charles W.",null,null,null,null,null,null,null,null,null,null,null,null,null,null,null,null,null,null,null,null,null,null,null,null,null,null,null,null,null,null,null,null,null,null,null,null,null,null,null,null,null,null,null,null,null,null,null,null,null,null,null,null,null,null,null,null,null,null,null,null,null,null,null,null,null,null,null,null,null,null,null,null,null,"Trustee",null,"Trustee","Trustee","Trustee","Trustee","Trustee","Trustee","Trustee","Trustee","Trustee","Trustee","Trustee","Trustee","Trustee","Trustee","Trustee","Trustee","Trustee","Trustee","Trustee"]
[" ","Carlton Jr.","Doyle E.",null,null,null,null,null,null,null,null,null,null,null,null,null,null,null,null,null,null,null,null,null,null,null,null,null,null,null,null,null,null,null,null,null,null,null,null,null,null,null,null,null,null,null,null,null,null,null,null,null,null,null,null,null,null,null,null,null,null,null,null,null,null,null,null,null,null,null,null,null,null,null,null,null,null,null,null,null,null,null,null,null,null,null,"Trustee","Trustee","Trustee","Trustee","Trustee","Trustee","Trustee","Trustee","Trustee","Trustee","Trustee",null,null,null,"Trustee","Trustee","Trustee","Trustee","Trustee","Trustee","Trustee","Trustee","Trustee Emeritus","Trustee Emeritus",null,"Trustee Emeritus","Trustee Emeritus","Trustee Emeritus"]
[" ","Carlton Sr.","Doyle Elam","Gov. of Florida",null,null,null,null,null,null,null,null,null,null,null,null,null,null,null,null,null,null,null,null,null,null,null,null,null,null,null,null,null,null,null,null,"Trustee","Trustee","Trustee","Trustee","Trustee","Trustee","Trustee","Trustee","Trustee","Trustee","Trustee","Trustee","Trustee","Trustee","Trustee","Trustee","Trustee","Trustee","Trustee","Trustee","Trustee","Trustee","Trustee","Trustee","Trustee","Trustee","Trustee","Trustee & Finance Committee","Trustee","Trustee Vice President","Trustee Vice President",null,"Trustee Vice President","Trustee Vice President","Trustee Vice President","Trustee Vice President","Trustee Vice President","Trustee Vice President","Trustee Vice President",null,"Trustee Vice President & Executive Committee",null,"Trustee President & Executive Committee","Trustee President & Executive Committee","Trustee President & Executive Committee","Trustee President & Executive Committee","Trustee President & Executive Committee","Trustee Chairman","Trustee Chairman","Trustee Chairman","Trustee Emeritus","Trustee Emeritus","Trustee Emeritus","Trustee Emeritus",null,null,null,null,null,null,null,null,null,null,null,null,null,null,null,null,null,null,null,null,"Trustee Emeritus"]
[" ","Carnett","Albert L.",null,null,null,null,null,null,null,null,null,null,null,null,null,null,null,null,null,null,null,null,null,null,null,null,null,null,null,null,null,null,null,null,null,null,null,null,null,null,null,null,null,null,null,null,null,null,null,null,null,null,null,null,null,null,null,null,null,null,null,null,null,null,null,null,null,null,null,null,null,null,null,null,null,null,null,"Trustee","Trustee","Trustee","Trustee & Executive Committee","Trustee & Executive Committee","Trustee","Trustee","Trustee","Trustee","deceased"]
[" ","Cater","J.J.",null,null,null,null,null,null,null,null,null,null,null,null,null,null,null,null,null,null,null,null,null,null,null,null,null,null,null,null,null,null,null,null,null,null,null,null,null,null,null,null,null,null,null,null,null,null,null,null,null,null,null,null,null,null,null,null,null,null,null,null,null,null,"Trustee & Finance Committee","Trustee",null,"Trustee","Trustee","Trustee","Trustee, Committee on Administrative & Finance Committee","Trustee, Committee on Administrative & Finance Committee","Trustee, Committee on Administrative & Finance Committee","Trustee, Committee on Administrative",null,"Trustee & Executive Committee"]
[" ","Chaudoin","W.N.","Rev.","Trustee",null,"Trustee","Trustee","Trustee","Trustee","Trustee","Trustee","Trustee","Trustee","Trustee","Trustee","Trustee","Trustee","Trustee","Trustee President"]
[" ","Chipley","W.D.","Hon.",null,null,null,null,null,"Trustee","Trustee","Trustee","Trustee","Trustee","Trustee (deceased)"]
[" ","Clake","J.T.",null,null,null,null,null,null,null,null,null,null,"Trustee & Executive Committee","Trustee & Executive Committee","Trustee & Executive Committee","Trustee & Executive Committee","Trustee & Executive Committee","Trustee & Executive Committee","Trustee & Committee on Administrative","Trustee & Committee on Administrative","Trustee & Committee on Administrative","Trustee & Committee on Administrative","Trustee & Committee on Administrative","Trustee & Committee on Administrative"]
[" ","Clapp","W.J.",null,null,null,null,null,null,null,null,null,null,null,null,null,null,null,null,null,null,null,null,null,null,null,null,null,null,null,null,null,null,null,null,null,null,null,null,null,null,null,null,null,null,null,null,null,null,null,null,null,null,null,null,null,null,null,null,null,null,null,null,null,null,null,null,null,null,null,null,null,"Trustee","Trustee & Finance Committee","Trustee & Administrative & Finance Committee",null,"Trustee",null,"Trustee","Trustee","Trustee","Trustee","Trustee","Trustee","Trustee","Trustee","Trustee","Trustee","Trustee","Trustee","Trustee","Trustee","Trustee"]
[" ","Cleland","Max",null,null,null,null,null,null,null,null,null,null,null,null,null,null,null,null,null,null,null,null,null,null,null,null,null,null,null,null,null,null,null,null,null,null,null,null,null,null,null,null,null,null,null,null,null,null,null,null,null,null,null,null,null,null,null,null,null,null,null,null,null,null,null,null,null,null,null,null,null,null,null,null,null,null,null,null,null,null,null,null,null,null,null,null,null,null,null,null,null,null,null,null,null,null,null,null,null,null,null,null,null,null,null,null,null,null,null,null,null,null,"Trustee","Trustee","Trustee","Trustee","Trustee","Trustee","Trustee","Trustee"]
[" ","Clemmens","Nelson",null,null,null,null,null,null,null,null,null,null,null,null,null,null,null,null,null,null,null,null,null,null,null,null,null,null,null,null,null,null,null,null,null,null,null,null,null,null,null,null,null,null,null,null,null,null,null,null,null,null,null,null,null,null,null,null,null,null,null,null,null,null,null,null,null,null,null,null,null,null,null,null,null,null,null,null,null,null,null,null,null,null,null,null,null,null,null,null,null,null,null,null,null,null,null,null,null,null,null,null,null,null,null,null,null,null,null,null,null,null,null,null,null,"Trustee Ex-Officio; Chair, School of Business \nAdministrative Board","Trustee Ex-Officio; Chair, School of Business \nAdministrative Board","Trustee Ex-Officio; Chair, School of Business \nAdministrative Board","Trustee Ex-Officio; Chair, School of Business \nAdministrative Board","Trustee","Trustee","Trustee","Trustee"]
[" ","Cleveland Jr.","Mack N.",null,null,null,null,null,null,null,null,null,null,null,null,null,null,null,null,null,null,null,null,null,null,null,null,null,null,null,null,null,null,null,null,null,null,null,null,null,null,null,null,null,null,null,null,null,null,null,null,null,null,null,null,null,null,null,null,null,null,null,null,null,null,null,null,null,null,null,null,null,null,null,null,null,null,null,null,null,null,null,null,null,null,null,null,null,null,null,null,null,null,null,null,null,null,null,null,null,"Trustee","Trustee","Trustee General Counsel","Trustee General Counsel","Trustee General Counsel","Trustee General Counsel","Trustee General Counsel","Trustee General Counsel","Trustee General Counsel","Trustee General Counsel","Trustee Ex-Officio; General Counsel","Trustee Ex-Officio; General Counsel","Trustee Ex-Officio; General Counsel","Trustee Ex-Officio; General Counsel","Trustee Ex-Officio; General Counsel","Trustee Emeritus; General Counsel","Trustee Emeritus; General Counsel","Trustee Emeritus; General Counsel","Trustee Emeritus; General Counsel","Trustee Emeritus; General Counsel","Trustee Emeritus; General Counsel Emeritus","Trustee Emeriti"]
[" ","Coleman","T. Rupert",null,null,null,null,null,null,null,null,null,null,null,null,null,null,null,null,null,null,null,null,null,null,null,null,null,null,null,null,null,null,null,null,null,null,null,null,null,null,null,null,null,null,null,null,null,null,null,null,null,null,null,null,null,null,null,null,null,null,null,null,null,null,null,null,null,null,null,null,null,null,null,null,null,null,null,null,"Trustee","Trustee","Trustee","Trustee","Trustee","Trustee","Trustee","Trustee Secretary","Trustee Secretary","Trustee Secretary","Trustee Secretary"]
[" ","Conrad","Fred N. ",null,null,null,null,null,null,null,null,null,null,null,null,null,null,null,null,null,null,null,null,null,null,null,null,null,null,null,null,null,null,null,null,null,"Trustee","Trustee","Trustee","Trustee","Trustee","Trustee","Trustee","Trustee","Trustee","Trustee"," Trustee","Trustee","Trustee","Trustee","Trustee"]
[" ","Conrad","J.B.",null,null,null,null,null,null,null,null,null,null,null,null,null,null,null,null,null,null,null,"Trustee","Trustee","Trustee","Trustee","Trustee","Trustee","Trustee","Trustee","Trustee & Committee on Administrative","Trustee & Committee on Administrative"]
[" ","Cooper","Joe R.",null,null,null,null,null,null,null,null,null,null,null,null,null,null,null,null,null,null,null,null,null,null,null,null,null,null,null,null,null,null,null,null,null,null,null,null,null,null,null,null,null,null,null,null,null,null,null,null,null,null,null,null,null,null,null,null,null,null,null,null,null,null,null,null,null,null,null,null,null,null,null,null,null,null,null,null,null,null,null,null,null,null,null,null,null,null,null,null,null,null,null,null,null,null,null,null,null,null,null,null,null,null,null,null,null,null,null,null,null,null,null,null,null,null,null,null,null,null,null,"Trustee","Trustee","Trustee"]
[" ","Dasilva","Diane",null,null,null,null,null,null,null,null,null,null,null,null,null,null,null,null,null,null,null,null,null,null,null,null,null,null,null,null,null,null,null,null,null,null,null,null,null,null,null,null,null,null,null,null,null,null,null,null,null,null,null,null,null,null,null,null,null,null,null,null,null,null,null,null,null,null,null,null,null,null,null,null,null,null,null,null,null,null,null,null,null,null,null,null,null,null,null,null,null,null,null,null,null,null,null,null,null,null,null,null,null,null,null,null,"Trustee","Trustee","Trustee"]
[" ","Davenport","Carolyn",null,null,null,null,null,null,null,null,null,null,null,null,null,null,null,null,null,null,null,null,null,null,null,null,null,null,null,null,null,null,null,null,null,null,null,null,null,null,null,null,null,null,null,null,null,null,null,null,null,null,null,null,null,null,null,null,null,null,null,null,null,null,null,null,null,null,null,null,null,null,null,null,null,null,null,null,null,null,null,null,null,null,null,null,null,null,null,null,null,null,null,null,null,null,null,"Trustee","Trustee","Trustee","Trustee","Trustee","Trustee"]
[" ","Davis","A. Dano",null,null,null,null,null,null,null,null,null,null,null,null,null,null,null,null,null,null,null,null,null,null,null,null,null,null,null,null,null,null,null,null,null,null,null,null,null,null,null,null,null,null,null,null,null,null,null,null,null,null,null,null,null,null,null,null,null,null,null,null,null,null,null,null,null,null,null,null,null,null,null,null,null,null,null,null,null,null,null,null,null,null,null,null,null,null,null,null,null,null,null,null,null,null,"Trustee","Trustee","Trustee","Trustee","Trustee","Trustee","Trustee","Trustee","Trustee","Trustee","Trustee","Trustee","Trustee"]
[" ","Davis","Marty",null,null,null,null,null,null,null,null,null,null,null,null,null,null,null,null,null,null,null,null,null,null,null,null,null,null,null,null,null,null,null,null,null,null,null,null,null,null,null,null,null,null,null,null,null,null,null,null,null,null,null,null,null,null,null,null,null,null,null,null,null,null,null,null,null,null,null,null,null,null,null,null,null,null,null,null,null,null,null,null,null,null,null,null,null,null,null,null,null,null,null,null,null,null,null,null,null,null,null,null,null,null,null,null,null,null,"Trustee; Chair, Alumni Association"]
[" ","Davison","Bill",null,null,null,null,null,null,null,null,null,null,null,null,null,null,null,null,null,null,null,null,null,null,null,null,null,null,null,null,null,null,null,null,null,null,null,null,null,null,null,null,null,null,null,null,null,null,null,null,null,null,null,null,null,null,null,null,null,null,null,null,null,null,null,null,null,null,null,null,null,null,null,null,null,null,null,null,null,null,null,null,null,null,null,null,null,null,null,null,null,null,null,null,null,null,null,null,null,null,null,null,null,null,null,null,null,"Trustee Ex Officio","Trustee Ex Officio"]
[" ","Dawson","Marie",null,null,null,null,null,null,null,null,null,null,null,null,null,null,null,null,null,null,null,null,null,null,null,null,null,null,null,null,null,null,null,null,null,null,null,null,null,null,null,null,null,null,null,null,null,null,null,null,null,null,null,null,null,null,null,null,null,null,null,null,null,null,null,null,null,null,null,null,null,null,null,null,null,null,null,null,null,null,null,null,null,null,null,null,null,null,null,null,null,null,null,null,null,null,null,null,"Trustee Treasurer","Trustee Treasurer","Trustee","Trustee","Trustee","Trustee","Trustee","Trustee","Trustee","Trustee","Trustee"]
[" ","DeArmas","Nestor M.",null,null,null,null,null,null,null,null,null,null,null,null,null,null,null,null,null,null,null,null,null,null,null,null,null,null,null,null,null,null,null,null,null,null,null,null,null,null,null,null,null,null,null,null,null,null,null,null,null,null,null,null,null,null,null,null,null,null,null,null,null,null,null,null,null,null,null,null,null,null,null,null,null,null,null,null,null,null,null,null,null,null,null,null,null,null,null,null,null,null,null,null,"Trustee","Trustee",null,null,null,null,null,null,null,null,null,null,null,null,null,null,null,"Trustee","Trustee","Trustee","Trustee","Trustee","Trustee","Trustee","Trustee","Trustee","Trustee","Trustee Emeriti","Trustee Emeriti","Trustee Emeriti"]
[" ","DeLand","H.A.","Hon.","Trustees President & Executive Committee",null,"Trustees President & Executive Committee","Trustee & Executive Committee","Trustee & Executive Committee","Trustee & Executive Committee","Trustee & Executive Committee","Trustee & Executive Committee","Trustee","Trustee","Trustee","Trustee","Trustee","Trustee","Trustee","Trustee","Trustee","Trustee","Trustee","Trustee","Trustee (deceased)"]
[" ","Disney","Diane",null,null,null,null,null,null,null,null,null,null,null,null,null,null,null,null,null,null,null,null,null,null,null,null,null,null,null,null,null,null,null,null,null,null,null,null,null,null,null,null,null,null,null,null,null,null,null,null,null,null,null,null,null,null,null,null,null,null,null,null,null,null,null,null,null,null,null,null,null,null,null,null,null,null,null,null,null,null,null,null,null,null,null,null,null,null,null,null,null,null,null,null,null,null,null,null,null,null,null,null,null,null,null,null,null,null,null,null,"Trustee Ex-Officio; Chair, Arts & Sciences Board","Trustee Ex-Officio; Chair, Arts & Sciences Board","Trustee Ex-Officio; Chair, Arts & Sciences Board","Trustee Ex-Officio; Chair, Arts & Sciences Board","Trustee","Trustee","Trustee","Trustee","Trustee","Trustee"]
[" ","Doremus Jr.","Theodore A.",null,null,null,null,null,null,null,null,null,null,null,null,null,null,null,null,null,null,null,null,null,null,null,null,null,null,null,null,null,null,null,null,null,null,null,null,null,null,null,null,null,null,null,null,null,null,null,null,null,null,null,null,null,null,null,null,null,null,null,null,null,null,null,null,null,null,null,null,null,null,null,null,null,null,null,null,null,null,null,null,null,null,null,null,null,null,null,null,null,null,null,null,null,null,null,null,null,null,"Trustee","Trustee","Trustee"]
[" ","Duke","Claude W.","Rev., D.D.",null,null,null,null,null,null,null,null,null,null,null,null,null,null,null,null,null,null,null,null,null,null,null,null,null,null,null,null,null,null,null,null,null,null,null,null,null,"Trustee","Trustee","Trustee","Trustee","Trustee","Trustee","Trustee","Trustee","Trustee","Trustee","Trustee","Trustee"]
[" ","Duncan","Pope A.",null,null,null,null,null,null,null,null,null,null,null,null,null,null,null,null,null,null,null,null,null,null,null,null,null,null,null,null,null,null,null,null,null,null,null,null,null,null,null,null,null,null,null,null,null,null,null,null,null,null,null,null,null,null,null,null,null,null,null,null,null,null,null,null,null,null,null,null,null,null,null,null,null,null,null,null,null,null,null,null,null,null,null,null,null,null,null,null,null,"Trustee Ex Officio","Trustee Ex Officio","Trustee Ex Officio","Trustee Ex Officio President","Trustee Ex Officio President","Trustee Ex Officio President","Trustee Ex Officio","Trustee Ex Officio President","Trustee Ex Officio President","Trustee Chancellor","Trustee Chancellor","Trustee Chancellor","Trustee Chancellor","Trustee Chancellor","Trustee Chancellor","Trustee Chancellor",null,"Trustee Ex Officio; Chancellor Trustee","Trustee Ex Officio; Chancellor","Trustee Ex-Officio; Chancellor","Trustee Ex-Officio; Chancellor","Trustee Emeritus"]
[" ","duPont","Alfred I.","Mrs.",null,null,null,null,null,null,null,null,null,null,null,null,null,null,null,null,null,null,null,null,null,null,null,null,null,null,null,null,null,null,null,null,null,null,null,null,null,null,null,null,null,null,null,null,null,null,null,null,null,null,"Trustee","Trustee & Finance Committee","Trustee & Finance Committee","Trustee & Finance Committee","Trustee & Finance Committee","Trustee & Finance Committee","Trustee & Finance Committee","Trustee (resigned)",null,null,null,null,null,null,null,null,null,null,"Trustee","Trustee","Trustee & Finance Committee",null,"Trustee",null,"Trustee","Trustee","Trustee","Trustee","Trustee","Trustee","Trustee","Trustee","Trustee","deceased"]
[" ","Edington","Earl B.",null,null,null,null,null,null,null,null,null,null,null,null,null,null,null,null,null,null,null,null,null,null,null,null,null,null,null,null,null,null,null,null,null,null,null,null,null,null,null,null,null,null,null,null,null,null,null,null,null,null,null,null,null,null,null,null,null,null,null,null,null,null,null,null,null,null,null,null,null,"Trustee","Trustee","Trustee Secretary",null,"Trustee Secretary & Executive Committee",null,"Trustee Secretary & Executive Committee","Trustee Secretary & Executive Committee","Trustee Secretary & Executive Committee","Trustee Secretary & Executive Committee","Trustee Secretary & Executive Committee","Trustee Secretary","Trustee Secretary","Trustee Secretary","Trustee Chairman","Trustee Chairman","Trustee Chairman","Trustee Chairman","Trustee","Trustee","Trustee","Trustee","Trustee","Trustee","Trustee","Trustee","Trustee","Trustee","Trustee","Trustee","Trustee"]
[" ","Edmunds","J. Ollie",null,null,null,null,null,null,null,null,null,null,null,null,null,null,null,null,null,null,null,null,null,null,null,null,null,null,null,null,null,null,null,null,null,null,null,null,null,null,null,null,null,null,null,null,null,null,null,"Trustee","Trustee","Trustee & Committee on Administrative","Trustee","Trustee","Trustee & Finance Committee","Trustee & Finance Committee","Trustee & Finance Committee","Trustee & Finance Committee","Trustee & Finance Committee","Trustee & Finance Committee","Trustee & Finance Committee","Trustee & Finance Committee","Trustee Treasurer & Committee on Administrative","Trustee Treasurer","Trustee Treasurer","Trustee Treasurer",null,"Trustee Treasurer & President of Administrative Officers","Trustee Treasurer & President of Administrative Officers \n& Library Maintenance Trustees","Trustee & Library Maintenance Trustees","Trustee Treasurer, Committee on Administrative, \nFinance Committee & Library Maintenance Trustee","Trustee Treasurer Administrative, Finance, Library \nMaintenance","Trustee Treasurer Administrative, Finance, Library \nMaintenance","Trustee Treasurer Administrative, Finance, Library \nMaintenance",null,null,null,null,null,null,null,null,null,null,null,null,null,null,null,"Trustee Ex Officio","Trustee Ex Officio","Trustee Ex Officio","Trustee Ex Officio","Trustee Ex Officio","Trustee Ex Officio Chancellor","Trustee Ex Officio Chancellor"]
[" ","Edwards","F.C.","Rev.",null,null,null,null,null,null,null,null,null,null,null,null,null,null,null,null,null,null,"Trustee","Trustee","Trustee","Trustee","Trustee","Trustee","Trustee","Trustee","Trustee","Trustee","Trustee","Trustee","Trustee","Trustee","Trustee"]
[" ","Edwards","John L.",null,null,null,null,null,null,null,null,null,null,null,null,null,null,null,null,null,null,null,null,null,null,null,null,null,null,null,null,null,null,null,null,null,null,null,null,null,null,null,null,null,null,null,null,"Trustee","Trustee","Trustee","Trustee","Trustee","Trustee","Trustee","Trustee","Trustee","Trustee","Trustee","Trustee (deceased)"]
[" ","Ellis","Frank M.","Rev., D.D.","Trustee",null,null,"Trustee","Trustee","Trustee","Trustee","Trustee","Trustee","Trustee","Trustee (deceased)"]
[null,"Farmer","Nancy",null,null,null,null,null,null,null,null,null,null,null,null,null,null,null,null,null,null,null,null,null,null,null,null,null,null,null,null,null,null,null,null,null,null,null,null,null,null,null,null,null,null,null,null,null,null,null,null,null,null,null,null,null,null,null,null,null,null,null,null,null,null,null,null,null,null,null,null,null,null,null,null,null,null,null,null,null,null,null,null,null,null,null,null,null,null,null,null,null,null,null,null,null,null,null,null,null,null,null,null,null,null,null,null,null,null,null,null,null,null,null,null,null,null,null,null,null,null,null,null,null,"Trustee"]
[" ","Ferrell","Ralph H.",null,null,null,null,null,null,null,null,null,null,null,null,null,null,null,null,null,null,null,null,null,null,null,null,null,null,null,null,null,null,null,null,null,null,null,null,null,null,null,null,null,null,null,null,null,null,null,null,null,null,null,null,null,null,null,null,null,null,null,null,null,null,null,null,null,null,null,null,null,null,null,null,null,"Trustee Treasurer & Executive Committee",null,"Trustee Vice President & Executive Committee","Trustee Vice President & Executive Committee","Trustee Vice President & Executive Committee","Trustee Vice President & Executive Committee","Trustee Vice President & Executive Committee","Trustee Vice Chairman","Trustee Vice Chairman","Trustee Vice Chairman","Trustee","Trustee","Trustee","Trustee","Trustee","Trustee","Trustee","Trustee","Trustee","Trustee","Trustee","Trustee","Trustee"]
[" ","Finn","Jim L.",null,null,null,null,null,null,null,null,null,null,null,null,null,null,null,null,null,null,null,null,null,null,null,null,null,null,null,null,null,null,null,null,null,null,null,null,null,null,null,null,null,null,null,null,null,null,null,null,null,null,null,null,null,null,null,null,null,null,null,null,null,null,null,null,null,null,null,null,null,null,null,null,null,null,null,null,null,null,null,null,null,null,null,null,null,null,null,null,null,null,null,null,null,null,null,null,null,null,null,null,null,null,null,null,"Trustee Chair, Music School Board","Trustee Co-Chair, Music School Board, Ex Officio"]
[" ","Fletcher","D.U.","U.S. Senator",null,null,null,null,null,null,null,null,null,null,null,null,null,"Trustee","Trustee","Trustee & Committee on Administrative","Trustee & Committee on Administrative","Trustee","Trustee","Trustee","Trustee","Trustee","Trustee","Trustee","Trustee","Trustee","Trustee","Trustee","Trustee","Trustee","Trustee","Trustee","Trustee","Trustee","Trustee","Trustee","Trustee","Trustee","Trustee","Trustee","Trustee","Trustee","Trustee","Trustee","Trustee","Trustee","Trustee","Trustee","Trustee","died in 1936"]
[" ","Flippo","Robert D.",null,null,null,null,null,null,null,null,null,null,null,null,null,null,null,null,null,null,null,null,null,null,null,null,null,null,null,null,null,null,null,null,null,null,null,null,null,null,null,null,null,null,null,null,null,null,null,null,null,null,null,null,null,null,null,null,null,null,null,null,null,null,null,null,null,null,null,null,null,null,null,null,null,null,null,"Trustee","Trustee","Trustee","Trustee","Trustee","Trustee","Trustee","Trustee","Trustee","Trustee","Trustee","Trustee","Trustee","Trustee","Trustee","Trustee","Trustee","Trustee","Trustee","Trustee","Trustee","Trustee","Trustee","Trustee","Trustee"]
[" ","Forbes","J.F.",null,"Trustee",null,"Trustee Ex-Officio & Executive Committee","Trustee Treasurer & Executive Committee","Trustee Treasurer & Executive Committee","Trustee Treasurer & Executive Committee","Trustee Treasurer & Executive Committee","Trustee Treasurer & Executive Committee","Trustee Treasurer & Executive Committee","Trustee Treasurer & Executive Committee","Trustee Treasurer & Executive Committee","Trustee Treasurer & Executive Committee","Trustee Treasurer & Executive Committee","Trustee Treasurer & Executive Committee","Trustee Treasurer & Executive Committee","Trustee Treasurer & Committee on Administrative","Trustee","Trustee","Trustee"]
[" ","Forbes","S. B.",null,null,null,null,null,null,null,null,null,null,null,null,null,null,null,null,null,null,null,null,null,null,null,null,null,null,null,null,null,null,null,null,null,null,null,null,null,null,null,null,null,null,null,null,null,null,null,null,null,null,null,null,null,null,null,null,null,null,null,null,null,null,null,null,null,null,null,null,null,null,null,null,null,null,null,"Trustee"]
[" ","Foreman","Bonnie",null,null,null,null,null,null,null,null,null,null,null,null,null,null,null,null,null,null,null,null,null,null,null,null,null,null,null,null,null,null,null,null,null,null,null,null,null,null,null,null,null,null,null,null,null,null,null,null,null,null,null,null,null,null,null,null,null,null,null,null,null,null,null,null,null,null,null,null,null,null,null,null,null,null,null,null,null,null,null,null,null,null,null,null,null,null,null,null,null,null,null,null,null,null,null,null,null,null,null,null,null,null,null,null,null,null,null,null,null,null,null,null,null,null,null,"Trustee","Trustee","Trustee","Trustee","Trustee","Trustee","Trustee"]
[" ","Freeman","Albert T.",null,null,null,null,null,null,null,null,null,null,null,null,null,null,null,null,null,null,null,null,null,null,"Trustee","Trustee","Trustee","Trustee","Trustee","Trustee","Trustee","Trustee","Trustee","Trustee (deceased)"]
[" ","Fronk","Michael R.",null,null,null,null,null,null,null,null,null,null,null,null,null,null,null,null,null,null,null,null,null,null,null,null,null,null,null,null,null,null,null,null,null,null,null,null,null,null,null,null,null,null,null,null,null,null,null,null,null,null,null,null,null,null,null,null,null,null,null,null,null,null,null,null,null,null,null,null,null,null,null,null,null,null,null,null,null,null,null,null,null,null,null,null,null,null,null,null,null,null,null,null,null,null,null,null,null,null,null,null,null,null,null,null,null,null,null,null,null,null,"Trustee","Trustee"]
[" ","Furches","John",null,null,null,null,null,null,null,null,null,null,null,null,null,null,null,null,null,null,null,null,null,null,null,null,null,null,null,null,null,null,null,null,null,null,null,null,null,null,null,null,null,null,null,null,null,null,null,null,null,null,null,null,null,null,null,null,null,null,null,null,null,null,null,null,null,null,null,null,null,null,null,null,null,null,null,null,null,null,null,null,null,null,null,null,null,null,null,null,null,null,null,null,null,null,null,null,null,null,null,null,null,null,null,null,null,null,null,"Trustee"]
[" ","Furches","Sandy",null,null,null,null,null,null,null,null,null,null,null,null,null,null,null,null,null,null,null,null,null,null,null,null,null,null,null,null,null,null,null,null,null,null,null,null,null,null,null,null,null,null,null,null,null,null,null,null,null,null,null,null,null,null,null,null,null,null,null,null,null,null,null,null,null,null,null,null,null,null,null,null,null,null,null,null,null,null,null,null,null,null,null,null,null,null,null,null,null,null,null,null,null,null,null,null,null,null,null,null,null,null,null,null,null,null,null,"Trustee (Co-Chair, Alumni Assoc.)"]
[" ","Gardner","David M.","D.D.",null,null,null,null,null,null,null,null,null,null,null,null,null,null,null,null,null,null,null,null,null,null,null,null,null,null,null,null,null,null,null,null,null,null,null,null,null,null,null,null,null,null,null,null,null,null,null,null,null,null,null,null,null,null,null,"Trustee","Trustee","Trustee","Trustee","Trustee"]
[" ","Gaston","Earl R.",null,null,null,null,null,null,null,null,null,null,null,null,null,null,null,null,null,null,null,null,null,null,null,null,null,null,null,null,null,null,null,null,null,null,null,null,null,null,null,null,null,null,null,null,null,null,null,null,null,null,null,null,null,null,null,null,null,null,null,null,null,"Trustee & Finance Committee","Trustee & Finance Committee","Trustee",null,"Trustee","Trustee & Finance Committee","Trustee & Finance Committee","Trustee & Finance Committee","Trustee & Finance Committee","Trustee & Finance Committee","Trustee & Finance Committee",null,"Trustee",null,"Trustee & Executive Committee","Trustee & Executive Committee","Trustee & Executive Committee","Trustee & Executive Committee","Trustee & Executive Committee","Trustee","Trustee","Trustee"]
[" ","Gaylord","Frank T.",null,null,null,null,null,null,null,null,null,null,null,null,null,null,null,null,null,null,null,null,null,null,null,null,null,null,null,null,null,null,null,null,null,null,null,null,null,null,null,null,null,null,null,null,null,null,null,null,null,null,null,null,null,null,null,null,null,null,null,null,null,null,null,null,null,null,null,null,null,null,null,null,null,null,null,null,null,null,null,null,null,null,null,null,null,null,null,null,null,null,null,null,null,null,null,null,null,null,"Trustee","Trustee","Trustee","Trustee","Trustee","Trustee","Trustee","Trustee","Trustee","Trustee","Trustee","Trustee","Trustee","Trustee","Trustee","Trustee","Trustee","Trustee","Trustee","Trustee","Trustee Emeriti","Trustee Emeriti","Trustee Emeriti","Trustee Emeriti"]
[" ","Gelston","H.C.","Rev.","Trustee & Executive Committee",null,"Trustee & Executive Committee","Trustee & Executive Committee","Trustee & Executive Committee","Trustee & Executive Committee","Trustee & Executive Committee","Trustee & Executive Committee","Trustee & Executive Committee","Trustee & Executive Committee","Trustee & Executive Committee","Trustee & Executive Committee","Trustee & Executive Committee"]
[" ","George","Rich",null,null,null,null,null,null,null,null,null,null,null,null,null,null,null,null,null,null,null,null,null,null,null,null,null,null,null,null,null,null,null,null,null,null,null,null,null,null,null,null,null,null,null,null,null,null,null,null,null,null,null,null,null,null,null,null,null,null,null,null,null,null,null,null,null,null,null,null,null,null,null,null,null,null,null,null,null,null,null,null,null,null,null,null,null,null,null,null,null,null,null,null,null,null,null,null,null,null,null,null,null,null,null,null,null,null,null,null,null,null,null,null,null,null,null,null,null,null,null,null,"Trustee","Trustee"]
[" ","Gillen","R.H.","Dr.",null,null,null,null,null,null,null,null,"Trustee & Executive Committee","Trustee & Executive Committee","Trustee & Executive Committee","Trustee & Executive Committee","Trustee & Executive Committee","Trustee & Executive Committee"]
[" ","Gillespie","Sally",null,null,null,null,null,null,null,null,null,null,null,null,null,null,null,null,null,null,null,null,null,null,null,null,null,null,null,null,null,null,null,null,null,null,null,null,null,null,null,null,null,null,null,null,null,null,null,null,null,null,null,null,null,null,null,null,null,null,null,null,null,null,null,null,null,null,null,null,null,null,null,null,null,null,null,null,null,null,null,null,null,null,null,null,null,null,null,null,null,null,null,null,null,null,null,null,null,"Trustee"]
[" ","Govoni","Leo",null,null,null,null,null,null,null,null,null,null,null,null,null,null,null,null,null,null,null,null,null,null,null,null,null,null,null,null,null,null,null,null,null,null,null,null,null,null,null,null,null,null,null,null,null,null,null,null,null,null,null,null,null,null,null,null,null,null,null,null,null,null,null,null,null,null,null,null,null,null,null,null,null,null,null,null,null,null,null,null,null,null,null,null,null,null,null,null,null,null,null,null,null,null,null,null,null,null,null,null,null,null,null,null,null,null,null,null,null,null,null,null,null,null,"Trustee","Trustee","Trustee","Trustee","Trustee"]
[" ","Graf","Kathleen L.",null,null,null,null,null,null,null,null,null,null,null,null,null,null,null,null,null,null,null,null,null,null,null,null,null,null,null,null,null,null,null,null,null,null,null,null,null,null,null,null,null,null,null,null,null,null,null,null,null,null,null,null,null,null,null,null,null,null,null,null,null,null,null,null,null,null,null,null,null,null,null,null,null,null,null,null,null,null,null,null,null,null,null,null,null,null,null,null,null,null,null,null,null,null,null,null,null,null,null,null,null,null,null,null,null,null,null,null,null,null,null,null,null,null,null,null,null,null,null,"Trustee Ex-Officio","Trustee Ex-Officio","Ex-Officio; President, Alumni Association"]
[" ","Graves","James F.",null,null,null,null,null,null,null,null,null,null,null,null,null,null,null,null,null,null,null,null,null,null,null,null,null,null,null,null,null,null,null,null,null,null,null,null,null,null,null,null,null,null,null,null,null,null,null,null,null,null,null,null,null,null,null,null,null,null,null,null,null,null,null,null,null,null,null,null,null,null,null,null,null,null,null,null,null,null,null,null,null,null,null,null,null,null,null,null,null,null,null,null,null,null,null,null,null,null,null,null,null,"Trustee","Trustee"]
[" ","Gray","William A.",null,null,null,null,null,null,null,null,null,null,null,null,null,null,null,null,null,null,null,null,null,null,null,null,null,null,null,null,null,null,null,null,null,null,null,null,null,null,null,null,null,null,null,null,null,null,null,null,null,null,null,null,null,null,null,null,null,null,null,null,null,null,null,null,null,null,null,null,null,null,null,null,null,null,null,null,null,null,null,null,null,null,null,null,null,null,null,null,null,null,null,null,null,null,null,null,null,null,null,null,null,null,null,null,null,null,null,null,null,null,null,null,null,null,null,"Trustee Ex-Officio; President, Alumni Association","Trustee Ex-Officio; President, Alumni Association","Trustee Ex-Officio; President, Alumni Association","Trustee Ex-Officio"]
[" ","Griffith","J.H. ","D.D.","Trustee "]
[" ","Griffith","Jack S.",null,null,null,null,null,null,null,null,null,null,null,null,null,null,null,null,null,null,null,null,null,null,null,null,null,null,null,null,null,null,null,null,null,null,null,null,null,null,null,null,null,null,null,null,null,null,null,null,null,null,null,null,null,null,null,null,null,null,null,null,null,null,null,null,null,null,null,null,null,null,null,null,null,null,null,null,null,null,null,null,null,null,null,null,null,null,null,null,null,null,null,null,null,null,null,null,null,null,null,null,null,"Trustee"]
[" ","Gurney","J. Tom",null,null,null,null,null,null,null,null,null,null,null,null,null,null,null,null,null,null,null,null,null,null,null,null,null,null,null,null,null,null,null,null,null,null,null,null,null,null,null,null,null,null,null,null,null,null,null,null,null,null,null,null,null,null,null,null,null,null,null,null,null,null,null,null,null,null,null,null,null,null,null,null,null,"Trustee General Council",null,"Trustee General Council","Trustee General Council","Trustee General Council","Trustee General Council","Trustee General Council","Trustee General Council","Trustee General Council","Trustee General Council","Trustee General Council","Trustee General Council"]
[" ","Gwynn","Walter","Hon.","Trustee & Executive Committee",null,"Trustee & Executive Committee","Trustee & Executive Committee","Trustee & Executive Committee","Trustee & Executive Committee","Trustee & Executive Committee","Trustee & Executive Committee","Trustee & Executive Committee","Trustee & Executive Committee","Trustee & Executive Committee (deceased)"]
[" ","Hagstrom","Lorna Jean",null,null,null,null,null,null,null,null,null,null,null,null,null,null,null,null,null,null,null,null,null,null,null,null,null,null,null,null,null,null,null,null,null,null,null,null,null,null,null,null,null,null,null,null,null,null,null,null,null,null,null,null,null,null,null,null,null,null,null,null,null,null,null,null,null,null,null,null,null,null,null,null,null,null,null,null,null,null,null,null,null,null,null,null,null,null,null,null,null,null,null,null,null,null,null,null,null,null,null,null,null,null,null,null,null,null,null,"Trustee Ex-Officio; Chair, Music Board"]
[" ","Hamlin","Arthur G.",null,null,null,"Trustee","Trustee","Trustee","Trustee","Trustee & Executive Committee","Trustee & Executive Committee","Trustee & Executive Committee","Trustee & Executive Committee","Trustee & Executive Committee","Trustee & Executive Committee","Trustee & Executive Committee","Trustee & Executive Committee","Trustee & Executive Committee","Trustee","Trustee","Trustee"]
[" ","Hand","Dolly",null,null,null,null,null,null,null,null,null,null,null,null,null,null,null,null,null,null,null,null,null,null,null,null,null,null,null,null,null,null,null,null,null,null,null,null,null,null,null,null,null,null,null,null,null,null,null,null,null,null,null,null,null,null,null,null,null,null,null,null,null,null,null,null,null,null,null,null,null,null,null,null,null,null,null,null,null,null,null,null,null,null,null,null,null,null,null,null,null,null,null,null,null,null,null,null,null,null,null,null,null,null,null,null,"Trustee","Trustee","Trustee","Trustee","Trustee","Trustee","Trustee","Trustee","Trustee","Trustee","Trustee","Trustee","Trustee","Trustee","Trustee",null,null,"Trustee Emeriti"]
[" ","Hand","Frances Rutledge",null,null,null,null,null,null,null,null,null,null,null,null,null,null,null,null,null,null,null,null,null,null,null,null,null,null,null,null,null,null,null,null,null,null,null,null,null,null,null,null,null,null,null,null,null,null,null,null,null,null,null,null,null,null,null,null,null,null,null,null,null,null,null,null,null,null,null,null,null,null,null,null,null,null,null,null,null,null,null,null,null,null,null,null,null,null,null,null,null,null,null,null,null,null,null,null,null,null,null,null,null,null,null,null,null,null,null,null,null,null,null,null,null,null,null,null,null,null,null,"Trustee","Trustee Emeriti"]
[" ","Hansen","Roderick P.",null,null,null,null,null,null,null,null,null,null,null,null,null,null,null,null,null,null,null,null,null,null,null,null,null,null,null,null,null,null,null,null,null,null,null,null,null,null,null,null,null,null,null,null,null,null,null,null,null,null,null,null,null,null,null,null,null,null,null,null,null,null,null,null,null,null,null,null,null,null,null,null,null,null,null,null,null,null,null,null,null,null,null,null,null,null,null,null,null,null,null,null,null,null,null,null,null,null,null,null,null,null,"Trustee Ex Officio","Trustee Ex Officio"]
[" ","Hansen","Thomas",null,null,null,null,null,null,null,null,null,null,null,null,null,null,null,null,null,null,null,null,null,null,null,null,null,null,null,null,null,null,null,null,null,null,null,null,null,null,null,null,null,null,null,null,null,null,null,null,null,null,null,null,null,null,null,null,null,null,null,null,null,"Trustee & Administrative Committee","Trustee & Administrative Committee","Trustee",null,"Trustee","Trustee & Administrative Committee","Trustee & Administrative Committee","Trustee & Administrative Committee","Trustee & Administrative Committee","Trustee & Administrative Committee","Trustee & Administrative Committee",null,"Trustee & Executive Committee",null,"Trustee & Executive Committee","Trustee & Executive Committee"]
[" ","Harshaw","David H.",null,null,null,null,null,null,null,null,null,null,null,null,null,null,null,null,null,null,null,null,null,null,null,null,null,null,null,null,null,null,null,null,null,null,null,null,null,null,null,null,null,null,null,null,null,null,null,null,null,null,null,null,null,null,null,null,null,null,null,null,null,null,null,null,null,null,null,"Library Maintenance Trustee","Library Maintenance Trustee","Library Maintenance Trustee","Trustee & Library Maintenance Trustee","Trustee & Finance & Library Maintenance Trustee",null,"Trustee",null,"Trustee","Trustee","Trustee","Trustee","Trustee","Trustee","Trustee","Trustee","Trustee","Trustee","Trustee","Trustee","Trustee","Trustee","Trustee","Trustee","Trustee","Trustee","Trustee","Trustee","Trustee","Trustee","Trustee","Trustee","Trustee","Trustee","Trustee Emeritus"]
[" ","Hickem","B.G.",null,null,null,null,null,null,null,null,null,null,null,null,null,null,null,null,null,null,null,null,null,null,null,null,null,null,null,null,null,null,null,null,null,null,null,null,null,null,null,null,null,null,null,null,null,null,null,null,null,null,null,null,null,null,null,null,null,null,null,null,null,null,null,null,null,null,null,null,null,null,null,null,null,null,null,null,null,null,null,null,null,null,null,null,null,null,null,null,null,null,null,null,null,null,"Trustee","Trustee","Trustee","Trustee"]
[" ","Higginbotham","Dennis",null,null,null,null,null,null,null,null,null,null,null,null,null,null,null,null,null,null,null,null,null,null,null,null,null,null,null,null,null,null,null,null,null,null,null,null,null,null,null,null,null,null,null,null,null,null,null,null,null,null,null,null,null,null,null,null,null,null,null,null,null,null,null,null,null,null,null,null,null,null,null,null,null,null,null,null,null,null,null,null,null,null,null,null,null,null,null,null,null,null,null,null,null,null,null,null,null,null,null,null,null,null,null,null,null,null,null,"Trustee Ex-Officio; on leave","Trustee Ex-Officio; on leave","Trustee Ex-Officio; on leave"]
[" ","Highbaugh","L. Le Roy",null,null,null,null,null,null,null,null,null,null,null,null,null,null,null,null,null,null,null,null,null,null,null,null,null,null,null,null,null,null,null,null,null,null,null,null,null,null,null,null,null,null,null,null,null,null,null,null,null,null,null,null,null,null,null,null,null,null,null,null,null,null,null,null,null,null,null,null,null,null,null,"Trustee & Finance Committee",null,"Trustee"]
[" ","Highbaugh","L. LeRoy Jr.",null,null,null,null,null,null,null,null,null,null,null,null,null,null,null,null,null,null,null,null,null,null,null,null,null,null,null,null,null,null,null,null,null,null,null,null,null,null,null,null,null,null,null,null,null,null,null,null,null,null,null,null,null,null,null,null,null,null,null,null,null,null,null,null,null,null,null,null,null,null,null,null,null,null,null,"Trustee","Trustee","Trustee","Trustee","Trustee","Trustee","Trustee","Trustee","Trustee","Trustee","Trustee","Trustee","Trustee","Trustee","Trustee","Trustee"]
[" ","Hobson","W.A.","Rev., D.D.",null,null,null,null,null,null,null,null,null,null,null,null,null,null,null,"Trustee","Trustee","Trustee","Trustee","Trustee","Trustee","Trustee","Trustee","Trustee","Trustee","Trustee","Trustee","Trustee","Trustee","Trustee","Trustee","Trustee","Trustee","Trustee","Trustee","Trustee","Trustee","Trustee","Trustee","Trustee","Trustee","Trustee","Trustee","Trustee","Trustee","Trustee","Trustee","Trustee","Trustee","Trustee","Trustee","Trustee","Trustee","Trustee","Trustee","Trustee","Trustee ","Trustee ","Trustee ","Trustee ","Trustee ","Trustee ","Trustee ",null,"Trustee","Trustee","Trustee","Trustee ","Trustee","Trustee","Trustee",null,"Trustee Emeritus"]
[" ","Holbrooke","Helen C.",null,null,null,null,null,null,null,null,null,null,null,null,null,null,null,null,null,null,null,null,null,null,null,null,null,null,null,null,null,null,null,null,null,null,null,null,null,null,null,null,null,null,null,null,null,null,null,null,null,null,null,null,null,null,null,null,null,null,null,null,null,null,null,"Trustee",null,"Trustee","Trustee","Trustee","Trustee","Trustee","Trustee","Trustee"]
[" ","Hollis","Mark C.",null,null,null,null,null,null,null,null,null,null,null,null,null,null,null,null,null,null,null,null,null,null,null,null,null,null,null,null,null,null,null,null,null,null,null,null,null,null,null,null,null,null,null,null,null,null,null,null,null,null,null,null,null,null,null,null,null,null,null,null,null,null,null,null,null,null,null,null,null,null,null,null,null,null,null,null,null,null,null,null,null,null,null,null,null,null,null,null,null,"Trustee","Trustee","Trustee","Trustee","Trustee","Trustee","Trustee","Trustee","Trustee","Trustee","Trustee","Trustee","Trustee","Trustee","Trustee","Trustee","Trustee","Trustee","Trustee","Trustee","Trustee","Trustee","Trustee","Trustee","Trustee","Trustee","Trustee","Trustee","Trustee","Trustee Emeriti","Trustee Emeriti","Trustee Emeriti"]
[" ","Hollis","R. Dean",null,null,null,null,null,null,null,null,null,null,null,null,null,null,null,null,null,null,null,null,null,null,null,null,null,null,null,null,null,null,null,null,null,null,null,null,null,null,null,null,null,null,null,null,null,null,null,null,null,null,null,null,null,null,null,null,null,null,null,null,null,null,null,null,null,null,null,null,null,null,null,null,null,null,null,null,null,null,null,null,null,null,null,null,null,null,null,null,null,null,null,null,null,null,null,null,null,null,null,null,null,null,null,null,null,null,null,null,"Trustee","Trustee","Trustee","Trustee","Trustee","Trustee","Trustee","Trustee","Trustee","Trustee","Trustee","Trustee",null,"Trustee"]
[" ","Holmes","Robert Shailor","Litt.D.",null,null,null,null,null,null,null,null,null,null,null,null,null,null,null,null,null,null,null,null,null,null,null,null,null,null,null,null,null,null,null,null,null,null,null,null,null,null,null,null,null,null,null,"Trustee","Trustee","Trustee","Trustee","Trustee","Trustee","Trustee","Trustee","Trustee (deceased)"]
[" ","Hon","E.L.",null,null,null,null,null,null,null,null,null,null,null,null,null,null,null,null,null,null,null,"Trustee","Trustee","Trustee","Trustee & Committee on Administrative","Trustee & Committee on Administrative","Trustee & Committee on Administrative","Trustee & Committee on Administrative","Trustee & Committee on Administrative","Trustee & Committee on Administrative","Trustee & Committee on Administrative","Trustee & Committee on Administrative","Trustee & Committee on Administrative","Trustee & Committee on Administrative","Trustee & Committee on Administrative","Trustee & Committee on Administrative","Trustee & Committee on Administrative","Trustee & Committee on Administrative","Trustee & Committee on Administrative","Trustee & Committee on Administrative","Trustee & Committee on Administrative","Trustee & Committee on Administrative","Trustee & Committee on Administrative","Trustee & Committee on Administrative","Trustee & Committee on Administrative","Trustee & Committee on Administrative","Trustee & Committee on Administrative","Trustee & Committee on Administrative","Trustee & Committee on Administrative","Trustee & Committee on Administrative","Trustee & Committee on Administrative","Trustee Vice-President & Committee on Administrative","Trustee Vice-President & Committee on Administrative","Trustee Vice-President & Committee on Administrative","Trustee Vice-President & Committee on Administrative","Trustee Vice-President & Committee on Administrative","Trustee Vice-President & Committee on Administrative","Trustee Vice-President & Committee on Administrative","Trustee Vice-President & Committee on Administrative","Trustee Vice-President & Committee on Administrative","Trustee Vice-President & Committee on Administrative","Trustee Vice-President & Committee on Administrative","Trustee Vice-President "]
[" ","Horton","Thomas R.",null,null,null,null,null,null,null,null,null,null,null,null,null,null,null,null,null,null,null,null,null,null,null,null,null,null,null,null,null,null,null,null,null,null,null,null,null,null,null,null,null,null,null,null,null,null,null,null,null,null,null,null,null,null,null,null,null,null,null,null,null,null,null,null,null,null,null,null,null,null,null,null,null,null,null,null,null,null,null,null,null,null,null,null,null,null,null,null,"Trustee","Trustee",null,null,null,null,null,null,null,null,null,null,null,null,null,null,null,null,"Trustee Emeritus","Trustee Emeritus","Trustee Emeritus","Trustee Emeritus","Trustee Emeritus"]
[" ","Hough","S.V.",null,null,null,null,null,null,null,null,null,null,null,null,null,null,null,null,null,null,null,"Trustee","Trustee & Committee on Administrative","Trustee & Committee on Administrative","Trustee & Committee on Administrative","Trustee & Committee on Administrative","Trustee & Committee on Administrative","Trustee & Committee on Administrative","Trustee & Committee on Administrative","Trustee","Trustee","Trustee","Trustee","Trustee","Trustee","Trustee","Trustee","Trustee","Trustee","Trustee","Trustee","Trustee","Trustee","Trustee","Trustee","Trustee","Trustee","Trustee","Trustee","Trustee","Trustee","Trustee","Trustee","Trustee","Trustee","Trustee","Trustee","Trustee","Trustee","Trustee","Trustee","Trustee","Trustee","Trustee","Trustee"]
[" ","Hulley","Elkanah B.","D. Eng.",null,null,null,null,null,null,null,null,null,null,null,null,null,null,null,null,null,null,null,null,null,null,null,null,null,null,null,null,null,null,null,null,null,null,null,null,null,null,null,null,null,null,null,null,null,null,"Trustee","Trustee","Trustee","Trustee","Trustee","Trustee","Trustee","Trustee","Trustee","Trustee","Trustee","Trustee","Trustee","Trustee","Trustee","Trustee","Trustee",null,"Trustee","Trustee","Trustee","Trustee","Trustee"]
[" ","Hulley","Lincoln","Rev., Ph.D.",null,null,null,null,null,null,null,null,null,null,null,null,null,null,null,null,null,"Trustee Treasurer & Committee on Administrative","Trustee Treasurer & Committee on Administrative","Trustee Treasurer & Committee on Administrative","Trustee Treasurer & Committee on Administrative","Trustee Treasurer & Committee on Administrative","Trustee Treasurer & Committee on Administrative","Trustee Treasurer & Committee on Administrative","Trustee Treasurer & Committee on Administrative","Trustee Treasurer & Committee on Administrative","Trustee Treasurer & Committee on Administrative","Trustee Treasurer & Committee on Administrative","Trustee Treasurer & Committee on Administrative","Trustee Treasurer & Committee on Administrative","Trustee Treasurer & Committee on Administrative","Trustee Treasurer & Committee on Administrative","Trustee Treasurer & Committee on Administrative","Trustee Treasurer & Committee on Administrative","Trustee Treasurer & Committee on Administrative","Trustee Treasurer & Committee on Administrative","Trustee Treasurer & Committee on Administrative","Trustee Treasurer & Committee on Administrative","Trustee Treasurer & Committee on Administrative","Trustee Treasurer & Committee on Administrative","Trustee Treasurer & Committee on Administrative","Trustee Treasurer & Committee on Administrative","Trustee Treasurer & Committee on Administrative","Trustee Treasurer & Committee on Administrative","Trustee Treasurer & Committee on Administrative","Trustee Treasurer & Committee on Administrative","Trustee Treasurer & Committee on Administrative (deceased)"]
[" ","Huntley","Byron E.",null,null,null,null,null,null,null,null,null,null,"Trustee","Trustee","Trustee","Trustee","Trustee","Trustee","Trustee","Trustee","Trustee","Trustee"]
[" ","Icard","Thomas F.",null,null,null,null,null,null,null,null,null,null,null,null,null,null,null,null,null,null,null,null,null,null,null,null,null,null,null,null,null,null,null,null,null,null,null,null,null,null,null,null,null,null,null,null,null,null,null,null,null,null,null,null,null,null,null,null,null,null,null,null,null,null,null,null,null,null,null,null,null,null,null,null,null,null,null,null,null,null,null,null,null,null,null,null,null,null,null,null,null,null,null,null,"Trustee","Trustee","Trustee","Trustee"]
[" ","Jarrard Jr.","Wendell",null,null,null,null,null,null,null,null,null,null,null,null,null,null,null,null,null,null,null,null,null,null,null,null,null,null,null,null,null,null,null,null,null,null,null,null,null,null,null,null,null,null,null,null,null,null,null,null,null,null,null,null,null,null,null,null,null,null,null,null,null,null,null,null,null,null,null,null,null,null,null,null,null,null,null,null,null,null,null,null,null,null,null,null,null,null,null,null,null,"Trustee Treasurer","Trustee Treasurer","Trustee Treasurer Secretary","Trustee Treasurer","Trustee Treasurer","Trustee","Trustee","Trustee","Trustee","Trustee Treasurer","Trustee Treasurer","Trustee Treasurer","Trustee Treasurer"]
[" ","Jarrard Sr.","Wendell",null,null,null,null,null,null,null,null,null,null,null,null,null,null,null,null,null,null,null,null,null,null,null,null,null,null,null,null,null,null,null,null,null,null,null,null,null,null,null,null,null,null,null,null,null,null,null,null,null,null,null,null,null,null,null,null,null,null,null,null,null,null,null,null,null,null,null,null,null,null,null,null,null,null,null,null,null,null,null,null,"Trustee","Trustee","Trustee","Trustee Vice Chairman","Trustee Vice Chairman","Trustee Vice Chairman","Trustee Vice Chairman","Trustee","Trustee",null,null,null,null,null,"Trustee Treasurer","Trustee Treasurer"]
[" ","Jenkins","Tony",null,null,null,null,null,null,null,null,null,null,null,null,null,null,null,null,null,null,null,null,null,null,null,null,null,null,null,null,null,null,null,null,null,null,null,null,null,null,null,null,null,null,null,null,null,null,null,null,null,null,null,null,null,null,null,null,null,null,null,null,null,null,null,null,null,null,null,null,null,null,null,null,null,null,null,null,null,null,null,null,null,null,null,null,null,null,null,null,null,null,null,null,null,null,null,null,null,null,null,null,null,null,null,null,null,null,null,null,null,null,null,null,null,null,null,null,null,null,null,null,"Trustee","Trustee"]
[" ","Jennings","S. Bryan",null,null,null,null,null,null,null,null,null,null,null,null,null,null,null,null,null,null,null,null,null,null,null,null,null,null,null,null,null,null,null,null,null,null,"Trustee","Trustee","Trustee","Trustee","Trustee","Trustee","Trustee","Trustee","Trustee","Trustee","Trustee","Trustee","Trustee","Trustee & Committee on Administrative","Trustee & Committee on Administrative","Trustee","Trustee","Trustee","Trustee","Trustee","Trustee","Trustee","Trustee","Trustee","Trustee","Trustee & Committee on Administrative","Trustee & Committee on Administrative","Trustee & Administrative Committee","Trustee & Administrative Committee","Trustee",null,"Trustee","Trustee","Trustee","Trustee & Committee on Administrative","Trustee & Committee on Administrative","Trustee","Trustee"]
[" ","Jennings","William S.","Ex-Gov",null,null,null,null,null,null,null,null,null,null,null,null,null,"Trustee","Trustee","Trustee","Trustee","Trustee","Trustee","Trustee","Trustee","Trustee","Trustee","Trustee","Trustee","Trustee","Trustee","Trustee","Trustee & Committee on Administrative","Trustee & Committee on Administrative","Trustee & Committee on Administrative","Trustee & Committee on Administrative","Trustee & Committee on Administrative (deceased)"]
[" ","Jernegan","P.F.","Rev.",null,null,null,null,null,null,null,null,"Trustee"]
[" ","Jinks","Jill",null,null,null,null,null,null,null,null,null,null,null,null,null,null,null,null,null,null,null,null,null,null,null,null,null,null,null,null,null,null,null,null,null,null,null,null,null,null,null,null,null,null,null,null,null,null,null,null,null,null,null,null,null,null,null,null,null,null,null,null,null,null,null,null,null,null,null,null,null,null,null,null,null,null,null,null,null,null,null,null,null,null,null,null,null,null,null,null,null,null,null,null,null,null,null,null,null,null,null,null,null,null,null,null,null,null,null,null,null,"Trustee Ex-Officio; Chair, Business Board","Trustee","Trustee","Trustee","Trustee","Trustee","Trustee","Trustee","Trustee","Trustee","Trustee","Trustee","Trustee"]
[" ","Johnson","Betty Drees",null,null,null,null,null,null,null,null,null,null,null,null,null,null,null,null,null,null,null,null,null,null,null,null,null,null,null,null,null,null,null,null,null,null,null,null,null,null,null,null,null,null,null,null,null,null,null,null,null,null,null,null,null,null,null,null,null,null,null,null,null,null,null,null,null,null,null,null,null,null,null,null,null,null,null,null,null,null,null,null,null,null,null,null,null,null,null,null,null,null,null,null,null,null,null,null,null,null,null,null,null,null,null,null,null,null,null,null,null,null,null,null,null,null,null,null,null,null,null,"Trustee","Trustee","Trustee"]
[" ","Johnson","C. Paul",null,null,null,null,null,null,null,null,null,null,null,null,null,null,null,null,null,null,null,null,null,null,null,null,null,null,null,null,null,null,null,null,null,null,null,null,null,null,null,null,null,null,null,null,null,null,null,null,null,null,null,null,null,null,null,null,null,null,null,null,null,null,null,null,null,null,null,null,null,null,null,null,null,null,null,null,null,null,null,null,null,null,null,null,null,null,null,null,null,null,null,null,null,null,null,null,null,null,null,null,null,null,null,null,null,null,null,null,null,null,null,null,null,null,"Trustee","Trustee","Trustee","Trustee","Trustee"]
[" ","Jollay","Geoffrey",null,null,null,null,null,null,null,null,null,null,null,null,null,null,null,null,null,null,null,null,null,null,null,null,null,null,null,null,null,null,null,null,null,null,null,null,null,null,null,null,null,null,null,null,null,null,null,null,null,null,null,null,null,null,null,null,null,null,null,null,null,null,null,null,null,null,null,null,null,null,null,null,null,null,null,null,null,null,null,null,null,null,null,null,null,null,null,null,null,null,null,null,null,null,null,null,null,null,null,null,null,null,null,null,null,null,null,null,null,null,null,null,null,null,null,null,null,"Trustee","Trustee","Trustee","Trustee","Trustee"]
[" ","Kantor","Hal",null,null,null,null,null,null,null,null,null,null,null,null,null,null,null,null,null,null,null,null,null,null,null,null,null,null,null,null,null,null,null,null,null,null,null,null,null,null,null,null,null,null,null,null,null,null,null,null,null,null,null,null,null,null,null,null,null,null,null,null,null,null,null,null,null,null,null,null,null,null,null,null,null,null,null,null,null,null,null,null,null,null,null,null,null,null,null,null,null,null,null,null,null,null,null,null,null,null,null,null,null,null,null,null,null,null,null,null,null,null,null,null,null,"Trustee","Trustee"]
[" ","Kennedy","Lesa France",null,null,null,null,null,null,null,null,null,null,null,null,null,null,null,null,null,null,null,null,null,null,null,null,null,null,null,null,null,null,null,null,null,null,null,null,null,null,null,null,null,null,null,null,null,null,null,null,null,null,null,null,null,null,null,null,null,null,null,null,null,null,null,null,null,null,null,null,null,null,null,null,null,null,null,null,null,null,null,null,null,null,null,null,null,null,null,null,null,null,null,null,null,null,null,null,null,null,null,null,null,null,null,null,"Trustee","Trustee","Trustee Ex Officio; on Leave","Trustee Ex-Officio; on leave","Trustee Ex-Officio; on leave","Trustee Ex-Officio; on leave"]
[" ","Kent","Robert A.",null,null,null,null,null,null,null,null,null,null,null,null,null,null,null,null,null,null,null,null,null,null,null,null,null,null,null,null,null,null,null,null,null,null,null,null,null,null,null,null,null,null,null,null,null,null,null,null,null,null,null,null,null,null,null,null,null,null,null,null,null,null,null,null,null,null,null,null,null,null,null,null,null,null,null,null,null,null,null,null,null,null,null,null,null,null,null,null,null,null,null,null,null,null,"Trustee","Trustee","Trustee"]
[" ","King","H.M.","Rev.","Trustee",null,"Trustee","Trustee","Trustee","Trustee","Trustee","Trustee","Trustee","Trustee","Trustee","Trustee"]
[" ","King","Judge Z.",null,"Trustee",null,"Trustee","Trustee","Trustee","Trustee","Trustee","Trustee","Trustee","Trustee","Trustee","Trustee","Trustee","Trustee (deceased)"]
[" ","Kirchman","Kenneth Paul",null,null,null,null,null,null,null,null,null,null,null,null,null,null,null,null,null,null,null,null,null,null,null,null,null,null,null,null,null,null,null,null,null,null,null,null,null,null,null,null,null,null,null,null,null,null,null,null,null,null,null,null,null,null,null,null,null,null,null,null,null,null,null,null,null,null,null,null,null,null,null,null,null,null,null,null,null,null,null,null,null,null,null,null,null,null,null,"Trustee","Trustee","Trustee","Trustee","Trustee","Trustee","Trustee","Trustee",null,null,null,null,"Trustee","Trustee","Trustee","Trustee","Trustee","Trustee","Trustee","Trustee"]
[" ","Knight","Malcolm B.",null,null,null,null,null,null,null,null,null,null,null,null,null,null,null,null,null,null,null,null,null,null,null,null,null,null,null,null,null,null,null,null,null,null,null,null,null,null,null,null,null,null,null,null,null,null,null,null,null,null,null,null,null,null,null,null,null,null,null,null,null,null,null,null,null,null,null,null,null,null,null,null,null,null,null,null,null,null,"Trustee","Trustee","Trustee","Trustee","Trustee","Trustee","Trustee","Trustee","Trustee"]
[" ","Kost","A.","D.D., LL.D.","Trustee"]
[" ","Kruhm","Gerald D.",null,null,null,null,null,null,null,null,null,null,null,null,null,null,null,null,null,null,null,null,null,null,null,null,null,null,null,null,null,null,null,null,null,null,null,null,null,null,null,null,null,null,null,null,null,null,null,null,null,null,null,null,null,null,null,null,null,null,null,null,null,null,null,null,null,null,null,null,null,null,null,null,null,null,null,null,null,null,null,null,null,null,null,null,null,null,null,null,null,null,null,null,null,null,null,null,null,null,null,null,null,null,null,null,null,null,null,null,null,null,null,null,null,null,null,null,null,null,null,"Ex-Officio Trustee","Trustee Ex-Officio","Ex-Officio; Chair, School of Music Board"]
[" ","Kunze","Diana L.",null,null,null,null,null,null,null,null,null,null,null,null,null,null,null,null,null,null,null,null,null,null,null,null,null,null,null,null,null,null,null,null,null,null,null,null,null,null,null,null,null,null,null,null,null,null,null,null,null,null,null,null,null,null,null,null,null,null,null,null,null,null,null,null,null,null,null,null,null,null,null,null,null,null,null,null,null,null,null,null,null,null,null,null,null,null,null,null,null,null,null,null,null,null,null,null,null,null,null,null,null,null,null,null,null,null,null,null,null,null,null,null,"Trustee Ex-Officio; Chair, Arts & Sciences Board","Trustee Ex-Officio; Chair, Arts & Sciences Board","Trustee Ex-Officio; Chair, Arts & Sciences Board","Trustee Ex-Officio; Chair, Arts & Sciences Board","Trustee Ex-Officio; Chair, Arts & Sciences Board"]
[" ","Landers Jr.","Joseph W.",null,null,null,null,null,null,null,null,null,null,null,null,null,null,null,null,null,null,null,null,null,null,null,null,null,null,null,null,null,null,null,null,null,null,null,null,null,null,null,null,null,null,null,null,null,null,null,null,null,null,null,null,null,null,null,null,null,null,null,null,null,null,null,null,null,null,null,null,null,null,null,null,null,null,null,null,null,null,null,null,null,null,null,null,null,null,null,null,null,null,null,null,null,null,null,null,null,null,null,null,null,null,null,null,"Trustee Chair, Arts & Sciences Board","Trustee","Trustee","Trustee","Trustee","Trustee","Trustee","Trustee","Trustee","Trustee","Trustee","Trustee","Trustee","Trustee","Trustee","Trustee","Trustee","Trustee"]
[" ","Lane","L. Patrick",null,null,null,null,null,null,null,null,null,null,null,null,null,null,null,null,null,null,null,null,null,null,null,null,null,null,null,null,null,null,null,null,null,null,null,null,null,null,null,null,null,null,null,null,null,null,null,null,null,null,null,null,null,null,null,null,null,null,null,null,null,null,null,null,null,null,null,null,null,null,null,null,null,null,null,null,null,null,null,null,null,null,null,null,null,null,null,null,null,null,null,null,null,null,null,null,null,null,null,null,null,null,null,null,null,null,null,null,null,null,null,null,null,"Trustee Ex-Officio; Chair, School of Music Board","Trustee Ex-Officio; Chair, School of Music Board","Trustee","Trustee","Trustee","Trustee","Trustee","Trustee","Trustee"]
[" ","Latour","Janelle Bozard",null,null,null,null,null,null,null,null,null,null,null,null,null,null,null,null,null,null,null,null,null,null,null,null,null,null,null,null,null,null,null,null,null,null,null,null,null,null,null,null,null,null,null,null,null,null,null,null,null,null,null,null,null,null,null,null,null,null,null,null,null,null,null,null,null,null,null,null,null,null,null,null,null,null,null,null,null,null,null,null,null,null,null,null,null,null,null,null,null,null,null,null,null,null,null,null,null,null,null,null,null,null,null,null,"Trustee, Chair, Alumni Association","Trustee, Chair, Alumni Association"]
[" ","Law ","J.B.",null,null,null,null,null,null,null,null,null,null,null,null,null,null,null,"Trustee & Executive Committee","Trustee","Trustee","Trustee"]
[" ","Lawton","R.W.","Rev.",null,null,null,null,null,"Trustee","Trustee","Trustee"]
[" ","Lee","H. Douglas",null,null,null,null,null,null,null,null,null,null,null,null,null,null,null,null,null,null,null,null,null,null,null,null,null,null,null,null,null,null,null,null,null,null,null,null,null,null,null,null,null,null,null,null,null,null,null,null,null,null,null,null,null,null,null,null,null,null,null,null,null,null,null,null,null,null,null,null,null,null,null,null,null,null,null,null,null,null,null,null,null,null,null,null,null,null,null,null,null,null,null,null,null,null,null,null,null,null,"Trustee","Trustee, President","Trustee, President","Trustee","Trustee","Trustee","Trustee","Trustee","Trustee","Trustee","Trustee","Trustee","Trustee","Trustee","Trustee","Trustee","Trustee","Trustee","Trustee","Trustee"]
[" ","Lewicki","Lee McGraw",null,null,null,null,null,null,null,null,null,null,null,null,null,null,null,null,null,null,null,null,null,null,null,null,null,null,null,null,null,null,null,null,null,null,null,null,null,null,null,null,null,null,null,null,null,null,null,null,null,null,null,null,null,null,null,null,null,null,null,null,null,null,null,null,null,null,null,null,null,null,null,null,null,null,null,null,null,null,null,null,null,null,null,null,null,null,null,null,null,null,null,null,null,null,null,null,null,null,null,null,null,null,null,null,null,null,"Trustee","Trustee",null,"Trustee"]
[" ","Lewis","Carroll E.",null,null,null,null,null,null,null,null,null,null,null,null,null,null,null,null,null,null,null,null,null,null,null,null,null,null,null,null,null,null,null,null,null,null,null,null,null,null,null,null,null,null,null,null,null,null,null,null,null,null,null,null,null,null,null,null,null,null,null,null,null,null,null,null,null,null,null,null,null,null,null,null,null,null,null,null,null,null,null,null,null,null,null,null,null,null,null,null,null,null,null,null,null,null,null,null,null,null,null,null,null,null,null,null,null,null,null,null,"Trustee","Trustee","Trustee","Trustee","Trustee","Trustee","Trustee","Trustee","Trustee"]
[" ","Libby","Gary R",null,null,null,null,null,null,null,null,null,null,null,null,null,null,null,null,null,null,null,null,null,null,null,null,null,null,null,null,null,null,null,null,null,null,null,null,null,null,null,null,null,null,null,null,null,null,null,null,null,null,null,null,null,null,null,null,null,null,null,null,null,null,null,null,null,null,null,null,null,null,null,null,null,null,null,null,null,null,null,null,null,null,null,null,null,null,null,null,null,null,null,null,null,null,null,null,null,null,null,null,null,null,null,null,null,null,null,null,null,null,null,null,null,null,null,null,null,"Trustee Ex-Officio; Chair, Arts & Sciences Board","Trustee Ex-Officio"]
[" ","Libby","Wendy",null,null,null,null,null,null,null,null,null,null,null,null,null,null,null,null,null,null,null,null,null,null,null,null,null,null,null,null,null,null,null,null,null,null,null,null,null,null,null,null,null,null,null,null,null,null,null,null,null,null,null,null,null,null,null,null,null,null,null,null,null,null,null,null,null,null,null,null,null,null,null,null,null,null,null,null,null,null,null,null,null,null,null,null,null,null,null,null,null,null,null,null,null,null,null,null,null,null,null,null,null,null,null,null,null,null,null,null,null,null,null,null,null,null,null,null,null,null,"Trustee","Trustee","Trustee","Trustee"]
[" ","Longdon","Frank J.",null,null,null,null,null,null,null,null,null,null,null,null,null,null,"Trustee","Trustee","Trustee","Trustee","Trustee","Trustee","Trustee","Trustee","Trustee","Trustee","Trustee","Trustee","Trustee","Trustee","Trustee","Trustee","Trustee","Trustee","Trustee","Trustee","Trustee","Trustee"]
[" ","Lopez","Brenda H.",null,null,null,null,null,null,null,null,null,null,null,null,null,null,null,null,null,null,null,null,null,null,null,null,null,null,null,null,null,null,null,null,null,null,null,null,null,null,null,null,null,null,null,null,null,null,null,null,null,null,null,null,null,null,null,null,null,null,null,null,null,null,null,null,null,null,null,null,null,null,null,null,null,null,null,null,null,null,null,null,null,null,null,null,null,null,null,null,null,null,null,null,null,null,null,null,null,null,null,null,null,null,null,null,null,null,null,null,null,null,null,null,null,null,null,null,null,null,null,null,"Trustee","Trustee"]
[" ","Lynn","Christine",null,null,null,null,null,null,null,null,null,null,null,null,null,null,null,null,null,null,null,null,null,null,null,null,null,null,null,null,null,null,null,null,null,null,null,null,null,null,null,null,null,null,null,null,null,null,null,null,null,null,null,null,null,null,null,null,null,null,null,null,null,null,null,null,null,null,null,null,null,null,null,null,null,null,null,null,null,null,null,null,null,null,null,null,null,null,null,null,null,null,null,null,null,null,null,null,null,null,null,null,null,null,null,null,"Trustee","Trustee","Trustee","Trustee","Trustee","Trustee","Trustee","Trustee","Trustee","Trustee","Trustee","Trustee","Trustee","Trustee","Trustee","Trustee","Trustee","Trustee"]
[" ","MacArthur","Robert S.","Rev., D.D.","Trustee",null,null,"Trustee","Trustee","Trustee","Trustee","Trustee","Trustee","Trustee","Trustee","Trustee","Trustee","Trustee","Trustee","Trustee","Trustee","Trustee"]
[" ","Magidson","Joshua",null,null,null,null,null,null,null,null,null,null,null,null,null,null,null,null,null,null,null,null,null,null,null,null,null,null,null,null,null,null,null,null,null,null,null,null,null,null,null,null,null,null,null,null,null,null,null,null,null,null,null,null,null,null,null,null,null,null,null,null,null,null,null,null,null,null,null,null,null,null,null,null,null,null,null,null,null,null,null,null,null,null,null,null,null,null,null,null,null,null,null,null,null,null,null,null,null,null,null,null,null,null,null,null,null,null,null,null,null,null,null,null,null,null,null,"Trustee Ex-Officio; Law Board of Overseers Rep.","Trustee Ex-Officio; Law Board of Overseers Rep.","Trustee Ex-Officio; Chair, College of Law Board","Trustee Ex-Officio","Trustee Ex-Officio","Trustee Ex-Officio","Ex-Officio; Chair, College of Law Board"]
[" ","Mahon","W.L.C.","Rev., D.D.",null,null,null,null,null,null,null,null,null,null,null,null,null,null,null,null,null,null,null,null,null,null,null,null,null,null,null,null,null,null,null,null,null,null,null,null,null,"Trustee","Trustee","Trustee","Trustee","Trustee","Trustee","Trustee"]
[" ","Mann","Walter H.",null,null,null,null,null,null,null,null,null,null,null,null,null,null,null,null,null,null,null,null,null,null,null,null,null,null,null,null,null,null,null,null,null,null,null,null,null,null,null,null,null,null,null,null,null,null,null,null,null,null,null,null,null,null,null,null,null,null,null,null,null,"Trustee & Finance Committee","Trustee & Finance Committee","Trustee",null,"Trustee","Trustee & Finance Committee","Trustee & Finance Committee","Trustee & Finance Committee","Trustee & Finance Committee","Trustee & Finance Committee","Trustee & Finance Committee",null,"Trustee",null,"Trustee","Trustee","Trustee","Trustee","Trustee","Trustee","Trustee","Trustee","Trustee","Trustee","Trustee","Trustee","Trustee",null,"Trustee Emeritus","Trustee Emeritus","Trustee Emeritus"]
[" ","Marchman, Jr.","Hal S.",null,null,null,null,null,null,null,null,null,null,null,null,null,null,null,null,null,null,null,null,null,null,null,null,null,null,null,null,null,null,null,null,null,null,null,null,null,null,null,null,null,null,null,null,null,null,null,null,null,null,null,null,null,null,null,null,null,null,null,null,null,null,null,null,null,null,null,null,null,null,null,null,null,null,null,null,null,null,null,null,null,null,null,null,null,null,null,null,null,null,null,null,null,null,null,null,null,null,null,null,null,null,null,"Trustee","Trustee","Trustee","Trustee","Trustee Ex-Officio; Assistant Secretary","Trustee Ex-Officio; Assistant Secretary","Trustee Ex-Officio; Assistant Secretary","Trustee Ex-Officio; Assistant Secretary"]
[" ","Martien ","J. Carey",null,null,null,null,null,null,null,null,null,null,null,null,null,null,null,null,null,null,null,null,null,null,null,null,"Trustee","Trustee","Trustee","Trustee","Trustee","Trustee","Trustee","Trustee","Trustee","Trustee","Trustee","Trustee","Trustee","Trustee"]
[" ","Massey","Harvey",null,null,null,null,null,null,null,null,null,null,null,null,null,null,null,null,null,null,null,null,null,null,null,null,null,null,null,null,null,null,null,null,null,null,null,null,null,null,null,null,null,null,null,null,null,null,null,null,null,null,null,null,null,null,null,null,null,null,null,null,null,null,null,null,null,null,null,null,null,null,null,null,null,null,null,null,null,null,null,null,null,null,null,null,null,null,null,null,null,null,null,null,null,null,null,null,null,null,null,null,null,null,null,null,null,null,"Trustee","Trustee","Trustee","Trustee","Trustee"]
[" ","Master","Joseph J.",null,null,null,null,null,null,null,null,null,null,null,null,null,null,null,null,null,null,null,null,null,null,null,null,null,null,null,null,null,null,null,null,null,null,null,null,null,null,null,null,null,null,null,null,null,null,null,null,null,null,null,null,null,null,null,null,null,null,null,null,null,null,null,null,null,null,null,null,null,null,null,null,null,null,null,null,null,null,null,null,null,null,null,null,null,null,null,null,null,null,null,null,null,null,null,null,null,null,null,null,null,null,null,null,"Trustee Treasurer","Trustee","Trustee","Trustee"]
[null,"Matulis","Peter",null,null,null,null,null,null,null,null,null,null,null,null,null,null,null,null,null,null,null,null,null,null,null,null,null,null,null,null,null,null,null,null,null,null,null,null,null,null,null,null,null,null,null,null,null,null,null,null,null,null,null,null,null,null,null,null,null,null,null,null,null,null,null,null,null,null,null,null,null,null,null,null,null,null,null,null,null,null,null,null,null,null,null,null,null,null,null,null,null,null,null,null,null,null,null,null,null,null,null,null,null,null,null,null,null,null,null,null,null,null,null,null,null,null,null,null,null,null,null,null,null,"Ex-Officio; Chair School of Business\nAdministration Board"]
[" ","McCallister","Muff",null,null,null,null,null,null,null,null,null,null,null,null,null,null,null,null,null,null,null,null,null,null,null,null,null,null,null,null,null,null,null,null,null,null,null,null,null,null,null,null,null,null,null,null,null,null,null,null,null,null,null,null,null,null,null,null,null,null,null,null,null,null,null,null,null,null,null,null,null,null,null,null,null,null,null,null,null,null,null,null,null,null,null,null,null,null,null,null,null,null,null,null,null,null,null,null,null,null,null,null,null,null,null,null,null,"Trustee Ex Officio, Co-Chair, Music School Board","Trustee Ex Officio; Chair, Music Board"]
[" ","McGraw","M. Lee",null,null,null,null,null,null,null,null,null,null,null,null,null,null,null,null,null,null,null,null,null,null,null,null,null,null,null,null,null,null,null,null,null,null,null,null,null,null,null,null,null,null,null,null,null,null,null,null,null,null,null,null,null,null,null,null,null,null,null,null,null,null,null,null,null,null,null,null,null,null,null,null,null,null,null,null,null,null,null,null,null,null,null,null,null,null,null,null,null,null,null,null,null,null,null,null,null,null,null,null,null,null,null,null,null,null,null,null,null,null,"Trustee","Trustee",null,null,null,null,null,"Trustee",null,"Trustee","Trustee","Trustee"]
[" ","McKinney","John","Rev.",null,null,null,"Trustee Secretary & Executive Committee","Trustee Secretary & Executive Committee","Trustee Secretary & Executive Committee","Trustee Secretary & Executive Committee","Trustee Secretary & Executive Committee","Trustee Secretary & Executive Committee","Trustee Secretary & Executive Committee","Trustee Secretary & Executive Committee (deceased)"]
[" ","McMahan","Richard A.",null,null,null,null,null,null,null,null,null,null,null,null,null,null,null,null,null,null,null,null,null,null,null,null,null,null,null,null,null,null,null,null,null,null,null,null,null,null,null,null,null,null,null,null,null,null,null,null,null,null,null,null,null,null,null,null,null,null,null,null,null,null,null,null,null,null,null,null,null,null,null,null,null,null,null,null,null,null,null,null,null,null,null,null,null,null,null,null,null,null,null,null,null,null,null,null,null,null,null,null,null,null,null,null,"Trustee","Trustee","Trustee","Trustee","Trustee","Trustee","Trustee","Trustee","Trustee","Trustee","Trustee","Trustee","Trustee","Trustee","Trustee Emeriti"]
[" ","McMillan","Robert M.",null,null,null,null,null,null,null,null,null,null,null,null,null,null,null,null,null,null,null,null,null,null,null,null,null,null,null,null,null,null,null,null,null,null,null,null,null,null,null,null,null,null,null,null,null,null,null,null,null,null,null,null,null,null,null,null,null,null,null,null,null,null,null,null,null,null,null,null,null,null,null,null,null,null,null,null,null,null,null,null,null,null,null,null,null,null,null,null,"Trustee","Trustee","Trustee","Trustee","Trustee","Trustee","Trustee","Trustee","Trustee","Trustee"]
[" ","McNamara Sr.","Dennis C.",null,null,null,null,null,null,null,null,null,null,null,null,null,null,null,null,null,null,null,null,null,null,null,null,null,null,null,null,null,null,null,null,null,null,null,null,null,null,null,null,null,null,null,null,null,null,null,null,null,null,null,null,null,null,null,null,null,null,null,null,null,null,null,null,null,null,null,null,null,null,null,null,null,null,null,null,null,null,null,null,null,null,null,null,null,null,null,null,null,null,null,null,null,null,"Trustee","Trustee","Trustee","Trustee","Trustee","Trustee","Trustee","Trustee","Trustee","Trustee","Trustee","Trustee","Trustee","Trustee Emeritus","Trustee Emeritus","Trustee Emeritus","Trustee Emeritus","Trustee Emeritus","Trustee Emeritus","Trustee Emeritus","Trustee Emeritus","Trustee Emeritus","Trustee Emeritus"]
[" ","Mickle","Edward L.",null,null,null,null,null,null,null,null,null,null,null,null,null,null,null,null,null,null,null,null,null,null,null,null,null,null,null,null,null,null,null,null,null,null,null,null,null,null,null,"Trustee","Trustee","Trustee","Trustee","Trustee","Trustee","Trustee & Committee on Administrative","Trustee & Committee on Administrative","Trustee & Committee on Administrative","Trustee & Committee on Administrative","Trustee Assistant Secretary & Committee on Administrative","Trustee Assistant Secretary & Committee on Administrative","Trustee Assistant Secretary & Committee on Administrative","Trustee Assistant Secretary & Committee on Administrative","Trustee","Trustee","Trustee","Trustee","Trustee","Trustee","Trustee (resigned)"]
[" ","Monroe","James",null,null,null,null,null,null,null,null,null,null,null,null,null,null,null,null,null,null,null,null,null,null,null,null,null,null,null,null,null,null,null,null,null,null,null,null,null,null,null,null,null,null,null,null,null,null,null,null,null,null,null,null,null,null,null,null,null,null,null,null,null,null,null,null,null,null,null,null,null,null,null,null,null,null,null,null,null,null,null,null,null,null,null,null,null,"Trustee","Trustee","Trustee"]
[" ","Montgomery","Robert E.",null,null,null,null,null,null,null,null,null,null,null,null,null,null,null,null,null,null,null,null,null,null,null,null,null,null,null,null,null,null,null,null,null,null,null,null,null,null,null,null,null,null,null,null,null,null,null,null,null,null,null,null,null,null,null,null,null,null,null,null,null,null,null,null,null,null,null,null,null,null,null,null,null,null,null,null,null,null,null,null,null,null,null,null,null,null,null,null,null,null,null,null,null,null,null,null,null,null,null,null,null,null,null,null,null,null,null,null,"Trustee","Trustee","Trustee","Trustee","Trustee"]
[" ","Moodie","F.B.",null,"Trustee",null,"Trustee","Trustee","Trustee","Trustee","Trustee","Trustee","Trustee","Trustee","Trustee","Trustee","Trustee","Trustee","Trustee","Trustee","Trustee ","Trustee","Trustee","Trustee","Trustee","Trustee","Trustee"]
[" ","Moore","David","Rev., D.D.","Trustee & Executive Committee",null,"Trustee & Executive Committee","Trustee & Executive Committee","Trustee & Executive Committee","Trustee & Executive Committee","Trustee","Trustee","Trustee","Trustee","Trustee","Trustee","Trustee","Trustee","Trustee","Trustee","Trustee","Trustee"]
[" ","Morris","Arthur N.",null,null,null,null,null,null,null,null,null,null,null,null,null,null,null,null,null,null,null,null,null,null,null,null,null,null,null,null,null,null,null,null,null,null,null,null,null,null,null,null,null,null,null,null,null,null,null,null,null,null,null,null,null,null,null,null,null,null,null,null,null,null,null,null,null,null,null,null,null,"Trustee","Trustee & Administrative & Finance Committee","Trustee & Administrative & Finance Committee",null,"Trustee",null,"Trustee","Trustee","Trustee","Trustee","Trustee","Trustee","Trustee","Trustee","Trustee","Trustee","Trustee","Trustee","Trustee","Trustee","Trustee","Trustee","Trustee","Trustee","Trustee","Trustee"]
[" ","Murphy, Jr.","Earnest W.",null,null,null,null,null,null,null,null,null,null,null,null,null,null,null,null,null,null,null,null,null,null,null,null,null,null,null,null,null,null,null,null,null,null,null,null,null,null,null,null,null,null,null,null,null,null,null,null,null,null,null,null,null,null,null,null,null,null,null,null,null,null,null,null,null,null,null,null,null,null,null,null,null,null,null,null,null,null,null,null,null,null,null,null,null,null,null,null,null,null,null,null,null,null,null,null,null,null,null,null,null,null,null,null,null,null,null,null,"Trustee Ex-Officio; Chair, Music Board","Trustee Ex-Officio; Chair, Music Board","Trustee Ex-Officio; Chair, Music Board","Trustee Ex-Officio; Chair, Music Board","Trustee Ex-Officio; Chair, Music Board",null,null,null,null,"Trustee Ex-Officio; Chair, School of Music Board","Trustee Ex-Officio"]
[" ","Neukom Jr.","George A.",null,null,null,null,null,null,null,null,null,null,null,null,null,null,null,null,null,null,null,null,null,null,null,null,null,null,null,null,null,null,null,null,null,null,null,null,null,null,null,null,null,null,null,null,null,null,null,null,null,null,null,null,null,null,null,null,null,null,null,null,null,null,null,null,null,null,null,null,null,null,null,null,null,null,null,null,null,null,null,null,null,null,null,null,null,null,null,null,null,null,null,null,null,null,null,null,null,"Trustee","Trustee","Trustee","Trustee","Trustee","Trustee","Trustee","Trustee","Trustee"]
[" ","Novak","Jane Edmunds",null,null,null,null,null,null,null,null,null,null,null,null,null,null,null,null,null,null,null,null,null,null,null,null,null,null,null,null,null,null,null,null,null,null,null,null,null,null,null,null,null,null,null,null,null,null,null,null,null,null,null,null,null,null,null,null,null,null,null,null,null,null,null,null,null,null,null,null,null,null,null,null,null,null,null,null,null,null,null,null,null,null,null,null,null,null,null,null,null,null,null,null,null,null,null,null,null,null,null,null,null,null,null,null,null,"Trustee","Trustee","Trustee","Trustee","Trustee","Trustee","Trustee","Trustee","Trustee","Trustee","Trustee","Trustee","Trustee","Trustee","Trustee","Trustee","Trustee"]
[" ","Oates","J.E.","Rev.",null,null,null,null,null,null,null,null,null,null,null,null,null,null,null,null,"Trustee & Committee on Administrative","Trustee & Committee on Administrative","Trustee Vice-President & Committee on Administrative","Trustee Vice-President & Committee on Administrative","Trustee Vice-President & Committee on Administrative","Trustee","Trustee","Trustee","Trustee","Trustee","Trustee","Trustee","Trustee","Trustee","Trustee","Trustee","Trustee","Trustee","Trustee","Trustee","Trustee"]
[" ","Osborne","Frank R.",null,null,null,null,null,null,null,null,null,null,null,null,null,null,null,null,null,null,null,null,null,null,null,null,null,null,null,null,null,null,null,null,null,null,null,null,null,"Trustee & Committee on Administrative","Trustee & Committee on Administrative","Trustee Secretary & Committee on Administrative","Trustee Secretary & Committee on Administrative","Trustee Secretary & Committee on Administrative","Trustee Secretary & Committee on Administrative","Trustee Secretary & Committee on Administrative","Trustee Secretary & Committee on Administrative","Trustee Secretary & Committee on Administrative","Trustee Secretary & Committee on Administrative","Trustee Secretary & Committee on Administrative","Trustee Secretary & Committee on Administrative","Trustee Secretary & Committee on Administrative","Trustee Secretary & Committee on Administrative","Trustee Secretary & Committee on Administrative","Trustee (deceased)"]
[" ","Osteen","H.E.",null,"Trustee",null,"Trustee","Trustee","Trustee","Trustee"]
[" ","Painter","E.O",null,null,null,null,null,null,"Trustee & Executive Committee","Trustee & Executive Committee","Trustee & Executive Committee","Trustee & Executive Committee","Trustee & Executive Committee","Trustee & Executive Committee","Trustee & Executive Committee","Trustee & Executive Committee","Trustee & Executive Committee","Trustee & Executive Committee","Trustee & Committee on Administrative","Trustee & Committee on Administrative","Trustee & Committee on Administrative","Trustee & Committee on Administrative","Trustee & Committee on Administrative","Trustee & Committee on Administrative","Trustee & Committee on Administrative","Trustee & Committee on Administrative","Trustee & Committee on Administrative","Trustee & Committee on Administrative","Trustee & Committee on Administrative"]
[" ","Parce","J.Y.",null,"Trustee & Executive Committee",null,"Trustee & Executive Committee","Trustee & Executive Committee","Trustee & Executive Committee","Trustee","Trustee","Trustee"]
[" ","Parker","Henry A.",null,null,null,null,null,null,null,null,null,null,null,null,null,null,null,null,null,null,null,null,null,null,null,null,null,null,null,null,null,null,null,null,null,null,null,null,null,null,null,null,null,null,null,null,null,null,null,null,null,null,null,null,null,null,null,null,null,null,null,null,null,null,null,null,null,null,null,null,null,null,null,null,null,null,null,null,"Trustee","Trustee","Trustee","Trustee","Trustee","Trustee","Trustee","Trustee","Trustee","Trustee","Trustee"]
[" ","Paul","Harlan",null,null,null,null,null,null,null,null,null,null,null,null,null,null,null,null,null,null,null,null,null,null,null,null,null,null,null,null,null,null,null,null,null,null,null,null,null,null,null,null,null,null,null,null,null,null,null,null,null,null,null,null,null,null,null,null,null,null,null,null,null,null,null,null,null,null,null,null,null,null,null,null,null,null,null,null,null,null,null,null,null,null,null,null,null,null,null,null,null,null,null,null,null,null,null,null,null,null,null,null,null,null,null,null,null,null,null,null,null,null,null,null,"Trustee","Trustee","Trustee","Trustee","Trustee","Trustee","Trustee","Trustee","Trustee","Trustee"]
[" ","Peddie","John","D.D",null,null,"Trustee","Trustee ","Trustee"]
[" ","Pelham","John L.",null,null,null,null,null,null,null,null,null,null,null,null,null,null,null,null,null,null,null,null,null,null,null,null,null,null,null,null,null,null,null,null,null,null,null,null,null,null,null,null,null,null,null,null,null,null,null,null,null,null,null,null,null,null,null,null,null,null,null,null,null,null,null,null,null,null,null,null,null,null,null,null,null,null,null,null,null,null,null,null,null,null,null,null,null,null,null,"Trustee","Trustee","Trustee","Trustee","Trustee","Trustee","Trustee","Trustee","Trustee Secretary","Trustee Secretary","Trustee Secretary","Trustee Assistant Secretary","Trustee Assistant Secretary","Trustee Assistant Secretary","Trustee Assistant Secretary","Trustee Assistant Secretary","Trustee Assistant Secretary","Trustee Secretary","Trustee Secretary, Ex Officio","Trustee Ex Officio; Assistant Secretary Trustee","Trustee Emeritus","Trustee Emeritus","Trustee Emeritus","Trustee Emeritus","Trustee Emeritus"]
[" ","Perkins","L.A.","Jr.",null,null,null,null,null,null,null,null,null,null,null,null,null,null,null,null,null,null,null,null,null,null,null,null,null,null,null,null,null,null,null,null,null,null,null,null,null,null,null,null,null,null,null,null,null,null,null,null,null,null,null,null,"Trustee & Committee on Administrative & Finance Committee","Trustee Secretary & Committee on Administrative","Trustee Secretary & Committee on Administrative","Trustee Secretary & Committee on Administrative","Trustee Secretary & Committee on Administrative","Trustee Secretary & Administrative Committee","Trustee Secretary & Administrative Committee","Trustee Secretary & Administrative Committee","Trustee Secretary & Administrative Committee","Trustee Secretary & Administrative Committee","Trustee Secretary & Administrative Committee",null,"Trustee Secretary & Administrative Committee","Trustee Secretary & Administrative Committee","Trustee Secretary & Administrative Committee","Trustee Secretary & Administrative Committee","Trustee Secretary & Administrative Committee","Trustee Secretary & Administrative Committee"]
[" ","Pinner Jr.","Thomas M.",null,null,null,null,null,null,null,null,null,null,null,null,null,null,null,null,null,null,null,null,null,null,null,null,null,null,null,null,null,null,null,null,null,null,null,null,null,null,null,null,null,null,null,null,null,null,null,null,null,null,null,null,null,null,null,null,null,null,null,null,null,null,null,null,null,null,null,null,null,null,null,null,null,null,null,null,null,null,null,null,null,null,null,null,null,null,null,null,null,null,null,null,null,null,null,null,null,null,"Trustee","Trustee","Trustee","Trustee","Trustee","Trustee","Trustee","Trustee",null,"Trustee","Trustee","Trustee"]
[" ","Portier","Sandra",null,null,null,null,null,null,null,null,null,null,null,null,null,null,null,null,null,null,null,null,null,null,null,null,null,null,null,null,null,null,null,null,null,null,null,null,null,null,null,null,null,null,null,null,null,null,null,null,null,null,null,null,null,null,null,null,null,null,null,null,null,null,null,null,null,null,null,null,null,null,null,null,null,null,null,null,null,null,null,null,null,null,null,null,null,null,null,null,null,null,null,null,null,null,null,null,null,null,null,null,null,"Trustee","Trustee","Trustee","Trustee","Trustee"]
[" ","Prats","Luis",null,null,null,null,null,null,null,null,null,null,null,null,null,null,null,null,null,null,null,null,null,null,null,null,null,null,null,null,null,null,null,null,null,null,null,null,null,null,null,null,null,null,null,null,null,null,null,null,null,null,null,null,null,null,null,null,null,null,null,null,null,null,null,null,null,null,null,null,null,null,null,null,null,null,null,null,null,null,null,null,null,null,null,null,null,null,null,null,null,null,null,null,null,null,null,null,null,null,null,null,null,null,null,null,null,null,null,null,null,null,null,null,"Trustee","Trustee","Trustee Ex-Officio","Trustee","Trustee","Trustee","Trustee","Trustee","Trustee","Trustee"]
[" ","Price","E. H. Jr.",null,null,null,null,null,null,null,null,null,null,null,null,null,null,null,null,null,null,null,null,null,null,null,null,null,null,null,null,null,null,null,null,null,null,null,null,null,null,null,null,null,null,null,null,null,null,null,null,null,null,null,null,null,null,null,null,null,null,null,null,null,null,null,null,null,null,null,null,null,null,null,null,null,null,null,"Trustee","Trustee & Executive Committee","Trustee & Executive Committee","Trustee & Executive Committee","Trustee & Executive Committee","Trustee","Trustee"]
[" ","Prince","Thomas P.",null,null,null,null,null,null,null,null,null,null,null,null,null,null,null,null,null,null,null,null,null,null,null,null,null,null,null,null,null,null,null,null,null,null,null,null,null,null,null,null,null,null,null,null,null,null,null,null,null,null,null,null,null,null,null,null,null,null,null,null,null,null,null,null,null,null,null,null,null,null,null,null,null,null,null,null,null,null,null,null,null,null,null,null,null,null,null,null,null,null,null,null,null,null,null,null,null,null,null,null,null,"Trustee","Trustee","Trustee","Trustee",null,null,null,null,"Trustee","Trustee"]
[" ","Pullam","J. Stephen",null,null,null,null,null,null,null,null,null,null,null,null,null,null,null,null,null,null,null,null,null,null,null,null,null,null,null,null,null,null,null,null,null,null,null,null,null,null,null,null,null,null,null,null,null,null,null,null,null,null,null,null,null,null,null,null,null,null,null,null,null,null,null,null,null,null,null,null,null,null,null,null,null,null,null,null,null,null,null,null,null,null,null,null,null,null,null,null,null,null,null,null,null,null,null,null,null,null,null,null,null,null,null,null,null,null,null,"Trustee Ex-Officio; Chair, Business Board","Trustee Ex-Officio; Chair, Business Board"]
[" ","Raley","Billy",null,null,null,null,null,null,null,null,null,null,null,null,null,null,null,null,null,null,null,null,null,null,null,null,null,null,null,null,null,null,null,null,null,null,null,null,null,null,null,null,null,null,null,null,null,null,null,null,null,null,null,null,null,null,null,null,null,null,null,null,null,null,null,null,null,null,null,null,null,null,null,null,null,null,null,null,null,null,null,null,null,null,null,null,null,null,null,null,null,null,null,null,null,null,null,null,null,null,null,null,null,null,null,null,null,null,null,null,null,null,null,null,"Trustee","Trustee","Trustee","Trustee","Trustee","Trustee","Trustee","Trustee","Trustee","Trustee"]
[" ","Raymond","Paul",null,null,null,null,null,null,null,null,null,null,null,null,null,null,null,null,null,null,null,null,null,null,null,null,null,null,null,null,null,null,null,null,null,null,null,null,null,null,null,null,null,null,null,null,null,null,null,null,null,null,null,null,null,null,null,null,null,null,null,null,null,null,null,null,null,null,null,null,null,null,null,null,null,null,null,null,null,null,null,null,null,null,null,null,null,null,null,null,"General Council","General Council","Trustee General Counsel","Trustee General Counsel","Trustee General Counsel","Trustee General Counsel","Trustee General Counsel","Trustee General Counsel","Trustee General Counsel"]
[" ","Reaves","O.K.",null,null,null,null,null,null,null,null,null,null,null,null,null,null,null,null,null,null,null,null,null,null,null,null,null,null,null,null,null,null,null,null,null,null,"Trustee","Trustee","Trustee","Trustee","Trustee","Trustee","Trustee","Trustee","Trustee","Trustee","Trustee","Trustee","Trustee","Trustee","Trustee","Trustee","Trustee","Trustee","Trustee","Trustee","Trustee & Finance Committee","Trustee & Finance Committee","Trustee & Finance Committee","Trustee & Finance Committee","Trustee & Finance Committee","Trustee & Finance Committee","Trustee & Finance Committee","Trustee & Finance Committee","Trustee & Finance Committee","Trustee",null,"Trustee","Trustee & Finance Committee","Trustee & Finance Committee","Trustee & Finance Committee","Trustee","Trustee","Trustee",null,"Trustee Emeritus",null,"Trustee Emeritus","Trustee Emeritus","Trustee Emeritus","Trustee Emeritus","Trustee Emeritus","Trustee Emeritus","Trustee Emeritus","Trustee Emeritus","Trustee Emeritus","Trustee Emeritus"]
[" ","Reddick","Gary D",null,null,null,null,null,null,null,null,null,null,null,null,null,null,null,null,null,null,null,null,null,null,null,null,null,null,null,null,null,null,null,null,null,null,null,null,null,null,null,null,null,null,null,null,null,null,null,null,null,null,null,null,null,null,null,null,null,null,null,null,null,null,null,null,null,null,null,null,null,null,null,null,null,null,null,null,null,null,null,null,null,null,null,null,null,null,null,null,null,null,null,null,null,null,null,null,null,null,null,null,null,null,null,null,null,null,null,null,null,null,null,null,null,null,null,null,null,"Trustee","Trustee","Trustee","Trustee","Trustee"]
[" ","Reid","B. S.",null,null,null,null,null,null,null,null,null,null,null,null,null,null,null,null,null,null,null,null,null,null,null,null,null,null,null,null,null,null,null,null,null,null,null,null,null,null,null,null,null,null,null,null,null,null,null,null,null,null,null,null,null,null,null,null,null,null,null,null,null,null,null,null,null,null,null,null,null,null,null,null,null,null,null,"Trustee Treasurer","Trustee Treasurer & Executive Committee","Trustee Treasurer & Executive Committee","Trustee Treasurer & Executive Committee","Trustee Treasurer & Executive Committee","Trustee Treasurer","Trustee Treasurer",null,"Trustee Treasurer","Trustee Treasurer","Trustee Treasurer","Trustee Treasurer"]
[" ","Renfroe","Lowell Edwin",null,null,null,null,null,null,null,null,null,null,null,null,null,null,null,null,null,null,null,null,null,null,null,null,null,null,null,null,null,null,null,null,null,null,null,null,null,null,null,null,null,null,null,null,null,null,null,null,null,null,null,null,null,null,null,null,null,null,null,null,null,null,null,null,null,null,null,null,null,null,null,null,null,null,null,null,null,null,null,null,null,null,null,null,null,null,null,null,null,null,null,null,null,null,null,null,null,null,"Trustee Secretary","Trustee Secretary","Trustee Secretary","Trustee Secretary","Trustee Treasurer","Trustee Treasurer","Trustee","Trustee","Trustee"]
[" ","Rhodes","Terry J.",null,null,null,null,null,null,null,null,null,null,null,null,null,null,null,null,null,null,null,null,null,null,null,null,null,null,null,null,null,null,null,null,null,null,null,null,null,null,null,null,null,null,null,null,null,null,null,null,null,null,null,null,null,null,null,null,null,null,null,null,null,null,null,null,null,null,null,null,null,null,null,null,null,null,null,null,null,null,null,null,null,null,null,null,null,null,null,null,null,null,null,null,null,null,null,null,null,null,null,null,null,null,null,null,"Trustee","Trustee","Trustee","Trustee","Trustee","Trustee","Trustee","Trustee","Trustee","Trustee","Trustee","Trustee","Trustee","Trustee"]
[" ","Rinker","David B.",null,null,null,null,null,null,null,null,null,null,null,null,null,null,null,null,null,null,null,null,null,null,null,null,null,null,null,null,null,null,null,null,null,null,null,null,null,null,null,null,null,null,null,null,null,null,null,null,null,null,null,null,null,null,null,null,null,null,null,null,null,null,null,null,null,null,null,null,null,null,null,null,null,null,null,null,null,null,null,null,null,null,null,null,null,null,null,null,null,null,null,null,null,null,null,null,null,null,"Trustee","Trustee","Trustee","Trustee","Trustee","Trustee","Trustee","Trustee","Trustee","Trustee","Trustee","Trustee","Trustee","Trustee","Trustee","Trustee","Trustee","Trustee","Trustee","Trustee","Trustee","Trustee","Trustee","Trustee"]
[" ","Rinker","M. E.",null,null,null,null,null,null,null,null,null,null,null,null,null,null,null,null,null,null,null,null,null,null,null,null,null,null,null,null,null,null,null,null,null,null,null,null,null,null,null,null,null,null,null,null,null,null,null,null,null,null,null,null,null,null,null,null,null,null,null,null,null,null,null,null,null,null,null,null,null,null,null,null,null,null,null,null,null,null,null,null,null,null,"Trustee","Trustee","Trustee","Trustee","Trustee","Trustee","Trustee","Trustee","Trustee","Trustee","Trustee","Trustee","Trustee","Trustee","Trustee","Trustee Emeritus","Trustee Emeritus","Trustee Emeritus","Trustee Emeritus","Trustee Emeritus",null,null,"Trustee Emeritus","Trustee Emeritus"]
[" ","Roberts III","William M.",null,null,null,null,null,null,null,null,null,null,null,null,null,null,null,null,null,null,null,null,null,null,null,null,null,null,null,null,null,null,null,null,null,null,null,null,null,null,null,null,null,null,null,null,null,null,null,null,null,null,null,null,null,null,null,null,null,null,null,null,null,null,null,null,null,null,null,null,null,null,null,null,null,null,null,null,null,null,null,null,null,null,null,null,null,null,null,null,null,null,null,null,null,null,null,null,null,null,null,null,null,"Trustee"]
[" ","Robinson","J. E.",null,null,null,null,null,null,null,null,null,null,null,null,null,null,null,null,null,null,null,null,null,null,null,null,null,null,null,null,null,null,null,null,null,null,null,null,null,null,null,null,null,null,null,null,null,null,null,null,null,null,null,null,null,null,null,null,null,"Trustee","Trustee & Finance Committee","Trustee & Finance Committee","Trustee & Finance Committee","Trustee & Finance Committee","Trustee & Finance Committee","Trustee",null,"Trustee","Trustee & Finance Committee","Trustee & Finance Committee","Trustee & Finance Committee","Trustee & Finance Committee","Trustee & Finance Committee","Trustee",null,"Trustee",null,"Trustee","Trustee","Trustee","Trustee","Trustee","Trustee","Trustee","Trustee","Trustee Emeritus","Trustee Emeritus"]
[" ","Rogers","S.B.","D.D.",null,null,null,null,null,null,null,null,null,null,null,null,null,null,null,null,null,null,null,null,null,null,null,null,null,null,null,null,null,null,null,null,"Trustee","Trustee","Trustee","Trustee","Trustee","Trustee","Trustee"]
[" ","Rogers","Wallace R.","D.D.",null,null,null,null,null,null,null,null,null,null,null,null,null,null,null,null,null,null,null,null,null,null,null,null,null,null,null,null,null,null,null,null,null,null,null,null,null,null,null,null,null,null,null,null,null,null,null,null,null,null,null,null,null,null,null,null,null,null,"Trustee","Trustee"]
[" ","Rosselle","William Q.","Rev., Ph.D.",null,null,null,null,null,null,null,null,null,null,null,null,null,null,null,null,null,null,null,null,null,"Trustee","Trustee","Trustee","Trustee","Trustee","Trustee","Trustee","Trustee","Trustee","Trustee","Trustee"]
[" ","Rydberg","Marsha Griffin",null,null,null,null,null,null,null,null,null,null,null,null,null,null,null,null,null,null,null,null,null,null,null,null,null,null,null,null,null,null,null,null,null,null,null,null,null,null,null,null,null,null,null,null,null,null,null,null,null,null,null,null,null,null,null,null,null,null,null,null,null,null,null,null,null,null,null,null,null,null,null,null,null,null,null,null,null,null,null,null,null,null,null,null,null,null,null,null,null,null,null,null,null,null,null,null,null,null,null,null,null,null,null,null,null,null,null,null,null,null,null,"Trustee Ex-Officio; Chair, Law Board","Trustee Ex-Officio; Chair, Law Board","Trustee Ex-Officio; Chair, Law Board"]
[" ","Sampson","C.T.",null,null,null,"Trustee","Trustee","Trustee","Trustee","Trustee"]
[" ","Sanders","Harold G.",null,null,null,null,null,null,null,null,null,null,null,null,null,null,null,null,null,null,null,null,null,null,null,null,null,null,null,null,null,null,null,null,null,null,null,null,null,null,null,null,null,null,null,null,null,null,null,null,null,null,null,null,null,null,null,null,null,null,null,null,null,null,null,null,null,null,null,null,null,"Trustee","Trustee","Trustee",null,"Trustee",null,"Trustee"]
[" ","Sandridge","Dorothy Jennings",null,null,null,null,null,null,null,null,null,null,null,null,null,null,null,null,null,null,null,null,null,null,null,null,null,null,null,null,null,null,null,null,null,null,null,null,null,null,null,null,null,null,null,null,null,null,null,null,null,null,null,null,null,null,null,null,null,null,null,null,null,null,null,null,null,null,null,null,null,null,null,null,null,null,null,null,null,null,null,null,null,null,null,null,null,null,null,null,null,null,null,null,null,null,null,null,null,null,null,null,null,null,null,null,null,null,"Trustee","Trustee","Trustee"]
[" ","Santa Eulalia","Elizabeth","Countess",null,null,null,null,null,null,null,null,null,null,null,null,null,null,null,null,null,null,null,null,null,null,null,null,null,null,"Trustee & Committee on Administrative","Trustee & Committee on Administrative","Trustee & Committee on Administrative","Trustee & Committee on Administrative","Trustee & Committee on Administrative","Trustee & Committee on Administrative","Trustee & Committee on Administrative","Trustee & Committee on Administrative","Trustee & Committee on Administrative","Trustee & Committee on Administrative","Trustee & Committee on Administrative","Trustee & Committee on Administrative","Trustee & Committee on Administrative","Trustee & Committee on Administrative","Trustee & Committee on Administrative","Trustee & Committee on Administrative","Trustee & Committee on Administrative (deceased)"]
[" ","Sargent","M.W.",null,"Trustee Treasurer & Executive Committee",null,"Trustee Treasurer & Executive Committee","Trustee & Executive Committee","Trustee & Executive Committee","Trustee & Executive Committee","Trustee & Executive Committee","Trustee & Executive Committee","Trustee & Executive Committee"]
[" ","Search","Theodore C.",null,null,null,null,null,null,null,null,null,null,"Trustee","Trustee","Trustee","Trustee","Trustee","Trustee","Trustee","Trustee","Trustee","Trustee President","Trustee President","Trustee","Trustee","Trustee","Trustee","Trustee","Trustee","Trustee","Trustee","Trustee","Trustee","Trustee","Trustee","Trustee"]
[" ","Self","William L.",null,null,null,null,null,null,null,null,null,null,null,null,null,null,null,null,null,null,null,null,null,null,null,null,null,null,null,null,null,null,null,null,null,null,null,null,null,null,null,null,null,null,null,null,null,null,null,null,null,null,null,null,null,null,null,null,null,null,null,null,null,null,null,null,null,null,null,null,null,null,null,null,null,null,null,null,null,null,null,null,null,null,null,null,null,null,null,null,null,null,null,null,null,null,null,"Trustee","Trustee","Trustee","Trustee","Trustee","Trustee","Trustee","Trustee"]
[" ","Shotwell","Theo.",null,"Secretary",null,"Trustee Secretary & Executive Committee"]
[" ","Smith","Robert L.",null,null,null,null,null,null,null,null,null,null,null,null,null,null,null,null,null,null,null,null,null,null,null,null,null,null,null,null,null,null,null,null,null,null,null,null,null,null,null,null,null,null,null,null,null,null,null,null,null,null,null,null,null,null,null,null,null,null,null,null,null,null,null,null,null,null,null,null,null,null,null,null,null,null,null,null,null,null,null,null,null,null,null,null,null,null,null,null,null,null,null,null,null,"Trustee","Trustee"]
[" ","Smith, Jr.","William Reece",null,null,null,null,null,null,null,null,null,null,null,null,null,null,null,null,null,null,null,null,null,null,null,null,null,null,null,null,null,null,null,null,null,null,null,null,null,null,null,null,null,null,null,null,null,null,null,null,null,null,null,null,null,null,null,null,null,null,null,null,null,null,null,null,null,null,null,null,null,null,null,null,null,null,null,null,null,null,null,null,null,null,null,null,null,null,null,null,null,null,null,null,null,null,null,null,null,null,null,null,null,null,null,null,null,null,null,"Trustee","Trustee","Trustee"]
[" ","Solomon","Edward B.",null,null,null,null,null,null,null,null,null,null,null,null,null,"Trustee",null,"Trustee","Trustee","Trustee","Trustee","Trustee",null,null,null,null,null,null,null,null,null,"Trustee","Trustee","Trustee","Trustee","Trustee","Trustee","Trustee","Trustee","Trustee","Trustee",null,"Trustee","Trustee","Trustee","Trustee (deceased)"]
[" ","Sparkman","T.J.",null,"Trustee",null,"Trustee","Trustee","Trustee","Trustee","Trustee","Trustee","Trustee","Trustee","Trustee","Trustee","Trustee","Trustee","Trustee","Trustee Vice-President & Committee on Administrative","Trustee Vice-President & Committee on Administrative","Trustee Vice-President","Trustee","Trustee","Trustee","Trustee","Trustee","Trustee","Trustee","Trustee","Trustee","Trustee","Trustee"]
[" ","Speller","H.C.","Rev.",null,null,null,null,null,null,"Trustee","Trustee","Trustee"]
[" ","Staed","Thomas W.",null,null,null,null,null,null,null,null,null,null,null,null,null,null,null,null,null,null,null,null,null,null,null,null,null,null,null,null,null,null,null,null,null,null,null,null,null,null,null,null,null,null,null,null,null,null,null,null,null,null,null,null,null,null,null,null,null,null,null,null,null,null,null,null,null,null,null,null,null,null,null,null,null,null,null,null,null,null,null,null,null,null,null,null,null,null,null,null,null,null,null,null,null,null,null,null,null,null,null,null,null,null,null,null,"Trustee","Trustee","Trustee","Trustee Ex-Officio; on leave","Trustee Ex-Officio; on leave","Trustee Ex-Officio; on leave"]
[" ","Stenstrom","O. Douglas",null,null,null,null,null,null,null,null,null,null,null,null,null,null,null,null,null,null,null,null,null,null,null,null,null,null,null,null,null,null,null,null,null,null,null,null,null,null,null,null,null,null,null,null,null,null,null,null,null,null,null,null,null,null,null,null,null,null,null,null,null,null,null,null,null,null,null,null,null,null,null,null,null,null,null,null,null,null,null,null,null,null,"Trustee","Trustee","Trustee","General council","General council","Trustee",null,null,null,null,null,null,null,null,null,"Trustee General Counsel","Trustee General Counsel"]
[" ","Stetson","G. Henry",null,null,null,null,null,null,null,null,null,null,null,null,null,null,null,null,null,null,null,null,null,null,null,null,null,null,null,"Trustee","Trustee","Trustee","Trustee","Trustee","Trustee","Trustee","Trustee","Trustee","Trustee","Trustee","Trustee","Trustee","Trustee","Trustee","Trustee","Trustee","Trustee","Trustee","Trustee","Trustee","Trustee","Trustee","Trustee","Trustee","Trustee","Trustee","Trustee","Trustee","Trustee","Trustee","Trustee","Trustee","Trustee","Trustee","Trustee","Trustee",null,"Trustee","Trustee & Library Maintenance Trustee","Trustee & Library Maintenance Trustee","Trustee & Library Maintenance Trustee","Trustee & Library Maintenance Trustee","Trustee & Library Maintenance Trustee","Trustee & Library Maintenance Trustee",null,"Trustee",null,"Trustee","Trustee","Trustee Emeritus","Trustee Emeritus","Trustee Emeritus","Trustee Emeritus","Trustee Emeritus","Trustee Emeritus","Trustee Emeritus","Trustee Emeritus","Trustee Emeritus","Trustee Emeritus","Trustee Emeritus","Trustee Emeritus","Trustee Emeritus","Trustee Emeritus","Trustee Emeritus","Trustee Emeritus"]
[" ","Stetson","John B.",null,null,null,"Trustee & Executive Committee","Trustee President & Executive Committee","Trustee President & Executive Committee","Trustee President & Executive Committee","Trustee President & Executive Committee","Trustee President & Executive Committee","Trustee President & Executive Committee","Trustee President & Executive Committee","Trustee President & Executive Committee","Trustee President & Executive Committee","Trustee President & Executive Committee","Trustee President & Executive Committee","Trustee President & Executive Committee","Trustee","Trustee","Trustee President & Committee on Administrative"]
[" ","Stetson","John B., Jr.","D.C.L.",null,null,null,null,null,null,null,null,null,null,null,null,null,null,null,null,null,null,null,"Trustee","Trustee President","Trustee President","Trustee President","Trustee President","Trustee President","Trustee President","Trustee President","Trustee President","Trustee President","Trustee President","Trustee President","Trustee President","Trustee President","Trustee President & Committee on Administrative","Trustee President & Committee on Administrative","Trustee President & Committee on Administrative","Trustee President","Trustee President","Trustee President","Trustee President","Trustee President","Trustee President","Trustee President","Trustee President & Committee on Administrative","Trustee President & Committee on Administrative","Trustee President & Committee on Administrative","Trustee President & Committee on Administrative","Trustee President & Committee on Administrative","Trustee President & Committee on Administrative","Trustee President & Committee on Administrative","Trustee President & Committee on Administrative","Trustee President & Committee on Administrative","Trustee President & Committee on Administrative","Trustee","Trustee","Trustee","Trustee","Trustee","Trustee","Trustee","Trustee","Trustee","Trustee",null,"Trustee","Trustee & Library Maintenance Trustee (deceased)"]
[" ","Stetson","John B., III",null,null,null,null,null,null,null,null,null,null,null,null,null,null,null,null,null,null,null,null,null,null,null,null,null,null,null,null,null,null,null,null,null,null,null,null,null,null,null,null,null,null,null,null,"Trustee","Trustee","Trustee","Trustee","Trustee","Trustee","Trustee","Trustee","Trustee","Trustee","Trustee","Trustee","Trustee","Trustee (deceased)"]
[" ","Stevens","Elmer T.","Rev.",null,null,null,null,null,null,null,null,null,null,null,"Trustee Secretary & Executive Committee","Trustee Secretary & Executive Committee","Trustee Secretary & Executive Committee"]
[" ","Stevens","H.B.",null,null,null,null,null,null,"Trustee","Trustee","Trustee","Trustee","Trustee","Trustee","Trustee","Trustee & Executive Committee","Trustee & Executive Committee","Trustee & Executive Committee","Trustee","Trustee & Committee on Administrative","Trustee & Committee on Administrative","Trustee & Committee on Administrative","Trustee & Committee on Administrative","Trustee & Committee on Administrative","Trustee Vice-President & Committee on Administrative","Trustee Vice-President & Committee on Administrative","Trustee Vice-President & Committee on Administrative","Trustee Vice-President & Committee on Administrative","Trustee Vice-President & Committee on Administrative","Trustee Vice-President & Committee on Administrative","Trustee Vice-President & Committee on Administrative","Trustee Vice-President & Committee on Administrative","Trustee Vice-President & Committee on Administrative","Trustee Vice-President & Committee on Administrative","Trustee Vice-President & Committee on Administrative","Trustee Vice-President & Committee on Administrative","Trustee Vice-President & Committee on Administrative","Trustee Vice-President & Committee on Administrative","Trustee Vice-President & Committee on Administrative","Trustee Vice-President & Committee on Administrative","Trustee Vice-President & Committee on Administrative","Trustee Vice-President & Committee on Administrative","Trustee Vice-President & Committee on Administrative","Trustee Vice-President & Committee on Administrative","Trustee Vice-President & Committee on Administrative","Trustee Vice-President & Committee on Administrative","Trustee Vice-President & Committee on Administrative","Trustee Vice-President & Committee on Administrative","Trustee Vice-President & Committee on Administrative","Trustee Vice-President & Committee on Administrative","Trustee & Committee on Administrative","Trustee & Committee on Administrative","Trustee & Committee on Administrative","Trustee (deceased)"]
[" ","Stewart","William H.","Rev.",null,null,null,null,null,null,null,null,null,null,null,null,"Trustee","Trustee","Trustee & Executive Committee","Trustee & Committee on Administrative","Trustee Treasurer","Trustee","Trustee","Trustee","Trustee","Trustee","Trustee","Trustee","Trustee","Trustee (deceased)"]
[" ","Strickland","David M.",null,null,null,null,null,null,null,null,null,null,null,null,null,null,null,null,null,null,null,null,null,null,null,null,null,null,null,null,null,null,null,null,null,null,null,null,null,null,null,null,null,null,null,null,null,null,null,null,null,null,null,null,null,null,null,null,null,null,null,null,null,null,null,null,null,null,null,null,null,null,null,null,null,null,null,null,null,null,null,null,null,null,null,null,null,null,null,null,null,null,null,null,null,null,null,null,null,null,null,null,null,null,null,null,null,null,"Trustee","Trustee","Trustee","Trustee","Trustee","Trustee","Trustee","Trustee","Trustee","Trustee","Trustee"]
[" ","Stringer Sr.","Thomas E.",null,null,null,null,null,null,null,null,null,null,null,null,null,null,null,null,null,null,null,null,null,null,null,null,null,null,null,null,null,null,null,null,null,null,null,null,null,null,null,null,null,null,null,null,null,null,null,null,null,null,null,null,null,null,null,null,null,null,null,null,null,null,null,null,null,null,null,null,null,null,null,null,null,null,null,null,null,null,null,null,null,null,null,null,null,null,null,null,null,null,null,null,null,null,null,null,null,null,null,null,null,null,"Trustee Secretary","Trustee Secretary","Trustee","Trustee","Trustee","Trustee Ex-Officio; Chair, Law Board","Trustee Ex-Officio; Chair, Law Board","Trustee Ex-Officio; Chair, Law Board","Trustee Ex-Officio; Chair, Law Board"]
[" ","Sullivan","Arthur P.",null,null,null,null,null,null,null,null,null,null,null,null,null,null,null,null,null,null,null,null,null,null,null,null,null,null,null,null,null,null,null,null,null,null,null,null,null,null,null,null,null,null,null,null,null,null,null,null,null,null,null,null,null,null,null,null,null,null,null,null,null,null,null,null,null,null,null,null,null,null,null,null,null,null,null,null,null,null,null,null,null,null,null,null,null,null,null,null,null,null,null,null,null,null,null,null,null,null,null,null,null,null,null,null,"Trustee","Trustee","Trustee","Trustee","Trustee","Trustee","Trustee","Trustee","Trustee","Trustee","Trustee","Trustee","Trustee",null,null,null,"Trustee Emeriti","Trustee Emeriti"]
[" ","Taylor","Mrs. G. Dekle",null,null,null,null,null,null,null,null,null,null,null,null,null,null,null,null,null,null,null,null,null,null,null,null,null,null,null,null,null,null,null,null,null,null,null,null,null,null,null,null,null,null,null,null,null,null,null,null,null,null,null,null,null,null,null,null,null,null,null,null,null,null,null,null,null,null,null,null,null,null,null,null,null,null,null,null,null,"Trustee","Trustee","Trustee"]
[" ","Taylor","Mrs. Marjorie S.",null,null,null,null,null,null,null,null,null,null,null,null,null,null,null,null,null,null,null,null,null,null,null,null,null,null,null,null,null,null,null,null,null,null,null,null,null,null,null,null,null,null,null,null,null,null,null,null,null,null,null,null,null,null,null,null,null,null,null,null,null,null,null,null,null,null,null,null,null,null,null,null,null,"Trustee",null,"Trustee","Trustee"]
[" ","Turner","James S.",null,"Trustee",null,"Trustee","Trustee","Trustee","Trustee","Trustee","Trustee","Trustee","Trustee","Trustee","Trustee","Trustee","Trustee","Trustee","Trustee","Trustee (deceased)"]
[" ","Underhill","William Amory",null,null,null,null,null,null,null,null,null,null,null,null,null,null,null,null,null,null,null,null,null,null,null,null,null,null,null,null,null,null,null,null,null,null,null,null,null,null,null,null,null,null,null,null,null,null,null,null,null,null,null,null,null,null,null,null,null,null,null,null,null,null,null,null,null,null,null,null,null,null,null,null,null,null,null,null,null,null,null,null,null,null,null,null,null,null,null,null,"Trustee","Trustee","Trustee","Trustee","Trustee","Trustee","Trustee","Trustee","Trustee","Trustee",null,null,null,null,null,null,"Trustee Emeritus","Trustee Emeritus","Trustee Emeritus, Honorary Chairman Emeritus, \nCollege of Law Board"]
[" ","Waits","J. C.",null,null,null,null,null,null,null,null,null,null,null,null,null,null,null,null,null,null,null,null,null,null,null,null,null,null,null,null,null,null,null,null,null,null,null,null,null,null,null,null,null,null,null,null,null,null,null,null,null,null,null,null,null,null,null,null,null,"Trustee","Trustee","Trustee","Trustee"]
[" ","Walda","John",null,null,null,null,null,null,null,null,null,null,null,null,null,null,null,null,null,null,null,null,null,null,null,null,null,null,null,null,null,null,null,null,null,null,null,null,null,null,null,null,null,null,null,null,null,null,null,null,null,null,null,null,null,null,null,null,null,null,null,null,null,null,null,null,null,null,null,null,null,null,null,null,null,null,null,null,null,null,null,null,null,null,null,null,null,null,null,null,null,null,null,null,null,null,null,null,null,null,null,null,null,null,null,null,null,null,null,null,null,null,null,null,null,null,null,null,null,null,null,"Trustee","Trustee","Trustee"]
[" ","Walker","Whitfield",null,"Trustee",null,"Trustee","Trustee","Trustee"]
[" ","Wands","Thomas F.",null,null,null,null,null,null,null,null,null,null,null,null,null,null,null,null,null,null,null,null,null,null,null,null,null,null,null,null,null,null,null,null,null,null,null,null,null,null,null,null,null,null,null,null,null,null,null,null,null,null,null,null,null,null,null,null,null,null,null,null,null,null,null,null,null,null,null,null,null,null,null,null,null,null,null,null,null,null,null,null,null,null,null,null,null,null,null,null,null,null,null,null,null,null,null,null,null,null,null,null,null,null,null,null,null,"Trustee","Trustee","Trustee","Trustee","Trustee","Trustee","Trustee","Trustee Emeritus","Trustee Emeritus","Trustee Emeritus","Trustee Emeritus","Trustee Emeritus","Trustee Emeritus","Trustee Emeriti"]
[" ","Ward","David",null,null,null,null,null,null,null,null,null,null,null,null,null,null,null,null,null,null,null,null,null,null,null,null,null,null,null,null,null,null,null,null,null,null,null,null,null,null,null,null,null,null,null,null,null,null,null,null,null,null,null,null,null,null,null,null,null,null,null,null,null,null,null,null,null,null,null,null,null,null,null,null,null,null,null,null,null,null,null,null,null,null,null,null,null,null,null,"General Council"]
[" ","Weiss","Al",null,null,null,null,null,null,null,null,null,null,null,null,null,null,null,null,null,null,null,null,null,null,null,null,null,null,null,null,null,null,null,null,null,null,null,null,null,null,null,null,null,null,null,null,null,null,null,null,null,null,null,null,null,null,null,null,null,null,null,null,null,null,null,null,null,null,null,null,null,null,null,null,null,null,null,null,null,null,null,null,null,null,null,null,null,null,null,null,null,null,null,null,null,null,null,null,null,null,null,null,null,null,null,null,null,null,null,"Trustee","Trustee","Trustee","Trustee","Trustee"]
[" ","West","Evelyn T.",null,null,null,null,null,null,null,null,null,null,null,null,null,null,null,null,null,null,null,null,null,null,null,null,null,null,null,null,null,null,null,null,null,null,null,null,null,null,null,null,null,null,null,null,null,null,null,null,null,null,null,null,null,null,null,null,null,null,null,null,null,null,null,null,null,null,null,null,null,null,null,null,null,null,null,null,null,null,null,null,null,null,null,null,null,null,null,null,null,null,"Trustee","Trustee"]
[" ","West","Hugh","M.D.",null,null,null,null,null,null,null,null,null,null,null,null,null,null,null,null,null,null,null,null,null,null,null,null,null,null,null,null,null,null,null,null,null,null,null,null,null,null,null,null,null,null,null,null,null,null,null,null,null,"Trustee & Committee on Administrative","Trustee & Committee on Administrative","Trustee Secretary & Committee on Administrative & Finance Committee","Trustee Secretary & Committee on Administrative & Finance Committee","Trustee & Committee on Administrative","Trustee & Committee on Administrative","Trustee & Committee on Administrative","Trustee & Committee on Administrative","Trustee & Committee on Administrative","Trustee & Committee on Administrative","Trustee & Committee on Administrative","Trustee & Administrative Committee","Trustee & Administrative Committee","Trustee",null,"Trustee","Trustee","Trustee","Trustee & Committee on Administrative","Trustee & Committee on Administrative","Trustee"]
[" ","Weston","John W.","M.D., Sc.D.",null,null,null,null,null,null,null,null,null,null,null,null,null,null,null,null,null,null,null,"Trustee","Trustee","Trustee","Trustee","Trustee","Trustee","Trustee","Trustee","Trustee","Trustee","Trustee","Trustee","Trustee",null,"Trustee","Trustee","Trustee","Trustee"]
[" ","Wheeler, Jr.","B. Frank",null,null,null,null,null,null,null,null,null,null,null,null,null,null,null,null,null,null,null,null,null,null,null,null,null,null,null,null,null,null,null,null,null,null,null,null,null,null,null,null,null,null,null,null,null,null,null,null,null,null,null,null,null,null,null,null,null,null,null,null,null,null,null,null,null,null,null,null,null,null,null,null,null,null,null,null,null,null,null,null,null,null,null,"Trustee","Trustee","Trustee","Trustee","Trustee","Trustee","Trustee","Trustee","Trustee","Trustee","Trustee",null,"Trustee","Trustee","Trustee","Trustee","Trustee","Trustee","Trustee","Trustee","Trustee","Trustee","Trustee","Trustee","Trustee","Trustee Emeritus","Trustee Emeritus","Trustee Emeritus","Trustee Emeritus","Trustee Emeritus","Trustee Emeritus"]
[" ","Whidden","Gene A.",null,null,null,null,null,null,null,null,null,null,null,null,null,null,null,null,null,null,null,null,null,null,null,null,null,null,null,null,null,null,null,null,null,null,null,null,null,null,null,null,null,null,null,null,null,null,null,null,null,null,null,null,null,null,null,null,null,null,null,null,null,null,null,null,null,null,null,null,null,null,null,null,null,null,null,null,null,null,null,null,null,null,null,"Trustee","Trustee","Trustee","Trustee","Trustee","Trustee"]
[" ","White","J.L.","Rev., D.D.",null,null,null,null,null,null,null,null,null,null,null,null,null,null,null,null,null,null,null,null,null,null,null,null,null,null,null,null,null,null,null,null,null,null,null,null,null,"Trustee","Trustee","Trustee","Trustee","Trustee","Trustee","Trustee","Trustee","Trustee","Trustee","Trustee","Trustee","Trustee","Trustee","Trustee","Trustee","Trustee","Trustee","Trustee","Trustee","Trustee","Trustee","Trustee"]
[" ","White","O. L.",null,null,null,null,null,null,null,null,null,null,null,null,null,null,null,null,null,null,null,null,null,null,null,null,null,null,null,null,null,null,null,null,null,null,null,null,null,null,null,null,null,null,null,null,null,null,null,null,null,null,null,null,null,null,null,null,null,null,null,null,null,null,null,null,null,null,null,null,null,null,null,null,null,null,null,null,null,"Trustee","Trustee","Trustee","Trustee","Trustee","Trustee","Trustee","Trustee","Trustee","Trustee"]
[" ","Wilcox","Mrs. Amy S.",null,null,null,null,null,null,null,null,null,null,null,null,null,null,null,null,null,null,null,null,null,null,null,null,null,null,null,null,null,null,null,null,null,null,null,null,null,null,null,null,null,null,null,null,null,null,null,null,null,null,null,null,null,null,null,null,null,null,null,null,null,null,null,null,null,null,null,null,null,null,null,null,null,null,null,null,null,null,null,null,null,null,null,null,null,null,null,"Trustee","Trustee","Trustee","Trustee","Trustee","Trustee","Trustee"]
[" ","Willard","Conrad",null,null,null,null,null,null,null,null,null,null,null,null,null,null,null,null,null,null,null,null,null,null,null,null,null,null,null,null,null,null,null,null,null,null,null,null,null,null,null,null,null,null,null,null,null,null,null,null,null,null,null,null,null,null,null,null,null,null,null,null,null,null,null,null,null,null,null,null,null,null,null,null,null,null,null,null,null,null,null,null,null,null,null,null,null,null,null,"Trustee","Trustee","Trustee","Trustee","Trustee","Trustee"]
[" ","Williams","W.J.","Rev.",null,null,null,null,null,null,null,null,null,null,null,null,"Trustee","Trustee"]
[" ","Wilson","John M.",null,null,null,null,null,null,null,null,null,null,null,null,null,null,null,null,null,null,null,null,null,null,null,null,null,null,null,null,null,null,null,"Trustee","Trustee"]
[" ","Wilson","Lloyd T.","Rev., D.D.",null,null,null,null,null,null,null,null,null,null,null,null,null,null,null,null,null,null,null,null,null,null,null,null,null,null,null,null,null,null,null,null,null,null,null,null,null,null,null,null,null,null,null,null,"Trustee","Trustee"]
[" ","Wilson","Patricia Maxcy",null,null,null,null,null,null,null,null,null,null,null,null,null,null,null,null,null,null,null,null,null,null,null,null,null,null,null,null,null,null,null,null,null,null,null,null,null,null,null,null,null,null,null,null,null,null,null,null,null,null,null,null,null,null,null,null,null,null,null,null,null,null,null,null,null,null,null,null,null,null,null,null,null,null,null,null,null,null,null,null,null,null,null,null,null,null,null,null,null,null,null,null,null,null,null,null,null,"Trustee","Trustee","Trustee","Trustee","Trustee Ex Officio","Trustee","Trustee","Trustee","Trustee",null,"Trustee Emeritus","Trustee Emeritus","Trustee Emeritus","Trustee Emeritus","Trustee Emeritus","Trustee Emeritus","Trustee Emeritus","Trustee Emeritus","Trustee Emeritus","Trustee Emeritus","Trustee Emeritus","Trustee Emeriti","Trustee Emeriti","Trustee Emeriti","Trustee Emeriti"]
[" ","Wilson","Sam",null,null,null,null,null,null,null,null,null,null,null,null,null,null,null,null,null,null,null,null,null,null,null,null,null,null,null,null,null,null,null,null,null,null,null,null,null,null,null,null,null,null,null,null,null,null,null,null,null,null,null,null,null,null,null,null,null,null,null,null,null,null,null,null,null,null,null,null,null,null,null,null,null,null,null,null,null,null,null,null,null,null,null,null,null,null,null,null,null,null,null,null,null,null,null,null,null,null,"Trustee","Trustee"]
[" ","Wood","S.A.",null,null,null,null,null,null,null,null,null,null,null,null,null,null,null,null,null,null,null,"Trustee","Trustee","Trustee","Trustee & Committee on Administrative","Trustee & Committee on Administrative","Trustee & Committee on Administrative","Trustee & Committee on Administrative","Trustee & Committee on Administrative","Trustee & Committee on Administrative","Trustee & Committee on Administrative","Trustee & Committee on Administrative","Trustee & Committee on Administrative","Trustee & Committee on Administrative","Trustee & Committee on Administrative","Trustee & Committee on Administrative","Trustee & Committee on Administrative","Trustee & Committee on Administrative","Trustee & Committee on Administrative","Trustee & Committee on Administrative","Trustee & Committee on Administrative","Trustee & Committee on Administrative","Trustee & Committee on Administrative","Trustee & Committee on Administrative","Trustee & Committee on Administrative","Trustee & Committee on Administrative","Trustee & Committee on Administrative","Trustee & Committee on Administrative","Trustee & Committee on Administrative","Trustee","Trustee","Trustee","Trustee"]
[" ","Wolfe","Charles A.",null,null,null,null,null,null,null,null,null,null,null,null,null,null,null,null,null,null,null,null,null,null,null,null,null,null,null,null,null,null,null,null,null,null,null,null,null,null,null,null,null,null,null,null,null,null,null,null,null,null,null,null,null,null,null,null,null,null,null,null,null,null,null,null,null,null,null,null,null,null,null,null,null,null,null,null,null,null,null,null,null,null,null,null,null,null,null,null,null,null,null,null,null,null,null,null,null,null,null,null,null,null,null,null,null,null,null,null,null,null,null,null,null,null,null,null,null,null,null,"Ex-Officio Trustee","Trustee Ex-Officio","Ex-Officio; Chair, College of Arts & Sciences Board"]
[" ","Wright","S.B.",null,null,null,null,null,null,null,null,null,null,null,null,null,null,null,"Trustee Secretary & Executive Committee","Trustee Secretary & Committee on Administrative","Trustee Secretary & Committee on Administrative","Trustee Secretary & Committee on Administrative","Trustee Secretary & Committee on Administrative","Trustee Secretary & Committee on Administrative","Trustee Secretary & Committee on Administrative","Trustee Secretary & Committee on Administrative","Trustee Secretary & Committee on Administrative","Trustee Secretary & Committee on Administrative","Trustee Secretary & Committee on Administrative","Trustee Secretary & Committee on Administrative","Trustee Secretary & Committee on Administrative","Trustee Secretary & Committee on Administrative","Trustee Secretary & Committee on Administrative","Trustee Secretary & Committee on Administrative","Trustee Secretary & Committee on Administrative","Trustee Secretary & Committee on Administrative","Trustee Secretary & Committee on Administrative","Trustee Secretary & Committee on Administrative","Trustee Secretary & Committee on Administrative","Trustee Secretary & Committee on Administrative","Trustee Secretary & Committee on Administrative","Trustee Secretary & Committee on Administrative"]
[" ","Ziesenheim","Ken",null,null,null,null,null,null,null,null,null,null,null,null,null,null,null,null,null,null,null,null,null,null,null,null,null,null,null,null,null,null,null,null,null,null,null,null,null,null,null,null,null,null,null,null,null,null,null,null,null,null,null,null,null,null,null,null,null,null,null,null,null,null,null,null,null,null,null,null,null,null,null,null,null,null,null,null,null,null,null,null,null,null,null,null,null,null,null,null,null,null,null,null,null,null,null,null,null,null,null,null,null,null,null,null,null,null,null,null,null,null,null,null,null,null,null,null,null,null,null,null,"Trustee","Trustee"]

{"sheet":"List","index":2,"n_rows":5030,"n_cols":3,"rows_kept":5030,"cut":false,"hidden":true,"merged":[]}
["Name",null,"Year"]
[{"$f":"IF('FULL TRUSTEE LIST'!B2=\"\",\"\",'FULL TRUSTEE LIST'!B2&\" \"&'FULL TRUSTEE LIST'!C2)","v":"Alexander Steven"},null,{"$f":"IF(INDIRECT(\"'Sheet1'!\"&ADDRESS(1,ROWS(C$1:C5)))=\"\",\"\",INDIRECT(\"'Sheet1'!\"&ADDRESS(1,ROWS(C$1:C5))))","v":{"$error":"#REF!"}}]
[{"$f":"IF('FULL TRUSTEE LIST'!B3=\"\",\"\",'FULL TRUSTEE LIST'!B3&\" \"&'FULL TRUSTEE LIST'!C3)","v":"Allen Frederick S."},null,{"$f":"IF(INDIRECT(\"'Sheet1'!\"&ADDRESS(1,ROWS(C$1:C6)))=\"\",\"\",INDIRECT(\"'Sheet1'!\"&ADDRESS(1,ROWS(C$1:C6))))","v":{"$error":"#REF!"}}]
[{"$f":"IF('FULL TRUSTEE LIST'!B4=\"\",\"\",'FULL TRUSTEE LIST'!B4&\" \"&'FULL TRUSTEE LIST'!C4)","v":"Allen Riley W."},null,{"$f":"IF(INDIRECT(\"'Sheet1'!\"&ADDRESS(1,ROWS(C$1:C7)))=\"\",\"\",INDIRECT(\"'Sheet1'!\"&ADDRESS(1,ROWS(C$1:C7))))","v":{"$error":"#REF!"}}]
[{"$f":"IF('FULL TRUSTEE LIST'!B5=\"\",\"\",'FULL TRUSTEE LIST'!B5&\" \"&'FULL TRUSTEE LIST'!C5)","v":"Allen William Sims"},null,{"$f":"IF(INDIRECT(\"'Sheet1'!\"&ADDRESS(1,ROWS(C$1:C8)))=\"\",\"\",INDIRECT(\"'Sheet1'!\"&ADDRESS(1,ROWS(C$1:C8))))","v":{"$error":"#REF!"}}]
[{"$f":"IF('FULL TRUSTEE LIST'!B6=\"\",\"\",'FULL TRUSTEE LIST'!B6&\" \"&'FULL TRUSTEE LIST'!C6)","v":"Angell C. Roy "},null,{"$f":"IF(INDIRECT(\"'Sheet1'!\"&ADDRESS(1,ROWS(C$1:C9)))=\"\",\"\",INDIRECT(\"'Sheet1'!\"&ADDRESS(1,ROWS(C$1:C9))))","v":{"$error":"#REF!"}}]
[{"$f":"IF('FULL TRUSTEE LIST'!B7=\"\",\"\",'FULL TRUSTEE LIST'!B7&\" \"&'FULL TRUSTEE LIST'!C7)","v":"Arnold Richard E."},null,{"$f":"IF(INDIRECT(\"'Sheet1'!\"&ADDRESS(1,ROWS(C$1:C10)))=\"\",\"\",INDIRECT(\"'Sheet1'!\"&ADDRESS(1,ROWS(C$1:C10))))","v":{"$error":"#REF!"}}]
[{"$f":"IF('FULL TRUSTEE LIST'!B8=\"\",\"\",'FULL TRUSTEE LIST'!B8&\" \"&'FULL TRUSTEE LIST'!C8)","v":"Atkinson Alonzo M."},null,{"$f":"IF(INDIRECT(\"'Sheet1'!\"&ADDRESS(1,ROWS(C$1:C11)))=\"\",\"\",INDIRECT(\"'Sheet1'!\"&ADDRESS(1,ROWS(C$1:C11))))","v":{"$error":"#REF!"}}]
[{"$f":"IF('FULL TRUSTEE LIST'!B9=\"\",\"\",'FULL TRUSTEE LIST'!B9&\" \"&'FULL TRUSTEE LIST'!C9)","v":"Baggett B.B."},null,{"$f":"IF(INDIRECT(\"'Sheet1'!\"&ADDRESS(1,ROWS(C$1:C12)))=\"\",\"\",INDIRECT(\"'Sheet1'!\"&ADDRESS(1,ROWS(C$1:C12))))","v":{"$error":"#REF!"}}]
[{"$f":"IF('FULL TRUSTEE LIST'!B10=\"\",\"\",'FULL TRUSTEE LIST'!B10&\" \"&'FULL TRUSTEE LIST'!C10)","v":"Bailey F.N.K."},null,{"$f":"IF(INDIRECT(\"'Sheet1'!\"&ADDRESS(1,ROWS(C$1:C13)))=\"\",\"\",INDIRECT(\"'Sheet1'!\"&ADDRESS(1,ROWS(C$1:C13))))","v":{"$error":"#REF!"}}]
[{"$f":"IF('FULL TRUSTEE LIST'!B11=\"\",\"\",'FULL TRUSTEE LIST'!B11&\" \"&'FULL TRUSTEE LIST'!C11)","v":"Balll Jess C."},null,{"$f":"IF(INDIRECT(\"'Sheet1'!\"&ADDRESS(1,ROWS(C$1:C14)))=\"\",\"\",INDIRECT(\"'Sheet1'!\"&ADDRESS(1,ROWS(C$1:C14))))","v":{"$error":"#REF!"}}]
[{"$f":"IF('FULL TRUSTEE LIST'!B12=\"\",\"\",'FULL TRUSTEE LIST'!B12&\" \"&'FULL TRUSTEE LIST'!C12)","v":"Bamberg Joe"},null,{"$f":"IF(INDIRECT(\"'Sheet1'!\"&ADDRESS(1,ROWS(C$1:C15)))=\"\",\"\",INDIRECT(\"'Sheet1'!\"&ADDRESS(1,ROWS(C$1:C15))))","v":{"$error":"#REF!"}}]
[{"$f":"IF('FULL TRUSTEE LIST'!B13=\"\",\"\",'FULL TRUSTEE LIST'!B13&\" \"&'FULL TRUSTEE LIST'!C13)","v":"Banes Charles H."},null,{"$f":"IF(INDIRECT(\"'Sheet1'!\"&ADDRESS(1,ROWS(C$1:C16)))=\"\",\"\",INDIRECT(\"'Sheet1'!\"&ADDRESS(1,ROWS(C$1:C16))))","v":{"$error":"#REF!"}}]
[{"$f":"IF('FULL TRUSTEE LIST'!B14=\"\",\"\",'FULL TRUSTEE LIST'!B14&\" \"&'FULL TRUSTEE LIST'!C14)","v":"Bean E."},null,{"$f":"IF(INDIRECT(\"'Sheet1'!\"&ADDRESS(1,ROWS(C$1:C17)))=\"\",\"\",INDIRECT(\"'Sheet1'!\"&ADDRESS(1,ROWS(C$1:C17))))","v":{"$error":"#REF!"}}]
[{"$f":"IF('FULL TRUSTEE LIST'!B15=\"\",\"\",'FULL TRUSTEE LIST'!B15&\" \"&'FULL TRUSTEE LIST'!C15)","v":"Beatty Robert G."},null,{"$f":"IF(INDIRECT(\"'Sheet1'!\"&ADDRESS(1,ROWS(C$1:C18)))=\"\",\"\",INDIRECT(\"'Sheet1'!\"&ADDRESS(1,ROWS(C$1:C18))))","v":{"$error":"#REF!"}}]
[{"$f":"IF('FULL TRUSTEE LIST'!B16=\"\",\"\",'FULL TRUSTEE LIST'!B16&\" \"&'FULL TRUSTEE LIST'!C16)","v":"Beauchamp Richard"},null,{"$f":"IF(INDIRECT(\"'Sheet1'!\"&ADDRESS(1,ROWS(C$1:C19)))=\"\",\"\",INDIRECT(\"'Sheet1'!\"&ADDRESS(1,ROWS(C$1:C19))))","v":{"$error":"#REF!"}}]
[{"$f":"IF('FULL TRUSTEE LIST'!B17=\"\",\"\",'FULL TRUSTEE LIST'!B17&\" \"&'FULL TRUSTEE LIST'!C17)","v":"Beaver Frederick P."},null,{"$f":"IF(INDIRECT(\"'Sheet1'!\"&ADDRESS(1,ROWS(C$1:C20)))=\"\",\"\",INDIRECT(\"'Sheet1'!\"&ADDRESS(1,ROWS(C$1:C20))))","v":{"$error":"#REF!"}}]
[{"$f":"IF('FULL TRUSTEE LIST'!B18=\"\",\"\",'FULL TRUSTEE LIST'!B18&\" \"&'FULL TRUSTEE LIST'!C18)","v":"Bentley Frank B."},null,{"$f":"IF(INDIRECT(\"'Sheet1'!\"&ADDRESS(1,ROWS(C$1:C21)))=\"\",\"\",INDIRECT(\"'Sheet1'!\"&ADDRESS(1,ROWS(C$1:C21))))","v":{"$error":"#REF!"}}]
[{"$f":"IF('FULL TRUSTEE LIST'!B19=\"\",\"\",'FULL TRUSTEE LIST'!B19&\" \"&'FULL TRUSTEE LIST'!C19)","v":"Bishop P.P."},null,{"$f":"IF(INDIRECT(\"'Sheet1'!\"&ADDRESS(1,ROWS(C$1:C22)))=\"\",\"\",INDIRECT(\"'Sheet1'!\"&ADDRESS(1,ROWS(C$1:C22))))","v":{"$error":"#REF!"}}]
[{"$f":"IF('FULL TRUSTEE LIST'!B20=\"\",\"\",'FULL TRUSTEE LIST'!B20&\" \"&'FULL TRUSTEE LIST'!C20)","v":"Blalock Dan S. Sr."},null,{"$f":"IF(INDIRECT(\"'Sheet1'!\"&ADDRESS(1,ROWS(C$1:C23)))=\"\",\"\",INDIRECT(\"'Sheet1'!\"&ADDRESS(1,ROWS(C$1:C23))))","v":{"$error":"#REF!"}}]
[{"$f":"IF('FULL TRUSTEE LIST'!B21=\"\",\"\",'FULL TRUSTEE LIST'!B21&\" \"&'FULL TRUSTEE LIST'!C21)","v":"Blanton Robin"},null,{"$f":"IF(INDIRECT(\"'Sheet1'!\"&ADDRESS(1,ROWS(C$1:C24)))=\"\",\"\",INDIRECT(\"'Sheet1'!\"&ADDRESS(1,ROWS(C$1:C24))))","v":{"$error":"#REF!"}}]
[{"$f":"IF('FULL TRUSTEE LIST'!B22=\"\",\"\",'FULL TRUSTEE LIST'!B22&\" \"&'FULL TRUSTEE LIST'!C22)","v":"Blews William F."},null,{"$f":"IF(INDIRECT(\"'Sheet1'!\"&ADDRESS(1,ROWS(C$1:C25)))=\"\",\"\",INDIRECT(\"'Sheet1'!\"&ADDRESS(1,ROWS(C$1:C25))))","v":{"$error":"#REF!"}}]
[{"$f":"IF('FULL TRUSTEE LIST'!B23=\"\",\"\",'FULL TRUSTEE LIST'!B23&\" \"&'FULL TRUSTEE LIST'!C23)","v":"Blount W.H."},null,{"$f":"IF(INDIRECT(\"'Sheet1'!\"&ADDRESS(1,ROWS(C$1:C26)))=\"\",\"\",INDIRECT(\"'Sheet1'!\"&ADDRESS(1,ROWS(C$1:C26))))","v":{"$error":"#REF!"}}]
[{"$f":"IF('FULL TRUSTEE LIST'!B24=\"\",\"\",'FULL TRUSTEE LIST'!B24&\" \"&'FULL TRUSTEE LIST'!C24)","v":"Boehmer Fred"},null,{"$f":"IF(INDIRECT(\"'Sheet1'!\"&ADDRESS(1,ROWS(C$1:C27)))=\"\",\"\",INDIRECT(\"'Sheet1'!\"&ADDRESS(1,ROWS(C$1:C27))))","v":{"$error":"#REF!"}}]
[{"$f":"IF('FULL TRUSTEE LIST'!B25=\"\",\"\",'FULL TRUSTEE LIST'!B25&\" \"&'FULL TRUSTEE LIST'!C25)","v":"Bolton C.H."},null,{"$f":"IF(INDIRECT(\"'Sheet1'!\"&ADDRESS(1,ROWS(C$1:C28)))=\"\",\"\",INDIRECT(\"'Sheet1'!\"&ADDRESS(1,ROWS(C$1:C28))))","v":{"$error":"#REF!"}}]
[{"$f":"IF('FULL TRUSTEE LIST'!B26=\"\",\"\",'FULL TRUSTEE LIST'!B26&\" \"&'FULL TRUSTEE LIST'!C26)","v":"Breakiron-Evans Maureen"},null,{"$f":"IF(INDIRECT(\"'Sheet1'!\"&ADDRESS(1,ROWS(C$1:C29)))=\"\",\"\",INDIRECT(\"'Sheet1'!\"&ADDRESS(1,ROWS(C$1:C29))))","v":{"$error":"#REF!"}}]
[{"$f":"IF('FULL TRUSTEE LIST'!B27=\"\",\"\",'FULL TRUSTEE LIST'!B27&\" \"&'FULL TRUSTEE LIST'!C27)","v":"Brittain C.M."},null,{"$f":"IF(INDIRECT(\"'Sheet1'!\"&ADDRESS(1,ROWS(C$1:C30)))=\"\",\"\",INDIRECT(\"'Sheet1'!\"&ADDRESS(1,ROWS(C$1:C30))))","v":{"$error":"#REF!"}}]
[{"$f":"IF('FULL TRUSTEE LIST'!B28=\"\",\"\",'FULL TRUSTEE LIST'!B28&\" \"&'FULL TRUSTEE LIST'!C28)","v":"Brockway Peter"},null,{"$f":"IF(INDIRECT(\"'Sheet1'!\"&ADDRESS(1,ROWS(C$1:C31)))=\"\",\"\",INDIRECT(\"'Sheet1'!\"&ADDRESS(1,ROWS(C$1:C31))))","v":{"$error":"#REF!"}}]
[{"$f":"IF('FULL TRUSTEE LIST'!B29=\"\",\"\",'FULL TRUSTEE LIST'!B29&\" \"&'FULL TRUSTEE LIST'!C29)","v":"Brooks Theodore C."},null,{"$f":"IF(INDIRECT(\"'Sheet1'!\"&ADDRESS(1,ROWS(C$1:C32)))=\"\",\"\",INDIRECT(\"'Sheet1'!\"&ADDRESS(1,ROWS(C$1:C32))))","v":{"$error":"#REF!"}}]
[{"$f":"IF('FULL TRUSTEE LIST'!B30=\"\",\"\",'FULL TRUSTEE LIST'!B30&\" \"&'FULL TRUSTEE LIST'!C30)","v":"Brown Cici"},null,{"$f":"IF(INDIRECT(\"'Sheet1'!\"&ADDRESS(1,ROWS(C$1:C33)))=\"\",\"\",INDIRECT(\"'Sheet1'!\"&ADDRESS(1,ROWS(C$1:C33))))","v":{"$error":"#REF!"}}]
[{"$f":"IF('FULL TRUSTEE LIST'!B31=\"\",\"\",'FULL TRUSTEE LIST'!B31&\" \"&'FULL TRUSTEE LIST'!C31)","v":"Brown Cynthia"},null,{"$f":"IF(INDIRECT(\"'Sheet1'!\"&ADDRESS(1,ROWS(C$1:C34)))=\"\",\"\",INDIRECT(\"'Sheet1'!\"&ADDRESS(1,ROWS(C$1:C34))))","v":{"$error":"#REF!"}}]
[{"$f":"IF('FULL TRUSTEE LIST'!B32=\"\",\"\",'FULL TRUSTEE LIST'!B32&\" \"&'FULL TRUSTEE LIST'!C32)","v":"Brown J Hyatt"},null,{"$f":"IF(INDIRECT(\"'Sheet1'!\"&ADDRESS(1,ROWS(C$1:C35)))=\"\",\"\",INDIRECT(\"'Sheet1'!\"&ADDRESS(1,ROWS(C$1:C35))))","v":{"$error":"#REF!"}}]
[{"$f":"IF('FULL TRUSTEE LIST'!B33=\"\",\"\",'FULL TRUSTEE LIST'!B33&\" \"&'FULL TRUSTEE LIST'!C33)","v":"Brown Mary Lou"},null,{"$f":"IF(INDIRECT(\"'Sheet1'!\"&ADDRESS(1,ROWS(C$1:C36)))=\"\",\"\",INDIRECT(\"'Sheet1'!\"&ADDRESS(1,ROWS(C$1:C36))))","v":{"$error":"#REF!"}}]
[{"$f":"IF('FULL TRUSTEE LIST'!B34=\"\",\"\",'FULL TRUSTEE LIST'!B34&\" \"&'FULL TRUSTEE LIST'!C34)","v":"Brumback Emerson"},null,{"$f":"IF(INDIRECT(\"'Sheet1'!\"&ADDRESS(1,ROWS(C$1:C37)))=\"\",\"\",INDIRECT(\"'Sheet1'!\"&ADDRESS(1,ROWS(C$1:C37))))","v":{"$error":"#REF!"}}]
[{"$f":"IF('FULL TRUSTEE LIST'!B35=\"\",\"\",'FULL TRUSTEE LIST'!B35&\" \"&'FULL TRUSTEE LIST'!C35)","v":"Butler Alton"},null,{"$f":"IF(INDIRECT(\"'Sheet1'!\"&ADDRESS(1,ROWS(C$1:C38)))=\"\",\"\",INDIRECT(\"'Sheet1'!\"&ADDRESS(1,ROWS(C$1:C38))))","v":{"$error":"#REF!"}}]
[{"$f":"IF('FULL TRUSTEE LIST'!B36=\"\",\"\",'FULL TRUSTEE LIST'!B36&\" \"&'FULL TRUSTEE LIST'!C36)","v":"Cacciatore, Jr. S. Sammy"},null,{"$f":"IF(INDIRECT(\"'Sheet1'!\"&ADDRESS(1,ROWS(C$1:C39)))=\"\",\"\",INDIRECT(\"'Sheet1'!\"&ADDRESS(1,ROWS(C$1:C39))))","v":{"$error":"#REF!"}}]
[{"$f":"IF('FULL TRUSTEE LIST'!B37=\"\",\"\",'FULL TRUSTEE LIST'!B37&\" \"&'FULL TRUSTEE LIST'!C37)","v":"Camp B.F."},null,{"$f":"IF(INDIRECT(\"'Sheet1'!\"&ADDRESS(1,ROWS(C$1:C40)))=\"\",\"\",INDIRECT(\"'Sheet1'!\"&ADDRESS(1,ROWS(C$1:C40))))","v":{"$error":"#REF!"}}]
[{"$f":"IF('FULL TRUSTEE LIST'!B38=\"\",\"\",'FULL TRUSTEE LIST'!B38&\" \"&'FULL TRUSTEE LIST'!C38)","v":"Campbell Charles W."},null,{"$f":"IF(INDIRECT(\"'Sheet1'!\"&ADDRESS(1,ROWS(C$1:C41)))=\"\",\"\",INDIRECT(\"'Sheet1'!\"&ADDRESS(1,ROWS(C$1:C41))))","v":{"$error":"#REF!"}}]
[{"$f":"IF('FULL TRUSTEE LIST'!B39=\"\",\"\",'FULL TRUSTEE LIST'!B39&\" \"&'FULL TRUSTEE LIST'!C39)","v":"Carlton Jr. Doyle E."},null,{"$f":"IF(INDIRECT(\"'Sheet1'!\"&ADDRESS(1,ROWS(C$1:C42)))=\"\",\"\",INDIRECT(\"'Sheet1'!\"&ADDRESS(1,ROWS(C$1:C42))))","v":{"$error":"#REF!"}}]
[{"$f":"IF('FULL TRUSTEE LIST'!B40=\"\",\"\",'FULL TRUSTEE LIST'!B40&\" \"&'FULL TRUSTEE LIST'!C40)","v":"Carlton Sr. Doyle Elam"},null,{"$f":"IF(INDIRECT(\"'Sheet1'!\"&ADDRESS(1,ROWS(C$1:C43)))=\"\",\"\",INDIRECT(\"'Sheet1'!\"&ADDRESS(1,ROWS(C$1:C43))))","v":{"$error":"#REF!"}}]
[{"$f":"IF('FULL TRUSTEE LIST'!B41=\"\",\"\",'FULL TRUSTEE LIST'!B41&\" \"&'FULL TRUSTEE LIST'!C41)","v":"Carnett Albert L."},null,{"$f":"IF(INDIRECT(\"'Sheet1'!\"&ADDRESS(1,ROWS(C$1:C44)))=\"\",\"\",INDIRECT(\"'Sheet1'!\"&ADDRESS(1,ROWS(C$1:C44))))","v":{"$error":"#REF!"}}]
[{"$f":"IF('FULL TRUSTEE LIST'!B42=\"\",\"\",'FULL TRUSTEE LIST'!B42&\" \"&'FULL TRUSTEE LIST'!C42)","v":"Cater J.J."},null,{"$f":"IF(INDIRECT(\"'Sheet1'!\"&ADDRESS(1,ROWS(C$1:C45)))=\"\",\"\",INDIRECT(\"'Sheet1'!\"&ADDRESS(1,ROWS(C$1:C45))))","v":{"$error":"#REF!"}}]
[{"$f":"IF('FULL TRUSTEE LIST'!B43=\"\",\"\",'FULL TRUSTEE LIST'!B43&\" \"&'FULL TRUSTEE LIST'!C43)","v":"Chaudoin W.N."},null,{"$f":"IF(INDIRECT(\"'Sheet1'!\"&ADDRESS(1,ROWS(C$1:C46)))=\"\",\"\",INDIRECT(\"'Sheet1'!\"&ADDRESS(1,ROWS(C$1:C46))))","v":{"$error":"#REF!"}}]
[{"$f":"IF('FULL TRUSTEE LIST'!B44=\"\",\"\",'FULL TRUSTEE LIST'!B44&\" \"&'FULL TRUSTEE LIST'!C44)","v":"Chipley W.D."},null,{"$f":"IF(INDIRECT(\"'Sheet1'!\"&ADDRESS(1,ROWS(C$1:C47)))=\"\",\"\",INDIRECT(\"'Sheet1'!\"&ADDRESS(1,ROWS(C$1:C47))))","v":{"$error":"#REF!"}}]
[{"$f":"IF('FULL TRUSTEE LIST'!B45=\"\",\"\",'FULL TRUSTEE LIST'!B45&\" \"&'FULL TRUSTEE LIST'!C45)","v":"Clake J.T."},null,{"$f":"IF(INDIRECT(\"'Sheet1'!\"&ADDRESS(1,ROWS(C$1:C48)))=\"\",\"\",INDIRECT(\"'Sheet1'!\"&ADDRESS(1,ROWS(C$1:C48))))","v":{"$error":"#REF!"}}]
[{"$f":"IF('FULL TRUSTEE LIST'!B46=\"\",\"\",'FULL TRUSTEE LIST'!B46&\" \"&'FULL TRUSTEE LIST'!C46)","v":"Clapp W.J."},null,{"$f":"IF(INDIRECT(\"'Sheet1'!\"&ADDRESS(1,ROWS(C$1:C49)))=\"\",\"\",INDIRECT(\"'Sheet1'!\"&ADDRESS(1,ROWS(C$1:C49))))","v":{"$error":"#REF!"}}]
[{"$f":"IF('FULL TRUSTEE LIST'!B47=\"\",\"\",'FULL TRUSTEE LIST'!B47&\" \"&'FULL TRUSTEE LIST'!C47)","v":"Cleland Max"},null,{"$f":"IF(INDIRECT(\"'Sheet1'!\"&ADDRESS(1,ROWS(C$1:C50)))=\"\",\"\",INDIRECT(\"'Sheet1'!\"&ADDRESS(1,ROWS(C$1:C50))))","v":{"$error":"#REF!"}}]
[{"$f":"IF('FULL TRUSTEE LIST'!B48=\"\",\"\",'FULL TRUSTEE LIST'!B48&\" \"&'FULL TRUSTEE LIST'!C48)","v":"Clemmens Nelson"},null,{"$f":"IF(INDIRECT(\"'Sheet1'!\"&ADDRESS(1,ROWS(C$1:C51)))=\"\",\"\",INDIRECT(\"'Sheet1'!\"&ADDRESS(1,ROWS(C$1:C51))))","v":{"$error":"#REF!"}}]
[{"$f":"IF('FULL TRUSTEE LIST'!B49=\"\",\"\",'FULL TRUSTEE LIST'!B49&\" \"&'FULL TRUSTEE LIST'!C49)","v":"Cleveland Jr. Mack N."},null,{"$f":"IF(INDIRECT(\"'Sheet1'!\"&ADDRESS(1,ROWS(C$1:C52)))=\"\",\"\",INDIRECT(\"'Sheet1'!\"&ADDRESS(1,ROWS(C$1:C52))))","v":{"$error":"#REF!"}}]
[{"$f":"IF('FULL TRUSTEE LIST'!B50=\"\",\"\",'FULL TRUSTEE LIST'!B50&\" \"&'FULL TRUSTEE LIST'!C50)","v":"Coleman T. Rupert"},null,{"$f":"IF(INDIRECT(\"'Sheet1'!\"&ADDRESS(1,ROWS(C$1:C53)))=\"\",\"\",INDIRECT(\"'Sheet1'!\"&ADDRESS(1,ROWS(C$1:C53))))","v":{"$error":"#REF!"}}]
[{"$f":"IF('FULL TRUSTEE LIST'!B51=\"\",\"\",'FULL TRUSTEE LIST'!B51&\" \"&'FULL TRUSTEE LIST'!C51)","v":"Conrad Fred N. "},null,{"$f":"IF(INDIRECT(\"'Sheet1'!\"&ADDRESS(1,ROWS(C$1:C54)))=\"\",\"\",INDIRECT(\"'Sheet1'!\"&ADDRESS(1,ROWS(C$1:C54))))","v":{"$error":"#REF!"}}]
[{"$f":"IF('FULL TRUSTEE LIST'!B52=\"\",\"\",'FULL TRUSTEE LIST'!B52&\" \"&'FULL TRUSTEE LIST'!C52)","v":"Conrad J.B."},null,{"$f":"IF(INDIRECT(\"'Sheet1'!\"&ADDRESS(1,ROWS(C$1:C55)))=\"\",\"\",INDIRECT(\"'Sheet1'!\"&ADDRESS(1,ROWS(C$1:C55))))","v":{"$error":"#REF!"}}]
[{"$f":"IF('FULL TRUSTEE LIST'!B53=\"\",\"\",'FULL TRUSTEE LIST'!B53&\" \"&'FULL TRUSTEE LIST'!C53)","v":"Cooper Joe R."},null,{"$f":"IF(INDIRECT(\"'Sheet1'!\"&ADDRESS(1,ROWS(C$1:C56)))=\"\",\"\",INDIRECT(\"'Sheet1'!\"&ADDRESS(1,ROWS(C$1:C56))))","v":{"$error":"#REF!"}}]
[{"$f":"IF('FULL TRUSTEE LIST'!B54=\"\",\"\",'FULL TRUSTEE LIST'!B54&\" \"&'FULL TRUSTEE LIST'!C54)","v":"Dasilva Diane"},null,{"$f":"IF(INDIRECT(\"'Sheet1'!\"&ADDRESS(1,ROWS(C$1:C57)))=\"\",\"\",INDIRECT(\"'Sheet1'!\"&ADDRESS(1,ROWS(C$1:C57))))","v":{"$error":"#REF!"}}]
[{"$f":"IF('FULL TRUSTEE LIST'!B55=\"\",\"\",'FULL TRUSTEE LIST'!B55&\" \"&'FULL TRUSTEE LIST'!C55)","v":"Davenport Carolyn"},null,{"$f":"IF(INDIRECT(\"'Sheet1'!\"&ADDRESS(1,ROWS(C$1:C58)))=\"\",\"\",INDIRECT(\"'Sheet1'!\"&ADDRESS(1,ROWS(C$1:C58))))","v":{"$error":"#REF!"}}]
[{"$f":"IF('FULL TRUSTEE LIST'!B56=\"\",\"\",'FULL TRUSTEE LIST'!B56&\" \"&'FULL TRUSTEE LIST'!C56)","v":"Davis A. Dano"},null,{"$f":"IF(INDIRECT(\"'Sheet1'!\"&ADDRESS(1,ROWS(C$1:C59)))=\"\",\"\",INDIRECT(\"'Sheet1'!\"&ADDRESS(1,ROWS(C$1:C59))))","v":{"$error":"#REF!"}}]
[{"$f":"IF('FULL TRUSTEE LIST'!B57=\"\",\"\",'FULL TRUSTEE LIST'!B57&\" \"&'FULL TRUSTEE LIST'!C57)","v":"Davis Marty"},null,{"$f":"IF(INDIRECT(\"'Sheet1'!\"&ADDRESS(1,ROWS(C$1:C60)))=\"\",\"\",INDIRECT(\"'Sheet1'!\"&ADDRESS(1,ROWS(C$1:C60))))","v":{"$error":"#REF!"}}]
[{"$f":"IF('FULL TRUSTEE LIST'!B58=\"\",\"\",'FULL TRUSTEE LIST'!B58&\" \"&'FULL TRUSTEE LIST'!C58)","v":"Davison Bill"},null,{"$f":"IF(INDIRECT(\"'Sheet1'!\"&ADDRESS(1,ROWS(C$1:C61)))=\"\",\"\",INDIRECT(\"'Sheet1'!\"&ADDRESS(1,ROWS(C$1:C61))))","v":{"$error":"#REF!"}}]
[{"$f":"IF('FULL TRUSTEE LIST'!B59=\"\",\"\",'FULL TRUSTEE LIST'!B59&\" \"&'FULL TRUSTEE LIST'!C59)","v":"Dawson Marie"},null,{"$f":"IF(INDIRECT(\"'Sheet1'!\"&ADDRESS(1,ROWS(C$1:C62)))=\"\",\"\",INDIRECT(\"'Sheet1'!\"&ADDRESS(1,ROWS(C$1:C62))))","v":{"$error":"#REF!"}}]
[{"$f":"IF('FULL TRUSTEE LIST'!B60=\"\",\"\",'FULL TRUSTEE LIST'!B60&\" \"&'FULL TRUSTEE LIST'!C60)","v":"DeArmas Nestor M."},null,{"$f":"IF(INDIRECT(\"'Sheet1'!\"&ADDRESS(1,ROWS(C$1:C63)))=\"\",\"\",INDIRECT(\"'Sheet1'!\"&ADDRESS(1,ROWS(C$1:C63))))","v":{"$error":"#REF!"}}]
[{"$f":"IF('FULL TRUSTEE LIST'!B61=\"\",\"\",'FULL TRUSTEE LIST'!B61&\" \"&'FULL TRUSTEE LIST'!C61)","v":"DeLand H.A."},null,{"$f":"IF(INDIRECT(\"'Sheet1'!\"&ADDRESS(1,ROWS(C$1:C64)))=\"\",\"\",INDIRECT(\"'Sheet1'!\"&ADDRESS(1,ROWS(C$1:C64))))","v":{"$error":"#REF!"}}]
[{"$f":"IF('FULL TRUSTEE LIST'!B62=\"\",\"\",'FULL TRUSTEE LIST'!B62&\" \"&'FULL TRUSTEE LIST'!C62)","v":"Disney Diane"},null,{"$f":"IF(INDIRECT(\"'Sheet1'!\"&ADDRESS(1,ROWS(C$1:C65)))=\"\",\"\",INDIRECT(\"'Sheet1'!\"&ADDRESS(1,ROWS(C$1:C65))))","v":{"$error":"#REF!"}}]
[{"$f":"IF('FULL TRUSTEE LIST'!B63=\"\",\"\",'FULL TRUSTEE LIST'!B63&\" \"&'FULL TRUSTEE LIST'!C63)","v":"Doremus Jr. Theodore A."},null,{"$f":"IF(INDIRECT(\"'Sheet1'!\"&ADDRESS(1,ROWS(C$1:C66)))=\"\",\"\",INDIRECT(\"'Sheet1'!\"&ADDRESS(1,ROWS(C$1:C66))))","v":{"$error":"#REF!"}}]
[{"$f":"IF('FULL TRUSTEE LIST'!B64=\"\",\"\",'FULL TRUSTEE LIST'!B64&\" \"&'FULL TRUSTEE LIST'!C64)","v":"Duke Claude W."},null,{"$f":"IF(INDIRECT(\"'Sheet1'!\"&ADDRESS(1,ROWS(C$1:C67)))=\"\",\"\",INDIRECT(\"'Sheet1'!\"&ADDRESS(1,ROWS(C$1:C67))))","v":{"$error":"#REF!"}}]
[{"$f":"IF('FULL TRUSTEE LIST'!B65=\"\",\"\",'FULL TRUSTEE LIST'!B65&\" \"&'FULL TRUSTEE LIST'!C65)","v":"Duncan Pope A."},null,{"$f":"IF(INDIRECT(\"'Sheet1'!\"&ADDRESS(1,ROWS(C$1:C68)))=\"\",\"\",INDIRECT(\"'Sheet1'!\"&ADDRESS(1,ROWS(C$1:C68))))","v":{"$error":"#REF!"}}]
[{"$f":"IF('FULL TRUSTEE LIST'!B66=\"\",\"\",'FULL TRUSTEE LIST'!B66&\" \"&'FULL TRUSTEE LIST'!C66)","v":"duPont Alfred I."},null,{"$f":"IF(INDIRECT(\"'Sheet1'!\"&ADDRESS(1,ROWS(C$1:C69)))=\"\",\"\",INDIRECT(\"'Sheet1'!\"&ADDRESS(1,ROWS(C$1:C69))))","v":{"$error":"#REF!"}}]
[{"$f":"IF('FULL TRUSTEE LIST'!B67=\"\",\"\",'FULL TRUSTEE LIST'!B67&\" \"&'FULL TRUSTEE LIST'!C67)","v":"Edington Earl B."},null,{"$f":"IF(INDIRECT(\"'Sheet1'!\"&ADDRESS(1,ROWS(C$1:C70)))=\"\",\"\",INDIRECT(\"'Sheet1'!\"&ADDRESS(1,ROWS(C$1:C70))))","v":{"$error":"#REF!"}}]
[{"$f":"IF('FULL TRUSTEE LIST'!B68=\"\",\"\",'FULL TRUSTEE LIST'!B68&\" \"&'FULL TRUSTEE LIST'!C68)","v":"Edmunds J. Ollie"},null,{"$f":"IF(INDIRECT(\"'Sheet1'!\"&ADDRESS(1,ROWS(C$1:C71)))=\"\",\"\",INDIRECT(\"'Sheet1'!\"&ADDRESS(1,ROWS(C$1:C71))))","v":{"$error":"#REF!"}}]
[{"$f":"IF('FULL TRUSTEE LIST'!B69=\"\",\"\",'FULL TRUSTEE LIST'!B69&\" \"&'FULL TRUSTEE LIST'!C69)","v":"Edwards F.C."},null,{"$f":"IF(INDIRECT(\"'Sheet1'!\"&ADDRESS(1,ROWS(C$1:C72)))=\"\",\"\",INDIRECT(\"'Sheet1'!\"&ADDRESS(1,ROWS(C$1:C72))))","v":{"$error":"#REF!"}}]
[{"$f":"IF('FULL TRUSTEE LIST'!B70=\"\",\"\",'FULL TRUSTEE LIST'!B70&\" \"&'FULL TRUSTEE LIST'!C70)","v":"Edwards John L."},null,{"$f":"IF(INDIRECT(\"'Sheet1'!\"&ADDRESS(1,ROWS(C$1:C73)))=\"\",\"\",INDIRECT(\"'Sheet1'!\"&ADDRESS(1,ROWS(C$1:C73))))","v":{"$error":"#REF!"}}]
[{"$f":"IF('FULL TRUSTEE LIST'!B71=\"\",\"\",'FULL TRUSTEE LIST'!B71&\" \"&'FULL TRUSTEE LIST'!C71)","v":"Ellis Frank M."},null,{"$f":"IF(INDIRECT(\"'Sheet1'!\"&ADDRESS(1,ROWS(C$1:C74)))=\"\",\"\",INDIRECT(\"'Sheet1'!\"&ADDRESS(1,ROWS(C$1:C74))))","v":{"$error":"#REF!"}}]
[{"$f":"IF('FULL TRUSTEE LIST'!B73=\"\",\"\",'FULL TRUSTEE LIST'!B73&\" \"&'FULL TRUSTEE LIST'!C73)","v":"Ferrell Ralph H."},null,{"$f":"IF(INDIRECT(\"'Sheet1'!\"&ADDRESS(1,ROWS(C$1:C75)))=\"\",\"\",INDIRECT(\"'Sheet1'!\"&ADDRESS(1,ROWS(C$1:C75))))","v":{"$error":"#REF!"}}]
[{"$f":"IF('FULL TRUSTEE LIST'!B74=\"\",\"\",'FULL TRUSTEE LIST'!B74&\" \"&'FULL TRUSTEE LIST'!C74)","v":"Finn Jim L."},null,{"$f":"IF(INDIRECT(\"'Sheet1'!\"&ADDRESS(1,ROWS(C$1:C76)))=\"\",\"\",INDIRECT(\"'Sheet1'!\"&ADDRESS(1,ROWS(C$1:C76))))","v":{"$error":"#REF!"}}]
[{"$f":"IF('FULL TRUSTEE LIST'!B75=\"\",\"\",'FULL TRUSTEE LIST'!B75&\" \"&'FULL TRUSTEE LIST'!C75)","v":"Fletcher D.U."},null,{"$f":"IF(INDIRECT(\"'Sheet1'!\"&ADDRESS(1,ROWS(C$1:C77)))=\"\",\"\",INDIRECT(\"'Sheet1'!\"&ADDRESS(1,ROWS(C$1:C77))))","v":{"$error":"#REF!"}}]
[{"$f":"IF('FULL TRUSTEE LIST'!B76=\"\",\"\",'FULL TRUSTEE LIST'!B76&\" \"&'FULL TRUSTEE LIST'!C76)","v":"Flippo Robert D."},null,{"$f":"IF(INDIRECT(\"'Sheet1'!\"&ADDRESS(1,ROWS(C$1:C78)))=\"\",\"\",INDIRECT(\"'Sheet1'!\"&ADDRESS(1,ROWS(C$1:C78))))","v":{"$error":"#REF!"}}]
[{"$f":"IF('FULL TRUSTEE LIST'!B77=\"\",\"\",'FULL TRUSTEE LIST'!B77&\" \"&'FULL TRUSTEE LIST'!C77)","v":"Forbes J.F."},null,{"$f":"IF(INDIRECT(\"'Sheet1'!\"&ADDRESS(1,ROWS(C$1:C79)))=\"\",\"\",INDIRECT(\"'Sheet1'!\"&ADDRESS(1,ROWS(C$1:C79))))","v":{"$error":"#REF!"}}]
[{"$f":"IF('FULL TRUSTEE LIST'!B78=\"\",\"\",'FULL TRUSTEE LIST'!B78&\" \"&'FULL TRUSTEE LIST'!C78)","v":"Forbes S. B."},null,{"$f":"IF(INDIRECT(\"'Sheet1'!\"&ADDRESS(1,ROWS(C$1:C80)))=\"\",\"\",INDIRECT(\"'Sheet1'!\"&ADDRESS(1,ROWS(C$1:C80))))","v":{"$error":"#REF!"}}]
[{"$f":"IF('FULL TRUSTEE LIST'!B79=\"\",\"\",'FULL TRUSTEE LIST'!B79&\" \"&'FULL TRUSTEE LIST'!C79)","v":"Foreman Bonnie"},null,{"$f":"IF(INDIRECT(\"'Sheet1'!\"&ADDRESS(1,ROWS(C$1:C81)))=\"\",\"\",INDIRECT(\"'Sheet1'!\"&ADDRESS(1,ROWS(C$1:C81))))","v":{"$error":"#REF!"}}]
[{"$f":"IF('FULL TRUSTEE LIST'!B80=\"\",\"\",'FULL TRUSTEE LIST'!B80&\" \"&'FULL TRUSTEE LIST'!C80)","v":"Freeman Albert T."},null,{"$f":"IF(INDIRECT(\"'Sheet1'!\"&ADDRESS(1,ROWS(C$1:C82)))=\"\",\"\",INDIRECT(\"'Sheet1'!\"&ADDRESS(1,ROWS(C$1:C82))))","v":{"$error":"#REF!"}}]
[{"$f":"IF('FULL TRUSTEE LIST'!B81=\"\",\"\",'FULL TRUSTEE LIST'!B81&\" \"&'FULL TRUSTEE LIST'!C81)","v":"Fronk Michael R."},null,{"$f":"IF(INDIRECT(\"'Sheet1'!\"&ADDRESS(1,ROWS(C$1:C83)))=\"\",\"\",INDIRECT(\"'Sheet1'!\"&ADDRESS(1,ROWS(C$1:C83))))","v":{"$error":"#REF!"}}]
[{"$f":"IF('FULL TRUSTEE LIST'!B82=\"\",\"\",'FULL TRUSTEE LIST'!B82&\" \"&'FULL TRUSTEE LIST'!C82)","v":"Furches John"},null,{"$f":"IF(INDIRECT(\"'Sheet1'!\"&ADDRESS(1,ROWS(C$1:C84)))=\"\",\"\",INDIRECT(\"'Sheet1'!\"&ADDRESS(1,ROWS(C$1:C84))))","v":{"$error":"#REF!"}}]
[{"$f":"IF('FULL TRUSTEE LIST'!B83=\"\",\"\",'FULL TRUSTEE LIST'!B83&\" \"&'FULL TRUSTEE LIST'!C83)","v":"Furches Sandy"},null,{"$f":"IF(INDIRECT(\"'Sheet1'!\"&ADDRESS(1,ROWS(C$1:C85)))=\"\",\"\",INDIRECT(\"'Sheet1'!\"&ADDRESS(1,ROWS(C$1:C85))))","v":{"$error":"#REF!"}}]
[{"$f":"IF('FULL TRUSTEE LIST'!B84=\"\",\"\",'FULL TRUSTEE LIST'!B84&\" \"&'FULL TRUSTEE LIST'!C84)","v":"Gardner David M."},null,{"$f":"IF(INDIRECT(\"'Sheet1'!\"&ADDRESS(1,ROWS(C$1:C86)))=\"\",\"\",INDIRECT(\"'Sheet1'!\"&ADDRESS(1,ROWS(C$1:C86))))","v":{"$error":"#REF!"}}]
[{"$f":"IF('FULL TRUSTEE LIST'!B85=\"\",\"\",'FULL TRUSTEE LIST'!B85&\" \"&'FULL TRUSTEE LIST'!C85)","v":"Gaston Earl R."},null,{"$f":"IF(INDIRECT(\"'Sheet1'!\"&ADDRESS(1,ROWS(C$1:C87)))=\"\",\"\",INDIRECT(\"'Sheet1'!\"&ADDRESS(1,ROWS(C$1:C87))))","v":{"$error":"#REF!"}}]
[{"$f":"IF('FULL TRUSTEE LIST'!B86=\"\",\"\",'FULL TRUSTEE LIST'!B86&\" \"&'FULL TRUSTEE LIST'!C86)","v":"Gaylord Frank T."},null,{"$f":"IF(INDIRECT(\"'Sheet1'!\"&ADDRESS(1,ROWS(C$1:C88)))=\"\",\"\",INDIRECT(\"'Sheet1'!\"&ADDRESS(1,ROWS(C$1:C88))))","v":{"$error":"#REF!"}}]
[{"$f":"IF('FULL TRUSTEE LIST'!B87=\"\",\"\",'FULL TRUSTEE LIST'!B87&\" \"&'FULL TRUSTEE LIST'!C87)","v":"Gelston H.C."},null,{"$f":"IF(INDIRECT(\"'Sheet1'!\"&ADDRESS(1,ROWS(C$1:C89)))=\"\",\"\",INDIRECT(\"'Sheet1'!\"&ADDRESS(1,ROWS(C$1:C89))))","v":{"$error":"#REF!"}}]
[{"$f":"IF('FULL TRUSTEE LIST'!B88=\"\",\"\",'FULL TRUSTEE LIST'!B88&\" \"&'FULL TRUSTEE LIST'!C88)","v":"George Rich"},null,{"$f":"IF(INDIRECT(\"'Sheet1'!\"&ADDRESS(1,ROWS(C$1:C90)))=\"\",\"\",INDIRECT(\"'Sheet1'!\"&ADDRESS(1,ROWS(C$1:C90))))","v":{"$error":"#REF!"}}]
[{"$f":"IF('FULL TRUSTEE LIST'!B89=\"\",\"\",'FULL TRUSTEE LIST'!B89&\" \"&'FULL TRUSTEE LIST'!C89)","v":"Gillen R.H."},null,{"$f":"IF(INDIRECT(\"'Sheet1'!\"&ADDRESS(1,ROWS(C$1:C91)))=\"\",\"\",INDIRECT(\"'Sheet1'!\"&ADDRESS(1,ROWS(C$1:C91))))","v":{"$error":"#REF!"}}]
[{"$f":"IF('FULL TRUSTEE LIST'!B90=\"\",\"\",'FULL TRUSTEE LIST'!B90&\" \"&'FULL TRUSTEE LIST'!C90)","v":"Gillespie Sally"},null,{"$f":"IF(INDIRECT(\"'Sheet1'!\"&ADDRESS(1,ROWS(C$1:C92)))=\"\",\"\",INDIRECT(\"'Sheet1'!\"&ADDRESS(1,ROWS(C$1:C92))))","v":{"$error":"#REF!"}}]
[{"$f":"IF('FULL TRUSTEE LIST'!B91=\"\",\"\",'FULL TRUSTEE LIST'!B91&\" \"&'FULL TRUSTEE LIST'!C91)","v":"Govoni Leo"},null,{"$f":"IF(INDIRECT(\"'Sheet1'!\"&ADDRESS(1,ROWS(C$1:C93)))=\"\",\"\",INDIRECT(\"'Sheet1'!\"&ADDRESS(1,ROWS(C$1:C93))))","v":{"$error":"#REF!"}}]
[{"$f":"IF('FULL TRUSTEE LIST'!B92=\"\",\"\",'FULL TRUSTEE LIST'!B92&\" \"&'FULL TRUSTEE LIST'!C92)","v":"Graf Kathleen L."},null,{"$f":"IF(INDIRECT(\"'Sheet1'!\"&ADDRESS(1,ROWS(C$1:C94)))=\"\",\"\",INDIRECT(\"'Sheet1'!\"&ADDRESS(1,ROWS(C$1:C94))))","v":{"$error":"#REF!"}}]
[{"$f":"IF('FULL TRUSTEE LIST'!B93=\"\",\"\",'FULL TRUSTEE LIST'!B93&\" \"&'FULL TRUSTEE LIST'!C93)","v":"Graves James F."},null,{"$f":"IF(INDIRECT(\"'Sheet1'!\"&ADDRESS(1,ROWS(C$1:C95)))=\"\",\"\",INDIRECT(\"'Sheet1'!\"&ADDRESS(1,ROWS(C$1:C95))))","v":{"$error":"#REF!"}}]
[{"$f":"IF('FULL TRUSTEE LIST'!B94=\"\",\"\",'FULL TRUSTEE LIST'!B94&\" \"&'FULL TRUSTEE LIST'!C94)","v":"Gray William A."},null,{"$f":"IF(INDIRECT(\"'Sheet1'!\"&ADDRESS(1,ROWS(C$1:C96)))=\"\",\"\",INDIRECT(\"'Sheet1'!\"&ADDRESS(1,ROWS(C$1:C96))))","v":{"$error":"#REF!"}}]
[{"$f":"IF('FULL TRUSTEE LIST'!B95=\"\",\"\",'FULL TRUSTEE LIST'!B95&\" \"&'FULL TRUSTEE LIST'!C95)","v":"Griffith J.H. "},null,{"$f":"IF(INDIRECT(\"'Sheet1'!\"&ADDRESS(1,ROWS(C$1:C97)))=\"\",\"\",INDIRECT(\"'Sheet1'!\"&ADDRESS(1,ROWS(C$1:C97))))","v":{"$error":"#REF!"}}]
[{"$f":"IF('FULL TRUSTEE LIST'!B96=\"\",\"\",'FULL TRUSTEE LIST'!B96&\" \"&'FULL TRUSTEE LIST'!C96)","v":"Griffith Jack S."},null,{"$f":"IF(INDIRECT(\"'Sheet1'!\"&ADDRESS(1,ROWS(C$1:C98)))=\"\",\"\",INDIRECT(\"'Sheet1'!\"&ADDRESS(1,ROWS(C$1:C98))))","v":{"$error":"#REF!"}}]
[{"$f":"IF('FULL TRUSTEE LIST'!B97=\"\",\"\",'FULL TRUSTEE LIST'!B97&\" \"&'FULL TRUSTEE LIST'!C97)","v":"Gurney J. Tom"},null,{"$f":"IF(INDIRECT(\"'Sheet1'!\"&ADDRESS(1,ROWS(C$1:C99)))=\"\",\"\",INDIRECT(\"'Sheet1'!\"&ADDRESS(1,ROWS(C$1:C99))))","v":{"$error":"#REF!"}}]
[{"$f":"IF('FULL TRUSTEE LIST'!B98=\"\",\"\",'FULL TRUSTEE LIST'!B98&\" \"&'FULL TRUSTEE LIST'!C98)","v":"Gwynn Walter"},null,{"$f":"IF(INDIRECT(\"'Sheet1'!\"&ADDRESS(1,ROWS(C$1:C100)))=\"\",\"\",INDIRECT(\"'Sheet1'!\"&ADDRESS(1,ROWS(C$1:C100))))","v":{"$error":"#REF!"}}]
[{"$f":"IF('FULL TRUSTEE LIST'!B99=\"\",\"\",'FULL TRUSTEE LIST'!B99&\" \"&'FULL TRUSTEE LIST'!C99)","v":"Hagstrom Lorna Jean"},null,{"$f":"IF(INDIRECT(\"'Sheet1'!\"&ADDRESS(1,ROWS(C$1:C101)))=\"\",\"\",INDIRECT(\"'Sheet1'!\"&ADDRESS(1,ROWS(C$1:C101))))","v":{"$error":"#REF!"}}]
[{"$f":"IF('FULL TRUSTEE LIST'!B100=\"\",\"\",'FULL TRUSTEE LIST'!B100&\" \"&'FULL TRUSTEE LIST'!C100)","v":"Hamlin Arthur G."},null,{"$f":"IF(INDIRECT(\"'Sheet1'!\"&ADDRESS(1,ROWS(C$1:C102)))=\"\",\"\",INDIRECT(\"'Sheet1'!\"&ADDRESS(1,ROWS(C$1:C102))))","v":{"$error":"#REF!"}}]
[{"$f":"IF('FULL TRUSTEE LIST'!B101=\"\",\"\",'FULL TRUSTEE LIST'!B101&\" \"&'FULL TRUSTEE LIST'!C101)","v":"Hand Dolly"},null,{"$f":"IF(INDIRECT(\"'Sheet1'!\"&ADDRESS(1,ROWS(C$1:C103)))=\"\",\"\",INDIRECT(\"'Sheet1'!\"&ADDRESS(1,ROWS(C$1:C103))))","v":{"$error":"#REF!"}}]
[{"$f":"IF('FULL TRUSTEE LIST'!B102=\"\",\"\",'FULL TRUSTEE LIST'!B102&\" \"&'FULL TRUSTEE LIST'!C102)","v":"Hand Frances Rutledge"},null,{"$f":"IF(INDIRECT(\"'Sheet1'!\"&ADDRESS(1,ROWS(C$1:C104)))=\"\",\"\",INDIRECT(\"'Sheet1'!\"&ADDRESS(1,ROWS(C$1:C104))))","v":{"$error":"#REF!"}}]
[{"$f":"IF('FULL TRUSTEE LIST'!B103=\"\",\"\",'FULL TRUSTEE LIST'!B103&\" \"&'FULL TRUSTEE LIST'!C103)","v":"Hansen Roderick P."},null,{"$f":"IF(INDIRECT(\"'Sheet1'!\"&ADDRESS(1,ROWS(C$1:C105)))=\"\",\"\",INDIRECT(\"'Sheet1'!\"&ADDRESS(1,ROWS(C$1:C105))))","v":{"$error":"#REF!"}}]
[{"$f":"IF('FULL TRUSTEE LIST'!B104=\"\",\"\",'FULL TRUSTEE LIST'!B104&\" \"&'FULL TRUSTEE LIST'!C104)","v":"Hansen Thomas"},null,{"$f":"IF(INDIRECT(\"'Sheet1'!\"&ADDRESS(1,ROWS(C$1:C106)))=\"\",\"\",INDIRECT(\"'Sheet1'!\"&ADDRESS(1,ROWS(C$1:C106))))","v":{"$error":"#REF!"}}]
[{"$f":"IF('FULL TRUSTEE LIST'!B105=\"\",\"\",'FULL TRUSTEE LIST'!B105&\" \"&'FULL TRUSTEE LIST'!C105)","v":"Harshaw David H."},null,{"$f":"IF(INDIRECT(\"'Sheet1'!\"&ADDRESS(1,ROWS(C$1:C107)))=\"\",\"\",INDIRECT(\"'Sheet1'!\"&ADDRESS(1,ROWS(C$1:C107))))","v":{"$error":"#REF!"}}]
[{"$f":"IF('FULL TRUSTEE LIST'!B106=\"\",\"\",'FULL TRUSTEE LIST'!B106&\" \"&'FULL TRUSTEE LIST'!C106)","v":"Hickem B.G."},null,{"$f":"IF(INDIRECT(\"'Sheet1'!\"&ADDRESS(1,ROWS(C$1:C108)))=\"\",\"\",INDIRECT(\"'Sheet1'!\"&ADDRESS(1,ROWS(C$1:C108))))","v":{"$error":"#REF!"}}]
[{"$f":"IF('FULL TRUSTEE LIST'!B107=\"\",\"\",'FULL TRUSTEE LIST'!B107&\" \"&'FULL TRUSTEE LIST'!C107)","v":"Higginbotham Dennis"},null,{"$f":"IF(INDIRECT(\"'Sheet1'!\"&ADDRESS(1,ROWS(C$1:C109)))=\"\",\"\",INDIRECT(\"'Sheet1'!\"&ADDRESS(1,ROWS(C$1:C109))))","v":{"$error":"#REF!"}}]
[{"$f":"IF('FULL TRUSTEE LIST'!B109=\"\",\"\",'FULL TRUSTEE LIST'!B109&\" \"&'FULL TRUSTEE LIST'!C109)","v":"Highbaugh L. LeRoy Jr."},null,{"$f":"IF(INDIRECT(\"'Sheet1'!\"&ADDRESS(1,ROWS(C$1:C110)))=\"\",\"\",INDIRECT(\"'Sheet1'!\"&ADDRESS(1,ROWS(C$1:C110))))","v":{"$error":"#REF!"}}]
[{"$f":"IF('FULL TRUSTEE LIST'!B110=\"\",\"\",'FULL TRUSTEE LIST'!B110&\" \"&'FULL TRUSTEE LIST'!C110)","v":"Hobson W.A."},null,{"$f":"IF(INDIRECT(\"'Sheet1'!\"&ADDRESS(1,ROWS(C$1:C111)))=\"\",\"\",INDIRECT(\"'Sheet1'!\"&ADDRESS(1,ROWS(C$1:C111))))","v":{"$error":"#REF!"}}]
[{"$f":"IF('FULL TRUSTEE LIST'!B111=\"\",\"\",'FULL TRUSTEE LIST'!B111&\" \"&'FULL TRUSTEE LIST'!C111)","v":"Holbrooke Helen C."},null,{"$f":"IF(INDIRECT(\"'Sheet1'!\"&ADDRESS(1,ROWS(C$1:C112)))=\"\",\"\",INDIRECT(\"'Sheet1'!\"&ADDRESS(1,ROWS(C$1:C112))))","v":{"$error":"#REF!"}}]
[{"$f":"IF('FULL TRUSTEE LIST'!B112=\"\",\"\",'FULL TRUSTEE LIST'!B112&\" \"&'FULL TRUSTEE LIST'!C112)","v":"Hollis Mark C."},null,{"$f":"IF(INDIRECT(\"'Sheet1'!\"&ADDRESS(1,ROWS(C$1:C113)))=\"\",\"\",INDIRECT(\"'Sheet1'!\"&ADDRESS(1,ROWS(C$1:C113))))","v":{"$error":"#REF!"}}]
[{"$f":"IF('FULL TRUSTEE LIST'!B113=\"\",\"\",'FULL TRUSTEE LIST'!B113&\" \"&'FULL TRUSTEE LIST'!C113)","v":"Hollis R. Dean"},null,{"$f":"IF(INDIRECT(\"'Sheet1'!\"&ADDRESS(1,ROWS(C$1:C114)))=\"\",\"\",INDIRECT(\"'Sheet1'!\"&ADDRESS(1,ROWS(C$1:C114))))","v":{"$error":"#REF!"}}]
[{"$f":"IF('FULL TRUSTEE LIST'!B114=\"\",\"\",'FULL TRUSTEE LIST'!B114&\" \"&'FULL TRUSTEE LIST'!C114)","v":"Holmes Robert Shailor"},null,{"$f":"IF(INDIRECT(\"'Sheet1'!\"&ADDRESS(1,ROWS(C$1:C115)))=\"\",\"\",INDIRECT(\"'Sheet1'!\"&ADDRESS(1,ROWS(C$1:C115))))","v":{"$error":"#REF!"}}]
[{"$f":"IF('FULL TRUSTEE LIST'!B115=\"\",\"\",'FULL TRUSTEE LIST'!B115&\" \"&'FULL TRUSTEE LIST'!C115)","v":"Hon E.L."},null,{"$f":"IF(INDIRECT(\"'Sheet1'!\"&ADDRESS(1,ROWS(C$1:C116)))=\"\",\"\",INDIRECT(\"'Sheet1'!\"&ADDRESS(1,ROWS(C$1:C116))))","v":{"$error":"#REF!"}}]
[{"$f":"IF('FULL TRUSTEE LIST'!B116=\"\",\"\",'FULL TRUSTEE LIST'!B116&\" \"&'FULL TRUSTEE LIST'!C116)","v":"Horton Thomas R."},null,{"$f":"IF(INDIRECT(\"'Sheet1'!\"&ADDRESS(1,ROWS(C$1:C117)))=\"\",\"\",INDIRECT(\"'Sheet1'!\"&ADDRESS(1,ROWS(C$1:C117))))","v":{"$error":"#REF!"}}]
[{"$f":"IF('FULL TRUSTEE LIST'!B117=\"\",\"\",'FULL TRUSTEE LIST'!B117&\" \"&'FULL TRUSTEE LIST'!C117)","v":"Hough S.V."},null,{"$f":"IF(INDIRECT(\"'Sheet1'!\"&ADDRESS(1,ROWS(C$1:C118)))=\"\",\"\",INDIRECT(\"'Sheet1'!\"&ADDRESS(1,ROWS(C$1:C118))))","v":{"$error":"#REF!"}}]
[{"$f":"IF('FULL TRUSTEE LIST'!B118=\"\",\"\",'FULL TRUSTEE LIST'!B118&\" \"&'FULL TRUSTEE LIST'!C118)","v":"Hulley Elkanah B."},null,{"$f":"IF(INDIRECT(\"'Sheet1'!\"&ADDRESS(1,ROWS(C$1:C119)))=\"\",\"\",INDIRECT(\"'Sheet1'!\"&ADDRESS(1,ROWS(C$1:C119))))","v":{"$error":"#REF!"}}]
[{"$f":"IF('FULL TRUSTEE LIST'!B119=\"\",\"\",'FULL TRUSTEE LIST'!B119&\" \"&'FULL TRUSTEE LIST'!C119)","v":"Hulley Lincoln"},null,{"$f":"IF(INDIRECT(\"'Sheet1'!\"&ADDRESS(1,ROWS(C$1:C120)))=\"\",\"\",INDIRECT(\"'Sheet1'!\"&ADDRESS(1,ROWS(C$1:C120))))","v":{"$error":"#REF!"}}]
[{"$f":"IF('FULL TRUSTEE LIST'!B120=\"\",\"\",'FULL TRUSTEE LIST'!B120&\" \"&'FULL TRUSTEE LIST'!C120)","v":"Huntley Byron E."},null,{"$f":"IF(INDIRECT(\"'Sheet1'!\"&ADDRESS(1,ROWS(C$1:C121)))=\"\",\"\",INDIRECT(\"'Sheet1'!\"&ADDRESS(1,ROWS(C$1:C121))))","v":{"$error":"#REF!"}}]
[{"$f":"IF('FULL TRUSTEE LIST'!B121=\"\",\"\",'FULL TRUSTEE LIST'!B121&\" \"&'FULL TRUSTEE LIST'!C121)","v":"Icard Thomas F."},null,{"$f":"IF(INDIRECT(\"'Sheet1'!\"&ADDRESS(1,ROWS(C$1:C122)))=\"\",\"\",INDIRECT(\"'Sheet1'!\"&ADDRESS(1,ROWS(C$1:C122))))","v":{"$error":"#REF!"}}]
[{"$f":"IF('FULL TRUSTEE LIST'!B122=\"\",\"\",'FULL TRUSTEE LIST'!B122&\" \"&'FULL TRUSTEE LIST'!C122)","v":"Jarrard Jr. Wendell"},null,{"$f":"IF(INDIRECT(\"'Sheet1'!\"&ADDRESS(1,ROWS(C$1:C123)))=\"\",\"\",INDIRECT(\"'Sheet1'!\"&ADDRESS(1,ROWS(C$1:C123))))","v":{"$error":"#REF!"}}]
[{"$f":"IF('FULL TRUSTEE LIST'!B123=\"\",\"\",'FULL TRUSTEE LIST'!B123&\" \"&'FULL TRUSTEE LIST'!C123)","v":"Jarrard Sr. Wendell"},null,{"$f":"IF(INDIRECT(\"'Sheet1'!\"&ADDRESS(1,ROWS(C$1:C124)))=\"\",\"\",INDIRECT(\"'Sheet1'!\"&ADDRESS(1,ROWS(C$1:C124))))","v":{"$error":"#REF!"}}]
[{"$f":"IF('FULL TRUSTEE LIST'!B124=\"\",\"\",'FULL TRUSTEE LIST'!B124&\" \"&'FULL TRUSTEE LIST'!C124)","v":"Jenkins Tony"},null,{"$f":"IF(INDIRECT(\"'Sheet1'!\"&ADDRESS(1,ROWS(C$1:C125)))=\"\",\"\",INDIRECT(\"'Sheet1'!\"&ADDRESS(1,ROWS(C$1:C125))))","v":{"$error":"#REF!"}}]
[{"$f":"IF('FULL TRUSTEE LIST'!B125=\"\",\"\",'FULL TRUSTEE LIST'!B125&\" \"&'FULL TRUSTEE LIST'!C125)","v":"Jennings S. Bryan"},null,{"$f":"IF(INDIRECT(\"'Sheet1'!\"&ADDRESS(1,ROWS(C$1:C126)))=\"\",\"\",INDIRECT(\"'Sheet1'!\"&ADDRESS(1,ROWS(C$1:C126))))","v":{"$error":"#REF!"}}]
[{"$f":"IF('FULL TRUSTEE LIST'!B126=\"\",\"\",'FULL TRUSTEE LIST'!B126&\" \"&'FULL TRUSTEE LIST'!C126)","v":"Jennings William S."},null,{"$f":"IF(INDIRECT(\"'Sheet1'!\"&ADDRESS(1,ROWS(C$1:C127)))=\"\",\"\",INDIRECT(\"'Sheet1'!\"&ADDRESS(1,ROWS(C$1:C127))))","v":{"$error":"#REF!"}}]
[{"$f":"IF('FULL TRUSTEE LIST'!B127=\"\",\"\",'FULL TRUSTEE LIST'!B127&\" \"&'FULL TRUSTEE LIST'!C127)","v":"Jernegan P.F."},null,{"$f":"IF(INDIRECT(\"'Sheet1'!\"&ADDRESS(1,ROWS(C$1:C128)))=\"\",\"\",INDIRECT(\"'Sheet1'!\"&ADDRESS(1,ROWS(C$1:C128))))","v":{"$error":"#REF!"}}]
[{"$f":"IF('FULL TRUSTEE LIST'!B128=\"\",\"\",'FULL TRUSTEE LIST'!B128&\" \"&'FULL TRUSTEE LIST'!C128)","v":"Jinks Jill"},null,{"$f":"IF(INDIRECT(\"'Sheet1'!\"&ADDRESS(1,ROWS(C$1:C129)))=\"\",\"\",INDIRECT(\"'Sheet1'!\"&ADDRESS(1,ROWS(C$1:C129))))","v":{"$error":"#REF!"}}]
[{"$f":"IF('FULL TRUSTEE LIST'!B129=\"\",\"\",'FULL TRUSTEE LIST'!B129&\" \"&'FULL TRUSTEE LIST'!C129)","v":"Johnson Betty Drees"},null,{"$f":"IF(INDIRECT(\"'Sheet1'!\"&ADDRESS(1,ROWS(C$1:C130)))=\"\",\"\",INDIRECT(\"'Sheet1'!\"&ADDRESS(1,ROWS(C$1:C130))))","v":{"$error":"#REF!"}}]
[{"$f":"IF('FULL TRUSTEE LIST'!B130=\"\",\"\",'FULL TRUSTEE LIST'!B130&\" \"&'FULL TRUSTEE LIST'!C130)","v":"Johnson C. Paul"},null,{"$f":"IF(INDIRECT(\"'Sheet1'!\"&ADDRESS(1,ROWS(C$1:C131)))=\"\",\"\",INDIRECT(\"'Sheet1'!\"&ADDRESS(1,ROWS(C$1:C131))))","v":{"$error":"#REF!"}}]
[{"$f":"IF('FULL TRUSTEE LIST'!B131=\"\",\"\",'FULL TRUSTEE LIST'!B131&\" \"&'FULL TRUSTEE LIST'!C131)","v":"Jollay Geoffrey"},null,{"$f":"IF(INDIRECT(\"'Sheet1'!\"&ADDRESS(1,ROWS(C$1:C132)))=\"\",\"\",INDIRECT(\"'Sheet1'!\"&ADDRESS(1,ROWS(C$1:C132))))","v":{"$error":"#REF!"}}]
[{"$f":"IF('FULL TRUSTEE LIST'!B132=\"\",\"\",'FULL TRUSTEE LIST'!B132&\" \"&'FULL TRUSTEE LIST'!C132)","v":"Kantor Hal"},null,{"$f":"IF(INDIRECT(\"'Sheet1'!\"&ADDRESS(1,ROWS(C$1:C133)))=\"\",\"\",INDIRECT(\"'Sheet1'!\"&ADDRESS(1,ROWS(C$1:C133))))","v":{"$error":"#REF!"}}]
[{"$f":"IF('FULL TRUSTEE LIST'!B133=\"\",\"\",'FULL TRUSTEE LIST'!B133&\" \"&'FULL TRUSTEE LIST'!C133)","v":"Kennedy Lesa France"},null,{"$f":"IF(INDIRECT(\"'Sheet1'!\"&ADDRESS(1,ROWS(C$1:C134)))=\"\",\"\",INDIRECT(\"'Sheet1'!\"&ADDRESS(1,ROWS(C$1:C134))))","v":{"$error":"#REF!"}}]
[{"$f":"IF('FULL TRUSTEE LIST'!B134=\"\",\"\",'FULL TRUSTEE LIST'!B134&\" \"&'FULL TRUSTEE LIST'!C134)","v":"Kent Robert A."},null,{"$f":"IF(INDIRECT(\"'Sheet1'!\"&ADDRESS(1,ROWS(C$1:C135)))=\"\",\"\",INDIRECT(\"'Sheet1'!\"&ADDRESS(1,ROWS(C$1:C135))))","v":{"$error":"#REF!"}}]
[{"$f":"IF('FULL TRUSTEE LIST'!B135=\"\",\"\",'FULL TRUSTEE LIST'!B135&\" \"&'FULL TRUSTEE LIST'!C135)","v":"King H.M."},null,{"$f":"IF(INDIRECT(\"'Sheet1'!\"&ADDRESS(1,ROWS(C$1:C136)))=\"\",\"\",INDIRECT(\"'Sheet1'!\"&ADDRESS(1,ROWS(C$1:C136))))","v":{"$error":"#REF!"}}]
[{"$f":"IF('FULL TRUSTEE LIST'!B136=\"\",\"\",'FULL TRUSTEE LIST'!B136&\" \"&'FULL TRUSTEE LIST'!C136)","v":"King Judge Z."},null,{"$f":"IF(INDIRECT(\"'Sheet1'!\"&ADDRESS(1,ROWS(C$1:C137)))=\"\",\"\",INDIRECT(\"'Sheet1'!\"&ADDRESS(1,ROWS(C$1:C137))))","v":{"$error":"#REF!"}}]
[{"$f":"IF('FULL TRUSTEE LIST'!B137=\"\",\"\",'FULL TRUSTEE LIST'!B137&\" \"&'FULL TRUSTEE LIST'!C137)","v":"Kirchman Kenneth Paul"},null,{"$f":"IF(INDIRECT(\"'Sheet1'!\"&ADDRESS(1,ROWS(C$1:C138)))=\"\",\"\",INDIRECT(\"'Sheet1'!\"&ADDRESS(1,ROWS(C$1:C138))))","v":{"$error":"#REF!"}}]
[{"$f":"IF('FULL TRUSTEE LIST'!B138=\"\",\"\",'FULL TRUSTEE LIST'!B138&\" \"&'FULL TRUSTEE LIST'!C138)","v":"Knight Malcolm B."},null,{"$f":"IF(INDIRECT(\"'Sheet1'!\"&ADDRESS(1,ROWS(C$1:C139)))=\"\",\"\",INDIRECT(\"'Sheet1'!\"&ADDRESS(1,ROWS(C$1:C139))))","v":{"$error":"#REF!"}}]
[{"$f":"IF('FULL TRUSTEE LIST'!B139=\"\",\"\",'FULL TRUSTEE LIST'!B139&\" \"&'FULL TRUSTEE LIST'!C139)","v":"Kost A."},null,{"$f":"IF(INDIRECT(\"'Sheet1'!\"&ADDRESS(1,ROWS(C$1:C140)))=\"\",\"\",INDIRECT(\"'Sheet1'!\"&ADDRESS(1,ROWS(C$1:C140))))","v":{"$error":"#REF!"}}]
[{"$f":"IF('FULL TRUSTEE LIST'!B140=\"\",\"\",'FULL TRUSTEE LIST'!B140&\" \"&'FULL TRUSTEE LIST'!C140)","v":"Kruhm Gerald D."},null,{"$f":"IF(INDIRECT(\"'Sheet1'!\"&ADDRESS(1,ROWS(C$1:C141)))=\"\",\"\",INDIRECT(\"'Sheet1'!\"&ADDRESS(1,ROWS(C$1:C141))))","v":{"$error":"#REF!"}}]
[{"$f":"IF('FULL TRUSTEE LIST'!B141=\"\",\"\",'FULL TRUSTEE LIST'!B141&\" \"&'FULL TRUSTEE LIST'!C141)","v":"Kunze Diana L."},null,{"$f":"IF(INDIRECT(\"'Sheet1'!\"&ADDRESS(1,ROWS(C$1:C142)))=\"\",\"\",INDIRECT(\"'Sheet1'!\"&ADDRESS(1,ROWS(C$1:C142))))","v":{"$error":"#REF!"}}]
[{"$f":"IF('FULL TRUSTEE LIST'!B142=\"\",\"\",'FULL TRUSTEE LIST'!B142&\" \"&'FULL TRUSTEE LIST'!C142)","v":"Landers Jr. Joseph W."},null,{"$f":"IF(INDIRECT(\"'Sheet1'!\"&ADDRESS(1,ROWS(C$1:C143)))=\"\",\"\",INDIRECT(\"'Sheet1'!\"&ADDRESS(1,ROWS(C$1:C143))))","v":{"$error":"#REF!"}}]
[{"$f":"IF('FULL TRUSTEE LIST'!B143=\"\",\"\",'FULL TRUSTEE LIST'!B143&\" \"&'FULL TRUSTEE LIST'!C143)","v":"Lane L. Patrick"}]
[{"$f":"IF('FULL TRUSTEE LIST'!B144=\"\",\"\",'FULL TRUSTEE LIST'!B144&\" \"&'FULL TRUSTEE LIST'!C144)","v":"Latour Janelle Bozard"}]
[{"$f":"IF('FULL TRUSTEE LIST'!B145=\"\",\"\",'FULL TRUSTEE LIST'!B145&\" \"&'FULL TRUSTEE LIST'!C145)","v":"Law  J.B."}]
[{"$f":"IF('FULL TRUSTEE LIST'!B146=\"\",\"\",'FULL TRUSTEE LIST'!B146&\" \"&'FULL TRUSTEE LIST'!C146)","v":"Lawton R.W."}]
[{"$f":"IF('FULL TRUSTEE LIST'!B147=\"\",\"\",'FULL TRUSTEE LIST'!B147&\" \"&'FULL TRUSTEE LIST'!C147)","v":"Lee H. Douglas"}]
[{"$f":"IF('FULL TRUSTEE LIST'!B148=\"\",\"\",'FULL TRUSTEE LIST'!B148&\" \"&'FULL TRUSTEE LIST'!C148)","v":"Lewicki Lee McGraw"}]
[{"$f":"IF('FULL TRUSTEE LIST'!B149=\"\",\"\",'FULL TRUSTEE LIST'!B149&\" \"&'FULL TRUSTEE LIST'!C149)","v":"Lewis Carroll E."}]
[{"$f":"IF('FULL TRUSTEE LIST'!B150=\"\",\"\",'FULL TRUSTEE LIST'!B150&\" \"&'FULL TRUSTEE LIST'!C150)","v":"Libby Gary R"}]
[{"$f":"IF('FULL TRUSTEE LIST'!B151=\"\",\"\",'FULL TRUSTEE LIST'!B151&\" \"&'FULL TRUSTEE LIST'!C151)","v":"Libby Wendy"}]
[{"$f":"IF('FULL TRUSTEE LIST'!B152=\"\",\"\",'FULL TRUSTEE LIST'!B152&\" \"&'FULL TRUSTEE LIST'!C152)","v":"Longdon Frank J."}]
[{"$f":"IF('FULL TRUSTEE LIST'!B153=\"\",\"\",'FULL TRUSTEE LIST'!B153&\" \"&'FULL TRUSTEE LIST'!C153)","v":"Lopez Brenda H."}]
[{"$f":"IF('FULL TRUSTEE LIST'!B154=\"\",\"\",'FULL TRUSTEE LIST'!B154&\" \"&'FULL TRUSTEE LIST'!C154)","v":"Lynn Christine"}]
[{"$f":"IF('FULL TRUSTEE LIST'!B155=\"\",\"\",'FULL TRUSTEE LIST'!B155&\" \"&'FULL TRUSTEE LIST'!C155)","v":"MacArthur Robert S."}]
[{"$f":"IF('FULL TRUSTEE LIST'!B156=\"\",\"\",'FULL TRUSTEE LIST'!B156&\" \"&'FULL TRUSTEE LIST'!C156)","v":"Magidson Joshua"}]
[{"$f":"IF('FULL TRUSTEE LIST'!B157=\"\",\"\",'FULL TRUSTEE LIST'!B157&\" \"&'FULL TRUSTEE LIST'!C157)","v":"Mahon W.L.C."}]
[{"$f":"IF('FULL TRUSTEE LIST'!B158=\"\",\"\",'FULL TRUSTEE LIST'!B158&\" \"&'FULL TRUSTEE LIST'!C158)","v":"Mann Walter H."}]
[{"$f":"IF('FULL TRUSTEE LIST'!B159=\"\",\"\",'FULL TRUSTEE LIST'!B159&\" \"&'FULL TRUSTEE LIST'!C159)","v":"Marchman, Jr. Hal S."}]
[{"$f":"IF('FULL TRUSTEE LIST'!B160=\"\",\"\",'FULL TRUSTEE LIST'!B160&\" \"&'FULL TRUSTEE LIST'!C160)","v":"Martien  J. Carey"}]
[{"$f":"IF('FULL TRUSTEE LIST'!B161=\"\",\"\",'FULL TRUSTEE LIST'!B161&\" \"&'FULL TRUSTEE LIST'!C161)","v":"Massey Harvey"}]
[{"$f":"IF('FULL TRUSTEE LIST'!B162=\"\",\"\",'FULL TRUSTEE LIST'!B162&\" \"&'FULL TRUSTEE LIST'!C162)","v":"Master Joseph J."}]
[{"$f":"IF('FULL TRUSTEE LIST'!B164=\"\",\"\",'FULL TRUSTEE LIST'!B164&\" \"&'FULL TRUSTEE LIST'!C164)","v":"McCallister Muff"}]
[{"$f":"IF('FULL TRUSTEE LIST'!B165=\"\",\"\",'FULL TRUSTEE LIST'!B165&\" \"&'FULL TRUSTEE LIST'!C165)","v":"McGraw M. Lee"}]
[{"$f":"IF('FULL TRUSTEE LIST'!B166=\"\",\"\",'FULL TRUSTEE LIST'!B166&\" \"&'FULL TRUSTEE LIST'!C166)","v":"McKinney John"}]
[{"$f":"IF('FULL TRUSTEE LIST'!B167=\"\",\"\",'FULL TRUSTEE LIST'!B167&\" \"&'FULL TRUSTEE LIST'!C167)","v":"McMahan Richard A."}]
[{"$f":"IF('FULL TRUSTEE LIST'!B168=\"\",\"\",'FULL TRUSTEE LIST'!B168&\" \"&'FULL TRUSTEE LIST'!C168)","v":"McMillan Robert M."}]
[{"$f":"IF('FULL TRUSTEE LIST'!B169=\"\",\"\",'FULL TRUSTEE LIST'!B169&\" \"&'FULL TRUSTEE LIST'!C169)","v":"McNamara Sr. Dennis C."}]
[{"$f":"IF('FULL TRUSTEE LIST'!B170=\"\",\"\",'FULL TRUSTEE LIST'!B170&\" \"&'FULL TRUSTEE LIST'!C170)","v":"Mickle Edward L."}]
[{"$f":"IF('FULL TRUSTEE LIST'!B171=\"\",\"\",'FULL TRUSTEE LIST'!B171&\" \"&'FULL TRUSTEE LIST'!C171)","v":"Monroe James"}]
[{"$f":"IF('FULL TRUSTEE LIST'!B172=\"\",\"\",'FULL TRUSTEE LIST'!B172&\" \"&'FULL TRUSTEE LIST'!C172)","v":"Montgomery Robert E."}]
[{"$f":"IF('FULL TRUSTEE LIST'!B173=\"\",\"\",'FULL TRUSTEE LIST'!B173&\" \"&'FULL TRUSTEE LIST'!C173)","v":"Moodie F.B."}]
[{"$f":"IF('FULL TRUSTEE LIST'!B174=\"\",\"\",'FULL TRUSTEE LIST'!B174&\" \"&'FULL TRUSTEE LIST'!C174)","v":"Moore David"}]
[{"$f":"IF('FULL TRUSTEE LIST'!B175=\"\",\"\",'FULL TRUSTEE LIST'!B175&\" \"&'FULL TRUSTEE LIST'!C175)","v":"Morris Arthur N."}]
[{"$f":"IF('FULL TRUSTEE LIST'!B176=\"\",\"\",'FULL TRUSTEE LIST'!B176&\" \"&'FULL TRUSTEE LIST'!C176)","v":"Murphy, Jr. Earnest W."}]
[{"$f":"IF('FULL TRUSTEE LIST'!B177=\"\",\"\",'FULL TRUSTEE LIST'!B177&\" \"&'FULL TRUSTEE LIST'!C177)","v":"Neukom Jr. George A."}]
[{"$f":"IF('FULL TRUSTEE LIST'!B178=\"\",\"\",'FULL TRUSTEE LIST'!B178&\" \"&'FULL TRUSTEE LIST'!C178)","v":"Novak Jane Edmunds"}]
[{"$f":"IF('FULL TRUSTEE LIST'!B179=\"\",\"\",'FULL TRUSTEE LIST'!B179&\" \"&'FULL TRUSTEE LIST'!C179)","v":"Oates J.E."}]
[{"$f":"IF('FULL TRUSTEE LIST'!B180=\"\",\"\",'FULL TRUSTEE LIST'!B180&\" \"&'FULL TRUSTEE LIST'!C180)","v":"Osborne Frank R."}]
[{"$f":"IF('FULL TRUSTEE LIST'!B181=\"\",\"\",'FULL TRUSTEE LIST'!B181&\" \"&'FULL TRUSTEE LIST'!C181)","v":"Osteen H.E."}]
[{"$f":"IF('FULL TRUSTEE LIST'!B182=\"\",\"\",'FULL TRUSTEE LIST'!B182&\" \"&'FULL TRUSTEE LIST'!C182)","v":"Painter E.O"}]
[{"$f":"IF('FULL TRUSTEE LIST'!B183=\"\",\"\",'FULL TRUSTEE LIST'!B183&\" \"&'FULL TRUSTEE LIST'!C183)","v":"Parce J.Y."}]
[{"$f":"IF('FULL TRUSTEE LIST'!B184=\"\",\"\",'FULL TRUSTEE LIST'!B184&\" \"&'FULL TRUSTEE LIST'!C184)","v":"Parker Henry A."}]
[{"$f":"IF('FULL TRUSTEE LIST'!B185=\"\",\"\",'FULL TRUSTEE LIST'!B185&\" \"&'FULL TRUSTEE LIST'!C185)","v":"Paul Harlan"}]
[{"$f":"IF('FULL TRUSTEE LIST'!B186=\"\",\"\",'FULL TRUSTEE LIST'!B186&\" \"&'FULL TRUSTEE LIST'!C186)","v":"Peddie John"}]
[{"$f":"IF('FULL TRUSTEE LIST'!B187=\"\",\"\",'FULL TRUSTEE LIST'!B187&\" \"&'FULL TRUSTEE LIST'!C187)","v":"Pelham John L."}]
[{"$f":"IF('FULL TRUSTEE LIST'!B188=\"\",\"\",'FULL TRUSTEE LIST'!B188&\" \"&'FULL TRUSTEE LIST'!C188)","v":"Perkins L.A."}]
[{"$f":"IF('FULL TRUSTEE LIST'!B189=\"\",\"\",'FULL TRUSTEE LIST'!B189&\" \"&'FULL TRUSTEE LIST'!C189)","v":"Pinner Jr. Thomas M."}]
[{"$f":"IF('FULL TRUSTEE LIST'!B190=\"\",\"\",'FULL TRUSTEE LIST'!B190&\" \"&'FULL TRUSTEE LIST'!C190)","v":"Portier Sandra"}]
[{"$f":"IF('FULL TRUSTEE LIST'!B191=\"\",\"\",'FULL TRUSTEE LIST'!B191&\" \"&'FULL TRUSTEE LIST'!C191)","v":"Prats Luis"}]
[{"$f":"IF('FULL TRUSTEE LIST'!B192=\"\",\"\",'FULL TRUSTEE LIST'!B192&\" \"&'FULL TRUSTEE LIST'!C192)","v":"Price E. H. Jr."}]
[{"$f":"IF('FULL TRUSTEE LIST'!B193=\"\",\"\",'FULL TRUSTEE LIST'!B193&\" \"&'FULL TRUSTEE LIST'!C193)","v":"Prince Thomas P."}]
[{"$f":"IF('FULL TRUSTEE LIST'!B194=\"\",\"\",'FULL TRUSTEE LIST'!B194&\" \"&'FULL TRUSTEE LIST'!C194)","v":"Pullam J. Stephen"}]
[{"$f":"IF('FULL TRUSTEE LIST'!B195=\"\",\"\",'FULL TRUSTEE LIST'!B195&\" \"&'FULL TRUSTEE LIST'!C195)","v":"Raley Billy"}]
[{"$f":"IF('FULL TRUSTEE LIST'!B196=\"\",\"\",'FULL TRUSTEE LIST'!B196&\" \"&'FULL TRUSTEE LIST'!C196)","v":"Raymond Paul"}]
[{"$f":"IF('FULL TRUSTEE LIST'!B197=\"\",\"\",'FULL TRUSTEE LIST'!B197&\" \"&'FULL TRUSTEE LIST'!C197)","v":"Reaves O.K."}]
[{"$f":"IF('FULL TRUSTEE LIST'!B198=\"\",\"\",'FULL TRUSTEE LIST'!B198&\" \"&'FULL TRUSTEE LIST'!C198)","v":"Reddick Gary D"}]
[{"$f":"IF('FULL TRUSTEE LIST'!B199=\"\",\"\",'FULL TRUSTEE LIST'!B199&\" \"&'FULL TRUSTEE LIST'!C199)","v":"Reid B. S."}]
[{"$f":"IF('FULL TRUSTEE LIST'!B200=\"\",\"\",'FULL TRUSTEE LIST'!B200&\" \"&'FULL TRUSTEE LIST'!C200)","v":"Renfroe Lowell Edwin"}]
[{"$f":"IF('FULL TRUSTEE LIST'!B201=\"\",\"\",'FULL TRUSTEE LIST'!B201&\" \"&'FULL TRUSTEE LIST'!C201)","v":"Rhodes Terry J."}]
[{"$f":"IF('FULL TRUSTEE LIST'!B202=\"\",\"\",'FULL TRUSTEE LIST'!B202&\" \"&'FULL TRUSTEE LIST'!C202)","v":"Rinker David B."}]
[{"$f":"IF('FULL TRUSTEE LIST'!B203=\"\",\"\",'FULL TRUSTEE LIST'!B203&\" \"&'FULL TRUSTEE LIST'!C203)","v":"Rinker M. E."}]
[{"$f":"IF('FULL TRUSTEE LIST'!B204=\"\",\"\",'FULL TRUSTEE LIST'!B204&\" \"&'FULL TRUSTEE LIST'!C204)","v":"Roberts III William M."}]
[{"$f":"IF('FULL TRUSTEE LIST'!B205=\"\",\"\",'FULL TRUSTEE LIST'!B205&\" \"&'FULL TRUSTEE LIST'!C205)","v":"Robinson J. E."}]
[{"$f":"IF('FULL TRUSTEE LIST'!B206=\"\",\"\",'FULL TRUSTEE LIST'!B206&\" \"&'FULL TRUSTEE LIST'!C206)","v":"Rogers S.B."}]
[{"$f":"IF('FULL TRUSTEE LIST'!B207=\"\",\"\",'FULL TRUSTEE LIST'!B207&\" \"&'FULL TRUSTEE LIST'!C207)","v":"Rogers Wallace R."}]
[{"$f":"IF('FULL TRUSTEE LIST'!B208=\"\",\"\",'FULL TRUSTEE LIST'!B208&\" \"&'FULL TRUSTEE LIST'!C208)","v":"Rosselle William Q."}]
[{"$f":"IF('FULL TRUSTEE LIST'!B209=\"\",\"\",'FULL TRUSTEE LIST'!B209&\" \"&'FULL TRUSTEE LIST'!C209)","v":"Rydberg Marsha Griffin"}]
[{"$f":"IF('FULL TRUSTEE LIST'!B210=\"\",\"\",'FULL TRUSTEE LIST'!B210&\" \"&'FULL TRUSTEE LIST'!C210)","v":"Sampson C.T."}]
[{"$f":"IF('FULL TRUSTEE LIST'!B211=\"\",\"\",'FULL TRUSTEE LIST'!B211&\" \"&'FULL TRUSTEE LIST'!C211)","v":"Sanders Harold G."}]
[{"$f":"IF('FULL TRUSTEE LIST'!B212=\"\",\"\",'FULL TRUSTEE LIST'!B212&\" \"&'FULL TRUSTEE LIST'!C212)","v":"Sandridge Dorothy Jennings"}]
[{"$f":"IF('FULL TRUSTEE LIST'!B213=\"\",\"\",'FULL TRUSTEE LIST'!B213&\" \"&'FULL TRUSTEE LIST'!C213)","v":"Santa Eulalia Elizabeth"}]
[{"$f":"IF('FULL TRUSTEE LIST'!B214=\"\",\"\",'FULL TRUSTEE LIST'!B214&\" \"&'FULL TRUSTEE LIST'!C214)","v":"Sargent M.W."}]
[{"$f":"IF('FULL TRUSTEE LIST'!B215=\"\",\"\",'FULL TRUSTEE LIST'!B215&\" \"&'FULL TRUSTEE LIST'!C215)","v":"Search Theodore C."}]
[{"$f":"IF('FULL TRUSTEE LIST'!B216=\"\",\"\",'FULL TRUSTEE LIST'!B216&\" \"&'FULL TRUSTEE LIST'!C216)","v":"Self William L."}]
[{"$f":"IF('FULL TRUSTEE LIST'!B217=\"\",\"\",'FULL TRUSTEE LIST'!B217&\" \"&'FULL TRUSTEE LIST'!C217)","v":"Shotwell Theo."}]
[{"$f":"IF('FULL TRUSTEE LIST'!B218=\"\",\"\",'FULL TRUSTEE LIST'!B218&\" \"&'FULL TRUSTEE LIST'!C218)","v":"Smith Robert L."}]
[{"$f":"IF('FULL TRUSTEE LIST'!B219=\"\",\"\",'FULL TRUSTEE LIST'!B219&\" \"&'FULL TRUSTEE LIST'!C219)","v":"Smith, Jr. William Reece"}]
[{"$f":"IF('FULL TRUSTEE LIST'!B220=\"\",\"\",'FULL TRUSTEE LIST'!B220&\" \"&'FULL TRUSTEE LIST'!C220)","v":"Solomon Edward B."}]
[{"$f":"IF('FULL TRUSTEE LIST'!B221=\"\",\"\",'FULL TRUSTEE LIST'!B221&\" \"&'FULL TRUSTEE LIST'!C221)","v":"Sparkman T.J."}]
[{"$f":"IF('FULL TRUSTEE LIST'!B222=\"\",\"\",'FULL TRUSTEE LIST'!B222&\" \"&'FULL TRUSTEE LIST'!C222)","v":"Speller H.C."}]
[{"$f":"IF('FULL TRUSTEE LIST'!B223=\"\",\"\",'FULL TRUSTEE LIST'!B223&\" \"&'FULL TRUSTEE LIST'!C223)","v":"Staed Thomas W."}]
[{"$f":"IF('FULL TRUSTEE LIST'!B224=\"\",\"\",'FULL TRUSTEE LIST'!B224&\" \"&'FULL TRUSTEE LIST'!C224)","v":"Stenstrom O. Douglas"}]
[{"$f":"IF('FULL TRUSTEE LIST'!B225=\"\",\"\",'FULL TRUSTEE LIST'!B225&\" \"&'FULL TRUSTEE LIST'!C225)","v":"Stetson G. Henry"}]
[{"$f":"IF('FULL TRUSTEE LIST'!B226=\"\",\"\",'FULL TRUSTEE LIST'!B226&\" \"&'FULL TRUSTEE LIST'!C226)","v":"Stetson John B."}]
[{"$f":"IF('FULL TRUSTEE LIST'!B227=\"\",\"\",'FULL TRUSTEE LIST'!B227&\" \"&'FULL TRUSTEE LIST'!C227)","v":"Stetson John B., Jr."}]
[{"$f":"IF('FULL TRUSTEE LIST'!B228=\"\",\"\",'FULL TRUSTEE LIST'!B228&\" \"&'FULL TRUSTEE LIST'!C228)","v":"Stetson John B., III"}]
[{"$f":"IF('FULL TRUSTEE LIST'!B229=\"\",\"\",'FULL TRUSTEE LIST'!B229&\" \"&'FULL TRUSTEE LIST'!C229)","v":"Stevens Elmer T."}]
[{"$f":"IF('FULL TRUSTEE LIST'!B230=\"\",\"\",'FULL TRUSTEE LIST'!B230&\" \"&'FULL TRUSTEE LIST'!C230)","v":"Stevens H.B."}]
[{"$f":"IF('FULL TRUSTEE LIST'!B231=\"\",\"\",'FULL TRUSTEE LIST'!B231&\" \"&'FULL TRUSTEE LIST'!C231)","v":"Stewart William H."}]
[{"$f":"IF('FULL TRUSTEE LIST'!B232=\"\",\"\",'FULL TRUSTEE LIST'!B232&\" \"&'FULL TRUSTEE LIST'!C232)","v":"Strickland David M."}]
[{"$f":"IF('FULL TRUSTEE LIST'!B233=\"\",\"\",'FULL TRUSTEE LIST'!B233&\" \"&'FULL TRUSTEE LIST'!C233)","v":"Stringer Sr. Thomas E."}]
[{"$f":"IF('FULL TRUSTEE LIST'!B234=\"\",\"\",'FULL TRUSTEE LIST'!B234&\" \"&'FULL TRUSTEE LIST'!C234)","v":"Sullivan Arthur P."}]
[{"$f":"IF('FULL TRUSTEE LIST'!B235=\"\",\"\",'FULL TRUSTEE LIST'!B235&\" \"&'FULL TRUSTEE LIST'!C235)","v":"Taylor Mrs. G. Dekle"}]
[{"$f":"IF('FULL TRUSTEE LIST'!B236=\"\",\"\",'FULL TRUSTEE LIST'!B236&\" \"&'FULL TRUSTEE LIST'!C236)","v":"Taylor Mrs. Marjorie S."}]
[{"$f":"IF('FULL TRUSTEE LIST'!B237=\"\",\"\",'FULL TRUSTEE LIST'!B237&\" \"&'FULL TRUSTEE LIST'!C237)","v":"Turner James S."}]
[{"$f":"IF('FULL TRUSTEE LIST'!B238=\"\",\"\",'FULL TRUSTEE LIST'!B238&\" \"&'FULL TRUSTEE LIST'!C238)","v":"Underhill William Amory"}]
[{"$f":"IF('FULL TRUSTEE LIST'!B239=\"\",\"\",'FULL TRUSTEE LIST'!B239&\" \"&'FULL TRUSTEE LIST'!C239)","v":"Waits J. C."}]
[{"$f":"IF('FULL TRUSTEE LIST'!B240=\"\",\"\",'FULL TRUSTEE LIST'!B240&\" \"&'FULL TRUSTEE LIST'!C240)","v":"Walda John"}]
[{"$f":"IF('FULL TRUSTEE LIST'!B241=\"\",\"\",'FULL TRUSTEE LIST'!B241&\" \"&'FULL TRUSTEE LIST'!C241)","v":"Walker Whitfield"}]
[{"$f":"IF('FULL TRUSTEE LIST'!B242=\"\",\"\",'FULL TRUSTEE LIST'!B242&\" \"&'FULL TRUSTEE LIST'!C242)","v":"Wands Thomas F."}]
[{"$f":"IF('FULL TRUSTEE LIST'!B243=\"\",\"\",'FULL TRUSTEE LIST'!B243&\" \"&'FULL TRUSTEE LIST'!C243)","v":"Ward David"}]
[{"$f":"IF('FULL TRUSTEE LIST'!B244=\"\",\"\",'FULL TRUSTEE LIST'!B244&\" \"&'FULL TRUSTEE LIST'!C244)","v":"Weiss Al"}]
[{"$f":"IF('FULL TRUSTEE LIST'!B245=\"\",\"\",'FULL TRUSTEE LIST'!B245&\" \"&'FULL TRUSTEE LIST'!C245)","v":"West Evelyn T."}]
[{"$f":"IF('FULL TRUSTEE LIST'!B246=\"\",\"\",'FULL TRUSTEE LIST'!B246&\" \"&'FULL TRUSTEE LIST'!C246)","v":"West Hugh"}]
[{"$f":"IF('FULL TRUSTEE LIST'!B247=\"\",\"\",'FULL TRUSTEE LIST'!B247&\" \"&'FULL TRUSTEE LIST'!C247)","v":"Weston John W."}]
[{"$f":"IF('FULL TRUSTEE LIST'!B248=\"\",\"\",'FULL TRUSTEE LIST'!B248&\" \"&'FULL TRUSTEE LIST'!C248)","v":"Wheeler, Jr. B. Frank"}]
[{"$f":"IF('FULL TRUSTEE LIST'!B249=\"\",\"\",'FULL TRUSTEE LIST'!B249&\" \"&'FULL TRUSTEE LIST'!C249)","v":"Whidden Gene A."}]
[{"$f":"IF('FULL TRUSTEE LIST'!B250=\"\",\"\",'FULL TRUSTEE LIST'!B250&\" \"&'FULL TRUSTEE LIST'!C250)","v":"White J.L."}]
[{"$f":"IF('FULL TRUSTEE LIST'!B251=\"\",\"\",'FULL TRUSTEE LIST'!B251&\" \"&'FULL TRUSTEE LIST'!C251)","v":"White O. L."}]
[{"$f":"IF('FULL TRUSTEE LIST'!B252=\"\",\"\",'FULL TRUSTEE LIST'!B252&\" \"&'FULL TRUSTEE LIST'!C252)","v":"Wilcox Mrs. Amy S."}]
[{"$f":"IF('FULL TRUSTEE LIST'!B253=\"\",\"\",'FULL TRUSTEE LIST'!B253&\" \"&'FULL TRUSTEE LIST'!C253)","v":"Willard Conrad"}]
[{"$f":"IF('FULL TRUSTEE LIST'!B254=\"\",\"\",'FULL TRUSTEE LIST'!B254&\" \"&'FULL TRUSTEE LIST'!C254)","v":"Williams W.J."}]
[{"$f":"IF('FULL TRUSTEE LIST'!B255=\"\",\"\",'FULL TRUSTEE LIST'!B255&\" \"&'FULL TRUSTEE LIST'!C255)","v":"Wilson John M."}]
[{"$f":"IF('FULL TRUSTEE LIST'!B256=\"\",\"\",'FULL TRUSTEE LIST'!B256&\" \"&'FULL TRUSTEE LIST'!C256)","v":"Wilson Lloyd T."}]
[{"$f":"IF('FULL TRUSTEE LIST'!B257=\"\",\"\",'FULL TRUSTEE LIST'!B257&\" \"&'FULL TRUSTEE LIST'!C257)","v":"Wilson Patricia Maxcy"}]
[{"$f":"IF('FULL TRUSTEE LIST'!B258=\"\",\"\",'FULL TRUSTEE LIST'!B258&\" \"&'FULL TRUSTEE LIST'!C258)","v":"Wilson Sam"}]
[{"$f":"IF('FULL TRUSTEE LIST'!B259=\"\",\"\",'FULL TRUSTEE LIST'!B259&\" \"&'FULL TRUSTEE LIST'!C259)","v":"Wood S.A."}]
[{"$f":"IF('FULL TRUSTEE LIST'!B260=\"\",\"\",'FULL TRUSTEE LIST'!B260&\" \"&'FULL TRUSTEE LIST'!C260)","v":"Wolfe Charles A."}]
[{"$f":"IF('FULL TRUSTEE LIST'!B261=\"\",\"\",'FULL TRUSTEE LIST'!B261&\" \"&'FULL TRUSTEE LIST'!C261)","v":"Wright S.B."}]
[{"$f":"IF('FULL TRUSTEE LIST'!B262=\"\",\"\",'FULL TRUSTEE LIST'!B262&\" \"&'FULL TRUSTEE LIST'!C262)","v":"Ziesenheim Ken"}]
[{"$f":"IF('FULL TRUSTEE LIST'!#REF!=\"\",\"\",'FULL TRUSTEE LIST'!#REF!&\" \"&'FULL TRUSTEE LIST'!#REF!)","v":{"$error":"#REF!"}}]
[{"$f":"IF('FULL TRUSTEE LIST'!#REF!=\"\",\"\",'FULL TRUSTEE LIST'!#REF!&\" \"&'FULL TRUSTEE LIST'!#REF!)","v":{"$error":"#REF!"}}]
[{"$f":"IF('FULL TRUSTEE LIST'!#REF!=\"\",\"\",'FULL TRUSTEE LIST'!#REF!&\" \"&'FULL TRUSTEE LIST'!#REF!)","v":{"$error":"#REF!"}}]
[{"$f":"IF('FULL TRUSTEE LIST'!#REF!=\"\",\"\",'FULL TRUSTEE LIST'!#REF!&\" \"&'FULL TRUSTEE LIST'!#REF!)","v":{"$error":"#REF!"}}]
[{"$f":"IF('FULL TRUSTEE LIST'!#REF!=\"\",\"\",'FULL TRUSTEE LIST'!#REF!&\" \"&'FULL TRUSTEE LIST'!#REF!)","v":{"$error":"#REF!"}}]
[{"$f":"IF('FULL TRUSTEE LIST'!#REF!=\"\",\"\",'FULL TRUSTEE LIST'!#REF!&\" \"&'FULL TRUSTEE LIST'!#REF!)","v":{"$error":"#REF!"}}]
[{"$f":"IF('FULL TRUSTEE LIST'!#REF!=\"\",\"\",'FULL TRUSTEE LIST'!#REF!&\" \"&'FULL TRUSTEE LIST'!#REF!)","v":{"$error":"#REF!"}}]
[{"$f":"IF('FULL TRUSTEE LIST'!#REF!=\"\",\"\",'FULL TRUSTEE LIST'!#REF!&\" \"&'FULL TRUSTEE LIST'!#REF!)","v":{"$error":"#REF!"}}]
[{"$f":"IF('FULL TRUSTEE LIST'!#REF!=\"\",\"\",'FULL TRUSTEE LIST'!#REF!&\" \"&'FULL TRUSTEE LIST'!#REF!)","v":{"$error":"#REF!"}}]
[{"$f":"IF('FULL TRUSTEE LIST'!#REF!=\"\",\"\",'FULL TRUSTEE LIST'!#REF!&\" \"&'FULL TRUSTEE LIST'!#REF!)","v":{"$error":"#REF!"}}]
[{"$f":"IF('FULL TRUSTEE LIST'!#REF!=\"\",\"\",'FULL TRUSTEE LIST'!#REF!&\" \"&'FULL TRUSTEE LIST'!#REF!)","v":{"$error":"#REF!"}}]
[{"$f":"IF('FULL TRUSTEE LIST'!#REF!=\"\",\"\",'FULL TRUSTEE LIST'!#REF!&\" \"&'FULL TRUSTEE LIST'!#REF!)","v":{"$error":"#REF!"}}]
[{"$f":"IF('FULL TRUSTEE LIST'!#REF!=\"\",\"\",'FULL TRUSTEE LIST'!#REF!&\" \"&'FULL TRUSTEE LIST'!#REF!)","v":{"$error":"#REF!"}}]
[{"$f":"IF('FULL TRUSTEE LIST'!#REF!=\"\",\"\",'FULL TRUSTEE LIST'!#REF!&\" \"&'FULL TRUSTEE LIST'!#REF!)","v":{"$error":"#REF!"}}]
[{"$f":"IF('FULL TRUSTEE LIST'!#REF!=\"\",\"\",'FULL TRUSTEE LIST'!#REF!&\" \"&'FULL TRUSTEE LIST'!#REF!)","v":{"$error":"#REF!"}}]
[{"$f":"IF('FULL TRUSTEE LIST'!#REF!=\"\",\"\",'FULL TRUSTEE LIST'!#REF!&\" \"&'FULL TRUSTEE LIST'!#REF!)","v":{"$error":"#REF!"}}]
[{"$f":"IF('FULL TRUSTEE LIST'!#REF!=\"\",\"\",'FULL TRUSTEE LIST'!#REF!&\" \"&'FULL TRUSTEE LIST'!#REF!)","v":{"$error":"#REF!"}}]
[{"$f":"IF('FULL TRUSTEE LIST'!#REF!=\"\",\"\",'FULL TRUSTEE LIST'!#REF!&\" \"&'FULL TRUSTEE LIST'!#REF!)","v":{"$error":"#REF!"}}]
[{"$f":"IF('FULL TRUSTEE LIST'!#REF!=\"\",\"\",'FULL TRUSTEE LIST'!#REF!&\" \"&'FULL TRUSTEE LIST'!#REF!)","v":{"$error":"#REF!"}}]
[{"$f":"IF('FULL TRUSTEE LIST'!#REF!=\"\",\"\",'FULL TRUSTEE LIST'!#REF!&\" \"&'FULL TRUSTEE LIST'!#REF!)","v":{"$error":"#REF!"}}]
[{"$f":"IF('FULL TRUSTEE LIST'!#REF!=\"\",\"\",'FULL TRUSTEE LIST'!#REF!&\" \"&'FULL TRUSTEE LIST'!#REF!)","v":{"$error":"#REF!"}}]
[{"$f":"IF('FULL TRUSTEE LIST'!#REF!=\"\",\"\",'FULL TRUSTEE LIST'!#REF!&\" \"&'FULL TRUSTEE LIST'!#REF!)","v":{"$error":"#REF!"}}]
[{"$f":"IF('FULL TRUSTEE LIST'!#REF!=\"\",\"\",'FULL TRUSTEE LIST'!#REF!&\" \"&'FULL TRUSTEE LIST'!#REF!)","v":{"$error":"#REF!"}}]
[{"$f":"IF('FULL TRUSTEE LIST'!#REF!=\"\",\"\",'FULL TRUSTEE LIST'!#REF!&\" \"&'FULL TRUSTEE LIST'!#REF!)","v":{"$error":"#REF!"}}]
[{"$f":"IF('FULL TRUSTEE LIST'!#REF!=\"\",\"\",'FULL TRUSTEE LIST'!#REF!&\" \"&'FULL TRUSTEE LIST'!#REF!)","v":{"$error":"#REF!"}}]
[{"$f":"IF('FULL TRUSTEE LIST'!#REF!=\"\",\"\",'FULL TRUSTEE LIST'!#REF!&\" \"&'FULL TRUSTEE LIST'!#REF!)","v":{"$error":"#REF!"}}]
[{"$f":"IF('FULL TRUSTEE LIST'!#REF!=\"\",\"\",'FULL TRUSTEE LIST'!#REF!&\" \"&'FULL TRUSTEE LIST'!#REF!)","v":{"$error":"#REF!"}}]
[{"$f":"IF('FULL TRUSTEE LIST'!#REF!=\"\",\"\",'FULL TRUSTEE LIST'!#REF!&\" \"&'FULL TRUSTEE LIST'!#REF!)","v":{"$error":"#REF!"}}]
[{"$f":"IF('FULL TRUSTEE LIST'!#REF!=\"\",\"\",'FULL TRUSTEE LIST'!#REF!&\" \"&'FULL TRUSTEE LIST'!#REF!)","v":{"$error":"#REF!"}}]
[{"$f":"IF('FULL TRUSTEE LIST'!#REF!=\"\",\"\",'FULL TRUSTEE LIST'!#REF!&\" \"&'FULL TRUSTEE LIST'!#REF!)","v":{"$error":"#REF!"}}]
[{"$f":"IF('FULL TRUSTEE LIST'!#REF!=\"\",\"\",'FULL TRUSTEE LIST'!#REF!&\" \"&'FULL TRUSTEE LIST'!#REF!)","v":{"$error":"#REF!"}}]
[{"$f":"IF('FULL TRUSTEE LIST'!#REF!=\"\",\"\",'FULL TRUSTEE LIST'!#REF!&\" \"&'FULL TRUSTEE LIST'!#REF!)","v":{"$error":"#REF!"}}]
[{"$f":"IF('FULL TRUSTEE LIST'!#REF!=\"\",\"\",'FULL TRUSTEE LIST'!#REF!&\" \"&'FULL TRUSTEE LIST'!#REF!)","v":{"$error":"#REF!"}}]
[{"$f":"IF('FULL TRUSTEE LIST'!#REF!=\"\",\"\",'FULL TRUSTEE LIST'!#REF!&\" \"&'FULL TRUSTEE LIST'!#REF!)","v":{"$error":"#REF!"}}]
[{"$f":"IF('FULL TRUSTEE LIST'!#REF!=\"\",\"\",'FULL TRUSTEE LIST'!#REF!&\" \"&'FULL TRUSTEE LIST'!#REF!)","v":{"$error":"#REF!"}}]
[{"$f":"IF('FULL TRUSTEE LIST'!#REF!=\"\",\"\",'FULL TRUSTEE LIST'!#REF!&\" \"&'FULL TRUSTEE LIST'!#REF!)","v":{"$error":"#REF!"}}]
[{"$f":"IF('FULL TRUSTEE LIST'!#REF!=\"\",\"\",'FULL TRUSTEE LIST'!#REF!&\" \"&'FULL TRUSTEE LIST'!#REF!)","v":{"$error":"#REF!"}}]
[{"$f":"IF('FULL TRUSTEE LIST'!#REF!=\"\",\"\",'FULL TRUSTEE LIST'!#REF!&\" \"&'FULL TRUSTEE LIST'!#REF!)","v":{"$error":"#REF!"}}]
[{"$f":"IF('FULL TRUSTEE LIST'!#REF!=\"\",\"\",'FULL TRUSTEE LIST'!#REF!&\" \"&'FULL TRUSTEE LIST'!#REF!)","v":{"$error":"#REF!"}}]
[{"$f":"IF('FULL TRUSTEE LIST'!#REF!=\"\",\"\",'FULL TRUSTEE LIST'!#REF!&\" \"&'FULL TRUSTEE LIST'!#REF!)","v":{"$error":"#REF!"}}]
[{"$f":"IF('FULL TRUSTEE LIST'!#REF!=\"\",\"\",'FULL TRUSTEE LIST'!#REF!&\" \"&'FULL TRUSTEE LIST'!#REF!)","v":{"$error":"#REF!"}}]
[{"$f":"IF('FULL TRUSTEE LIST'!#REF!=\"\",\"\",'FULL TRUSTEE LIST'!#REF!&\" \"&'FULL TRUSTEE LIST'!#REF!)","v":{"$error":"#REF!"}}]
[{"$f":"IF('FULL TRUSTEE LIST'!#REF!=\"\",\"\",'FULL TRUSTEE LIST'!#REF!&\" \"&'FULL TRUSTEE LIST'!#REF!)","v":{"$error":"#REF!"}}]
[{"$f":"IF('FULL TRUSTEE LIST'!#REF!=\"\",\"\",'FULL TRUSTEE LIST'!#REF!&\" \"&'FULL TRUSTEE LIST'!#REF!)","v":{"$error":"#REF!"}}]
[{"$f":"IF('FULL TRUSTEE LIST'!#REF!=\"\",\"\",'FULL TRUSTEE LIST'!#REF!&\" \"&'FULL TRUSTEE LIST'!#REF!)","v":{"$error":"#REF!"}}]
[{"$f":"IF('FULL TRUSTEE LIST'!#REF!=\"\",\"\",'FULL TRUSTEE LIST'!#REF!&\" \"&'FULL TRUSTEE LIST'!#REF!)","v":{"$error":"#REF!"}}]
[{"$f":"IF('FULL TRUSTEE LIST'!#REF!=\"\",\"\",'FULL TRUSTEE LIST'!#REF!&\" \"&'FULL TRUSTEE LIST'!#REF!)","v":{"$error":"#REF!"}}]
[{"$f":"IF('FULL TRUSTEE LIST'!#REF!=\"\",\"\",'FULL TRUSTEE LIST'!#REF!&\" \"&'FULL TRUSTEE LIST'!#REF!)","v":{"$error":"#REF!"}}]
[{"$f":"IF('FULL TRUSTEE LIST'!#REF!=\"\",\"\",'FULL TRUSTEE LIST'!#REF!&\" \"&'FULL TRUSTEE LIST'!#REF!)","v":{"$error":"#REF!"}}]
[{"$f":"IF('FULL TRUSTEE LIST'!#REF!=\"\",\"\",'FULL TRUSTEE LIST'!#REF!&\" \"&'FULL TRUSTEE LIST'!#REF!)","v":{"$error":"#REF!"}}]
[{"$f":"IF('FULL TRUSTEE LIST'!#REF!=\"\",\"\",'FULL TRUSTEE LIST'!#REF!&\" \"&'FULL TRUSTEE LIST'!#REF!)","v":{"$error":"#REF!"}}]
[{"$f":"IF('FULL TRUSTEE LIST'!#REF!=\"\",\"\",'FULL TRUSTEE LIST'!#REF!&\" \"&'FULL TRUSTEE LIST'!#REF!)","v":{"$error":"#REF!"}}]
[{"$f":"IF('FULL TRUSTEE LIST'!#REF!=\"\",\"\",'FULL TRUSTEE LIST'!#REF!&\" \"&'FULL TRUSTEE LIST'!#REF!)","v":{"$error":"#REF!"}}]
[{"$f":"IF('FULL TRUSTEE LIST'!#REF!=\"\",\"\",'FULL TRUSTEE LIST'!#REF!&\" \"&'FULL TRUSTEE LIST'!#REF!)","v":{"$error":"#REF!"}}]
[{"$f":"IF('FULL TRUSTEE LIST'!#REF!=\"\",\"\",'FULL TRUSTEE LIST'!#REF!&\" \"&'FULL TRUSTEE LIST'!#REF!)","v":{"$error":"#REF!"}}]
[{"$f":"IF('FULL TRUSTEE LIST'!#REF!=\"\",\"\",'FULL TRUSTEE LIST'!#REF!&\" \"&'FULL TRUSTEE LIST'!#REF!)","v":{"$error":"#REF!"}}]
[{"$f":"IF('FULL TRUSTEE LIST'!#REF!=\"\",\"\",'FULL TRUSTEE LIST'!#REF!&\" \"&'FULL TRUSTEE LIST'!#REF!)","v":{"$error":"#REF!"}}]
[{"$f":"IF('FULL TRUSTEE LIST'!#REF!=\"\",\"\",'FULL TRUSTEE LIST'!#REF!&\" \"&'FULL TRUSTEE LIST'!#REF!)","v":{"$error":"#REF!"}}]
[{"$f":"IF('FULL TRUSTEE LIST'!#REF!=\"\",\"\",'FULL TRUSTEE LIST'!#REF!&\" \"&'FULL TRUSTEE LIST'!#REF!)","v":{"$error":"#REF!"}}]
[{"$f":"IF('FULL TRUSTEE LIST'!#REF!=\"\",\"\",'FULL TRUSTEE LIST'!#REF!&\" \"&'FULL TRUSTEE LIST'!#REF!)","v":{"$error":"#REF!"}}]
[{"$f":"IF('FULL TRUSTEE LIST'!#REF!=\"\",\"\",'FULL TRUSTEE LIST'!#REF!&\" \"&'FULL TRUSTEE LIST'!#REF!)","v":{"$error":"#REF!"}}]
[{"$f":"IF('FULL TRUSTEE LIST'!#REF!=\"\",\"\",'FULL TRUSTEE LIST'!#REF!&\" \"&'FULL TRUSTEE LIST'!#REF!)","v":{"$error":"#REF!"}}]
[{"$f":"IF('FULL TRUSTEE LIST'!#REF!=\"\",\"\",'FULL TRUSTEE LIST'!#REF!&\" \"&'FULL TRUSTEE LIST'!#REF!)","v":{"$error":"#REF!"}}]
[{"$f":"IF('FULL TRUSTEE LIST'!#REF!=\"\",\"\",'FULL TRUSTEE LIST'!#REF!&\" \"&'FULL TRUSTEE LIST'!#REF!)","v":{"$error":"#REF!"}}]
[{"$f":"IF('FULL TRUSTEE LIST'!#REF!=\"\",\"\",'FULL TRUSTEE LIST'!#REF!&\" \"&'FULL TRUSTEE LIST'!#REF!)","v":{"$error":"#REF!"}}]
[{"$f":"IF('FULL TRUSTEE LIST'!#REF!=\"\",\"\",'FULL TRUSTEE LIST'!#REF!&\" \"&'FULL TRUSTEE LIST'!#REF!)","v":{"$error":"#REF!"}}]
[{"$f":"IF('FULL TRUSTEE LIST'!#REF!=\"\",\"\",'FULL TRUSTEE LIST'!#REF!&\" \"&'FULL TRUSTEE LIST'!#REF!)","v":{"$error":"#REF!"}}]
[{"$f":"IF('FULL TRUSTEE LIST'!#REF!=\"\",\"\",'FULL TRUSTEE LIST'!#REF!&\" \"&'FULL TRUSTEE LIST'!#REF!)","v":{"$error":"#REF!"}}]
[{"$f":"IF('FULL TRUSTEE LIST'!#REF!=\"\",\"\",'FULL TRUSTEE LIST'!#REF!&\" \"&'FULL TRUSTEE LIST'!#REF!)","v":{"$error":"#REF!"}}]
[{"$f":"IF('FULL TRUSTEE LIST'!#REF!=\"\",\"\",'FULL TRUSTEE LIST'!#REF!&\" \"&'FULL TRUSTEE LIST'!#REF!)","v":{"$error":"#REF!"}}]
[{"$f":"IF('FULL TRUSTEE LIST'!#REF!=\"\",\"\",'FULL TRUSTEE LIST'!#REF!&\" \"&'FULL TRUSTEE LIST'!#REF!)","v":{"$error":"#REF!"}}]
[{"$f":"IF('FULL TRUSTEE LIST'!#REF!=\"\",\"\",'FULL TRUSTEE LIST'!#REF!&\" \"&'FULL TRUSTEE LIST'!#REF!)","v":{"$error":"#REF!"}}]
[{"$f":"IF('FULL TRUSTEE LIST'!#REF!=\"\",\"\",'FULL TRUSTEE LIST'!#REF!&\" \"&'FULL TRUSTEE LIST'!#REF!)","v":{"$error":"#REF!"}}]
[{"$f":"IF('FULL TRUSTEE LIST'!#REF!=\"\",\"\",'FULL TRUSTEE LIST'!#REF!&\" \"&'FULL TRUSTEE LIST'!#REF!)","v":{"$error":"#REF!"}}]
[{"$f":"IF('FULL TRUSTEE LIST'!#REF!=\"\",\"\",'FULL TRUSTEE LIST'!#REF!&\" \"&'FULL TRUSTEE LIST'!#REF!)","v":{"$error":"#REF!"}}]
[{"$f":"IF('FULL TRUSTEE LIST'!#REF!=\"\",\"\",'FULL TRUSTEE LIST'!#REF!&\" \"&'FULL TRUSTEE LIST'!#REF!)","v":{"$error":"#REF!"}}]
[{"$f":"IF('FULL TRUSTEE LIST'!#REF!=\"\",\"\",'FULL TRUSTEE LIST'!#REF!&\" \"&'FULL TRUSTEE LIST'!#REF!)","v":{"$error":"#REF!"}}]
[{"$f":"IF('FULL TRUSTEE LIST'!#REF!=\"\",\"\",'FULL TRUSTEE LIST'!#REF!&\" \"&'FULL TRUSTEE LIST'!#REF!)","v":{"$error":"#REF!"}}]
[{"$f":"IF('FULL TRUSTEE LIST'!#REF!=\"\",\"\",'FULL TRUSTEE LIST'!#REF!&\" \"&'FULL TRUSTEE LIST'!#REF!)","v":{"$error":"#REF!"}}]
[{"$f":"IF('FULL TRUSTEE LIST'!#REF!=\"\",\"\",'FULL TRUSTEE LIST'!#REF!&\" \"&'FULL TRUSTEE LIST'!#REF!)","v":{"$error":"#REF!"}}]
[{"$f":"IF('FULL TRUSTEE LIST'!#REF!=\"\",\"\",'FULL TRUSTEE LIST'!#REF!&\" \"&'FULL TRUSTEE LIST'!#REF!)","v":{"$error":"#REF!"}}]
[{"$f":"IF('FULL TRUSTEE LIST'!#REF!=\"\",\"\",'FULL TRUSTEE LIST'!#REF!&\" \"&'FULL TRUSTEE LIST'!#REF!)","v":{"$error":"#REF!"}}]
[{"$f":"IF('FULL TRUSTEE LIST'!#REF!=\"\",\"\",'FULL TRUSTEE LIST'!#REF!&\" \"&'FULL TRUSTEE LIST'!#REF!)","v":{"$error":"#REF!"}}]
[{"$f":"IF('FULL TRUSTEE LIST'!#REF!=\"\",\"\",'FULL TRUSTEE LIST'!#REF!&\" \"&'FULL TRUSTEE LIST'!#REF!)","v":{"$error":"#REF!"}}]
[{"$f":"IF('FULL TRUSTEE LIST'!#REF!=\"\",\"\",'FULL TRUSTEE LIST'!#REF!&\" \"&'FULL TRUSTEE LIST'!#REF!)","v":{"$error":"#REF!"}}]
[{"$f":"IF('FULL TRUSTEE LIST'!#REF!=\"\",\"\",'FULL TRUSTEE LIST'!#REF!&\" \"&'FULL TRUSTEE LIST'!#REF!)","v":{"$error":"#REF!"}}]
[{"$f":"IF('FULL TRUSTEE LIST'!#REF!=\"\",\"\",'FULL TRUSTEE LIST'!#REF!&\" \"&'FULL TRUSTEE LIST'!#REF!)","v":{"$error":"#REF!"}}]
[{"$f":"IF('FULL TRUSTEE LIST'!#REF!=\"\",\"\",'FULL TRUSTEE LIST'!#REF!&\" \"&'FULL TRUSTEE LIST'!#REF!)","v":{"$error":"#REF!"}}]
[{"$f":"IF('FULL TRUSTEE LIST'!#REF!=\"\",\"\",'FULL TRUSTEE LIST'!#REF!&\" \"&'FULL TRUSTEE LIST'!#REF!)","v":{"$error":"#REF!"}}]
[{"$f":"IF('FULL TRUSTEE LIST'!#REF!=\"\",\"\",'FULL TRUSTEE LIST'!#REF!&\" \"&'FULL TRUSTEE LIST'!#REF!)","v":{"$error":"#REF!"}}]
[{"$f":"IF('FULL TRUSTEE LIST'!#REF!=\"\",\"\",'FULL TRUSTEE LIST'!#REF!&\" \"&'FULL TRUSTEE LIST'!#REF!)","v":{"$error":"#REF!"}}]
[{"$f":"IF('FULL TRUSTEE LIST'!#REF!=\"\",\"\",'FULL TRUSTEE LIST'!#REF!&\" \"&'FULL TRUSTEE LIST'!#REF!)","v":{"$error":"#REF!"}}]
[{"$f":"IF('FULL TRUSTEE LIST'!#REF!=\"\",\"\",'FULL TRUSTEE LIST'!#REF!&\" \"&'FULL TRUSTEE LIST'!#REF!)","v":{"$error":"#REF!"}}]
[{"$f":"IF('FULL TRUSTEE LIST'!#REF!=\"\",\"\",'FULL TRUSTEE LIST'!#REF!&\" \"&'FULL TRUSTEE LIST'!#REF!)","v":{"$error":"#REF!"}}]
[{"$f":"IF('FULL TRUSTEE LIST'!#REF!=\"\",\"\",'FULL TRUSTEE LIST'!#REF!&\" \"&'FULL TRUSTEE LIST'!#REF!)","v":{"$error":"#REF!"}}]
[{"$f":"IF('FULL TRUSTEE LIST'!#REF!=\"\",\"\",'FULL TRUSTEE LIST'!#REF!&\" \"&'FULL TRUSTEE LIST'!#REF!)","v":{"$error":"#REF!"}}]
[{"$f":"IF('FULL TRUSTEE LIST'!#REF!=\"\",\"\",'FULL TRUSTEE LIST'!#REF!&\" \"&'FULL TRUSTEE LIST'!#REF!)","v":{"$error":"#REF!"}}]
[{"$f":"IF('FULL TRUSTEE LIST'!#REF!=\"\",\"\",'FULL TRUSTEE LIST'!#REF!&\" \"&'FULL TRUSTEE LIST'!#REF!)","v":{"$error":"#REF!"}}]
[{"$f":"IF('FULL TRUSTEE LIST'!#REF!=\"\",\"\",'FULL TRUSTEE LIST'!#REF!&\" \"&'FULL TRUSTEE LIST'!#REF!)","v":{"$error":"#REF!"}}]
[{"$f":"IF('FULL TRUSTEE LIST'!#REF!=\"\",\"\",'FULL TRUSTEE LIST'!#REF!&\" \"&'FULL TRUSTEE LIST'!#REF!)","v":{"$error":"#REF!"}}]
[{"$f":"IF('FULL TRUSTEE LIST'!#REF!=\"\",\"\",'FULL TRUSTEE LIST'!#REF!&\" \"&'FULL TRUSTEE LIST'!#REF!)","v":{"$error":"#REF!"}}]
[{"$f":"IF('FULL TRUSTEE LIST'!#REF!=\"\",\"\",'FULL TRUSTEE LIST'!#REF!&\" \"&'FULL TRUSTEE LIST'!#REF!)","v":{"$error":"#REF!"}}]
[{"$f":"IF('FULL TRUSTEE LIST'!#REF!=\"\",\"\",'FULL TRUSTEE LIST'!#REF!&\" \"&'FULL TRUSTEE LIST'!#REF!)","v":{"$error":"#REF!"}}]
[{"$f":"IF('FULL TRUSTEE LIST'!#REF!=\"\",\"\",'FULL TRUSTEE LIST'!#REF!&\" \"&'FULL TRUSTEE LIST'!#REF!)","v":{"$error":"#REF!"}}]
[{"$f":"IF('FULL TRUSTEE LIST'!#REF!=\"\",\"\",'FULL TRUSTEE LIST'!#REF!&\" \"&'FULL TRUSTEE LIST'!#REF!)","v":{"$error":"#REF!"}}]
[{"$f":"IF('FULL TRUSTEE LIST'!#REF!=\"\",\"\",'FULL TRUSTEE LIST'!#REF!&\" \"&'FULL TRUSTEE LIST'!#REF!)","v":{"$error":"#REF!"}}]
[{"$f":"IF('FULL TRUSTEE LIST'!#REF!=\"\",\"\",'FULL TRUSTEE LIST'!#REF!&\" \"&'FULL TRUSTEE LIST'!#REF!)","v":{"$error":"#REF!"}}]
[{"$f":"IF('FULL TRUSTEE LIST'!#REF!=\"\",\"\",'FULL TRUSTEE LIST'!#REF!&\" \"&'FULL TRUSTEE LIST'!#REF!)","v":{"$error":"#REF!"}}]
[{"$f":"IF('FULL TRUSTEE LIST'!#REF!=\"\",\"\",'FULL TRUSTEE LIST'!#REF!&\" \"&'FULL TRUSTEE LIST'!#REF!)","v":{"$error":"#REF!"}}]
[{"$f":"IF('FULL TRUSTEE LIST'!#REF!=\"\",\"\",'FULL TRUSTEE LIST'!#REF!&\" \"&'FULL TRUSTEE LIST'!#REF!)","v":{"$error":"#REF!"}}]
[{"$f":"IF('FULL TRUSTEE LIST'!#REF!=\"\",\"\",'FULL TRUSTEE LIST'!#REF!&\" \"&'FULL TRUSTEE LIST'!#REF!)","v":{"$error":"#REF!"}}]
[{"$f":"IF('FULL TRUSTEE LIST'!#REF!=\"\",\"\",'FULL TRUSTEE LIST'!#REF!&\" \"&'FULL TRUSTEE LIST'!#REF!)","v":{"$error":"#REF!"}}]
[{"$f":"IF('FULL TRUSTEE LIST'!#REF!=\"\",\"\",'FULL TRUSTEE LIST'!#REF!&\" \"&'FULL TRUSTEE LIST'!#REF!)","v":{"$error":"#REF!"}}]
[{"$f":"IF('FULL TRUSTEE LIST'!#REF!=\"\",\"\",'FULL TRUSTEE LIST'!#REF!&\" \"&'FULL TRUSTEE LIST'!#REF!)","v":{"$error":"#REF!"}}]
[{"$f":"IF('FULL TRUSTEE LIST'!#REF!=\"\",\"\",'FULL TRUSTEE LIST'!#REF!&\" \"&'FULL TRUSTEE LIST'!#REF!)","v":{"$error":"#REF!"}}]
[{"$f":"IF('FULL TRUSTEE LIST'!#REF!=\"\",\"\",'FULL TRUSTEE LIST'!#REF!&\" \"&'FULL TRUSTEE LIST'!#REF!)","v":{"$error":"#REF!"}}]
[{"$f":"IF('FULL TRUSTEE LIST'!#REF!=\"\",\"\",'FULL TRUSTEE LIST'!#REF!&\" \"&'FULL TRUSTEE LIST'!#REF!)","v":{"$error":"#REF!"}}]
[{"$f":"IF('FULL TRUSTEE LIST'!#REF!=\"\",\"\",'FULL TRUSTEE LIST'!#REF!&\" \"&'FULL TRUSTEE LIST'!#REF!)","v":{"$error":"#REF!"}}]
[{"$f":"IF('FULL TRUSTEE LIST'!#REF!=\"\",\"\",'FULL TRUSTEE LIST'!#REF!&\" \"&'FULL TRUSTEE LIST'!#REF!)","v":{"$error":"#REF!"}}]
[{"$f":"IF('FULL TRUSTEE LIST'!#REF!=\"\",\"\",'FULL TRUSTEE LIST'!#REF!&\" \"&'FULL TRUSTEE LIST'!#REF!)","v":{"$error":"#REF!"}}]
[{"$f":"IF('FULL TRUSTEE LIST'!#REF!=\"\",\"\",'FULL TRUSTEE LIST'!#REF!&\" \"&'FULL TRUSTEE LIST'!#REF!)","v":{"$error":"#REF!"}}]
[{"$f":"IF('FULL TRUSTEE LIST'!#REF!=\"\",\"\",'FULL TRUSTEE LIST'!#REF!&\" \"&'FULL TRUSTEE LIST'!#REF!)","v":{"$error":"#REF!"}}]
[{"$f":"IF('FULL TRUSTEE LIST'!#REF!=\"\",\"\",'FULL TRUSTEE LIST'!#REF!&\" \"&'FULL TRUSTEE LIST'!#REF!)","v":{"$error":"#REF!"}}]
[{"$f":"IF('FULL TRUSTEE LIST'!#REF!=\"\",\"\",'FULL TRUSTEE LIST'!#REF!&\" \"&'FULL TRUSTEE LIST'!#REF!)","v":{"$error":"#REF!"}}]
[{"$f":"IF('FULL TRUSTEE LIST'!#REF!=\"\",\"\",'FULL TRUSTEE LIST'!#REF!&\" \"&'FULL TRUSTEE LIST'!#REF!)","v":{"$error":"#REF!"}}]
[{"$f":"IF('FULL TRUSTEE LIST'!#REF!=\"\",\"\",'FULL TRUSTEE LIST'!#REF!&\" \"&'FULL TRUSTEE LIST'!#REF!)","v":{"$error":"#REF!"}}]
[{"$f":"IF('FULL TRUSTEE LIST'!#REF!=\"\",\"\",'FULL TRUSTEE LIST'!#REF!&\" \"&'FULL TRUSTEE LIST'!#REF!)","v":{"$error":"#REF!"}}]
[{"$f":"IF('FULL TRUSTEE LIST'!#REF!=\"\",\"\",'FULL TRUSTEE LIST'!#REF!&\" \"&'FULL TRUSTEE LIST'!#REF!)","v":{"$error":"#REF!"}}]
[{"$f":"IF('FULL TRUSTEE LIST'!#REF!=\"\",\"\",'FULL TRUSTEE LIST'!#REF!&\" \"&'FULL TRUSTEE LIST'!#REF!)","v":{"$error":"#REF!"}}]
[{"$f":"IF('FULL TRUSTEE LIST'!#REF!=\"\",\"\",'FULL TRUSTEE LIST'!#REF!&\" \"&'FULL TRUSTEE LIST'!#REF!)","v":{"$error":"#REF!"}}]
[{"$f":"IF('FULL TRUSTEE LIST'!#REF!=\"\",\"\",'FULL TRUSTEE LIST'!#REF!&\" \"&'FULL TRUSTEE LIST'!#REF!)","v":{"$error":"#REF!"}}]
[{"$f":"IF('FULL TRUSTEE LIST'!#REF!=\"\",\"\",'FULL TRUSTEE LIST'!#REF!&\" \"&'FULL TRUSTEE LIST'!#REF!)","v":{"$error":"#REF!"}}]
[{"$f":"IF('FULL TRUSTEE LIST'!#REF!=\"\",\"\",'FULL TRUSTEE LIST'!#REF!&\" \"&'FULL TRUSTEE LIST'!#REF!)","v":{"$error":"#REF!"}}]
[{"$f":"IF('FULL TRUSTEE LIST'!#REF!=\"\",\"\",'FULL TRUSTEE LIST'!#REF!&\" \"&'FULL TRUSTEE LIST'!#REF!)","v":{"$error":"#REF!"}}]
[{"$f":"IF('FULL TRUSTEE LIST'!#REF!=\"\",\"\",'FULL TRUSTEE LIST'!#REF!&\" \"&'FULL TRUSTEE LIST'!#REF!)","v":{"$error":"#REF!"}}]
[{"$f":"IF('FULL TRUSTEE LIST'!#REF!=\"\",\"\",'FULL TRUSTEE LIST'!#REF!&\" \"&'FULL TRUSTEE LIST'!#REF!)","v":{"$error":"#REF!"}}]
[{"$f":"IF('FULL TRUSTEE LIST'!#REF!=\"\",\"\",'FULL TRUSTEE LIST'!#REF!&\" \"&'FULL TRUSTEE LIST'!#REF!)","v":{"$error":"#REF!"}}]
[{"$f":"IF('FULL TRUSTEE LIST'!#REF!=\"\",\"\",'FULL TRUSTEE LIST'!#REF!&\" \"&'FULL TRUSTEE LIST'!#REF!)","v":{"$error":"#REF!"}}]
[{"$f":"IF('FULL TRUSTEE LIST'!#REF!=\"\",\"\",'FULL TRUSTEE LIST'!#REF!&\" \"&'FULL TRUSTEE LIST'!#REF!)","v":{"$error":"#REF!"}}]
[{"$f":"IF('FULL TRUSTEE LIST'!B263=\"\",\"\",'FULL TRUSTEE LIST'!B263&\" \"&'FULL TRUSTEE LIST'!C263)","v":""}]
[{"$f":"IF('FULL TRUSTEE LIST'!B264=\"\",\"\",'FULL TRUSTEE LIST'!B264&\" \"&'FULL TRUSTEE LIST'!C264)","v":""}]
[{"$f":"IF('FULL TRUSTEE LIST'!B265=\"\",\"\",'FULL TRUSTEE LIST'!B265&\" \"&'FULL TRUSTEE LIST'!C265)","v":""}]
[{"$f":"IF('FULL TRUSTEE LIST'!B266=\"\",\"\",'FULL TRUSTEE LIST'!B266&\" \"&'FULL TRUSTEE LIST'!C266)","v":""}]
[{"$f":"IF('FULL TRUSTEE LIST'!B267=\"\",\"\",'FULL TRUSTEE LIST'!B267&\" \"&'FULL TRUSTEE LIST'!C267)","v":""}]
[{"$f":"IF('FULL TRUSTEE LIST'!B268=\"\",\"\",'FULL TRUSTEE LIST'!B268&\" \"&'FULL TRUSTEE LIST'!C268)","v":""}]
[{"$f":"IF('FULL TRUSTEE LIST'!B269=\"\",\"\",'FULL TRUSTEE LIST'!B269&\" \"&'FULL TRUSTEE LIST'!C269)","v":""}]
[{"$f":"IF('FULL TRUSTEE LIST'!B270=\"\",\"\",'FULL TRUSTEE LIST'!B270&\" \"&'FULL TRUSTEE LIST'!C270)","v":""}]
[{"$f":"IF('FULL TRUSTEE LIST'!B271=\"\",\"\",'FULL TRUSTEE LIST'!B271&\" \"&'FULL TRUSTEE LIST'!C271)","v":""}]
[{"$f":"IF('FULL TRUSTEE LIST'!B272=\"\",\"\",'FULL TRUSTEE LIST'!B272&\" \"&'FULL TRUSTEE LIST'!C272)","v":""}]
[{"$f":"IF('FULL TRUSTEE LIST'!B273=\"\",\"\",'FULL TRUSTEE LIST'!B273&\" \"&'FULL TRUSTEE LIST'!C273)","v":""}]
[{"$f":"IF('FULL TRUSTEE LIST'!B274=\"\",\"\",'FULL TRUSTEE LIST'!B274&\" \"&'FULL TRUSTEE LIST'!C274)","v":""}]
[{"$f":"IF('FULL TRUSTEE LIST'!B275=\"\",\"\",'FULL TRUSTEE LIST'!B275&\" \"&'FULL TRUSTEE LIST'!C275)","v":""}]
[{"$f":"IF('FULL TRUSTEE LIST'!B276=\"\",\"\",'FULL TRUSTEE LIST'!B276&\" \"&'FULL TRUSTEE LIST'!C276)","v":""}]
[{"$f":"IF('FULL TRUSTEE LIST'!B277=\"\",\"\",'FULL TRUSTEE LIST'!B277&\" \"&'FULL TRUSTEE LIST'!C277)","v":""}]
[{"$f":"IF('FULL TRUSTEE LIST'!B278=\"\",\"\",'FULL TRUSTEE LIST'!B278&\" \"&'FULL TRUSTEE LIST'!C278)","v":""}]
[{"$f":"IF('FULL TRUSTEE LIST'!B279=\"\",\"\",'FULL TRUSTEE LIST'!B279&\" \"&'FULL TRUSTEE LIST'!C279)","v":""}]
[{"$f":"IF('FULL TRUSTEE LIST'!B280=\"\",\"\",'FULL TRUSTEE LIST'!B280&\" \"&'FULL TRUSTEE LIST'!C280)","v":""}]
[{"$f":"IF('FULL TRUSTEE LIST'!B281=\"\",\"\",'FULL TRUSTEE LIST'!B281&\" \"&'FULL TRUSTEE LIST'!C281)","v":""}]
[{"$f":"IF('FULL TRUSTEE LIST'!B282=\"\",\"\",'FULL TRUSTEE LIST'!B282&\" \"&'FULL TRUSTEE LIST'!C282)","v":""}]
[{"$f":"IF('FULL TRUSTEE LIST'!B283=\"\",\"\",'FULL TRUSTEE LIST'!B283&\" \"&'FULL TRUSTEE LIST'!C283)","v":""}]
[{"$f":"IF('FULL TRUSTEE LIST'!B284=\"\",\"\",'FULL TRUSTEE LIST'!B284&\" \"&'FULL TRUSTEE LIST'!C284)","v":""}]
[{"$f":"IF('FULL TRUSTEE LIST'!B285=\"\",\"\",'FULL TRUSTEE LIST'!B285&\" \"&'FULL TRUSTEE LIST'!C285)","v":""}]
[{"$f":"IF('FULL TRUSTEE LIST'!B286=\"\",\"\",'FULL TRUSTEE LIST'!B286&\" \"&'FULL TRUSTEE LIST'!C286)","v":""}]
[{"$f":"IF('FULL TRUSTEE LIST'!B287=\"\",\"\",'FULL TRUSTEE LIST'!B287&\" \"&'FULL TRUSTEE LIST'!C287)","v":""}]
[{"$f":"IF('FULL TRUSTEE LIST'!B288=\"\",\"\",'FULL TRUSTEE LIST'!B288&\" \"&'FULL TRUSTEE LIST'!C288)","v":""}]
[{"$f":"IF('FULL TRUSTEE LIST'!B289=\"\",\"\",'FULL TRUSTEE LIST'!B289&\" \"&'FULL TRUSTEE LIST'!C289)","v":""}]
[{"$f":"IF('FULL TRUSTEE LIST'!B290=\"\",\"\",'FULL TRUSTEE LIST'!B290&\" \"&'FULL TRUSTEE LIST'!C290)","v":""}]
[{"$f":"IF('FULL TRUSTEE LIST'!B291=\"\",\"\",'FULL TRUSTEE LIST'!B291&\" \"&'FULL TRUSTEE LIST'!C291)","v":""}]
[{"$f":"IF('FULL TRUSTEE LIST'!B292=\"\",\"\",'FULL TRUSTEE LIST'!B292&\" \"&'FULL TRUSTEE LIST'!C292)","v":""}]
[{"$f":"IF('FULL TRUSTEE LIST'!B293=\"\",\"\",'FULL TRUSTEE LIST'!B293&\" \"&'FULL TRUSTEE LIST'!C293)","v":""}]
[{"$f":"IF('FULL TRUSTEE LIST'!B294=\"\",\"\",'FULL TRUSTEE LIST'!B294&\" \"&'FULL TRUSTEE LIST'!C294)","v":""}]
[{"$f":"IF('FULL TRUSTEE LIST'!B295=\"\",\"\",'FULL TRUSTEE LIST'!B295&\" \"&'FULL TRUSTEE LIST'!C295)","v":""}]
[{"$f":"IF('FULL TRUSTEE LIST'!B296=\"\",\"\",'FULL TRUSTEE LIST'!B296&\" \"&'FULL TRUSTEE LIST'!C296)","v":""}]
[{"$f":"IF('FULL TRUSTEE LIST'!B297=\"\",\"\",'FULL TRUSTEE LIST'!B297&\" \"&'FULL TRUSTEE LIST'!C297)","v":""}]
[{"$f":"IF('FULL TRUSTEE LIST'!B298=\"\",\"\",'FULL TRUSTEE LIST'!B298&\" \"&'FULL TRUSTEE LIST'!C298)","v":""}]
[{"$f":"IF('FULL TRUSTEE LIST'!B299=\"\",\"\",'FULL TRUSTEE LIST'!B299&\" \"&'FULL TRUSTEE LIST'!C299)","v":""}]
[{"$f":"IF('FULL TRUSTEE LIST'!B300=\"\",\"\",'FULL TRUSTEE LIST'!B300&\" \"&'FULL TRUSTEE LIST'!C300)","v":""}]
[{"$f":"IF('FULL TRUSTEE LIST'!B301=\"\",\"\",'FULL TRUSTEE LIST'!B301&\" \"&'FULL TRUSTEE LIST'!C301)","v":""}]
[{"$f":"IF('FULL TRUSTEE LIST'!B302=\"\",\"\",'FULL TRUSTEE LIST'!B302&\" \"&'FULL TRUSTEE LIST'!C302)","v":""}]
[{"$f":"IF('FULL TRUSTEE LIST'!B303=\"\",\"\",'FULL TRUSTEE LIST'!B303&\" \"&'FULL TRUSTEE LIST'!C303)","v":""}]
[{"$f":"IF('FULL TRUSTEE LIST'!B304=\"\",\"\",'FULL TRUSTEE LIST'!B304&\" \"&'FULL TRUSTEE LIST'!C304)","v":""}]
[{"$f":"IF('FULL TRUSTEE LIST'!B305=\"\",\"\",'FULL TRUSTEE LIST'!B305&\" \"&'FULL TRUSTEE LIST'!C305)","v":""}]
[{"$f":"IF('FULL TRUSTEE LIST'!B306=\"\",\"\",'FULL TRUSTEE LIST'!B306&\" \"&'FULL TRUSTEE LIST'!C306)","v":""}]
[{"$f":"IF('FULL TRUSTEE LIST'!B307=\"\",\"\",'FULL TRUSTEE LIST'!B307&\" \"&'FULL TRUSTEE LIST'!C307)","v":""}]
[{"$f":"IF('FULL TRUSTEE LIST'!B308=\"\",\"\",'FULL TRUSTEE LIST'!B308&\" \"&'FULL TRUSTEE LIST'!C308)","v":""}]
[{"$f":"IF('FULL TRUSTEE LIST'!B309=\"\",\"\",'FULL TRUSTEE LIST'!B309&\" \"&'FULL TRUSTEE LIST'!C309)","v":""}]
[{"$f":"IF('FULL TRUSTEE LIST'!B310=\"\",\"\",'FULL TRUSTEE LIST'!B310&\" \"&'FULL TRUSTEE LIST'!C310)","v":""}]
[{"$f":"IF('FULL TRUSTEE LIST'!B311=\"\",\"\",'FULL TRUSTEE LIST'!B311&\" \"&'FULL TRUSTEE LIST'!C311)","v":""}]
[{"$f":"IF('FULL TRUSTEE LIST'!B312=\"\",\"\",'FULL TRUSTEE LIST'!B312&\" \"&'FULL TRUSTEE LIST'!C312)","v":""}]
[{"$f":"IF('FULL TRUSTEE LIST'!B313=\"\",\"\",'FULL TRUSTEE LIST'!B313&\" \"&'FULL TRUSTEE LIST'!C313)","v":""}]
[{"$f":"IF('FULL TRUSTEE LIST'!B314=\"\",\"\",'FULL TRUSTEE LIST'!B314&\" \"&'FULL TRUSTEE LIST'!C314)","v":""}]
[{"$f":"IF('FULL TRUSTEE LIST'!B315=\"\",\"\",'FULL TRUSTEE LIST'!B315&\" \"&'FULL TRUSTEE LIST'!C315)","v":""}]
[{"$f":"IF('FULL TRUSTEE LIST'!B316=\"\",\"\",'FULL TRUSTEE LIST'!B316&\" \"&'FULL TRUSTEE LIST'!C316)","v":""}]
[{"$f":"IF('FULL TRUSTEE LIST'!B317=\"\",\"\",'FULL TRUSTEE LIST'!B317&\" \"&'FULL TRUSTEE LIST'!C317)","v":""}]
[{"$f":"IF('FULL TRUSTEE LIST'!B318=\"\",\"\",'FULL TRUSTEE LIST'!B318&\" \"&'FULL TRUSTEE LIST'!C318)","v":""}]
[{"$f":"IF('FULL TRUSTEE LIST'!B319=\"\",\"\",'FULL TRUSTEE LIST'!B319&\" \"&'FULL TRUSTEE LIST'!C319)","v":""}]
[{"$f":"IF('FULL TRUSTEE LIST'!B320=\"\",\"\",'FULL TRUSTEE LIST'!B320&\" \"&'FULL TRUSTEE LIST'!C320)","v":""}]
[{"$f":"IF('FULL TRUSTEE LIST'!B321=\"\",\"\",'FULL TRUSTEE LIST'!B321&\" \"&'FULL TRUSTEE LIST'!C321)","v":""}]
[{"$f":"IF('FULL TRUSTEE LIST'!B322=\"\",\"\",'FULL TRUSTEE LIST'!B322&\" \"&'FULL TRUSTEE LIST'!C322)","v":""}]
[{"$f":"IF('FULL TRUSTEE LIST'!B323=\"\",\"\",'FULL TRUSTEE LIST'!B323&\" \"&'FULL TRUSTEE LIST'!C323)","v":""}]
[{"$f":"IF('FULL TRUSTEE LIST'!B324=\"\",\"\",'FULL TRUSTEE LIST'!B324&\" \"&'FULL TRUSTEE LIST'!C324)","v":""}]
[{"$f":"IF('FULL TRUSTEE LIST'!B325=\"\",\"\",'FULL TRUSTEE LIST'!B325&\" \"&'FULL TRUSTEE LIST'!C325)","v":""}]
[{"$f":"IF('FULL TRUSTEE LIST'!B326=\"\",\"\",'FULL TRUSTEE LIST'!B326&\" \"&'FULL TRUSTEE LIST'!C326)","v":""}]
[{"$f":"IF('FULL TRUSTEE LIST'!B327=\"\",\"\",'FULL TRUSTEE LIST'!B327&\" \"&'FULL TRUSTEE LIST'!C327)","v":""}]
[{"$f":"IF('FULL TRUSTEE LIST'!B328=\"\",\"\",'FULL TRUSTEE LIST'!B328&\" \"&'FULL TRUSTEE LIST'!C328)","v":""}]
[{"$f":"IF('FULL TRUSTEE LIST'!B329=\"\",\"\",'FULL TRUSTEE LIST'!B329&\" \"&'FULL TRUSTEE LIST'!C329)","v":""}]
[{"$f":"IF('FULL TRUSTEE LIST'!B330=\"\",\"\",'FULL TRUSTEE LIST'!B330&\" \"&'FULL TRUSTEE LIST'!C330)","v":""}]
[{"$f":"IF('FULL TRUSTEE LIST'!B331=\"\",\"\",'FULL TRUSTEE LIST'!B331&\" \"&'FULL TRUSTEE LIST'!C331)","v":""}]
[{"$f":"IF('FULL TRUSTEE LIST'!B332=\"\",\"\",'FULL TRUSTEE LIST'!B332&\" \"&'FULL TRUSTEE LIST'!C332)","v":""}]
[{"$f":"IF('FULL TRUSTEE LIST'!B333=\"\",\"\",'FULL TRUSTEE LIST'!B333&\" \"&'FULL TRUSTEE LIST'!C333)","v":""}]
[{"$f":"IF('FULL TRUSTEE LIST'!B334=\"\",\"\",'FULL TRUSTEE LIST'!B334&\" \"&'FULL TRUSTEE LIST'!C334)","v":""}]
[{"$f":"IF('FULL TRUSTEE LIST'!B335=\"\",\"\",'FULL TRUSTEE LIST'!B335&\" \"&'FULL TRUSTEE LIST'!C335)","v":""}]
[{"$f":"IF('FULL TRUSTEE LIST'!B336=\"\",\"\",'FULL TRUSTEE LIST'!B336&\" \"&'FULL TRUSTEE LIST'!C336)","v":""}]
[{"$f":"IF('FULL TRUSTEE LIST'!B337=\"\",\"\",'FULL TRUSTEE LIST'!B337&\" \"&'FULL TRUSTEE LIST'!C337)","v":""}]
[{"$f":"IF('FULL TRUSTEE LIST'!B338=\"\",\"\",'FULL TRUSTEE LIST'!B338&\" \"&'FULL TRUSTEE LIST'!C338)","v":""}]
[{"$f":"IF('FULL TRUSTEE LIST'!B339=\"\",\"\",'FULL TRUSTEE LIST'!B339&\" \"&'FULL TRUSTEE LIST'!C339)","v":""}]
[{"$f":"IF('FULL TRUSTEE LIST'!B340=\"\",\"\",'FULL TRUSTEE LIST'!B340&\" \"&'FULL TRUSTEE LIST'!C340)","v":""}]
[{"$f":"IF('FULL TRUSTEE LIST'!B341=\"\",\"\",'FULL TRUSTEE LIST'!B341&\" \"&'FULL TRUSTEE LIST'!C341)","v":""}]
[{"$f":"IF('FULL TRUSTEE LIST'!B342=\"\",\"\",'FULL TRUSTEE LIST'!B342&\" \"&'FULL TRUSTEE LIST'!C342)","v":""}]
[{"$f":"IF('FULL TRUSTEE LIST'!B343=\"\",\"\",'FULL TRUSTEE LIST'!B343&\" \"&'FULL TRUSTEE LIST'!C343)","v":""}]
[{"$f":"IF('FULL TRUSTEE LIST'!B344=\"\",\"\",'FULL TRUSTEE LIST'!B344&\" \"&'FULL TRUSTEE LIST'!C344)","v":""}]
[{"$f":"IF('FULL TRUSTEE LIST'!B345=\"\",\"\",'FULL TRUSTEE LIST'!B345&\" \"&'FULL TRUSTEE LIST'!C345)","v":""}]
[{"$f":"IF('FULL TRUSTEE LIST'!B346=\"\",\"\",'FULL TRUSTEE LIST'!B346&\" \"&'FULL TRUSTEE LIST'!C346)","v":""}]
[{"$f":"IF('FULL TRUSTEE LIST'!B347=\"\",\"\",'FULL TRUSTEE LIST'!B347&\" \"&'FULL TRUSTEE LIST'!C347)","v":""}]
[{"$f":"IF('FULL TRUSTEE LIST'!B348=\"\",\"\",'FULL TRUSTEE LIST'!B348&\" \"&'FULL TRUSTEE LIST'!C348)","v":""}]
[{"$f":"IF('FULL TRUSTEE LIST'!B349=\"\",\"\",'FULL TRUSTEE LIST'!B349&\" \"&'FULL TRUSTEE LIST'!C349)","v":""}]
[{"$f":"IF('FULL TRUSTEE LIST'!B350=\"\",\"\",'FULL TRUSTEE LIST'!B350&\" \"&'FULL TRUSTEE LIST'!C350)","v":""}]
[{"$f":"IF('FULL TRUSTEE LIST'!B351=\"\",\"\",'FULL TRUSTEE LIST'!B351&\" \"&'FULL TRUSTEE LIST'!C351)","v":""}]
[{"$f":"IF('FULL TRUSTEE LIST'!B352=\"\",\"\",'FULL TRUSTEE LIST'!B352&\" \"&'FULL TRUSTEE LIST'!C352)","v":""}]
[{"$f":"IF('FULL TRUSTEE LIST'!B353=\"\",\"\",'FULL TRUSTEE LIST'!B353&\" \"&'FULL TRUSTEE LIST'!C353)","v":""}]
[{"$f":"IF('FULL TRUSTEE LIST'!B354=\"\",\"\",'FULL TRUSTEE LIST'!B354&\" \"&'FULL TRUSTEE LIST'!C354)","v":""}]
[{"$f":"IF('FULL TRUSTEE LIST'!B355=\"\",\"\",'FULL TRUSTEE LIST'!B355&\" \"&'FULL TRUSTEE LIST'!C355)","v":""}]
[{"$f":"IF('FULL TRUSTEE LIST'!B356=\"\",\"\",'FULL TRUSTEE LIST'!B356&\" \"&'FULL TRUSTEE LIST'!C356)","v":""}]
[{"$f":"IF('FULL TRUSTEE LIST'!B357=\"\",\"\",'FULL TRUSTEE LIST'!B357&\" \"&'FULL TRUSTEE LIST'!C357)","v":""}]
[{"$f":"IF('FULL TRUSTEE LIST'!B358=\"\",\"\",'FULL TRUSTEE LIST'!B358&\" \"&'FULL TRUSTEE LIST'!C358)","v":""}]
[{"$f":"IF('FULL TRUSTEE LIST'!B359=\"\",\"\",'FULL TRUSTEE LIST'!B359&\" \"&'FULL TRUSTEE LIST'!C359)","v":""}]
[{"$f":"IF('FULL TRUSTEE LIST'!B360=\"\",\"\",'FULL TRUSTEE LIST'!B360&\" \"&'FULL TRUSTEE LIST'!C360)","v":""}]
[{"$f":"IF('FULL TRUSTEE LIST'!B361=\"\",\"\",'FULL TRUSTEE LIST'!B361&\" \"&'FULL TRUSTEE LIST'!C361)","v":""}]
[{"$f":"IF('FULL TRUSTEE LIST'!B362=\"\",\"\",'FULL TRUSTEE LIST'!B362&\" \"&'FULL TRUSTEE LIST'!C362)","v":""}]
[{"$f":"IF('FULL TRUSTEE LIST'!B363=\"\",\"\",'FULL TRUSTEE LIST'!B363&\" \"&'FULL TRUSTEE LIST'!C363)","v":""}]
[{"$f":"IF('FULL TRUSTEE LIST'!B364=\"\",\"\",'FULL TRUSTEE LIST'!B364&\" \"&'FULL TRUSTEE LIST'!C364)","v":""}]
[{"$f":"IF('FULL TRUSTEE LIST'!B365=\"\",\"\",'FULL TRUSTEE LIST'!B365&\" \"&'FULL TRUSTEE LIST'!C365)","v":""}]
[{"$f":"IF('FULL TRUSTEE LIST'!B366=\"\",\"\",'FULL TRUSTEE LIST'!B366&\" \"&'FULL TRUSTEE LIST'!C366)","v":""}]
[{"$f":"IF('FULL TRUSTEE LIST'!B367=\"\",\"\",'FULL TRUSTEE LIST'!B367&\" \"&'FULL TRUSTEE LIST'!C367)","v":""}]
[{"$f":"IF('FULL TRUSTEE LIST'!B368=\"\",\"\",'FULL TRUSTEE LIST'!B368&\" \"&'FULL TRUSTEE LIST'!C368)","v":""}]
[{"$f":"IF('FULL TRUSTEE LIST'!B369=\"\",\"\",'FULL TRUSTEE LIST'!B369&\" \"&'FULL TRUSTEE LIST'!C369)","v":""}]
[{"$f":"IF('FULL TRUSTEE LIST'!B370=\"\",\"\",'FULL TRUSTEE LIST'!B370&\" \"&'FULL TRUSTEE LIST'!C370)","v":""}]
[{"$f":"IF('FULL TRUSTEE LIST'!B371=\"\",\"\",'FULL TRUSTEE LIST'!B371&\" \"&'FULL TRUSTEE LIST'!C371)","v":""}]
[{"$f":"IF('FULL TRUSTEE LIST'!B372=\"\",\"\",'FULL TRUSTEE LIST'!B372&\" \"&'FULL TRUSTEE LIST'!C372)","v":""}]
[{"$f":"IF('FULL TRUSTEE LIST'!B373=\"\",\"\",'FULL TRUSTEE LIST'!B373&\" \"&'FULL TRUSTEE LIST'!C373)","v":""}]
[{"$f":"IF('FULL TRUSTEE LIST'!B374=\"\",\"\",'FULL TRUSTEE LIST'!B374&\" \"&'FULL TRUSTEE LIST'!C374)","v":""}]
[{"$f":"IF('FULL TRUSTEE LIST'!B375=\"\",\"\",'FULL TRUSTEE LIST'!B375&\" \"&'FULL TRUSTEE LIST'!C375)","v":""}]
[{"$f":"IF('FULL TRUSTEE LIST'!B376=\"\",\"\",'FULL TRUSTEE LIST'!B376&\" \"&'FULL TRUSTEE LIST'!C376)","v":""}]
[{"$f":"IF('FULL TRUSTEE LIST'!B377=\"\",\"\",'FULL TRUSTEE LIST'!B377&\" \"&'FULL TRUSTEE LIST'!C377)","v":""}]
[{"$f":"IF('FULL TRUSTEE LIST'!B378=\"\",\"\",'FULL TRUSTEE LIST'!B378&\" \"&'FULL TRUSTEE LIST'!C378)","v":""}]
[{"$f":"IF('FULL TRUSTEE LIST'!B379=\"\",\"\",'FULL TRUSTEE LIST'!B379&\" \"&'FULL TRUSTEE LIST'!C379)","v":""}]
[{"$f":"IF('FULL TRUSTEE LIST'!B380=\"\",\"\",'FULL TRUSTEE LIST'!B380&\" \"&'FULL TRUSTEE LIST'!C380)","v":""}]
[{"$f":"IF('FULL TRUSTEE LIST'!B381=\"\",\"\",'FULL TRUSTEE LIST'!B381&\" \"&'FULL TRUSTEE LIST'!C381)","v":""}]
[{"$f":"IF('FULL TRUSTEE LIST'!B382=\"\",\"\",'FULL TRUSTEE LIST'!B382&\" \"&'FULL TRUSTEE LIST'!C382)","v":""}]
[{"$f":"IF('FULL TRUSTEE LIST'!B383=\"\",\"\",'FULL TRUSTEE LIST'!B383&\" \"&'FULL TRUSTEE LIST'!C383)","v":""}]
[{"$f":"IF('FULL TRUSTEE LIST'!B384=\"\",\"\",'FULL TRUSTEE LIST'!B384&\" \"&'FULL TRUSTEE LIST'!C384)","v":""}]
[{"$f":"IF('FULL TRUSTEE LIST'!B385=\"\",\"\",'FULL TRUSTEE LIST'!B385&\" \"&'FULL TRUSTEE LIST'!C385)","v":""}]
[{"$f":"IF('FULL TRUSTEE LIST'!B386=\"\",\"\",'FULL TRUSTEE LIST'!B386&\" \"&'FULL TRUSTEE LIST'!C386)","v":""}]
[{"$f":"IF('FULL TRUSTEE LIST'!B387=\"\",\"\",'FULL TRUSTEE LIST'!B387&\" \"&'FULL TRUSTEE LIST'!C387)","v":""}]
[{"$f":"IF('FULL TRUSTEE LIST'!B388=\"\",\"\",'FULL TRUSTEE LIST'!B388&\" \"&'FULL TRUSTEE LIST'!C388)","v":""}]
[{"$f":"IF('FULL TRUSTEE LIST'!B389=\"\",\"\",'FULL TRUSTEE LIST'!B389&\" \"&'FULL TRUSTEE LIST'!C389)","v":""}]
[{"$f":"IF('FULL TRUSTEE LIST'!B390=\"\",\"\",'FULL TRUSTEE LIST'!B390&\" \"&'FULL TRUSTEE LIST'!C390)","v":""}]
[{"$f":"IF('FULL TRUSTEE LIST'!B391=\"\",\"\",'FULL TRUSTEE LIST'!B391&\" \"&'FULL TRUSTEE LIST'!C391)","v":""}]
[{"$f":"IF('FULL TRUSTEE LIST'!B392=\"\",\"\",'FULL TRUSTEE LIST'!B392&\" \"&'FULL TRUSTEE LIST'!C392)","v":""}]
[{"$f":"IF('FULL TRUSTEE LIST'!B393=\"\",\"\",'FULL TRUSTEE LIST'!B393&\" \"&'FULL TRUSTEE LIST'!C393)","v":""}]
[{"$f":"IF('FULL TRUSTEE LIST'!B394=\"\",\"\",'FULL TRUSTEE LIST'!B394&\" \"&'FULL TRUSTEE LIST'!C394)","v":""}]
[{"$f":"IF('FULL TRUSTEE LIST'!B395=\"\",\"\",'FULL TRUSTEE LIST'!B395&\" \"&'FULL TRUSTEE LIST'!C395)","v":""}]
[{"$f":"IF('FULL TRUSTEE LIST'!B396=\"\",\"\",'FULL TRUSTEE LIST'!B396&\" \"&'FULL TRUSTEE LIST'!C396)","v":""}]
[{"$f":"IF('FULL TRUSTEE LIST'!B397=\"\",\"\",'FULL TRUSTEE LIST'!B397&\" \"&'FULL TRUSTEE LIST'!C397)","v":""}]
[{"$f":"IF('FULL TRUSTEE LIST'!B398=\"\",\"\",'FULL TRUSTEE LIST'!B398&\" \"&'FULL TRUSTEE LIST'!C398)","v":""}]
[{"$f":"IF('FULL TRUSTEE LIST'!B399=\"\",\"\",'FULL TRUSTEE LIST'!B399&\" \"&'FULL TRUSTEE LIST'!C399)","v":""}]
[{"$f":"IF('FULL TRUSTEE LIST'!B400=\"\",\"\",'FULL TRUSTEE LIST'!B400&\" \"&'FULL TRUSTEE LIST'!C400)","v":""}]
[{"$f":"IF('FULL TRUSTEE LIST'!B401=\"\",\"\",'FULL TRUSTEE LIST'!B401&\" \"&'FULL TRUSTEE LIST'!C401)","v":""}]
[{"$f":"IF('FULL TRUSTEE LIST'!B402=\"\",\"\",'FULL TRUSTEE LIST'!B402&\" \"&'FULL TRUSTEE LIST'!C402)","v":""}]
[{"$f":"IF('FULL TRUSTEE LIST'!B403=\"\",\"\",'FULL TRUSTEE LIST'!B403&\" \"&'FULL TRUSTEE LIST'!C403)","v":""}]
[{"$f":"IF('FULL TRUSTEE LIST'!B404=\"\",\"\",'FULL TRUSTEE LIST'!B404&\" \"&'FULL TRUSTEE LIST'!C404)","v":""}]
[{"$f":"IF('FULL TRUSTEE LIST'!B405=\"\",\"\",'FULL TRUSTEE LIST'!B405&\" \"&'FULL TRUSTEE LIST'!C405)","v":""}]
[{"$f":"IF('FULL TRUSTEE LIST'!B406=\"\",\"\",'FULL TRUSTEE LIST'!B406&\" \"&'FULL TRUSTEE LIST'!C406)","v":""}]
[{"$f":"IF('FULL TRUSTEE LIST'!B407=\"\",\"\",'FULL TRUSTEE LIST'!B407&\" \"&'FULL TRUSTEE LIST'!C407)","v":""}]
[{"$f":"IF('FULL TRUSTEE LIST'!B408=\"\",\"\",'FULL TRUSTEE LIST'!B408&\" \"&'FULL TRUSTEE LIST'!C408)","v":""}]
[{"$f":"IF('FULL TRUSTEE LIST'!B409=\"\",\"\",'FULL TRUSTEE LIST'!B409&\" \"&'FULL TRUSTEE LIST'!C409)","v":""}]
[{"$f":"IF('FULL TRUSTEE LIST'!B410=\"\",\"\",'FULL TRUSTEE LIST'!B410&\" \"&'FULL TRUSTEE LIST'!C410)","v":""}]
[{"$f":"IF('FULL TRUSTEE LIST'!B411=\"\",\"\",'FULL TRUSTEE LIST'!B411&\" \"&'FULL TRUSTEE LIST'!C411)","v":""}]
[{"$f":"IF('FULL TRUSTEE LIST'!B412=\"\",\"\",'FULL TRUSTEE LIST'!B412&\" \"&'FULL TRUSTEE LIST'!C412)","v":""}]
[{"$f":"IF('FULL TRUSTEE LIST'!B413=\"\",\"\",'FULL TRUSTEE LIST'!B413&\" \"&'FULL TRUSTEE LIST'!C413)","v":""}]
[{"$f":"IF('FULL TRUSTEE LIST'!B414=\"\",\"\",'FULL TRUSTEE LIST'!B414&\" \"&'FULL TRUSTEE LIST'!C414)","v":""}]
[{"$f":"IF('FULL TRUSTEE LIST'!B415=\"\",\"\",'FULL TRUSTEE LIST'!B415&\" \"&'FULL TRUSTEE LIST'!C415)","v":""}]
[{"$f":"IF('FULL TRUSTEE LIST'!B416=\"\",\"\",'FULL TRUSTEE LIST'!B416&\" \"&'FULL TRUSTEE LIST'!C416)","v":""}]
[{"$f":"IF('FULL TRUSTEE LIST'!B417=\"\",\"\",'FULL TRUSTEE LIST'!B417&\" \"&'FULL TRUSTEE LIST'!C417)","v":""}]
[{"$f":"IF('FULL TRUSTEE LIST'!B418=\"\",\"\",'FULL TRUSTEE LIST'!B418&\" \"&'FULL TRUSTEE LIST'!C418)","v":""}]
[{"$f":"IF('FULL TRUSTEE LIST'!B419=\"\",\"\",'FULL TRUSTEE LIST'!B419&\" \"&'FULL TRUSTEE LIST'!C419)","v":""}]
[{"$f":"IF('FULL TRUSTEE LIST'!B420=\"\",\"\",'FULL TRUSTEE LIST'!B420&\" \"&'FULL TRUSTEE LIST'!C420)","v":""}]
[{"$f":"IF('FULL TRUSTEE LIST'!B421=\"\",\"\",'FULL TRUSTEE LIST'!B421&\" \"&'FULL TRUSTEE LIST'!C421)","v":""}]
[{"$f":"IF('FULL TRUSTEE LIST'!B422=\"\",\"\",'FULL TRUSTEE LIST'!B422&\" \"&'FULL TRUSTEE LIST'!C422)","v":""}]
[{"$f":"IF('FULL TRUSTEE LIST'!B423=\"\",\"\",'FULL TRUSTEE LIST'!B423&\" \"&'FULL TRUSTEE LIST'!C423)","v":""}]
[{"$f":"IF('FULL TRUSTEE LIST'!B424=\"\",\"\",'FULL TRUSTEE LIST'!B424&\" \"&'FULL TRUSTEE LIST'!C424)","v":""}]
[{"$f":"IF('FULL TRUSTEE LIST'!B425=\"\",\"\",'FULL TRUSTEE LIST'!B425&\" \"&'FULL TRUSTEE LIST'!C425)","v":""}]
[{"$f":"IF('FULL TRUSTEE LIST'!B426=\"\",\"\",'FULL TRUSTEE LIST'!B426&\" \"&'FULL TRUSTEE LIST'!C426)","v":""}]
[{"$f":"IF('FULL TRUSTEE LIST'!B427=\"\",\"\",'FULL TRUSTEE LIST'!B427&\" \"&'FULL TRUSTEE LIST'!C427)","v":""}]
[{"$f":"IF('FULL TRUSTEE LIST'!B428=\"\",\"\",'FULL TRUSTEE LIST'!B428&\" \"&'FULL TRUSTEE LIST'!C428)","v":""}]
[{"$f":"IF('FULL TRUSTEE LIST'!B429=\"\",\"\",'FULL TRUSTEE LIST'!B429&\" \"&'FULL TRUSTEE LIST'!C429)","v":""}]
[{"$f":"IF('FULL TRUSTEE LIST'!B430=\"\",\"\",'FULL TRUSTEE LIST'!B430&\" \"&'FULL TRUSTEE LIST'!C430)","v":""}]
[{"$f":"IF('FULL TRUSTEE LIST'!B431=\"\",\"\",'FULL TRUSTEE LIST'!B431&\" \"&'FULL TRUSTEE LIST'!C431)","v":""}]
[{"$f":"IF('FULL TRUSTEE LIST'!B432=\"\",\"\",'FULL TRUSTEE LIST'!B432&\" \"&'FULL TRUSTEE LIST'!C432)","v":""}]
[{"$f":"IF('FULL TRUSTEE LIST'!B433=\"\",\"\",'FULL TRUSTEE LIST'!B433&\" \"&'FULL TRUSTEE LIST'!C433)","v":""}]
[{"$f":"IF('FULL TRUSTEE LIST'!B434=\"\",\"\",'FULL TRUSTEE LIST'!B434&\" \"&'FULL TRUSTEE LIST'!C434)","v":""}]
[{"$f":"IF('FULL TRUSTEE LIST'!B435=\"\",\"\",'FULL TRUSTEE LIST'!B435&\" \"&'FULL TRUSTEE LIST'!C435)","v":""}]
[{"$f":"IF('FULL TRUSTEE LIST'!B436=\"\",\"\",'FULL TRUSTEE LIST'!B436&\" \"&'FULL TRUSTEE LIST'!C436)","v":""}]
[{"$f":"IF('FULL TRUSTEE LIST'!B437=\"\",\"\",'FULL TRUSTEE LIST'!B437&\" \"&'FULL TRUSTEE LIST'!C437)","v":""}]
[{"$f":"IF('FULL TRUSTEE LIST'!B438=\"\",\"\",'FULL TRUSTEE LIST'!B438&\" \"&'FULL TRUSTEE LIST'!C438)","v":""}]
[{"$f":"IF('FULL TRUSTEE LIST'!B439=\"\",\"\",'FULL TRUSTEE LIST'!B439&\" \"&'FULL TRUSTEE LIST'!C439)","v":""}]
[{"$f":"IF('FULL TRUSTEE LIST'!B440=\"\",\"\",'FULL TRUSTEE LIST'!B440&\" \"&'FULL TRUSTEE LIST'!C440)","v":""}]
[{"$f":"IF('FULL TRUSTEE LIST'!B441=\"\",\"\",'FULL TRUSTEE LIST'!B441&\" \"&'FULL TRUSTEE LIST'!C441)","v":""}]
[{"$f":"IF('FULL TRUSTEE LIST'!B442=\"\",\"\",'FULL TRUSTEE LIST'!B442&\" \"&'FULL TRUSTEE LIST'!C442)","v":""}]
[{"$f":"IF('FULL TRUSTEE LIST'!B443=\"\",\"\",'FULL TRUSTEE LIST'!B443&\" \"&'FULL TRUSTEE LIST'!C443)","v":""}]
[{"$f":"IF('FULL TRUSTEE LIST'!B444=\"\",\"\",'FULL TRUSTEE LIST'!B444&\" \"&'FULL TRUSTEE LIST'!C444)","v":""}]
[{"$f":"IF('FULL TRUSTEE LIST'!B445=\"\",\"\",'FULL TRUSTEE LIST'!B445&\" \"&'FULL TRUSTEE LIST'!C445)","v":""}]
[{"$f":"IF('FULL TRUSTEE LIST'!B446=\"\",\"\",'FULL TRUSTEE LIST'!B446&\" \"&'FULL TRUSTEE LIST'!C446)","v":""}]
[{"$f":"IF('FULL TRUSTEE LIST'!B447=\"\",\"\",'FULL TRUSTEE LIST'!B447&\" \"&'FULL TRUSTEE LIST'!C447)","v":""}]
[{"$f":"IF('FULL TRUSTEE LIST'!B448=\"\",\"\",'FULL TRUSTEE LIST'!B448&\" \"&'FULL TRUSTEE LIST'!C448)","v":""}]
[{"$f":"IF('FULL TRUSTEE LIST'!B449=\"\",\"\",'FULL TRUSTEE LIST'!B449&\" \"&'FULL TRUSTEE LIST'!C449)","v":""}]
[{"$f":"IF('FULL TRUSTEE LIST'!B450=\"\",\"\",'FULL TRUSTEE LIST'!B450&\" \"&'FULL TRUSTEE LIST'!C450)","v":""}]
[{"$f":"IF('FULL TRUSTEE LIST'!B451=\"\",\"\",'FULL TRUSTEE LIST'!B451&\" \"&'FULL TRUSTEE LIST'!C451)","v":""}]
[{"$f":"IF('FULL TRUSTEE LIST'!B452=\"\",\"\",'FULL TRUSTEE LIST'!B452&\" \"&'FULL TRUSTEE LIST'!C452)","v":""}]
[{"$f":"IF('FULL TRUSTEE LIST'!B453=\"\",\"\",'FULL TRUSTEE LIST'!B453&\" \"&'FULL TRUSTEE LIST'!C453)","v":""}]
[{"$f":"IF('FULL TRUSTEE LIST'!B454=\"\",\"\",'FULL TRUSTEE LIST'!B454&\" \"&'FULL TRUSTEE LIST'!C454)","v":""}]
[{"$f":"IF('FULL TRUSTEE LIST'!B455=\"\",\"\",'FULL TRUSTEE LIST'!B455&\" \"&'FULL TRUSTEE LIST'!C455)","v":""}]
[{"$f":"IF('FULL TRUSTEE LIST'!B456=\"\",\"\",'FULL TRUSTEE LIST'!B456&\" \"&'FULL TRUSTEE LIST'!C456)","v":""}]
[{"$f":"IF('FULL TRUSTEE LIST'!B457=\"\",\"\",'FULL TRUSTEE LIST'!B457&\" \"&'FULL TRUSTEE LIST'!C457)","v":""}]
[{"$f":"IF('FULL TRUSTEE LIST'!B458=\"\",\"\",'FULL TRUSTEE LIST'!B458&\" \"&'FULL TRUSTEE LIST'!C458)","v":""}]
[{"$f":"IF('FULL TRUSTEE LIST'!B459=\"\",\"\",'FULL TRUSTEE LIST'!B459&\" \"&'FULL TRUSTEE LIST'!C459)","v":""}]
[{"$f":"IF('FULL TRUSTEE LIST'!B460=\"\",\"\",'FULL TRUSTEE LIST'!B460&\" \"&'FULL TRUSTEE LIST'!C460)","v":""}]
[{"$f":"IF('FULL TRUSTEE LIST'!B461=\"\",\"\",'FULL TRUSTEE LIST'!B461&\" \"&'FULL TRUSTEE LIST'!C461)","v":""}]
[{"$f":"IF('FULL TRUSTEE LIST'!B462=\"\",\"\",'FULL TRUSTEE LIST'!B462&\" \"&'FULL TRUSTEE LIST'!C462)","v":""}]
[{"$f":"IF('FULL TRUSTEE LIST'!B463=\"\",\"\",'FULL TRUSTEE LIST'!B463&\" \"&'FULL TRUSTEE LIST'!C463)","v":""}]
[{"$f":"IF('FULL TRUSTEE LIST'!B464=\"\",\"\",'FULL TRUSTEE LIST'!B464&\" \"&'FULL TRUSTEE LIST'!C464)","v":""}]
[{"$f":"IF('FULL TRUSTEE LIST'!B465=\"\",\"\",'FULL TRUSTEE LIST'!B465&\" \"&'FULL TRUSTEE LIST'!C465)","v":""}]
[{"$f":"IF('FULL TRUSTEE LIST'!B466=\"\",\"\",'FULL TRUSTEE LIST'!B466&\" \"&'FULL TRUSTEE LIST'!C466)","v":""}]
[{"$f":"IF('FULL TRUSTEE LIST'!B467=\"\",\"\",'FULL TRUSTEE LIST'!B467&\" \"&'FULL TRUSTEE LIST'!C467)","v":""}]
[{"$f":"IF('FULL TRUSTEE LIST'!B468=\"\",\"\",'FULL TRUSTEE LIST'!B468&\" \"&'FULL TRUSTEE LIST'!C468)","v":""}]
[{"$f":"IF('FULL TRUSTEE LIST'!B469=\"\",\"\",'FULL TRUSTEE LIST'!B469&\" \"&'FULL TRUSTEE LIST'!C469)","v":""}]
[{"$f":"IF('FULL TRUSTEE LIST'!B470=\"\",\"\",'FULL TRUSTEE LIST'!B470&\" \"&'FULL TRUSTEE LIST'!C470)","v":""}]
[{"$f":"IF('FULL TRUSTEE LIST'!B471=\"\",\"\",'FULL TRUSTEE LIST'!B471&\" \"&'FULL TRUSTEE LIST'!C471)","v":""}]
[{"$f":"IF('FULL TRUSTEE LIST'!B472=\"\",\"\",'FULL TRUSTEE LIST'!B472&\" \"&'FULL TRUSTEE LIST'!C472)","v":""}]
[{"$f":"IF('FULL TRUSTEE LIST'!B473=\"\",\"\",'FULL TRUSTEE LIST'!B473&\" \"&'FULL TRUSTEE LIST'!C473)","v":""}]
[{"$f":"IF('FULL TRUSTEE LIST'!B474=\"\",\"\",'FULL TRUSTEE LIST'!B474&\" \"&'FULL TRUSTEE LIST'!C474)","v":""}]
[{"$f":"IF('FULL TRUSTEE LIST'!B475=\"\",\"\",'FULL TRUSTEE LIST'!B475&\" \"&'FULL TRUSTEE LIST'!C475)","v":""}]
[{"$f":"IF('FULL TRUSTEE LIST'!B476=\"\",\"\",'FULL TRUSTEE LIST'!B476&\" \"&'FULL TRUSTEE LIST'!C476)","v":""}]
[{"$f":"IF('FULL TRUSTEE LIST'!B477=\"\",\"\",'FULL TRUSTEE LIST'!B477&\" \"&'FULL TRUSTEE LIST'!C477)","v":""}]
[{"$f":"IF('FULL TRUSTEE LIST'!B478=\"\",\"\",'FULL TRUSTEE LIST'!B478&\" \"&'FULL TRUSTEE LIST'!C478)","v":""}]
[{"$f":"IF('FULL TRUSTEE LIST'!B479=\"\",\"\",'FULL TRUSTEE LIST'!B479&\" \"&'FULL TRUSTEE LIST'!C479)","v":""}]
[{"$f":"IF('FULL TRUSTEE LIST'!B480=\"\",\"\",'FULL TRUSTEE LIST'!B480&\" \"&'FULL TRUSTEE LIST'!C480)","v":""}]
[{"$f":"IF('FULL TRUSTEE LIST'!B481=\"\",\"\",'FULL TRUSTEE LIST'!B481&\" \"&'FULL TRUSTEE LIST'!C481)","v":""}]
[{"$f":"IF('FULL TRUSTEE LIST'!B482=\"\",\"\",'FULL TRUSTEE LIST'!B482&\" \"&'FULL TRUSTEE LIST'!C482)","v":""}]
[{"$f":"IF('FULL TRUSTEE LIST'!B483=\"\",\"\",'FULL TRUSTEE LIST'!B483&\" \"&'FULL TRUSTEE LIST'!C483)","v":""}]
[{"$f":"IF('FULL TRUSTEE LIST'!B484=\"\",\"\",'FULL TRUSTEE LIST'!B484&\" \"&'FULL TRUSTEE LIST'!C484)","v":""}]
[{"$f":"IF('FULL TRUSTEE LIST'!B485=\"\",\"\",'FULL TRUSTEE LIST'!B485&\" \"&'FULL TRUSTEE LIST'!C485)","v":""}]
[{"$f":"IF('FULL TRUSTEE LIST'!B486=\"\",\"\",'FULL TRUSTEE LIST'!B486&\" \"&'FULL TRUSTEE LIST'!C486)","v":""}]
[{"$f":"IF('FULL TRUSTEE LIST'!B487=\"\",\"\",'FULL TRUSTEE LIST'!B487&\" \"&'FULL TRUSTEE LIST'!C487)","v":""}]
[{"$f":"IF('FULL TRUSTEE LIST'!B488=\"\",\"\",'FULL TRUSTEE LIST'!B488&\" \"&'FULL TRUSTEE LIST'!C488)","v":""}]
[{"$f":"IF('FULL TRUSTEE LIST'!B489=\"\",\"\",'FULL TRUSTEE LIST'!B489&\" \"&'FULL TRUSTEE LIST'!C489)","v":""}]
[{"$f":"IF('FULL TRUSTEE LIST'!B490=\"\",\"\",'FULL TRUSTEE LIST'!B490&\" \"&'FULL TRUSTEE LIST'!C490)","v":""}]
[{"$f":"IF('FULL TRUSTEE LIST'!B491=\"\",\"\",'FULL TRUSTEE LIST'!B491&\" \"&'FULL TRUSTEE LIST'!C491)","v":""}]
[{"$f":"IF('FULL TRUSTEE LIST'!B492=\"\",\"\",'FULL TRUSTEE LIST'!B492&\" \"&'FULL TRUSTEE LIST'!C492)","v":""}]
[{"$f":"IF('FULL TRUSTEE LIST'!B493=\"\",\"\",'FULL TRUSTEE LIST'!B493&\" \"&'FULL TRUSTEE LIST'!C493)","v":""}]
[{"$f":"IF('FULL TRUSTEE LIST'!B494=\"\",\"\",'FULL TRUSTEE LIST'!B494&\" \"&'FULL TRUSTEE LIST'!C494)","v":""}]
[{"$f":"IF('FULL TRUSTEE LIST'!B495=\"\",\"\",'FULL TRUSTEE LIST'!B495&\" \"&'FULL TRUSTEE LIST'!C495)","v":""}]
[{"$f":"IF('FULL TRUSTEE LIST'!B496=\"\",\"\",'FULL TRUSTEE LIST'!B496&\" \"&'FULL TRUSTEE LIST'!C496)","v":""}]
[{"$f":"IF('FULL TRUSTEE LIST'!B497=\"\",\"\",'FULL TRUSTEE LIST'!B497&\" \"&'FULL TRUSTEE LIST'!C497)","v":""}]
[{"$f":"IF('FULL TRUSTEE LIST'!B498=\"\",\"\",'FULL TRUSTEE LIST'!B498&\" \"&'FULL TRUSTEE LIST'!C498)","v":""}]
[{"$f":"IF('FULL TRUSTEE LIST'!B499=\"\",\"\",'FULL TRUSTEE LIST'!B499&\" \"&'FULL TRUSTEE LIST'!C499)","v":""}]
[{"$f":"IF('FULL TRUSTEE LIST'!B500=\"\",\"\",'FULL TRUSTEE LIST'!B500&\" \"&'FULL TRUSTEE LIST'!C500)","v":""}]
[{"$f":"IF('FULL TRUSTEE LIST'!B501=\"\",\"\",'FULL TRUSTEE LIST'!B501&\" \"&'FULL TRUSTEE LIST'!C501)","v":""}]
[{"$f":"IF('FULL TRUSTEE LIST'!B502=\"\",\"\",'FULL TRUSTEE LIST'!B502&\" \"&'FULL TRUSTEE LIST'!C502)","v":""}]
[{"$f":"IF('FULL TRUSTEE LIST'!B503=\"\",\"\",'FULL TRUSTEE LIST'!B503&\" \"&'FULL TRUSTEE LIST'!C503)","v":""}]
[{"$f":"IF('FULL TRUSTEE LIST'!B504=\"\",\"\",'FULL TRUSTEE LIST'!B504&\" \"&'FULL TRUSTEE LIST'!C504)","v":""}]
[{"$f":"IF('FULL TRUSTEE LIST'!B505=\"\",\"\",'FULL TRUSTEE LIST'!B505&\" \"&'FULL TRUSTEE LIST'!C505)","v":""}]
[{"$f":"IF('FULL TRUSTEE LIST'!B506=\"\",\"\",'FULL TRUSTEE LIST'!B506&\" \"&'FULL TRUSTEE LIST'!C506)","v":""}]
[{"$f":"IF('FULL TRUSTEE LIST'!B507=\"\",\"\",'FULL TRUSTEE LIST'!B507&\" \"&'FULL TRUSTEE LIST'!C507)","v":""}]
[{"$f":"IF('FULL TRUSTEE LIST'!B508=\"\",\"\",'FULL TRUSTEE LIST'!B508&\" \"&'FULL TRUSTEE LIST'!C508)","v":""}]
[{"$f":"IF('FULL TRUSTEE LIST'!B509=\"\",\"\",'FULL TRUSTEE LIST'!B509&\" \"&'FULL TRUSTEE LIST'!C509)","v":""}]
[{"$f":"IF('FULL TRUSTEE LIST'!B510=\"\",\"\",'FULL TRUSTEE LIST'!B510&\" \"&'FULL TRUSTEE LIST'!C510)","v":""}]
[{"$f":"IF('FULL TRUSTEE LIST'!B511=\"\",\"\",'FULL TRUSTEE LIST'!B511&\" \"&'FULL TRUSTEE LIST'!C511)","v":""}]
[{"$f":"IF('FULL TRUSTEE LIST'!B512=\"\",\"\",'FULL TRUSTEE LIST'!B512&\" \"&'FULL TRUSTEE LIST'!C512)","v":""}]
[{"$f":"IF('FULL TRUSTEE LIST'!B513=\"\",\"\",'FULL TRUSTEE LIST'!B513&\" \"&'FULL TRUSTEE LIST'!C513)","v":""}]
[{"$f":"IF('FULL TRUSTEE LIST'!B514=\"\",\"\",'FULL TRUSTEE LIST'!B514&\" \"&'FULL TRUSTEE LIST'!C514)","v":""}]
[{"$f":"IF('FULL TRUSTEE LIST'!B515=\"\",\"\",'FULL TRUSTEE LIST'!B515&\" \"&'FULL TRUSTEE LIST'!C515)","v":""}]
[{"$f":"IF('FULL TRUSTEE LIST'!B516=\"\",\"\",'FULL TRUSTEE LIST'!B516&\" \"&'FULL TRUSTEE LIST'!C516)","v":""}]
[{"$f":"IF('FULL TRUSTEE LIST'!B517=\"\",\"\",'FULL TRUSTEE LIST'!B517&\" \"&'FULL TRUSTEE LIST'!C517)","v":""}]
[{"$f":"IF('FULL TRUSTEE LIST'!B518=\"\",\"\",'FULL TRUSTEE LIST'!B518&\" \"&'FULL TRUSTEE LIST'!C518)","v":""}]
[{"$f":"IF('FULL TRUSTEE LIST'!B519=\"\",\"\",'FULL TRUSTEE LIST'!B519&\" \"&'FULL TRUSTEE LIST'!C519)","v":""}]
[{"$f":"IF('FULL TRUSTEE LIST'!B520=\"\",\"\",'FULL TRUSTEE LIST'!B520&\" \"&'FULL TRUSTEE LIST'!C520)","v":""}]
[{"$f":"IF('FULL TRUSTEE LIST'!B521=\"\",\"\",'FULL TRUSTEE LIST'!B521&\" \"&'FULL TRUSTEE LIST'!C521)","v":""}]
[{"$f":"IF('FULL TRUSTEE LIST'!B522=\"\",\"\",'FULL TRUSTEE LIST'!B522&\" \"&'FULL TRUSTEE LIST'!C522)","v":""}]
[{"$f":"IF('FULL TRUSTEE LIST'!B523=\"\",\"\",'FULL TRUSTEE LIST'!B523&\" \"&'FULL TRUSTEE LIST'!C523)","v":""}]
[{"$f":"IF('FULL TRUSTEE LIST'!B525=\"\",\"\",'FULL TRUSTEE LIST'!B525&\" \"&'FULL TRUSTEE LIST'!C525)","v":""}]
[{"$f":"IF('FULL TRUSTEE LIST'!B526=\"\",\"\",'FULL TRUSTEE LIST'!B526&\" \"&'FULL TRUSTEE LIST'!C526)","v":""}]
[{"$f":"IF('FULL TRUSTEE LIST'!B527=\"\",\"\",'FULL TRUSTEE LIST'!B527&\" \"&'FULL TRUSTEE LIST'!C527)","v":""}]
[{"$f":"IF('FULL TRUSTEE LIST'!B528=\"\",\"\",'FULL TRUSTEE LIST'!B528&\" \"&'FULL TRUSTEE LIST'!C528)","v":""}]
[{"$f":"IF('FULL TRUSTEE LIST'!B529=\"\",\"\",'FULL TRUSTEE LIST'!B529&\" \"&'FULL TRUSTEE LIST'!C529)","v":""}]
[{"$f":"IF('FULL TRUSTEE LIST'!B530=\"\",\"\",'FULL TRUSTEE LIST'!B530&\" \"&'FULL TRUSTEE LIST'!C530)","v":""}]
[{"$f":"IF('FULL TRUSTEE LIST'!B531=\"\",\"\",'FULL TRUSTEE LIST'!B531&\" \"&'FULL TRUSTEE LIST'!C531)","v":""}]
[{"$f":"IF('FULL TRUSTEE LIST'!B532=\"\",\"\",'FULL TRUSTEE LIST'!B532&\" \"&'FULL TRUSTEE LIST'!C532)","v":""}]
[{"$f":"IF('FULL TRUSTEE LIST'!B533=\"\",\"\",'FULL TRUSTEE LIST'!B533&\" \"&'FULL TRUSTEE LIST'!C533)","v":""}]
[{"$f":"IF('FULL TRUSTEE LIST'!B534=\"\",\"\",'FULL TRUSTEE LIST'!B534&\" \"&'FULL TRUSTEE LIST'!C534)","v":""}]
[{"$f":"IF('FULL TRUSTEE LIST'!B535=\"\",\"\",'FULL TRUSTEE LIST'!B535&\" \"&'FULL TRUSTEE LIST'!C535)","v":""}]
[{"$f":"IF('FULL TRUSTEE LIST'!B536=\"\",\"\",'FULL TRUSTEE LIST'!B536&\" \"&'FULL TRUSTEE LIST'!C536)","v":""}]
[{"$f":"IF('FULL TRUSTEE LIST'!B537=\"\",\"\",'FULL TRUSTEE LIST'!B537&\" \"&'FULL TRUSTEE LIST'!C537)","v":""}]
[{"$f":"IF('FULL TRUSTEE LIST'!B538=\"\",\"\",'FULL TRUSTEE LIST'!B538&\" \"&'FULL TRUSTEE LIST'!C538)","v":""}]
[{"$f":"IF('FULL TRUSTEE LIST'!B539=\"\",\"\",'FULL TRUSTEE LIST'!B539&\" \"&'FULL TRUSTEE LIST'!C539)","v":""}]
[{"$f":"IF('FULL TRUSTEE LIST'!B540=\"\",\"\",'FULL TRUSTEE LIST'!B540&\" \"&'FULL TRUSTEE LIST'!C540)","v":""}]
[{"$f":"IF('FULL TRUSTEE LIST'!B541=\"\",\"\",'FULL TRUSTEE LIST'!B541&\" \"&'FULL TRUSTEE LIST'!C541)","v":""}]
[{"$f":"IF('FULL TRUSTEE LIST'!B542=\"\",\"\",'FULL TRUSTEE LIST'!B542&\" \"&'FULL TRUSTEE LIST'!C542)","v":""}]
[{"$f":"IF('FULL TRUSTEE LIST'!B543=\"\",\"\",'FULL TRUSTEE LIST'!B543&\" \"&'FULL TRUSTEE LIST'!C543)","v":""}]
[{"$f":"IF('FULL TRUSTEE LIST'!B544=\"\",\"\",'FULL TRUSTEE LIST'!B544&\" \"&'FULL TRUSTEE LIST'!C544)","v":""}]
[{"$f":"IF('FULL TRUSTEE LIST'!B545=\"\",\"\",'FULL TRUSTEE LIST'!B545&\" \"&'FULL TRUSTEE LIST'!C545)","v":""}]
[{"$f":"IF('FULL TRUSTEE LIST'!B546=\"\",\"\",'FULL TRUSTEE LIST'!B546&\" \"&'FULL TRUSTEE LIST'!C546)","v":""}]
[{"$f":"IF('FULL TRUSTEE LIST'!B547=\"\",\"\",'FULL TRUSTEE LIST'!B547&\" \"&'FULL TRUSTEE LIST'!C547)","v":""}]
[{"$f":"IF('FULL TRUSTEE LIST'!B548=\"\",\"\",'FULL TRUSTEE LIST'!B548&\" \"&'FULL TRUSTEE LIST'!C548)","v":""}]
[{"$f":"IF('FULL TRUSTEE LIST'!B549=\"\",\"\",'FULL TRUSTEE LIST'!B549&\" \"&'FULL TRUSTEE LIST'!C549)","v":""}]
[{"$f":"IF('FULL TRUSTEE LIST'!B550=\"\",\"\",'FULL TRUSTEE LIST'!B550&\" \"&'FULL TRUSTEE LIST'!C550)","v":""}]
[{"$f":"IF('FULL TRUSTEE LIST'!B551=\"\",\"\",'FULL TRUSTEE LIST'!B551&\" \"&'FULL TRUSTEE LIST'!C551)","v":""}]
[{"$f":"IF('FULL TRUSTEE LIST'!B552=\"\",\"\",'FULL TRUSTEE LIST'!B552&\" \"&'FULL TRUSTEE LIST'!C552)","v":""}]
[{"$f":"IF('FULL TRUSTEE LIST'!B553=\"\",\"\",'FULL TRUSTEE LIST'!B553&\" \"&'FULL TRUSTEE LIST'!C553)","v":""}]
[{"$f":"IF('FULL TRUSTEE LIST'!B554=\"\",\"\",'FULL TRUSTEE LIST'!B554&\" \"&'FULL TRUSTEE LIST'!C554)","v":""}]
[{"$f":"IF('FULL TRUSTEE LIST'!B555=\"\",\"\",'FULL TRUSTEE LIST'!B555&\" \"&'FULL TRUSTEE LIST'!C555)","v":""}]
[{"$f":"IF('FULL TRUSTEE LIST'!B556=\"\",\"\",'FULL TRUSTEE LIST'!B556&\" \"&'FULL TRUSTEE LIST'!C556)","v":""}]
[{"$f":"IF('FULL TRUSTEE LIST'!B557=\"\",\"\",'FULL TRUSTEE LIST'!B557&\" \"&'FULL TRUSTEE LIST'!C557)","v":""}]
[{"$f":"IF('FULL TRUSTEE LIST'!B558=\"\",\"\",'FULL TRUSTEE LIST'!B558&\" \"&'FULL TRUSTEE LIST'!C558)","v":""}]
[{"$f":"IF('FULL TRUSTEE LIST'!B559=\"\",\"\",'FULL TRUSTEE LIST'!B559&\" \"&'FULL TRUSTEE LIST'!C559)","v":""}]
[{"$f":"IF('FULL TRUSTEE LIST'!B560=\"\",\"\",'FULL TRUSTEE LIST'!B560&\" \"&'FULL TRUSTEE LIST'!C560)","v":""}]
[{"$f":"IF('FULL TRUSTEE LIST'!B561=\"\",\"\",'FULL TRUSTEE LIST'!B561&\" \"&'FULL TRUSTEE LIST'!C561)","v":""}]
[{"$f":"IF('FULL TRUSTEE LIST'!B562=\"\",\"\",'FULL TRUSTEE LIST'!B562&\" \"&'FULL TRUSTEE LIST'!C562)","v":""}]
[{"$f":"IF('FULL TRUSTEE LIST'!B563=\"\",\"\",'FULL TRUSTEE LIST'!B563&\" \"&'FULL TRUSTEE LIST'!C563)","v":""}]
[{"$f":"IF('FULL TRUSTEE LIST'!B564=\"\",\"\",'FULL TRUSTEE LIST'!B564&\" \"&'FULL TRUSTEE LIST'!C564)","v":""}]
[{"$f":"IF('FULL TRUSTEE LIST'!B565=\"\",\"\",'FULL TRUSTEE LIST'!B565&\" \"&'FULL TRUSTEE LIST'!C565)","v":""}]
[{"$f":"IF('FULL TRUSTEE LIST'!B566=\"\",\"\",'FULL TRUSTEE LIST'!B566&\" \"&'FULL TRUSTEE LIST'!C566)","v":""}]
[{"$f":"IF('FULL TRUSTEE LIST'!B567=\"\",\"\",'FULL TRUSTEE LIST'!B567&\" \"&'FULL TRUSTEE LIST'!C567)","v":""}]
[{"$f":"IF('FULL TRUSTEE LIST'!B568=\"\",\"\",'FULL TRUSTEE LIST'!B568&\" \"&'FULL TRUSTEE LIST'!C568)","v":""}]
[{"$f":"IF('FULL TRUSTEE LIST'!B569=\"\",\"\",'FULL TRUSTEE LIST'!B569&\" \"&'FULL TRUSTEE LIST'!C569)","v":""}]
[{"$f":"IF('FULL TRUSTEE LIST'!B570=\"\",\"\",'FULL TRUSTEE LIST'!B570&\" \"&'FULL TRUSTEE LIST'!C570)","v":""}]
[{"$f":"IF('FULL TRUSTEE LIST'!B571=\"\",\"\",'FULL TRUSTEE LIST'!B571&\" \"&'FULL TRUSTEE LIST'!C571)","v":""}]
[{"$f":"IF('FULL TRUSTEE LIST'!B572=\"\",\"\",'FULL TRUSTEE LIST'!B572&\" \"&'FULL TRUSTEE LIST'!C572)","v":""}]
[{"$f":"IF('FULL TRUSTEE LIST'!B573=\"\",\"\",'FULL TRUSTEE LIST'!B573&\" \"&'FULL TRUSTEE LIST'!C573)","v":""}]
[{"$f":"IF('FULL TRUSTEE LIST'!B574=\"\",\"\",'FULL TRUSTEE LIST'!B574&\" \"&'FULL TRUSTEE LIST'!C574)","v":""}]
[{"$f":"IF('FULL TRUSTEE LIST'!B575=\"\",\"\",'FULL TRUSTEE LIST'!B575&\" \"&'FULL TRUSTEE LIST'!C575)","v":""}]
[{"$f":"IF('FULL TRUSTEE LIST'!B576=\"\",\"\",'FULL TRUSTEE LIST'!B576&\" \"&'FULL TRUSTEE LIST'!C576)","v":""}]
[{"$f":"IF('FULL TRUSTEE LIST'!B577=\"\",\"\",'FULL TRUSTEE LIST'!B577&\" \"&'FULL TRUSTEE LIST'!C577)","v":""}]
[{"$f":"IF('FULL TRUSTEE LIST'!B578=\"\",\"\",'FULL TRUSTEE LIST'!B578&\" \"&'FULL TRUSTEE LIST'!C578)","v":""}]
[{"$f":"IF('FULL TRUSTEE LIST'!B579=\"\",\"\",'FULL TRUSTEE LIST'!B579&\" \"&'FULL TRUSTEE LIST'!C579)","v":""}]
[{"$f":"IF('FULL TRUSTEE LIST'!B580=\"\",\"\",'FULL TRUSTEE LIST'!B580&\" \"&'FULL TRUSTEE LIST'!C580)","v":""}]
[{"$f":"IF('FULL TRUSTEE LIST'!B581=\"\",\"\",'FULL TRUSTEE LIST'!B581&\" \"&'FULL TRUSTEE LIST'!C581)","v":""}]
[{"$f":"IF('FULL TRUSTEE LIST'!B582=\"\",\"\",'FULL TRUSTEE LIST'!B582&\" \"&'FULL TRUSTEE LIST'!C582)","v":""}]
[{"$f":"IF('FULL TRUSTEE LIST'!B583=\"\",\"\",'FULL TRUSTEE LIST'!B583&\" \"&'FULL TRUSTEE LIST'!C583)","v":""}]
[{"$f":"IF('FULL TRUSTEE LIST'!B584=\"\",\"\",'FULL TRUSTEE LIST'!B584&\" \"&'FULL TRUSTEE LIST'!C584)","v":""}]
[{"$f":"IF('FULL TRUSTEE LIST'!B585=\"\",\"\",'FULL TRUSTEE LIST'!B585&\" \"&'FULL TRUSTEE LIST'!C585)","v":""}]
[{"$f":"IF('FULL TRUSTEE LIST'!B586=\"\",\"\",'FULL TRUSTEE LIST'!B586&\" \"&'FULL TRUSTEE LIST'!C586)","v":""}]
[{"$f":"IF('FULL TRUSTEE LIST'!B587=\"\",\"\",'FULL TRUSTEE LIST'!B587&\" \"&'FULL TRUSTEE LIST'!C587)","v":""}]
[{"$f":"IF('FULL TRUSTEE LIST'!B588=\"\",\"\",'FULL TRUSTEE LIST'!B588&\" \"&'FULL TRUSTEE LIST'!C588)","v":""}]
[{"$f":"IF('FULL TRUSTEE LIST'!B589=\"\",\"\",'FULL TRUSTEE LIST'!B589&\" \"&'FULL TRUSTEE LIST'!C589)","v":""}]
[{"$f":"IF('FULL TRUSTEE LIST'!B590=\"\",\"\",'FULL TRUSTEE LIST'!B590&\" \"&'FULL TRUSTEE LIST'!C590)","v":""}]
[{"$f":"IF('FULL TRUSTEE LIST'!B591=\"\",\"\",'FULL TRUSTEE LIST'!B591&\" \"&'FULL TRUSTEE LIST'!C591)","v":""}]
[{"$f":"IF('FULL TRUSTEE LIST'!B592=\"\",\"\",'FULL TRUSTEE LIST'!B592&\" \"&'FULL TRUSTEE LIST'!C592)","v":""}]
[{"$f":"IF('FULL TRUSTEE LIST'!B593=\"\",\"\",'FULL TRUSTEE LIST'!B593&\" \"&'FULL TRUSTEE LIST'!C593)","v":""}]
[{"$f":"IF('FULL TRUSTEE LIST'!B594=\"\",\"\",'FULL TRUSTEE LIST'!B594&\" \"&'FULL TRUSTEE LIST'!C594)","v":""}]
[{"$f":"IF('FULL TRUSTEE LIST'!B595=\"\",\"\",'FULL TRUSTEE LIST'!B595&\" \"&'FULL TRUSTEE LIST'!C595)","v":""}]
[{"$f":"IF('FULL TRUSTEE LIST'!B596=\"\",\"\",'FULL TRUSTEE LIST'!B596&\" \"&'FULL TRUSTEE LIST'!C596)","v":""}]
[{"$f":"IF('FULL TRUSTEE LIST'!B597=\"\",\"\",'FULL TRUSTEE LIST'!B597&\" \"&'FULL TRUSTEE LIST'!C597)","v":""}]
[{"$f":"IF('FULL TRUSTEE LIST'!B598=\"\",\"\",'FULL TRUSTEE LIST'!B598&\" \"&'FULL TRUSTEE LIST'!C598)","v":""}]
[{"$f":"IF('FULL TRUSTEE LIST'!B599=\"\",\"\",'FULL TRUSTEE LIST'!B599&\" \"&'FULL TRUSTEE LIST'!C599)","v":""}]
[{"$f":"IF('FULL TRUSTEE LIST'!B600=\"\",\"\",'FULL TRUSTEE LIST'!B600&\" \"&'FULL TRUSTEE LIST'!C600)","v":""}]
[{"$f":"IF('FULL TRUSTEE LIST'!B601=\"\",\"\",'FULL TRUSTEE LIST'!B601&\" \"&'FULL TRUSTEE LIST'!C601)","v":""}]
[{"$f":"IF('FULL TRUSTEE LIST'!B602=\"\",\"\",'FULL TRUSTEE LIST'!B602&\" \"&'FULL TRUSTEE LIST'!C602)","v":""}]
[{"$f":"IF('FULL TRUSTEE LIST'!B603=\"\",\"\",'FULL TRUSTEE LIST'!B603&\" \"&'FULL TRUSTEE LIST'!C603)","v":""}]
[{"$f":"IF('FULL TRUSTEE LIST'!B604=\"\",\"\",'FULL TRUSTEE LIST'!B604&\" \"&'FULL TRUSTEE LIST'!C604)","v":""}]
[{"$f":"IF('FULL TRUSTEE LIST'!B605=\"\",\"\",'FULL TRUSTEE LIST'!B605&\" \"&'FULL TRUSTEE LIST'!C605)","v":""}]
[{"$f":"IF('FULL TRUSTEE LIST'!B606=\"\",\"\",'FULL TRUSTEE LIST'!B606&\" \"&'FULL TRUSTEE LIST'!C606)","v":""}]
[{"$f":"IF('FULL TRUSTEE LIST'!B607=\"\",\"\",'FULL TRUSTEE LIST'!B607&\" \"&'FULL TRUSTEE LIST'!C607)","v":""}]
[{"$f":"IF('FULL TRUSTEE LIST'!B608=\"\",\"\",'FULL TRUSTEE LIST'!B608&\" \"&'FULL TRUSTEE LIST'!C608)","v":""}]
[{"$f":"IF('FULL TRUSTEE LIST'!B609=\"\",\"\",'FULL TRUSTEE LIST'!B609&\" \"&'FULL TRUSTEE LIST'!C609)","v":""}]
[{"$f":"IF('FULL TRUSTEE LIST'!B610=\"\",\"\",'FULL TRUSTEE LIST'!B610&\" \"&'FULL TRUSTEE LIST'!C610)","v":""}]
[{"$f":"IF('FULL TRUSTEE LIST'!B611=\"\",\"\",'FULL TRUSTEE LIST'!B611&\" \"&'FULL TRUSTEE LIST'!C611)","v":""}]
[{"$f":"IF('FULL TRUSTEE LIST'!B612=\"\",\"\",'FULL TRUSTEE LIST'!B612&\" \"&'FULL TRUSTEE LIST'!C612)","v":""}]
[{"$f":"IF('FULL TRUSTEE LIST'!B613=\"\",\"\",'FULL TRUSTEE LIST'!B613&\" \"&'FULL TRUSTEE LIST'!C613)","v":""}]
[{"$f":"IF('FULL TRUSTEE LIST'!B614=\"\",\"\",'FULL TRUSTEE LIST'!B614&\" \"&'FULL TRUSTEE LIST'!C614)","v":""}]
[{"$f":"IF('FULL TRUSTEE LIST'!B615=\"\",\"\",'FULL TRUSTEE LIST'!B615&\" \"&'FULL TRUSTEE LIST'!C615)","v":""}]
[{"$f":"IF('FULL TRUSTEE LIST'!B616=\"\",\"\",'FULL TRUSTEE LIST'!B616&\" \"&'FULL TRUSTEE LIST'!C616)","v":""}]
[{"$f":"IF('FULL TRUSTEE LIST'!B617=\"\",\"\",'FULL TRUSTEE LIST'!B617&\" \"&'FULL TRUSTEE LIST'!C617)","v":""}]
[{"$f":"IF('FULL TRUSTEE LIST'!B618=\"\",\"\",'FULL TRUSTEE LIST'!B618&\" \"&'FULL TRUSTEE LIST'!C618)","v":""}]
[{"$f":"IF('FULL TRUSTEE LIST'!B619=\"\",\"\",'FULL TRUSTEE LIST'!B619&\" \"&'FULL TRUSTEE LIST'!C619)","v":""}]
[{"$f":"IF('FULL TRUSTEE LIST'!B620=\"\",\"\",'FULL TRUSTEE LIST'!B620&\" \"&'FULL TRUSTEE LIST'!C620)","v":""}]
[{"$f":"IF('FULL TRUSTEE LIST'!B621=\"\",\"\",'FULL TRUSTEE LIST'!B621&\" \"&'FULL TRUSTEE LIST'!C621)","v":""}]
[{"$f":"IF('FULL TRUSTEE LIST'!B622=\"\",\"\",'FULL TRUSTEE LIST'!B622&\" \"&'FULL TRUSTEE LIST'!C622)","v":""}]
[{"$f":"IF('FULL TRUSTEE LIST'!B623=\"\",\"\",'FULL TRUSTEE LIST'!B623&\" \"&'FULL TRUSTEE LIST'!C623)","v":""}]
[{"$f":"IF('FULL TRUSTEE LIST'!B624=\"\",\"\",'FULL TRUSTEE LIST'!B624&\" \"&'FULL TRUSTEE LIST'!C624)","v":""}]
[{"$f":"IF('FULL TRUSTEE LIST'!B625=\"\",\"\",'FULL TRUSTEE LIST'!B625&\" \"&'FULL TRUSTEE LIST'!C625)","v":""}]
[{"$f":"IF('FULL TRUSTEE LIST'!B626=\"\",\"\",'FULL TRUSTEE LIST'!B626&\" \"&'FULL TRUSTEE LIST'!C626)","v":""}]
[{"$f":"IF('FULL TRUSTEE LIST'!B627=\"\",\"\",'FULL TRUSTEE LIST'!B627&\" \"&'FULL TRUSTEE LIST'!C627)","v":""}]
[{"$f":"IF('FULL TRUSTEE LIST'!B628=\"\",\"\",'FULL TRUSTEE LIST'!B628&\" \"&'FULL TRUSTEE LIST'!C628)","v":""}]
[{"$f":"IF('FULL TRUSTEE LIST'!B629=\"\",\"\",'FULL TRUSTEE LIST'!B629&\" \"&'FULL TRUSTEE LIST'!C629)","v":""}]
[{"$f":"IF('FULL TRUSTEE LIST'!B630=\"\",\"\",'FULL TRUSTEE LIST'!B630&\" \"&'FULL TRUSTEE LIST'!C630)","v":""}]
[{"$f":"IF('FULL TRUSTEE LIST'!B631=\"\",\"\",'FULL TRUSTEE LIST'!B631&\" \"&'FULL TRUSTEE LIST'!C631)","v":""}]
[{"$f":"IF('FULL TRUSTEE LIST'!B632=\"\",\"\",'FULL TRUSTEE LIST'!B632&\" \"&'FULL TRUSTEE LIST'!C632)","v":""}]
[{"$f":"IF('FULL TRUSTEE LIST'!B633=\"\",\"\",'FULL TRUSTEE LIST'!B633&\" \"&'FULL TRUSTEE LIST'!C633)","v":""}]
[{"$f":"IF('FULL TRUSTEE LIST'!B634=\"\",\"\",'FULL TRUSTEE LIST'!B634&\" \"&'FULL TRUSTEE LIST'!C634)","v":""}]
[{"$f":"IF('FULL TRUSTEE LIST'!B635=\"\",\"\",'FULL TRUSTEE LIST'!B635&\" \"&'FULL TRUSTEE LIST'!C635)","v":""}]
[{"$f":"IF('FULL TRUSTEE LIST'!B636=\"\",\"\",'FULL TRUSTEE LIST'!B636&\" \"&'FULL TRUSTEE LIST'!C636)","v":""}]
[{"$f":"IF('FULL TRUSTEE LIST'!B637=\"\",\"\",'FULL TRUSTEE LIST'!B637&\" \"&'FULL TRUSTEE LIST'!C637)","v":""}]
[{"$f":"IF('FULL TRUSTEE LIST'!B638=\"\",\"\",'FULL TRUSTEE LIST'!B638&\" \"&'FULL TRUSTEE LIST'!C638)","v":""}]
[{"$f":"IF('FULL TRUSTEE LIST'!B639=\"\",\"\",'FULL TRUSTEE LIST'!B639&\" \"&'FULL TRUSTEE LIST'!C639)","v":""}]
[{"$f":"IF('FULL TRUSTEE LIST'!B640=\"\",\"\",'FULL TRUSTEE LIST'!B640&\" \"&'FULL TRUSTEE LIST'!C640)","v":""}]
[{"$f":"IF('FULL TRUSTEE LIST'!B641=\"\",\"\",'FULL TRUSTEE LIST'!B641&\" \"&'FULL TRUSTEE LIST'!C641)","v":""}]
[{"$f":"IF('FULL TRUSTEE LIST'!B642=\"\",\"\",'FULL TRUSTEE LIST'!B642&\" \"&'FULL TRUSTEE LIST'!C642)","v":""}]
[{"$f":"IF('FULL TRUSTEE LIST'!B643=\"\",\"\",'FULL TRUSTEE LIST'!B643&\" \"&'FULL TRUSTEE LIST'!C643)","v":""}]
[{"$f":"IF('FULL TRUSTEE LIST'!B644=\"\",\"\",'FULL TRUSTEE LIST'!B644&\" \"&'FULL TRUSTEE LIST'!C644)","v":""}]
[{"$f":"IF('FULL TRUSTEE LIST'!B645=\"\",\"\",'FULL TRUSTEE LIST'!B645&\" \"&'FULL TRUSTEE LIST'!C645)","v":""}]
[{"$f":"IF('FULL TRUSTEE LIST'!B646=\"\",\"\",'FULL TRUSTEE LIST'!B646&\" \"&'FULL TRUSTEE LIST'!C646)","v":""}]
[{"$f":"IF('FULL TRUSTEE LIST'!B647=\"\",\"\",'FULL TRUSTEE LIST'!B647&\" \"&'FULL TRUSTEE LIST'!C647)","v":""}]
[{"$f":"IF('FULL TRUSTEE LIST'!B648=\"\",\"\",'FULL TRUSTEE LIST'!B648&\" \"&'FULL TRUSTEE LIST'!C648)","v":""}]
[{"$f":"IF('FULL TRUSTEE LIST'!B649=\"\",\"\",'FULL TRUSTEE LIST'!B649&\" \"&'FULL TRUSTEE LIST'!C649)","v":""}]
[{"$f":"IF('FULL TRUSTEE LIST'!B650=\"\",\"\",'FULL TRUSTEE LIST'!B650&\" \"&'FULL TRUSTEE LIST'!C650)","v":""}]
[{"$f":"IF('FULL TRUSTEE LIST'!B651=\"\",\"\",'FULL TRUSTEE LIST'!B651&\" \"&'FULL TRUSTEE LIST'!C651)","v":""}]
[{"$f":"IF('FULL TRUSTEE LIST'!B652=\"\",\"\",'FULL TRUSTEE LIST'!B652&\" \"&'FULL TRUSTEE LIST'!C652)","v":""}]
[{"$f":"IF('FULL TRUSTEE LIST'!B653=\"\",\"\",'FULL TRUSTEE LIST'!B653&\" \"&'FULL TRUSTEE LIST'!C653)","v":""}]
[{"$f":"IF('FULL TRUSTEE LIST'!B654=\"\",\"\",'FULL TRUSTEE LIST'!B654&\" \"&'FULL TRUSTEE LIST'!C654)","v":""}]
[{"$f":"IF('FULL TRUSTEE LIST'!B655=\"\",\"\",'FULL TRUSTEE LIST'!B655&\" \"&'FULL TRUSTEE LIST'!C655)","v":""}]
[{"$f":"IF('FULL TRUSTEE LIST'!B656=\"\",\"\",'FULL TRUSTEE LIST'!B656&\" \"&'FULL TRUSTEE LIST'!C656)","v":""}]
[{"$f":"IF('FULL TRUSTEE LIST'!B657=\"\",\"\",'FULL TRUSTEE LIST'!B657&\" \"&'FULL TRUSTEE LIST'!C657)","v":""}]
[{"$f":"IF('FULL TRUSTEE LIST'!B658=\"\",\"\",'FULL TRUSTEE LIST'!B658&\" \"&'FULL TRUSTEE LIST'!C658)","v":""}]
[{"$f":"IF('FULL TRUSTEE LIST'!B659=\"\",\"\",'FULL TRUSTEE LIST'!B659&\" \"&'FULL TRUSTEE LIST'!C659)","v":""}]
[{"$f":"IF('FULL TRUSTEE LIST'!B660=\"\",\"\",'FULL TRUSTEE LIST'!B660&\" \"&'FULL TRUSTEE LIST'!C660)","v":""}]
[{"$f":"IF('FULL TRUSTEE LIST'!B661=\"\",\"\",'FULL TRUSTEE LIST'!B661&\" \"&'FULL TRUSTEE LIST'!C661)","v":""}]
[{"$f":"IF('FULL TRUSTEE LIST'!B662=\"\",\"\",'FULL TRUSTEE LIST'!B662&\" \"&'FULL TRUSTEE LIST'!C662)","v":""}]
[{"$f":"IF('FULL TRUSTEE LIST'!B663=\"\",\"\",'FULL TRUSTEE LIST'!B663&\" \"&'FULL TRUSTEE LIST'!C663)","v":""}]
[{"$f":"IF('FULL TRUSTEE LIST'!B664=\"\",\"\",'FULL TRUSTEE LIST'!B664&\" \"&'FULL TRUSTEE LIST'!C664)","v":""}]
[{"$f":"IF('FULL TRUSTEE LIST'!B665=\"\",\"\",'FULL TRUSTEE LIST'!B665&\" \"&'FULL TRUSTEE LIST'!C665)","v":""}]
[{"$f":"IF('FULL TRUSTEE LIST'!B666=\"\",\"\",'FULL TRUSTEE LIST'!B666&\" \"&'FULL TRUSTEE LIST'!C666)","v":""}]
[{"$f":"IF('FULL TRUSTEE LIST'!B667=\"\",\"\",'FULL TRUSTEE LIST'!B667&\" \"&'FULL TRUSTEE LIST'!C667)","v":""}]
[{"$f":"IF('FULL TRUSTEE LIST'!B668=\"\",\"\",'FULL TRUSTEE LIST'!B668&\" \"&'FULL TRUSTEE LIST'!C668)","v":""}]
[{"$f":"IF('FULL TRUSTEE LIST'!B669=\"\",\"\",'FULL TRUSTEE LIST'!B669&\" \"&'FULL TRUSTEE LIST'!C669)","v":""}]
[{"$f":"IF('FULL TRUSTEE LIST'!B670=\"\",\"\",'FULL TRUSTEE LIST'!B670&\" \"&'FULL TRUSTEE LIST'!C670)","v":""}]
[{"$f":"IF('FULL TRUSTEE LIST'!B671=\"\",\"\",'FULL TRUSTEE LIST'!B671&\" \"&'FULL TRUSTEE LIST'!C671)","v":""}]
[{"$f":"IF('FULL TRUSTEE LIST'!B672=\"\",\"\",'FULL TRUSTEE LIST'!B672&\" \"&'FULL TRUSTEE LIST'!C672)","v":""}]
[{"$f":"IF('FULL TRUSTEE LIST'!B673=\"\",\"\",'FULL TRUSTEE LIST'!B673&\" \"&'FULL TRUSTEE LIST'!C673)","v":""}]
[{"$f":"IF('FULL TRUSTEE LIST'!B674=\"\",\"\",'FULL TRUSTEE LIST'!B674&\" \"&'FULL TRUSTEE LIST'!C674)","v":""}]
[{"$f":"IF('FULL TRUSTEE LIST'!B675=\"\",\"\",'FULL TRUSTEE LIST'!B675&\" \"&'FULL TRUSTEE LIST'!C675)","v":""}]
[{"$f":"IF('FULL TRUSTEE LIST'!B676=\"\",\"\",'FULL TRUSTEE LIST'!B676&\" \"&'FULL TRUSTEE LIST'!C676)","v":""}]
[{"$f":"IF('FULL TRUSTEE LIST'!B677=\"\",\"\",'FULL TRUSTEE LIST'!B677&\" \"&'FULL TRUSTEE LIST'!C677)","v":""}]
[{"$f":"IF('FULL TRUSTEE LIST'!B678=\"\",\"\",'FULL TRUSTEE LIST'!B678&\" \"&'FULL TRUSTEE LIST'!C678)","v":""}]
[{"$f":"IF('FULL TRUSTEE LIST'!B679=\"\",\"\",'FULL TRUSTEE LIST'!B679&\" \"&'FULL TRUSTEE LIST'!C679)","v":""}]
[{"$f":"IF('FULL TRUSTEE LIST'!B680=\"\",\"\",'FULL TRUSTEE LIST'!B680&\" \"&'FULL TRUSTEE LIST'!C680)","v":""}]
[{"$f":"IF('FULL TRUSTEE LIST'!B681=\"\",\"\",'FULL TRUSTEE LIST'!B681&\" \"&'FULL TRUSTEE LIST'!C681)","v":""}]
[{"$f":"IF('FULL TRUSTEE LIST'!B682=\"\",\"\",'FULL TRUSTEE LIST'!B682&\" \"&'FULL TRUSTEE LIST'!C682)","v":""}]
[{"$f":"IF('FULL TRUSTEE LIST'!B683=\"\",\"\",'FULL TRUSTEE LIST'!B683&\" \"&'FULL TRUSTEE LIST'!C683)","v":""}]
[{"$f":"IF('FULL TRUSTEE LIST'!B684=\"\",\"\",'FULL TRUSTEE LIST'!B684&\" \"&'FULL TRUSTEE LIST'!C684)","v":""}]
[{"$f":"IF('FULL TRUSTEE LIST'!B685=\"\",\"\",'FULL TRUSTEE LIST'!B685&\" \"&'FULL TRUSTEE LIST'!C685)","v":""}]
[{"$f":"IF('FULL TRUSTEE LIST'!B686=\"\",\"\",'FULL TRUSTEE LIST'!B686&\" \"&'FULL TRUSTEE LIST'!C686)","v":""}]
[{"$f":"IF('FULL TRUSTEE LIST'!B687=\"\",\"\",'FULL TRUSTEE LIST'!B687&\" \"&'FULL TRUSTEE LIST'!C687)","v":""}]
[{"$f":"IF('FULL TRUSTEE LIST'!B688=\"\",\"\",'FULL TRUSTEE LIST'!B688&\" \"&'FULL TRUSTEE LIST'!C688)","v":""}]
[{"$f":"IF('FULL TRUSTEE LIST'!B689=\"\",\"\",'FULL TRUSTEE LIST'!B689&\" \"&'FULL TRUSTEE LIST'!C689)","v":""}]
[{"$f":"IF('FULL TRUSTEE LIST'!B690=\"\",\"\",'FULL TRUSTEE LIST'!B690&\" \"&'FULL TRUSTEE LIST'!C690)","v":""}]
[{"$f":"IF('FULL TRUSTEE LIST'!B691=\"\",\"\",'FULL TRUSTEE LIST'!B691&\" \"&'FULL TRUSTEE LIST'!C691)","v":""}]
[{"$f":"IF('FULL TRUSTEE LIST'!B692=\"\",\"\",'FULL TRUSTEE LIST'!B692&\" \"&'FULL TRUSTEE LIST'!C692)","v":""}]
[{"$f":"IF('FULL TRUSTEE LIST'!B693=\"\",\"\",'FULL TRUSTEE LIST'!B693&\" \"&'FULL TRUSTEE LIST'!C693)","v":""}]
[{"$f":"IF('FULL TRUSTEE LIST'!B694=\"\",\"\",'FULL TRUSTEE LIST'!B694&\" \"&'FULL TRUSTEE LIST'!C694)","v":""}]
[{"$f":"IF('FULL TRUSTEE LIST'!B695=\"\",\"\",'FULL TRUSTEE LIST'!B695&\" \"&'FULL TRUSTEE LIST'!C695)","v":""}]
[{"$f":"IF('FULL TRUSTEE LIST'!B696=\"\",\"\",'FULL TRUSTEE LIST'!B696&\" \"&'FULL TRUSTEE LIST'!C696)","v":""}]
[{"$f":"IF('FULL TRUSTEE LIST'!B697=\"\",\"\",'FULL TRUSTEE LIST'!B697&\" \"&'FULL TRUSTEE LIST'!C697)","v":""}]
[{"$f":"IF('FULL TRUSTEE LIST'!B698=\"\",\"\",'FULL TRUSTEE LIST'!B698&\" \"&'FULL TRUSTEE LIST'!C698)","v":""}]
[{"$f":"IF('FULL TRUSTEE LIST'!B699=\"\",\"\",'FULL TRUSTEE LIST'!B699&\" \"&'FULL TRUSTEE LIST'!C699)","v":""}]
[{"$f":"IF('FULL TRUSTEE LIST'!B700=\"\",\"\",'FULL TRUSTEE LIST'!B700&\" \"&'FULL TRUSTEE LIST'!C700)","v":""}]
[{"$f":"IF('FULL TRUSTEE LIST'!B701=\"\",\"\",'FULL TRUSTEE LIST'!B701&\" \"&'FULL TRUSTEE LIST'!C701)","v":""}]
[{"$f":"IF('FULL TRUSTEE LIST'!B702=\"\",\"\",'FULL TRUSTEE LIST'!B702&\" \"&'FULL TRUSTEE LIST'!C702)","v":""}]
[{"$f":"IF('FULL TRUSTEE LIST'!B703=\"\",\"\",'FULL TRUSTEE LIST'!B703&\" \"&'FULL TRUSTEE LIST'!C703)","v":""}]
[{"$f":"IF('FULL TRUSTEE LIST'!B704=\"\",\"\",'FULL TRUSTEE LIST'!B704&\" \"&'FULL TRUSTEE LIST'!C704)","v":""}]
[{"$f":"IF('FULL TRUSTEE LIST'!B705=\"\",\"\",'FULL TRUSTEE LIST'!B705&\" \"&'FULL TRUSTEE LIST'!C705)","v":""}]
[{"$f":"IF('FULL TRUSTEE LIST'!B706=\"\",\"\",'FULL TRUSTEE LIST'!B706&\" \"&'FULL TRUSTEE LIST'!C706)","v":""}]
[{"$f":"IF('FULL TRUSTEE LIST'!B707=\"\",\"\",'FULL TRUSTEE LIST'!B707&\" \"&'FULL TRUSTEE LIST'!C707)","v":""}]
[{"$f":"IF('FULL TRUSTEE LIST'!B708=\"\",\"\",'FULL TRUSTEE LIST'!B708&\" \"&'FULL TRUSTEE LIST'!C708)","v":""}]
[{"$f":"IF('FULL TRUSTEE LIST'!B709=\"\",\"\",'FULL TRUSTEE LIST'!B709&\" \"&'FULL TRUSTEE LIST'!C709)","v":""}]
[{"$f":"IF('FULL TRUSTEE LIST'!B710=\"\",\"\",'FULL TRUSTEE LIST'!B710&\" \"&'FULL TRUSTEE LIST'!C710)","v":""}]
[{"$f":"IF('FULL TRUSTEE LIST'!B711=\"\",\"\",'FULL TRUSTEE LIST'!B711&\" \"&'FULL TRUSTEE LIST'!C711)","v":""}]
[{"$f":"IF('FULL TRUSTEE LIST'!B712=\"\",\"\",'FULL TRUSTEE LIST'!B712&\" \"&'FULL TRUSTEE LIST'!C712)","v":""}]
[{"$f":"IF('FULL TRUSTEE LIST'!B713=\"\",\"\",'FULL TRUSTEE LIST'!B713&\" \"&'FULL TRUSTEE LIST'!C713)","v":""}]
[{"$f":"IF('FULL TRUSTEE LIST'!B714=\"\",\"\",'FULL TRUSTEE LIST'!B714&\" \"&'FULL TRUSTEE LIST'!C714)","v":""}]
[{"$f":"IF('FULL TRUSTEE LIST'!B715=\"\",\"\",'FULL TRUSTEE LIST'!B715&\" \"&'FULL TRUSTEE LIST'!C715)","v":""}]
[{"$f":"IF('FULL TRUSTEE LIST'!B716=\"\",\"\",'FULL TRUSTEE LIST'!B716&\" \"&'FULL TRUSTEE LIST'!C716)","v":""}]
[{"$f":"IF('FULL TRUSTEE LIST'!B717=\"\",\"\",'FULL TRUSTEE LIST'!B717&\" \"&'FULL TRUSTEE LIST'!C717)","v":""}]
[{"$f":"IF('FULL TRUSTEE LIST'!B718=\"\",\"\",'FULL TRUSTEE LIST'!B718&\" \"&'FULL TRUSTEE LIST'!C718)","v":""}]
[{"$f":"IF('FULL TRUSTEE LIST'!B719=\"\",\"\",'FULL TRUSTEE LIST'!B719&\" \"&'FULL TRUSTEE LIST'!C719)","v":""}]
[{"$f":"IF('FULL TRUSTEE LIST'!B720=\"\",\"\",'FULL TRUSTEE LIST'!B720&\" \"&'FULL TRUSTEE LIST'!C720)","v":""}]
[{"$f":"IF('FULL TRUSTEE LIST'!B721=\"\",\"\",'FULL TRUSTEE LIST'!B721&\" \"&'FULL TRUSTEE LIST'!C721)","v":""}]
[{"$f":"IF('FULL TRUSTEE LIST'!B722=\"\",\"\",'FULL TRUSTEE LIST'!B722&\" \"&'FULL TRUSTEE LIST'!C722)","v":""}]
[{"$f":"IF('FULL TRUSTEE LIST'!B723=\"\",\"\",'FULL TRUSTEE LIST'!B723&\" \"&'FULL TRUSTEE LIST'!C723)","v":""}]
[{"$f":"IF('FULL TRUSTEE LIST'!B724=\"\",\"\",'FULL TRUSTEE LIST'!B724&\" \"&'FULL TRUSTEE LIST'!C724)","v":""}]
[{"$f":"IF('FULL TRUSTEE LIST'!B725=\"\",\"\",'FULL TRUSTEE LIST'!B725&\" \"&'FULL TRUSTEE LIST'!C725)","v":""}]
[{"$f":"IF('FULL TRUSTEE LIST'!B726=\"\",\"\",'FULL TRUSTEE LIST'!B726&\" \"&'FULL TRUSTEE LIST'!C726)","v":""}]
[{"$f":"IF('FULL TRUSTEE LIST'!B727=\"\",\"\",'FULL TRUSTEE LIST'!B727&\" \"&'FULL TRUSTEE LIST'!C727)","v":""}]
[{"$f":"IF('FULL TRUSTEE LIST'!B728=\"\",\"\",'FULL TRUSTEE LIST'!B728&\" \"&'FULL TRUSTEE LIST'!C728)","v":""}]
[{"$f":"IF('FULL TRUSTEE LIST'!B729=\"\",\"\",'FULL TRUSTEE LIST'!B729&\" \"&'FULL TRUSTEE LIST'!C729)","v":""}]
[{"$f":"IF('FULL TRUSTEE LIST'!B730=\"\",\"\",'FULL TRUSTEE LIST'!B730&\" \"&'FULL TRUSTEE LIST'!C730)","v":""}]
[{"$f":"IF('FULL TRUSTEE LIST'!B731=\"\",\"\",'FULL TRUSTEE LIST'!B731&\" \"&'FULL TRUSTEE LIST'!C731)","v":""}]
[{"$f":"IF('FULL TRUSTEE LIST'!B732=\"\",\"\",'FULL TRUSTEE LIST'!B732&\" \"&'FULL TRUSTEE LIST'!C732)","v":""}]
[{"$f":"IF('FULL TRUSTEE LIST'!B733=\"\",\"\",'FULL TRUSTEE LIST'!B733&\" \"&'FULL TRUSTEE LIST'!C733)","v":""}]
[{"$f":"IF('FULL TRUSTEE LIST'!B734=\"\",\"\",'FULL TRUSTEE LIST'!B734&\" \"&'FULL TRUSTEE LIST'!C734)","v":""}]
[{"$f":"IF('FULL TRUSTEE LIST'!B735=\"\",\"\",'FULL TRUSTEE LIST'!B735&\" \"&'FULL TRUSTEE LIST'!C735)","v":""}]
[{"$f":"IF('FULL TRUSTEE LIST'!B736=\"\",\"\",'FULL TRUSTEE LIST'!B736&\" \"&'FULL TRUSTEE LIST'!C736)","v":""}]
[{"$f":"IF('FULL TRUSTEE LIST'!B737=\"\",\"\",'FULL TRUSTEE LIST'!B737&\" \"&'FULL TRUSTEE LIST'!C737)","v":""}]
[{"$f":"IF('FULL TRUSTEE LIST'!B738=\"\",\"\",'FULL TRUSTEE LIST'!B738&\" \"&'FULL TRUSTEE LIST'!C738)","v":""}]
[{"$f":"IF('FULL TRUSTEE LIST'!B739=\"\",\"\",'FULL TRUSTEE LIST'!B739&\" \"&'FULL TRUSTEE LIST'!C739)","v":""}]
[{"$f":"IF('FULL TRUSTEE LIST'!B740=\"\",\"\",'FULL TRUSTEE LIST'!B740&\" \"&'FULL TRUSTEE LIST'!C740)","v":""}]
[{"$f":"IF('FULL TRUSTEE LIST'!B741=\"\",\"\",'FULL TRUSTEE LIST'!B741&\" \"&'FULL TRUSTEE LIST'!C741)","v":""}]
[{"$f":"IF('FULL TRUSTEE LIST'!B742=\"\",\"\",'FULL TRUSTEE LIST'!B742&\" \"&'FULL TRUSTEE LIST'!C742)","v":""}]
[{"$f":"IF('FULL TRUSTEE LIST'!B743=\"\",\"\",'FULL TRUSTEE LIST'!B743&\" \"&'FULL TRUSTEE LIST'!C743)","v":""}]
[{"$f":"IF('FULL TRUSTEE LIST'!B744=\"\",\"\",'FULL TRUSTEE LIST'!B744&\" \"&'FULL TRUSTEE LIST'!C744)","v":""}]
[{"$f":"IF('FULL TRUSTEE LIST'!B745=\"\",\"\",'FULL TRUSTEE LIST'!B745&\" \"&'FULL TRUSTEE LIST'!C745)","v":""}]
[{"$f":"IF('FULL TRUSTEE LIST'!B746=\"\",\"\",'FULL TRUSTEE LIST'!B746&\" \"&'FULL TRUSTEE LIST'!C746)","v":""}]
[{"$f":"IF('FULL TRUSTEE LIST'!B747=\"\",\"\",'FULL TRUSTEE LIST'!B747&\" \"&'FULL TRUSTEE LIST'!C747)","v":""}]
[{"$f":"IF('FULL TRUSTEE LIST'!B748=\"\",\"\",'FULL TRUSTEE LIST'!B748&\" \"&'FULL TRUSTEE LIST'!C748)","v":""}]
[{"$f":"IF('FULL TRUSTEE LIST'!B749=\"\",\"\",'FULL TRUSTEE LIST'!B749&\" \"&'FULL TRUSTEE LIST'!C749)","v":""}]
[{"$f":"IF('FULL TRUSTEE LIST'!B750=\"\",\"\",'FULL TRUSTEE LIST'!B750&\" \"&'FULL TRUSTEE LIST'!C750)","v":""}]
[{"$f":"IF('FULL TRUSTEE LIST'!B751=\"\",\"\",'FULL TRUSTEE LIST'!B751&\" \"&'FULL TRUSTEE LIST'!C751)","v":""}]
[{"$f":"IF('FULL TRUSTEE LIST'!B752=\"\",\"\",'FULL TRUSTEE LIST'!B752&\" \"&'FULL TRUSTEE LIST'!C752)","v":""}]
[{"$f":"IF('FULL TRUSTEE LIST'!B753=\"\",\"\",'FULL TRUSTEE LIST'!B753&\" \"&'FULL TRUSTEE LIST'!C753)","v":""}]
[{"$f":"IF('FULL TRUSTEE LIST'!B754=\"\",\"\",'FULL TRUSTEE LIST'!B754&\" \"&'FULL TRUSTEE LIST'!C754)","v":""}]
[{"$f":"IF('FULL TRUSTEE LIST'!B755=\"\",\"\",'FULL TRUSTEE LIST'!B755&\" \"&'FULL TRUSTEE LIST'!C755)","v":""}]
[{"$f":"IF('FULL TRUSTEE LIST'!B756=\"\",\"\",'FULL TRUSTEE LIST'!B756&\" \"&'FULL TRUSTEE LIST'!C756)","v":""}]
[{"$f":"IF('FULL TRUSTEE LIST'!B757=\"\",\"\",'FULL TRUSTEE LIST'!B757&\" \"&'FULL TRUSTEE LIST'!C757)","v":""}]
[{"$f":"IF('FULL TRUSTEE LIST'!B758=\"\",\"\",'FULL TRUSTEE LIST'!B758&\" \"&'FULL TRUSTEE LIST'!C758)","v":""}]
[{"$f":"IF('FULL TRUSTEE LIST'!B759=\"\",\"\",'FULL TRUSTEE LIST'!B759&\" \"&'FULL TRUSTEE LIST'!C759)","v":""}]
[{"$f":"IF('FULL TRUSTEE LIST'!B760=\"\",\"\",'FULL TRUSTEE LIST'!B760&\" \"&'FULL TRUSTEE LIST'!C760)","v":""}]
[{"$f":"IF('FULL TRUSTEE LIST'!B761=\"\",\"\",'FULL TRUSTEE LIST'!B761&\" \"&'FULL TRUSTEE LIST'!C761)","v":""}]
[{"$f":"IF('FULL TRUSTEE LIST'!B762=\"\",\"\",'FULL TRUSTEE LIST'!B762&\" \"&'FULL TRUSTEE LIST'!C762)","v":""}]
[{"$f":"IF('FULL TRUSTEE LIST'!B763=\"\",\"\",'FULL TRUSTEE LIST'!B763&\" \"&'FULL TRUSTEE LIST'!C763)","v":""}]
[{"$f":"IF('FULL TRUSTEE LIST'!B764=\"\",\"\",'FULL TRUSTEE LIST'!B764&\" \"&'FULL TRUSTEE LIST'!C764)","v":""}]
[{"$f":"IF('FULL TRUSTEE LIST'!B765=\"\",\"\",'FULL TRUSTEE LIST'!B765&\" \"&'FULL TRUSTEE LIST'!C765)","v":""}]
[{"$f":"IF('FULL TRUSTEE LIST'!B766=\"\",\"\",'FULL TRUSTEE LIST'!B766&\" \"&'FULL TRUSTEE LIST'!C766)","v":""}]
[{"$f":"IF('FULL TRUSTEE LIST'!B767=\"\",\"\",'FULL TRUSTEE LIST'!B767&\" \"&'FULL TRUSTEE LIST'!C767)","v":""}]
[{"$f":"IF('FULL TRUSTEE LIST'!B768=\"\",\"\",'FULL TRUSTEE LIST'!B768&\" \"&'FULL TRUSTEE LIST'!C768)","v":""}]
[{"$f":"IF('FULL TRUSTEE LIST'!B769=\"\",\"\",'FULL TRUSTEE LIST'!B769&\" \"&'FULL TRUSTEE LIST'!C769)","v":""}]
[{"$f":"IF('FULL TRUSTEE LIST'!B770=\"\",\"\",'FULL TRUSTEE LIST'!B770&\" \"&'FULL TRUSTEE LIST'!C770)","v":""}]
[{"$f":"IF('FULL TRUSTEE LIST'!B771=\"\",\"\",'FULL TRUSTEE LIST'!B771&\" \"&'FULL TRUSTEE LIST'!C771)","v":""}]
[{"$f":"IF('FULL TRUSTEE LIST'!B772=\"\",\"\",'FULL TRUSTEE LIST'!B772&\" \"&'FULL TRUSTEE LIST'!C772)","v":""}]
[{"$f":"IF('FULL TRUSTEE LIST'!B773=\"\",\"\",'FULL TRUSTEE LIST'!B773&\" \"&'FULL TRUSTEE LIST'!C773)","v":""}]
[{"$f":"IF('FULL TRUSTEE LIST'!B774=\"\",\"\",'FULL TRUSTEE LIST'!B774&\" \"&'FULL TRUSTEE LIST'!C774)","v":""}]
[{"$f":"IF('FULL TRUSTEE LIST'!B775=\"\",\"\",'FULL TRUSTEE LIST'!B775&\" \"&'FULL TRUSTEE LIST'!C775)","v":""}]
[{"$f":"IF('FULL TRUSTEE LIST'!B776=\"\",\"\",'FULL TRUSTEE LIST'!B776&\" \"&'FULL TRUSTEE LIST'!C776)","v":""}]
[{"$f":"IF('FULL TRUSTEE LIST'!B777=\"\",\"\",'FULL TRUSTEE LIST'!B777&\" \"&'FULL TRUSTEE LIST'!C777)","v":""}]
[{"$f":"IF('FULL TRUSTEE LIST'!B778=\"\",\"\",'FULL TRUSTEE LIST'!B778&\" \"&'FULL TRUSTEE LIST'!C778)","v":""}]
[{"$f":"IF('FULL TRUSTEE LIST'!B779=\"\",\"\",'FULL TRUSTEE LIST'!B779&\" \"&'FULL TRUSTEE LIST'!C779)","v":""}]
[{"$f":"IF('FULL TRUSTEE LIST'!B780=\"\",\"\",'FULL TRUSTEE LIST'!B780&\" \"&'FULL TRUSTEE LIST'!C780)","v":""}]
[{"$f":"IF('FULL TRUSTEE LIST'!B781=\"\",\"\",'FULL TRUSTEE LIST'!B781&\" \"&'FULL TRUSTEE LIST'!C781)","v":""}]
[{"$f":"IF('FULL TRUSTEE LIST'!B782=\"\",\"\",'FULL TRUSTEE LIST'!B782&\" \"&'FULL TRUSTEE LIST'!C782)","v":""}]
[{"$f":"IF('FULL TRUSTEE LIST'!B783=\"\",\"\",'FULL TRUSTEE LIST'!B783&\" \"&'FULL TRUSTEE LIST'!C783)","v":""}]
[{"$f":"IF('FULL TRUSTEE LIST'!B784=\"\",\"\",'FULL TRUSTEE LIST'!B784&\" \"&'FULL TRUSTEE LIST'!C784)","v":""}]
[{"$f":"IF('FULL TRUSTEE LIST'!B785=\"\",\"\",'FULL TRUSTEE LIST'!B785&\" \"&'FULL TRUSTEE LIST'!C785)","v":""}]
[{"$f":"IF('FULL TRUSTEE LIST'!B786=\"\",\"\",'FULL TRUSTEE LIST'!B786&\" \"&'FULL TRUSTEE LIST'!C786)","v":""}]
[{"$f":"IF('FULL TRUSTEE LIST'!B787=\"\",\"\",'FULL TRUSTEE LIST'!B787&\" \"&'FULL TRUSTEE LIST'!C787)","v":""}]
[{"$f":"IF('FULL TRUSTEE LIST'!B788=\"\",\"\",'FULL TRUSTEE LIST'!B788&\" \"&'FULL TRUSTEE LIST'!C788)","v":""}]
[{"$f":"IF('FULL TRUSTEE LIST'!B789=\"\",\"\",'FULL TRUSTEE LIST'!B789&\" \"&'FULL TRUSTEE LIST'!C789)","v":""}]
[{"$f":"IF('FULL TRUSTEE LIST'!B790=\"\",\"\",'FULL TRUSTEE LIST'!B790&\" \"&'FULL TRUSTEE LIST'!C790)","v":""}]
[{"$f":"IF('FULL TRUSTEE LIST'!B791=\"\",\"\",'FULL TRUSTEE LIST'!B791&\" \"&'FULL TRUSTEE LIST'!C791)","v":""}]
[{"$f":"IF('FULL TRUSTEE LIST'!B792=\"\",\"\",'FULL TRUSTEE LIST'!B792&\" \"&'FULL TRUSTEE LIST'!C792)","v":""}]
[{"$f":"IF('FULL TRUSTEE LIST'!B793=\"\",\"\",'FULL TRUSTEE LIST'!B793&\" \"&'FULL TRUSTEE LIST'!C793)","v":""}]
[{"$f":"IF('FULL TRUSTEE LIST'!B794=\"\",\"\",'FULL TRUSTEE LIST'!B794&\" \"&'FULL TRUSTEE LIST'!C794)","v":""}]
[{"$f":"IF('FULL TRUSTEE LIST'!B795=\"\",\"\",'FULL TRUSTEE LIST'!B795&\" \"&'FULL TRUSTEE LIST'!C795)","v":""}]
[{"$f":"IF('FULL TRUSTEE LIST'!B796=\"\",\"\",'FULL TRUSTEE LIST'!B796&\" \"&'FULL TRUSTEE LIST'!C796)","v":""}]
[{"$f":"IF('FULL TRUSTEE LIST'!B797=\"\",\"\",'FULL TRUSTEE LIST'!B797&\" \"&'FULL TRUSTEE LIST'!C797)","v":""}]
[{"$f":"IF('FULL TRUSTEE LIST'!B798=\"\",\"\",'FULL TRUSTEE LIST'!B798&\" \"&'FULL TRUSTEE LIST'!C798)","v":""}]
[{"$f":"IF('FULL TRUSTEE LIST'!B799=\"\",\"\",'FULL TRUSTEE LIST'!B799&\" \"&'FULL TRUSTEE LIST'!C799)","v":""}]
[{"$f":"IF('FULL TRUSTEE LIST'!B800=\"\",\"\",'FULL TRUSTEE LIST'!B800&\" \"&'FULL TRUSTEE LIST'!C800)","v":""}]
[{"$f":"IF('FULL TRUSTEE LIST'!B801=\"\",\"\",'FULL TRUSTEE LIST'!B801&\" \"&'FULL TRUSTEE LIST'!C801)","v":""}]
[{"$f":"IF('FULL TRUSTEE LIST'!B802=\"\",\"\",'FULL TRUSTEE LIST'!B802&\" \"&'FULL TRUSTEE LIST'!C802)","v":""}]
[{"$f":"IF('FULL TRUSTEE LIST'!B803=\"\",\"\",'FULL TRUSTEE LIST'!B803&\" \"&'FULL TRUSTEE LIST'!C803)","v":""}]
[{"$f":"IF('FULL TRUSTEE LIST'!B804=\"\",\"\",'FULL TRUSTEE LIST'!B804&\" \"&'FULL TRUSTEE LIST'!C804)","v":""}]
[{"$f":"IF('FULL TRUSTEE LIST'!B805=\"\",\"\",'FULL TRUSTEE LIST'!B805&\" \"&'FULL TRUSTEE LIST'!C805)","v":""}]
[{"$f":"IF('FULL TRUSTEE LIST'!B806=\"\",\"\",'FULL TRUSTEE LIST'!B806&\" \"&'FULL TRUSTEE LIST'!C806)","v":""}]
[{"$f":"IF('FULL TRUSTEE LIST'!B807=\"\",\"\",'FULL TRUSTEE LIST'!B807&\" \"&'FULL TRUSTEE LIST'!C807)","v":""}]
[{"$f":"IF('FULL TRUSTEE LIST'!B808=\"\",\"\",'FULL TRUSTEE LIST'!B808&\" \"&'FULL TRUSTEE LIST'!C808)","v":""}]
[{"$f":"IF('FULL TRUSTEE LIST'!B809=\"\",\"\",'FULL TRUSTEE LIST'!B809&\" \"&'FULL TRUSTEE LIST'!C809)","v":""}]
[{"$f":"IF('FULL TRUSTEE LIST'!B810=\"\",\"\",'FULL TRUSTEE LIST'!B810&\" \"&'FULL TRUSTEE LIST'!C810)","v":""}]
[{"$f":"IF('FULL TRUSTEE LIST'!B811=\"\",\"\",'FULL TRUSTEE LIST'!B811&\" \"&'FULL TRUSTEE LIST'!C811)","v":""}]
[{"$f":"IF('FULL TRUSTEE LIST'!B812=\"\",\"\",'FULL TRUSTEE LIST'!B812&\" \"&'FULL TRUSTEE LIST'!C812)","v":""}]
[{"$f":"IF('FULL TRUSTEE LIST'!B813=\"\",\"\",'FULL TRUSTEE LIST'!B813&\" \"&'FULL TRUSTEE LIST'!C813)","v":""}]
[{"$f":"IF('FULL TRUSTEE LIST'!B814=\"\",\"\",'FULL TRUSTEE LIST'!B814&\" \"&'FULL TRUSTEE LIST'!C814)","v":""}]
[{"$f":"IF('FULL TRUSTEE LIST'!B815=\"\",\"\",'FULL TRUSTEE LIST'!B815&\" \"&'FULL TRUSTEE LIST'!C815)","v":""}]
[{"$f":"IF('FULL TRUSTEE LIST'!B816=\"\",\"\",'FULL TRUSTEE LIST'!B816&\" \"&'FULL TRUSTEE LIST'!C816)","v":""}]
[{"$f":"IF('FULL TRUSTEE LIST'!B817=\"\",\"\",'FULL TRUSTEE LIST'!B817&\" \"&'FULL TRUSTEE LIST'!C817)","v":""}]
[{"$f":"IF('FULL TRUSTEE LIST'!B818=\"\",\"\",'FULL TRUSTEE LIST'!B818&\" \"&'FULL TRUSTEE LIST'!C818)","v":""}]
[{"$f":"IF('FULL TRUSTEE LIST'!B819=\"\",\"\",'FULL TRUSTEE LIST'!B819&\" \"&'FULL TRUSTEE LIST'!C819)","v":""}]
[{"$f":"IF('FULL TRUSTEE LIST'!B820=\"\",\"\",'FULL TRUSTEE LIST'!B820&\" \"&'FULL TRUSTEE LIST'!C820)","v":""}]
[{"$f":"IF('FULL TRUSTEE LIST'!B821=\"\",\"\",'FULL TRUSTEE LIST'!B821&\" \"&'FULL TRUSTEE LIST'!C821)","v":""}]
[{"$f":"IF('FULL TRUSTEE LIST'!B822=\"\",\"\",'FULL TRUSTEE LIST'!B822&\" \"&'FULL TRUSTEE LIST'!C822)","v":""}]
[{"$f":"IF('FULL TRUSTEE LIST'!B823=\"\",\"\",'FULL TRUSTEE LIST'!B823&\" \"&'FULL TRUSTEE LIST'!C823)","v":""}]
[{"$f":"IF('FULL TRUSTEE LIST'!B824=\"\",\"\",'FULL TRUSTEE LIST'!B824&\" \"&'FULL TRUSTEE LIST'!C824)","v":""}]
[{"$f":"IF('FULL TRUSTEE LIST'!B825=\"\",\"\",'FULL TRUSTEE LIST'!B825&\" \"&'FULL TRUSTEE LIST'!C825)","v":""}]
[{"$f":"IF('FULL TRUSTEE LIST'!B826=\"\",\"\",'FULL TRUSTEE LIST'!B826&\" \"&'FULL TRUSTEE LIST'!C826)","v":""}]
[{"$f":"IF('FULL TRUSTEE LIST'!B827=\"\",\"\",'FULL TRUSTEE LIST'!B827&\" \"&'FULL TRUSTEE LIST'!C827)","v":""}]
[{"$f":"IF('FULL TRUSTEE LIST'!B828=\"\",\"\",'FULL TRUSTEE LIST'!B828&\" \"&'FULL TRUSTEE LIST'!C828)","v":""}]
[{"$f":"IF('FULL TRUSTEE LIST'!B829=\"\",\"\",'FULL TRUSTEE LIST'!B829&\" \"&'FULL TRUSTEE LIST'!C829)","v":""}]
[{"$f":"IF('FULL TRUSTEE LIST'!B830=\"\",\"\",'FULL TRUSTEE LIST'!B830&\" \"&'FULL TRUSTEE LIST'!C830)","v":""}]
[{"$f":"IF('FULL TRUSTEE LIST'!B831=\"\",\"\",'FULL TRUSTEE LIST'!B831&\" \"&'FULL TRUSTEE LIST'!C831)","v":""}]
[{"$f":"IF('FULL TRUSTEE LIST'!B832=\"\",\"\",'FULL TRUSTEE LIST'!B832&\" \"&'FULL TRUSTEE LIST'!C832)","v":""}]
[{"$f":"IF('FULL TRUSTEE LIST'!B833=\"\",\"\",'FULL TRUSTEE LIST'!B833&\" \"&'FULL TRUSTEE LIST'!C833)","v":""}]
[{"$f":"IF('FULL TRUSTEE LIST'!B834=\"\",\"\",'FULL TRUSTEE LIST'!B834&\" \"&'FULL TRUSTEE LIST'!C834)","v":""}]
[{"$f":"IF('FULL TRUSTEE LIST'!B835=\"\",\"\",'FULL TRUSTEE LIST'!B835&\" \"&'FULL TRUSTEE LIST'!C835)","v":""}]
[{"$f":"IF('FULL TRUSTEE LIST'!B836=\"\",\"\",'FULL TRUSTEE LIST'!B836&\" \"&'FULL TRUSTEE LIST'!C836)","v":""}]
[{"$f":"IF('FULL TRUSTEE LIST'!B837=\"\",\"\",'FULL TRUSTEE LIST'!B837&\" \"&'FULL TRUSTEE LIST'!C837)","v":""}]
[{"$f":"IF('FULL TRUSTEE LIST'!B838=\"\",\"\",'FULL TRUSTEE LIST'!B838&\" \"&'FULL TRUSTEE LIST'!C838)","v":""}]
[{"$f":"IF('FULL TRUSTEE LIST'!B839=\"\",\"\",'FULL TRUSTEE LIST'!B839&\" \"&'FULL TRUSTEE LIST'!C839)","v":""}]
[{"$f":"IF('FULL TRUSTEE LIST'!B840=\"\",\"\",'FULL TRUSTEE LIST'!B840&\" \"&'FULL TRUSTEE LIST'!C840)","v":""}]
[{"$f":"IF('FULL TRUSTEE LIST'!B841=\"\",\"\",'FULL TRUSTEE LIST'!B841&\" \"&'FULL TRUSTEE LIST'!C841)","v":""}]
[{"$f":"IF('FULL TRUSTEE LIST'!B842=\"\",\"\",'FULL TRUSTEE LIST'!B842&\" \"&'FULL TRUSTEE LIST'!C842)","v":""}]
[{"$f":"IF('FULL TRUSTEE LIST'!B843=\"\",\"\",'FULL TRUSTEE LIST'!B843&\" \"&'FULL TRUSTEE LIST'!C843)","v":""}]
[{"$f":"IF('FULL TRUSTEE LIST'!B844=\"\",\"\",'FULL TRUSTEE LIST'!B844&\" \"&'FULL TRUSTEE LIST'!C844)","v":""}]
[{"$f":"IF('FULL TRUSTEE LIST'!B845=\"\",\"\",'FULL TRUSTEE LIST'!B845&\" \"&'FULL TRUSTEE LIST'!C845)","v":""}]
[{"$f":"IF('FULL TRUSTEE LIST'!B846=\"\",\"\",'FULL TRUSTEE LIST'!B846&\" \"&'FULL TRUSTEE LIST'!C846)","v":""}]
[{"$f":"IF('FULL TRUSTEE LIST'!B847=\"\",\"\",'FULL TRUSTEE LIST'!B847&\" \"&'FULL TRUSTEE LIST'!C847)","v":""}]
[{"$f":"IF('FULL TRUSTEE LIST'!B848=\"\",\"\",'FULL TRUSTEE LIST'!B848&\" \"&'FULL TRUSTEE LIST'!C848)","v":""}]
[{"$f":"IF('FULL TRUSTEE LIST'!B849=\"\",\"\",'FULL TRUSTEE LIST'!B849&\" \"&'FULL TRUSTEE LIST'!C849)","v":""}]
[{"$f":"IF('FULL TRUSTEE LIST'!B850=\"\",\"\",'FULL TRUSTEE LIST'!B850&\" \"&'FULL TRUSTEE LIST'!C850)","v":""}]
[{"$f":"IF('FULL TRUSTEE LIST'!B851=\"\",\"\",'FULL TRUSTEE LIST'!B851&\" \"&'FULL TRUSTEE LIST'!C851)","v":""}]
[{"$f":"IF('FULL TRUSTEE LIST'!B852=\"\",\"\",'FULL TRUSTEE LIST'!B852&\" \"&'FULL TRUSTEE LIST'!C852)","v":""}]
[{"$f":"IF('FULL TRUSTEE LIST'!B853=\"\",\"\",'FULL TRUSTEE LIST'!B853&\" \"&'FULL TRUSTEE LIST'!C853)","v":""}]
[{"$f":"IF('FULL TRUSTEE LIST'!B854=\"\",\"\",'FULL TRUSTEE LIST'!B854&\" \"&'FULL TRUSTEE LIST'!C854)","v":""}]
[{"$f":"IF('FULL TRUSTEE LIST'!B855=\"\",\"\",'FULL TRUSTEE LIST'!B855&\" \"&'FULL TRUSTEE LIST'!C855)","v":""}]
[{"$f":"IF('FULL TRUSTEE LIST'!B856=\"\",\"\",'FULL TRUSTEE LIST'!B856&\" \"&'FULL TRUSTEE LIST'!C856)","v":""}]
[{"$f":"IF('FULL TRUSTEE LIST'!B857=\"\",\"\",'FULL TRUSTEE LIST'!B857&\" \"&'FULL TRUSTEE LIST'!C857)","v":""}]
[{"$f":"IF('FULL TRUSTEE LIST'!B858=\"\",\"\",'FULL TRUSTEE LIST'!B858&\" \"&'FULL TRUSTEE LIST'!C858)","v":""}]
[{"$f":"IF('FULL TRUSTEE LIST'!B859=\"\",\"\",'FULL TRUSTEE LIST'!B859&\" \"&'FULL TRUSTEE LIST'!C859)","v":""}]
[{"$f":"IF('FULL TRUSTEE LIST'!B860=\"\",\"\",'FULL TRUSTEE LIST'!B860&\" \"&'FULL TRUSTEE LIST'!C860)","v":""}]
[{"$f":"IF('FULL TRUSTEE LIST'!B861=\"\",\"\",'FULL TRUSTEE LIST'!B861&\" \"&'FULL TRUSTEE LIST'!C861)","v":""}]
[{"$f":"IF('FULL TRUSTEE LIST'!B862=\"\",\"\",'FULL TRUSTEE LIST'!B862&\" \"&'FULL TRUSTEE LIST'!C862)","v":""}]
[{"$f":"IF('FULL TRUSTEE LIST'!B863=\"\",\"\",'FULL TRUSTEE LIST'!B863&\" \"&'FULL TRUSTEE LIST'!C863)","v":""}]
[{"$f":"IF('FULL TRUSTEE LIST'!B864=\"\",\"\",'FULL TRUSTEE LIST'!B864&\" \"&'FULL TRUSTEE LIST'!C864)","v":""}]
[{"$f":"IF('FULL TRUSTEE LIST'!B865=\"\",\"\",'FULL TRUSTEE LIST'!B865&\" \"&'FULL TRUSTEE LIST'!C865)","v":""}]
[{"$f":"IF('FULL TRUSTEE LIST'!B866=\"\",\"\",'FULL TRUSTEE LIST'!B866&\" \"&'FULL TRUSTEE LIST'!C866)","v":""}]
[{"$f":"IF('FULL TRUSTEE LIST'!B867=\"\",\"\",'FULL TRUSTEE LIST'!B867&\" \"&'FULL TRUSTEE LIST'!C867)","v":""}]
[{"$f":"IF('FULL TRUSTEE LIST'!B868=\"\",\"\",'FULL TRUSTEE LIST'!B868&\" \"&'FULL TRUSTEE LIST'!C868)","v":""}]
[{"$f":"IF('FULL TRUSTEE LIST'!B869=\"\",\"\",'FULL TRUSTEE LIST'!B869&\" \"&'FULL TRUSTEE LIST'!C869)","v":""}]
[{"$f":"IF('FULL TRUSTEE LIST'!B870=\"\",\"\",'FULL TRUSTEE LIST'!B870&\" \"&'FULL TRUSTEE LIST'!C870)","v":""}]
[{"$f":"IF('FULL TRUSTEE LIST'!B871=\"\",\"\",'FULL TRUSTEE LIST'!B871&\" \"&'FULL TRUSTEE LIST'!C871)","v":""}]
[{"$f":"IF('FULL TRUSTEE LIST'!B872=\"\",\"\",'FULL TRUSTEE LIST'!B872&\" \"&'FULL TRUSTEE LIST'!C872)","v":""}]
[{"$f":"IF('FULL TRUSTEE LIST'!B873=\"\",\"\",'FULL TRUSTEE LIST'!B873&\" \"&'FULL TRUSTEE LIST'!C873)","v":""}]
[{"$f":"IF('FULL TRUSTEE LIST'!B874=\"\",\"\",'FULL TRUSTEE LIST'!B874&\" \"&'FULL TRUSTEE LIST'!C874)","v":""}]
[{"$f":"IF('FULL TRUSTEE LIST'!B875=\"\",\"\",'FULL TRUSTEE LIST'!B875&\" \"&'FULL TRUSTEE LIST'!C875)","v":""}]
[{"$f":"IF('FULL TRUSTEE LIST'!B876=\"\",\"\",'FULL TRUSTEE LIST'!B876&\" \"&'FULL TRUSTEE LIST'!C876)","v":""}]
[{"$f":"IF('FULL TRUSTEE LIST'!B877=\"\",\"\",'FULL TRUSTEE LIST'!B877&\" \"&'FULL TRUSTEE LIST'!C877)","v":""}]
[{"$f":"IF('FULL TRUSTEE LIST'!B878=\"\",\"\",'FULL TRUSTEE LIST'!B878&\" \"&'FULL TRUSTEE LIST'!C878)","v":""}]
[{"$f":"IF('FULL TRUSTEE LIST'!B879=\"\",\"\",'FULL TRUSTEE LIST'!B879&\" \"&'FULL TRUSTEE LIST'!C879)","v":""}]
[{"$f":"IF('FULL TRUSTEE LIST'!B880=\"\",\"\",'FULL TRUSTEE LIST'!B880&\" \"&'FULL TRUSTEE LIST'!C880)","v":""}]
[{"$f":"IF('FULL TRUSTEE LIST'!B881=\"\",\"\",'FULL TRUSTEE LIST'!B881&\" \"&'FULL TRUSTEE LIST'!C881)","v":""}]
[{"$f":"IF('FULL TRUSTEE LIST'!B882=\"\",\"\",'FULL TRUSTEE LIST'!B882&\" \"&'FULL TRUSTEE LIST'!C882)","v":""}]
[{"$f":"IF('FULL TRUSTEE LIST'!B883=\"\",\"\",'FULL TRUSTEE LIST'!B883&\" \"&'FULL TRUSTEE LIST'!C883)","v":""}]
[{"$f":"IF('FULL TRUSTEE LIST'!B884=\"\",\"\",'FULL TRUSTEE LIST'!B884&\" \"&'FULL TRUSTEE LIST'!C884)","v":""}]
[{"$f":"IF('FULL TRUSTEE LIST'!B885=\"\",\"\",'FULL TRUSTEE LIST'!B885&\" \"&'FULL TRUSTEE LIST'!C885)","v":""}]
[{"$f":"IF('FULL TRUSTEE LIST'!B886=\"\",\"\",'FULL TRUSTEE LIST'!B886&\" \"&'FULL TRUSTEE LIST'!C886)","v":""}]
[{"$f":"IF('FULL TRUSTEE LIST'!B887=\"\",\"\",'FULL TRUSTEE LIST'!B887&\" \"&'FULL TRUSTEE LIST'!C887)","v":""}]
[{"$f":"IF('FULL TRUSTEE LIST'!B888=\"\",\"\",'FULL TRUSTEE LIST'!B888&\" \"&'FULL TRUSTEE LIST'!C888)","v":""}]
[{"$f":"IF('FULL TRUSTEE LIST'!B889=\"\",\"\",'FULL TRUSTEE LIST'!B889&\" \"&'FULL TRUSTEE LIST'!C889)","v":""}]
[{"$f":"IF('FULL TRUSTEE LIST'!B890=\"\",\"\",'FULL TRUSTEE LIST'!B890&\" \"&'FULL TRUSTEE LIST'!C890)","v":""}]
[{"$f":"IF('FULL TRUSTEE LIST'!B891=\"\",\"\",'FULL TRUSTEE LIST'!B891&\" \"&'FULL TRUSTEE LIST'!C891)","v":""}]
[{"$f":"IF('FULL TRUSTEE LIST'!B892=\"\",\"\",'FULL TRUSTEE LIST'!B892&\" \"&'FULL TRUSTEE LIST'!C892)","v":""}]
[{"$f":"IF('FULL TRUSTEE LIST'!B893=\"\",\"\",'FULL TRUSTEE LIST'!B893&\" \"&'FULL TRUSTEE LIST'!C893)","v":""}]
[{"$f":"IF('FULL TRUSTEE LIST'!B894=\"\",\"\",'FULL TRUSTEE LIST'!B894&\" \"&'FULL TRUSTEE LIST'!C894)","v":""}]
[{"$f":"IF('FULL TRUSTEE LIST'!B895=\"\",\"\",'FULL TRUSTEE LIST'!B895&\" \"&'FULL TRUSTEE LIST'!C895)","v":""}]
[{"$f":"IF('FULL TRUSTEE LIST'!B896=\"\",\"\",'FULL TRUSTEE LIST'!B896&\" \"&'FULL TRUSTEE LIST'!C896)","v":""}]
[{"$f":"IF('FULL TRUSTEE LIST'!B897=\"\",\"\",'FULL TRUSTEE LIST'!B897&\" \"&'FULL TRUSTEE LIST'!C897)","v":""}]
[{"$f":"IF('FULL TRUSTEE LIST'!B898=\"\",\"\",'FULL TRUSTEE LIST'!B898&\" \"&'FULL TRUSTEE LIST'!C898)","v":""}]
[{"$f":"IF('FULL TRUSTEE LIST'!B899=\"\",\"\",'FULL TRUSTEE LIST'!B899&\" \"&'FULL TRUSTEE LIST'!C899)","v":""}]
[{"$f":"IF('FULL TRUSTEE LIST'!B900=\"\",\"\",'FULL TRUSTEE LIST'!B900&\" \"&'FULL TRUSTEE LIST'!C900)","v":""}]
[{"$f":"IF('FULL TRUSTEE LIST'!B901=\"\",\"\",'FULL TRUSTEE LIST'!B901&\" \"&'FULL TRUSTEE LIST'!C901)","v":""}]
[{"$f":"IF('FULL TRUSTEE LIST'!B902=\"\",\"\",'FULL TRUSTEE LIST'!B902&\" \"&'FULL TRUSTEE LIST'!C902)","v":""}]
[{"$f":"IF('FULL TRUSTEE LIST'!B903=\"\",\"\",'FULL TRUSTEE LIST'!B903&\" \"&'FULL TRUSTEE LIST'!C903)","v":""}]
[{"$f":"IF('FULL TRUSTEE LIST'!B904=\"\",\"\",'FULL TRUSTEE LIST'!B904&\" \"&'FULL TRUSTEE LIST'!C904)","v":""}]
[{"$f":"IF('FULL TRUSTEE LIST'!B905=\"\",\"\",'FULL TRUSTEE LIST'!B905&\" \"&'FULL TRUSTEE LIST'!C905)","v":""}]
[{"$f":"IF('FULL TRUSTEE LIST'!B906=\"\",\"\",'FULL TRUSTEE LIST'!B906&\" \"&'FULL TRUSTEE LIST'!C906)","v":""}]
[{"$f":"IF('FULL TRUSTEE LIST'!B907=\"\",\"\",'FULL TRUSTEE LIST'!B907&\" \"&'FULL TRUSTEE LIST'!C907)","v":""}]
[{"$f":"IF('FULL TRUSTEE LIST'!B908=\"\",\"\",'FULL TRUSTEE LIST'!B908&\" \"&'FULL TRUSTEE LIST'!C908)","v":""}]
[{"$f":"IF('FULL TRUSTEE LIST'!B909=\"\",\"\",'FULL TRUSTEE LIST'!B909&\" \"&'FULL TRUSTEE LIST'!C909)","v":""}]
[{"$f":"IF('FULL TRUSTEE LIST'!B910=\"\",\"\",'FULL TRUSTEE LIST'!B910&\" \"&'FULL TRUSTEE LIST'!C910)","v":""}]
[{"$f":"IF('FULL TRUSTEE LIST'!B911=\"\",\"\",'FULL TRUSTEE LIST'!B911&\" \"&'FULL TRUSTEE LIST'!C911)","v":""}]
[{"$f":"IF('FULL TRUSTEE LIST'!B912=\"\",\"\",'FULL TRUSTEE LIST'!B912&\" \"&'FULL TRUSTEE LIST'!C912)","v":""}]
[{"$f":"IF('FULL TRUSTEE LIST'!B913=\"\",\"\",'FULL TRUSTEE LIST'!B913&\" \"&'FULL TRUSTEE LIST'!C913)","v":""}]
[{"$f":"IF('FULL TRUSTEE LIST'!B914=\"\",\"\",'FULL TRUSTEE LIST'!B914&\" \"&'FULL TRUSTEE LIST'!C914)","v":""}]
[{"$f":"IF('FULL TRUSTEE LIST'!B915=\"\",\"\",'FULL TRUSTEE LIST'!B915&\" \"&'FULL TRUSTEE LIST'!C915)","v":""}]
[{"$f":"IF('FULL TRUSTEE LIST'!B916=\"\",\"\",'FULL TRUSTEE LIST'!B916&\" \"&'FULL TRUSTEE LIST'!C916)","v":""}]
[{"$f":"IF('FULL TRUSTEE LIST'!B917=\"\",\"\",'FULL TRUSTEE LIST'!B917&\" \"&'FULL TRUSTEE LIST'!C917)","v":""}]
[{"$f":"IF('FULL TRUSTEE LIST'!B918=\"\",\"\",'FULL TRUSTEE LIST'!B918&\" \"&'FULL TRUSTEE LIST'!C918)","v":""}]
[{"$f":"IF('FULL TRUSTEE LIST'!B919=\"\",\"\",'FULL TRUSTEE LIST'!B919&\" \"&'FULL TRUSTEE LIST'!C919)","v":""}]
[{"$f":"IF('FULL TRUSTEE LIST'!B920=\"\",\"\",'FULL TRUSTEE LIST'!B920&\" \"&'FULL TRUSTEE LIST'!C920)","v":""}]
[{"$f":"IF('FULL TRUSTEE LIST'!B921=\"\",\"\",'FULL TRUSTEE LIST'!B921&\" \"&'FULL TRUSTEE LIST'!C921)","v":""}]
[{"$f":"IF('FULL TRUSTEE LIST'!B922=\"\",\"\",'FULL TRUSTEE LIST'!B922&\" \"&'FULL TRUSTEE LIST'!C922)","v":""}]
[{"$f":"IF('FULL TRUSTEE LIST'!B923=\"\",\"\",'FULL TRUSTEE LIST'!B923&\" \"&'FULL TRUSTEE LIST'!C923)","v":""}]
[{"$f":"IF('FULL TRUSTEE LIST'!B924=\"\",\"\",'FULL TRUSTEE LIST'!B924&\" \"&'FULL TRUSTEE LIST'!C924)","v":""}]
[{"$f":"IF('FULL TRUSTEE LIST'!B925=\"\",\"\",'FULL TRUSTEE LIST'!B925&\" \"&'FULL TRUSTEE LIST'!C925)","v":""}]
[{"$f":"IF('FULL TRUSTEE LIST'!B926=\"\",\"\",'FULL TRUSTEE LIST'!B926&\" \"&'FULL TRUSTEE LIST'!C926)","v":""}]
[{"$f":"IF('FULL TRUSTEE LIST'!B927=\"\",\"\",'FULL TRUSTEE LIST'!B927&\" \"&'FULL TRUSTEE LIST'!C927)","v":""}]
[{"$f":"IF('FULL TRUSTEE LIST'!B928=\"\",\"\",'FULL TRUSTEE LIST'!B928&\" \"&'FULL TRUSTEE LIST'!C928)","v":""}]
[{"$f":"IF('FULL TRUSTEE LIST'!B929=\"\",\"\",'FULL TRUSTEE LIST'!B929&\" \"&'FULL TRUSTEE LIST'!C929)","v":""}]
[{"$f":"IF('FULL TRUSTEE LIST'!B930=\"\",\"\",'FULL TRUSTEE LIST'!B930&\" \"&'FULL TRUSTEE LIST'!C930)","v":""}]
[{"$f":"IF('FULL TRUSTEE LIST'!B931=\"\",\"\",'FULL TRUSTEE LIST'!B931&\" \"&'FULL TRUSTEE LIST'!C931)","v":""}]
[{"$f":"IF('FULL TRUSTEE LIST'!B932=\"\",\"\",'FULL TRUSTEE LIST'!B932&\" \"&'FULL TRUSTEE LIST'!C932)","v":""}]
[{"$f":"IF('FULL TRUSTEE LIST'!B933=\"\",\"\",'FULL TRUSTEE LIST'!B933&\" \"&'FULL TRUSTEE LIST'!C933)","v":""}]
[{"$f":"IF('FULL TRUSTEE LIST'!B934=\"\",\"\",'FULL TRUSTEE LIST'!B934&\" \"&'FULL TRUSTEE LIST'!C934)","v":""}]
[{"$f":"IF('FULL TRUSTEE LIST'!B935=\"\",\"\",'FULL TRUSTEE LIST'!B935&\" \"&'FULL TRUSTEE LIST'!C935)","v":""}]
[{"$f":"IF('FULL TRUSTEE LIST'!B936=\"\",\"\",'FULL TRUSTEE LIST'!B936&\" \"&'FULL TRUSTEE LIST'!C936)","v":""}]
[{"$f":"IF('FULL TRUSTEE LIST'!B937=\"\",\"\",'FULL TRUSTEE LIST'!B937&\" \"&'FULL TRUSTEE LIST'!C937)","v":""}]
[{"$f":"IF('FULL TRUSTEE LIST'!B938=\"\",\"\",'FULL TRUSTEE LIST'!B938&\" \"&'FULL TRUSTEE LIST'!C938)","v":""}]
[{"$f":"IF('FULL TRUSTEE LIST'!B939=\"\",\"\",'FULL TRUSTEE LIST'!B939&\" \"&'FULL TRUSTEE LIST'!C939)","v":""}]
[{"$f":"IF('FULL TRUSTEE LIST'!B940=\"\",\"\",'FULL TRUSTEE LIST'!B940&\" \"&'FULL TRUSTEE LIST'!C940)","v":""}]
[{"$f":"IF('FULL TRUSTEE LIST'!B941=\"\",\"\",'FULL TRUSTEE LIST'!B941&\" \"&'FULL TRUSTEE LIST'!C941)","v":""}]
[{"$f":"IF('FULL TRUSTEE LIST'!B942=\"\",\"\",'FULL TRUSTEE LIST'!B942&\" \"&'FULL TRUSTEE LIST'!C942)","v":""}]
[{"$f":"IF('FULL TRUSTEE LIST'!B943=\"\",\"\",'FULL TRUSTEE LIST'!B943&\" \"&'FULL TRUSTEE LIST'!C943)","v":""}]
[{"$f":"IF('FULL TRUSTEE LIST'!B944=\"\",\"\",'FULL TRUSTEE LIST'!B944&\" \"&'FULL TRUSTEE LIST'!C944)","v":""}]
[{"$f":"IF('FULL TRUSTEE LIST'!B945=\"\",\"\",'FULL TRUSTEE LIST'!B945&\" \"&'FULL TRUSTEE LIST'!C945)","v":""}]
[{"$f":"IF('FULL TRUSTEE LIST'!B946=\"\",\"\",'FULL TRUSTEE LIST'!B946&\" \"&'FULL TRUSTEE LIST'!C946)","v":""}]
[{"$f":"IF('FULL TRUSTEE LIST'!B947=\"\",\"\",'FULL TRUSTEE LIST'!B947&\" \"&'FULL TRUSTEE LIST'!C947)","v":""}]
[{"$f":"IF('FULL TRUSTEE LIST'!B948=\"\",\"\",'FULL TRUSTEE LIST'!B948&\" \"&'FULL TRUSTEE LIST'!C948)","v":""}]
[{"$f":"IF('FULL TRUSTEE LIST'!B949=\"\",\"\",'FULL TRUSTEE LIST'!B949&\" \"&'FULL TRUSTEE LIST'!C949)","v":""}]
[{"$f":"IF('FULL TRUSTEE LIST'!B950=\"\",\"\",'FULL TRUSTEE LIST'!B950&\" \"&'FULL TRUSTEE LIST'!C950)","v":""}]
[{"$f":"IF('FULL TRUSTEE LIST'!B951=\"\",\"\",'FULL TRUSTEE LIST'!B951&\" \"&'FULL TRUSTEE LIST'!C951)","v":""}]
[{"$f":"IF('FULL TRUSTEE LIST'!B952=\"\",\"\",'FULL TRUSTEE LIST'!B952&\" \"&'FULL TRUSTEE LIST'!C952)","v":""}]
[{"$f":"IF('FULL TRUSTEE LIST'!B953=\"\",\"\",'FULL TRUSTEE LIST'!B953&\" \"&'FULL TRUSTEE LIST'!C953)","v":""}]
[{"$f":"IF('FULL TRUSTEE LIST'!B954=\"\",\"\",'FULL TRUSTEE LIST'!B954&\" \"&'FULL TRUSTEE LIST'!C954)","v":""}]
[{"$f":"IF('FULL TRUSTEE LIST'!B955=\"\",\"\",'FULL TRUSTEE LIST'!B955&\" \"&'FULL TRUSTEE LIST'!C955)","v":""}]
[{"$f":"IF('FULL TRUSTEE LIST'!B956=\"\",\"\",'FULL TRUSTEE LIST'!B956&\" \"&'FULL TRUSTEE LIST'!C956)","v":""}]
[{"$f":"IF('FULL TRUSTEE LIST'!B957=\"\",\"\",'FULL TRUSTEE LIST'!B957&\" \"&'FULL TRUSTEE LIST'!C957)","v":""}]
[{"$f":"IF('FULL TRUSTEE LIST'!B958=\"\",\"\",'FULL TRUSTEE LIST'!B958&\" \"&'FULL TRUSTEE LIST'!C958)","v":""}]
[{"$f":"IF('FULL TRUSTEE LIST'!B959=\"\",\"\",'FULL TRUSTEE LIST'!B959&\" \"&'FULL TRUSTEE LIST'!C959)","v":""}]
[{"$f":"IF('FULL TRUSTEE LIST'!B960=\"\",\"\",'FULL TRUSTEE LIST'!B960&\" \"&'FULL TRUSTEE LIST'!C960)","v":""}]
[{"$f":"IF('FULL TRUSTEE LIST'!B961=\"\",\"\",'FULL TRUSTEE LIST'!B961&\" \"&'FULL TRUSTEE LIST'!C961)","v":""}]
[{"$f":"IF('FULL TRUSTEE LIST'!B962=\"\",\"\",'FULL TRUSTEE LIST'!B962&\" \"&'FULL TRUSTEE LIST'!C962)","v":""}]
[{"$f":"IF('FULL TRUSTEE LIST'!B963=\"\",\"\",'FULL TRUSTEE LIST'!B963&\" \"&'FULL TRUSTEE LIST'!C963)","v":""}]
[{"$f":"IF('FULL TRUSTEE LIST'!B964=\"\",\"\",'FULL TRUSTEE LIST'!B964&\" \"&'FULL TRUSTEE LIST'!C964)","v":""}]
[{"$f":"IF('FULL TRUSTEE LIST'!B965=\"\",\"\",'FULL TRUSTEE LIST'!B965&\" \"&'FULL TRUSTEE LIST'!C965)","v":""}]
[{"$f":"IF('FULL TRUSTEE LIST'!B966=\"\",\"\",'FULL TRUSTEE LIST'!B966&\" \"&'FULL TRUSTEE LIST'!C966)","v":""}]
[{"$f":"IF('FULL TRUSTEE LIST'!B967=\"\",\"\",'FULL TRUSTEE LIST'!B967&\" \"&'FULL TRUSTEE LIST'!C967)","v":""}]
[{"$f":"IF('FULL TRUSTEE LIST'!B968=\"\",\"\",'FULL TRUSTEE LIST'!B968&\" \"&'FULL TRUSTEE LIST'!C968)","v":""}]
[{"$f":"IF('FULL TRUSTEE LIST'!B969=\"\",\"\",'FULL TRUSTEE LIST'!B969&\" \"&'FULL TRUSTEE LIST'!C969)","v":""}]
[{"$f":"IF('FULL TRUSTEE LIST'!B970=\"\",\"\",'FULL TRUSTEE LIST'!B970&\" \"&'FULL TRUSTEE LIST'!C970)","v":""}]
[{"$f":"IF('FULL TRUSTEE LIST'!B971=\"\",\"\",'FULL TRUSTEE LIST'!B971&\" \"&'FULL TRUSTEE LIST'!C971)","v":""}]
[{"$f":"IF('FULL TRUSTEE LIST'!B972=\"\",\"\",'FULL TRUSTEE LIST'!B972&\" \"&'FULL TRUSTEE LIST'!C972)","v":""}]
[{"$f":"IF('FULL TRUSTEE LIST'!B973=\"\",\"\",'FULL TRUSTEE LIST'!B973&\" \"&'FULL TRUSTEE LIST'!C973)","v":""}]
[{"$f":"IF('FULL TRUSTEE LIST'!B974=\"\",\"\",'FULL TRUSTEE LIST'!B974&\" \"&'FULL TRUSTEE LIST'!C974)","v":""}]
[{"$f":"IF('FULL TRUSTEE LIST'!B975=\"\",\"\",'FULL TRUSTEE LIST'!B975&\" \"&'FULL TRUSTEE LIST'!C975)","v":""}]
[{"$f":"IF('FULL TRUSTEE LIST'!B976=\"\",\"\",'FULL TRUSTEE LIST'!B976&\" \"&'FULL TRUSTEE LIST'!C976)","v":""}]
[{"$f":"IF('FULL TRUSTEE LIST'!B977=\"\",\"\",'FULL TRUSTEE LIST'!B977&\" \"&'FULL TRUSTEE LIST'!C977)","v":""}]
[{"$f":"IF('FULL TRUSTEE LIST'!B978=\"\",\"\",'FULL TRUSTEE LIST'!B978&\" \"&'FULL TRUSTEE LIST'!C978)","v":""}]
[{"$f":"IF('FULL TRUSTEE LIST'!B979=\"\",\"\",'FULL TRUSTEE LIST'!B979&\" \"&'FULL TRUSTEE LIST'!C979)","v":""}]
[{"$f":"IF('FULL TRUSTEE LIST'!B980=\"\",\"\",'FULL TRUSTEE LIST'!B980&\" \"&'FULL TRUSTEE LIST'!C980)","v":""}]
[{"$f":"IF('FULL TRUSTEE LIST'!B981=\"\",\"\",'FULL TRUSTEE LIST'!B981&\" \"&'FULL TRUSTEE LIST'!C981)","v":""}]
[{"$f":"IF('FULL TRUSTEE LIST'!B982=\"\",\"\",'FULL TRUSTEE LIST'!B982&\" \"&'FULL TRUSTEE LIST'!C982)","v":""}]
[{"$f":"IF('FULL TRUSTEE LIST'!B983=\"\",\"\",'FULL TRUSTEE LIST'!B983&\" \"&'FULL TRUSTEE LIST'!C983)","v":""}]
[{"$f":"IF('FULL TRUSTEE LIST'!B984=\"\",\"\",'FULL TRUSTEE LIST'!B984&\" \"&'FULL TRUSTEE LIST'!C984)","v":""}]
[{"$f":"IF('FULL TRUSTEE LIST'!B985=\"\",\"\",'FULL TRUSTEE LIST'!B985&\" \"&'FULL TRUSTEE LIST'!C985)","v":""}]
[{"$f":"IF('FULL TRUSTEE LIST'!B986=\"\",\"\",'FULL TRUSTEE LIST'!B986&\" \"&'FULL TRUSTEE LIST'!C986)","v":""}]
[{"$f":"IF('FULL TRUSTEE LIST'!B987=\"\",\"\",'FULL TRUSTEE LIST'!B987&\" \"&'FULL TRUSTEE LIST'!C987)","v":""}]
[{"$f":"IF('FULL TRUSTEE LIST'!B988=\"\",\"\",'FULL TRUSTEE LIST'!B988&\" \"&'FULL TRUSTEE LIST'!C988)","v":""}]
[{"$f":"IF('FULL TRUSTEE LIST'!B989=\"\",\"\",'FULL TRUSTEE LIST'!B989&\" \"&'FULL TRUSTEE LIST'!C989)","v":""}]
[{"$f":"IF('FULL TRUSTEE LIST'!B990=\"\",\"\",'FULL TRUSTEE LIST'!B990&\" \"&'FULL TRUSTEE LIST'!C990)","v":""}]
[{"$f":"IF('FULL TRUSTEE LIST'!B991=\"\",\"\",'FULL TRUSTEE LIST'!B991&\" \"&'FULL TRUSTEE LIST'!C991)","v":""}]
[{"$f":"IF('FULL TRUSTEE LIST'!B992=\"\",\"\",'FULL TRUSTEE LIST'!B992&\" \"&'FULL TRUSTEE LIST'!C992)","v":""}]
[{"$f":"IF('FULL TRUSTEE LIST'!B993=\"\",\"\",'FULL TRUSTEE LIST'!B993&\" \"&'FULL TRUSTEE LIST'!C993)","v":""}]
[{"$f":"IF('FULL TRUSTEE LIST'!B994=\"\",\"\",'FULL TRUSTEE LIST'!B994&\" \"&'FULL TRUSTEE LIST'!C994)","v":""}]
[{"$f":"IF('FULL TRUSTEE LIST'!B995=\"\",\"\",'FULL TRUSTEE LIST'!B995&\" \"&'FULL TRUSTEE LIST'!C995)","v":""}]
[{"$f":"IF('FULL TRUSTEE LIST'!B996=\"\",\"\",'FULL TRUSTEE LIST'!B996&\" \"&'FULL TRUSTEE LIST'!C996)","v":""}]
[{"$f":"IF('FULL TRUSTEE LIST'!B997=\"\",\"\",'FULL TRUSTEE LIST'!B997&\" \"&'FULL TRUSTEE LIST'!C997)","v":""}]
[{"$f":"IF('FULL TRUSTEE LIST'!B998=\"\",\"\",'FULL TRUSTEE LIST'!B998&\" \"&'FULL TRUSTEE LIST'!C998)","v":""}]
[{"$f":"IF('FULL TRUSTEE LIST'!B999=\"\",\"\",'FULL TRUSTEE LIST'!B999&\" \"&'FULL TRUSTEE LIST'!C999)","v":""}]
[{"$f":"IF('FULL TRUSTEE LIST'!B1000=\"\",\"\",'FULL TRUSTEE LIST'!B1000&\" \"&'FULL TRUSTEE LIST'!C1000)","v":""}]
[{"$f":"IF('FULL TRUSTEE LIST'!B1001=\"\",\"\",'FULL TRUSTEE LIST'!B1001&\" \"&'FULL TRUSTEE LIST'!C1001)","v":""}]
[{"$f":"IF('FULL TRUSTEE LIST'!B1002=\"\",\"\",'FULL TRUSTEE LIST'!B1002&\" \"&'FULL TRUSTEE LIST'!C1002)","v":""}]
[{"$f":"IF('FULL TRUSTEE LIST'!B1003=\"\",\"\",'FULL TRUSTEE LIST'!B1003&\" \"&'FULL TRUSTEE LIST'!C1003)","v":""}]
[{"$f":"IF('FULL TRUSTEE LIST'!B1004=\"\",\"\",'FULL TRUSTEE LIST'!B1004&\" \"&'FULL TRUSTEE LIST'!C1004)","v":""}]
[{"$f":"IF('FULL TRUSTEE LIST'!B1005=\"\",\"\",'FULL TRUSTEE LIST'!B1005&\" \"&'FULL TRUSTEE LIST'!C1005)","v":""}]
[{"$f":"IF('FULL TRUSTEE LIST'!B1006=\"\",\"\",'FULL TRUSTEE LIST'!B1006&\" \"&'FULL TRUSTEE LIST'!C1006)","v":""}]
[{"$f":"IF('FULL TRUSTEE LIST'!B1007=\"\",\"\",'FULL TRUSTEE LIST'!B1007&\" \"&'FULL TRUSTEE LIST'!C1007)","v":""}]
[{"$f":"IF('FULL TRUSTEE LIST'!B1008=\"\",\"\",'FULL TRUSTEE LIST'!B1008&\" \"&'FULL TRUSTEE LIST'!C1008)","v":""}]
[{"$f":"IF('FULL TRUSTEE LIST'!B1009=\"\",\"\",'FULL TRUSTEE LIST'!B1009&\" \"&'FULL TRUSTEE LIST'!C1009)","v":""}]
[{"$f":"IF('FULL TRUSTEE LIST'!B1010=\"\",\"\",'FULL TRUSTEE LIST'!B1010&\" \"&'FULL TRUSTEE LIST'!C1010)","v":""}]
[{"$f":"IF('FULL TRUSTEE LIST'!B1011=\"\",\"\",'FULL TRUSTEE LIST'!B1011&\" \"&'FULL TRUSTEE LIST'!C1011)","v":""}]
[{"$f":"IF('FULL TRUSTEE LIST'!B1012=\"\",\"\",'FULL TRUSTEE LIST'!B1012&\" \"&'FULL TRUSTEE LIST'!C1012)","v":""}]
[{"$f":"IF('FULL TRUSTEE LIST'!B1013=\"\",\"\",'FULL TRUSTEE LIST'!B1013&\" \"&'FULL TRUSTEE LIST'!C1013)","v":""}]
[{"$f":"IF('FULL TRUSTEE LIST'!B1014=\"\",\"\",'FULL TRUSTEE LIST'!B1014&\" \"&'FULL TRUSTEE LIST'!C1014)","v":""}]
[{"$f":"IF('FULL TRUSTEE LIST'!B1015=\"\",\"\",'FULL TRUSTEE LIST'!B1015&\" \"&'FULL TRUSTEE LIST'!C1015)","v":""}]
[{"$f":"IF('FULL TRUSTEE LIST'!B1016=\"\",\"\",'FULL TRUSTEE LIST'!B1016&\" \"&'FULL TRUSTEE LIST'!C1016)","v":""}]
[{"$f":"IF('FULL TRUSTEE LIST'!B1017=\"\",\"\",'FULL TRUSTEE LIST'!B1017&\" \"&'FULL TRUSTEE LIST'!C1017)","v":""}]
[{"$f":"IF('FULL TRUSTEE LIST'!B1018=\"\",\"\",'FULL TRUSTEE LIST'!B1018&\" \"&'FULL TRUSTEE LIST'!C1018)","v":""}]
[{"$f":"IF('FULL TRUSTEE LIST'!B1019=\"\",\"\",'FULL TRUSTEE LIST'!B1019&\" \"&'FULL TRUSTEE LIST'!C1019)","v":""}]
[{"$f":"IF('FULL TRUSTEE LIST'!B1020=\"\",\"\",'FULL TRUSTEE LIST'!B1020&\" \"&'FULL TRUSTEE LIST'!C1020)","v":""}]
[{"$f":"IF('FULL TRUSTEE LIST'!B1021=\"\",\"\",'FULL TRUSTEE LIST'!B1021&\" \"&'FULL TRUSTEE LIST'!C1021)","v":""}]
[{"$f":"IF('FULL TRUSTEE LIST'!B1022=\"\",\"\",'FULL TRUSTEE LIST'!B1022&\" \"&'FULL TRUSTEE LIST'!C1022)","v":""}]
[{"$f":"IF('FULL TRUSTEE LIST'!B1023=\"\",\"\",'FULL TRUSTEE LIST'!B1023&\" \"&'FULL TRUSTEE LIST'!C1023)","v":""}]
[{"$f":"IF('FULL TRUSTEE LIST'!B1024=\"\",\"\",'FULL TRUSTEE LIST'!B1024&\" \"&'FULL TRUSTEE LIST'!C1024)","v":""}]
[{"$f":"IF('FULL TRUSTEE LIST'!B1025=\"\",\"\",'FULL TRUSTEE LIST'!B1025&\" \"&'FULL TRUSTEE LIST'!C1025)","v":""}]
[{"$f":"IF('FULL TRUSTEE LIST'!B1026=\"\",\"\",'FULL TRUSTEE LIST'!B1026&\" \"&'FULL TRUSTEE LIST'!C1026)","v":""}]
[{"$f":"IF('FULL TRUSTEE LIST'!B1027=\"\",\"\",'FULL TRUSTEE LIST'!B1027&\" \"&'FULL TRUSTEE LIST'!C1027)","v":""}]
[{"$f":"IF('FULL TRUSTEE LIST'!B1028=\"\",\"\",'FULL TRUSTEE LIST'!B1028&\" \"&'FULL TRUSTEE LIST'!C1028)","v":""}]
[{"$f":"IF('FULL TRUSTEE LIST'!B1029=\"\",\"\",'FULL TRUSTEE LIST'!B1029&\" \"&'FULL TRUSTEE LIST'!C1029)","v":""}]
[{"$f":"IF('FULL TRUSTEE LIST'!B1030=\"\",\"\",'FULL TRUSTEE LIST'!B1030&\" \"&'FULL TRUSTEE LIST'!C1030)","v":""}]
[{"$f":"IF('FULL TRUSTEE LIST'!B1031=\"\",\"\",'FULL TRUSTEE LIST'!B1031&\" \"&'FULL TRUSTEE LIST'!C1031)","v":""}]
[{"$f":"IF('FULL TRUSTEE LIST'!B1032=\"\",\"\",'FULL TRUSTEE LIST'!B1032&\" \"&'FULL TRUSTEE LIST'!C1032)","v":""}]
[{"$f":"IF('FULL TRUSTEE LIST'!B1033=\"\",\"\",'FULL TRUSTEE LIST'!B1033&\" \"&'FULL TRUSTEE LIST'!C1033)","v":""}]
[{"$f":"IF('FULL TRUSTEE LIST'!B1034=\"\",\"\",'FULL TRUSTEE LIST'!B1034&\" \"&'FULL TRUSTEE LIST'!C1034)","v":""}]
[{"$f":"IF('FULL TRUSTEE LIST'!B1035=\"\",\"\",'FULL TRUSTEE LIST'!B1035&\" \"&'FULL TRUSTEE LIST'!C1035)","v":""}]
[{"$f":"IF('FULL TRUSTEE LIST'!B1036=\"\",\"\",'FULL TRUSTEE LIST'!B1036&\" \"&'FULL TRUSTEE LIST'!C1036)","v":""}]
[{"$f":"IF('FULL TRUSTEE LIST'!B1037=\"\",\"\",'FULL TRUSTEE LIST'!B1037&\" \"&'FULL TRUSTEE LIST'!C1037)","v":""}]
[{"$f":"IF('FULL TRUSTEE LIST'!B1038=\"\",\"\",'FULL TRUSTEE LIST'!B1038&\" \"&'FULL TRUSTEE LIST'!C1038)","v":""}]
[{"$f":"IF('FULL TRUSTEE LIST'!B1039=\"\",\"\",'FULL TRUSTEE LIST'!B1039&\" \"&'FULL TRUSTEE LIST'!C1039)","v":""}]
[{"$f":"IF('FULL TRUSTEE LIST'!B1040=\"\",\"\",'FULL TRUSTEE LIST'!B1040&\" \"&'FULL TRUSTEE LIST'!C1040)","v":""}]
[{"$f":"IF('FULL TRUSTEE LIST'!B1041=\"\",\"\",'FULL TRUSTEE LIST'!B1041&\" \"&'FULL TRUSTEE LIST'!C1041)","v":""}]
[{"$f":"IF('FULL TRUSTEE LIST'!B1042=\"\",\"\",'FULL TRUSTEE LIST'!B1042&\" \"&'FULL TRUSTEE LIST'!C1042)","v":""}]
[{"$f":"IF('FULL TRUSTEE LIST'!B1043=\"\",\"\",'FULL TRUSTEE LIST'!B1043&\" \"&'FULL TRUSTEE LIST'!C1043)","v":""}]
[{"$f":"IF('FULL TRUSTEE LIST'!B1044=\"\",\"\",'FULL TRUSTEE LIST'!B1044&\" \"&'FULL TRUSTEE LIST'!C1044)","v":""}]
[{"$f":"IF('FULL TRUSTEE LIST'!B1045=\"\",\"\",'FULL TRUSTEE LIST'!B1045&\" \"&'FULL TRUSTEE LIST'!C1045)","v":""}]
[{"$f":"IF('FULL TRUSTEE LIST'!B1046=\"\",\"\",'FULL TRUSTEE LIST'!B1046&\" \"&'FULL TRUSTEE LIST'!C1046)","v":""}]
[{"$f":"IF('FULL TRUSTEE LIST'!B1047=\"\",\"\",'FULL TRUSTEE LIST'!B1047&\" \"&'FULL TRUSTEE LIST'!C1047)","v":""}]
[{"$f":"IF('FULL TRUSTEE LIST'!B1048=\"\",\"\",'FULL TRUSTEE LIST'!B1048&\" \"&'FULL TRUSTEE LIST'!C1048)","v":""}]
[{"$f":"IF('FULL TRUSTEE LIST'!B1049=\"\",\"\",'FULL TRUSTEE LIST'!B1049&\" \"&'FULL TRUSTEE LIST'!C1049)","v":""}]
[{"$f":"IF('FULL TRUSTEE LIST'!B1050=\"\",\"\",'FULL TRUSTEE LIST'!B1050&\" \"&'FULL TRUSTEE LIST'!C1050)","v":""}]
[{"$f":"IF('FULL TRUSTEE LIST'!B1051=\"\",\"\",'FULL TRUSTEE LIST'!B1051&\" \"&'FULL TRUSTEE LIST'!C1051)","v":""}]
[{"$f":"IF('FULL TRUSTEE LIST'!B1052=\"\",\"\",'FULL TRUSTEE LIST'!B1052&\" \"&'FULL TRUSTEE LIST'!C1052)","v":""}]
[{"$f":"IF('FULL TRUSTEE LIST'!B1053=\"\",\"\",'FULL TRUSTEE LIST'!B1053&\" \"&'FULL TRUSTEE LIST'!C1053)","v":""}]
[{"$f":"IF('FULL TRUSTEE LIST'!B1054=\"\",\"\",'FULL TRUSTEE LIST'!B1054&\" \"&'FULL TRUSTEE LIST'!C1054)","v":""}]
[{"$f":"IF('FULL TRUSTEE LIST'!B1055=\"\",\"\",'FULL TRUSTEE LIST'!B1055&\" \"&'FULL TRUSTEE LIST'!C1055)","v":""}]
[{"$f":"IF('FULL TRUSTEE LIST'!B1056=\"\",\"\",'FULL TRUSTEE LIST'!B1056&\" \"&'FULL TRUSTEE LIST'!C1056)","v":""}]
[{"$f":"IF('FULL TRUSTEE LIST'!B1057=\"\",\"\",'FULL TRUSTEE LIST'!B1057&\" \"&'FULL TRUSTEE LIST'!C1057)","v":""}]
[{"$f":"IF('FULL TRUSTEE LIST'!B1058=\"\",\"\",'FULL TRUSTEE LIST'!B1058&\" \"&'FULL TRUSTEE LIST'!C1058)","v":""}]
[{"$f":"IF('FULL TRUSTEE LIST'!B1059=\"\",\"\",'FULL TRUSTEE LIST'!B1059&\" \"&'FULL TRUSTEE LIST'!C1059)","v":""}]
[{"$f":"IF('FULL TRUSTEE LIST'!B1060=\"\",\"\",'FULL TRUSTEE LIST'!B1060&\" \"&'FULL TRUSTEE LIST'!C1060)","v":""}]
[{"$f":"IF('FULL TRUSTEE LIST'!B1061=\"\",\"\",'FULL TRUSTEE LIST'!B1061&\" \"&'FULL TRUSTEE LIST'!C1061)","v":""}]
[{"$f":"IF('FULL TRUSTEE LIST'!B1062=\"\",\"\",'FULL TRUSTEE LIST'!B1062&\" \"&'FULL TRUSTEE LIST'!C1062)","v":""}]
[{"$f":"IF('FULL TRUSTEE LIST'!B1063=\"\",\"\",'FULL TRUSTEE LIST'!B1063&\" \"&'FULL TRUSTEE LIST'!C1063)","v":""}]
[{"$f":"IF('FULL TRUSTEE LIST'!B1064=\"\",\"\",'FULL TRUSTEE LIST'!B1064&\" \"&'FULL TRUSTEE LIST'!C1064)","v":""}]
[{"$f":"IF('FULL TRUSTEE LIST'!B1065=\"\",\"\",'FULL TRUSTEE LIST'!B1065&\" \"&'FULL TRUSTEE LIST'!C1065)","v":""}]
[{"$f":"IF('FULL TRUSTEE LIST'!B1066=\"\",\"\",'FULL TRUSTEE LIST'!B1066&\" \"&'FULL TRUSTEE LIST'!C1066)","v":""}]
[{"$f":"IF('FULL TRUSTEE LIST'!B1067=\"\",\"\",'FULL TRUSTEE LIST'!B1067&\" \"&'FULL TRUSTEE LIST'!C1067)","v":""}]
[{"$f":"IF('FULL TRUSTEE LIST'!B1068=\"\",\"\",'FULL TRUSTEE LIST'!B1068&\" \"&'FULL TRUSTEE LIST'!C1068)","v":""}]
[{"$f":"IF('FULL TRUSTEE LIST'!B1069=\"\",\"\",'FULL TRUSTEE LIST'!B1069&\" \"&'FULL TRUSTEE LIST'!C1069)","v":""}]
[{"$f":"IF('FULL TRUSTEE LIST'!B1070=\"\",\"\",'FULL TRUSTEE LIST'!B1070&\" \"&'FULL TRUSTEE LIST'!C1070)","v":""}]
[{"$f":"IF('FULL TRUSTEE LIST'!B1071=\"\",\"\",'FULL TRUSTEE LIST'!B1071&\" \"&'FULL TRUSTEE LIST'!C1071)","v":""}]
[{"$f":"IF('FULL TRUSTEE LIST'!B1072=\"\",\"\",'FULL TRUSTEE LIST'!B1072&\" \"&'FULL TRUSTEE LIST'!C1072)","v":""}]
[{"$f":"IF('FULL TRUSTEE LIST'!B1073=\"\",\"\",'FULL TRUSTEE LIST'!B1073&\" \"&'FULL TRUSTEE LIST'!C1073)","v":""}]
[{"$f":"IF('FULL TRUSTEE LIST'!B1074=\"\",\"\",'FULL TRUSTEE LIST'!B1074&\" \"&'FULL TRUSTEE LIST'!C1074)","v":""}]
[{"$f":"IF('FULL TRUSTEE LIST'!B1075=\"\",\"\",'FULL TRUSTEE LIST'!B1075&\" \"&'FULL TRUSTEE LIST'!C1075)","v":""}]
[{"$f":"IF('FULL TRUSTEE LIST'!B1076=\"\",\"\",'FULL TRUSTEE LIST'!B1076&\" \"&'FULL TRUSTEE LIST'!C1076)","v":""}]
[{"$f":"IF('FULL TRUSTEE LIST'!B1077=\"\",\"\",'FULL TRUSTEE LIST'!B1077&\" \"&'FULL TRUSTEE LIST'!C1077)","v":""}]
[{"$f":"IF('FULL TRUSTEE LIST'!B1078=\"\",\"\",'FULL TRUSTEE LIST'!B1078&\" \"&'FULL TRUSTEE LIST'!C1078)","v":""}]
[{"$f":"IF('FULL TRUSTEE LIST'!B1079=\"\",\"\",'FULL TRUSTEE LIST'!B1079&\" \"&'FULL TRUSTEE LIST'!C1079)","v":""}]
[{"$f":"IF('FULL TRUSTEE LIST'!B1080=\"\",\"\",'FULL TRUSTEE LIST'!B1080&\" \"&'FULL TRUSTEE LIST'!C1080)","v":""}]
[{"$f":"IF('FULL TRUSTEE LIST'!B1081=\"\",\"\",'FULL TRUSTEE LIST'!B1081&\" \"&'FULL TRUSTEE LIST'!C1081)","v":""}]
[{"$f":"IF('FULL TRUSTEE LIST'!B1082=\"\",\"\",'FULL TRUSTEE LIST'!B1082&\" \"&'FULL TRUSTEE LIST'!C1082)","v":""}]
[{"$f":"IF('FULL TRUSTEE LIST'!B1083=\"\",\"\",'FULL TRUSTEE LIST'!B1083&\" \"&'FULL TRUSTEE LIST'!C1083)","v":""}]
[{"$f":"IF('FULL TRUSTEE LIST'!B1084=\"\",\"\",'FULL TRUSTEE LIST'!B1084&\" \"&'FULL TRUSTEE LIST'!C1084)","v":""}]
[{"$f":"IF('FULL TRUSTEE LIST'!B1085=\"\",\"\",'FULL TRUSTEE LIST'!B1085&\" \"&'FULL TRUSTEE LIST'!C1085)","v":""}]
[{"$f":"IF('FULL TRUSTEE LIST'!B1086=\"\",\"\",'FULL TRUSTEE LIST'!B1086&\" \"&'FULL TRUSTEE LIST'!C1086)","v":""}]
[{"$f":"IF('FULL TRUSTEE LIST'!B1087=\"\",\"\",'FULL TRUSTEE LIST'!B1087&\" \"&'FULL TRUSTEE LIST'!C1087)","v":""}]
[{"$f":"IF('FULL TRUSTEE LIST'!B1088=\"\",\"\",'FULL TRUSTEE LIST'!B1088&\" \"&'FULL TRUSTEE LIST'!C1088)","v":""}]
[{"$f":"IF('FULL TRUSTEE LIST'!B1089=\"\",\"\",'FULL TRUSTEE LIST'!B1089&\" \"&'FULL TRUSTEE LIST'!C1089)","v":""}]
[{"$f":"IF('FULL TRUSTEE LIST'!B1090=\"\",\"\",'FULL TRUSTEE LIST'!B1090&\" \"&'FULL TRUSTEE LIST'!C1090)","v":""}]
[{"$f":"IF('FULL TRUSTEE LIST'!B1091=\"\",\"\",'FULL TRUSTEE LIST'!B1091&\" \"&'FULL TRUSTEE LIST'!C1091)","v":""}]
[{"$f":"IF('FULL TRUSTEE LIST'!B1092=\"\",\"\",'FULL TRUSTEE LIST'!B1092&\" \"&'FULL TRUSTEE LIST'!C1092)","v":""}]
[{"$f":"IF('FULL TRUSTEE LIST'!B1093=\"\",\"\",'FULL TRUSTEE LIST'!B1093&\" \"&'FULL TRUSTEE LIST'!C1093)","v":""}]
[{"$f":"IF('FULL TRUSTEE LIST'!B1094=\"\",\"\",'FULL TRUSTEE LIST'!B1094&\" \"&'FULL TRUSTEE LIST'!C1094)","v":""}]
[{"$f":"IF('FULL TRUSTEE LIST'!B1095=\"\",\"\",'FULL TRUSTEE LIST'!B1095&\" \"&'FULL TRUSTEE LIST'!C1095)","v":""}]
[{"$f":"IF('FULL TRUSTEE LIST'!B1096=\"\",\"\",'FULL TRUSTEE LIST'!B1096&\" \"&'FULL TRUSTEE LIST'!C1096)","v":""}]
[{"$f":"IF('FULL TRUSTEE LIST'!B1097=\"\",\"\",'FULL TRUSTEE LIST'!B1097&\" \"&'FULL TRUSTEE LIST'!C1097)","v":""}]
[{"$f":"IF('FULL TRUSTEE LIST'!B1098=\"\",\"\",'FULL TRUSTEE LIST'!B1098&\" \"&'FULL TRUSTEE LIST'!C1098)","v":""}]
[{"$f":"IF('FULL TRUSTEE LIST'!B1099=\"\",\"\",'FULL TRUSTEE LIST'!B1099&\" \"&'FULL TRUSTEE LIST'!C1099)","v":""}]
[{"$f":"IF('FULL TRUSTEE LIST'!B1100=\"\",\"\",'FULL TRUSTEE LIST'!B1100&\" \"&'FULL TRUSTEE LIST'!C1100)","v":""}]
[{"$f":"IF('FULL TRUSTEE LIST'!B1101=\"\",\"\",'FULL TRUSTEE LIST'!B1101&\" \"&'FULL TRUSTEE LIST'!C1101)","v":""}]
[{"$f":"IF('FULL TRUSTEE LIST'!B1102=\"\",\"\",'FULL TRUSTEE LIST'!B1102&\" \"&'FULL TRUSTEE LIST'!C1102)","v":""}]
[{"$f":"IF('FULL TRUSTEE LIST'!B1103=\"\",\"\",'FULL TRUSTEE LIST'!B1103&\" \"&'FULL TRUSTEE LIST'!C1103)","v":""}]
[{"$f":"IF('FULL TRUSTEE LIST'!B1104=\"\",\"\",'FULL TRUSTEE LIST'!B1104&\" \"&'FULL TRUSTEE LIST'!C1104)","v":""}]
[{"$f":"IF('FULL TRUSTEE LIST'!B1105=\"\",\"\",'FULL TRUSTEE LIST'!B1105&\" \"&'FULL TRUSTEE LIST'!C1105)","v":""}]
[{"$f":"IF('FULL TRUSTEE LIST'!B1106=\"\",\"\",'FULL TRUSTEE LIST'!B1106&\" \"&'FULL TRUSTEE LIST'!C1106)","v":""}]
[{"$f":"IF('FULL TRUSTEE LIST'!B1107=\"\",\"\",'FULL TRUSTEE LIST'!B1107&\" \"&'FULL TRUSTEE LIST'!C1107)","v":""}]
[{"$f":"IF('FULL TRUSTEE LIST'!B1108=\"\",\"\",'FULL TRUSTEE LIST'!B1108&\" \"&'FULL TRUSTEE LIST'!C1108)","v":""}]
[{"$f":"IF('FULL TRUSTEE LIST'!B1109=\"\",\"\",'FULL TRUSTEE LIST'!B1109&\" \"&'FULL TRUSTEE LIST'!C1109)","v":""}]
[{"$f":"IF('FULL TRUSTEE LIST'!B1110=\"\",\"\",'FULL TRUSTEE LIST'!B1110&\" \"&'FULL TRUSTEE LIST'!C1110)","v":""}]
[{"$f":"IF('FULL TRUSTEE LIST'!B1111=\"\",\"\",'FULL TRUSTEE LIST'!B1111&\" \"&'FULL TRUSTEE LIST'!C1111)","v":""}]
[{"$f":"IF('FULL TRUSTEE LIST'!B1112=\"\",\"\",'FULL TRUSTEE LIST'!B1112&\" \"&'FULL TRUSTEE LIST'!C1112)","v":""}]
[{"$f":"IF('FULL TRUSTEE LIST'!B1113=\"\",\"\",'FULL TRUSTEE LIST'!B1113&\" \"&'FULL TRUSTEE LIST'!C1113)","v":""}]
[{"$f":"IF('FULL TRUSTEE LIST'!B1114=\"\",\"\",'FULL TRUSTEE LIST'!B1114&\" \"&'FULL TRUSTEE LIST'!C1114)","v":""}]
[{"$f":"IF('FULL TRUSTEE LIST'!B1115=\"\",\"\",'FULL TRUSTEE LIST'!B1115&\" \"&'FULL TRUSTEE LIST'!C1115)","v":""}]
[{"$f":"IF('FULL TRUSTEE LIST'!B1116=\"\",\"\",'FULL TRUSTEE LIST'!B1116&\" \"&'FULL TRUSTEE LIST'!C1116)","v":""}]
[{"$f":"IF('FULL TRUSTEE LIST'!B1117=\"\",\"\",'FULL TRUSTEE LIST'!B1117&\" \"&'FULL TRUSTEE LIST'!C1117)","v":""}]
[{"$f":"IF('FULL TRUSTEE LIST'!B1118=\"\",\"\",'FULL TRUSTEE LIST'!B1118&\" \"&'FULL TRUSTEE LIST'!C1118)","v":""}]
[{"$f":"IF('FULL TRUSTEE LIST'!B1119=\"\",\"\",'FULL TRUSTEE LIST'!B1119&\" \"&'FULL TRUSTEE LIST'!C1119)","v":""}]
[{"$f":"IF('FULL TRUSTEE LIST'!B1120=\"\",\"\",'FULL TRUSTEE LIST'!B1120&\" \"&'FULL TRUSTEE LIST'!C1120)","v":""}]
[{"$f":"IF('FULL TRUSTEE LIST'!B1121=\"\",\"\",'FULL TRUSTEE LIST'!B1121&\" \"&'FULL TRUSTEE LIST'!C1121)","v":""}]
[{"$f":"IF('FULL TRUSTEE LIST'!B1122=\"\",\"\",'FULL TRUSTEE LIST'!B1122&\" \"&'FULL TRUSTEE LIST'!C1122)","v":""}]
[{"$f":"IF('FULL TRUSTEE LIST'!B1123=\"\",\"\",'FULL TRUSTEE LIST'!B1123&\" \"&'FULL TRUSTEE LIST'!C1123)","v":""}]
[{"$f":"IF('FULL TRUSTEE LIST'!B1124=\"\",\"\",'FULL TRUSTEE LIST'!B1124&\" \"&'FULL TRUSTEE LIST'!C1124)","v":""}]
[{"$f":"IF('FULL TRUSTEE LIST'!B1125=\"\",\"\",'FULL TRUSTEE LIST'!B1125&\" \"&'FULL TRUSTEE LIST'!C1125)","v":""}]
[{"$f":"IF('FULL TRUSTEE LIST'!B1126=\"\",\"\",'FULL TRUSTEE LIST'!B1126&\" \"&'FULL TRUSTEE LIST'!C1126)","v":""}]
[{"$f":"IF('FULL TRUSTEE LIST'!B1127=\"\",\"\",'FULL TRUSTEE LIST'!B1127&\" \"&'FULL TRUSTEE LIST'!C1127)","v":""}]
[{"$f":"IF('FULL TRUSTEE LIST'!B1128=\"\",\"\",'FULL TRUSTEE LIST'!B1128&\" \"&'FULL TRUSTEE LIST'!C1128)","v":""}]
[{"$f":"IF('FULL TRUSTEE LIST'!B1129=\"\",\"\",'FULL TRUSTEE LIST'!B1129&\" \"&'FULL TRUSTEE LIST'!C1129)","v":""}]
[{"$f":"IF('FULL TRUSTEE LIST'!B1130=\"\",\"\",'FULL TRUSTEE LIST'!B1130&\" \"&'FULL TRUSTEE LIST'!C1130)","v":""}]
[{"$f":"IF('FULL TRUSTEE LIST'!B1131=\"\",\"\",'FULL TRUSTEE LIST'!B1131&\" \"&'FULL TRUSTEE LIST'!C1131)","v":""}]
[{"$f":"IF('FULL TRUSTEE LIST'!B1132=\"\",\"\",'FULL TRUSTEE LIST'!B1132&\" \"&'FULL TRUSTEE LIST'!C1132)","v":""}]
[{"$f":"IF('FULL TRUSTEE LIST'!B1133=\"\",\"\",'FULL TRUSTEE LIST'!B1133&\" \"&'FULL TRUSTEE LIST'!C1133)","v":""}]
[{"$f":"IF('FULL TRUSTEE LIST'!B1134=\"\",\"\",'FULL TRUSTEE LIST'!B1134&\" \"&'FULL TRUSTEE LIST'!C1134)","v":""}]
[{"$f":"IF('FULL TRUSTEE LIST'!B1135=\"\",\"\",'FULL TRUSTEE LIST'!B1135&\" \"&'FULL TRUSTEE LIST'!C1135)","v":""}]
[{"$f":"IF('FULL TRUSTEE LIST'!B1136=\"\",\"\",'FULL TRUSTEE LIST'!B1136&\" \"&'FULL TRUSTEE LIST'!C1136)","v":""}]
[{"$f":"IF('FULL TRUSTEE LIST'!B1137=\"\",\"\",'FULL TRUSTEE LIST'!B1137&\" \"&'FULL TRUSTEE LIST'!C1137)","v":""}]
[{"$f":"IF('FULL TRUSTEE LIST'!B1138=\"\",\"\",'FULL TRUSTEE LIST'!B1138&\" \"&'FULL TRUSTEE LIST'!C1138)","v":""}]
[{"$f":"IF('FULL TRUSTEE LIST'!B1139=\"\",\"\",'FULL TRUSTEE LIST'!B1139&\" \"&'FULL TRUSTEE LIST'!C1139)","v":""}]
[{"$f":"IF('FULL TRUSTEE LIST'!B1140=\"\",\"\",'FULL TRUSTEE LIST'!B1140&\" \"&'FULL TRUSTEE LIST'!C1140)","v":""}]
[{"$f":"IF('FULL TRUSTEE LIST'!B1141=\"\",\"\",'FULL TRUSTEE LIST'!B1141&\" \"&'FULL TRUSTEE LIST'!C1141)","v":""}]
[{"$f":"IF('FULL TRUSTEE LIST'!B1142=\"\",\"\",'FULL TRUSTEE LIST'!B1142&\" \"&'FULL TRUSTEE LIST'!C1142)","v":""}]
[{"$f":"IF('FULL TRUSTEE LIST'!B1143=\"\",\"\",'FULL TRUSTEE LIST'!B1143&\" \"&'FULL TRUSTEE LIST'!C1143)","v":""}]
[{"$f":"IF('FULL TRUSTEE LIST'!B1144=\"\",\"\",'FULL TRUSTEE LIST'!B1144&\" \"&'FULL TRUSTEE LIST'!C1144)","v":""}]
[{"$f":"IF('FULL TRUSTEE LIST'!B1145=\"\",\"\",'FULL TRUSTEE LIST'!B1145&\" \"&'FULL TRUSTEE LIST'!C1145)","v":""}]
[{"$f":"IF('FULL TRUSTEE LIST'!B1146=\"\",\"\",'FULL TRUSTEE LIST'!B1146&\" \"&'FULL TRUSTEE LIST'!C1146)","v":""}]
[{"$f":"IF('FULL TRUSTEE LIST'!B1147=\"\",\"\",'FULL TRUSTEE LIST'!B1147&\" \"&'FULL TRUSTEE LIST'!C1147)","v":""}]
[{"$f":"IF('FULL TRUSTEE LIST'!B1148=\"\",\"\",'FULL TRUSTEE LIST'!B1148&\" \"&'FULL TRUSTEE LIST'!C1148)","v":""}]
[{"$f":"IF('FULL TRUSTEE LIST'!B1149=\"\",\"\",'FULL TRUSTEE LIST'!B1149&\" \"&'FULL TRUSTEE LIST'!C1149)","v":""}]
[{"$f":"IF('FULL TRUSTEE LIST'!B1150=\"\",\"\",'FULL TRUSTEE LIST'!B1150&\" \"&'FULL TRUSTEE LIST'!C1150)","v":""}]
[{"$f":"IF('FULL TRUSTEE LIST'!B1151=\"\",\"\",'FULL TRUSTEE LIST'!B1151&\" \"&'FULL TRUSTEE LIST'!C1151)","v":""}]
[{"$f":"IF('FULL TRUSTEE LIST'!B1152=\"\",\"\",'FULL TRUSTEE LIST'!B1152&\" \"&'FULL TRUSTEE LIST'!C1152)","v":""}]
[{"$f":"IF('FULL TRUSTEE LIST'!B1153=\"\",\"\",'FULL TRUSTEE LIST'!B1153&\" \"&'FULL TRUSTEE LIST'!C1153)","v":""}]
[{"$f":"IF('FULL TRUSTEE LIST'!B1154=\"\",\"\",'FULL TRUSTEE LIST'!B1154&\" \"&'FULL TRUSTEE LIST'!C1154)","v":""}]
[{"$f":"IF('FULL TRUSTEE LIST'!B1155=\"\",\"\",'FULL TRUSTEE LIST'!B1155&\" \"&'FULL TRUSTEE LIST'!C1155)","v":""}]
[{"$f":"IF('FULL TRUSTEE LIST'!B1156=\"\",\"\",'FULL TRUSTEE LIST'!B1156&\" \"&'FULL TRUSTEE LIST'!C1156)","v":""}]
[{"$f":"IF('FULL TRUSTEE LIST'!B1157=\"\",\"\",'FULL TRUSTEE LIST'!B1157&\" \"&'FULL TRUSTEE LIST'!C1157)","v":""}]
[{"$f":"IF('FULL TRUSTEE LIST'!B1158=\"\",\"\",'FULL TRUSTEE LIST'!B1158&\" \"&'FULL TRUSTEE LIST'!C1158)","v":""}]
[{"$f":"IF('FULL TRUSTEE LIST'!B1159=\"\",\"\",'FULL TRUSTEE LIST'!B1159&\" \"&'FULL TRUSTEE LIST'!C1159)","v":""}]
[{"$f":"IF('FULL TRUSTEE LIST'!B1160=\"\",\"\",'FULL TRUSTEE LIST'!B1160&\" \"&'FULL TRUSTEE LIST'!C1160)","v":""}]
[{"$f":"IF('FULL TRUSTEE LIST'!B1161=\"\",\"\",'FULL TRUSTEE LIST'!B1161&\" \"&'FULL TRUSTEE LIST'!C1161)","v":""}]
[{"$f":"IF('FULL TRUSTEE LIST'!B1162=\"\",\"\",'FULL TRUSTEE LIST'!B1162&\" \"&'FULL TRUSTEE LIST'!C1162)","v":""}]
[{"$f":"IF('FULL TRUSTEE LIST'!B1163=\"\",\"\",'FULL TRUSTEE LIST'!B1163&\" \"&'FULL TRUSTEE LIST'!C1163)","v":""}]
[{"$f":"IF('FULL TRUSTEE LIST'!B1164=\"\",\"\",'FULL TRUSTEE LIST'!B1164&\" \"&'FULL TRUSTEE LIST'!C1164)","v":""}]
[{"$f":"IF('FULL TRUSTEE LIST'!B1165=\"\",\"\",'FULL TRUSTEE LIST'!B1165&\" \"&'FULL TRUSTEE LIST'!C1165)","v":""}]
[{"$f":"IF('FULL TRUSTEE LIST'!B1166=\"\",\"\",'FULL TRUSTEE LIST'!B1166&\" \"&'FULL TRUSTEE LIST'!C1166)","v":""}]
[{"$f":"IF('FULL TRUSTEE LIST'!B1167=\"\",\"\",'FULL TRUSTEE LIST'!B1167&\" \"&'FULL TRUSTEE LIST'!C1167)","v":""}]
[{"$f":"IF('FULL TRUSTEE LIST'!B1168=\"\",\"\",'FULL TRUSTEE LIST'!B1168&\" \"&'FULL TRUSTEE LIST'!C1168)","v":""}]
[{"$f":"IF('FULL TRUSTEE LIST'!B1169=\"\",\"\",'FULL TRUSTEE LIST'!B1169&\" \"&'FULL TRUSTEE LIST'!C1169)","v":""}]
[{"$f":"IF('FULL TRUSTEE LIST'!B1170=\"\",\"\",'FULL TRUSTEE LIST'!B1170&\" \"&'FULL TRUSTEE LIST'!C1170)","v":""}]
[{"$f":"IF('FULL TRUSTEE LIST'!B1171=\"\",\"\",'FULL TRUSTEE LIST'!B1171&\" \"&'FULL TRUSTEE LIST'!C1171)","v":""}]
[{"$f":"IF('FULL TRUSTEE LIST'!B1172=\"\",\"\",'FULL TRUSTEE LIST'!B1172&\" \"&'FULL TRUSTEE LIST'!C1172)","v":""}]
[{"$f":"IF('FULL TRUSTEE LIST'!B1173=\"\",\"\",'FULL TRUSTEE LIST'!B1173&\" \"&'FULL TRUSTEE LIST'!C1173)","v":""}]
[{"$f":"IF('FULL TRUSTEE LIST'!B1174=\"\",\"\",'FULL TRUSTEE LIST'!B1174&\" \"&'FULL TRUSTEE LIST'!C1174)","v":""}]
[{"$f":"IF('FULL TRUSTEE LIST'!B1175=\"\",\"\",'FULL TRUSTEE LIST'!B1175&\" \"&'FULL TRUSTEE LIST'!C1175)","v":""}]
[{"$f":"IF('FULL TRUSTEE LIST'!B1176=\"\",\"\",'FULL TRUSTEE LIST'!B1176&\" \"&'FULL TRUSTEE LIST'!C1176)","v":""}]
[{"$f":"IF('FULL TRUSTEE LIST'!B1177=\"\",\"\",'FULL TRUSTEE LIST'!B1177&\" \"&'FULL TRUSTEE LIST'!C1177)","v":""}]
[{"$f":"IF('FULL TRUSTEE LIST'!B1178=\"\",\"\",'FULL TRUSTEE LIST'!B1178&\" \"&'FULL TRUSTEE LIST'!C1178)","v":""}]
[{"$f":"IF('FULL TRUSTEE LIST'!B1179=\"\",\"\",'FULL TRUSTEE LIST'!B1179&\" \"&'FULL TRUSTEE LIST'!C1179)","v":""}]
[{"$f":"IF('FULL TRUSTEE LIST'!B1180=\"\",\"\",'FULL TRUSTEE LIST'!B1180&\" \"&'FULL TRUSTEE LIST'!C1180)","v":""}]
[{"$f":"IF('FULL TRUSTEE LIST'!B1181=\"\",\"\",'FULL TRUSTEE LIST'!B1181&\" \"&'FULL TRUSTEE LIST'!C1181)","v":""}]
[{"$f":"IF('FULL TRUSTEE LIST'!B1182=\"\",\"\",'FULL TRUSTEE LIST'!B1182&\" \"&'FULL TRUSTEE LIST'!C1182)","v":""}]
[{"$f":"IF('FULL TRUSTEE LIST'!B1183=\"\",\"\",'FULL TRUSTEE LIST'!B1183&\" \"&'FULL TRUSTEE LIST'!C1183)","v":""}]
[{"$f":"IF('FULL TRUSTEE LIST'!B1184=\"\",\"\",'FULL TRUSTEE LIST'!B1184&\" \"&'FULL TRUSTEE LIST'!C1184)","v":""}]
[{"$f":"IF('FULL TRUSTEE LIST'!B1185=\"\",\"\",'FULL TRUSTEE LIST'!B1185&\" \"&'FULL TRUSTEE LIST'!C1185)","v":""}]
[{"$f":"IF('FULL TRUSTEE LIST'!B1186=\"\",\"\",'FULL TRUSTEE LIST'!B1186&\" \"&'FULL TRUSTEE LIST'!C1186)","v":""}]
[{"$f":"IF('FULL TRUSTEE LIST'!B1187=\"\",\"\",'FULL TRUSTEE LIST'!B1187&\" \"&'FULL TRUSTEE LIST'!C1187)","v":""}]
[{"$f":"IF('FULL TRUSTEE LIST'!B1188=\"\",\"\",'FULL TRUSTEE LIST'!B1188&\" \"&'FULL TRUSTEE LIST'!C1188)","v":""}]
[{"$f":"IF('FULL TRUSTEE LIST'!B1189=\"\",\"\",'FULL TRUSTEE LIST'!B1189&\" \"&'FULL TRUSTEE LIST'!C1189)","v":""}]
[{"$f":"IF('FULL TRUSTEE LIST'!B1190=\"\",\"\",'FULL TRUSTEE LIST'!B1190&\" \"&'FULL TRUSTEE LIST'!C1190)","v":""}]
[{"$f":"IF('FULL TRUSTEE LIST'!B1191=\"\",\"\",'FULL TRUSTEE LIST'!B1191&\" \"&'FULL TRUSTEE LIST'!C1191)","v":""}]
[{"$f":"IF('FULL TRUSTEE LIST'!B1192=\"\",\"\",'FULL TRUSTEE LIST'!B1192&\" \"&'FULL TRUSTEE LIST'!C1192)","v":""}]
[{"$f":"IF('FULL TRUSTEE LIST'!B1193=\"\",\"\",'FULL TRUSTEE LIST'!B1193&\" \"&'FULL TRUSTEE LIST'!C1193)","v":""}]
[{"$f":"IF('FULL TRUSTEE LIST'!B1194=\"\",\"\",'FULL TRUSTEE LIST'!B1194&\" \"&'FULL TRUSTEE LIST'!C1194)","v":""}]
[{"$f":"IF('FULL TRUSTEE LIST'!B1195=\"\",\"\",'FULL TRUSTEE LIST'!B1195&\" \"&'FULL TRUSTEE LIST'!C1195)","v":""}]
[{"$f":"IF('FULL TRUSTEE LIST'!B1196=\"\",\"\",'FULL TRUSTEE LIST'!B1196&\" \"&'FULL TRUSTEE LIST'!C1196)","v":""}]
[{"$f":"IF('FULL TRUSTEE LIST'!B1197=\"\",\"\",'FULL TRUSTEE LIST'!B1197&\" \"&'FULL TRUSTEE LIST'!C1197)","v":""}]
[{"$f":"IF('FULL TRUSTEE LIST'!B1198=\"\",\"\",'FULL TRUSTEE LIST'!B1198&\" \"&'FULL TRUSTEE LIST'!C1198)","v":""}]
[{"$f":"IF('FULL TRUSTEE LIST'!B1199=\"\",\"\",'FULL TRUSTEE LIST'!B1199&\" \"&'FULL TRUSTEE LIST'!C1199)","v":""}]
[{"$f":"IF('FULL TRUSTEE LIST'!B1200=\"\",\"\",'FULL TRUSTEE LIST'!B1200&\" \"&'FULL TRUSTEE LIST'!C1200)","v":""}]
[{"$f":"IF('FULL TRUSTEE LIST'!B1201=\"\",\"\",'FULL TRUSTEE LIST'!B1201&\" \"&'FULL TRUSTEE LIST'!C1201)","v":""}]
[{"$f":"IF('FULL TRUSTEE LIST'!B1202=\"\",\"\",'FULL TRUSTEE LIST'!B1202&\" \"&'FULL TRUSTEE LIST'!C1202)","v":""}]
[{"$f":"IF('FULL TRUSTEE LIST'!B1203=\"\",\"\",'FULL TRUSTEE LIST'!B1203&\" \"&'FULL TRUSTEE LIST'!C1203)","v":""}]
[{"$f":"IF('FULL TRUSTEE LIST'!B1204=\"\",\"\",'FULL TRUSTEE LIST'!B1204&\" \"&'FULL TRUSTEE LIST'!C1204)","v":""}]
[{"$f":"IF('FULL TRUSTEE LIST'!B1205=\"\",\"\",'FULL TRUSTEE LIST'!B1205&\" \"&'FULL TRUSTEE LIST'!C1205)","v":""}]
[{"$f":"IF('FULL TRUSTEE LIST'!B1206=\"\",\"\",'FULL TRUSTEE LIST'!B1206&\" \"&'FULL TRUSTEE LIST'!C1206)","v":""}]
[{"$f":"IF('FULL TRUSTEE LIST'!B1207=\"\",\"\",'FULL TRUSTEE LIST'!B1207&\" \"&'FULL TRUSTEE LIST'!C1207)","v":""}]
[{"$f":"IF('FULL TRUSTEE LIST'!B1208=\"\",\"\",'FULL TRUSTEE LIST'!B1208&\" \"&'FULL TRUSTEE LIST'!C1208)","v":""}]
[{"$f":"IF('FULL TRUSTEE LIST'!B1209=\"\",\"\",'FULL TRUSTEE LIST'!B1209&\" \"&'FULL TRUSTEE LIST'!C1209)","v":""}]
[{"$f":"IF('FULL TRUSTEE LIST'!B1210=\"\",\"\",'FULL TRUSTEE LIST'!B1210&\" \"&'FULL TRUSTEE LIST'!C1210)","v":""}]
[{"$f":"IF('FULL TRUSTEE LIST'!B1211=\"\",\"\",'FULL TRUSTEE LIST'!B1211&\" \"&'FULL TRUSTEE LIST'!C1211)","v":""}]
[{"$f":"IF('FULL TRUSTEE LIST'!B1212=\"\",\"\",'FULL TRUSTEE LIST'!B1212&\" \"&'FULL TRUSTEE LIST'!C1212)","v":""}]
[{"$f":"IF('FULL TRUSTEE LIST'!B1213=\"\",\"\",'FULL TRUSTEE LIST'!B1213&\" \"&'FULL TRUSTEE LIST'!C1213)","v":""}]
[{"$f":"IF('FULL TRUSTEE LIST'!B1214=\"\",\"\",'FULL TRUSTEE LIST'!B1214&\" \"&'FULL TRUSTEE LIST'!C1214)","v":""}]
[{"$f":"IF('FULL TRUSTEE LIST'!B1215=\"\",\"\",'FULL TRUSTEE LIST'!B1215&\" \"&'FULL TRUSTEE LIST'!C1215)","v":""}]
[{"$f":"IF('FULL TRUSTEE LIST'!B1216=\"\",\"\",'FULL TRUSTEE LIST'!B1216&\" \"&'FULL TRUSTEE LIST'!C1216)","v":""}]
[{"$f":"IF('FULL TRUSTEE LIST'!B1217=\"\",\"\",'FULL TRUSTEE LIST'!B1217&\" \"&'FULL TRUSTEE LIST'!C1217)","v":""}]
[{"$f":"IF('FULL TRUSTEE LIST'!B1218=\"\",\"\",'FULL TRUSTEE LIST'!B1218&\" \"&'FULL TRUSTEE LIST'!C1218)","v":""}]
[{"$f":"IF('FULL TRUSTEE LIST'!B1219=\"\",\"\",'FULL TRUSTEE LIST'!B1219&\" \"&'FULL TRUSTEE LIST'!C1219)","v":""}]
[{"$f":"IF('FULL TRUSTEE LIST'!B1220=\"\",\"\",'FULL TRUSTEE LIST'!B1220&\" \"&'FULL TRUSTEE LIST'!C1220)","v":""}]
[{"$f":"IF('FULL TRUSTEE LIST'!B1221=\"\",\"\",'FULL TRUSTEE LIST'!B1221&\" \"&'FULL TRUSTEE LIST'!C1221)","v":""}]
[{"$f":"IF('FULL TRUSTEE LIST'!B1222=\"\",\"\",'FULL TRUSTEE LIST'!B1222&\" \"&'FULL TRUSTEE LIST'!C1222)","v":""}]
[{"$f":"IF('FULL TRUSTEE LIST'!B1223=\"\",\"\",'FULL TRUSTEE LIST'!B1223&\" \"&'FULL TRUSTEE LIST'!C1223)","v":""}]
[{"$f":"IF('FULL TRUSTEE LIST'!B1224=\"\",\"\",'FULL TRUSTEE LIST'!B1224&\" \"&'FULL TRUSTEE LIST'!C1224)","v":""}]
[{"$f":"IF('FULL TRUSTEE LIST'!B1225=\"\",\"\",'FULL TRUSTEE LIST'!B1225&\" \"&'FULL TRUSTEE LIST'!C1225)","v":""}]
[{"$f":"IF('FULL TRUSTEE LIST'!B1226=\"\",\"\",'FULL TRUSTEE LIST'!B1226&\" \"&'FULL TRUSTEE LIST'!C1226)","v":""}]
[{"$f":"IF('FULL TRUSTEE LIST'!B1227=\"\",\"\",'FULL TRUSTEE LIST'!B1227&\" \"&'FULL TRUSTEE LIST'!C1227)","v":""}]
[{"$f":"IF('FULL TRUSTEE LIST'!B1228=\"\",\"\",'FULL TRUSTEE LIST'!B1228&\" \"&'FULL TRUSTEE LIST'!C1228)","v":""}]
[{"$f":"IF('FULL TRUSTEE LIST'!B1229=\"\",\"\",'FULL TRUSTEE LIST'!B1229&\" \"&'FULL TRUSTEE LIST'!C1229)","v":""}]
[{"$f":"IF('FULL TRUSTEE LIST'!B1230=\"\",\"\",'FULL TRUSTEE LIST'!B1230&\" \"&'FULL TRUSTEE LIST'!C1230)","v":""}]
[{"$f":"IF('FULL TRUSTEE LIST'!B1231=\"\",\"\",'FULL TRUSTEE LIST'!B1231&\" \"&'FULL TRUSTEE LIST'!C1231)","v":""}]
[{"$f":"IF('FULL TRUSTEE LIST'!B1232=\"\",\"\",'FULL TRUSTEE LIST'!B1232&\" \"&'FULL TRUSTEE LIST'!C1232)","v":""}]
[{"$f":"IF('FULL TRUSTEE LIST'!B1233=\"\",\"\",'FULL TRUSTEE LIST'!B1233&\" \"&'FULL TRUSTEE LIST'!C1233)","v":""}]
[{"$f":"IF('FULL TRUSTEE LIST'!B1234=\"\",\"\",'FULL TRUSTEE LIST'!B1234&\" \"&'FULL TRUSTEE LIST'!C1234)","v":""}]
[{"$f":"IF('FULL TRUSTEE LIST'!B1235=\"\",\"\",'FULL TRUSTEE LIST'!B1235&\" \"&'FULL TRUSTEE LIST'!C1235)","v":""}]
[{"$f":"IF('FULL TRUSTEE LIST'!B1236=\"\",\"\",'FULL TRUSTEE LIST'!B1236&\" \"&'FULL TRUSTEE LIST'!C1236)","v":""}]
[{"$f":"IF('FULL TRUSTEE LIST'!B1237=\"\",\"\",'FULL TRUSTEE LIST'!B1237&\" \"&'FULL TRUSTEE LIST'!C1237)","v":""}]
[{"$f":"IF('FULL TRUSTEE LIST'!B1238=\"\",\"\",'FULL TRUSTEE LIST'!B1238&\" \"&'FULL TRUSTEE LIST'!C1238)","v":""}]
[{"$f":"IF('FULL TRUSTEE LIST'!B1239=\"\",\"\",'FULL TRUSTEE LIST'!B1239&\" \"&'FULL TRUSTEE LIST'!C1239)","v":""}]
[{"$f":"IF('FULL TRUSTEE LIST'!B1240=\"\",\"\",'FULL TRUSTEE LIST'!B1240&\" \"&'FULL TRUSTEE LIST'!C1240)","v":""}]
[{"$f":"IF('FULL TRUSTEE LIST'!B1241=\"\",\"\",'FULL TRUSTEE LIST'!B1241&\" \"&'FULL TRUSTEE LIST'!C1241)","v":""}]
[{"$f":"IF('FULL TRUSTEE LIST'!B1242=\"\",\"\",'FULL TRUSTEE LIST'!B1242&\" \"&'FULL TRUSTEE LIST'!C1242)","v":""}]
[{"$f":"IF('FULL TRUSTEE LIST'!B1243=\"\",\"\",'FULL TRUSTEE LIST'!B1243&\" \"&'FULL TRUSTEE LIST'!C1243)","v":""}]
[{"$f":"IF('FULL TRUSTEE LIST'!B1244=\"\",\"\",'FULL TRUSTEE LIST'!B1244&\" \"&'FULL TRUSTEE LIST'!C1244)","v":""}]
[{"$f":"IF('FULL TRUSTEE LIST'!B1245=\"\",\"\",'FULL TRUSTEE LIST'!B1245&\" \"&'FULL TRUSTEE LIST'!C1245)","v":""}]
[{"$f":"IF('FULL TRUSTEE LIST'!B1246=\"\",\"\",'FULL TRUSTEE LIST'!B1246&\" \"&'FULL TRUSTEE LIST'!C1246)","v":""}]
[{"$f":"IF('FULL TRUSTEE LIST'!B1247=\"\",\"\",'FULL TRUSTEE LIST'!B1247&\" \"&'FULL TRUSTEE LIST'!C1247)","v":""}]
[{"$f":"IF('FULL TRUSTEE LIST'!B1248=\"\",\"\",'FULL TRUSTEE LIST'!B1248&\" \"&'FULL TRUSTEE LIST'!C1248)","v":""}]
[{"$f":"IF('FULL TRUSTEE LIST'!B1249=\"\",\"\",'FULL TRUSTEE LIST'!B1249&\" \"&'FULL TRUSTEE LIST'!C1249)","v":""}]
[{"$f":"IF('FULL TRUSTEE LIST'!B1250=\"\",\"\",'FULL TRUSTEE LIST'!B1250&\" \"&'FULL TRUSTEE LIST'!C1250)","v":""}]
[{"$f":"IF('FULL TRUSTEE LIST'!B1251=\"\",\"\",'FULL TRUSTEE LIST'!B1251&\" \"&'FULL TRUSTEE LIST'!C1251)","v":""}]
[{"$f":"IF('FULL TRUSTEE LIST'!B1252=\"\",\"\",'FULL TRUSTEE LIST'!B1252&\" \"&'FULL TRUSTEE LIST'!C1252)","v":""}]
[{"$f":"IF('FULL TRUSTEE LIST'!B1253=\"\",\"\",'FULL TRUSTEE LIST'!B1253&\" \"&'FULL TRUSTEE LIST'!C1253)","v":""}]
[{"$f":"IF('FULL TRUSTEE LIST'!B1254=\"\",\"\",'FULL TRUSTEE LIST'!B1254&\" \"&'FULL TRUSTEE LIST'!C1254)","v":""}]
[{"$f":"IF('FULL TRUSTEE LIST'!B1255=\"\",\"\",'FULL TRUSTEE LIST'!B1255&\" \"&'FULL TRUSTEE LIST'!C1255)","v":""}]
[{"$f":"IF('FULL TRUSTEE LIST'!B1256=\"\",\"\",'FULL TRUSTEE LIST'!B1256&\" \"&'FULL TRUSTEE LIST'!C1256)","v":""}]
[{"$f":"IF('FULL TRUSTEE LIST'!B1257=\"\",\"\",'FULL TRUSTEE LIST'!B1257&\" \"&'FULL TRUSTEE LIST'!C1257)","v":""}]
[{"$f":"IF('FULL TRUSTEE LIST'!B1258=\"\",\"\",'FULL TRUSTEE LIST'!B1258&\" \"&'FULL TRUSTEE LIST'!C1258)","v":""}]
[{"$f":"IF('FULL TRUSTEE LIST'!B1259=\"\",\"\",'FULL TRUSTEE LIST'!B1259&\" \"&'FULL TRUSTEE LIST'!C1259)","v":""}]
[{"$f":"IF('FULL TRUSTEE LIST'!B1260=\"\",\"\",'FULL TRUSTEE LIST'!B1260&\" \"&'FULL TRUSTEE LIST'!C1260)","v":""}]
[{"$f":"IF('FULL TRUSTEE LIST'!B1261=\"\",\"\",'FULL TRUSTEE LIST'!B1261&\" \"&'FULL TRUSTEE LIST'!C1261)","v":""}]
[{"$f":"IF('FULL TRUSTEE LIST'!B1262=\"\",\"\",'FULL TRUSTEE LIST'!B1262&\" \"&'FULL TRUSTEE LIST'!C1262)","v":""}]
[{"$f":"IF('FULL TRUSTEE LIST'!B1263=\"\",\"\",'FULL TRUSTEE LIST'!B1263&\" \"&'FULL TRUSTEE LIST'!C1263)","v":""}]
[{"$f":"IF('FULL TRUSTEE LIST'!B1264=\"\",\"\",'FULL TRUSTEE LIST'!B1264&\" \"&'FULL TRUSTEE LIST'!C1264)","v":""}]
[{"$f":"IF('FULL TRUSTEE LIST'!B1265=\"\",\"\",'FULL TRUSTEE LIST'!B1265&\" \"&'FULL TRUSTEE LIST'!C1265)","v":""}]
[{"$f":"IF('FULL TRUSTEE LIST'!B1266=\"\",\"\",'FULL TRUSTEE LIST'!B1266&\" \"&'FULL TRUSTEE LIST'!C1266)","v":""}]
[{"$f":"IF('FULL TRUSTEE LIST'!B1267=\"\",\"\",'FULL TRUSTEE LIST'!B1267&\" \"&'FULL TRUSTEE LIST'!C1267)","v":""}]
[{"$f":"IF('FULL TRUSTEE LIST'!B1268=\"\",\"\",'FULL TRUSTEE LIST'!B1268&\" \"&'FULL TRUSTEE LIST'!C1268)","v":""}]
[{"$f":"IF('FULL TRUSTEE LIST'!B1269=\"\",\"\",'FULL TRUSTEE LIST'!B1269&\" \"&'FULL TRUSTEE LIST'!C1269)","v":""}]
[{"$f":"IF('FULL TRUSTEE LIST'!B1270=\"\",\"\",'FULL TRUSTEE LIST'!B1270&\" \"&'FULL TRUSTEE LIST'!C1270)","v":""}]
[{"$f":"IF('FULL TRUSTEE LIST'!B1271=\"\",\"\",'FULL TRUSTEE LIST'!B1271&\" \"&'FULL TRUSTEE LIST'!C1271)","v":""}]
[{"$f":"IF('FULL TRUSTEE LIST'!B1272=\"\",\"\",'FULL TRUSTEE LIST'!B1272&\" \"&'FULL TRUSTEE LIST'!C1272)","v":""}]
[{"$f":"IF('FULL TRUSTEE LIST'!B1273=\"\",\"\",'FULL TRUSTEE LIST'!B1273&\" \"&'FULL TRUSTEE LIST'!C1273)","v":""}]
[{"$f":"IF('FULL TRUSTEE LIST'!B1274=\"\",\"\",'FULL TRUSTEE LIST'!B1274&\" \"&'FULL TRUSTEE LIST'!C1274)","v":""}]
[{"$f":"IF('FULL TRUSTEE LIST'!B1275=\"\",\"\",'FULL TRUSTEE LIST'!B1275&\" \"&'FULL TRUSTEE LIST'!C1275)","v":""}]
[{"$f":"IF('FULL TRUSTEE LIST'!B1276=\"\",\"\",'FULL TRUSTEE LIST'!B1276&\" \"&'FULL TRUSTEE LIST'!C1276)","v":""}]
[{"$f":"IF('FULL TRUSTEE LIST'!B1277=\"\",\"\",'FULL TRUSTEE LIST'!B1277&\" \"&'FULL TRUSTEE LIST'!C1277)","v":""}]
[{"$f":"IF('FULL TRUSTEE LIST'!B1278=\"\",\"\",'FULL TRUSTEE LIST'!B1278&\" \"&'FULL TRUSTEE LIST'!C1278)","v":""}]
[{"$f":"IF('FULL TRUSTEE LIST'!B1279=\"\",\"\",'FULL TRUSTEE LIST'!B1279&\" \"&'FULL TRUSTEE LIST'!C1279)","v":""}]
[{"$f":"IF('FULL TRUSTEE LIST'!B1280=\"\",\"\",'FULL TRUSTEE LIST'!B1280&\" \"&'FULL TRUSTEE LIST'!C1280)","v":""}]
[{"$f":"IF('FULL TRUSTEE LIST'!B1281=\"\",\"\",'FULL TRUSTEE LIST'!B1281&\" \"&'FULL TRUSTEE LIST'!C1281)","v":""}]
[{"$f":"IF('FULL TRUSTEE LIST'!B1282=\"\",\"\",'FULL TRUSTEE LIST'!B1282&\" \"&'FULL TRUSTEE LIST'!C1282)","v":""}]
[{"$f":"IF('FULL TRUSTEE LIST'!B1283=\"\",\"\",'FULL TRUSTEE LIST'!B1283&\" \"&'FULL TRUSTEE LIST'!C1283)","v":""}]
[{"$f":"IF('FULL TRUSTEE LIST'!B1284=\"\",\"\",'FULL TRUSTEE LIST'!B1284&\" \"&'FULL TRUSTEE LIST'!C1284)","v":""}]
[{"$f":"IF('FULL TRUSTEE LIST'!B1285=\"\",\"\",'FULL TRUSTEE LIST'!B1285&\" \"&'FULL TRUSTEE LIST'!C1285)","v":""}]
[{"$f":"IF('FULL TRUSTEE LIST'!B1286=\"\",\"\",'FULL TRUSTEE LIST'!B1286&\" \"&'FULL TRUSTEE LIST'!C1286)","v":""}]
[{"$f":"IF('FULL TRUSTEE LIST'!B1287=\"\",\"\",'FULL TRUSTEE LIST'!B1287&\" \"&'FULL TRUSTEE LIST'!C1287)","v":""}]
[{"$f":"IF('FULL TRUSTEE LIST'!B1288=\"\",\"\",'FULL TRUSTEE LIST'!B1288&\" \"&'FULL TRUSTEE LIST'!C1288)","v":""}]
[{"$f":"IF('FULL TRUSTEE LIST'!B1289=\"\",\"\",'FULL TRUSTEE LIST'!B1289&\" \"&'FULL TRUSTEE LIST'!C1289)","v":""}]
[{"$f":"IF('FULL TRUSTEE LIST'!B1290=\"\",\"\",'FULL TRUSTEE LIST'!B1290&\" \"&'FULL TRUSTEE LIST'!C1290)","v":""}]
[{"$f":"IF('FULL TRUSTEE LIST'!B1291=\"\",\"\",'FULL TRUSTEE LIST'!B1291&\" \"&'FULL TRUSTEE LIST'!C1291)","v":""}]
[{"$f":"IF('FULL TRUSTEE LIST'!B1292=\"\",\"\",'FULL TRUSTEE LIST'!B1292&\" \"&'FULL TRUSTEE LIST'!C1292)","v":""}]
[{"$f":"IF('FULL TRUSTEE LIST'!B1293=\"\",\"\",'FULL TRUSTEE LIST'!B1293&\" \"&'FULL TRUSTEE LIST'!C1293)","v":""}]
[{"$f":"IF('FULL TRUSTEE LIST'!B1294=\"\",\"\",'FULL TRUSTEE LIST'!B1294&\" \"&'FULL TRUSTEE LIST'!C1294)","v":""}]
[{"$f":"IF('FULL TRUSTEE LIST'!B1295=\"\",\"\",'FULL TRUSTEE LIST'!B1295&\" \"&'FULL TRUSTEE LIST'!C1295)","v":""}]
[{"$f":"IF('FULL TRUSTEE LIST'!B1296=\"\",\"\",'FULL TRUSTEE LIST'!B1296&\" \"&'FULL TRUSTEE LIST'!C1296)","v":""}]
[{"$f":"IF('FULL TRUSTEE LIST'!B1297=\"\",\"\",'FULL TRUSTEE LIST'!B1297&\" \"&'FULL TRUSTEE LIST'!C1297)","v":""}]
[{"$f":"IF('FULL TRUSTEE LIST'!B1298=\"\",\"\",'FULL TRUSTEE LIST'!B1298&\" \"&'FULL TRUSTEE LIST'!C1298)","v":""}]
[{"$f":"IF('FULL TRUSTEE LIST'!B1299=\"\",\"\",'FULL TRUSTEE LIST'!B1299&\" \"&'FULL TRUSTEE LIST'!C1299)","v":""}]
[{"$f":"IF('FULL TRUSTEE LIST'!B1300=\"\",\"\",'FULL TRUSTEE LIST'!B1300&\" \"&'FULL TRUSTEE LIST'!C1300)","v":""}]
[{"$f":"IF('FULL TRUSTEE LIST'!B1301=\"\",\"\",'FULL TRUSTEE LIST'!B1301&\" \"&'FULL TRUSTEE LIST'!C1301)","v":""}]
[{"$f":"IF('FULL TRUSTEE LIST'!B1302=\"\",\"\",'FULL TRUSTEE LIST'!B1302&\" \"&'FULL TRUSTEE LIST'!C1302)","v":""}]
[{"$f":"IF('FULL TRUSTEE LIST'!B1303=\"\",\"\",'FULL TRUSTEE LIST'!B1303&\" \"&'FULL TRUSTEE LIST'!C1303)","v":""}]
[{"$f":"IF('FULL TRUSTEE LIST'!B1304=\"\",\"\",'FULL TRUSTEE LIST'!B1304&\" \"&'FULL TRUSTEE LIST'!C1304)","v":""}]
[{"$f":"IF('FULL TRUSTEE LIST'!B1305=\"\",\"\",'FULL TRUSTEE LIST'!B1305&\" \"&'FULL TRUSTEE LIST'!C1305)","v":""}]
[{"$f":"IF('FULL TRUSTEE LIST'!B1306=\"\",\"\",'FULL TRUSTEE LIST'!B1306&\" \"&'FULL TRUSTEE LIST'!C1306)","v":""}]
[{"$f":"IF('FULL TRUSTEE LIST'!B1307=\"\",\"\",'FULL TRUSTEE LIST'!B1307&\" \"&'FULL TRUSTEE LIST'!C1307)","v":""}]
[{"$f":"IF('FULL TRUSTEE LIST'!B1308=\"\",\"\",'FULL TRUSTEE LIST'!B1308&\" \"&'FULL TRUSTEE LIST'!C1308)","v":""}]
[{"$f":"IF('FULL TRUSTEE LIST'!B1309=\"\",\"\",'FULL TRUSTEE LIST'!B1309&\" \"&'FULL TRUSTEE LIST'!C1309)","v":""}]
[{"$f":"IF('FULL TRUSTEE LIST'!B1310=\"\",\"\",'FULL TRUSTEE LIST'!B1310&\" \"&'FULL TRUSTEE LIST'!C1310)","v":""}]
[{"$f":"IF('FULL TRUSTEE LIST'!B1311=\"\",\"\",'FULL TRUSTEE LIST'!B1311&\" \"&'FULL TRUSTEE LIST'!C1311)","v":""}]
[{"$f":"IF('FULL TRUSTEE LIST'!B1312=\"\",\"\",'FULL TRUSTEE LIST'!B1312&\" \"&'FULL TRUSTEE LIST'!C1312)","v":""}]
[{"$f":"IF('FULL TRUSTEE LIST'!B1313=\"\",\"\",'FULL TRUSTEE LIST'!B1313&\" \"&'FULL TRUSTEE LIST'!C1313)","v":""}]
[{"$f":"IF('FULL TRUSTEE LIST'!B1314=\"\",\"\",'FULL TRUSTEE LIST'!B1314&\" \"&'FULL TRUSTEE LIST'!C1314)","v":""}]
[{"$f":"IF('FULL TRUSTEE LIST'!B1315=\"\",\"\",'FULL TRUSTEE LIST'!B1315&\" \"&'FULL TRUSTEE LIST'!C1315)","v":""}]
[{"$f":"IF('FULL TRUSTEE LIST'!B1316=\"\",\"\",'FULL TRUSTEE LIST'!B1316&\" \"&'FULL TRUSTEE LIST'!C1316)","v":""}]
[{"$f":"IF('FULL TRUSTEE LIST'!B1317=\"\",\"\",'FULL TRUSTEE LIST'!B1317&\" \"&'FULL TRUSTEE LIST'!C1317)","v":""}]
[{"$f":"IF('FULL TRUSTEE LIST'!B1318=\"\",\"\",'FULL TRUSTEE LIST'!B1318&\" \"&'FULL TRUSTEE LIST'!C1318)","v":""}]
[{"$f":"IF('FULL TRUSTEE LIST'!B1319=\"\",\"\",'FULL TRUSTEE LIST'!B1319&\" \"&'FULL TRUSTEE LIST'!C1319)","v":""}]
[{"$f":"IF('FULL TRUSTEE LIST'!B1320=\"\",\"\",'FULL TRUSTEE LIST'!B1320&\" \"&'FULL TRUSTEE LIST'!C1320)","v":""}]
[{"$f":"IF('FULL TRUSTEE LIST'!B1321=\"\",\"\",'FULL TRUSTEE LIST'!B1321&\" \"&'FULL TRUSTEE LIST'!C1321)","v":""}]
[{"$f":"IF('FULL TRUSTEE LIST'!B1322=\"\",\"\",'FULL TRUSTEE LIST'!B1322&\" \"&'FULL TRUSTEE LIST'!C1322)","v":""}]
[{"$f":"IF('FULL TRUSTEE LIST'!B1323=\"\",\"\",'FULL TRUSTEE LIST'!B1323&\" \"&'FULL TRUSTEE LIST'!C1323)","v":""}]
[{"$f":"IF('FULL TRUSTEE LIST'!B1324=\"\",\"\",'FULL TRUSTEE LIST'!B1324&\" \"&'FULL TRUSTEE LIST'!C1324)","v":""}]
[{"$f":"IF('FULL TRUSTEE LIST'!B1325=\"\",\"\",'FULL TRUSTEE LIST'!B1325&\" \"&'FULL TRUSTEE LIST'!C1325)","v":""}]
[{"$f":"IF('FULL TRUSTEE LIST'!B1326=\"\",\"\",'FULL TRUSTEE LIST'!B1326&\" \"&'FULL TRUSTEE LIST'!C1326)","v":""}]
[{"$f":"IF('FULL TRUSTEE LIST'!B1327=\"\",\"\",'FULL TRUSTEE LIST'!B1327&\" \"&'FULL TRUSTEE LIST'!C1327)","v":""}]
[{"$f":"IF('FULL TRUSTEE LIST'!B1328=\"\",\"\",'FULL TRUSTEE LIST'!B1328&\" \"&'FULL TRUSTEE LIST'!C1328)","v":""}]
[{"$f":"IF('FULL TRUSTEE LIST'!B1329=\"\",\"\",'FULL TRUSTEE LIST'!B1329&\" \"&'FULL TRUSTEE LIST'!C1329)","v":""}]
[{"$f":"IF('FULL TRUSTEE LIST'!B1330=\"\",\"\",'FULL TRUSTEE LIST'!B1330&\" \"&'FULL TRUSTEE LIST'!C1330)","v":""}]
[{"$f":"IF('FULL TRUSTEE LIST'!B1331=\"\",\"\",'FULL TRUSTEE LIST'!B1331&\" \"&'FULL TRUSTEE LIST'!C1331)","v":""}]
[{"$f":"IF('FULL TRUSTEE LIST'!B1332=\"\",\"\",'FULL TRUSTEE LIST'!B1332&\" \"&'FULL TRUSTEE LIST'!C1332)","v":""}]
[{"$f":"IF('FULL TRUSTEE LIST'!B1333=\"\",\"\",'FULL TRUSTEE LIST'!B1333&\" \"&'FULL TRUSTEE LIST'!C1333)","v":""}]
[{"$f":"IF('FULL TRUSTEE LIST'!B1334=\"\",\"\",'FULL TRUSTEE LIST'!B1334&\" \"&'FULL TRUSTEE LIST'!C1334)","v":""}]
[{"$f":"IF('FULL TRUSTEE LIST'!B1335=\"\",\"\",'FULL TRUSTEE LIST'!B1335&\" \"&'FULL TRUSTEE LIST'!C1335)","v":""}]
[{"$f":"IF('FULL TRUSTEE LIST'!B1336=\"\",\"\",'FULL TRUSTEE LIST'!B1336&\" \"&'FULL TRUSTEE LIST'!C1336)","v":""}]
[{"$f":"IF('FULL TRUSTEE LIST'!B1337=\"\",\"\",'FULL TRUSTEE LIST'!B1337&\" \"&'FULL TRUSTEE LIST'!C1337)","v":""}]
[{"$f":"IF('FULL TRUSTEE LIST'!B1338=\"\",\"\",'FULL TRUSTEE LIST'!B1338&\" \"&'FULL TRUSTEE LIST'!C1338)","v":""}]
[{"$f":"IF('FULL TRUSTEE LIST'!B1339=\"\",\"\",'FULL TRUSTEE LIST'!B1339&\" \"&'FULL TRUSTEE LIST'!C1339)","v":""}]
[{"$f":"IF('FULL TRUSTEE LIST'!B1340=\"\",\"\",'FULL TRUSTEE LIST'!B1340&\" \"&'FULL TRUSTEE LIST'!C1340)","v":""}]
[{"$f":"IF('FULL TRUSTEE LIST'!B1341=\"\",\"\",'FULL TRUSTEE LIST'!B1341&\" \"&'FULL TRUSTEE LIST'!C1341)","v":""}]
[{"$f":"IF('FULL TRUSTEE LIST'!B1342=\"\",\"\",'FULL TRUSTEE LIST'!B1342&\" \"&'FULL TRUSTEE LIST'!C1342)","v":""}]
[{"$f":"IF('FULL TRUSTEE LIST'!B1343=\"\",\"\",'FULL TRUSTEE LIST'!B1343&\" \"&'FULL TRUSTEE LIST'!C1343)","v":""}]
[{"$f":"IF('FULL TRUSTEE LIST'!B1344=\"\",\"\",'FULL TRUSTEE LIST'!B1344&\" \"&'FULL TRUSTEE LIST'!C1344)","v":""}]
[{"$f":"IF('FULL TRUSTEE LIST'!B1345=\"\",\"\",'FULL TRUSTEE LIST'!B1345&\" \"&'FULL TRUSTEE LIST'!C1345)","v":""}]
[{"$f":"IF('FULL TRUSTEE LIST'!B1346=\"\",\"\",'FULL TRUSTEE LIST'!B1346&\" \"&'FULL TRUSTEE LIST'!C1346)","v":""}]
[{"$f":"IF('FULL TRUSTEE LIST'!B1347=\"\",\"\",'FULL TRUSTEE LIST'!B1347&\" \"&'FULL TRUSTEE LIST'!C1347)","v":""}]
[{"$f":"IF('FULL TRUSTEE LIST'!B1348=\"\",\"\",'FULL TRUSTEE LIST'!B1348&\" \"&'FULL TRUSTEE LIST'!C1348)","v":""}]
[{"$f":"IF('FULL TRUSTEE LIST'!B1349=\"\",\"\",'FULL TRUSTEE LIST'!B1349&\" \"&'FULL TRUSTEE LIST'!C1349)","v":""}]
[{"$f":"IF('FULL TRUSTEE LIST'!B1350=\"\",\"\",'FULL TRUSTEE LIST'!B1350&\" \"&'FULL TRUSTEE LIST'!C1350)","v":""}]
[{"$f":"IF('FULL TRUSTEE LIST'!B1351=\"\",\"\",'FULL TRUSTEE LIST'!B1351&\" \"&'FULL TRUSTEE LIST'!C1351)","v":""}]
[{"$f":"IF('FULL TRUSTEE LIST'!B1352=\"\",\"\",'FULL TRUSTEE LIST'!B1352&\" \"&'FULL TRUSTEE LIST'!C1352)","v":""}]
[{"$f":"IF('FULL TRUSTEE LIST'!B1353=\"\",\"\",'FULL TRUSTEE LIST'!B1353&\" \"&'FULL TRUSTEE LIST'!C1353)","v":""}]
[{"$f":"IF('FULL TRUSTEE LIST'!B1354=\"\",\"\",'FULL TRUSTEE LIST'!B1354&\" \"&'FULL TRUSTEE LIST'!C1354)","v":""}]
[{"$f":"IF('FULL TRUSTEE LIST'!B1355=\"\",\"\",'FULL TRUSTEE LIST'!B1355&\" \"&'FULL TRUSTEE LIST'!C1355)","v":""}]
[{"$f":"IF('FULL TRUSTEE LIST'!B1356=\"\",\"\",'FULL TRUSTEE LIST'!B1356&\" \"&'FULL TRUSTEE LIST'!C1356)","v":""}]
[{"$f":"IF('FULL TRUSTEE LIST'!B1357=\"\",\"\",'FULL TRUSTEE LIST'!B1357&\" \"&'FULL TRUSTEE LIST'!C1357)","v":""}]
[{"$f":"IF('FULL TRUSTEE LIST'!B1358=\"\",\"\",'FULL TRUSTEE LIST'!B1358&\" \"&'FULL TRUSTEE LIST'!C1358)","v":""}]
[{"$f":"IF('FULL TRUSTEE LIST'!B1359=\"\",\"\",'FULL TRUSTEE LIST'!B1359&\" \"&'FULL TRUSTEE LIST'!C1359)","v":""}]
[{"$f":"IF('FULL TRUSTEE LIST'!B1360=\"\",\"\",'FULL TRUSTEE LIST'!B1360&\" \"&'FULL TRUSTEE LIST'!C1360)","v":""}]
[{"$f":"IF('FULL TRUSTEE LIST'!B1361=\"\",\"\",'FULL TRUSTEE LIST'!B1361&\" \"&'FULL TRUSTEE LIST'!C1361)","v":""}]
[{"$f":"IF('FULL TRUSTEE LIST'!B1362=\"\",\"\",'FULL TRUSTEE LIST'!B1362&\" \"&'FULL TRUSTEE LIST'!C1362)","v":""}]
[{"$f":"IF('FULL TRUSTEE LIST'!B1363=\"\",\"\",'FULL TRUSTEE LIST'!B1363&\" \"&'FULL TRUSTEE LIST'!C1363)","v":""}]
[{"$f":"IF('FULL TRUSTEE LIST'!B1364=\"\",\"\",'FULL TRUSTEE LIST'!B1364&\" \"&'FULL TRUSTEE LIST'!C1364)","v":""}]
[{"$f":"IF('FULL TRUSTEE LIST'!B1365=\"\",\"\",'FULL TRUSTEE LIST'!B1365&\" \"&'FULL TRUSTEE LIST'!C1365)","v":""}]
[{"$f":"IF('FULL TRUSTEE LIST'!B1366=\"\",\"\",'FULL TRUSTEE LIST'!B1366&\" \"&'FULL TRUSTEE LIST'!C1366)","v":""}]
[{"$f":"IF('FULL TRUSTEE LIST'!B1367=\"\",\"\",'FULL TRUSTEE LIST'!B1367&\" \"&'FULL TRUSTEE LIST'!C1367)","v":""}]
[{"$f":"IF('FULL TRUSTEE LIST'!B1368=\"\",\"\",'FULL TRUSTEE LIST'!B1368&\" \"&'FULL TRUSTEE LIST'!C1368)","v":""}]
[{"$f":"IF('FULL TRUSTEE LIST'!B1369=\"\",\"\",'FULL TRUSTEE LIST'!B1369&\" \"&'FULL TRUSTEE LIST'!C1369)","v":""}]
[{"$f":"IF('FULL TRUSTEE LIST'!B1370=\"\",\"\",'FULL TRUSTEE LIST'!B1370&\" \"&'FULL TRUSTEE LIST'!C1370)","v":""}]
[{"$f":"IF('FULL TRUSTEE LIST'!B1371=\"\",\"\",'FULL TRUSTEE LIST'!B1371&\" \"&'FULL TRUSTEE LIST'!C1371)","v":""}]
[{"$f":"IF('FULL TRUSTEE LIST'!B1372=\"\",\"\",'FULL TRUSTEE LIST'!B1372&\" \"&'FULL TRUSTEE LIST'!C1372)","v":""}]
[{"$f":"IF('FULL TRUSTEE LIST'!B1373=\"\",\"\",'FULL TRUSTEE LIST'!B1373&\" \"&'FULL TRUSTEE LIST'!C1373)","v":""}]
[{"$f":"IF('FULL TRUSTEE LIST'!B1374=\"\",\"\",'FULL TRUSTEE LIST'!B1374&\" \"&'FULL TRUSTEE LIST'!C1374)","v":""}]
[{"$f":"IF('FULL TRUSTEE LIST'!B1375=\"\",\"\",'FULL TRUSTEE LIST'!B1375&\" \"&'FULL TRUSTEE LIST'!C1375)","v":""}]
[{"$f":"IF('FULL TRUSTEE LIST'!B1376=\"\",\"\",'FULL TRUSTEE LIST'!B1376&\" \"&'FULL TRUSTEE LIST'!C1376)","v":""}]
[{"$f":"IF('FULL TRUSTEE LIST'!B1377=\"\",\"\",'FULL TRUSTEE LIST'!B1377&\" \"&'FULL TRUSTEE LIST'!C1377)","v":""}]
[{"$f":"IF('FULL TRUSTEE LIST'!B1378=\"\",\"\",'FULL TRUSTEE LIST'!B1378&\" \"&'FULL TRUSTEE LIST'!C1378)","v":""}]
[{"$f":"IF('FULL TRUSTEE LIST'!B1379=\"\",\"\",'FULL TRUSTEE LIST'!B1379&\" \"&'FULL TRUSTEE LIST'!C1379)","v":""}]
[{"$f":"IF('FULL TRUSTEE LIST'!B1380=\"\",\"\",'FULL TRUSTEE LIST'!B1380&\" \"&'FULL TRUSTEE LIST'!C1380)","v":""}]
[{"$f":"IF('FULL TRUSTEE LIST'!B1381=\"\",\"\",'FULL TRUSTEE LIST'!B1381&\" \"&'FULL TRUSTEE LIST'!C1381)","v":""}]
[{"$f":"IF('FULL TRUSTEE LIST'!B1382=\"\",\"\",'FULL TRUSTEE LIST'!B1382&\" \"&'FULL TRUSTEE LIST'!C1382)","v":""}]
[{"$f":"IF('FULL TRUSTEE LIST'!B1383=\"\",\"\",'FULL TRUSTEE LIST'!B1383&\" \"&'FULL TRUSTEE LIST'!C1383)","v":""}]
[{"$f":"IF('FULL TRUSTEE LIST'!B1384=\"\",\"\",'FULL TRUSTEE LIST'!B1384&\" \"&'FULL TRUSTEE LIST'!C1384)","v":""}]
[{"$f":"IF('FULL TRUSTEE LIST'!B1385=\"\",\"\",'FULL TRUSTEE LIST'!B1385&\" \"&'FULL TRUSTEE LIST'!C1385)","v":""}]
[{"$f":"IF('FULL TRUSTEE LIST'!B1386=\"\",\"\",'FULL TRUSTEE LIST'!B1386&\" \"&'FULL TRUSTEE LIST'!C1386)","v":""}]
[{"$f":"IF('FULL TRUSTEE LIST'!B1387=\"\",\"\",'FULL TRUSTEE LIST'!B1387&\" \"&'FULL TRUSTEE LIST'!C1387)","v":""}]
[{"$f":"IF('FULL TRUSTEE LIST'!B1388=\"\",\"\",'FULL TRUSTEE LIST'!B1388&\" \"&'FULL TRUSTEE LIST'!C1388)","v":""}]
[{"$f":"IF('FULL TRUSTEE LIST'!B1389=\"\",\"\",'FULL TRUSTEE LIST'!B1389&\" \"&'FULL TRUSTEE LIST'!C1389)","v":""}]
[{"$f":"IF('FULL TRUSTEE LIST'!B1390=\"\",\"\",'FULL TRUSTEE LIST'!B1390&\" \"&'FULL TRUSTEE LIST'!C1390)","v":""}]
[{"$f":"IF('FULL TRUSTEE LIST'!B1391=\"\",\"\",'FULL TRUSTEE LIST'!B1391&\" \"&'FULL TRUSTEE LIST'!C1391)","v":""}]
[{"$f":"IF('FULL TRUSTEE LIST'!B1392=\"\",\"\",'FULL TRUSTEE LIST'!B1392&\" \"&'FULL TRUSTEE LIST'!C1392)","v":""}]
[{"$f":"IF('FULL TRUSTEE LIST'!B1393=\"\",\"\",'FULL TRUSTEE LIST'!B1393&\" \"&'FULL TRUSTEE LIST'!C1393)","v":""}]
[{"$f":"IF('FULL TRUSTEE LIST'!B1394=\"\",\"\",'FULL TRUSTEE LIST'!B1394&\" \"&'FULL TRUSTEE LIST'!C1394)","v":""}]
[{"$f":"IF('FULL TRUSTEE LIST'!B1395=\"\",\"\",'FULL TRUSTEE LIST'!B1395&\" \"&'FULL TRUSTEE LIST'!C1395)","v":""}]
[{"$f":"IF('FULL TRUSTEE LIST'!B1396=\"\",\"\",'FULL TRUSTEE LIST'!B1396&\" \"&'FULL TRUSTEE LIST'!C1396)","v":""}]
[{"$f":"IF('FULL TRUSTEE LIST'!B1397=\"\",\"\",'FULL TRUSTEE LIST'!B1397&\" \"&'FULL TRUSTEE LIST'!C1397)","v":""}]
[{"$f":"IF('FULL TRUSTEE LIST'!B1398=\"\",\"\",'FULL TRUSTEE LIST'!B1398&\" \"&'FULL TRUSTEE LIST'!C1398)","v":""}]
[{"$f":"IF('FULL TRUSTEE LIST'!B1399=\"\",\"\",'FULL TRUSTEE LIST'!B1399&\" \"&'FULL TRUSTEE LIST'!C1399)","v":""}]
[{"$f":"IF('FULL TRUSTEE LIST'!B1400=\"\",\"\",'FULL TRUSTEE LIST'!B1400&\" \"&'FULL TRUSTEE LIST'!C1400)","v":""}]
[{"$f":"IF('FULL TRUSTEE LIST'!B1401=\"\",\"\",'FULL TRUSTEE LIST'!B1401&\" \"&'FULL TRUSTEE LIST'!C1401)","v":""}]
[{"$f":"IF('FULL TRUSTEE LIST'!B1402=\"\",\"\",'FULL TRUSTEE LIST'!B1402&\" \"&'FULL TRUSTEE LIST'!C1402)","v":""}]
[{"$f":"IF('FULL TRUSTEE LIST'!B1403=\"\",\"\",'FULL TRUSTEE LIST'!B1403&\" \"&'FULL TRUSTEE LIST'!C1403)","v":""}]
[{"$f":"IF('FULL TRUSTEE LIST'!B1404=\"\",\"\",'FULL TRUSTEE LIST'!B1404&\" \"&'FULL TRUSTEE LIST'!C1404)","v":""}]
[{"$f":"IF('FULL TRUSTEE LIST'!B1405=\"\",\"\",'FULL TRUSTEE LIST'!B1405&\" \"&'FULL TRUSTEE LIST'!C1405)","v":""}]
[{"$f":"IF('FULL TRUSTEE LIST'!B1406=\"\",\"\",'FULL TRUSTEE LIST'!B1406&\" \"&'FULL TRUSTEE LIST'!C1406)","v":""}]
[{"$f":"IF('FULL TRUSTEE LIST'!B1407=\"\",\"\",'FULL TRUSTEE LIST'!B1407&\" \"&'FULL TRUSTEE LIST'!C1407)","v":""}]
[{"$f":"IF('FULL TRUSTEE LIST'!B1408=\"\",\"\",'FULL TRUSTEE LIST'!B1408&\" \"&'FULL TRUSTEE LIST'!C1408)","v":""}]
[{"$f":"IF('FULL TRUSTEE LIST'!B1409=\"\",\"\",'FULL TRUSTEE LIST'!B1409&\" \"&'FULL TRUSTEE LIST'!C1409)","v":""}]
[{"$f":"IF('FULL TRUSTEE LIST'!B1410=\"\",\"\",'FULL TRUSTEE LIST'!B1410&\" \"&'FULL TRUSTEE LIST'!C1410)","v":""}]
[{"$f":"IF('FULL TRUSTEE LIST'!B1411=\"\",\"\",'FULL TRUSTEE LIST'!B1411&\" \"&'FULL TRUSTEE LIST'!C1411)","v":""}]
[{"$f":"IF('FULL TRUSTEE LIST'!B1412=\"\",\"\",'FULL TRUSTEE LIST'!B1412&\" \"&'FULL TRUSTEE LIST'!C1412)","v":""}]
[{"$f":"IF('FULL TRUSTEE LIST'!B1413=\"\",\"\",'FULL TRUSTEE LIST'!B1413&\" \"&'FULL TRUSTEE LIST'!C1413)","v":""}]
[{"$f":"IF('FULL TRUSTEE LIST'!B1414=\"\",\"\",'FULL TRUSTEE LIST'!B1414&\" \"&'FULL TRUSTEE LIST'!C1414)","v":""}]
[{"$f":"IF('FULL TRUSTEE LIST'!B1415=\"\",\"\",'FULL TRUSTEE LIST'!B1415&\" \"&'FULL TRUSTEE LIST'!C1415)","v":""}]
[{"$f":"IF('FULL TRUSTEE LIST'!B1416=\"\",\"\",'FULL TRUSTEE LIST'!B1416&\" \"&'FULL TRUSTEE LIST'!C1416)","v":""}]
[{"$f":"IF('FULL TRUSTEE LIST'!B1417=\"\",\"\",'FULL TRUSTEE LIST'!B1417&\" \"&'FULL TRUSTEE LIST'!C1417)","v":""}]
[{"$f":"IF('FULL TRUSTEE LIST'!B1418=\"\",\"\",'FULL TRUSTEE LIST'!B1418&\" \"&'FULL TRUSTEE LIST'!C1418)","v":""}]
[{"$f":"IF('FULL TRUSTEE LIST'!B1419=\"\",\"\",'FULL TRUSTEE LIST'!B1419&\" \"&'FULL TRUSTEE LIST'!C1419)","v":""}]
[{"$f":"IF('FULL TRUSTEE LIST'!B1420=\"\",\"\",'FULL TRUSTEE LIST'!B1420&\" \"&'FULL TRUSTEE LIST'!C1420)","v":""}]
[{"$f":"IF('FULL TRUSTEE LIST'!B1421=\"\",\"\",'FULL TRUSTEE LIST'!B1421&\" \"&'FULL TRUSTEE LIST'!C1421)","v":""}]
[{"$f":"IF('FULL TRUSTEE LIST'!B1422=\"\",\"\",'FULL TRUSTEE LIST'!B1422&\" \"&'FULL TRUSTEE LIST'!C1422)","v":""}]
[{"$f":"IF('FULL TRUSTEE LIST'!B1423=\"\",\"\",'FULL TRUSTEE LIST'!B1423&\" \"&'FULL TRUSTEE LIST'!C1423)","v":""}]
[{"$f":"IF('FULL TRUSTEE LIST'!B1424=\"\",\"\",'FULL TRUSTEE LIST'!B1424&\" \"&'FULL TRUSTEE LIST'!C1424)","v":""}]
[{"$f":"IF('FULL TRUSTEE LIST'!B1425=\"\",\"\",'FULL TRUSTEE LIST'!B1425&\" \"&'FULL TRUSTEE LIST'!C1425)","v":""}]
[{"$f":"IF('FULL TRUSTEE LIST'!B1426=\"\",\"\",'FULL TRUSTEE LIST'!B1426&\" \"&'FULL TRUSTEE LIST'!C1426)","v":""}]
[{"$f":"IF('FULL TRUSTEE LIST'!B1427=\"\",\"\",'FULL TRUSTEE LIST'!B1427&\" \"&'FULL TRUSTEE LIST'!C1427)","v":""}]
[{"$f":"IF('FULL TRUSTEE LIST'!B1428=\"\",\"\",'FULL TRUSTEE LIST'!B1428&\" \"&'FULL TRUSTEE LIST'!C1428)","v":""}]
[{"$f":"IF('FULL TRUSTEE LIST'!B1429=\"\",\"\",'FULL TRUSTEE LIST'!B1429&\" \"&'FULL TRUSTEE LIST'!C1429)","v":""}]
[{"$f":"IF('FULL TRUSTEE LIST'!B1430=\"\",\"\",'FULL TRUSTEE LIST'!B1430&\" \"&'FULL TRUSTEE LIST'!C1430)","v":""}]
[{"$f":"IF('FULL TRUSTEE LIST'!B1431=\"\",\"\",'FULL TRUSTEE LIST'!B1431&\" \"&'FULL TRUSTEE LIST'!C1431)","v":""}]
[{"$f":"IF('FULL TRUSTEE LIST'!B1432=\"\",\"\",'FULL TRUSTEE LIST'!B1432&\" \"&'FULL TRUSTEE LIST'!C1432)","v":""}]
[{"$f":"IF('FULL TRUSTEE LIST'!B1433=\"\",\"\",'FULL TRUSTEE LIST'!B1433&\" \"&'FULL TRUSTEE LIST'!C1433)","v":""}]
[{"$f":"IF('FULL TRUSTEE LIST'!B1434=\"\",\"\",'FULL TRUSTEE LIST'!B1434&\" \"&'FULL TRUSTEE LIST'!C1434)","v":""}]
[{"$f":"IF('FULL TRUSTEE LIST'!B1435=\"\",\"\",'FULL TRUSTEE LIST'!B1435&\" \"&'FULL TRUSTEE LIST'!C1435)","v":""}]
[{"$f":"IF('FULL TRUSTEE LIST'!B1436=\"\",\"\",'FULL TRUSTEE LIST'!B1436&\" \"&'FULL TRUSTEE LIST'!C1436)","v":""}]
[{"$f":"IF('FULL TRUSTEE LIST'!B1438=\"\",\"\",'FULL TRUSTEE LIST'!B1438&\" \"&'FULL TRUSTEE LIST'!C1438)","v":""}]
[{"$f":"IF('FULL TRUSTEE LIST'!B1439=\"\",\"\",'FULL TRUSTEE LIST'!B1439&\" \"&'FULL TRUSTEE LIST'!C1439)","v":""}]
[{"$f":"IF('FULL TRUSTEE LIST'!B1440=\"\",\"\",'FULL TRUSTEE LIST'!B1440&\" \"&'FULL TRUSTEE LIST'!C1440)","v":""}]
[{"$f":"IF('FULL TRUSTEE LIST'!B1441=\"\",\"\",'FULL TRUSTEE LIST'!B1441&\" \"&'FULL TRUSTEE LIST'!C1441)","v":""}]
[{"$f":"IF('FULL TRUSTEE LIST'!B1442=\"\",\"\",'FULL TRUSTEE LIST'!B1442&\" \"&'FULL TRUSTEE LIST'!C1442)","v":""}]
[{"$f":"IF('FULL TRUSTEE LIST'!B1443=\"\",\"\",'FULL TRUSTEE LIST'!B1443&\" \"&'FULL TRUSTEE LIST'!C1443)","v":""}]
[{"$f":"IF('FULL TRUSTEE LIST'!B1444=\"\",\"\",'FULL TRUSTEE LIST'!B1444&\" \"&'FULL TRUSTEE LIST'!C1444)","v":""}]
[{"$f":"IF('FULL TRUSTEE LIST'!B1445=\"\",\"\",'FULL TRUSTEE LIST'!B1445&\" \"&'FULL TRUSTEE LIST'!C1445)","v":""}]
[{"$f":"IF('FULL TRUSTEE LIST'!B1446=\"\",\"\",'FULL TRUSTEE LIST'!B1446&\" \"&'FULL TRUSTEE LIST'!C1446)","v":""}]
[{"$f":"IF('FULL TRUSTEE LIST'!B1447=\"\",\"\",'FULL TRUSTEE LIST'!B1447&\" \"&'FULL TRUSTEE LIST'!C1447)","v":""}]
[{"$f":"IF('FULL TRUSTEE LIST'!B1448=\"\",\"\",'FULL TRUSTEE LIST'!B1448&\" \"&'FULL TRUSTEE LIST'!C1448)","v":""}]
[{"$f":"IF('FULL TRUSTEE LIST'!B1449=\"\",\"\",'FULL TRUSTEE LIST'!B1449&\" \"&'FULL TRUSTEE LIST'!C1449)","v":""}]
[{"$f":"IF('FULL TRUSTEE LIST'!B1450=\"\",\"\",'FULL TRUSTEE LIST'!B1450&\" \"&'FULL TRUSTEE LIST'!C1450)","v":""}]
[{"$f":"IF('FULL TRUSTEE LIST'!B1451=\"\",\"\",'FULL TRUSTEE LIST'!B1451&\" \"&'FULL TRUSTEE LIST'!C1451)","v":""}]
[{"$f":"IF('FULL TRUSTEE LIST'!B1452=\"\",\"\",'FULL TRUSTEE LIST'!B1452&\" \"&'FULL TRUSTEE LIST'!C1452)","v":""}]
[{"$f":"IF('FULL TRUSTEE LIST'!B1453=\"\",\"\",'FULL TRUSTEE LIST'!B1453&\" \"&'FULL TRUSTEE LIST'!C1453)","v":""}]
[{"$f":"IF('FULL TRUSTEE LIST'!B1454=\"\",\"\",'FULL TRUSTEE LIST'!B1454&\" \"&'FULL TRUSTEE LIST'!C1454)","v":""}]
[{"$f":"IF('FULL TRUSTEE LIST'!B1455=\"\",\"\",'FULL TRUSTEE LIST'!B1455&\" \"&'FULL TRUSTEE LIST'!C1455)","v":""}]
[{"$f":"IF('FULL TRUSTEE LIST'!B1456=\"\",\"\",'FULL TRUSTEE LIST'!B1456&\" \"&'FULL TRUSTEE LIST'!C1456)","v":""}]
[{"$f":"IF('FULL TRUSTEE LIST'!B1457=\"\",\"\",'FULL TRUSTEE LIST'!B1457&\" \"&'FULL TRUSTEE LIST'!C1457)","v":""}]
[{"$f":"IF('FULL TRUSTEE LIST'!B1458=\"\",\"\",'FULL TRUSTEE LIST'!B1458&\" \"&'FULL TRUSTEE LIST'!C1458)","v":""}]
[{"$f":"IF('FULL TRUSTEE LIST'!B1459=\"\",\"\",'FULL TRUSTEE LIST'!B1459&\" \"&'FULL TRUSTEE LIST'!C1459)","v":""}]
[{"$f":"IF('FULL TRUSTEE LIST'!B1460=\"\",\"\",'FULL TRUSTEE LIST'!B1460&\" \"&'FULL TRUSTEE LIST'!C1460)","v":""}]
[{"$f":"IF('FULL TRUSTEE LIST'!B1461=\"\",\"\",'FULL TRUSTEE LIST'!B1461&\" \"&'FULL TRUSTEE LIST'!C1461)","v":""}]
[{"$f":"IF('FULL TRUSTEE LIST'!B1462=\"\",\"\",'FULL TRUSTEE LIST'!B1462&\" \"&'FULL TRUSTEE LIST'!C1462)","v":""}]
[{"$f":"IF('FULL TRUSTEE LIST'!B1463=\"\",\"\",'FULL TRUSTEE LIST'!B1463&\" \"&'FULL TRUSTEE LIST'!C1463)","v":""}]
[{"$f":"IF('FULL TRUSTEE LIST'!B1464=\"\",\"\",'FULL TRUSTEE LIST'!B1464&\" \"&'FULL TRUSTEE LIST'!C1464)","v":""}]
[{"$f":"IF('FULL TRUSTEE LIST'!B1465=\"\",\"\",'FULL TRUSTEE LIST'!B1465&\" \"&'FULL TRUSTEE LIST'!C1465)","v":""}]
[{"$f":"IF('FULL TRUSTEE LIST'!B1466=\"\",\"\",'FULL TRUSTEE LIST'!B1466&\" \"&'FULL TRUSTEE LIST'!C1466)","v":""}]
[{"$f":"IF('FULL TRUSTEE LIST'!B1467=\"\",\"\",'FULL TRUSTEE LIST'!B1467&\" \"&'FULL TRUSTEE LIST'!C1467)","v":""}]
[{"$f":"IF('FULL TRUSTEE LIST'!B1468=\"\",\"\",'FULL TRUSTEE LIST'!B1468&\" \"&'FULL TRUSTEE LIST'!C1468)","v":""}]
[{"$f":"IF('FULL TRUSTEE LIST'!B1469=\"\",\"\",'FULL TRUSTEE LIST'!B1469&\" \"&'FULL TRUSTEE LIST'!C1469)","v":""}]
[{"$f":"IF('FULL TRUSTEE LIST'!B1470=\"\",\"\",'FULL TRUSTEE LIST'!B1470&\" \"&'FULL TRUSTEE LIST'!C1470)","v":""}]
[{"$f":"IF('FULL TRUSTEE LIST'!B1471=\"\",\"\",'FULL TRUSTEE LIST'!B1471&\" \"&'FULL TRUSTEE LIST'!C1471)","v":""}]
[{"$f":"IF('FULL TRUSTEE LIST'!B1472=\"\",\"\",'FULL TRUSTEE LIST'!B1472&\" \"&'FULL TRUSTEE LIST'!C1472)","v":""}]
[{"$f":"IF('FULL TRUSTEE LIST'!B1473=\"\",\"\",'FULL TRUSTEE LIST'!B1473&\" \"&'FULL TRUSTEE LIST'!C1473)","v":""}]
[{"$f":"IF('FULL TRUSTEE LIST'!B1474=\"\",\"\",'FULL TRUSTEE LIST'!B1474&\" \"&'FULL TRUSTEE LIST'!C1474)","v":""}]
[{"$f":"IF('FULL TRUSTEE LIST'!B1475=\"\",\"\",'FULL TRUSTEE LIST'!B1475&\" \"&'FULL TRUSTEE LIST'!C1475)","v":""}]
[{"$f":"IF('FULL TRUSTEE LIST'!B1476=\"\",\"\",'FULL TRUSTEE LIST'!B1476&\" \"&'FULL TRUSTEE LIST'!C1476)","v":""}]
[{"$f":"IF('FULL TRUSTEE LIST'!B1477=\"\",\"\",'FULL TRUSTEE LIST'!B1477&\" \"&'FULL TRUSTEE LIST'!C1477)","v":""}]
[{"$f":"IF('FULL TRUSTEE LIST'!B1478=\"\",\"\",'FULL TRUSTEE LIST'!B1478&\" \"&'FULL TRUSTEE LIST'!C1478)","v":""}]
[{"$f":"IF('FULL TRUSTEE LIST'!B1479=\"\",\"\",'FULL TRUSTEE LIST'!B1479&\" \"&'FULL TRUSTEE LIST'!C1479)","v":""}]
[{"$f":"IF('FULL TRUSTEE LIST'!B1480=\"\",\"\",'FULL TRUSTEE LIST'!B1480&\" \"&'FULL TRUSTEE LIST'!C1480)","v":""}]
[{"$f":"IF('FULL TRUSTEE LIST'!B1481=\"\",\"\",'FULL TRUSTEE LIST'!B1481&\" \"&'FULL TRUSTEE LIST'!C1481)","v":""}]
[{"$f":"IF('FULL TRUSTEE LIST'!B1482=\"\",\"\",'FULL TRUSTEE LIST'!B1482&\" \"&'FULL TRUSTEE LIST'!C1482)","v":""}]
[{"$f":"IF('FULL TRUSTEE LIST'!B1483=\"\",\"\",'FULL TRUSTEE LIST'!B1483&\" \"&'FULL TRUSTEE LIST'!C1483)","v":""}]
[{"$f":"IF('FULL TRUSTEE LIST'!B1484=\"\",\"\",'FULL TRUSTEE LIST'!B1484&\" \"&'FULL TRUSTEE LIST'!C1484)","v":""}]
[{"$f":"IF('FULL TRUSTEE LIST'!B1485=\"\",\"\",'FULL TRUSTEE LIST'!B1485&\" \"&'FULL TRUSTEE LIST'!C1485)","v":""}]
[{"$f":"IF('FULL TRUSTEE LIST'!B1486=\"\",\"\",'FULL TRUSTEE LIST'!B1486&\" \"&'FULL TRUSTEE LIST'!C1486)","v":""}]
[{"$f":"IF('FULL TRUSTEE LIST'!B1487=\"\",\"\",'FULL TRUSTEE LIST'!B1487&\" \"&'FULL TRUSTEE LIST'!C1487)","v":""}]
[{"$f":"IF('FULL TRUSTEE LIST'!B1488=\"\",\"\",'FULL TRUSTEE LIST'!B1488&\" \"&'FULL TRUSTEE LIST'!C1488)","v":""}]
[{"$f":"IF('FULL TRUSTEE LIST'!B1489=\"\",\"\",'FULL TRUSTEE LIST'!B1489&\" \"&'FULL TRUSTEE LIST'!C1489)","v":""}]
[{"$f":"IF('FULL TRUSTEE LIST'!B1490=\"\",\"\",'FULL TRUSTEE LIST'!B1490&\" \"&'FULL TRUSTEE LIST'!C1490)","v":""}]
[{"$f":"IF('FULL TRUSTEE LIST'!B1491=\"\",\"\",'FULL TRUSTEE LIST'!B1491&\" \"&'FULL TRUSTEE LIST'!C1491)","v":""}]
[{"$f":"IF('FULL TRUSTEE LIST'!B1492=\"\",\"\",'FULL TRUSTEE LIST'!B1492&\" \"&'FULL TRUSTEE LIST'!C1492)","v":""}]
[{"$f":"IF('FULL TRUSTEE LIST'!B1493=\"\",\"\",'FULL TRUSTEE LIST'!B1493&\" \"&'FULL TRUSTEE LIST'!C1493)","v":""}]
[{"$f":"IF('FULL TRUSTEE LIST'!B1494=\"\",\"\",'FULL TRUSTEE LIST'!B1494&\" \"&'FULL TRUSTEE LIST'!C1494)","v":""}]
[{"$f":"IF('FULL TRUSTEE LIST'!B1495=\"\",\"\",'FULL TRUSTEE LIST'!B1495&\" \"&'FULL TRUSTEE LIST'!C1495)","v":""}]
[{"$f":"IF('FULL TRUSTEE LIST'!B1496=\"\",\"\",'FULL TRUSTEE LIST'!B1496&\" \"&'FULL TRUSTEE LIST'!C1496)","v":""}]
[{"$f":"IF('FULL TRUSTEE LIST'!B1497=\"\",\"\",'FULL TRUSTEE LIST'!B1497&\" \"&'FULL TRUSTEE LIST'!C1497)","v":""}]
[{"$f":"IF('FULL TRUSTEE LIST'!B1498=\"\",\"\",'FULL TRUSTEE LIST'!B1498&\" \"&'FULL TRUSTEE LIST'!C1498)","v":""}]
[{"$f":"IF('FULL TRUSTEE LIST'!B1499=\"\",\"\",'FULL TRUSTEE LIST'!B1499&\" \"&'FULL TRUSTEE LIST'!C1499)","v":""}]
[{"$f":"IF('FULL TRUSTEE LIST'!B1500=\"\",\"\",'FULL TRUSTEE LIST'!B1500&\" \"&'FULL TRUSTEE LIST'!C1500)","v":""}]
[{"$f":"IF('FULL TRUSTEE LIST'!B1501=\"\",\"\",'FULL TRUSTEE LIST'!B1501&\" \"&'FULL TRUSTEE LIST'!C1501)","v":""}]
[{"$f":"IF('FULL TRUSTEE LIST'!B1502=\"\",\"\",'FULL TRUSTEE LIST'!B1502&\" \"&'FULL TRUSTEE LIST'!C1502)","v":""}]
[{"$f":"IF('FULL TRUSTEE LIST'!B1503=\"\",\"\",'FULL TRUSTEE LIST'!B1503&\" \"&'FULL TRUSTEE LIST'!C1503)","v":""}]
[{"$f":"IF('FULL TRUSTEE LIST'!B1504=\"\",\"\",'FULL TRUSTEE LIST'!B1504&\" \"&'FULL TRUSTEE LIST'!C1504)","v":""}]
[{"$f":"IF('FULL TRUSTEE LIST'!B1505=\"\",\"\",'FULL TRUSTEE LIST'!B1505&\" \"&'FULL TRUSTEE LIST'!C1505)","v":""}]
[{"$f":"IF('FULL TRUSTEE LIST'!B1506=\"\",\"\",'FULL TRUSTEE LIST'!B1506&\" \"&'FULL TRUSTEE LIST'!C1506)","v":""}]
[{"$f":"IF('FULL TRUSTEE LIST'!B1507=\"\",\"\",'FULL TRUSTEE LIST'!B1507&\" \"&'FULL TRUSTEE LIST'!C1507)","v":""}]
[{"$f":"IF('FULL TRUSTEE LIST'!B1508=\"\",\"\",'FULL TRUSTEE LIST'!B1508&\" \"&'FULL TRUSTEE LIST'!C1508)","v":""}]
[{"$f":"IF('FULL TRUSTEE LIST'!B1509=\"\",\"\",'FULL TRUSTEE LIST'!B1509&\" \"&'FULL TRUSTEE LIST'!C1509)","v":""}]
[{"$f":"IF('FULL TRUSTEE LIST'!B1510=\"\",\"\",'FULL TRUSTEE LIST'!B1510&\" \"&'FULL TRUSTEE LIST'!C1510)","v":""}]
[{"$f":"IF('FULL TRUSTEE LIST'!B1511=\"\",\"\",'FULL TRUSTEE LIST'!B1511&\" \"&'FULL TRUSTEE LIST'!C1511)","v":""}]
[{"$f":"IF('FULL TRUSTEE LIST'!B1512=\"\",\"\",'FULL TRUSTEE LIST'!B1512&\" \"&'FULL TRUSTEE LIST'!C1512)","v":""}]
[{"$f":"IF('FULL TRUSTEE LIST'!B1513=\"\",\"\",'FULL TRUSTEE LIST'!B1513&\" \"&'FULL TRUSTEE LIST'!C1513)","v":""}]
[{"$f":"IF('FULL TRUSTEE LIST'!B1514=\"\",\"\",'FULL TRUSTEE LIST'!B1514&\" \"&'FULL TRUSTEE LIST'!C1514)","v":""}]
[{"$f":"IF('FULL TRUSTEE LIST'!B1515=\"\",\"\",'FULL TRUSTEE LIST'!B1515&\" \"&'FULL TRUSTEE LIST'!C1515)","v":""}]
[{"$f":"IF('FULL TRUSTEE LIST'!B1516=\"\",\"\",'FULL TRUSTEE LIST'!B1516&\" \"&'FULL TRUSTEE LIST'!C1516)","v":""}]
[{"$f":"IF('FULL TRUSTEE LIST'!B1517=\"\",\"\",'FULL TRUSTEE LIST'!B1517&\" \"&'FULL TRUSTEE LIST'!C1517)","v":""}]
[{"$f":"IF('FULL TRUSTEE LIST'!B1518=\"\",\"\",'FULL TRUSTEE LIST'!B1518&\" \"&'FULL TRUSTEE LIST'!C1518)","v":""}]
[{"$f":"IF('FULL TRUSTEE LIST'!B1519=\"\",\"\",'FULL TRUSTEE LIST'!B1519&\" \"&'FULL TRUSTEE LIST'!C1519)","v":""}]
[{"$f":"IF('FULL TRUSTEE LIST'!B1520=\"\",\"\",'FULL TRUSTEE LIST'!B1520&\" \"&'FULL TRUSTEE LIST'!C1520)","v":""}]
[{"$f":"IF('FULL TRUSTEE LIST'!B1521=\"\",\"\",'FULL TRUSTEE LIST'!B1521&\" \"&'FULL TRUSTEE LIST'!C1521)","v":""}]
[{"$f":"IF('FULL TRUSTEE LIST'!B1522=\"\",\"\",'FULL TRUSTEE LIST'!B1522&\" \"&'FULL TRUSTEE LIST'!C1522)","v":""}]
[{"$f":"IF('FULL TRUSTEE LIST'!B1523=\"\",\"\",'FULL TRUSTEE LIST'!B1523&\" \"&'FULL TRUSTEE LIST'!C1523)","v":""}]
[{"$f":"IF('FULL TRUSTEE LIST'!B1524=\"\",\"\",'FULL TRUSTEE LIST'!B1524&\" \"&'FULL TRUSTEE LIST'!C1524)","v":""}]
[{"$f":"IF('FULL TRUSTEE LIST'!B1525=\"\",\"\",'FULL TRUSTEE LIST'!B1525&\" \"&'FULL TRUSTEE LIST'!C1525)","v":""}]
[{"$f":"IF('FULL TRUSTEE LIST'!B1526=\"\",\"\",'FULL TRUSTEE LIST'!B1526&\" \"&'FULL TRUSTEE LIST'!C1526)","v":""}]
[{"$f":"IF('FULL TRUSTEE LIST'!B1527=\"\",\"\",'FULL TRUSTEE LIST'!B1527&\" \"&'FULL TRUSTEE LIST'!C1527)","v":""}]
[{"$f":"IF('FULL TRUSTEE LIST'!B1528=\"\",\"\",'FULL TRUSTEE LIST'!B1528&\" \"&'FULL TRUSTEE LIST'!C1528)","v":""}]
[{"$f":"IF('FULL TRUSTEE LIST'!B1529=\"\",\"\",'FULL TRUSTEE LIST'!B1529&\" \"&'FULL TRUSTEE LIST'!C1529)","v":""}]
[{"$f":"IF('FULL TRUSTEE LIST'!B1530=\"\",\"\",'FULL TRUSTEE LIST'!B1530&\" \"&'FULL TRUSTEE LIST'!C1530)","v":""}]
[{"$f":"IF('FULL TRUSTEE LIST'!B1531=\"\",\"\",'FULL TRUSTEE LIST'!B1531&\" \"&'FULL TRUSTEE LIST'!C1531)","v":""}]
[{"$f":"IF('FULL TRUSTEE LIST'!B1532=\"\",\"\",'FULL TRUSTEE LIST'!B1532&\" \"&'FULL TRUSTEE LIST'!C1532)","v":""}]
[{"$f":"IF('FULL TRUSTEE LIST'!B1533=\"\",\"\",'FULL TRUSTEE LIST'!B1533&\" \"&'FULL TRUSTEE LIST'!C1533)","v":""}]
[{"$f":"IF('FULL TRUSTEE LIST'!B1534=\"\",\"\",'FULL TRUSTEE LIST'!B1534&\" \"&'FULL TRUSTEE LIST'!C1534)","v":""}]
[{"$f":"IF('FULL TRUSTEE LIST'!B1535=\"\",\"\",'FULL TRUSTEE LIST'!B1535&\" \"&'FULL TRUSTEE LIST'!C1535)","v":""}]
[{"$f":"IF('FULL TRUSTEE LIST'!B1536=\"\",\"\",'FULL TRUSTEE LIST'!B1536&\" \"&'FULL TRUSTEE LIST'!C1536)","v":""}]
[{"$f":"IF('FULL TRUSTEE LIST'!B1537=\"\",\"\",'FULL TRUSTEE LIST'!B1537&\" \"&'FULL TRUSTEE LIST'!C1537)","v":""}]
[{"$f":"IF('FULL TRUSTEE LIST'!B1538=\"\",\"\",'FULL TRUSTEE LIST'!B1538&\" \"&'FULL TRUSTEE LIST'!C1538)","v":""}]
[{"$f":"IF('FULL TRUSTEE LIST'!B1539=\"\",\"\",'FULL TRUSTEE LIST'!B1539&\" \"&'FULL TRUSTEE LIST'!C1539)","v":""}]
[{"$f":"IF('FULL TRUSTEE LIST'!B1540=\"\",\"\",'FULL TRUSTEE LIST'!B1540&\" \"&'FULL TRUSTEE LIST'!C1540)","v":""}]
[{"$f":"IF('FULL TRUSTEE LIST'!B1541=\"\",\"\",'FULL TRUSTEE LIST'!B1541&\" \"&'FULL TRUSTEE LIST'!C1541)","v":""}]
[{"$f":"IF('FULL TRUSTEE LIST'!B1542=\"\",\"\",'FULL TRUSTEE LIST'!B1542&\" \"&'FULL TRUSTEE LIST'!C1542)","v":""}]
[{"$f":"IF('FULL TRUSTEE LIST'!B1543=\"\",\"\",'FULL TRUSTEE LIST'!B1543&\" \"&'FULL TRUSTEE LIST'!C1543)","v":""}]
[{"$f":"IF('FULL TRUSTEE LIST'!B1544=\"\",\"\",'FULL TRUSTEE LIST'!B1544&\" \"&'FULL TRUSTEE LIST'!C1544)","v":""}]
[{"$f":"IF('FULL TRUSTEE LIST'!B1545=\"\",\"\",'FULL TRUSTEE LIST'!B1545&\" \"&'FULL TRUSTEE LIST'!C1545)","v":""}]
[{"$f":"IF('FULL TRUSTEE LIST'!B1546=\"\",\"\",'FULL TRUSTEE LIST'!B1546&\" \"&'FULL TRUSTEE LIST'!C1546)","v":""}]
[{"$f":"IF('FULL TRUSTEE LIST'!B1547=\"\",\"\",'FULL TRUSTEE LIST'!B1547&\" \"&'FULL TRUSTEE LIST'!C1547)","v":""}]
[{"$f":"IF('FULL TRUSTEE LIST'!B1548=\"\",\"\",'FULL TRUSTEE LIST'!B1548&\" \"&'FULL TRUSTEE LIST'!C1548)","v":""}]
[{"$f":"IF('FULL TRUSTEE LIST'!B1549=\"\",\"\",'FULL TRUSTEE LIST'!B1549&\" \"&'FULL TRUSTEE LIST'!C1549)","v":""}]
[{"$f":"IF('FULL TRUSTEE LIST'!B1550=\"\",\"\",'FULL TRUSTEE LIST'!B1550&\" \"&'FULL TRUSTEE LIST'!C1550)","v":""}]
[{"$f":"IF('FULL TRUSTEE LIST'!B1551=\"\",\"\",'FULL TRUSTEE LIST'!B1551&\" \"&'FULL TRUSTEE LIST'!C1551)","v":""}]
[{"$f":"IF('FULL TRUSTEE LIST'!B1552=\"\",\"\",'FULL TRUSTEE LIST'!B1552&\" \"&'FULL TRUSTEE LIST'!C1552)","v":""}]
[{"$f":"IF('FULL TRUSTEE LIST'!B1553=\"\",\"\",'FULL TRUSTEE LIST'!B1553&\" \"&'FULL TRUSTEE LIST'!C1553)","v":""}]
[{"$f":"IF('FULL TRUSTEE LIST'!B1554=\"\",\"\",'FULL TRUSTEE LIST'!B1554&\" \"&'FULL TRUSTEE LIST'!C1554)","v":""}]
[{"$f":"IF('FULL TRUSTEE LIST'!B1555=\"\",\"\",'FULL TRUSTEE LIST'!B1555&\" \"&'FULL TRUSTEE LIST'!C1555)","v":""}]
[{"$f":"IF('FULL TRUSTEE LIST'!B1556=\"\",\"\",'FULL TRUSTEE LIST'!B1556&\" \"&'FULL TRUSTEE LIST'!C1556)","v":""}]
[{"$f":"IF('FULL TRUSTEE LIST'!B1557=\"\",\"\",'FULL TRUSTEE LIST'!B1557&\" \"&'FULL TRUSTEE LIST'!C1557)","v":""}]
[{"$f":"IF('FULL TRUSTEE LIST'!B1558=\"\",\"\",'FULL TRUSTEE LIST'!B1558&\" \"&'FULL TRUSTEE LIST'!C1558)","v":""}]
[{"$f":"IF('FULL TRUSTEE LIST'!B1559=\"\",\"\",'FULL TRUSTEE LIST'!B1559&\" \"&'FULL TRUSTEE LIST'!C1559)","v":""}]
[{"$f":"IF('FULL TRUSTEE LIST'!B1560=\"\",\"\",'FULL TRUSTEE LIST'!B1560&\" \"&'FULL TRUSTEE LIST'!C1560)","v":""}]
[{"$f":"IF('FULL TRUSTEE LIST'!B1561=\"\",\"\",'FULL TRUSTEE LIST'!B1561&\" \"&'FULL TRUSTEE LIST'!C1561)","v":""}]
[{"$f":"IF('FULL TRUSTEE LIST'!B1562=\"\",\"\",'FULL TRUSTEE LIST'!B1562&\" \"&'FULL TRUSTEE LIST'!C1562)","v":""}]
[{"$f":"IF('FULL TRUSTEE LIST'!B1563=\"\",\"\",'FULL TRUSTEE LIST'!B1563&\" \"&'FULL TRUSTEE LIST'!C1563)","v":""}]
[{"$f":"IF('FULL TRUSTEE LIST'!B1564=\"\",\"\",'FULL TRUSTEE LIST'!B1564&\" \"&'FULL TRUSTEE LIST'!C1564)","v":""}]
[{"$f":"IF('FULL TRUSTEE LIST'!B1565=\"\",\"\",'FULL TRUSTEE LIST'!B1565&\" \"&'FULL TRUSTEE LIST'!C1565)","v":""}]
[{"$f":"IF('FULL TRUSTEE LIST'!B1566=\"\",\"\",'FULL TRUSTEE LIST'!B1566&\" \"&'FULL TRUSTEE LIST'!C1566)","v":""}]
[{"$f":"IF('FULL TRUSTEE LIST'!B1567=\"\",\"\",'FULL TRUSTEE LIST'!B1567&\" \"&'FULL TRUSTEE LIST'!C1567)","v":""}]
[{"$f":"IF('FULL TRUSTEE LIST'!B1568=\"\",\"\",'FULL TRUSTEE LIST'!B1568&\" \"&'FULL TRUSTEE LIST'!C1568)","v":""}]
[{"$f":"IF('FULL TRUSTEE LIST'!B1569=\"\",\"\",'FULL TRUSTEE LIST'!B1569&\" \"&'FULL TRUSTEE LIST'!C1569)","v":""}]
[{"$f":"IF('FULL TRUSTEE LIST'!B1570=\"\",\"\",'FULL TRUSTEE LIST'!B1570&\" \"&'FULL TRUSTEE LIST'!C1570)","v":""}]
[{"$f":"IF('FULL TRUSTEE LIST'!B1571=\"\",\"\",'FULL TRUSTEE LIST'!B1571&\" \"&'FULL TRUSTEE LIST'!C1571)","v":""}]
[{"$f":"IF('FULL TRUSTEE LIST'!B1572=\"\",\"\",'FULL TRUSTEE LIST'!B1572&\" \"&'FULL TRUSTEE LIST'!C1572)","v":""}]
[{"$f":"IF('FULL TRUSTEE LIST'!B1573=\"\",\"\",'FULL TRUSTEE LIST'!B1573&\" \"&'FULL TRUSTEE LIST'!C1573)","v":""}]
[{"$f":"IF('FULL TRUSTEE LIST'!B1574=\"\",\"\",'FULL TRUSTEE LIST'!B1574&\" \"&'FULL TRUSTEE LIST'!C1574)","v":""}]
[{"$f":"IF('FULL TRUSTEE LIST'!B1575=\"\",\"\",'FULL TRUSTEE LIST'!B1575&\" \"&'FULL TRUSTEE LIST'!C1575)","v":""}]
[{"$f":"IF('FULL TRUSTEE LIST'!B1576=\"\",\"\",'FULL TRUSTEE LIST'!B1576&\" \"&'FULL TRUSTEE LIST'!C1576)","v":""}]
[{"$f":"IF('FULL TRUSTEE LIST'!B1577=\"\",\"\",'FULL TRUSTEE LIST'!B1577&\" \"&'FULL TRUSTEE LIST'!C1577)","v":""}]
[{"$f":"IF('FULL TRUSTEE LIST'!B1578=\"\",\"\",'FULL TRUSTEE LIST'!B1578&\" \"&'FULL TRUSTEE LIST'!C1578)","v":""}]
[{"$f":"IF('FULL TRUSTEE LIST'!B1579=\"\",\"\",'FULL TRUSTEE LIST'!B1579&\" \"&'FULL TRUSTEE LIST'!C1579)","v":""}]
[{"$f":"IF('FULL TRUSTEE LIST'!B1580=\"\",\"\",'FULL TRUSTEE LIST'!B1580&\" \"&'FULL TRUSTEE LIST'!C1580)","v":""}]
[{"$f":"IF('FULL TRUSTEE LIST'!B1581=\"\",\"\",'FULL TRUSTEE LIST'!B1581&\" \"&'FULL TRUSTEE LIST'!C1581)","v":""}]
[{"$f":"IF('FULL TRUSTEE LIST'!B1582=\"\",\"\",'FULL TRUSTEE LIST'!B1582&\" \"&'FULL TRUSTEE LIST'!C1582)","v":""}]
[{"$f":"IF('FULL TRUSTEE LIST'!B1583=\"\",\"\",'FULL TRUSTEE LIST'!B1583&\" \"&'FULL TRUSTEE LIST'!C1583)","v":""}]
[{"$f":"IF('FULL TRUSTEE LIST'!B1584=\"\",\"\",'FULL TRUSTEE LIST'!B1584&\" \"&'FULL TRUSTEE LIST'!C1584)","v":""}]
[{"$f":"IF('FULL TRUSTEE LIST'!B1585=\"\",\"\",'FULL TRUSTEE LIST'!B1585&\" \"&'FULL TRUSTEE LIST'!C1585)","v":""}]
[{"$f":"IF('FULL TRUSTEE LIST'!B1586=\"\",\"\",'FULL TRUSTEE LIST'!B1586&\" \"&'FULL TRUSTEE LIST'!C1586)","v":""}]
[{"$f":"IF('FULL TRUSTEE LIST'!B1587=\"\",\"\",'FULL TRUSTEE LIST'!B1587&\" \"&'FULL TRUSTEE LIST'!C1587)","v":""}]
[{"$f":"IF('FULL TRUSTEE LIST'!B1588=\"\",\"\",'FULL TRUSTEE LIST'!B1588&\" \"&'FULL TRUSTEE LIST'!C1588)","v":""}]
[{"$f":"IF('FULL TRUSTEE LIST'!B1589=\"\",\"\",'FULL TRUSTEE LIST'!B1589&\" \"&'FULL TRUSTEE LIST'!C1589)","v":""}]
[{"$f":"IF('FULL TRUSTEE LIST'!B1590=\"\",\"\",'FULL TRUSTEE LIST'!B1590&\" \"&'FULL TRUSTEE LIST'!C1590)","v":""}]
[{"$f":"IF('FULL TRUSTEE LIST'!B1591=\"\",\"\",'FULL TRUSTEE LIST'!B1591&\" \"&'FULL TRUSTEE LIST'!C1591)","v":""}]
[{"$f":"IF('FULL TRUSTEE LIST'!B1592=\"\",\"\",'FULL TRUSTEE LIST'!B1592&\" \"&'FULL TRUSTEE LIST'!C1592)","v":""}]
[{"$f":"IF('FULL TRUSTEE LIST'!B1593=\"\",\"\",'FULL TRUSTEE LIST'!B1593&\" \"&'FULL TRUSTEE LIST'!C1593)","v":""}]
[{"$f":"IF('FULL TRUSTEE LIST'!B1594=\"\",\"\",'FULL TRUSTEE LIST'!B1594&\" \"&'FULL TRUSTEE LIST'!C1594)","v":""}]
[{"$f":"IF('FULL TRUSTEE LIST'!B1595=\"\",\"\",'FULL TRUSTEE LIST'!B1595&\" \"&'FULL TRUSTEE LIST'!C1595)","v":""}]
[{"$f":"IF('FULL TRUSTEE LIST'!B1596=\"\",\"\",'FULL TRUSTEE LIST'!B1596&\" \"&'FULL TRUSTEE LIST'!C1596)","v":""}]
[{"$f":"IF('FULL TRUSTEE LIST'!B1597=\"\",\"\",'FULL TRUSTEE LIST'!B1597&\" \"&'FULL TRUSTEE LIST'!C1597)","v":""}]
[{"$f":"IF('FULL TRUSTEE LIST'!B1598=\"\",\"\",'FULL TRUSTEE LIST'!B1598&\" \"&'FULL TRUSTEE LIST'!C1598)","v":""}]
[{"$f":"IF('FULL TRUSTEE LIST'!B1599=\"\",\"\",'FULL TRUSTEE LIST'!B1599&\" \"&'FULL TRUSTEE LIST'!C1599)","v":""}]
[{"$f":"IF('FULL TRUSTEE LIST'!B1600=\"\",\"\",'FULL TRUSTEE LIST'!B1600&\" \"&'FULL TRUSTEE LIST'!C1600)","v":""}]
[{"$f":"IF('FULL TRUSTEE LIST'!B1601=\"\",\"\",'FULL TRUSTEE LIST'!B1601&\" \"&'FULL TRUSTEE LIST'!C1601)","v":""}]
[{"$f":"IF('FULL TRUSTEE LIST'!B1602=\"\",\"\",'FULL TRUSTEE LIST'!B1602&\" \"&'FULL TRUSTEE LIST'!C1602)","v":""}]
[{"$f":"IF('FULL TRUSTEE LIST'!B1603=\"\",\"\",'FULL TRUSTEE LIST'!B1603&\" \"&'FULL TRUSTEE LIST'!C1603)","v":""}]
[{"$f":"IF('FULL TRUSTEE LIST'!B1604=\"\",\"\",'FULL TRUSTEE LIST'!B1604&\" \"&'FULL TRUSTEE LIST'!C1604)","v":""}]
[{"$f":"IF('FULL TRUSTEE LIST'!B1605=\"\",\"\",'FULL TRUSTEE LIST'!B1605&\" \"&'FULL TRUSTEE LIST'!C1605)","v":""}]
[{"$f":"IF('FULL TRUSTEE LIST'!B1606=\"\",\"\",'FULL TRUSTEE LIST'!B1606&\" \"&'FULL TRUSTEE LIST'!C1606)","v":""}]
[{"$f":"IF('FULL TRUSTEE LIST'!B1607=\"\",\"\",'FULL TRUSTEE LIST'!B1607&\" \"&'FULL TRUSTEE LIST'!C1607)","v":""}]
[{"$f":"IF('FULL TRUSTEE LIST'!B1608=\"\",\"\",'FULL TRUSTEE LIST'!B1608&\" \"&'FULL TRUSTEE LIST'!C1608)","v":""}]
[{"$f":"IF('FULL TRUSTEE LIST'!B1609=\"\",\"\",'FULL TRUSTEE LIST'!B1609&\" \"&'FULL TRUSTEE LIST'!C1609)","v":""}]
[{"$f":"IF('FULL TRUSTEE LIST'!B1610=\"\",\"\",'FULL TRUSTEE LIST'!B1610&\" \"&'FULL TRUSTEE LIST'!C1610)","v":""}]
[{"$f":"IF('FULL TRUSTEE LIST'!B1611=\"\",\"\",'FULL TRUSTEE LIST'!B1611&\" \"&'FULL TRUSTEE LIST'!C1611)","v":""}]
[{"$f":"IF('FULL TRUSTEE LIST'!B1612=\"\",\"\",'FULL TRUSTEE LIST'!B1612&\" \"&'FULL TRUSTEE LIST'!C1612)","v":""}]
[{"$f":"IF('FULL TRUSTEE LIST'!B1613=\"\",\"\",'FULL TRUSTEE LIST'!B1613&\" \"&'FULL TRUSTEE LIST'!C1613)","v":""}]
[{"$f":"IF('FULL TRUSTEE LIST'!B1614=\"\",\"\",'FULL TRUSTEE LIST'!B1614&\" \"&'FULL TRUSTEE LIST'!C1614)","v":""}]
[{"$f":"IF('FULL TRUSTEE LIST'!B1615=\"\",\"\",'FULL TRUSTEE LIST'!B1615&\" \"&'FULL TRUSTEE LIST'!C1615)","v":""}]
[{"$f":"IF('FULL TRUSTEE LIST'!B1616=\"\",\"\",'FULL TRUSTEE LIST'!B1616&\" \"&'FULL TRUSTEE LIST'!C1616)","v":""}]
[{"$f":"IF('FULL TRUSTEE LIST'!B1617=\"\",\"\",'FULL TRUSTEE LIST'!B1617&\" \"&'FULL TRUSTEE LIST'!C1617)","v":""}]
[{"$f":"IF('FULL TRUSTEE LIST'!B1618=\"\",\"\",'FULL TRUSTEE LIST'!B1618&\" \"&'FULL TRUSTEE LIST'!C1618)","v":""}]
[{"$f":"IF('FULL TRUSTEE LIST'!B1619=\"\",\"\",'FULL TRUSTEE LIST'!B1619&\" \"&'FULL TRUSTEE LIST'!C1619)","v":""}]
[{"$f":"IF('FULL TRUSTEE LIST'!B1620=\"\",\"\",'FULL TRUSTEE LIST'!B1620&\" \"&'FULL TRUSTEE LIST'!C1620)","v":""}]
[{"$f":"IF('FULL TRUSTEE LIST'!B1621=\"\",\"\",'FULL TRUSTEE LIST'!B1621&\" \"&'FULL TRUSTEE LIST'!C1621)","v":""}]
[{"$f":"IF('FULL TRUSTEE LIST'!B1622=\"\",\"\",'FULL TRUSTEE LIST'!B1622&\" \"&'FULL TRUSTEE LIST'!C1622)","v":""}]
[{"$f":"IF('FULL TRUSTEE LIST'!B1623=\"\",\"\",'FULL TRUSTEE LIST'!B1623&\" \"&'FULL TRUSTEE LIST'!C1623)","v":""}]
[{"$f":"IF('FULL TRUSTEE LIST'!B1624=\"\",\"\",'FULL TRUSTEE LIST'!B1624&\" \"&'FULL TRUSTEE LIST'!C1624)","v":""}]
[{"$f":"IF('FULL TRUSTEE LIST'!B1625=\"\",\"\",'FULL TRUSTEE LIST'!B1625&\" \"&'FULL TRUSTEE LIST'!C1625)","v":""}]
[{"$f":"IF('FULL TRUSTEE LIST'!B1626=\"\",\"\",'FULL TRUSTEE LIST'!B1626&\" \"&'FULL TRUSTEE LIST'!C1626)","v":""}]
[{"$f":"IF('FULL TRUSTEE LIST'!B1627=\"\",\"\",'FULL TRUSTEE LIST'!B1627&\" \"&'FULL TRUSTEE LIST'!C1627)","v":""}]
[{"$f":"IF('FULL TRUSTEE LIST'!B1628=\"\",\"\",'FULL TRUSTEE LIST'!B1628&\" \"&'FULL TRUSTEE LIST'!C1628)","v":""}]
[{"$f":"IF('FULL TRUSTEE LIST'!B1629=\"\",\"\",'FULL TRUSTEE LIST'!B1629&\" \"&'FULL TRUSTEE LIST'!C1629)","v":""}]
[{"$f":"IF('FULL TRUSTEE LIST'!B1630=\"\",\"\",'FULL TRUSTEE LIST'!B1630&\" \"&'FULL TRUSTEE LIST'!C1630)","v":""}]
[{"$f":"IF('FULL TRUSTEE LIST'!B1631=\"\",\"\",'FULL TRUSTEE LIST'!B1631&\" \"&'FULL TRUSTEE LIST'!C1631)","v":""}]
[{"$f":"IF('FULL TRUSTEE LIST'!B1632=\"\",\"\",'FULL TRUSTEE LIST'!B1632&\" \"&'FULL TRUSTEE LIST'!C1632)","v":""}]
[{"$f":"IF('FULL TRUSTEE LIST'!B1633=\"\",\"\",'FULL TRUSTEE LIST'!B1633&\" \"&'FULL TRUSTEE LIST'!C1633)","v":""}]
[{"$f":"IF('FULL TRUSTEE LIST'!B1634=\"\",\"\",'FULL TRUSTEE LIST'!B1634&\" \"&'FULL TRUSTEE LIST'!C1634)","v":""}]
[{"$f":"IF('FULL TRUSTEE LIST'!B1635=\"\",\"\",'FULL TRUSTEE LIST'!B1635&\" \"&'FULL TRUSTEE LIST'!C1635)","v":""}]
[{"$f":"IF('FULL TRUSTEE LIST'!B1636=\"\",\"\",'FULL TRUSTEE LIST'!B1636&\" \"&'FULL TRUSTEE LIST'!C1636)","v":""}]
[{"$f":"IF('FULL TRUSTEE LIST'!B1637=\"\",\"\",'FULL TRUSTEE LIST'!B1637&\" \"&'FULL TRUSTEE LIST'!C1637)","v":""}]
[{"$f":"IF('FULL TRUSTEE LIST'!B1638=\"\",\"\",'FULL TRUSTEE LIST'!B1638&\" \"&'FULL TRUSTEE LIST'!C1638)","v":""}]
[{"$f":"IF('FULL TRUSTEE LIST'!B1639=\"\",\"\",'FULL TRUSTEE LIST'!B1639&\" \"&'FULL TRUSTEE LIST'!C1639)","v":""}]
[{"$f":"IF('FULL TRUSTEE LIST'!B1640=\"\",\"\",'FULL TRUSTEE LIST'!B1640&\" \"&'FULL TRUSTEE LIST'!C1640)","v":""}]
[{"$f":"IF('FULL TRUSTEE LIST'!B1641=\"\",\"\",'FULL TRUSTEE LIST'!B1641&\" \"&'FULL TRUSTEE LIST'!C1641)","v":""}]
[{"$f":"IF('FULL TRUSTEE LIST'!B1642=\"\",\"\",'FULL TRUSTEE LIST'!B1642&\" \"&'FULL TRUSTEE LIST'!C1642)","v":""}]
[{"$f":"IF('FULL TRUSTEE LIST'!B1643=\"\",\"\",'FULL TRUSTEE LIST'!B1643&\" \"&'FULL TRUSTEE LIST'!C1643)","v":""}]
[{"$f":"IF('FULL TRUSTEE LIST'!B1644=\"\",\"\",'FULL TRUSTEE LIST'!B1644&\" \"&'FULL TRUSTEE LIST'!C1644)","v":""}]
[{"$f":"IF('FULL TRUSTEE LIST'!B1645=\"\",\"\",'FULL TRUSTEE LIST'!B1645&\" \"&'FULL TRUSTEE LIST'!C1645)","v":""}]
[{"$f":"IF('FULL TRUSTEE LIST'!B1646=\"\",\"\",'FULL TRUSTEE LIST'!B1646&\" \"&'FULL TRUSTEE LIST'!C1646)","v":""}]
[{"$f":"IF('FULL TRUSTEE LIST'!B1647=\"\",\"\",'FULL TRUSTEE LIST'!B1647&\" \"&'FULL TRUSTEE LIST'!C1647)","v":""}]
[{"$f":"IF('FULL TRUSTEE LIST'!B1648=\"\",\"\",'FULL TRUSTEE LIST'!B1648&\" \"&'FULL TRUSTEE LIST'!C1648)","v":""}]
[{"$f":"IF('FULL TRUSTEE LIST'!B1649=\"\",\"\",'FULL TRUSTEE LIST'!B1649&\" \"&'FULL TRUSTEE LIST'!C1649)","v":""}]
[{"$f":"IF('FULL TRUSTEE LIST'!B1650=\"\",\"\",'FULL TRUSTEE LIST'!B1650&\" \"&'FULL TRUSTEE LIST'!C1650)","v":""}]
[{"$f":"IF('FULL TRUSTEE LIST'!B1651=\"\",\"\",'FULL TRUSTEE LIST'!B1651&\" \"&'FULL TRUSTEE LIST'!C1651)","v":""}]
[{"$f":"IF('FULL TRUSTEE LIST'!B1652=\"\",\"\",'FULL TRUSTEE LIST'!B1652&\" \"&'FULL TRUSTEE LIST'!C1652)","v":""}]
[{"$f":"IF('FULL TRUSTEE LIST'!B1653=\"\",\"\",'FULL TRUSTEE LIST'!B1653&\" \"&'FULL TRUSTEE LIST'!C1653)","v":""}]
[{"$f":"IF('FULL TRUSTEE LIST'!B1654=\"\",\"\",'FULL TRUSTEE LIST'!B1654&\" \"&'FULL TRUSTEE LIST'!C1654)","v":""}]
[{"$f":"IF('FULL TRUSTEE LIST'!B1655=\"\",\"\",'FULL TRUSTEE LIST'!B1655&\" \"&'FULL TRUSTEE LIST'!C1655)","v":""}]
[{"$f":"IF('FULL TRUSTEE LIST'!B1656=\"\",\"\",'FULL TRUSTEE LIST'!B1656&\" \"&'FULL TRUSTEE LIST'!C1656)","v":""}]
[{"$f":"IF('FULL TRUSTEE LIST'!B1657=\"\",\"\",'FULL TRUSTEE LIST'!B1657&\" \"&'FULL TRUSTEE LIST'!C1657)","v":""}]
[{"$f":"IF('FULL TRUSTEE LIST'!B1658=\"\",\"\",'FULL TRUSTEE LIST'!B1658&\" \"&'FULL TRUSTEE LIST'!C1658)","v":""}]
[{"$f":"IF('FULL TRUSTEE LIST'!B1659=\"\",\"\",'FULL TRUSTEE LIST'!B1659&\" \"&'FULL TRUSTEE LIST'!C1659)","v":""}]
[{"$f":"IF('FULL TRUSTEE LIST'!B1660=\"\",\"\",'FULL TRUSTEE LIST'!B1660&\" \"&'FULL TRUSTEE LIST'!C1660)","v":""}]
[{"$f":"IF('FULL TRUSTEE LIST'!B1661=\"\",\"\",'FULL TRUSTEE LIST'!B1661&\" \"&'FULL TRUSTEE LIST'!C1661)","v":""}]
[{"$f":"IF('FULL TRUSTEE LIST'!B1662=\"\",\"\",'FULL TRUSTEE LIST'!B1662&\" \"&'FULL TRUSTEE LIST'!C1662)","v":""}]
[{"$f":"IF('FULL TRUSTEE LIST'!B1663=\"\",\"\",'FULL TRUSTEE LIST'!B1663&\" \"&'FULL TRUSTEE LIST'!C1663)","v":""}]
[{"$f":"IF('FULL TRUSTEE LIST'!B1664=\"\",\"\",'FULL TRUSTEE LIST'!B1664&\" \"&'FULL TRUSTEE LIST'!C1664)","v":""}]
[{"$f":"IF('FULL TRUSTEE LIST'!B1665=\"\",\"\",'FULL TRUSTEE LIST'!B1665&\" \"&'FULL TRUSTEE LIST'!C1665)","v":""}]
[{"$f":"IF('FULL TRUSTEE LIST'!B1666=\"\",\"\",'FULL TRUSTEE LIST'!B1666&\" \"&'FULL TRUSTEE LIST'!C1666)","v":""}]
[{"$f":"IF('FULL TRUSTEE LIST'!B1667=\"\",\"\",'FULL TRUSTEE LIST'!B1667&\" \"&'FULL TRUSTEE LIST'!C1667)","v":""}]
[{"$f":"IF('FULL TRUSTEE LIST'!B1668=\"\",\"\",'FULL TRUSTEE LIST'!B1668&\" \"&'FULL TRUSTEE LIST'!C1668)","v":""}]
[{"$f":"IF('FULL TRUSTEE LIST'!B1669=\"\",\"\",'FULL TRUSTEE LIST'!B1669&\" \"&'FULL TRUSTEE LIST'!C1669)","v":""}]
[{"$f":"IF('FULL TRUSTEE LIST'!B1670=\"\",\"\",'FULL TRUSTEE LIST'!B1670&\" \"&'FULL TRUSTEE LIST'!C1670)","v":""}]
[{"$f":"IF('FULL TRUSTEE LIST'!B1671=\"\",\"\",'FULL TRUSTEE LIST'!B1671&\" \"&'FULL TRUSTEE LIST'!C1671)","v":""}]
[{"$f":"IF('FULL TRUSTEE LIST'!B1672=\"\",\"\",'FULL TRUSTEE LIST'!B1672&\" \"&'FULL TRUSTEE LIST'!C1672)","v":""}]
[{"$f":"IF('FULL TRUSTEE LIST'!B1673=\"\",\"\",'FULL TRUSTEE LIST'!B1673&\" \"&'FULL TRUSTEE LIST'!C1673)","v":""}]
[{"$f":"IF('FULL TRUSTEE LIST'!B1674=\"\",\"\",'FULL TRUSTEE LIST'!B1674&\" \"&'FULL TRUSTEE LIST'!C1674)","v":""}]
[{"$f":"IF('FULL TRUSTEE LIST'!B1675=\"\",\"\",'FULL TRUSTEE LIST'!B1675&\" \"&'FULL TRUSTEE LIST'!C1675)","v":""}]
[{"$f":"IF('FULL TRUSTEE LIST'!B1676=\"\",\"\",'FULL TRUSTEE LIST'!B1676&\" \"&'FULL TRUSTEE LIST'!C1676)","v":""}]
[{"$f":"IF('FULL TRUSTEE LIST'!B1677=\"\",\"\",'FULL TRUSTEE LIST'!B1677&\" \"&'FULL TRUSTEE LIST'!C1677)","v":""}]
[{"$f":"IF('FULL TRUSTEE LIST'!B1678=\"\",\"\",'FULL TRUSTEE LIST'!B1678&\" \"&'FULL TRUSTEE LIST'!C1678)","v":""}]
[{"$f":"IF('FULL TRUSTEE LIST'!B1679=\"\",\"\",'FULL TRUSTEE LIST'!B1679&\" \"&'FULL TRUSTEE LIST'!C1679)","v":""}]
[{"$f":"IF('FULL TRUSTEE LIST'!B1680=\"\",\"\",'FULL TRUSTEE LIST'!B1680&\" \"&'FULL TRUSTEE LIST'!C1680)","v":""}]
[{"$f":"IF('FULL TRUSTEE LIST'!B1681=\"\",\"\",'FULL TRUSTEE LIST'!B1681&\" \"&'FULL TRUSTEE LIST'!C1681)","v":""}]
[{"$f":"IF('FULL TRUSTEE LIST'!B1682=\"\",\"\",'FULL TRUSTEE LIST'!B1682&\" \"&'FULL TRUSTEE LIST'!C1682)","v":""}]
[{"$f":"IF('FULL TRUSTEE LIST'!B1683=\"\",\"\",'FULL TRUSTEE LIST'!B1683&\" \"&'FULL TRUSTEE LIST'!C1683)","v":""}]
[{"$f":"IF('FULL TRUSTEE LIST'!B1684=\"\",\"\",'FULL TRUSTEE LIST'!B1684&\" \"&'FULL TRUSTEE LIST'!C1684)","v":""}]
[{"$f":"IF('FULL TRUSTEE LIST'!B1685=\"\",\"\",'FULL TRUSTEE LIST'!B1685&\" \"&'FULL TRUSTEE LIST'!C1685)","v":""}]
[{"$f":"IF('FULL TRUSTEE LIST'!B1686=\"\",\"\",'FULL TRUSTEE LIST'!B1686&\" \"&'FULL TRUSTEE LIST'!C1686)","v":""}]
[{"$f":"IF('FULL TRUSTEE LIST'!B1687=\"\",\"\",'FULL TRUSTEE LIST'!B1687&\" \"&'FULL TRUSTEE LIST'!C1687)","v":""}]
[{"$f":"IF('FULL TRUSTEE LIST'!B1688=\"\",\"\",'FULL TRUSTEE LIST'!B1688&\" \"&'FULL TRUSTEE LIST'!C1688)","v":""}]
[{"$f":"IF('FULL TRUSTEE LIST'!B1689=\"\",\"\",'FULL TRUSTEE LIST'!B1689&\" \"&'FULL TRUSTEE LIST'!C1689)","v":""}]
[{"$f":"IF('FULL TRUSTEE LIST'!B1690=\"\",\"\",'FULL TRUSTEE LIST'!B1690&\" \"&'FULL TRUSTEE LIST'!C1690)","v":""}]
[{"$f":"IF('FULL TRUSTEE LIST'!B1691=\"\",\"\",'FULL TRUSTEE LIST'!B1691&\" \"&'FULL TRUSTEE LIST'!C1691)","v":""}]
[{"$f":"IF('FULL TRUSTEE LIST'!B1692=\"\",\"\",'FULL TRUSTEE LIST'!B1692&\" \"&'FULL TRUSTEE LIST'!C1692)","v":""}]
[{"$f":"IF('FULL TRUSTEE LIST'!B1693=\"\",\"\",'FULL TRUSTEE LIST'!B1693&\" \"&'FULL TRUSTEE LIST'!C1693)","v":""}]
[{"$f":"IF('FULL TRUSTEE LIST'!B1694=\"\",\"\",'FULL TRUSTEE LIST'!B1694&\" \"&'FULL TRUSTEE LIST'!C1694)","v":""}]
[{"$f":"IF('FULL TRUSTEE LIST'!B1695=\"\",\"\",'FULL TRUSTEE LIST'!B1695&\" \"&'FULL TRUSTEE LIST'!C1695)","v":""}]
[{"$f":"IF('FULL TRUSTEE LIST'!B1696=\"\",\"\",'FULL TRUSTEE LIST'!B1696&\" \"&'FULL TRUSTEE LIST'!C1696)","v":""}]
[{"$f":"IF('FULL TRUSTEE LIST'!B1697=\"\",\"\",'FULL TRUSTEE LIST'!B1697&\" \"&'FULL TRUSTEE LIST'!C1697)","v":""}]
[{"$f":"IF('FULL TRUSTEE LIST'!B1698=\"\",\"\",'FULL TRUSTEE LIST'!B1698&\" \"&'FULL TRUSTEE LIST'!C1698)","v":""}]
[{"$f":"IF('FULL TRUSTEE LIST'!B1699=\"\",\"\",'FULL TRUSTEE LIST'!B1699&\" \"&'FULL TRUSTEE LIST'!C1699)","v":""}]
[{"$f":"IF('FULL TRUSTEE LIST'!B1700=\"\",\"\",'FULL TRUSTEE LIST'!B1700&\" \"&'FULL TRUSTEE LIST'!C1700)","v":""}]
[{"$f":"IF('FULL TRUSTEE LIST'!B1701=\"\",\"\",'FULL TRUSTEE LIST'!B1701&\" \"&'FULL TRUSTEE LIST'!C1701)","v":""}]
[{"$f":"IF('FULL TRUSTEE LIST'!B1702=\"\",\"\",'FULL TRUSTEE LIST'!B1702&\" \"&'FULL TRUSTEE LIST'!C1702)","v":""}]
[{"$f":"IF('FULL TRUSTEE LIST'!B1703=\"\",\"\",'FULL TRUSTEE LIST'!B1703&\" \"&'FULL TRUSTEE LIST'!C1703)","v":""}]
[{"$f":"IF('FULL TRUSTEE LIST'!B1704=\"\",\"\",'FULL TRUSTEE LIST'!B1704&\" \"&'FULL TRUSTEE LIST'!C1704)","v":""}]
[{"$f":"IF('FULL TRUSTEE LIST'!B1705=\"\",\"\",'FULL TRUSTEE LIST'!B1705&\" \"&'FULL TRUSTEE LIST'!C1705)","v":""}]
[{"$f":"IF('FULL TRUSTEE LIST'!B1706=\"\",\"\",'FULL TRUSTEE LIST'!B1706&\" \"&'FULL TRUSTEE LIST'!C1706)","v":""}]
[{"$f":"IF('FULL TRUSTEE LIST'!B1707=\"\",\"\",'FULL TRUSTEE LIST'!B1707&\" \"&'FULL TRUSTEE LIST'!C1707)","v":""}]
[{"$f":"IF('FULL TRUSTEE LIST'!B1708=\"\",\"\",'FULL TRUSTEE LIST'!B1708&\" \"&'FULL TRUSTEE LIST'!C1708)","v":""}]
[{"$f":"IF('FULL TRUSTEE LIST'!B1709=\"\",\"\",'FULL TRUSTEE LIST'!B1709&\" \"&'FULL TRUSTEE LIST'!C1709)","v":""}]
[{"$f":"IF('FULL TRUSTEE LIST'!B1710=\"\",\"\",'FULL TRUSTEE LIST'!B1710&\" \"&'FULL TRUSTEE LIST'!C1710)","v":""}]
[{"$f":"IF('FULL TRUSTEE LIST'!B1711=\"\",\"\",'FULL TRUSTEE LIST'!B1711&\" \"&'FULL TRUSTEE LIST'!C1711)","v":""}]
[{"$f":"IF('FULL TRUSTEE LIST'!B1712=\"\",\"\",'FULL TRUSTEE LIST'!B1712&\" \"&'FULL TRUSTEE LIST'!C1712)","v":""}]
[{"$f":"IF('FULL TRUSTEE LIST'!B1713=\"\",\"\",'FULL TRUSTEE LIST'!B1713&\" \"&'FULL TRUSTEE LIST'!C1713)","v":""}]
[{"$f":"IF('FULL TRUSTEE LIST'!B1714=\"\",\"\",'FULL TRUSTEE LIST'!B1714&\" \"&'FULL TRUSTEE LIST'!C1714)","v":""}]
[{"$f":"IF('FULL TRUSTEE LIST'!B1715=\"\",\"\",'FULL TRUSTEE LIST'!B1715&\" \"&'FULL TRUSTEE LIST'!C1715)","v":""}]
[{"$f":"IF('FULL TRUSTEE LIST'!B1716=\"\",\"\",'FULL TRUSTEE LIST'!B1716&\" \"&'FULL TRUSTEE LIST'!C1716)","v":""}]
[{"$f":"IF('FULL TRUSTEE LIST'!B1717=\"\",\"\",'FULL TRUSTEE LIST'!B1717&\" \"&'FULL TRUSTEE LIST'!C1717)","v":""}]
[{"$f":"IF('FULL TRUSTEE LIST'!B1718=\"\",\"\",'FULL TRUSTEE LIST'!B1718&\" \"&'FULL TRUSTEE LIST'!C1718)","v":""}]
[{"$f":"IF('FULL TRUSTEE LIST'!B1719=\"\",\"\",'FULL TRUSTEE LIST'!B1719&\" \"&'FULL TRUSTEE LIST'!C1719)","v":""}]
[{"$f":"IF('FULL TRUSTEE LIST'!B1720=\"\",\"\",'FULL TRUSTEE LIST'!B1720&\" \"&'FULL TRUSTEE LIST'!C1720)","v":""}]
[{"$f":"IF('FULL TRUSTEE LIST'!B1721=\"\",\"\",'FULL TRUSTEE LIST'!B1721&\" \"&'FULL TRUSTEE LIST'!C1721)","v":""}]
[{"$f":"IF('FULL TRUSTEE LIST'!B1722=\"\",\"\",'FULL TRUSTEE LIST'!B1722&\" \"&'FULL TRUSTEE LIST'!C1722)","v":""}]
[{"$f":"IF('FULL TRUSTEE LIST'!B1723=\"\",\"\",'FULL TRUSTEE LIST'!B1723&\" \"&'FULL TRUSTEE LIST'!C1723)","v":""}]
[{"$f":"IF('FULL TRUSTEE LIST'!B1724=\"\",\"\",'FULL TRUSTEE LIST'!B1724&\" \"&'FULL TRUSTEE LIST'!C1724)","v":""}]
[{"$f":"IF('FULL TRUSTEE LIST'!B1725=\"\",\"\",'FULL TRUSTEE LIST'!B1725&\" \"&'FULL TRUSTEE LIST'!C1725)","v":""}]
[{"$f":"IF('FULL TRUSTEE LIST'!B1726=\"\",\"\",'FULL TRUSTEE LIST'!B1726&\" \"&'FULL TRUSTEE LIST'!C1726)","v":""}]
[{"$f":"IF('FULL TRUSTEE LIST'!B1727=\"\",\"\",'FULL TRUSTEE LIST'!B1727&\" \"&'FULL TRUSTEE LIST'!C1727)","v":""}]
[{"$f":"IF('FULL TRUSTEE LIST'!B1728=\"\",\"\",'FULL TRUSTEE LIST'!B1728&\" \"&'FULL TRUSTEE LIST'!C1728)","v":""}]
[{"$f":"IF('FULL TRUSTEE LIST'!B1729=\"\",\"\",'FULL TRUSTEE LIST'!B1729&\" \"&'FULL TRUSTEE LIST'!C1729)","v":""}]
[{"$f":"IF('FULL TRUSTEE LIST'!B1730=\"\",\"\",'FULL TRUSTEE LIST'!B1730&\" \"&'FULL TRUSTEE LIST'!C1730)","v":""}]
[{"$f":"IF('FULL TRUSTEE LIST'!B1731=\"\",\"\",'FULL TRUSTEE LIST'!B1731&\" \"&'FULL TRUSTEE LIST'!C1731)","v":""}]
[{"$f":"IF('FULL TRUSTEE LIST'!B1732=\"\",\"\",'FULL TRUSTEE LIST'!B1732&\" \"&'FULL TRUSTEE LIST'!C1732)","v":""}]
[{"$f":"IF('FULL TRUSTEE LIST'!B1733=\"\",\"\",'FULL TRUSTEE LIST'!B1733&\" \"&'FULL TRUSTEE LIST'!C1733)","v":""}]
[{"$f":"IF('FULL TRUSTEE LIST'!B1734=\"\",\"\",'FULL TRUSTEE LIST'!B1734&\" \"&'FULL TRUSTEE LIST'!C1734)","v":""}]
[{"$f":"IF('FULL TRUSTEE LIST'!B1735=\"\",\"\",'FULL TRUSTEE LIST'!B1735&\" \"&'FULL TRUSTEE LIST'!C1735)","v":""}]
[{"$f":"IF('FULL TRUSTEE LIST'!B1736=\"\",\"\",'FULL TRUSTEE LIST'!B1736&\" \"&'FULL TRUSTEE LIST'!C1736)","v":""}]
[{"$f":"IF('FULL TRUSTEE LIST'!B1737=\"\",\"\",'FULL TRUSTEE LIST'!B1737&\" \"&'FULL TRUSTEE LIST'!C1737)","v":""}]
[{"$f":"IF('FULL TRUSTEE LIST'!B1738=\"\",\"\",'FULL TRUSTEE LIST'!B1738&\" \"&'FULL TRUSTEE LIST'!C1738)","v":""}]
[{"$f":"IF('FULL TRUSTEE LIST'!B1739=\"\",\"\",'FULL TRUSTEE LIST'!B1739&\" \"&'FULL TRUSTEE LIST'!C1739)","v":""}]
[{"$f":"IF('FULL TRUSTEE LIST'!B1740=\"\",\"\",'FULL TRUSTEE LIST'!B1740&\" \"&'FULL TRUSTEE LIST'!C1740)","v":""}]
[{"$f":"IF('FULL TRUSTEE LIST'!B1741=\"\",\"\",'FULL TRUSTEE LIST'!B1741&\" \"&'FULL TRUSTEE LIST'!C1741)","v":""}]
[{"$f":"IF('FULL TRUSTEE LIST'!B1742=\"\",\"\",'FULL TRUSTEE LIST'!B1742&\" \"&'FULL TRUSTEE LIST'!C1742)","v":""}]
[{"$f":"IF('FULL TRUSTEE LIST'!B1743=\"\",\"\",'FULL TRUSTEE LIST'!B1743&\" \"&'FULL TRUSTEE LIST'!C1743)","v":""}]
[{"$f":"IF('FULL TRUSTEE LIST'!B1744=\"\",\"\",'FULL TRUSTEE LIST'!B1744&\" \"&'FULL TRUSTEE LIST'!C1744)","v":""}]
[{"$f":"IF('FULL TRUSTEE LIST'!B1745=\"\",\"\",'FULL TRUSTEE LIST'!B1745&\" \"&'FULL TRUSTEE LIST'!C1745)","v":""}]
[{"$f":"IF('FULL TRUSTEE LIST'!B1746=\"\",\"\",'FULL TRUSTEE LIST'!B1746&\" \"&'FULL TRUSTEE LIST'!C1746)","v":""}]
[{"$f":"IF('FULL TRUSTEE LIST'!B1747=\"\",\"\",'FULL TRUSTEE LIST'!B1747&\" \"&'FULL TRUSTEE LIST'!C1747)","v":""}]
[{"$f":"IF('FULL TRUSTEE LIST'!B1748=\"\",\"\",'FULL TRUSTEE LIST'!B1748&\" \"&'FULL TRUSTEE LIST'!C1748)","v":""}]
[{"$f":"IF('FULL TRUSTEE LIST'!B1749=\"\",\"\",'FULL TRUSTEE LIST'!B1749&\" \"&'FULL TRUSTEE LIST'!C1749)","v":""}]
[{"$f":"IF('FULL TRUSTEE LIST'!B1750=\"\",\"\",'FULL TRUSTEE LIST'!B1750&\" \"&'FULL TRUSTEE LIST'!C1750)","v":""}]
[{"$f":"IF('FULL TRUSTEE LIST'!B1751=\"\",\"\",'FULL TRUSTEE LIST'!B1751&\" \"&'FULL TRUSTEE LIST'!C1751)","v":""}]
[{"$f":"IF('FULL TRUSTEE LIST'!B1752=\"\",\"\",'FULL TRUSTEE LIST'!B1752&\" \"&'FULL TRUSTEE LIST'!C1752)","v":""}]
[{"$f":"IF('FULL TRUSTEE LIST'!B1753=\"\",\"\",'FULL TRUSTEE LIST'!B1753&\" \"&'FULL TRUSTEE LIST'!C1753)","v":""}]
[{"$f":"IF('FULL TRUSTEE LIST'!B1754=\"\",\"\",'FULL TRUSTEE LIST'!B1754&\" \"&'FULL TRUSTEE LIST'!C1754)","v":""}]
[{"$f":"IF('FULL TRUSTEE LIST'!B1755=\"\",\"\",'FULL TRUSTEE LIST'!B1755&\" \"&'FULL TRUSTEE LIST'!C1755)","v":""}]
[{"$f":"IF('FULL TRUSTEE LIST'!B1756=\"\",\"\",'FULL TRUSTEE LIST'!B1756&\" \"&'FULL TRUSTEE LIST'!C1756)","v":""}]
[{"$f":"IF('FULL TRUSTEE LIST'!B1757=\"\",\"\",'FULL TRUSTEE LIST'!B1757&\" \"&'FULL TRUSTEE LIST'!C1757)","v":""}]
[{"$f":"IF('FULL TRUSTEE LIST'!B1758=\"\",\"\",'FULL TRUSTEE LIST'!B1758&\" \"&'FULL TRUSTEE LIST'!C1758)","v":""}]
[{"$f":"IF('FULL TRUSTEE LIST'!B1759=\"\",\"\",'FULL TRUSTEE LIST'!B1759&\" \"&'FULL TRUSTEE LIST'!C1759)","v":""}]
[{"$f":"IF('FULL TRUSTEE LIST'!B1760=\"\",\"\",'FULL TRUSTEE LIST'!B1760&\" \"&'FULL TRUSTEE LIST'!C1760)","v":""}]
[{"$f":"IF('FULL TRUSTEE LIST'!B1761=\"\",\"\",'FULL TRUSTEE LIST'!B1761&\" \"&'FULL TRUSTEE LIST'!C1761)","v":""}]
[{"$f":"IF('FULL TRUSTEE LIST'!B1762=\"\",\"\",'FULL TRUSTEE LIST'!B1762&\" \"&'FULL TRUSTEE LIST'!C1762)","v":""}]
[{"$f":"IF('FULL TRUSTEE LIST'!B1763=\"\",\"\",'FULL TRUSTEE LIST'!B1763&\" \"&'FULL TRUSTEE LIST'!C1763)","v":""}]
[{"$f":"IF('FULL TRUSTEE LIST'!B1764=\"\",\"\",'FULL TRUSTEE LIST'!B1764&\" \"&'FULL TRUSTEE LIST'!C1764)","v":""}]
[{"$f":"IF('FULL TRUSTEE LIST'!B1765=\"\",\"\",'FULL TRUSTEE LIST'!B1765&\" \"&'FULL TRUSTEE LIST'!C1765)","v":""}]
[{"$f":"IF('FULL TRUSTEE LIST'!B1766=\"\",\"\",'FULL TRUSTEE LIST'!B1766&\" \"&'FULL TRUSTEE LIST'!C1766)","v":""}]
[{"$f":"IF('FULL TRUSTEE LIST'!B1767=\"\",\"\",'FULL TRUSTEE LIST'!B1767&\" \"&'FULL TRUSTEE LIST'!C1767)","v":""}]
[{"$f":"IF('FULL TRUSTEE LIST'!B1768=\"\",\"\",'FULL TRUSTEE LIST'!B1768&\" \"&'FULL TRUSTEE LIST'!C1768)","v":""}]
[{"$f":"IF('FULL TRUSTEE LIST'!B1769=\"\",\"\",'FULL TRUSTEE LIST'!B1769&\" \"&'FULL TRUSTEE LIST'!C1769)","v":""}]
[{"$f":"IF('FULL TRUSTEE LIST'!B1770=\"\",\"\",'FULL TRUSTEE LIST'!B1770&\" \"&'FULL TRUSTEE LIST'!C1770)","v":""}]
[{"$f":"IF('FULL TRUSTEE LIST'!B1771=\"\",\"\",'FULL TRUSTEE LIST'!B1771&\" \"&'FULL TRUSTEE LIST'!C1771)","v":""}]
[{"$f":"IF('FULL TRUSTEE LIST'!B1772=\"\",\"\",'FULL TRUSTEE LIST'!B1772&\" \"&'FULL TRUSTEE LIST'!C1772)","v":""}]
[{"$f":"IF('FULL TRUSTEE LIST'!B1773=\"\",\"\",'FULL TRUSTEE LIST'!B1773&\" \"&'FULL TRUSTEE LIST'!C1773)","v":""}]
[{"$f":"IF('FULL TRUSTEE LIST'!B1774=\"\",\"\",'FULL TRUSTEE LIST'!B1774&\" \"&'FULL TRUSTEE LIST'!C1774)","v":""}]
[{"$f":"IF('FULL TRUSTEE LIST'!B1775=\"\",\"\",'FULL TRUSTEE LIST'!B1775&\" \"&'FULL TRUSTEE LIST'!C1775)","v":""}]
[{"$f":"IF('FULL TRUSTEE LIST'!B1776=\"\",\"\",'FULL TRUSTEE LIST'!B1776&\" \"&'FULL TRUSTEE LIST'!C1776)","v":""}]
[{"$f":"IF('FULL TRUSTEE LIST'!B1777=\"\",\"\",'FULL TRUSTEE LIST'!B1777&\" \"&'FULL TRUSTEE LIST'!C1777)","v":""}]
[{"$f":"IF('FULL TRUSTEE LIST'!B1778=\"\",\"\",'FULL TRUSTEE LIST'!B1778&\" \"&'FULL TRUSTEE LIST'!C1778)","v":""}]
[{"$f":"IF('FULL TRUSTEE LIST'!B1779=\"\",\"\",'FULL TRUSTEE LIST'!B1779&\" \"&'FULL TRUSTEE LIST'!C1779)","v":""}]
[{"$f":"IF('FULL TRUSTEE LIST'!B1780=\"\",\"\",'FULL TRUSTEE LIST'!B1780&\" \"&'FULL TRUSTEE LIST'!C1780)","v":""}]
[{"$f":"IF('FULL TRUSTEE LIST'!B1781=\"\",\"\",'FULL TRUSTEE LIST'!B1781&\" \"&'FULL TRUSTEE LIST'!C1781)","v":""}]
[{"$f":"IF('FULL TRUSTEE LIST'!B1782=\"\",\"\",'FULL TRUSTEE LIST'!B1782&\" \"&'FULL TRUSTEE LIST'!C1782)","v":""}]
[{"$f":"IF('FULL TRUSTEE LIST'!B1783=\"\",\"\",'FULL TRUSTEE LIST'!B1783&\" \"&'FULL TRUSTEE LIST'!C1783)","v":""}]
[{"$f":"IF('FULL TRUSTEE LIST'!B1784=\"\",\"\",'FULL TRUSTEE LIST'!B1784&\" \"&'FULL TRUSTEE LIST'!C1784)","v":""}]
[{"$f":"IF('FULL TRUSTEE LIST'!B1785=\"\",\"\",'FULL TRUSTEE LIST'!B1785&\" \"&'FULL TRUSTEE LIST'!C1785)","v":""}]
[{"$f":"IF('FULL TRUSTEE LIST'!B1786=\"\",\"\",'FULL TRUSTEE LIST'!B1786&\" \"&'FULL TRUSTEE LIST'!C1786)","v":""}]
[{"$f":"IF('FULL TRUSTEE LIST'!B1787=\"\",\"\",'FULL TRUSTEE LIST'!B1787&\" \"&'FULL TRUSTEE LIST'!C1787)","v":""}]
[{"$f":"IF('FULL TRUSTEE LIST'!B1788=\"\",\"\",'FULL TRUSTEE LIST'!B1788&\" \"&'FULL TRUSTEE LIST'!C1788)","v":""}]
[{"$f":"IF('FULL TRUSTEE LIST'!B1789=\"\",\"\",'FULL TRUSTEE LIST'!B1789&\" \"&'FULL TRUSTEE LIST'!C1789)","v":""}]
[{"$f":"IF('FULL TRUSTEE LIST'!B1790=\"\",\"\",'FULL TRUSTEE LIST'!B1790&\" \"&'FULL TRUSTEE LIST'!C1790)","v":""}]
[{"$f":"IF('FULL TRUSTEE LIST'!B1791=\"\",\"\",'FULL TRUSTEE LIST'!B1791&\" \"&'FULL TRUSTEE LIST'!C1791)","v":""}]
[{"$f":"IF('FULL TRUSTEE LIST'!B1792=\"\",\"\",'FULL TRUSTEE LIST'!B1792&\" \"&'FULL TRUSTEE LIST'!C1792)","v":""}]
[{"$f":"IF('FULL TRUSTEE LIST'!B1793=\"\",\"\",'FULL TRUSTEE LIST'!B1793&\" \"&'FULL TRUSTEE LIST'!C1793)","v":""}]
[{"$f":"IF('FULL TRUSTEE LIST'!B1794=\"\",\"\",'FULL TRUSTEE LIST'!B1794&\" \"&'FULL TRUSTEE LIST'!C1794)","v":""}]
[{"$f":"IF('FULL TRUSTEE LIST'!B1795=\"\",\"\",'FULL TRUSTEE LIST'!B1795&\" \"&'FULL TRUSTEE LIST'!C1795)","v":""}]
[{"$f":"IF('FULL TRUSTEE LIST'!B1796=\"\",\"\",'FULL TRUSTEE LIST'!B1796&\" \"&'FULL TRUSTEE LIST'!C1796)","v":""}]
[{"$f":"IF('FULL TRUSTEE LIST'!B1797=\"\",\"\",'FULL TRUSTEE LIST'!B1797&\" \"&'FULL TRUSTEE LIST'!C1797)","v":""}]
[{"$f":"IF('FULL TRUSTEE LIST'!B1798=\"\",\"\",'FULL TRUSTEE LIST'!B1798&\" \"&'FULL TRUSTEE LIST'!C1798)","v":""}]
[{"$f":"IF('FULL TRUSTEE LIST'!B1799=\"\",\"\",'FULL TRUSTEE LIST'!B1799&\" \"&'FULL TRUSTEE LIST'!C1799)","v":""}]
[{"$f":"IF('FULL TRUSTEE LIST'!B1800=\"\",\"\",'FULL TRUSTEE LIST'!B1800&\" \"&'FULL TRUSTEE LIST'!C1800)","v":""}]
[{"$f":"IF('FULL TRUSTEE LIST'!B1801=\"\",\"\",'FULL TRUSTEE LIST'!B1801&\" \"&'FULL TRUSTEE LIST'!C1801)","v":""}]
[{"$f":"IF('FULL TRUSTEE LIST'!B1802=\"\",\"\",'FULL TRUSTEE LIST'!B1802&\" \"&'FULL TRUSTEE LIST'!C1802)","v":""}]
[{"$f":"IF('FULL TRUSTEE LIST'!B1803=\"\",\"\",'FULL TRUSTEE LIST'!B1803&\" \"&'FULL TRUSTEE LIST'!C1803)","v":""}]
[{"$f":"IF('FULL TRUSTEE LIST'!B1804=\"\",\"\",'FULL TRUSTEE LIST'!B1804&\" \"&'FULL TRUSTEE LIST'!C1804)","v":""}]
[{"$f":"IF('FULL TRUSTEE LIST'!B1805=\"\",\"\",'FULL TRUSTEE LIST'!B1805&\" \"&'FULL TRUSTEE LIST'!C1805)","v":""}]
[{"$f":"IF('FULL TRUSTEE LIST'!B1806=\"\",\"\",'FULL TRUSTEE LIST'!B1806&\" \"&'FULL TRUSTEE LIST'!C1806)","v":""}]
[{"$f":"IF('FULL TRUSTEE LIST'!B1807=\"\",\"\",'FULL TRUSTEE LIST'!B1807&\" \"&'FULL TRUSTEE LIST'!C1807)","v":""}]
[{"$f":"IF('FULL TRUSTEE LIST'!B1808=\"\",\"\",'FULL TRUSTEE LIST'!B1808&\" \"&'FULL TRUSTEE LIST'!C1808)","v":""}]
[{"$f":"IF('FULL TRUSTEE LIST'!B1809=\"\",\"\",'FULL TRUSTEE LIST'!B1809&\" \"&'FULL TRUSTEE LIST'!C1809)","v":""}]
[{"$f":"IF('FULL TRUSTEE LIST'!B1810=\"\",\"\",'FULL TRUSTEE LIST'!B1810&\" \"&'FULL TRUSTEE LIST'!C1810)","v":""}]
[{"$f":"IF('FULL TRUSTEE LIST'!B1811=\"\",\"\",'FULL TRUSTEE LIST'!B1811&\" \"&'FULL TRUSTEE LIST'!C1811)","v":""}]
[{"$f":"IF('FULL TRUSTEE LIST'!B1812=\"\",\"\",'FULL TRUSTEE LIST'!B1812&\" \"&'FULL TRUSTEE LIST'!C1812)","v":""}]
[{"$f":"IF('FULL TRUSTEE LIST'!B1813=\"\",\"\",'FULL TRUSTEE LIST'!B1813&\" \"&'FULL TRUSTEE LIST'!C1813)","v":""}]
[{"$f":"IF('FULL TRUSTEE LIST'!B1814=\"\",\"\",'FULL TRUSTEE LIST'!B1814&\" \"&'FULL TRUSTEE LIST'!C1814)","v":""}]
[{"$f":"IF('FULL TRUSTEE LIST'!B1815=\"\",\"\",'FULL TRUSTEE LIST'!B1815&\" \"&'FULL TRUSTEE LIST'!C1815)","v":""}]
[{"$f":"IF('FULL TRUSTEE LIST'!B1816=\"\",\"\",'FULL TRUSTEE LIST'!B1816&\" \"&'FULL TRUSTEE LIST'!C1816)","v":""}]
[{"$f":"IF('FULL TRUSTEE LIST'!B1817=\"\",\"\",'FULL TRUSTEE LIST'!B1817&\" \"&'FULL TRUSTEE LIST'!C1817)","v":""}]
[{"$f":"IF('FULL TRUSTEE LIST'!B1818=\"\",\"\",'FULL TRUSTEE LIST'!B1818&\" \"&'FULL TRUSTEE LIST'!C1818)","v":""}]
[{"$f":"IF('FULL TRUSTEE LIST'!B1819=\"\",\"\",'FULL TRUSTEE LIST'!B1819&\" \"&'FULL TRUSTEE LIST'!C1819)","v":""}]
[{"$f":"IF('FULL TRUSTEE LIST'!B1820=\"\",\"\",'FULL TRUSTEE LIST'!B1820&\" \"&'FULL TRUSTEE LIST'!C1820)","v":""}]
[{"$f":"IF('FULL TRUSTEE LIST'!B1821=\"\",\"\",'FULL TRUSTEE LIST'!B1821&\" \"&'FULL TRUSTEE LIST'!C1821)","v":""}]
[{"$f":"IF('FULL TRUSTEE LIST'!B1822=\"\",\"\",'FULL TRUSTEE LIST'!B1822&\" \"&'FULL TRUSTEE LIST'!C1822)","v":""}]
[{"$f":"IF('FULL TRUSTEE LIST'!B1823=\"\",\"\",'FULL TRUSTEE LIST'!B1823&\" \"&'FULL TRUSTEE LIST'!C1823)","v":""}]
[{"$f":"IF('FULL TRUSTEE LIST'!B1824=\"\",\"\",'FULL TRUSTEE LIST'!B1824&\" \"&'FULL TRUSTEE LIST'!C1824)","v":""}]
[{"$f":"IF('FULL TRUSTEE LIST'!B1825=\"\",\"\",'FULL TRUSTEE LIST'!B1825&\" \"&'FULL TRUSTEE LIST'!C1825)","v":""}]
[{"$f":"IF('FULL TRUSTEE LIST'!B1826=\"\",\"\",'FULL TRUSTEE LIST'!B1826&\" \"&'FULL TRUSTEE LIST'!C1826)","v":""}]
[{"$f":"IF('FULL TRUSTEE LIST'!B1827=\"\",\"\",'FULL TRUSTEE LIST'!B1827&\" \"&'FULL TRUSTEE LIST'!C1827)","v":""}]
[{"$f":"IF('FULL TRUSTEE LIST'!B1828=\"\",\"\",'FULL TRUSTEE LIST'!B1828&\" \"&'FULL TRUSTEE LIST'!C1828)","v":""}]
[{"$f":"IF('FULL TRUSTEE LIST'!B1829=\"\",\"\",'FULL TRUSTEE LIST'!B1829&\" \"&'FULL TRUSTEE LIST'!C1829)","v":""}]
[{"$f":"IF('FULL TRUSTEE LIST'!B1830=\"\",\"\",'FULL TRUSTEE LIST'!B1830&\" \"&'FULL TRUSTEE LIST'!C1830)","v":""}]
[{"$f":"IF('FULL TRUSTEE LIST'!B1831=\"\",\"\",'FULL TRUSTEE LIST'!B1831&\" \"&'FULL TRUSTEE LIST'!C1831)","v":""}]
[{"$f":"IF('FULL TRUSTEE LIST'!B1832=\"\",\"\",'FULL TRUSTEE LIST'!B1832&\" \"&'FULL TRUSTEE LIST'!C1832)","v":""}]
[{"$f":"IF('FULL TRUSTEE LIST'!B1833=\"\",\"\",'FULL TRUSTEE LIST'!B1833&\" \"&'FULL TRUSTEE LIST'!C1833)","v":""}]
[{"$f":"IF('FULL TRUSTEE LIST'!B1834=\"\",\"\",'FULL TRUSTEE LIST'!B1834&\" \"&'FULL TRUSTEE LIST'!C1834)","v":""}]
[{"$f":"IF('FULL TRUSTEE LIST'!B1835=\"\",\"\",'FULL TRUSTEE LIST'!B1835&\" \"&'FULL TRUSTEE LIST'!C1835)","v":""}]
[{"$f":"IF('FULL TRUSTEE LIST'!B1836=\"\",\"\",'FULL TRUSTEE LIST'!B1836&\" \"&'FULL TRUSTEE LIST'!C1836)","v":""}]
[{"$f":"IF('FULL TRUSTEE LIST'!B1837=\"\",\"\",'FULL TRUSTEE LIST'!B1837&\" \"&'FULL TRUSTEE LIST'!C1837)","v":""}]
[{"$f":"IF('FULL TRUSTEE LIST'!B1838=\"\",\"\",'FULL TRUSTEE LIST'!B1838&\" \"&'FULL TRUSTEE LIST'!C1838)","v":""}]
[{"$f":"IF('FULL TRUSTEE LIST'!B1839=\"\",\"\",'FULL TRUSTEE LIST'!B1839&\" \"&'FULL TRUSTEE LIST'!C1839)","v":""}]
[{"$f":"IF('FULL TRUSTEE LIST'!B1840=\"\",\"\",'FULL TRUSTEE LIST'!B1840&\" \"&'FULL TRUSTEE LIST'!C1840)","v":""}]
[{"$f":"IF('FULL TRUSTEE LIST'!B1841=\"\",\"\",'FULL TRUSTEE LIST'!B1841&\" \"&'FULL TRUSTEE LIST'!C1841)","v":""}]
[{"$f":"IF('FULL TRUSTEE LIST'!B1842=\"\",\"\",'FULL TRUSTEE LIST'!B1842&\" \"&'FULL TRUSTEE LIST'!C1842)","v":""}]
[{"$f":"IF('FULL TRUSTEE LIST'!B1843=\"\",\"\",'FULL TRUSTEE LIST'!B1843&\" \"&'FULL TRUSTEE LIST'!C1843)","v":""}]
[{"$f":"IF('FULL TRUSTEE LIST'!B1844=\"\",\"\",'FULL TRUSTEE LIST'!B1844&\" \"&'FULL TRUSTEE LIST'!C1844)","v":""}]
[{"$f":"IF('FULL TRUSTEE LIST'!B1845=\"\",\"\",'FULL TRUSTEE LIST'!B1845&\" \"&'FULL TRUSTEE LIST'!C1845)","v":""}]
[{"$f":"IF('FULL TRUSTEE LIST'!B1846=\"\",\"\",'FULL TRUSTEE LIST'!B1846&\" \"&'FULL TRUSTEE LIST'!C1846)","v":""}]
[{"$f":"IF('FULL TRUSTEE LIST'!B1847=\"\",\"\",'FULL TRUSTEE LIST'!B1847&\" \"&'FULL TRUSTEE LIST'!C1847)","v":""}]
[{"$f":"IF('FULL TRUSTEE LIST'!B1848=\"\",\"\",'FULL TRUSTEE LIST'!B1848&\" \"&'FULL TRUSTEE LIST'!C1848)","v":""}]
[{"$f":"IF('FULL TRUSTEE LIST'!B1849=\"\",\"\",'FULL TRUSTEE LIST'!B1849&\" \"&'FULL TRUSTEE LIST'!C1849)","v":""}]
[{"$f":"IF('FULL TRUSTEE LIST'!B1850=\"\",\"\",'FULL TRUSTEE LIST'!B1850&\" \"&'FULL TRUSTEE LIST'!C1850)","v":""}]
[{"$f":"IF('FULL TRUSTEE LIST'!B1851=\"\",\"\",'FULL TRUSTEE LIST'!B1851&\" \"&'FULL TRUSTEE LIST'!C1851)","v":""}]
[{"$f":"IF('FULL TRUSTEE LIST'!B1852=\"\",\"\",'FULL TRUSTEE LIST'!B1852&\" \"&'FULL TRUSTEE LIST'!C1852)","v":""}]
[{"$f":"IF('FULL TRUSTEE LIST'!B1853=\"\",\"\",'FULL TRUSTEE LIST'!B1853&\" \"&'FULL TRUSTEE LIST'!C1853)","v":""}]
[{"$f":"IF('FULL TRUSTEE LIST'!B1854=\"\",\"\",'FULL TRUSTEE LIST'!B1854&\" \"&'FULL TRUSTEE LIST'!C1854)","v":""}]
[{"$f":"IF('FULL TRUSTEE LIST'!B1855=\"\",\"\",'FULL TRUSTEE LIST'!B1855&\" \"&'FULL TRUSTEE LIST'!C1855)","v":""}]
[{"$f":"IF('FULL TRUSTEE LIST'!B1856=\"\",\"\",'FULL TRUSTEE LIST'!B1856&\" \"&'FULL TRUSTEE LIST'!C1856)","v":""}]
[{"$f":"IF('FULL TRUSTEE LIST'!B1857=\"\",\"\",'FULL TRUSTEE LIST'!B1857&\" \"&'FULL TRUSTEE LIST'!C1857)","v":""}]
[{"$f":"IF('FULL TRUSTEE LIST'!B1858=\"\",\"\",'FULL TRUSTEE LIST'!B1858&\" \"&'FULL TRUSTEE LIST'!C1858)","v":""}]
[{"$f":"IF('FULL TRUSTEE LIST'!B1859=\"\",\"\",'FULL TRUSTEE LIST'!B1859&\" \"&'FULL TRUSTEE LIST'!C1859)","v":""}]
[{"$f":"IF('FULL TRUSTEE LIST'!B1860=\"\",\"\",'FULL TRUSTEE LIST'!B1860&\" \"&'FULL TRUSTEE LIST'!C1860)","v":""}]
[{"$f":"IF('FULL TRUSTEE LIST'!B1861=\"\",\"\",'FULL TRUSTEE LIST'!B1861&\" \"&'FULL TRUSTEE LIST'!C1861)","v":""}]
[{"$f":"IF('FULL TRUSTEE LIST'!B1862=\"\",\"\",'FULL TRUSTEE LIST'!B1862&\" \"&'FULL TRUSTEE LIST'!C1862)","v":""}]
[{"$f":"IF('FULL TRUSTEE LIST'!B1863=\"\",\"\",'FULL TRUSTEE LIST'!B1863&\" \"&'FULL TRUSTEE LIST'!C1863)","v":""}]
[{"$f":"IF('FULL TRUSTEE LIST'!B1864=\"\",\"\",'FULL TRUSTEE LIST'!B1864&\" \"&'FULL TRUSTEE LIST'!C1864)","v":""}]
[{"$f":"IF('FULL TRUSTEE LIST'!B1865=\"\",\"\",'FULL TRUSTEE LIST'!B1865&\" \"&'FULL TRUSTEE LIST'!C1865)","v":""}]
[{"$f":"IF('FULL TRUSTEE LIST'!B1866=\"\",\"\",'FULL TRUSTEE LIST'!B1866&\" \"&'FULL TRUSTEE LIST'!C1866)","v":""}]
[{"$f":"IF('FULL TRUSTEE LIST'!B1867=\"\",\"\",'FULL TRUSTEE LIST'!B1867&\" \"&'FULL TRUSTEE LIST'!C1867)","v":""}]
[{"$f":"IF('FULL TRUSTEE LIST'!B1868=\"\",\"\",'FULL TRUSTEE LIST'!B1868&\" \"&'FULL TRUSTEE LIST'!C1868)","v":""}]
[{"$f":"IF('FULL TRUSTEE LIST'!B1869=\"\",\"\",'FULL TRUSTEE LIST'!B1869&\" \"&'FULL TRUSTEE LIST'!C1869)","v":""}]
[{"$f":"IF('FULL TRUSTEE LIST'!B1870=\"\",\"\",'FULL TRUSTEE LIST'!B1870&\" \"&'FULL TRUSTEE LIST'!C1870)","v":""}]
[{"$f":"IF('FULL TRUSTEE LIST'!B1871=\"\",\"\",'FULL TRUSTEE LIST'!B1871&\" \"&'FULL TRUSTEE LIST'!C1871)","v":""}]
[{"$f":"IF('FULL TRUSTEE LIST'!B1872=\"\",\"\",'FULL TRUSTEE LIST'!B1872&\" \"&'FULL TRUSTEE LIST'!C1872)","v":""}]
[{"$f":"IF('FULL TRUSTEE LIST'!B1873=\"\",\"\",'FULL TRUSTEE LIST'!B1873&\" \"&'FULL TRUSTEE LIST'!C1873)","v":""}]
[{"$f":"IF('FULL TRUSTEE LIST'!B1874=\"\",\"\",'FULL TRUSTEE LIST'!B1874&\" \"&'FULL TRUSTEE LIST'!C1874)","v":""}]
[{"$f":"IF('FULL TRUSTEE LIST'!B1875=\"\",\"\",'FULL TRUSTEE LIST'!B1875&\" \"&'FULL TRUSTEE LIST'!C1875)","v":""}]
[{"$f":"IF('FULL TRUSTEE LIST'!B1876=\"\",\"\",'FULL TRUSTEE LIST'!B1876&\" \"&'FULL TRUSTEE LIST'!C1876)","v":""}]
[{"$f":"IF('FULL TRUSTEE LIST'!B1877=\"\",\"\",'FULL TRUSTEE LIST'!B1877&\" \"&'FULL TRUSTEE LIST'!C1877)","v":""}]
[{"$f":"IF('FULL TRUSTEE LIST'!B1878=\"\",\"\",'FULL TRUSTEE LIST'!B1878&\" \"&'FULL TRUSTEE LIST'!C1878)","v":""}]
[{"$f":"IF('FULL TRUSTEE LIST'!B1879=\"\",\"\",'FULL TRUSTEE LIST'!B1879&\" \"&'FULL TRUSTEE LIST'!C1879)","v":""}]
[{"$f":"IF('FULL TRUSTEE LIST'!B1880=\"\",\"\",'FULL TRUSTEE LIST'!B1880&\" \"&'FULL TRUSTEE LIST'!C1880)","v":""}]
[{"$f":"IF('FULL TRUSTEE LIST'!B1881=\"\",\"\",'FULL TRUSTEE LIST'!B1881&\" \"&'FULL TRUSTEE LIST'!C1881)","v":""}]
[{"$f":"IF('FULL TRUSTEE LIST'!B1882=\"\",\"\",'FULL TRUSTEE LIST'!B1882&\" \"&'FULL TRUSTEE LIST'!C1882)","v":""}]
[{"$f":"IF('FULL TRUSTEE LIST'!B1883=\"\",\"\",'FULL TRUSTEE LIST'!B1883&\" \"&'FULL TRUSTEE LIST'!C1883)","v":""}]
[{"$f":"IF('FULL TRUSTEE LIST'!B1884=\"\",\"\",'FULL TRUSTEE LIST'!B1884&\" \"&'FULL TRUSTEE LIST'!C1884)","v":""}]
[{"$f":"IF('FULL TRUSTEE LIST'!B1885=\"\",\"\",'FULL TRUSTEE LIST'!B1885&\" \"&'FULL TRUSTEE LIST'!C1885)","v":""}]
[{"$f":"IF('FULL TRUSTEE LIST'!B1886=\"\",\"\",'FULL TRUSTEE LIST'!B1886&\" \"&'FULL TRUSTEE LIST'!C1886)","v":""}]
[{"$f":"IF('FULL TRUSTEE LIST'!B1887=\"\",\"\",'FULL TRUSTEE LIST'!B1887&\" \"&'FULL TRUSTEE LIST'!C1887)","v":""}]
[{"$f":"IF('FULL TRUSTEE LIST'!B1888=\"\",\"\",'FULL TRUSTEE LIST'!B1888&\" \"&'FULL TRUSTEE LIST'!C1888)","v":""}]
[{"$f":"IF('FULL TRUSTEE LIST'!B1889=\"\",\"\",'FULL TRUSTEE LIST'!B1889&\" \"&'FULL TRUSTEE LIST'!C1889)","v":""}]
[{"$f":"IF('FULL TRUSTEE LIST'!B1890=\"\",\"\",'FULL TRUSTEE LIST'!B1890&\" \"&'FULL TRUSTEE LIST'!C1890)","v":""}]
[{"$f":"IF('FULL TRUSTEE LIST'!B1891=\"\",\"\",'FULL TRUSTEE LIST'!B1891&\" \"&'FULL TRUSTEE LIST'!C1891)","v":""}]
[{"$f":"IF('FULL TRUSTEE LIST'!B1892=\"\",\"\",'FULL TRUSTEE LIST'!B1892&\" \"&'FULL TRUSTEE LIST'!C1892)","v":""}]
[{"$f":"IF('FULL TRUSTEE LIST'!B1893=\"\",\"\",'FULL TRUSTEE LIST'!B1893&\" \"&'FULL TRUSTEE LIST'!C1893)","v":""}]
[{"$f":"IF('FULL TRUSTEE LIST'!B1894=\"\",\"\",'FULL TRUSTEE LIST'!B1894&\" \"&'FULL TRUSTEE LIST'!C1894)","v":""}]
[{"$f":"IF('FULL TRUSTEE LIST'!B1895=\"\",\"\",'FULL TRUSTEE LIST'!B1895&\" \"&'FULL TRUSTEE LIST'!C1895)","v":""}]
[{"$f":"IF('FULL TRUSTEE LIST'!B1896=\"\",\"\",'FULL TRUSTEE LIST'!B1896&\" \"&'FULL TRUSTEE LIST'!C1896)","v":""}]
[{"$f":"IF('FULL TRUSTEE LIST'!B1897=\"\",\"\",'FULL TRUSTEE LIST'!B1897&\" \"&'FULL TRUSTEE LIST'!C1897)","v":""}]
[{"$f":"IF('FULL TRUSTEE LIST'!B1898=\"\",\"\",'FULL TRUSTEE LIST'!B1898&\" \"&'FULL TRUSTEE LIST'!C1898)","v":""}]
[{"$f":"IF('FULL TRUSTEE LIST'!B1899=\"\",\"\",'FULL TRUSTEE LIST'!B1899&\" \"&'FULL TRUSTEE LIST'!C1899)","v":""}]
[{"$f":"IF('FULL TRUSTEE LIST'!B1900=\"\",\"\",'FULL TRUSTEE LIST'!B1900&\" \"&'FULL TRUSTEE LIST'!C1900)","v":""}]
[{"$f":"IF('FULL TRUSTEE LIST'!B1901=\"\",\"\",'FULL TRUSTEE LIST'!B1901&\" \"&'FULL TRUSTEE LIST'!C1901)","v":""}]
[{"$f":"IF('FULL TRUSTEE LIST'!B1902=\"\",\"\",'FULL TRUSTEE LIST'!B1902&\" \"&'FULL TRUSTEE LIST'!C1902)","v":""}]
[{"$f":"IF('FULL TRUSTEE LIST'!B1903=\"\",\"\",'FULL TRUSTEE LIST'!B1903&\" \"&'FULL TRUSTEE LIST'!C1903)","v":""}]
[{"$f":"IF('FULL TRUSTEE LIST'!B1904=\"\",\"\",'FULL TRUSTEE LIST'!B1904&\" \"&'FULL TRUSTEE LIST'!C1904)","v":""}]
[{"$f":"IF('FULL TRUSTEE LIST'!B1905=\"\",\"\",'FULL TRUSTEE LIST'!B1905&\" \"&'FULL TRUSTEE LIST'!C1905)","v":""}]
[{"$f":"IF('FULL TRUSTEE LIST'!B1906=\"\",\"\",'FULL TRUSTEE LIST'!B1906&\" \"&'FULL TRUSTEE LIST'!C1906)","v":""}]
[{"$f":"IF('FULL TRUSTEE LIST'!B1907=\"\",\"\",'FULL TRUSTEE LIST'!B1907&\" \"&'FULL TRUSTEE LIST'!C1907)","v":""}]
[{"$f":"IF('FULL TRUSTEE LIST'!B1908=\"\",\"\",'FULL TRUSTEE LIST'!B1908&\" \"&'FULL TRUSTEE LIST'!C1908)","v":""}]
[{"$f":"IF('FULL TRUSTEE LIST'!B1909=\"\",\"\",'FULL TRUSTEE LIST'!B1909&\" \"&'FULL TRUSTEE LIST'!C1909)","v":""}]
[{"$f":"IF('FULL TRUSTEE LIST'!B1910=\"\",\"\",'FULL TRUSTEE LIST'!B1910&\" \"&'FULL TRUSTEE LIST'!C1910)","v":""}]
[{"$f":"IF('FULL TRUSTEE LIST'!B1911=\"\",\"\",'FULL TRUSTEE LIST'!B1911&\" \"&'FULL TRUSTEE LIST'!C1911)","v":""}]
[{"$f":"IF('FULL TRUSTEE LIST'!B1912=\"\",\"\",'FULL TRUSTEE LIST'!B1912&\" \"&'FULL TRUSTEE LIST'!C1912)","v":""}]
[{"$f":"IF('FULL TRUSTEE LIST'!B1913=\"\",\"\",'FULL TRUSTEE LIST'!B1913&\" \"&'FULL TRUSTEE LIST'!C1913)","v":""}]
[{"$f":"IF('FULL TRUSTEE LIST'!B1914=\"\",\"\",'FULL TRUSTEE LIST'!B1914&\" \"&'FULL TRUSTEE LIST'!C1914)","v":""}]
[{"$f":"IF('FULL TRUSTEE LIST'!B1915=\"\",\"\",'FULL TRUSTEE LIST'!B1915&\" \"&'FULL TRUSTEE LIST'!C1915)","v":""}]
[{"$f":"IF('FULL TRUSTEE LIST'!B1916=\"\",\"\",'FULL TRUSTEE LIST'!B1916&\" \"&'FULL TRUSTEE LIST'!C1916)","v":""}]
[{"$f":"IF('FULL TRUSTEE LIST'!B1917=\"\",\"\",'FULL TRUSTEE LIST'!B1917&\" \"&'FULL TRUSTEE LIST'!C1917)","v":""}]
[{"$f":"IF('FULL TRUSTEE LIST'!B1918=\"\",\"\",'FULL TRUSTEE LIST'!B1918&\" \"&'FULL TRUSTEE LIST'!C1918)","v":""}]
[{"$f":"IF('FULL TRUSTEE LIST'!B1919=\"\",\"\",'FULL TRUSTEE LIST'!B1919&\" \"&'FULL TRUSTEE LIST'!C1919)","v":""}]
[{"$f":"IF('FULL TRUSTEE LIST'!B1920=\"\",\"\",'FULL TRUSTEE LIST'!B1920&\" \"&'FULL TRUSTEE LIST'!C1920)","v":""}]
[{"$f":"IF('FULL TRUSTEE LIST'!B1921=\"\",\"\",'FULL TRUSTEE LIST'!B1921&\" \"&'FULL TRUSTEE LIST'!C1921)","v":""}]
[{"$f":"IF('FULL TRUSTEE LIST'!B1922=\"\",\"\",'FULL TRUSTEE LIST'!B1922&\" \"&'FULL TRUSTEE LIST'!C1922)","v":""}]
[{"$f":"IF('FULL TRUSTEE LIST'!B1923=\"\",\"\",'FULL TRUSTEE LIST'!B1923&\" \"&'FULL TRUSTEE LIST'!C1923)","v":""}]
[{"$f":"IF('FULL TRUSTEE LIST'!B1924=\"\",\"\",'FULL TRUSTEE LIST'!B1924&\" \"&'FULL TRUSTEE LIST'!C1924)","v":""}]
[{"$f":"IF('FULL TRUSTEE LIST'!B1925=\"\",\"\",'FULL TRUSTEE LIST'!B1925&\" \"&'FULL TRUSTEE LIST'!C1925)","v":""}]
[{"$f":"IF('FULL TRUSTEE LIST'!B1926=\"\",\"\",'FULL TRUSTEE LIST'!B1926&\" \"&'FULL TRUSTEE LIST'!C1926)","v":""}]
[{"$f":"IF('FULL TRUSTEE LIST'!B1927=\"\",\"\",'FULL TRUSTEE LIST'!B1927&\" \"&'FULL TRUSTEE LIST'!C1927)","v":""}]
[{"$f":"IF('FULL TRUSTEE LIST'!B1928=\"\",\"\",'FULL TRUSTEE LIST'!B1928&\" \"&'FULL TRUSTEE LIST'!C1928)","v":""}]
[{"$f":"IF('FULL TRUSTEE LIST'!B1929=\"\",\"\",'FULL TRUSTEE LIST'!B1929&\" \"&'FULL TRUSTEE LIST'!C1929)","v":""}]
[{"$f":"IF('FULL TRUSTEE LIST'!B1930=\"\",\"\",'FULL TRUSTEE LIST'!B1930&\" \"&'FULL TRUSTEE LIST'!C1930)","v":""}]
[{"$f":"IF('FULL TRUSTEE LIST'!B1931=\"\",\"\",'FULL TRUSTEE LIST'!B1931&\" \"&'FULL TRUSTEE LIST'!C1931)","v":""}]
[{"$f":"IF('FULL TRUSTEE LIST'!B1932=\"\",\"\",'FULL TRUSTEE LIST'!B1932&\" \"&'FULL TRUSTEE LIST'!C1932)","v":""}]
[{"$f":"IF('FULL TRUSTEE LIST'!B1933=\"\",\"\",'FULL TRUSTEE LIST'!B1933&\" \"&'FULL TRUSTEE LIST'!C1933)","v":""}]
[{"$f":"IF('FULL TRUSTEE LIST'!B1934=\"\",\"\",'FULL TRUSTEE LIST'!B1934&\" \"&'FULL TRUSTEE LIST'!C1934)","v":""}]
[{"$f":"IF('FULL TRUSTEE LIST'!B1935=\"\",\"\",'FULL TRUSTEE LIST'!B1935&\" \"&'FULL TRUSTEE LIST'!C1935)","v":""}]
[{"$f":"IF('FULL TRUSTEE LIST'!B1936=\"\",\"\",'FULL TRUSTEE LIST'!B1936&\" \"&'FULL TRUSTEE LIST'!C1936)","v":""}]
[{"$f":"IF('FULL TRUSTEE LIST'!B1937=\"\",\"\",'FULL TRUSTEE LIST'!B1937&\" \"&'FULL TRUSTEE LIST'!C1937)","v":""}]
[{"$f":"IF('FULL TRUSTEE LIST'!B1938=\"\",\"\",'FULL TRUSTEE LIST'!B1938&\" \"&'FULL TRUSTEE LIST'!C1938)","v":""}]
[{"$f":"IF('FULL TRUSTEE LIST'!B1939=\"\",\"\",'FULL TRUSTEE LIST'!B1939&\" \"&'FULL TRUSTEE LIST'!C1939)","v":""}]
[{"$f":"IF('FULL TRUSTEE LIST'!B1940=\"\",\"\",'FULL TRUSTEE LIST'!B1940&\" \"&'FULL TRUSTEE LIST'!C1940)","v":""}]
[{"$f":"IF('FULL TRUSTEE LIST'!B1941=\"\",\"\",'FULL TRUSTEE LIST'!B1941&\" \"&'FULL TRUSTEE LIST'!C1941)","v":""}]
[{"$f":"IF('FULL TRUSTEE LIST'!B1942=\"\",\"\",'FULL TRUSTEE LIST'!B1942&\" \"&'FULL TRUSTEE LIST'!C1942)","v":""}]
[{"$f":"IF('FULL TRUSTEE LIST'!B1943=\"\",\"\",'FULL TRUSTEE LIST'!B1943&\" \"&'FULL TRUSTEE LIST'!C1943)","v":""}]
[{"$f":"IF('FULL TRUSTEE LIST'!B1944=\"\",\"\",'FULL TRUSTEE LIST'!B1944&\" \"&'FULL TRUSTEE LIST'!C1944)","v":""}]
[{"$f":"IF('FULL TRUSTEE LIST'!B1945=\"\",\"\",'FULL TRUSTEE LIST'!B1945&\" \"&'FULL TRUSTEE LIST'!C1945)","v":""}]
[{"$f":"IF('FULL TRUSTEE LIST'!B1946=\"\",\"\",'FULL TRUSTEE LIST'!B1946&\" \"&'FULL TRUSTEE LIST'!C1946)","v":""}]
[{"$f":"IF('FULL TRUSTEE LIST'!B1947=\"\",\"\",'FULL TRUSTEE LIST'!B1947&\" \"&'FULL TRUSTEE LIST'!C1947)","v":""}]
[{"$f":"IF('FULL TRUSTEE LIST'!B1948=\"\",\"\",'FULL TRUSTEE LIST'!B1948&\" \"&'FULL TRUSTEE LIST'!C1948)","v":""}]
[{"$f":"IF('FULL TRUSTEE LIST'!B1949=\"\",\"\",'FULL TRUSTEE LIST'!B1949&\" \"&'FULL TRUSTEE LIST'!C1949)","v":""}]
[{"$f":"IF('FULL TRUSTEE LIST'!B1950=\"\",\"\",'FULL TRUSTEE LIST'!B1950&\" \"&'FULL TRUSTEE LIST'!C1950)","v":""}]
[{"$f":"IF('FULL TRUSTEE LIST'!B1951=\"\",\"\",'FULL TRUSTEE LIST'!B1951&\" \"&'FULL TRUSTEE LIST'!C1951)","v":""}]
[{"$f":"IF('FULL TRUSTEE LIST'!B1952=\"\",\"\",'FULL TRUSTEE LIST'!B1952&\" \"&'FULL TRUSTEE LIST'!C1952)","v":""}]
[{"$f":"IF('FULL TRUSTEE LIST'!B1953=\"\",\"\",'FULL TRUSTEE LIST'!B1953&\" \"&'FULL TRUSTEE LIST'!C1953)","v":""}]
[{"$f":"IF('FULL TRUSTEE LIST'!B1954=\"\",\"\",'FULL TRUSTEE LIST'!B1954&\" \"&'FULL TRUSTEE LIST'!C1954)","v":""}]
[{"$f":"IF('FULL TRUSTEE LIST'!B1955=\"\",\"\",'FULL TRUSTEE LIST'!B1955&\" \"&'FULL TRUSTEE LIST'!C1955)","v":""}]
[{"$f":"IF('FULL TRUSTEE LIST'!B1956=\"\",\"\",'FULL TRUSTEE LIST'!B1956&\" \"&'FULL TRUSTEE LIST'!C1956)","v":""}]
[{"$f":"IF('FULL TRUSTEE LIST'!B1957=\"\",\"\",'FULL TRUSTEE LIST'!B1957&\" \"&'FULL TRUSTEE LIST'!C1957)","v":""}]
[{"$f":"IF('FULL TRUSTEE LIST'!B1958=\"\",\"\",'FULL TRUSTEE LIST'!B1958&\" \"&'FULL TRUSTEE LIST'!C1958)","v":""}]
[{"$f":"IF('FULL TRUSTEE LIST'!B1959=\"\",\"\",'FULL TRUSTEE LIST'!B1959&\" \"&'FULL TRUSTEE LIST'!C1959)","v":""}]
[{"$f":"IF('FULL TRUSTEE LIST'!B1960=\"\",\"\",'FULL TRUSTEE LIST'!B1960&\" \"&'FULL TRUSTEE LIST'!C1960)","v":""}]
[{"$f":"IF('FULL TRUSTEE LIST'!B1961=\"\",\"\",'FULL TRUSTEE LIST'!B1961&\" \"&'FULL TRUSTEE LIST'!C1961)","v":""}]
[{"$f":"IF('FULL TRUSTEE LIST'!B1962=\"\",\"\",'FULL TRUSTEE LIST'!B1962&\" \"&'FULL TRUSTEE LIST'!C1962)","v":""}]
[{"$f":"IF('FULL TRUSTEE LIST'!B1963=\"\",\"\",'FULL TRUSTEE LIST'!B1963&\" \"&'FULL TRUSTEE LIST'!C1963)","v":""}]
[{"$f":"IF('FULL TRUSTEE LIST'!B1964=\"\",\"\",'FULL TRUSTEE LIST'!B1964&\" \"&'FULL TRUSTEE LIST'!C1964)","v":""}]
[{"$f":"IF('FULL TRUSTEE LIST'!B1965=\"\",\"\",'FULL TRUSTEE LIST'!B1965&\" \"&'FULL TRUSTEE LIST'!C1965)","v":""}]
[{"$f":"IF('FULL TRUSTEE LIST'!B1966=\"\",\"\",'FULL TRUSTEE LIST'!B1966&\" \"&'FULL TRUSTEE LIST'!C1966)","v":""}]
[{"$f":"IF('FULL TRUSTEE LIST'!B1967=\"\",\"\",'FULL TRUSTEE LIST'!B1967&\" \"&'FULL TRUSTEE LIST'!C1967)","v":""}]
[{"$f":"IF('FULL TRUSTEE LIST'!B1968=\"\",\"\",'FULL TRUSTEE LIST'!B1968&\" \"&'FULL TRUSTEE LIST'!C1968)","v":""}]
[{"$f":"IF('FULL TRUSTEE LIST'!B1969=\"\",\"\",'FULL TRUSTEE LIST'!B1969&\" \"&'FULL TRUSTEE LIST'!C1969)","v":""}]
[{"$f":"IF('FULL TRUSTEE LIST'!B1970=\"\",\"\",'FULL TRUSTEE LIST'!B1970&\" \"&'FULL TRUSTEE LIST'!C1970)","v":""}]
[{"$f":"IF('FULL TRUSTEE LIST'!B1971=\"\",\"\",'FULL TRUSTEE LIST'!B1971&\" \"&'FULL TRUSTEE LIST'!C1971)","v":""}]
[{"$f":"IF('FULL TRUSTEE LIST'!B1972=\"\",\"\",'FULL TRUSTEE LIST'!B1972&\" \"&'FULL TRUSTEE LIST'!C1972)","v":""}]
[{"$f":"IF('FULL TRUSTEE LIST'!B1973=\"\",\"\",'FULL TRUSTEE LIST'!B1973&\" \"&'FULL TRUSTEE LIST'!C1973)","v":""}]
[{"$f":"IF('FULL TRUSTEE LIST'!B1974=\"\",\"\",'FULL TRUSTEE LIST'!B1974&\" \"&'FULL TRUSTEE LIST'!C1974)","v":""}]
[{"$f":"IF('FULL TRUSTEE LIST'!B1975=\"\",\"\",'FULL TRUSTEE LIST'!B1975&\" \"&'FULL TRUSTEE LIST'!C1975)","v":""}]
[{"$f":"IF('FULL TRUSTEE LIST'!B1976=\"\",\"\",'FULL TRUSTEE LIST'!B1976&\" \"&'FULL TRUSTEE LIST'!C1976)","v":""}]
[{"$f":"IF('FULL TRUSTEE LIST'!B1977=\"\",\"\",'FULL TRUSTEE LIST'!B1977&\" \"&'FULL TRUSTEE LIST'!C1977)","v":""}]
[{"$f":"IF('FULL TRUSTEE LIST'!B1978=\"\",\"\",'FULL TRUSTEE LIST'!B1978&\" \"&'FULL TRUSTEE LIST'!C1978)","v":""}]
[{"$f":"IF('FULL TRUSTEE LIST'!B1979=\"\",\"\",'FULL TRUSTEE LIST'!B1979&\" \"&'FULL TRUSTEE LIST'!C1979)","v":""}]
[{"$f":"IF('FULL TRUSTEE LIST'!B1980=\"\",\"\",'FULL TRUSTEE LIST'!B1980&\" \"&'FULL TRUSTEE LIST'!C1980)","v":""}]
[{"$f":"IF('FULL TRUSTEE LIST'!B1981=\"\",\"\",'FULL TRUSTEE LIST'!B1981&\" \"&'FULL TRUSTEE LIST'!C1981)","v":""}]
[{"$f":"IF('FULL TRUSTEE LIST'!B1982=\"\",\"\",'FULL TRUSTEE LIST'!B1982&\" \"&'FULL TRUSTEE LIST'!C1982)","v":""}]
[{"$f":"IF('FULL TRUSTEE LIST'!B1983=\"\",\"\",'FULL TRUSTEE LIST'!B1983&\" \"&'FULL TRUSTEE LIST'!C1983)","v":""}]
[{"$f":"IF('FULL TRUSTEE LIST'!B1984=\"\",\"\",'FULL TRUSTEE LIST'!B1984&\" \"&'FULL TRUSTEE LIST'!C1984)","v":""}]
[{"$f":"IF('FULL TRUSTEE LIST'!B1985=\"\",\"\",'FULL TRUSTEE LIST'!B1985&\" \"&'FULL TRUSTEE LIST'!C1985)","v":""}]
[{"$f":"IF('FULL TRUSTEE LIST'!B1986=\"\",\"\",'FULL TRUSTEE LIST'!B1986&\" \"&'FULL TRUSTEE LIST'!C1986)","v":""}]
[{"$f":"IF('FULL TRUSTEE LIST'!B1987=\"\",\"\",'FULL TRUSTEE LIST'!B1987&\" \"&'FULL TRUSTEE LIST'!C1987)","v":""}]
[{"$f":"IF('FULL TRUSTEE LIST'!B1988=\"\",\"\",'FULL TRUSTEE LIST'!B1988&\" \"&'FULL TRUSTEE LIST'!C1988)","v":""}]
[{"$f":"IF('FULL TRUSTEE LIST'!B1989=\"\",\"\",'FULL TRUSTEE LIST'!B1989&\" \"&'FULL TRUSTEE LIST'!C1989)","v":""}]
[{"$f":"IF('FULL TRUSTEE LIST'!B1990=\"\",\"\",'FULL TRUSTEE LIST'!B1990&\" \"&'FULL TRUSTEE LIST'!C1990)","v":""}]
[{"$f":"IF('FULL TRUSTEE LIST'!B1991=\"\",\"\",'FULL TRUSTEE LIST'!B1991&\" \"&'FULL TRUSTEE LIST'!C1991)","v":""}]
[{"$f":"IF('FULL TRUSTEE LIST'!B1992=\"\",\"\",'FULL TRUSTEE LIST'!B1992&\" \"&'FULL TRUSTEE LIST'!C1992)","v":""}]
[{"$f":"IF('FULL TRUSTEE LIST'!B1993=\"\",\"\",'FULL TRUSTEE LIST'!B1993&\" \"&'FULL TRUSTEE LIST'!C1993)","v":""}]
[{"$f":"IF('FULL TRUSTEE LIST'!B1994=\"\",\"\",'FULL TRUSTEE LIST'!B1994&\" \"&'FULL TRUSTEE LIST'!C1994)","v":""}]
[{"$f":"IF('FULL TRUSTEE LIST'!B1995=\"\",\"\",'FULL TRUSTEE LIST'!B1995&\" \"&'FULL TRUSTEE LIST'!C1995)","v":""}]
[{"$f":"IF('FULL TRUSTEE LIST'!B1996=\"\",\"\",'FULL TRUSTEE LIST'!B1996&\" \"&'FULL TRUSTEE LIST'!C1996)","v":""}]
[{"$f":"IF('FULL TRUSTEE LIST'!B1997=\"\",\"\",'FULL TRUSTEE LIST'!B1997&\" \"&'FULL TRUSTEE LIST'!C1997)","v":""}]
[{"$f":"IF('FULL TRUSTEE LIST'!B1998=\"\",\"\",'FULL TRUSTEE LIST'!B1998&\" \"&'FULL TRUSTEE LIST'!C1998)","v":""}]
[{"$f":"IF('FULL TRUSTEE LIST'!B1999=\"\",\"\",'FULL TRUSTEE LIST'!B1999&\" \"&'FULL TRUSTEE LIST'!C1999)","v":""}]
[{"$f":"IF('FULL TRUSTEE LIST'!B2000=\"\",\"\",'FULL TRUSTEE LIST'!B2000&\" \"&'FULL TRUSTEE LIST'!C2000)","v":""}]
[{"$f":"IF('FULL TRUSTEE LIST'!B2001=\"\",\"\",'FULL TRUSTEE LIST'!B2001&\" \"&'FULL TRUSTEE LIST'!C2001)","v":""}]
[{"$f":"IF('FULL TRUSTEE LIST'!B2002=\"\",\"\",'FULL TRUSTEE LIST'!B2002&\" \"&'FULL TRUSTEE LIST'!C2002)","v":""}]
[{"$f":"IF('FULL TRUSTEE LIST'!B2003=\"\",\"\",'FULL TRUSTEE LIST'!B2003&\" \"&'FULL TRUSTEE LIST'!C2003)","v":""}]
[{"$f":"IF('FULL TRUSTEE LIST'!B2004=\"\",\"\",'FULL TRUSTEE LIST'!B2004&\" \"&'FULL TRUSTEE LIST'!C2004)","v":""}]
[{"$f":"IF('FULL TRUSTEE LIST'!B2005=\"\",\"\",'FULL TRUSTEE LIST'!B2005&\" \"&'FULL TRUSTEE LIST'!C2005)","v":""}]
[{"$f":"IF('FULL TRUSTEE LIST'!B2006=\"\",\"\",'FULL TRUSTEE LIST'!B2006&\" \"&'FULL TRUSTEE LIST'!C2006)","v":""}]
[{"$f":"IF('FULL TRUSTEE LIST'!B2007=\"\",\"\",'FULL TRUSTEE LIST'!B2007&\" \"&'FULL TRUSTEE LIST'!C2007)","v":""}]
[{"$f":"IF('FULL TRUSTEE LIST'!B2008=\"\",\"\",'FULL TRUSTEE LIST'!B2008&\" \"&'FULL TRUSTEE LIST'!C2008)","v":""}]
[{"$f":"IF('FULL TRUSTEE LIST'!B2009=\"\",\"\",'FULL TRUSTEE LIST'!B2009&\" \"&'FULL TRUSTEE LIST'!C2009)","v":""}]
[{"$f":"IF('FULL TRUSTEE LIST'!B2010=\"\",\"\",'FULL TRUSTEE LIST'!B2010&\" \"&'FULL TRUSTEE LIST'!C2010)","v":""}]
[{"$f":"IF('FULL TRUSTEE LIST'!B2011=\"\",\"\",'FULL TRUSTEE LIST'!B2011&\" \"&'FULL TRUSTEE LIST'!C2011)","v":""}]
[{"$f":"IF('FULL TRUSTEE LIST'!B2012=\"\",\"\",'FULL TRUSTEE LIST'!B2012&\" \"&'FULL TRUSTEE LIST'!C2012)","v":""}]
[{"$f":"IF('FULL TRUSTEE LIST'!B2013=\"\",\"\",'FULL TRUSTEE LIST'!B2013&\" \"&'FULL TRUSTEE LIST'!C2013)","v":""}]
[{"$f":"IF('FULL TRUSTEE LIST'!B2014=\"\",\"\",'FULL TRUSTEE LIST'!B2014&\" \"&'FULL TRUSTEE LIST'!C2014)","v":""}]
[{"$f":"IF('FULL TRUSTEE LIST'!B2015=\"\",\"\",'FULL TRUSTEE LIST'!B2015&\" \"&'FULL TRUSTEE LIST'!C2015)","v":""}]
[{"$f":"IF('FULL TRUSTEE LIST'!B2016=\"\",\"\",'FULL TRUSTEE LIST'!B2016&\" \"&'FULL TRUSTEE LIST'!C2016)","v":""}]
[{"$f":"IF('FULL TRUSTEE LIST'!B2017=\"\",\"\",'FULL TRUSTEE LIST'!B2017&\" \"&'FULL TRUSTEE LIST'!C2017)","v":""}]
[{"$f":"IF('FULL TRUSTEE LIST'!B2018=\"\",\"\",'FULL TRUSTEE LIST'!B2018&\" \"&'FULL TRUSTEE LIST'!C2018)","v":""}]
[{"$f":"IF('FULL TRUSTEE LIST'!B2019=\"\",\"\",'FULL TRUSTEE LIST'!B2019&\" \"&'FULL TRUSTEE LIST'!C2019)","v":""}]
[{"$f":"IF('FULL TRUSTEE LIST'!B2020=\"\",\"\",'FULL TRUSTEE LIST'!B2020&\" \"&'FULL TRUSTEE LIST'!C2020)","v":""}]
[{"$f":"IF('FULL TRUSTEE LIST'!B2021=\"\",\"\",'FULL TRUSTEE LIST'!B2021&\" \"&'FULL TRUSTEE LIST'!C2021)","v":""}]
[{"$f":"IF('FULL TRUSTEE LIST'!B2022=\"\",\"\",'FULL TRUSTEE LIST'!B2022&\" \"&'FULL TRUSTEE LIST'!C2022)","v":""}]
[{"$f":"IF('FULL TRUSTEE LIST'!B2023=\"\",\"\",'FULL TRUSTEE LIST'!B2023&\" \"&'FULL TRUSTEE LIST'!C2023)","v":""}]
[{"$f":"IF('FULL TRUSTEE LIST'!B2024=\"\",\"\",'FULL TRUSTEE LIST'!B2024&\" \"&'FULL TRUSTEE LIST'!C2024)","v":""}]
[{"$f":"IF('FULL TRUSTEE LIST'!B2025=\"\",\"\",'FULL TRUSTEE LIST'!B2025&\" \"&'FULL TRUSTEE LIST'!C2025)","v":""}]
[{"$f":"IF('FULL TRUSTEE LIST'!B2026=\"\",\"\",'FULL TRUSTEE LIST'!B2026&\" \"&'FULL TRUSTEE LIST'!C2026)","v":""}]
[{"$f":"IF('FULL TRUSTEE LIST'!B2027=\"\",\"\",'FULL TRUSTEE LIST'!B2027&\" \"&'FULL TRUSTEE LIST'!C2027)","v":""}]
[{"$f":"IF('FULL TRUSTEE LIST'!B2028=\"\",\"\",'FULL TRUSTEE LIST'!B2028&\" \"&'FULL TRUSTEE LIST'!C2028)","v":""}]
[{"$f":"IF('FULL TRUSTEE LIST'!B2029=\"\",\"\",'FULL TRUSTEE LIST'!B2029&\" \"&'FULL TRUSTEE LIST'!C2029)","v":""}]
[{"$f":"IF('FULL TRUSTEE LIST'!B2030=\"\",\"\",'FULL TRUSTEE LIST'!B2030&\" \"&'FULL TRUSTEE LIST'!C2030)","v":""}]
[{"$f":"IF('FULL TRUSTEE LIST'!B2031=\"\",\"\",'FULL TRUSTEE LIST'!B2031&\" \"&'FULL TRUSTEE LIST'!C2031)","v":""}]
[{"$f":"IF('FULL TRUSTEE LIST'!B2032=\"\",\"\",'FULL TRUSTEE LIST'!B2032&\" \"&'FULL TRUSTEE LIST'!C2032)","v":""}]
[{"$f":"IF('FULL TRUSTEE LIST'!B2033=\"\",\"\",'FULL TRUSTEE LIST'!B2033&\" \"&'FULL TRUSTEE LIST'!C2033)","v":""}]
[{"$f":"IF('FULL TRUSTEE LIST'!B2034=\"\",\"\",'FULL TRUSTEE LIST'!B2034&\" \"&'FULL TRUSTEE LIST'!C2034)","v":""}]
[{"$f":"IF('FULL TRUSTEE LIST'!B2035=\"\",\"\",'FULL TRUSTEE LIST'!B2035&\" \"&'FULL TRUSTEE LIST'!C2035)","v":""}]
[{"$f":"IF('FULL TRUSTEE LIST'!B2036=\"\",\"\",'FULL TRUSTEE LIST'!B2036&\" \"&'FULL TRUSTEE LIST'!C2036)","v":""}]
[{"$f":"IF('FULL TRUSTEE LIST'!B2037=\"\",\"\",'FULL TRUSTEE LIST'!B2037&\" \"&'FULL TRUSTEE LIST'!C2037)","v":""}]
[{"$f":"IF('FULL TRUSTEE LIST'!B2038=\"\",\"\",'FULL TRUSTEE LIST'!B2038&\" \"&'FULL TRUSTEE LIST'!C2038)","v":""}]
[{"$f":"IF('FULL TRUSTEE LIST'!B2039=\"\",\"\",'FULL TRUSTEE LIST'!B2039&\" \"&'FULL TRUSTEE LIST'!C2039)","v":""}]
[{"$f":"IF('FULL TRUSTEE LIST'!B2040=\"\",\"\",'FULL TRUSTEE LIST'!B2040&\" \"&'FULL TRUSTEE LIST'!C2040)","v":""}]
[{"$f":"IF('FULL TRUSTEE LIST'!B2041=\"\",\"\",'FULL TRUSTEE LIST'!B2041&\" \"&'FULL TRUSTEE LIST'!C2041)","v":""}]
[{"$f":"IF('FULL TRUSTEE LIST'!B2042=\"\",\"\",'FULL TRUSTEE LIST'!B2042&\" \"&'FULL TRUSTEE LIST'!C2042)","v":""}]
[{"$f":"IF('FULL TRUSTEE LIST'!B2043=\"\",\"\",'FULL TRUSTEE LIST'!B2043&\" \"&'FULL TRUSTEE LIST'!C2043)","v":""}]
[{"$f":"IF('FULL TRUSTEE LIST'!B2044=\"\",\"\",'FULL TRUSTEE LIST'!B2044&\" \"&'FULL TRUSTEE LIST'!C2044)","v":""}]
[{"$f":"IF('FULL TRUSTEE LIST'!B2045=\"\",\"\",'FULL TRUSTEE LIST'!B2045&\" \"&'FULL TRUSTEE LIST'!C2045)","v":""}]
[{"$f":"IF('FULL TRUSTEE LIST'!B2046=\"\",\"\",'FULL TRUSTEE LIST'!B2046&\" \"&'FULL TRUSTEE LIST'!C2046)","v":""}]
[{"$f":"IF('FULL TRUSTEE LIST'!B2047=\"\",\"\",'FULL TRUSTEE LIST'!B2047&\" \"&'FULL TRUSTEE LIST'!C2047)","v":""}]
[{"$f":"IF('FULL TRUSTEE LIST'!B2048=\"\",\"\",'FULL TRUSTEE LIST'!B2048&\" \"&'FULL TRUSTEE LIST'!C2048)","v":""}]
[{"$f":"IF('FULL TRUSTEE LIST'!B2049=\"\",\"\",'FULL TRUSTEE LIST'!B2049&\" \"&'FULL TRUSTEE LIST'!C2049)","v":""}]
[{"$f":"IF('FULL TRUSTEE LIST'!B2051=\"\",\"\",'FULL TRUSTEE LIST'!B2051&\" \"&'FULL TRUSTEE LIST'!C2051)","v":""}]
[{"$f":"IF('FULL TRUSTEE LIST'!B2052=\"\",\"\",'FULL TRUSTEE LIST'!B2052&\" \"&'FULL TRUSTEE LIST'!C2052)","v":""}]
[{"$f":"IF('FULL TRUSTEE LIST'!B2053=\"\",\"\",'FULL TRUSTEE LIST'!B2053&\" \"&'FULL TRUSTEE LIST'!C2053)","v":""}]
[{"$f":"IF('FULL TRUSTEE LIST'!B2054=\"\",\"\",'FULL TRUSTEE LIST'!B2054&\" \"&'FULL TRUSTEE LIST'!C2054)","v":""}]
[{"$f":"IF('FULL TRUSTEE LIST'!B2055=\"\",\"\",'FULL TRUSTEE LIST'!B2055&\" \"&'FULL TRUSTEE LIST'!C2055)","v":""}]
[{"$f":"IF('FULL TRUSTEE LIST'!B2056=\"\",\"\",'FULL TRUSTEE LIST'!B2056&\" \"&'FULL TRUSTEE LIST'!C2056)","v":""}]
[{"$f":"IF('FULL TRUSTEE LIST'!B2057=\"\",\"\",'FULL TRUSTEE LIST'!B2057&\" \"&'FULL TRUSTEE LIST'!C2057)","v":""}]
[{"$f":"IF('FULL TRUSTEE LIST'!B2058=\"\",\"\",'FULL TRUSTEE LIST'!B2058&\" \"&'FULL TRUSTEE LIST'!C2058)","v":""}]
[{"$f":"IF('FULL TRUSTEE LIST'!B2059=\"\",\"\",'FULL TRUSTEE LIST'!B2059&\" \"&'FULL TRUSTEE LIST'!C2059)","v":""}]
[{"$f":"IF('FULL TRUSTEE LIST'!B2060=\"\",\"\",'FULL TRUSTEE LIST'!B2060&\" \"&'FULL TRUSTEE LIST'!C2060)","v":""}]
[{"$f":"IF('FULL TRUSTEE LIST'!B2061=\"\",\"\",'FULL TRUSTEE LIST'!B2061&\" \"&'FULL TRUSTEE LIST'!C2061)","v":""}]
[{"$f":"IF('FULL TRUSTEE LIST'!B2062=\"\",\"\",'FULL TRUSTEE LIST'!B2062&\" \"&'FULL TRUSTEE LIST'!C2062)","v":""}]
[{"$f":"IF('FULL TRUSTEE LIST'!B2063=\"\",\"\",'FULL TRUSTEE LIST'!B2063&\" \"&'FULL TRUSTEE LIST'!C2063)","v":""}]
[{"$f":"IF('FULL TRUSTEE LIST'!B2064=\"\",\"\",'FULL TRUSTEE LIST'!B2064&\" \"&'FULL TRUSTEE LIST'!C2064)","v":""}]
[{"$f":"IF('FULL TRUSTEE LIST'!B2065=\"\",\"\",'FULL TRUSTEE LIST'!B2065&\" \"&'FULL TRUSTEE LIST'!C2065)","v":""}]
[{"$f":"IF('FULL TRUSTEE LIST'!B2066=\"\",\"\",'FULL TRUSTEE LIST'!B2066&\" \"&'FULL TRUSTEE LIST'!C2066)","v":""}]
[{"$f":"IF('FULL TRUSTEE LIST'!B2067=\"\",\"\",'FULL TRUSTEE LIST'!B2067&\" \"&'FULL TRUSTEE LIST'!C2067)","v":""}]
[{"$f":"IF('FULL TRUSTEE LIST'!B2068=\"\",\"\",'FULL TRUSTEE LIST'!B2068&\" \"&'FULL TRUSTEE LIST'!C2068)","v":""}]
[{"$f":"IF('FULL TRUSTEE LIST'!B2069=\"\",\"\",'FULL TRUSTEE LIST'!B2069&\" \"&'FULL TRUSTEE LIST'!C2069)","v":""}]
[{"$f":"IF('FULL TRUSTEE LIST'!B2070=\"\",\"\",'FULL TRUSTEE LIST'!B2070&\" \"&'FULL TRUSTEE LIST'!C2070)","v":""}]
[{"$f":"IF('FULL TRUSTEE LIST'!B2071=\"\",\"\",'FULL TRUSTEE LIST'!B2071&\" \"&'FULL TRUSTEE LIST'!C2071)","v":""}]
[{"$f":"IF('FULL TRUSTEE LIST'!B2072=\"\",\"\",'FULL TRUSTEE LIST'!B2072&\" \"&'FULL TRUSTEE LIST'!C2072)","v":""}]
[{"$f":"IF('FULL TRUSTEE LIST'!B2073=\"\",\"\",'FULL TRUSTEE LIST'!B2073&\" \"&'FULL TRUSTEE LIST'!C2073)","v":""}]
[{"$f":"IF('FULL TRUSTEE LIST'!B2074=\"\",\"\",'FULL TRUSTEE LIST'!B2074&\" \"&'FULL TRUSTEE LIST'!C2074)","v":""}]
[{"$f":"IF('FULL TRUSTEE LIST'!B2075=\"\",\"\",'FULL TRUSTEE LIST'!B2075&\" \"&'FULL TRUSTEE LIST'!C2075)","v":""}]
[{"$f":"IF('FULL TRUSTEE LIST'!B2076=\"\",\"\",'FULL TRUSTEE LIST'!B2076&\" \"&'FULL TRUSTEE LIST'!C2076)","v":""}]
[{"$f":"IF('FULL TRUSTEE LIST'!B2077=\"\",\"\",'FULL TRUSTEE LIST'!B2077&\" \"&'FULL TRUSTEE LIST'!C2077)","v":""}]
[{"$f":"IF('FULL TRUSTEE LIST'!B2078=\"\",\"\",'FULL TRUSTEE LIST'!B2078&\" \"&'FULL TRUSTEE LIST'!C2078)","v":""}]
[{"$f":"IF('FULL TRUSTEE LIST'!B2079=\"\",\"\",'FULL TRUSTEE LIST'!B2079&\" \"&'FULL TRUSTEE LIST'!C2079)","v":""}]
[{"$f":"IF('FULL TRUSTEE LIST'!B2080=\"\",\"\",'FULL TRUSTEE LIST'!B2080&\" \"&'FULL TRUSTEE LIST'!C2080)","v":""}]
[{"$f":"IF('FULL TRUSTEE LIST'!B2081=\"\",\"\",'FULL TRUSTEE LIST'!B2081&\" \"&'FULL TRUSTEE LIST'!C2081)","v":""}]
[{"$f":"IF('FULL TRUSTEE LIST'!B2082=\"\",\"\",'FULL TRUSTEE LIST'!B2082&\" \"&'FULL TRUSTEE LIST'!C2082)","v":""}]
[{"$f":"IF('FULL TRUSTEE LIST'!B2083=\"\",\"\",'FULL TRUSTEE LIST'!B2083&\" \"&'FULL TRUSTEE LIST'!C2083)","v":""}]
[{"$f":"IF('FULL TRUSTEE LIST'!B2084=\"\",\"\",'FULL TRUSTEE LIST'!B2084&\" \"&'FULL TRUSTEE LIST'!C2084)","v":""}]
[{"$f":"IF('FULL TRUSTEE LIST'!B2085=\"\",\"\",'FULL TRUSTEE LIST'!B2085&\" \"&'FULL TRUSTEE LIST'!C2085)","v":""}]
[{"$f":"IF('FULL TRUSTEE LIST'!B2086=\"\",\"\",'FULL TRUSTEE LIST'!B2086&\" \"&'FULL TRUSTEE LIST'!C2086)","v":""}]
[{"$f":"IF('FULL TRUSTEE LIST'!B2087=\"\",\"\",'FULL TRUSTEE LIST'!B2087&\" \"&'FULL TRUSTEE LIST'!C2087)","v":""}]
[{"$f":"IF('FULL TRUSTEE LIST'!B2088=\"\",\"\",'FULL TRUSTEE LIST'!B2088&\" \"&'FULL TRUSTEE LIST'!C2088)","v":""}]
[{"$f":"IF('FULL TRUSTEE LIST'!B2089=\"\",\"\",'FULL TRUSTEE LIST'!B2089&\" \"&'FULL TRUSTEE LIST'!C2089)","v":""}]
[{"$f":"IF('FULL TRUSTEE LIST'!B2090=\"\",\"\",'FULL TRUSTEE LIST'!B2090&\" \"&'FULL TRUSTEE LIST'!C2090)","v":""}]
[{"$f":"IF('FULL TRUSTEE LIST'!B2091=\"\",\"\",'FULL TRUSTEE LIST'!B2091&\" \"&'FULL TRUSTEE LIST'!C2091)","v":""}]
[{"$f":"IF('FULL TRUSTEE LIST'!B2092=\"\",\"\",'FULL TRUSTEE LIST'!B2092&\" \"&'FULL TRUSTEE LIST'!C2092)","v":""}]
[{"$f":"IF('FULL TRUSTEE LIST'!B2093=\"\",\"\",'FULL TRUSTEE LIST'!B2093&\" \"&'FULL TRUSTEE LIST'!C2093)","v":""}]
[{"$f":"IF('FULL TRUSTEE LIST'!B2094=\"\",\"\",'FULL TRUSTEE LIST'!B2094&\" \"&'FULL TRUSTEE LIST'!C2094)","v":""}]
[{"$f":"IF('FULL TRUSTEE LIST'!B2095=\"\",\"\",'FULL TRUSTEE LIST'!B2095&\" \"&'FULL TRUSTEE LIST'!C2095)","v":""}]
[{"$f":"IF('FULL TRUSTEE LIST'!B2096=\"\",\"\",'FULL TRUSTEE LIST'!B2096&\" \"&'FULL TRUSTEE LIST'!C2096)","v":""}]
[{"$f":"IF('FULL TRUSTEE LIST'!B2097=\"\",\"\",'FULL TRUSTEE LIST'!B2097&\" \"&'FULL TRUSTEE LIST'!C2097)","v":""}]
[{"$f":"IF('FULL TRUSTEE LIST'!B2098=\"\",\"\",'FULL TRUSTEE LIST'!B2098&\" \"&'FULL TRUSTEE LIST'!C2098)","v":""}]
[{"$f":"IF('FULL TRUSTEE LIST'!B2099=\"\",\"\",'FULL TRUSTEE LIST'!B2099&\" \"&'FULL TRUSTEE LIST'!C2099)","v":""}]
[{"$f":"IF('FULL TRUSTEE LIST'!B2100=\"\",\"\",'FULL TRUSTEE LIST'!B2100&\" \"&'FULL TRUSTEE LIST'!C2100)","v":""}]
[{"$f":"IF('FULL TRUSTEE LIST'!B2101=\"\",\"\",'FULL TRUSTEE LIST'!B2101&\" \"&'FULL TRUSTEE LIST'!C2101)","v":""}]
[{"$f":"IF('FULL TRUSTEE LIST'!B2102=\"\",\"\",'FULL TRUSTEE LIST'!B2102&\" \"&'FULL TRUSTEE LIST'!C2102)","v":""}]
[{"$f":"IF('FULL TRUSTEE LIST'!B2103=\"\",\"\",'FULL TRUSTEE LIST'!B2103&\" \"&'FULL TRUSTEE LIST'!C2103)","v":""}]
[{"$f":"IF('FULL TRUSTEE LIST'!B2104=\"\",\"\",'FULL TRUSTEE LIST'!B2104&\" \"&'FULL TRUSTEE LIST'!C2104)","v":""}]
[{"$f":"IF('FULL TRUSTEE LIST'!B2105=\"\",\"\",'FULL TRUSTEE LIST'!B2105&\" \"&'FULL TRUSTEE LIST'!C2105)","v":""}]
[{"$f":"IF('FULL TRUSTEE LIST'!B2106=\"\",\"\",'FULL TRUSTEE LIST'!B2106&\" \"&'FULL TRUSTEE LIST'!C2106)","v":""}]
[{"$f":"IF('FULL TRUSTEE LIST'!B2107=\"\",\"\",'FULL TRUSTEE LIST'!B2107&\" \"&'FULL TRUSTEE LIST'!C2107)","v":""}]
[{"$f":"IF('FULL TRUSTEE LIST'!B2108=\"\",\"\",'FULL TRUSTEE LIST'!B2108&\" \"&'FULL TRUSTEE LIST'!C2108)","v":""}]
[{"$f":"IF('FULL TRUSTEE LIST'!B2109=\"\",\"\",'FULL TRUSTEE LIST'!B2109&\" \"&'FULL TRUSTEE LIST'!C2109)","v":""}]
[{"$f":"IF('FULL TRUSTEE LIST'!B2110=\"\",\"\",'FULL TRUSTEE LIST'!B2110&\" \"&'FULL TRUSTEE LIST'!C2110)","v":""}]
[{"$f":"IF('FULL TRUSTEE LIST'!B2111=\"\",\"\",'FULL TRUSTEE LIST'!B2111&\" \"&'FULL TRUSTEE LIST'!C2111)","v":""}]
[{"$f":"IF('FULL TRUSTEE LIST'!B2112=\"\",\"\",'FULL TRUSTEE LIST'!B2112&\" \"&'FULL TRUSTEE LIST'!C2112)","v":""}]
[{"$f":"IF('FULL TRUSTEE LIST'!B2113=\"\",\"\",'FULL TRUSTEE LIST'!B2113&\" \"&'FULL TRUSTEE LIST'!C2113)","v":""}]
[{"$f":"IF('FULL TRUSTEE LIST'!B2114=\"\",\"\",'FULL TRUSTEE LIST'!B2114&\" \"&'FULL TRUSTEE LIST'!C2114)","v":""}]
[{"$f":"IF('FULL TRUSTEE LIST'!B2115=\"\",\"\",'FULL TRUSTEE LIST'!B2115&\" \"&'FULL TRUSTEE LIST'!C2115)","v":""}]
[{"$f":"IF('FULL TRUSTEE LIST'!B2116=\"\",\"\",'FULL TRUSTEE LIST'!B2116&\" \"&'FULL TRUSTEE LIST'!C2116)","v":""}]
[{"$f":"IF('FULL TRUSTEE LIST'!B2117=\"\",\"\",'FULL TRUSTEE LIST'!B2117&\" \"&'FULL TRUSTEE LIST'!C2117)","v":""}]
[{"$f":"IF('FULL TRUSTEE LIST'!B2118=\"\",\"\",'FULL TRUSTEE LIST'!B2118&\" \"&'FULL TRUSTEE LIST'!C2118)","v":""}]
[{"$f":"IF('FULL TRUSTEE LIST'!B2119=\"\",\"\",'FULL TRUSTEE LIST'!B2119&\" \"&'FULL TRUSTEE LIST'!C2119)","v":""}]
[{"$f":"IF('FULL TRUSTEE LIST'!B2120=\"\",\"\",'FULL TRUSTEE LIST'!B2120&\" \"&'FULL TRUSTEE LIST'!C2120)","v":""}]
[{"$f":"IF('FULL TRUSTEE LIST'!B2121=\"\",\"\",'FULL TRUSTEE LIST'!B2121&\" \"&'FULL TRUSTEE LIST'!C2121)","v":""}]
[{"$f":"IF('FULL TRUSTEE LIST'!B2122=\"\",\"\",'FULL TRUSTEE LIST'!B2122&\" \"&'FULL TRUSTEE LIST'!C2122)","v":""}]
[{"$f":"IF('FULL TRUSTEE LIST'!B2123=\"\",\"\",'FULL TRUSTEE LIST'!B2123&\" \"&'FULL TRUSTEE LIST'!C2123)","v":""}]
[{"$f":"IF('FULL TRUSTEE LIST'!B2124=\"\",\"\",'FULL TRUSTEE LIST'!B2124&\" \"&'FULL TRUSTEE LIST'!C2124)","v":""}]
[{"$f":"IF('FULL TRUSTEE LIST'!B2125=\"\",\"\",'FULL TRUSTEE LIST'!B2125&\" \"&'FULL TRUSTEE LIST'!C2125)","v":""}]
[{"$f":"IF('FULL TRUSTEE LIST'!B2126=\"\",\"\",'FULL TRUSTEE LIST'!B2126&\" \"&'FULL TRUSTEE LIST'!C2126)","v":""}]
[{"$f":"IF('FULL TRUSTEE LIST'!B2127=\"\",\"\",'FULL TRUSTEE LIST'!B2127&\" \"&'FULL TRUSTEE LIST'!C2127)","v":""}]
[{"$f":"IF('FULL TRUSTEE LIST'!B2128=\"\",\"\",'FULL TRUSTEE LIST'!B2128&\" \"&'FULL TRUSTEE LIST'!C2128)","v":""}]
[{"$f":"IF('FULL TRUSTEE LIST'!B2129=\"\",\"\",'FULL TRUSTEE LIST'!B2129&\" \"&'FULL TRUSTEE LIST'!C2129)","v":""}]
[{"$f":"IF('FULL TRUSTEE LIST'!B2130=\"\",\"\",'FULL TRUSTEE LIST'!B2130&\" \"&'FULL TRUSTEE LIST'!C2130)","v":""}]
[{"$f":"IF('FULL TRUSTEE LIST'!B2131=\"\",\"\",'FULL TRUSTEE LIST'!B2131&\" \"&'FULL TRUSTEE LIST'!C2131)","v":""}]
[{"$f":"IF('FULL TRUSTEE LIST'!B2132=\"\",\"\",'FULL TRUSTEE LIST'!B2132&\" \"&'FULL TRUSTEE LIST'!C2132)","v":""}]
[{"$f":"IF('FULL TRUSTEE LIST'!B2133=\"\",\"\",'FULL TRUSTEE LIST'!B2133&\" \"&'FULL TRUSTEE LIST'!C2133)","v":""}]
[{"$f":"IF('FULL TRUSTEE LIST'!B2134=\"\",\"\",'FULL TRUSTEE LIST'!B2134&\" \"&'FULL TRUSTEE LIST'!C2134)","v":""}]
[{"$f":"IF('FULL TRUSTEE LIST'!B2135=\"\",\"\",'FULL TRUSTEE LIST'!B2135&\" \"&'FULL TRUSTEE LIST'!C2135)","v":""}]
[{"$f":"IF('FULL TRUSTEE LIST'!B2136=\"\",\"\",'FULL TRUSTEE LIST'!B2136&\" \"&'FULL TRUSTEE LIST'!C2136)","v":""}]
[{"$f":"IF('FULL TRUSTEE LIST'!B2137=\"\",\"\",'FULL TRUSTEE LIST'!B2137&\" \"&'FULL TRUSTEE LIST'!C2137)","v":""}]
[{"$f":"IF('FULL TRUSTEE LIST'!B2138=\"\",\"\",'FULL TRUSTEE LIST'!B2138&\" \"&'FULL TRUSTEE LIST'!C2138)","v":""}]
[{"$f":"IF('FULL TRUSTEE LIST'!B2139=\"\",\"\",'FULL TRUSTEE LIST'!B2139&\" \"&'FULL TRUSTEE LIST'!C2139)","v":""}]
[{"$f":"IF('FULL TRUSTEE LIST'!B2140=\"\",\"\",'FULL TRUSTEE LIST'!B2140&\" \"&'FULL TRUSTEE LIST'!C2140)","v":""}]
[{"$f":"IF('FULL TRUSTEE LIST'!B2141=\"\",\"\",'FULL TRUSTEE LIST'!B2141&\" \"&'FULL TRUSTEE LIST'!C2141)","v":""}]
[{"$f":"IF('FULL TRUSTEE LIST'!B2142=\"\",\"\",'FULL TRUSTEE LIST'!B2142&\" \"&'FULL TRUSTEE LIST'!C2142)","v":""}]
[{"$f":"IF('FULL TRUSTEE LIST'!B2143=\"\",\"\",'FULL TRUSTEE LIST'!B2143&\" \"&'FULL TRUSTEE LIST'!C2143)","v":""}]
[{"$f":"IF('FULL TRUSTEE LIST'!B2144=\"\",\"\",'FULL TRUSTEE LIST'!B2144&\" \"&'FULL TRUSTEE LIST'!C2144)","v":""}]
[{"$f":"IF('FULL TRUSTEE LIST'!B2145=\"\",\"\",'FULL TRUSTEE LIST'!B2145&\" \"&'FULL TRUSTEE LIST'!C2145)","v":""}]
[{"$f":"IF('FULL TRUSTEE LIST'!B2146=\"\",\"\",'FULL TRUSTEE LIST'!B2146&\" \"&'FULL TRUSTEE LIST'!C2146)","v":""}]
[{"$f":"IF('FULL TRUSTEE LIST'!B2147=\"\",\"\",'FULL TRUSTEE LIST'!B2147&\" \"&'FULL TRUSTEE LIST'!C2147)","v":""}]
[{"$f":"IF('FULL TRUSTEE LIST'!B2148=\"\",\"\",'FULL TRUSTEE LIST'!B2148&\" \"&'FULL TRUSTEE LIST'!C2148)","v":""}]
[{"$f":"IF('FULL TRUSTEE LIST'!B2149=\"\",\"\",'FULL TRUSTEE LIST'!B2149&\" \"&'FULL TRUSTEE LIST'!C2149)","v":""}]
[{"$f":"IF('FULL TRUSTEE LIST'!B2150=\"\",\"\",'FULL TRUSTEE LIST'!B2150&\" \"&'FULL TRUSTEE LIST'!C2150)","v":""}]
[{"$f":"IF('FULL TRUSTEE LIST'!B2151=\"\",\"\",'FULL TRUSTEE LIST'!B2151&\" \"&'FULL TRUSTEE LIST'!C2151)","v":""}]
[{"$f":"IF('FULL TRUSTEE LIST'!B2152=\"\",\"\",'FULL TRUSTEE LIST'!B2152&\" \"&'FULL TRUSTEE LIST'!C2152)","v":""}]
[{"$f":"IF('FULL TRUSTEE LIST'!B2153=\"\",\"\",'FULL TRUSTEE LIST'!B2153&\" \"&'FULL TRUSTEE LIST'!C2153)","v":""}]
[{"$f":"IF('FULL TRUSTEE LIST'!B2154=\"\",\"\",'FULL TRUSTEE LIST'!B2154&\" \"&'FULL TRUSTEE LIST'!C2154)","v":""}]
[{"$f":"IF('FULL TRUSTEE LIST'!B2155=\"\",\"\",'FULL TRUSTEE LIST'!B2155&\" \"&'FULL TRUSTEE LIST'!C2155)","v":""}]
[{"$f":"IF('FULL TRUSTEE LIST'!B2156=\"\",\"\",'FULL TRUSTEE LIST'!B2156&\" \"&'FULL TRUSTEE LIST'!C2156)","v":""}]
[{"$f":"IF('FULL TRUSTEE LIST'!B2157=\"\",\"\",'FULL TRUSTEE LIST'!B2157&\" \"&'FULL TRUSTEE LIST'!C2157)","v":""}]
[{"$f":"IF('FULL TRUSTEE LIST'!B2158=\"\",\"\",'FULL TRUSTEE LIST'!B2158&\" \"&'FULL TRUSTEE LIST'!C2158)","v":""}]
[{"$f":"IF('FULL TRUSTEE LIST'!B2159=\"\",\"\",'FULL TRUSTEE LIST'!B2159&\" \"&'FULL TRUSTEE LIST'!C2159)","v":""}]
[{"$f":"IF('FULL TRUSTEE LIST'!B2160=\"\",\"\",'FULL TRUSTEE LIST'!B2160&\" \"&'FULL TRUSTEE LIST'!C2160)","v":""}]
[{"$f":"IF('FULL TRUSTEE LIST'!B2161=\"\",\"\",'FULL TRUSTEE LIST'!B2161&\" \"&'FULL TRUSTEE LIST'!C2161)","v":""}]
[{"$f":"IF('FULL TRUSTEE LIST'!B2162=\"\",\"\",'FULL TRUSTEE LIST'!B2162&\" \"&'FULL TRUSTEE LIST'!C2162)","v":""}]
[{"$f":"IF('FULL TRUSTEE LIST'!B2163=\"\",\"\",'FULL TRUSTEE LIST'!B2163&\" \"&'FULL TRUSTEE LIST'!C2163)","v":""}]
[{"$f":"IF('FULL TRUSTEE LIST'!B2164=\"\",\"\",'FULL TRUSTEE LIST'!B2164&\" \"&'FULL TRUSTEE LIST'!C2164)","v":""}]
[{"$f":"IF('FULL TRUSTEE LIST'!B2165=\"\",\"\",'FULL TRUSTEE LIST'!B2165&\" \"&'FULL TRUSTEE LIST'!C2165)","v":""}]
[{"$f":"IF('FULL TRUSTEE LIST'!B2166=\"\",\"\",'FULL TRUSTEE LIST'!B2166&\" \"&'FULL TRUSTEE LIST'!C2166)","v":""}]
[{"$f":"IF('FULL TRUSTEE LIST'!B2167=\"\",\"\",'FULL TRUSTEE LIST'!B2167&\" \"&'FULL TRUSTEE LIST'!C2167)","v":""}]
[{"$f":"IF('FULL TRUSTEE LIST'!B2168=\"\",\"\",'FULL TRUSTEE LIST'!B2168&\" \"&'FULL TRUSTEE LIST'!C2168)","v":""}]
[{"$f":"IF('FULL TRUSTEE LIST'!B2169=\"\",\"\",'FULL TRUSTEE LIST'!B2169&\" \"&'FULL TRUSTEE LIST'!C2169)","v":""}]
[{"$f":"IF('FULL TRUSTEE LIST'!B2170=\"\",\"\",'FULL TRUSTEE LIST'!B2170&\" \"&'FULL TRUSTEE LIST'!C2170)","v":""}]
[{"$f":"IF('FULL TRUSTEE LIST'!B2171=\"\",\"\",'FULL TRUSTEE LIST'!B2171&\" \"&'FULL TRUSTEE LIST'!C2171)","v":""}]
[{"$f":"IF('FULL TRUSTEE LIST'!B2172=\"\",\"\",'FULL TRUSTEE LIST'!B2172&\" \"&'FULL TRUSTEE LIST'!C2172)","v":""}]
[{"$f":"IF('FULL TRUSTEE LIST'!B2173=\"\",\"\",'FULL TRUSTEE LIST'!B2173&\" \"&'FULL TRUSTEE LIST'!C2173)","v":""}]
[{"$f":"IF('FULL TRUSTEE LIST'!B2174=\"\",\"\",'FULL TRUSTEE LIST'!B2174&\" \"&'FULL TRUSTEE LIST'!C2174)","v":""}]
[{"$f":"IF('FULL TRUSTEE LIST'!B2175=\"\",\"\",'FULL TRUSTEE LIST'!B2175&\" \"&'FULL TRUSTEE LIST'!C2175)","v":""}]
[{"$f":"IF('FULL TRUSTEE LIST'!B2176=\"\",\"\",'FULL TRUSTEE LIST'!B2176&\" \"&'FULL TRUSTEE LIST'!C2176)","v":""}]
[{"$f":"IF('FULL TRUSTEE LIST'!B2177=\"\",\"\",'FULL TRUSTEE LIST'!B2177&\" \"&'FULL TRUSTEE LIST'!C2177)","v":""}]
[{"$f":"IF('FULL TRUSTEE LIST'!B2178=\"\",\"\",'FULL TRUSTEE LIST'!B2178&\" \"&'FULL TRUSTEE LIST'!C2178)","v":""}]
[{"$f":"IF('FULL TRUSTEE LIST'!B2179=\"\",\"\",'FULL TRUSTEE LIST'!B2179&\" \"&'FULL TRUSTEE LIST'!C2179)","v":""}]
[{"$f":"IF('FULL TRUSTEE LIST'!B2180=\"\",\"\",'FULL TRUSTEE LIST'!B2180&\" \"&'FULL TRUSTEE LIST'!C2180)","v":""}]
[{"$f":"IF('FULL TRUSTEE LIST'!B2181=\"\",\"\",'FULL TRUSTEE LIST'!B2181&\" \"&'FULL TRUSTEE LIST'!C2181)","v":""}]
[{"$f":"IF('FULL TRUSTEE LIST'!B2182=\"\",\"\",'FULL TRUSTEE LIST'!B2182&\" \"&'FULL TRUSTEE LIST'!C2182)","v":""}]
[{"$f":"IF('FULL TRUSTEE LIST'!B2183=\"\",\"\",'FULL TRUSTEE LIST'!B2183&\" \"&'FULL TRUSTEE LIST'!C2183)","v":""}]
[{"$f":"IF('FULL TRUSTEE LIST'!B2184=\"\",\"\",'FULL TRUSTEE LIST'!B2184&\" \"&'FULL TRUSTEE LIST'!C2184)","v":""}]
[{"$f":"IF('FULL TRUSTEE LIST'!B2185=\"\",\"\",'FULL TRUSTEE LIST'!B2185&\" \"&'FULL TRUSTEE LIST'!C2185)","v":""}]
[{"$f":"IF('FULL TRUSTEE LIST'!B2186=\"\",\"\",'FULL TRUSTEE LIST'!B2186&\" \"&'FULL TRUSTEE LIST'!C2186)","v":""}]
[{"$f":"IF('FULL TRUSTEE LIST'!B2187=\"\",\"\",'FULL TRUSTEE LIST'!B2187&\" \"&'FULL TRUSTEE LIST'!C2187)","v":""}]
[{"$f":"IF('FULL TRUSTEE LIST'!B2188=\"\",\"\",'FULL TRUSTEE LIST'!B2188&\" \"&'FULL TRUSTEE LIST'!C2188)","v":""}]
[{"$f":"IF('FULL TRUSTEE LIST'!B2189=\"\",\"\",'FULL TRUSTEE LIST'!B2189&\" \"&'FULL TRUSTEE LIST'!C2189)","v":""}]
[{"$f":"IF('FULL TRUSTEE LIST'!B2190=\"\",\"\",'FULL TRUSTEE LIST'!B2190&\" \"&'FULL TRUSTEE LIST'!C2190)","v":""}]
[{"$f":"IF('FULL TRUSTEE LIST'!B2191=\"\",\"\",'FULL TRUSTEE LIST'!B2191&\" \"&'FULL TRUSTEE LIST'!C2191)","v":""}]
[{"$f":"IF('FULL TRUSTEE LIST'!B2192=\"\",\"\",'FULL TRUSTEE LIST'!B2192&\" \"&'FULL TRUSTEE LIST'!C2192)","v":""}]
[{"$f":"IF('FULL TRUSTEE LIST'!B2193=\"\",\"\",'FULL TRUSTEE LIST'!B2193&\" \"&'FULL TRUSTEE LIST'!C2193)","v":""}]
[{"$f":"IF('FULL TRUSTEE LIST'!B2194=\"\",\"\",'FULL TRUSTEE LIST'!B2194&\" \"&'FULL TRUSTEE LIST'!C2194)","v":""}]
[{"$f":"IF('FULL TRUSTEE LIST'!B2195=\"\",\"\",'FULL TRUSTEE LIST'!B2195&\" \"&'FULL TRUSTEE LIST'!C2195)","v":""}]
[{"$f":"IF('FULL TRUSTEE LIST'!B2196=\"\",\"\",'FULL TRUSTEE LIST'!B2196&\" \"&'FULL TRUSTEE LIST'!C2196)","v":""}]
[{"$f":"IF('FULL TRUSTEE LIST'!B2197=\"\",\"\",'FULL TRUSTEE LIST'!B2197&\" \"&'FULL TRUSTEE LIST'!C2197)","v":""}]
[{"$f":"IF('FULL TRUSTEE LIST'!B2198=\"\",\"\",'FULL TRUSTEE LIST'!B2198&\" \"&'FULL TRUSTEE LIST'!C2198)","v":""}]
[{"$f":"IF('FULL TRUSTEE LIST'!B2199=\"\",\"\",'FULL TRUSTEE LIST'!B2199&\" \"&'FULL TRUSTEE LIST'!C2199)","v":""}]
[{"$f":"IF('FULL TRUSTEE LIST'!B2200=\"\",\"\",'FULL TRUSTEE LIST'!B2200&\" \"&'FULL TRUSTEE LIST'!C2200)","v":""}]
[{"$f":"IF('FULL TRUSTEE LIST'!B2201=\"\",\"\",'FULL TRUSTEE LIST'!B2201&\" \"&'FULL TRUSTEE LIST'!C2201)","v":""}]
[{"$f":"IF('FULL TRUSTEE LIST'!B2202=\"\",\"\",'FULL TRUSTEE LIST'!B2202&\" \"&'FULL TRUSTEE LIST'!C2202)","v":""}]
[{"$f":"IF('FULL TRUSTEE LIST'!B2203=\"\",\"\",'FULL TRUSTEE LIST'!B2203&\" \"&'FULL TRUSTEE LIST'!C2203)","v":""}]
[{"$f":"IF('FULL TRUSTEE LIST'!B2204=\"\",\"\",'FULL TRUSTEE LIST'!B2204&\" \"&'FULL TRUSTEE LIST'!C2204)","v":""}]
[{"$f":"IF('FULL TRUSTEE LIST'!B2205=\"\",\"\",'FULL TRUSTEE LIST'!B2205&\" \"&'FULL TRUSTEE LIST'!C2205)","v":""}]
[{"$f":"IF('FULL TRUSTEE LIST'!B2206=\"\",\"\",'FULL TRUSTEE LIST'!B2206&\" \"&'FULL TRUSTEE LIST'!C2206)","v":""}]
[{"$f":"IF('FULL TRUSTEE LIST'!B2207=\"\",\"\",'FULL TRUSTEE LIST'!B2207&\" \"&'FULL TRUSTEE LIST'!C2207)","v":""}]
[{"$f":"IF('FULL TRUSTEE LIST'!B2208=\"\",\"\",'FULL TRUSTEE LIST'!B2208&\" \"&'FULL TRUSTEE LIST'!C2208)","v":""}]
[{"$f":"IF('FULL TRUSTEE LIST'!B2209=\"\",\"\",'FULL TRUSTEE LIST'!B2209&\" \"&'FULL TRUSTEE LIST'!C2209)","v":""}]
[{"$f":"IF('FULL TRUSTEE LIST'!B2210=\"\",\"\",'FULL TRUSTEE LIST'!B2210&\" \"&'FULL TRUSTEE LIST'!C2210)","v":""}]
[{"$f":"IF('FULL TRUSTEE LIST'!B2211=\"\",\"\",'FULL TRUSTEE LIST'!B2211&\" \"&'FULL TRUSTEE LIST'!C2211)","v":""}]
[{"$f":"IF('FULL TRUSTEE LIST'!B2212=\"\",\"\",'FULL TRUSTEE LIST'!B2212&\" \"&'FULL TRUSTEE LIST'!C2212)","v":""}]
[{"$f":"IF('FULL TRUSTEE LIST'!B2213=\"\",\"\",'FULL TRUSTEE LIST'!B2213&\" \"&'FULL TRUSTEE LIST'!C2213)","v":""}]
[{"$f":"IF('FULL TRUSTEE LIST'!B2214=\"\",\"\",'FULL TRUSTEE LIST'!B2214&\" \"&'FULL TRUSTEE LIST'!C2214)","v":""}]
[{"$f":"IF('FULL TRUSTEE LIST'!B2215=\"\",\"\",'FULL TRUSTEE LIST'!B2215&\" \"&'FULL TRUSTEE LIST'!C2215)","v":""}]
[{"$f":"IF('FULL TRUSTEE LIST'!B2216=\"\",\"\",'FULL TRUSTEE LIST'!B2216&\" \"&'FULL TRUSTEE LIST'!C2216)","v":""}]
[{"$f":"IF('FULL TRUSTEE LIST'!B2217=\"\",\"\",'FULL TRUSTEE LIST'!B2217&\" \"&'FULL TRUSTEE LIST'!C2217)","v":""}]
[{"$f":"IF('FULL TRUSTEE LIST'!B2218=\"\",\"\",'FULL TRUSTEE LIST'!B2218&\" \"&'FULL TRUSTEE LIST'!C2218)","v":""}]
[{"$f":"IF('FULL TRUSTEE LIST'!B2219=\"\",\"\",'FULL TRUSTEE LIST'!B2219&\" \"&'FULL TRUSTEE LIST'!C2219)","v":""}]
[{"$f":"IF('FULL TRUSTEE LIST'!B2220=\"\",\"\",'FULL TRUSTEE LIST'!B2220&\" \"&'FULL TRUSTEE LIST'!C2220)","v":""}]
[{"$f":"IF('FULL TRUSTEE LIST'!B2221=\"\",\"\",'FULL TRUSTEE LIST'!B2221&\" \"&'FULL TRUSTEE LIST'!C2221)","v":""}]
[{"$f":"IF('FULL TRUSTEE LIST'!B2222=\"\",\"\",'FULL TRUSTEE LIST'!B2222&\" \"&'FULL TRUSTEE LIST'!C2222)","v":""}]
[{"$f":"IF('FULL TRUSTEE LIST'!B2223=\"\",\"\",'FULL TRUSTEE LIST'!B2223&\" \"&'FULL TRUSTEE LIST'!C2223)","v":""}]
[{"$f":"IF('FULL TRUSTEE LIST'!B2224=\"\",\"\",'FULL TRUSTEE LIST'!B2224&\" \"&'FULL TRUSTEE LIST'!C2224)","v":""}]
[{"$f":"IF('FULL TRUSTEE LIST'!B2225=\"\",\"\",'FULL TRUSTEE LIST'!B2225&\" \"&'FULL TRUSTEE LIST'!C2225)","v":""}]
[{"$f":"IF('FULL TRUSTEE LIST'!B2226=\"\",\"\",'FULL TRUSTEE LIST'!B2226&\" \"&'FULL TRUSTEE LIST'!C2226)","v":""}]
[{"$f":"IF('FULL TRUSTEE LIST'!B2227=\"\",\"\",'FULL TRUSTEE LIST'!B2227&\" \"&'FULL TRUSTEE LIST'!C2227)","v":""}]
[{"$f":"IF('FULL TRUSTEE LIST'!B2228=\"\",\"\",'FULL TRUSTEE LIST'!B2228&\" \"&'FULL TRUSTEE LIST'!C2228)","v":""}]
[{"$f":"IF('FULL TRUSTEE LIST'!B2229=\"\",\"\",'FULL TRUSTEE LIST'!B2229&\" \"&'FULL TRUSTEE LIST'!C2229)","v":""}]
[{"$f":"IF('FULL TRUSTEE LIST'!B2230=\"\",\"\",'FULL TRUSTEE LIST'!B2230&\" \"&'FULL TRUSTEE LIST'!C2230)","v":""}]
[{"$f":"IF('FULL TRUSTEE LIST'!B2231=\"\",\"\",'FULL TRUSTEE LIST'!B2231&\" \"&'FULL TRUSTEE LIST'!C2231)","v":""}]
[{"$f":"IF('FULL TRUSTEE LIST'!B2232=\"\",\"\",'FULL TRUSTEE LIST'!B2232&\" \"&'FULL TRUSTEE LIST'!C2232)","v":""}]
[{"$f":"IF('FULL TRUSTEE LIST'!B2233=\"\",\"\",'FULL TRUSTEE LIST'!B2233&\" \"&'FULL TRUSTEE LIST'!C2233)","v":""}]
[{"$f":"IF('FULL TRUSTEE LIST'!B2234=\"\",\"\",'FULL TRUSTEE LIST'!B2234&\" \"&'FULL TRUSTEE LIST'!C2234)","v":""}]
[{"$f":"IF('FULL TRUSTEE LIST'!B2235=\"\",\"\",'FULL TRUSTEE LIST'!B2235&\" \"&'FULL TRUSTEE LIST'!C2235)","v":""}]
[{"$f":"IF('FULL TRUSTEE LIST'!B2236=\"\",\"\",'FULL TRUSTEE LIST'!B2236&\" \"&'FULL TRUSTEE LIST'!C2236)","v":""}]
[{"$f":"IF('FULL TRUSTEE LIST'!B2237=\"\",\"\",'FULL TRUSTEE LIST'!B2237&\" \"&'FULL TRUSTEE LIST'!C2237)","v":""}]
[{"$f":"IF('FULL TRUSTEE LIST'!B2238=\"\",\"\",'FULL TRUSTEE LIST'!B2238&\" \"&'FULL TRUSTEE LIST'!C2238)","v":""}]
[{"$f":"IF('FULL TRUSTEE LIST'!B2239=\"\",\"\",'FULL TRUSTEE LIST'!B2239&\" \"&'FULL TRUSTEE LIST'!C2239)","v":""}]
[{"$f":"IF('FULL TRUSTEE LIST'!B2240=\"\",\"\",'FULL TRUSTEE LIST'!B2240&\" \"&'FULL TRUSTEE LIST'!C2240)","v":""}]
[{"$f":"IF('FULL TRUSTEE LIST'!B2241=\"\",\"\",'FULL TRUSTEE LIST'!B2241&\" \"&'FULL TRUSTEE LIST'!C2241)","v":""}]
[{"$f":"IF('FULL TRUSTEE LIST'!B2242=\"\",\"\",'FULL TRUSTEE LIST'!B2242&\" \"&'FULL TRUSTEE LIST'!C2242)","v":""}]
[{"$f":"IF('FULL TRUSTEE LIST'!B2243=\"\",\"\",'FULL TRUSTEE LIST'!B2243&\" \"&'FULL TRUSTEE LIST'!C2243)","v":""}]
[{"$f":"IF('FULL TRUSTEE LIST'!B2244=\"\",\"\",'FULL TRUSTEE LIST'!B2244&\" \"&'FULL TRUSTEE LIST'!C2244)","v":""}]
[{"$f":"IF('FULL TRUSTEE LIST'!B2245=\"\",\"\",'FULL TRUSTEE LIST'!B2245&\" \"&'FULL TRUSTEE LIST'!C2245)","v":""}]
[{"$f":"IF('FULL TRUSTEE LIST'!B2246=\"\",\"\",'FULL TRUSTEE LIST'!B2246&\" \"&'FULL TRUSTEE LIST'!C2246)","v":""}]
[{"$f":"IF('FULL TRUSTEE LIST'!B2247=\"\",\"\",'FULL TRUSTEE LIST'!B2247&\" \"&'FULL TRUSTEE LIST'!C2247)","v":""}]
[{"$f":"IF('FULL TRUSTEE LIST'!B2248=\"\",\"\",'FULL TRUSTEE LIST'!B2248&\" \"&'FULL TRUSTEE LIST'!C2248)","v":""}]
[{"$f":"IF('FULL TRUSTEE LIST'!B2249=\"\",\"\",'FULL TRUSTEE LIST'!B2249&\" \"&'FULL TRUSTEE LIST'!C2249)","v":""}]
[{"$f":"IF('FULL TRUSTEE LIST'!B2250=\"\",\"\",'FULL TRUSTEE LIST'!B2250&\" \"&'FULL TRUSTEE LIST'!C2250)","v":""}]
[{"$f":"IF('FULL TRUSTEE LIST'!B2251=\"\",\"\",'FULL TRUSTEE LIST'!B2251&\" \"&'FULL TRUSTEE LIST'!C2251)","v":""}]
[{"$f":"IF('FULL TRUSTEE LIST'!B2252=\"\",\"\",'FULL TRUSTEE LIST'!B2252&\" \"&'FULL TRUSTEE LIST'!C2252)","v":""}]
[{"$f":"IF('FULL TRUSTEE LIST'!B2253=\"\",\"\",'FULL TRUSTEE LIST'!B2253&\" \"&'FULL TRUSTEE LIST'!C2253)","v":""}]
[{"$f":"IF('FULL TRUSTEE LIST'!B2254=\"\",\"\",'FULL TRUSTEE LIST'!B2254&\" \"&'FULL TRUSTEE LIST'!C2254)","v":""}]
[{"$f":"IF('FULL TRUSTEE LIST'!B2255=\"\",\"\",'FULL TRUSTEE LIST'!B2255&\" \"&'FULL TRUSTEE LIST'!C2255)","v":""}]
[{"$f":"IF('FULL TRUSTEE LIST'!B2256=\"\",\"\",'FULL TRUSTEE LIST'!B2256&\" \"&'FULL TRUSTEE LIST'!C2256)","v":""}]
[{"$f":"IF('FULL TRUSTEE LIST'!B2257=\"\",\"\",'FULL TRUSTEE LIST'!B2257&\" \"&'FULL TRUSTEE LIST'!C2257)","v":""}]
[{"$f":"IF('FULL TRUSTEE LIST'!B2258=\"\",\"\",'FULL TRUSTEE LIST'!B2258&\" \"&'FULL TRUSTEE LIST'!C2258)","v":""}]
[{"$f":"IF('FULL TRUSTEE LIST'!B2259=\"\",\"\",'FULL TRUSTEE LIST'!B2259&\" \"&'FULL TRUSTEE LIST'!C2259)","v":""}]
[{"$f":"IF('FULL TRUSTEE LIST'!B2260=\"\",\"\",'FULL TRUSTEE LIST'!B2260&\" \"&'FULL TRUSTEE LIST'!C2260)","v":""}]
[{"$f":"IF('FULL TRUSTEE LIST'!B2261=\"\",\"\",'FULL TRUSTEE LIST'!B2261&\" \"&'FULL TRUSTEE LIST'!C2261)","v":""}]
[{"$f":"IF('FULL TRUSTEE LIST'!B2262=\"\",\"\",'FULL TRUSTEE LIST'!B2262&\" \"&'FULL TRUSTEE LIST'!C2262)","v":""}]
[{"$f":"IF('FULL TRUSTEE LIST'!B2263=\"\",\"\",'FULL TRUSTEE LIST'!B2263&\" \"&'FULL TRUSTEE LIST'!C2263)","v":""}]
[{"$f":"IF('FULL TRUSTEE LIST'!B2264=\"\",\"\",'FULL TRUSTEE LIST'!B2264&\" \"&'FULL TRUSTEE LIST'!C2264)","v":""}]
[{"$f":"IF('FULL TRUSTEE LIST'!B2265=\"\",\"\",'FULL TRUSTEE LIST'!B2265&\" \"&'FULL TRUSTEE LIST'!C2265)","v":""}]
[{"$f":"IF('FULL TRUSTEE LIST'!B2266=\"\",\"\",'FULL TRUSTEE LIST'!B2266&\" \"&'FULL TRUSTEE LIST'!C2266)","v":""}]
[{"$f":"IF('FULL TRUSTEE LIST'!B2267=\"\",\"\",'FULL TRUSTEE LIST'!B2267&\" \"&'FULL TRUSTEE LIST'!C2267)","v":""}]
[{"$f":"IF('FULL TRUSTEE LIST'!B2268=\"\",\"\",'FULL TRUSTEE LIST'!B2268&\" \"&'FULL TRUSTEE LIST'!C2268)","v":""}]
[{"$f":"IF('FULL TRUSTEE LIST'!B2269=\"\",\"\",'FULL TRUSTEE LIST'!B2269&\" \"&'FULL TRUSTEE LIST'!C2269)","v":""}]
[{"$f":"IF('FULL TRUSTEE LIST'!B2270=\"\",\"\",'FULL TRUSTEE LIST'!B2270&\" \"&'FULL TRUSTEE LIST'!C2270)","v":""}]
[{"$f":"IF('FULL TRUSTEE LIST'!B2271=\"\",\"\",'FULL TRUSTEE LIST'!B2271&\" \"&'FULL TRUSTEE LIST'!C2271)","v":""}]
[{"$f":"IF('FULL TRUSTEE LIST'!B2272=\"\",\"\",'FULL TRUSTEE LIST'!B2272&\" \"&'FULL TRUSTEE LIST'!C2272)","v":""}]
[{"$f":"IF('FULL TRUSTEE LIST'!B2273=\"\",\"\",'FULL TRUSTEE LIST'!B2273&\" \"&'FULL TRUSTEE LIST'!C2273)","v":""}]
[{"$f":"IF('FULL TRUSTEE LIST'!B2274=\"\",\"\",'FULL TRUSTEE LIST'!B2274&\" \"&'FULL TRUSTEE LIST'!C2274)","v":""}]
[{"$f":"IF('FULL TRUSTEE LIST'!B2275=\"\",\"\",'FULL TRUSTEE LIST'!B2275&\" \"&'FULL TRUSTEE LIST'!C2275)","v":""}]
[{"$f":"IF('FULL TRUSTEE LIST'!B2276=\"\",\"\",'FULL TRUSTEE LIST'!B2276&\" \"&'FULL TRUSTEE LIST'!C2276)","v":""}]
[{"$f":"IF('FULL TRUSTEE LIST'!B2277=\"\",\"\",'FULL TRUSTEE LIST'!B2277&\" \"&'FULL TRUSTEE LIST'!C2277)","v":""}]
[{"$f":"IF('FULL TRUSTEE LIST'!B2278=\"\",\"\",'FULL TRUSTEE LIST'!B2278&\" \"&'FULL TRUSTEE LIST'!C2278)","v":""}]
[{"$f":"IF('FULL TRUSTEE LIST'!B2279=\"\",\"\",'FULL TRUSTEE LIST'!B2279&\" \"&'FULL TRUSTEE LIST'!C2279)","v":""}]
[{"$f":"IF('FULL TRUSTEE LIST'!B2280=\"\",\"\",'FULL TRUSTEE LIST'!B2280&\" \"&'FULL TRUSTEE LIST'!C2280)","v":""}]
[{"$f":"IF('FULL TRUSTEE LIST'!B2281=\"\",\"\",'FULL TRUSTEE LIST'!B2281&\" \"&'FULL TRUSTEE LIST'!C2281)","v":""}]
[{"$f":"IF('FULL TRUSTEE LIST'!B2282=\"\",\"\",'FULL TRUSTEE LIST'!B2282&\" \"&'FULL TRUSTEE LIST'!C2282)","v":""}]
[{"$f":"IF('FULL TRUSTEE LIST'!B2283=\"\",\"\",'FULL TRUSTEE LIST'!B2283&\" \"&'FULL TRUSTEE LIST'!C2283)","v":""}]
[{"$f":"IF('FULL TRUSTEE LIST'!B2284=\"\",\"\",'FULL TRUSTEE LIST'!B2284&\" \"&'FULL TRUSTEE LIST'!C2284)","v":""}]
[{"$f":"IF('FULL TRUSTEE LIST'!B2285=\"\",\"\",'FULL TRUSTEE LIST'!B2285&\" \"&'FULL TRUSTEE LIST'!C2285)","v":""}]
[{"$f":"IF('FULL TRUSTEE LIST'!B2286=\"\",\"\",'FULL TRUSTEE LIST'!B2286&\" \"&'FULL TRUSTEE LIST'!C2286)","v":""}]
[{"$f":"IF('FULL TRUSTEE LIST'!B2287=\"\",\"\",'FULL TRUSTEE LIST'!B2287&\" \"&'FULL TRUSTEE LIST'!C2287)","v":""}]
[{"$f":"IF('FULL TRUSTEE LIST'!B2288=\"\",\"\",'FULL TRUSTEE LIST'!B2288&\" \"&'FULL TRUSTEE LIST'!C2288)","v":""}]
[{"$f":"IF('FULL TRUSTEE LIST'!B2289=\"\",\"\",'FULL TRUSTEE LIST'!B2289&\" \"&'FULL TRUSTEE LIST'!C2289)","v":""}]
[{"$f":"IF('FULL TRUSTEE LIST'!B2290=\"\",\"\",'FULL TRUSTEE LIST'!B2290&\" \"&'FULL TRUSTEE LIST'!C2290)","v":""}]
[{"$f":"IF('FULL TRUSTEE LIST'!B2291=\"\",\"\",'FULL TRUSTEE LIST'!B2291&\" \"&'FULL TRUSTEE LIST'!C2291)","v":""}]
[{"$f":"IF('FULL TRUSTEE LIST'!B2292=\"\",\"\",'FULL TRUSTEE LIST'!B2292&\" \"&'FULL TRUSTEE LIST'!C2292)","v":""}]
[{"$f":"IF('FULL TRUSTEE LIST'!B2293=\"\",\"\",'FULL TRUSTEE LIST'!B2293&\" \"&'FULL TRUSTEE LIST'!C2293)","v":""}]
[{"$f":"IF('FULL TRUSTEE LIST'!B2294=\"\",\"\",'FULL TRUSTEE LIST'!B2294&\" \"&'FULL TRUSTEE LIST'!C2294)","v":""}]
[{"$f":"IF('FULL TRUSTEE LIST'!B2295=\"\",\"\",'FULL TRUSTEE LIST'!B2295&\" \"&'FULL TRUSTEE LIST'!C2295)","v":""}]
[{"$f":"IF('FULL TRUSTEE LIST'!B2296=\"\",\"\",'FULL TRUSTEE LIST'!B2296&\" \"&'FULL TRUSTEE LIST'!C2296)","v":""}]
[{"$f":"IF('FULL TRUSTEE LIST'!B2297=\"\",\"\",'FULL TRUSTEE LIST'!B2297&\" \"&'FULL TRUSTEE LIST'!C2297)","v":""}]
[{"$f":"IF('FULL TRUSTEE LIST'!B2298=\"\",\"\",'FULL TRUSTEE LIST'!B2298&\" \"&'FULL TRUSTEE LIST'!C2298)","v":""}]
[{"$f":"IF('FULL TRUSTEE LIST'!B2299=\"\",\"\",'FULL TRUSTEE LIST'!B2299&\" \"&'FULL TRUSTEE LIST'!C2299)","v":""}]
[{"$f":"IF('FULL TRUSTEE LIST'!B2300=\"\",\"\",'FULL TRUSTEE LIST'!B2300&\" \"&'FULL TRUSTEE LIST'!C2300)","v":""}]
[{"$f":"IF('FULL TRUSTEE LIST'!B2301=\"\",\"\",'FULL TRUSTEE LIST'!B2301&\" \"&'FULL TRUSTEE LIST'!C2301)","v":""}]
[{"$f":"IF('FULL TRUSTEE LIST'!B2302=\"\",\"\",'FULL TRUSTEE LIST'!B2302&\" \"&'FULL TRUSTEE LIST'!C2302)","v":""}]
[{"$f":"IF('FULL TRUSTEE LIST'!B2303=\"\",\"\",'FULL TRUSTEE LIST'!B2303&\" \"&'FULL TRUSTEE LIST'!C2303)","v":""}]
[{"$f":"IF('FULL TRUSTEE LIST'!B2304=\"\",\"\",'FULL TRUSTEE LIST'!B2304&\" \"&'FULL TRUSTEE LIST'!C2304)","v":""}]
[{"$f":"IF('FULL TRUSTEE LIST'!B2305=\"\",\"\",'FULL TRUSTEE LIST'!B2305&\" \"&'FULL TRUSTEE LIST'!C2305)","v":""}]
[{"$f":"IF('FULL TRUSTEE LIST'!B2306=\"\",\"\",'FULL TRUSTEE LIST'!B2306&\" \"&'FULL TRUSTEE LIST'!C2306)","v":""}]
[{"$f":"IF('FULL TRUSTEE LIST'!B2307=\"\",\"\",'FULL TRUSTEE LIST'!B2307&\" \"&'FULL TRUSTEE LIST'!C2307)","v":""}]
[{"$f":"IF('FULL TRUSTEE LIST'!B2308=\"\",\"\",'FULL TRUSTEE LIST'!B2308&\" \"&'FULL TRUSTEE LIST'!C2308)","v":""}]
[{"$f":"IF('FULL TRUSTEE LIST'!B2309=\"\",\"\",'FULL TRUSTEE LIST'!B2309&\" \"&'FULL TRUSTEE LIST'!C2309)","v":""}]
[{"$f":"IF('FULL TRUSTEE LIST'!B2311=\"\",\"\",'FULL TRUSTEE LIST'!B2311&\" \"&'FULL TRUSTEE LIST'!C2311)","v":""}]
[{"$f":"IF('FULL TRUSTEE LIST'!B2312=\"\",\"\",'FULL TRUSTEE LIST'!B2312&\" \"&'FULL TRUSTEE LIST'!C2312)","v":""}]
[{"$f":"IF('FULL TRUSTEE LIST'!B2313=\"\",\"\",'FULL TRUSTEE LIST'!B2313&\" \"&'FULL TRUSTEE LIST'!C2313)","v":""}]
[{"$f":"IF('FULL TRUSTEE LIST'!B2314=\"\",\"\",'FULL TRUSTEE LIST'!B2314&\" \"&'FULL TRUSTEE LIST'!C2314)","v":""}]
[{"$f":"IF('FULL TRUSTEE LIST'!B2315=\"\",\"\",'FULL TRUSTEE LIST'!B2315&\" \"&'FULL TRUSTEE LIST'!C2315)","v":""}]
[{"$f":"IF('FULL TRUSTEE LIST'!B2316=\"\",\"\",'FULL TRUSTEE LIST'!B2316&\" \"&'FULL TRUSTEE LIST'!C2316)","v":""}]
[{"$f":"IF('FULL TRUSTEE LIST'!B2317=\"\",\"\",'FULL TRUSTEE LIST'!B2317&\" \"&'FULL TRUSTEE LIST'!C2317)","v":""}]
[{"$f":"IF('FULL TRUSTEE LIST'!B2318=\"\",\"\",'FULL TRUSTEE LIST'!B2318&\" \"&'FULL TRUSTEE LIST'!C2318)","v":""}]
[{"$f":"IF('FULL TRUSTEE LIST'!B2319=\"\",\"\",'FULL TRUSTEE LIST'!B2319&\" \"&'FULL TRUSTEE LIST'!C2319)","v":""}]
[{"$f":"IF('FULL TRUSTEE LIST'!B2320=\"\",\"\",'FULL TRUSTEE LIST'!B2320&\" \"&'FULL TRUSTEE LIST'!C2320)","v":""}]
[{"$f":"IF('FULL TRUSTEE LIST'!B2321=\"\",\"\",'FULL TRUSTEE LIST'!B2321&\" \"&'FULL TRUSTEE LIST'!C2321)","v":""}]
[{"$f":"IF('FULL TRUSTEE LIST'!B2322=\"\",\"\",'FULL TRUSTEE LIST'!B2322&\" \"&'FULL TRUSTEE LIST'!C2322)","v":""}]
[{"$f":"IF('FULL TRUSTEE LIST'!B2323=\"\",\"\",'FULL TRUSTEE LIST'!B2323&\" \"&'FULL TRUSTEE LIST'!C2323)","v":""}]
[{"$f":"IF('FULL TRUSTEE LIST'!B2324=\"\",\"\",'FULL TRUSTEE LIST'!B2324&\" \"&'FULL TRUSTEE LIST'!C2324)","v":""}]
[{"$f":"IF('FULL TRUSTEE LIST'!B2325=\"\",\"\",'FULL TRUSTEE LIST'!B2325&\" \"&'FULL TRUSTEE LIST'!C2325)","v":""}]
[{"$f":"IF('FULL TRUSTEE LIST'!B2326=\"\",\"\",'FULL TRUSTEE LIST'!B2326&\" \"&'FULL TRUSTEE LIST'!C2326)","v":""}]
[{"$f":"IF('FULL TRUSTEE LIST'!B2327=\"\",\"\",'FULL TRUSTEE LIST'!B2327&\" \"&'FULL TRUSTEE LIST'!C2327)","v":""}]
[{"$f":"IF('FULL TRUSTEE LIST'!B2328=\"\",\"\",'FULL TRUSTEE LIST'!B2328&\" \"&'FULL TRUSTEE LIST'!C2328)","v":""}]
[{"$f":"IF('FULL TRUSTEE LIST'!B2329=\"\",\"\",'FULL TRUSTEE LIST'!B2329&\" \"&'FULL TRUSTEE LIST'!C2329)","v":""}]
[{"$f":"IF('FULL TRUSTEE LIST'!B2330=\"\",\"\",'FULL TRUSTEE LIST'!B2330&\" \"&'FULL TRUSTEE LIST'!C2330)","v":""}]
[{"$f":"IF('FULL TRUSTEE LIST'!B2331=\"\",\"\",'FULL TRUSTEE LIST'!B2331&\" \"&'FULL TRUSTEE LIST'!C2331)","v":""}]
[{"$f":"IF('FULL TRUSTEE LIST'!B2332=\"\",\"\",'FULL TRUSTEE LIST'!B2332&\" \"&'FULL TRUSTEE LIST'!C2332)","v":""}]
[{"$f":"IF('FULL TRUSTEE LIST'!B2333=\"\",\"\",'FULL TRUSTEE LIST'!B2333&\" \"&'FULL TRUSTEE LIST'!C2333)","v":""}]
[{"$f":"IF('FULL TRUSTEE LIST'!B2334=\"\",\"\",'FULL TRUSTEE LIST'!B2334&\" \"&'FULL TRUSTEE LIST'!C2334)","v":""}]
[{"$f":"IF('FULL TRUSTEE LIST'!B2335=\"\",\"\",'FULL TRUSTEE LIST'!B2335&\" \"&'FULL TRUSTEE LIST'!C2335)","v":""}]
[{"$f":"IF('FULL TRUSTEE LIST'!B2336=\"\",\"\",'FULL TRUSTEE LIST'!B2336&\" \"&'FULL TRUSTEE LIST'!C2336)","v":""}]
[{"$f":"IF('FULL TRUSTEE LIST'!B2337=\"\",\"\",'FULL TRUSTEE LIST'!B2337&\" \"&'FULL TRUSTEE LIST'!C2337)","v":""}]
[{"$f":"IF('FULL TRUSTEE LIST'!B2338=\"\",\"\",'FULL TRUSTEE LIST'!B2338&\" \"&'FULL TRUSTEE LIST'!C2338)","v":""}]
[{"$f":"IF('FULL TRUSTEE LIST'!B2339=\"\",\"\",'FULL TRUSTEE LIST'!B2339&\" \"&'FULL TRUSTEE LIST'!C2339)","v":""}]
[{"$f":"IF('FULL TRUSTEE LIST'!B2340=\"\",\"\",'FULL TRUSTEE LIST'!B2340&\" \"&'FULL TRUSTEE LIST'!C2340)","v":""}]
[{"$f":"IF('FULL TRUSTEE LIST'!B2341=\"\",\"\",'FULL TRUSTEE LIST'!B2341&\" \"&'FULL TRUSTEE LIST'!C2341)","v":""}]
[{"$f":"IF('FULL TRUSTEE LIST'!B2342=\"\",\"\",'FULL TRUSTEE LIST'!B2342&\" \"&'FULL TRUSTEE LIST'!C2342)","v":""}]
[{"$f":"IF('FULL TRUSTEE LIST'!B2343=\"\",\"\",'FULL TRUSTEE LIST'!B2343&\" \"&'FULL TRUSTEE LIST'!C2343)","v":""}]
[{"$f":"IF('FULL TRUSTEE LIST'!B2344=\"\",\"\",'FULL TRUSTEE LIST'!B2344&\" \"&'FULL TRUSTEE LIST'!C2344)","v":""}]
[{"$f":"IF('FULL TRUSTEE LIST'!B2345=\"\",\"\",'FULL TRUSTEE LIST'!B2345&\" \"&'FULL TRUSTEE LIST'!C2345)","v":""}]
[{"$f":"IF('FULL TRUSTEE LIST'!B2346=\"\",\"\",'FULL TRUSTEE LIST'!B2346&\" \"&'FULL TRUSTEE LIST'!C2346)","v":""}]
[{"$f":"IF('FULL TRUSTEE LIST'!B2347=\"\",\"\",'FULL TRUSTEE LIST'!B2347&\" \"&'FULL TRUSTEE LIST'!C2347)","v":""}]
[{"$f":"IF('FULL TRUSTEE LIST'!B2348=\"\",\"\",'FULL TRUSTEE LIST'!B2348&\" \"&'FULL TRUSTEE LIST'!C2348)","v":""}]
[{"$f":"IF('FULL TRUSTEE LIST'!B2349=\"\",\"\",'FULL TRUSTEE LIST'!B2349&\" \"&'FULL TRUSTEE LIST'!C2349)","v":""}]
[{"$f":"IF('FULL TRUSTEE LIST'!B2350=\"\",\"\",'FULL TRUSTEE LIST'!B2350&\" \"&'FULL TRUSTEE LIST'!C2350)","v":""}]
[{"$f":"IF('FULL TRUSTEE LIST'!B2351=\"\",\"\",'FULL TRUSTEE LIST'!B2351&\" \"&'FULL TRUSTEE LIST'!C2351)","v":""}]
[{"$f":"IF('FULL TRUSTEE LIST'!B2352=\"\",\"\",'FULL TRUSTEE LIST'!B2352&\" \"&'FULL TRUSTEE LIST'!C2352)","v":""}]
[{"$f":"IF('FULL TRUSTEE LIST'!B2353=\"\",\"\",'FULL TRUSTEE LIST'!B2353&\" \"&'FULL TRUSTEE LIST'!C2353)","v":""}]
[{"$f":"IF('FULL TRUSTEE LIST'!B2354=\"\",\"\",'FULL TRUSTEE LIST'!B2354&\" \"&'FULL TRUSTEE LIST'!C2354)","v":""}]
[{"$f":"IF('FULL TRUSTEE LIST'!B2355=\"\",\"\",'FULL TRUSTEE LIST'!B2355&\" \"&'FULL TRUSTEE LIST'!C2355)","v":""}]
[{"$f":"IF('FULL TRUSTEE LIST'!B2356=\"\",\"\",'FULL TRUSTEE LIST'!B2356&\" \"&'FULL TRUSTEE LIST'!C2356)","v":""}]
[{"$f":"IF('FULL TRUSTEE LIST'!B2357=\"\",\"\",'FULL TRUSTEE LIST'!B2357&\" \"&'FULL TRUSTEE LIST'!C2357)","v":""}]
[{"$f":"IF('FULL TRUSTEE LIST'!B2358=\"\",\"\",'FULL TRUSTEE LIST'!B2358&\" \"&'FULL TRUSTEE LIST'!C2358)","v":""}]
[{"$f":"IF('FULL TRUSTEE LIST'!B2359=\"\",\"\",'FULL TRUSTEE LIST'!B2359&\" \"&'FULL TRUSTEE LIST'!C2359)","v":""}]
[{"$f":"IF('FULL TRUSTEE LIST'!B2360=\"\",\"\",'FULL TRUSTEE LIST'!B2360&\" \"&'FULL TRUSTEE LIST'!C2360)","v":""}]
[{"$f":"IF('FULL TRUSTEE LIST'!B2361=\"\",\"\",'FULL TRUSTEE LIST'!B2361&\" \"&'FULL TRUSTEE LIST'!C2361)","v":""}]
[{"$f":"IF('FULL TRUSTEE LIST'!B2362=\"\",\"\",'FULL TRUSTEE LIST'!B2362&\" \"&'FULL TRUSTEE LIST'!C2362)","v":""}]
[{"$f":"IF('FULL TRUSTEE LIST'!B2363=\"\",\"\",'FULL TRUSTEE LIST'!B2363&\" \"&'FULL TRUSTEE LIST'!C2363)","v":""}]
[{"$f":"IF('FULL TRUSTEE LIST'!B2364=\"\",\"\",'FULL TRUSTEE LIST'!B2364&\" \"&'FULL TRUSTEE LIST'!C2364)","v":""}]
[{"$f":"IF('FULL TRUSTEE LIST'!B2365=\"\",\"\",'FULL TRUSTEE LIST'!B2365&\" \"&'FULL TRUSTEE LIST'!C2365)","v":""}]
[{"$f":"IF('FULL TRUSTEE LIST'!B2366=\"\",\"\",'FULL TRUSTEE LIST'!B2366&\" \"&'FULL TRUSTEE LIST'!C2366)","v":""}]
[{"$f":"IF('FULL TRUSTEE LIST'!B2367=\"\",\"\",'FULL TRUSTEE LIST'!B2367&\" \"&'FULL TRUSTEE LIST'!C2367)","v":""}]
[{"$f":"IF('FULL TRUSTEE LIST'!B2368=\"\",\"\",'FULL TRUSTEE LIST'!B2368&\" \"&'FULL TRUSTEE LIST'!C2368)","v":""}]
[{"$f":"IF('FULL TRUSTEE LIST'!B2369=\"\",\"\",'FULL TRUSTEE LIST'!B2369&\" \"&'FULL TRUSTEE LIST'!C2369)","v":""}]
[{"$f":"IF('FULL TRUSTEE LIST'!B2370=\"\",\"\",'FULL TRUSTEE LIST'!B2370&\" \"&'FULL TRUSTEE LIST'!C2370)","v":""}]
[{"$f":"IF('FULL TRUSTEE LIST'!B2371=\"\",\"\",'FULL TRUSTEE LIST'!B2371&\" \"&'FULL TRUSTEE LIST'!C2371)","v":""}]
[{"$f":"IF('FULL TRUSTEE LIST'!B2372=\"\",\"\",'FULL TRUSTEE LIST'!B2372&\" \"&'FULL TRUSTEE LIST'!C2372)","v":""}]
[{"$f":"IF('FULL TRUSTEE LIST'!B2373=\"\",\"\",'FULL TRUSTEE LIST'!B2373&\" \"&'FULL TRUSTEE LIST'!C2373)","v":""}]
[{"$f":"IF('FULL TRUSTEE LIST'!B2374=\"\",\"\",'FULL TRUSTEE LIST'!B2374&\" \"&'FULL TRUSTEE LIST'!C2374)","v":""}]
[{"$f":"IF('FULL TRUSTEE LIST'!B2375=\"\",\"\",'FULL TRUSTEE LIST'!B2375&\" \"&'FULL TRUSTEE LIST'!C2375)","v":""}]
[{"$f":"IF('FULL TRUSTEE LIST'!B2376=\"\",\"\",'FULL TRUSTEE LIST'!B2376&\" \"&'FULL TRUSTEE LIST'!C2376)","v":""}]
[{"$f":"IF('FULL TRUSTEE LIST'!B2377=\"\",\"\",'FULL TRUSTEE LIST'!B2377&\" \"&'FULL TRUSTEE LIST'!C2377)","v":""}]
[{"$f":"IF('FULL TRUSTEE LIST'!B2378=\"\",\"\",'FULL TRUSTEE LIST'!B2378&\" \"&'FULL TRUSTEE LIST'!C2378)","v":""}]
[{"$f":"IF('FULL TRUSTEE LIST'!B2379=\"\",\"\",'FULL TRUSTEE LIST'!B2379&\" \"&'FULL TRUSTEE LIST'!C2379)","v":""}]
[{"$f":"IF('FULL TRUSTEE LIST'!B2380=\"\",\"\",'FULL TRUSTEE LIST'!B2380&\" \"&'FULL TRUSTEE LIST'!C2380)","v":""}]
[{"$f":"IF('FULL TRUSTEE LIST'!B2381=\"\",\"\",'FULL TRUSTEE LIST'!B2381&\" \"&'FULL TRUSTEE LIST'!C2381)","v":""}]
[{"$f":"IF('FULL TRUSTEE LIST'!B2382=\"\",\"\",'FULL TRUSTEE LIST'!B2382&\" \"&'FULL TRUSTEE LIST'!C2382)","v":""}]
[{"$f":"IF('FULL TRUSTEE LIST'!B2383=\"\",\"\",'FULL TRUSTEE LIST'!B2383&\" \"&'FULL TRUSTEE LIST'!C2383)","v":""}]
[{"$f":"IF('FULL TRUSTEE LIST'!B2384=\"\",\"\",'FULL TRUSTEE LIST'!B2384&\" \"&'FULL TRUSTEE LIST'!C2384)","v":""}]
[{"$f":"IF('FULL TRUSTEE LIST'!B2385=\"\",\"\",'FULL TRUSTEE LIST'!B2385&\" \"&'FULL TRUSTEE LIST'!C2385)","v":""}]
[{"$f":"IF('FULL TRUSTEE LIST'!B2386=\"\",\"\",'FULL TRUSTEE LIST'!B2386&\" \"&'FULL TRUSTEE LIST'!C2386)","v":""}]
[{"$f":"IF('FULL TRUSTEE LIST'!B2387=\"\",\"\",'FULL TRUSTEE LIST'!B2387&\" \"&'FULL TRUSTEE LIST'!C2387)","v":""}]
[{"$f":"IF('FULL TRUSTEE LIST'!B2388=\"\",\"\",'FULL TRUSTEE LIST'!B2388&\" \"&'FULL TRUSTEE LIST'!C2388)","v":""}]
[{"$f":"IF('FULL TRUSTEE LIST'!B2389=\"\",\"\",'FULL TRUSTEE LIST'!B2389&\" \"&'FULL TRUSTEE LIST'!C2389)","v":""}]
[{"$f":"IF('FULL TRUSTEE LIST'!B2390=\"\",\"\",'FULL TRUSTEE LIST'!B2390&\" \"&'FULL TRUSTEE LIST'!C2390)","v":""}]
[{"$f":"IF('FULL TRUSTEE LIST'!B2391=\"\",\"\",'FULL TRUSTEE LIST'!B2391&\" \"&'FULL TRUSTEE LIST'!C2391)","v":""}]
[{"$f":"IF('FULL TRUSTEE LIST'!B2392=\"\",\"\",'FULL TRUSTEE LIST'!B2392&\" \"&'FULL TRUSTEE LIST'!C2392)","v":""}]
[{"$f":"IF('FULL TRUSTEE LIST'!B2393=\"\",\"\",'FULL TRUSTEE LIST'!B2393&\" \"&'FULL TRUSTEE LIST'!C2393)","v":""}]
[{"$f":"IF('FULL TRUSTEE LIST'!B2394=\"\",\"\",'FULL TRUSTEE LIST'!B2394&\" \"&'FULL TRUSTEE LIST'!C2394)","v":""}]
[{"$f":"IF('FULL TRUSTEE LIST'!B2395=\"\",\"\",'FULL TRUSTEE LIST'!B2395&\" \"&'FULL TRUSTEE LIST'!C2395)","v":""}]
[{"$f":"IF('FULL TRUSTEE LIST'!B2396=\"\",\"\",'FULL TRUSTEE LIST'!B2396&\" \"&'FULL TRUSTEE LIST'!C2396)","v":""}]
[{"$f":"IF('FULL TRUSTEE LIST'!B2397=\"\",\"\",'FULL TRUSTEE LIST'!B2397&\" \"&'FULL TRUSTEE LIST'!C2397)","v":""}]
[{"$f":"IF('FULL TRUSTEE LIST'!B2398=\"\",\"\",'FULL TRUSTEE LIST'!B2398&\" \"&'FULL TRUSTEE LIST'!C2398)","v":""}]
[{"$f":"IF('FULL TRUSTEE LIST'!B2399=\"\",\"\",'FULL TRUSTEE LIST'!B2399&\" \"&'FULL TRUSTEE LIST'!C2399)","v":""}]
[{"$f":"IF('FULL TRUSTEE LIST'!B2400=\"\",\"\",'FULL TRUSTEE LIST'!B2400&\" \"&'FULL TRUSTEE LIST'!C2400)","v":""}]
[{"$f":"IF('FULL TRUSTEE LIST'!B2401=\"\",\"\",'FULL TRUSTEE LIST'!B2401&\" \"&'FULL TRUSTEE LIST'!C2401)","v":""}]
[{"$f":"IF('FULL TRUSTEE LIST'!B2402=\"\",\"\",'FULL TRUSTEE LIST'!B2402&\" \"&'FULL TRUSTEE LIST'!C2402)","v":""}]
[{"$f":"IF('FULL TRUSTEE LIST'!B2403=\"\",\"\",'FULL TRUSTEE LIST'!B2403&\" \"&'FULL TRUSTEE LIST'!C2403)","v":""}]
[{"$f":"IF('FULL TRUSTEE LIST'!B2404=\"\",\"\",'FULL TRUSTEE LIST'!B2404&\" \"&'FULL TRUSTEE LIST'!C2404)","v":""}]
[{"$f":"IF('FULL TRUSTEE LIST'!B2405=\"\",\"\",'FULL TRUSTEE LIST'!B2405&\" \"&'FULL TRUSTEE LIST'!C2405)","v":""}]
[{"$f":"IF('FULL TRUSTEE LIST'!B2406=\"\",\"\",'FULL TRUSTEE LIST'!B2406&\" \"&'FULL TRUSTEE LIST'!C2406)","v":""}]
[{"$f":"IF('FULL TRUSTEE LIST'!B2407=\"\",\"\",'FULL TRUSTEE LIST'!B2407&\" \"&'FULL TRUSTEE LIST'!C2407)","v":""}]
[{"$f":"IF('FULL TRUSTEE LIST'!B2408=\"\",\"\",'FULL TRUSTEE LIST'!B2408&\" \"&'FULL TRUSTEE LIST'!C2408)","v":""}]
[{"$f":"IF('FULL TRUSTEE LIST'!B2409=\"\",\"\",'FULL TRUSTEE LIST'!B2409&\" \"&'FULL TRUSTEE LIST'!C2409)","v":""}]
[{"$f":"IF('FULL TRUSTEE LIST'!B2410=\"\",\"\",'FULL TRUSTEE LIST'!B2410&\" \"&'FULL TRUSTEE LIST'!C2410)","v":""}]
[{"$f":"IF('FULL TRUSTEE LIST'!B2411=\"\",\"\",'FULL TRUSTEE LIST'!B2411&\" \"&'FULL TRUSTEE LIST'!C2411)","v":""}]
[{"$f":"IF('FULL TRUSTEE LIST'!B2412=\"\",\"\",'FULL TRUSTEE LIST'!B2412&\" \"&'FULL TRUSTEE LIST'!C2412)","v":""}]
[{"$f":"IF('FULL TRUSTEE LIST'!B2413=\"\",\"\",'FULL TRUSTEE LIST'!B2413&\" \"&'FULL TRUSTEE LIST'!C2413)","v":""}]
[{"$f":"IF('FULL TRUSTEE LIST'!B2414=\"\",\"\",'FULL TRUSTEE LIST'!B2414&\" \"&'FULL TRUSTEE LIST'!C2414)","v":""}]
[{"$f":"IF('FULL TRUSTEE LIST'!B2415=\"\",\"\",'FULL TRUSTEE LIST'!B2415&\" \"&'FULL TRUSTEE LIST'!C2415)","v":""}]
[{"$f":"IF('FULL TRUSTEE LIST'!B2416=\"\",\"\",'FULL TRUSTEE LIST'!B2416&\" \"&'FULL TRUSTEE LIST'!C2416)","v":""}]
[{"$f":"IF('FULL TRUSTEE LIST'!B2417=\"\",\"\",'FULL TRUSTEE LIST'!B2417&\" \"&'FULL TRUSTEE LIST'!C2417)","v":""}]
[{"$f":"IF('FULL TRUSTEE LIST'!B2418=\"\",\"\",'FULL TRUSTEE LIST'!B2418&\" \"&'FULL TRUSTEE LIST'!C2418)","v":""}]
[{"$f":"IF('FULL TRUSTEE LIST'!B2419=\"\",\"\",'FULL TRUSTEE LIST'!B2419&\" \"&'FULL TRUSTEE LIST'!C2419)","v":""}]
[{"$f":"IF('FULL TRUSTEE LIST'!B2420=\"\",\"\",'FULL TRUSTEE LIST'!B2420&\" \"&'FULL TRUSTEE LIST'!C2420)","v":""}]
[{"$f":"IF('FULL TRUSTEE LIST'!B2421=\"\",\"\",'FULL TRUSTEE LIST'!B2421&\" \"&'FULL TRUSTEE LIST'!C2421)","v":""}]
[{"$f":"IF('FULL TRUSTEE LIST'!B2422=\"\",\"\",'FULL TRUSTEE LIST'!B2422&\" \"&'FULL TRUSTEE LIST'!C2422)","v":""}]
[{"$f":"IF('FULL TRUSTEE LIST'!B2423=\"\",\"\",'FULL TRUSTEE LIST'!B2423&\" \"&'FULL TRUSTEE LIST'!C2423)","v":""}]
[{"$f":"IF('FULL TRUSTEE LIST'!B2424=\"\",\"\",'FULL TRUSTEE LIST'!B2424&\" \"&'FULL TRUSTEE LIST'!C2424)","v":""}]
[{"$f":"IF('FULL TRUSTEE LIST'!B2425=\"\",\"\",'FULL TRUSTEE LIST'!B2425&\" \"&'FULL TRUSTEE LIST'!C2425)","v":""}]
[{"$f":"IF('FULL TRUSTEE LIST'!B2426=\"\",\"\",'FULL TRUSTEE LIST'!B2426&\" \"&'FULL TRUSTEE LIST'!C2426)","v":""}]
[{"$f":"IF('FULL TRUSTEE LIST'!B2427=\"\",\"\",'FULL TRUSTEE LIST'!B2427&\" \"&'FULL TRUSTEE LIST'!C2427)","v":""}]
[{"$f":"IF('FULL TRUSTEE LIST'!B2428=\"\",\"\",'FULL TRUSTEE LIST'!B2428&\" \"&'FULL TRUSTEE LIST'!C2428)","v":""}]
[{"$f":"IF('FULL TRUSTEE LIST'!B2429=\"\",\"\",'FULL TRUSTEE LIST'!B2429&\" \"&'FULL TRUSTEE LIST'!C2429)","v":""}]
[{"$f":"IF('FULL TRUSTEE LIST'!B2430=\"\",\"\",'FULL TRUSTEE LIST'!B2430&\" \"&'FULL TRUSTEE LIST'!C2430)","v":""}]
[{"$f":"IF('FULL TRUSTEE LIST'!B2431=\"\",\"\",'FULL TRUSTEE LIST'!B2431&\" \"&'FULL TRUSTEE LIST'!C2431)","v":""}]
[{"$f":"IF('FULL TRUSTEE LIST'!B2432=\"\",\"\",'FULL TRUSTEE LIST'!B2432&\" \"&'FULL TRUSTEE LIST'!C2432)","v":""}]
[{"$f":"IF('FULL TRUSTEE LIST'!B2433=\"\",\"\",'FULL TRUSTEE LIST'!B2433&\" \"&'FULL TRUSTEE LIST'!C2433)","v":""}]
[{"$f":"IF('FULL TRUSTEE LIST'!B2434=\"\",\"\",'FULL TRUSTEE LIST'!B2434&\" \"&'FULL TRUSTEE LIST'!C2434)","v":""}]
[{"$f":"IF('FULL TRUSTEE LIST'!B2435=\"\",\"\",'FULL TRUSTEE LIST'!B2435&\" \"&'FULL TRUSTEE LIST'!C2435)","v":""}]
[{"$f":"IF('FULL TRUSTEE LIST'!B2436=\"\",\"\",'FULL TRUSTEE LIST'!B2436&\" \"&'FULL TRUSTEE LIST'!C2436)","v":""}]
[{"$f":"IF('FULL TRUSTEE LIST'!B2437=\"\",\"\",'FULL TRUSTEE LIST'!B2437&\" \"&'FULL TRUSTEE LIST'!C2437)","v":""}]
[{"$f":"IF('FULL TRUSTEE LIST'!B2438=\"\",\"\",'FULL TRUSTEE LIST'!B2438&\" \"&'FULL TRUSTEE LIST'!C2438)","v":""}]
[{"$f":"IF('FULL TRUSTEE LIST'!B2439=\"\",\"\",'FULL TRUSTEE LIST'!B2439&\" \"&'FULL TRUSTEE LIST'!C2439)","v":""}]
[{"$f":"IF('FULL TRUSTEE LIST'!B2440=\"\",\"\",'FULL TRUSTEE LIST'!B2440&\" \"&'FULL TRUSTEE LIST'!C2440)","v":""}]
[{"$f":"IF('FULL TRUSTEE LIST'!B2441=\"\",\"\",'FULL TRUSTEE LIST'!B2441&\" \"&'FULL TRUSTEE LIST'!C2441)","v":""}]
[{"$f":"IF('FULL TRUSTEE LIST'!B2442=\"\",\"\",'FULL TRUSTEE LIST'!B2442&\" \"&'FULL TRUSTEE LIST'!C2442)","v":""}]
[{"$f":"IF('FULL TRUSTEE LIST'!B2443=\"\",\"\",'FULL TRUSTEE LIST'!B2443&\" \"&'FULL TRUSTEE LIST'!C2443)","v":""}]
[{"$f":"IF('FULL TRUSTEE LIST'!B2444=\"\",\"\",'FULL TRUSTEE LIST'!B2444&\" \"&'FULL TRUSTEE LIST'!C2444)","v":""}]
[{"$f":"IF('FULL TRUSTEE LIST'!B2445=\"\",\"\",'FULL TRUSTEE LIST'!B2445&\" \"&'FULL TRUSTEE LIST'!C2445)","v":""}]
[{"$f":"IF('FULL TRUSTEE LIST'!B2446=\"\",\"\",'FULL TRUSTEE LIST'!B2446&\" \"&'FULL TRUSTEE LIST'!C2446)","v":""}]
[{"$f":"IF('FULL TRUSTEE LIST'!B2447=\"\",\"\",'FULL TRUSTEE LIST'!B2447&\" \"&'FULL TRUSTEE LIST'!C2447)","v":""}]
[{"$f":"IF('FULL TRUSTEE LIST'!B2448=\"\",\"\",'FULL TRUSTEE LIST'!B2448&\" \"&'FULL TRUSTEE LIST'!C2448)","v":""}]
[{"$f":"IF('FULL TRUSTEE LIST'!B2449=\"\",\"\",'FULL TRUSTEE LIST'!B2449&\" \"&'FULL TRUSTEE LIST'!C2449)","v":""}]
[{"$f":"IF('FULL TRUSTEE LIST'!B2450=\"\",\"\",'FULL TRUSTEE LIST'!B2450&\" \"&'FULL TRUSTEE LIST'!C2450)","v":""}]
[{"$f":"IF('FULL TRUSTEE LIST'!B2451=\"\",\"\",'FULL TRUSTEE LIST'!B2451&\" \"&'FULL TRUSTEE LIST'!C2451)","v":""}]
[{"$f":"IF('FULL TRUSTEE LIST'!B2452=\"\",\"\",'FULL TRUSTEE LIST'!B2452&\" \"&'FULL TRUSTEE LIST'!C2452)","v":""}]
[{"$f":"IF('FULL TRUSTEE LIST'!B2453=\"\",\"\",'FULL TRUSTEE LIST'!B2453&\" \"&'FULL TRUSTEE LIST'!C2453)","v":""}]
[{"$f":"IF('FULL TRUSTEE LIST'!B2454=\"\",\"\",'FULL TRUSTEE LIST'!B2454&\" \"&'FULL TRUSTEE LIST'!C2454)","v":""}]
[{"$f":"IF('FULL TRUSTEE LIST'!B2455=\"\",\"\",'FULL TRUSTEE LIST'!B2455&\" \"&'FULL TRUSTEE LIST'!C2455)","v":""}]
[{"$f":"IF('FULL TRUSTEE LIST'!B2456=\"\",\"\",'FULL TRUSTEE LIST'!B2456&\" \"&'FULL TRUSTEE LIST'!C2456)","v":""}]
[{"$f":"IF('FULL TRUSTEE LIST'!B2457=\"\",\"\",'FULL TRUSTEE LIST'!B2457&\" \"&'FULL TRUSTEE LIST'!C2457)","v":""}]
[{"$f":"IF('FULL TRUSTEE LIST'!B2458=\"\",\"\",'FULL TRUSTEE LIST'!B2458&\" \"&'FULL TRUSTEE LIST'!C2458)","v":""}]
[{"$f":"IF('FULL TRUSTEE LIST'!B2459=\"\",\"\",'FULL TRUSTEE LIST'!B2459&\" \"&'FULL TRUSTEE LIST'!C2459)","v":""}]
[{"$f":"IF('FULL TRUSTEE LIST'!B2460=\"\",\"\",'FULL TRUSTEE LIST'!B2460&\" \"&'FULL TRUSTEE LIST'!C2460)","v":""}]
[{"$f":"IF('FULL TRUSTEE LIST'!B2461=\"\",\"\",'FULL TRUSTEE LIST'!B2461&\" \"&'FULL TRUSTEE LIST'!C2461)","v":""}]
[{"$f":"IF('FULL TRUSTEE LIST'!B2462=\"\",\"\",'FULL TRUSTEE LIST'!B2462&\" \"&'FULL TRUSTEE LIST'!C2462)","v":""}]
[{"$f":"IF('FULL TRUSTEE LIST'!B2463=\"\",\"\",'FULL TRUSTEE LIST'!B2463&\" \"&'FULL TRUSTEE LIST'!C2463)","v":""}]
[{"$f":"IF('FULL TRUSTEE LIST'!B2464=\"\",\"\",'FULL TRUSTEE LIST'!B2464&\" \"&'FULL TRUSTEE LIST'!C2464)","v":""}]
[{"$f":"IF('FULL TRUSTEE LIST'!B2465=\"\",\"\",'FULL TRUSTEE LIST'!B2465&\" \"&'FULL TRUSTEE LIST'!C2465)","v":""}]
[{"$f":"IF('FULL TRUSTEE LIST'!B2466=\"\",\"\",'FULL TRUSTEE LIST'!B2466&\" \"&'FULL TRUSTEE LIST'!C2466)","v":""}]
[{"$f":"IF('FULL TRUSTEE LIST'!B2467=\"\",\"\",'FULL TRUSTEE LIST'!B2467&\" \"&'FULL TRUSTEE LIST'!C2467)","v":""}]
[{"$f":"IF('FULL TRUSTEE LIST'!B2468=\"\",\"\",'FULL TRUSTEE LIST'!B2468&\" \"&'FULL TRUSTEE LIST'!C2468)","v":""}]
[{"$f":"IF('FULL TRUSTEE LIST'!B2469=\"\",\"\",'FULL TRUSTEE LIST'!B2469&\" \"&'FULL TRUSTEE LIST'!C2469)","v":""}]
[{"$f":"IF('FULL TRUSTEE LIST'!B2470=\"\",\"\",'FULL TRUSTEE LIST'!B2470&\" \"&'FULL TRUSTEE LIST'!C2470)","v":""}]
[{"$f":"IF('FULL TRUSTEE LIST'!B2471=\"\",\"\",'FULL TRUSTEE LIST'!B2471&\" \"&'FULL TRUSTEE LIST'!C2471)","v":""}]
[{"$f":"IF('FULL TRUSTEE LIST'!B2472=\"\",\"\",'FULL TRUSTEE LIST'!B2472&\" \"&'FULL TRUSTEE LIST'!C2472)","v":""}]
[{"$f":"IF('FULL TRUSTEE LIST'!B2473=\"\",\"\",'FULL TRUSTEE LIST'!B2473&\" \"&'FULL TRUSTEE LIST'!C2473)","v":""}]
[{"$f":"IF('FULL TRUSTEE LIST'!B2474=\"\",\"\",'FULL TRUSTEE LIST'!B2474&\" \"&'FULL TRUSTEE LIST'!C2474)","v":""}]
[{"$f":"IF('FULL TRUSTEE LIST'!B2475=\"\",\"\",'FULL TRUSTEE LIST'!B2475&\" \"&'FULL TRUSTEE LIST'!C2475)","v":""}]
[{"$f":"IF('FULL TRUSTEE LIST'!B2476=\"\",\"\",'FULL TRUSTEE LIST'!B2476&\" \"&'FULL TRUSTEE LIST'!C2476)","v":""}]
[{"$f":"IF('FULL TRUSTEE LIST'!B2477=\"\",\"\",'FULL TRUSTEE LIST'!B2477&\" \"&'FULL TRUSTEE LIST'!C2477)","v":""}]
[{"$f":"IF('FULL TRUSTEE LIST'!B2478=\"\",\"\",'FULL TRUSTEE LIST'!B2478&\" \"&'FULL TRUSTEE LIST'!C2478)","v":""}]
[{"$f":"IF('FULL TRUSTEE LIST'!B2479=\"\",\"\",'FULL TRUSTEE LIST'!B2479&\" \"&'FULL TRUSTEE LIST'!C2479)","v":""}]
[{"$f":"IF('FULL TRUSTEE LIST'!B2480=\"\",\"\",'FULL TRUSTEE LIST'!B2480&\" \"&'FULL TRUSTEE LIST'!C2480)","v":""}]
[{"$f":"IF('FULL TRUSTEE LIST'!B2481=\"\",\"\",'FULL TRUSTEE LIST'!B2481&\" \"&'FULL TRUSTEE LIST'!C2481)","v":""}]
[{"$f":"IF('FULL TRUSTEE LIST'!B2482=\"\",\"\",'FULL TRUSTEE LIST'!B2482&\" \"&'FULL TRUSTEE LIST'!C2482)","v":""}]
[{"$f":"IF('FULL TRUSTEE LIST'!B2483=\"\",\"\",'FULL TRUSTEE LIST'!B2483&\" \"&'FULL TRUSTEE LIST'!C2483)","v":""}]
[{"$f":"IF('FULL TRUSTEE LIST'!B2484=\"\",\"\",'FULL TRUSTEE LIST'!B2484&\" \"&'FULL TRUSTEE LIST'!C2484)","v":""}]
[{"$f":"IF('FULL TRUSTEE LIST'!B2485=\"\",\"\",'FULL TRUSTEE LIST'!B2485&\" \"&'FULL TRUSTEE LIST'!C2485)","v":""}]
[{"$f":"IF('FULL TRUSTEE LIST'!B2486=\"\",\"\",'FULL TRUSTEE LIST'!B2486&\" \"&'FULL TRUSTEE LIST'!C2486)","v":""}]
[{"$f":"IF('FULL TRUSTEE LIST'!B2487=\"\",\"\",'FULL TRUSTEE LIST'!B2487&\" \"&'FULL TRUSTEE LIST'!C2487)","v":""}]
[{"$f":"IF('FULL TRUSTEE LIST'!B2488=\"\",\"\",'FULL TRUSTEE LIST'!B2488&\" \"&'FULL TRUSTEE LIST'!C2488)","v":""}]
[{"$f":"IF('FULL TRUSTEE LIST'!B2489=\"\",\"\",'FULL TRUSTEE LIST'!B2489&\" \"&'FULL TRUSTEE LIST'!C2489)","v":""}]
[{"$f":"IF('FULL TRUSTEE LIST'!B2490=\"\",\"\",'FULL TRUSTEE LIST'!B2490&\" \"&'FULL TRUSTEE LIST'!C2490)","v":""}]
[{"$f":"IF('FULL TRUSTEE LIST'!B2491=\"\",\"\",'FULL TRUSTEE LIST'!B2491&\" \"&'FULL TRUSTEE LIST'!C2491)","v":""}]
[{"$f":"IF('FULL TRUSTEE LIST'!B2492=\"\",\"\",'FULL TRUSTEE LIST'!B2492&\" \"&'FULL TRUSTEE LIST'!C2492)","v":""}]
[{"$f":"IF('FULL TRUSTEE LIST'!B2493=\"\",\"\",'FULL TRUSTEE LIST'!B2493&\" \"&'FULL TRUSTEE LIST'!C2493)","v":""}]
[{"$f":"IF('FULL TRUSTEE LIST'!B2494=\"\",\"\",'FULL TRUSTEE LIST'!B2494&\" \"&'FULL TRUSTEE LIST'!C2494)","v":""}]
[{"$f":"IF('FULL TRUSTEE LIST'!B2495=\"\",\"\",'FULL TRUSTEE LIST'!B2495&\" \"&'FULL TRUSTEE LIST'!C2495)","v":""}]
[{"$f":"IF('FULL TRUSTEE LIST'!B2496=\"\",\"\",'FULL TRUSTEE LIST'!B2496&\" \"&'FULL TRUSTEE LIST'!C2496)","v":""}]
[{"$f":"IF('FULL TRUSTEE LIST'!B2497=\"\",\"\",'FULL TRUSTEE LIST'!B2497&\" \"&'FULL TRUSTEE LIST'!C2497)","v":""}]
[{"$f":"IF('FULL TRUSTEE LIST'!B2498=\"\",\"\",'FULL TRUSTEE LIST'!B2498&\" \"&'FULL TRUSTEE LIST'!C2498)","v":""}]
[{"$f":"IF('FULL TRUSTEE LIST'!B2499=\"\",\"\",'FULL TRUSTEE LIST'!B2499&\" \"&'FULL TRUSTEE LIST'!C2499)","v":""}]
[{"$f":"IF('FULL TRUSTEE LIST'!B2500=\"\",\"\",'FULL TRUSTEE LIST'!B2500&\" \"&'FULL TRUSTEE LIST'!C2500)","v":""}]
[{"$f":"IF('FULL TRUSTEE LIST'!B2501=\"\",\"\",'FULL TRUSTEE LIST'!B2501&\" \"&'FULL TRUSTEE LIST'!C2501)","v":""}]
[{"$f":"IF('FULL TRUSTEE LIST'!B2502=\"\",\"\",'FULL TRUSTEE LIST'!B2502&\" \"&'FULL TRUSTEE LIST'!C2502)","v":""}]
[{"$f":"IF('FULL TRUSTEE LIST'!B2503=\"\",\"\",'FULL TRUSTEE LIST'!B2503&\" \"&'FULL TRUSTEE LIST'!C2503)","v":""}]
[{"$f":"IF('FULL TRUSTEE LIST'!B2504=\"\",\"\",'FULL TRUSTEE LIST'!B2504&\" \"&'FULL TRUSTEE LIST'!C2504)","v":""}]
[{"$f":"IF('FULL TRUSTEE LIST'!B2505=\"\",\"\",'FULL TRUSTEE LIST'!B2505&\" \"&'FULL TRUSTEE LIST'!C2505)","v":""}]
[{"$f":"IF('FULL TRUSTEE LIST'!B2506=\"\",\"\",'FULL TRUSTEE LIST'!B2506&\" \"&'FULL TRUSTEE LIST'!C2506)","v":""}]
[{"$f":"IF('FULL TRUSTEE LIST'!B2507=\"\",\"\",'FULL TRUSTEE LIST'!B2507&\" \"&'FULL TRUSTEE LIST'!C2507)","v":""}]
[{"$f":"IF('FULL TRUSTEE LIST'!B2508=\"\",\"\",'FULL TRUSTEE LIST'!B2508&\" \"&'FULL TRUSTEE LIST'!C2508)","v":""}]
[{"$f":"IF('FULL TRUSTEE LIST'!B2509=\"\",\"\",'FULL TRUSTEE LIST'!B2509&\" \"&'FULL TRUSTEE LIST'!C2509)","v":""}]
[{"$f":"IF('FULL TRUSTEE LIST'!B2510=\"\",\"\",'FULL TRUSTEE LIST'!B2510&\" \"&'FULL TRUSTEE LIST'!C2510)","v":""}]
[{"$f":"IF('FULL TRUSTEE LIST'!B2511=\"\",\"\",'FULL TRUSTEE LIST'!B2511&\" \"&'FULL TRUSTEE LIST'!C2511)","v":""}]
[{"$f":"IF('FULL TRUSTEE LIST'!B2512=\"\",\"\",'FULL TRUSTEE LIST'!B2512&\" \"&'FULL TRUSTEE LIST'!C2512)","v":""}]
[{"$f":"IF('FULL TRUSTEE LIST'!B2513=\"\",\"\",'FULL TRUSTEE LIST'!B2513&\" \"&'FULL TRUSTEE LIST'!C2513)","v":""}]
[{"$f":"IF('FULL TRUSTEE LIST'!B2514=\"\",\"\",'FULL TRUSTEE LIST'!B2514&\" \"&'FULL TRUSTEE LIST'!C2514)","v":""}]
[{"$f":"IF('FULL TRUSTEE LIST'!B2515=\"\",\"\",'FULL TRUSTEE LIST'!B2515&\" \"&'FULL TRUSTEE LIST'!C2515)","v":""}]
[{"$f":"IF('FULL TRUSTEE LIST'!B2516=\"\",\"\",'FULL TRUSTEE LIST'!B2516&\" \"&'FULL TRUSTEE LIST'!C2516)","v":""}]
[{"$f":"IF('FULL TRUSTEE LIST'!B2517=\"\",\"\",'FULL TRUSTEE LIST'!B2517&\" \"&'FULL TRUSTEE LIST'!C2517)","v":""}]
[{"$f":"IF('FULL TRUSTEE LIST'!B2518=\"\",\"\",'FULL TRUSTEE LIST'!B2518&\" \"&'FULL TRUSTEE LIST'!C2518)","v":""}]
[{"$f":"IF('FULL TRUSTEE LIST'!B2519=\"\",\"\",'FULL TRUSTEE LIST'!B2519&\" \"&'FULL TRUSTEE LIST'!C2519)","v":""}]
[{"$f":"IF('FULL TRUSTEE LIST'!B2520=\"\",\"\",'FULL TRUSTEE LIST'!B2520&\" \"&'FULL TRUSTEE LIST'!C2520)","v":""}]
[{"$f":"IF('FULL TRUSTEE LIST'!B2521=\"\",\"\",'FULL TRUSTEE LIST'!B2521&\" \"&'FULL TRUSTEE LIST'!C2521)","v":""}]
[{"$f":"IF('FULL TRUSTEE LIST'!B2522=\"\",\"\",'FULL TRUSTEE LIST'!B2522&\" \"&'FULL TRUSTEE LIST'!C2522)","v":""}]
[{"$f":"IF('FULL TRUSTEE LIST'!B2523=\"\",\"\",'FULL TRUSTEE LIST'!B2523&\" \"&'FULL TRUSTEE LIST'!C2523)","v":""}]
[{"$f":"IF('FULL TRUSTEE LIST'!B2524=\"\",\"\",'FULL TRUSTEE LIST'!B2524&\" \"&'FULL TRUSTEE LIST'!C2524)","v":""}]
[{"$f":"IF('FULL TRUSTEE LIST'!B2525=\"\",\"\",'FULL TRUSTEE LIST'!B2525&\" \"&'FULL TRUSTEE LIST'!C2525)","v":""}]
[{"$f":"IF('FULL TRUSTEE LIST'!B2526=\"\",\"\",'FULL TRUSTEE LIST'!B2526&\" \"&'FULL TRUSTEE LIST'!C2526)","v":""}]
[{"$f":"IF('FULL TRUSTEE LIST'!B2527=\"\",\"\",'FULL TRUSTEE LIST'!B2527&\" \"&'FULL TRUSTEE LIST'!C2527)","v":""}]
[{"$f":"IF('FULL TRUSTEE LIST'!B2528=\"\",\"\",'FULL TRUSTEE LIST'!B2528&\" \"&'FULL TRUSTEE LIST'!C2528)","v":""}]
[{"$f":"IF('FULL TRUSTEE LIST'!B2529=\"\",\"\",'FULL TRUSTEE LIST'!B2529&\" \"&'FULL TRUSTEE LIST'!C2529)","v":""}]
[{"$f":"IF('FULL TRUSTEE LIST'!B2530=\"\",\"\",'FULL TRUSTEE LIST'!B2530&\" \"&'FULL TRUSTEE LIST'!C2530)","v":""}]
[{"$f":"IF('FULL TRUSTEE LIST'!B2531=\"\",\"\",'FULL TRUSTEE LIST'!B2531&\" \"&'FULL TRUSTEE LIST'!C2531)","v":""}]
[{"$f":"IF('FULL TRUSTEE LIST'!B2532=\"\",\"\",'FULL TRUSTEE LIST'!B2532&\" \"&'FULL TRUSTEE LIST'!C2532)","v":""}]
[{"$f":"IF('FULL TRUSTEE LIST'!B2533=\"\",\"\",'FULL TRUSTEE LIST'!B2533&\" \"&'FULL TRUSTEE LIST'!C2533)","v":""}]
[{"$f":"IF('FULL TRUSTEE LIST'!B2534=\"\",\"\",'FULL TRUSTEE LIST'!B2534&\" \"&'FULL TRUSTEE LIST'!C2534)","v":""}]
[{"$f":"IF('FULL TRUSTEE LIST'!B2535=\"\",\"\",'FULL TRUSTEE LIST'!B2535&\" \"&'FULL TRUSTEE LIST'!C2535)","v":""}]
[{"$f":"IF('FULL TRUSTEE LIST'!B2536=\"\",\"\",'FULL TRUSTEE LIST'!B2536&\" \"&'FULL TRUSTEE LIST'!C2536)","v":""}]
[{"$f":"IF('FULL TRUSTEE LIST'!B2537=\"\",\"\",'FULL TRUSTEE LIST'!B2537&\" \"&'FULL TRUSTEE LIST'!C2537)","v":""}]
[{"$f":"IF('FULL TRUSTEE LIST'!B2538=\"\",\"\",'FULL TRUSTEE LIST'!B2538&\" \"&'FULL TRUSTEE LIST'!C2538)","v":""}]
[{"$f":"IF('FULL TRUSTEE LIST'!B2539=\"\",\"\",'FULL TRUSTEE LIST'!B2539&\" \"&'FULL TRUSTEE LIST'!C2539)","v":""}]
[{"$f":"IF('FULL TRUSTEE LIST'!B2540=\"\",\"\",'FULL TRUSTEE LIST'!B2540&\" \"&'FULL TRUSTEE LIST'!C2540)","v":""}]
[{"$f":"IF('FULL TRUSTEE LIST'!B2541=\"\",\"\",'FULL TRUSTEE LIST'!B2541&\" \"&'FULL TRUSTEE LIST'!C2541)","v":""}]
[{"$f":"IF('FULL TRUSTEE LIST'!B2542=\"\",\"\",'FULL TRUSTEE LIST'!B2542&\" \"&'FULL TRUSTEE LIST'!C2542)","v":""}]
[{"$f":"IF('FULL TRUSTEE LIST'!B2543=\"\",\"\",'FULL TRUSTEE LIST'!B2543&\" \"&'FULL TRUSTEE LIST'!C2543)","v":""}]
[{"$f":"IF('FULL TRUSTEE LIST'!B2544=\"\",\"\",'FULL TRUSTEE LIST'!B2544&\" \"&'FULL TRUSTEE LIST'!C2544)","v":""}]
[{"$f":"IF('FULL TRUSTEE LIST'!B2545=\"\",\"\",'FULL TRUSTEE LIST'!B2545&\" \"&'FULL TRUSTEE LIST'!C2545)","v":""}]
[{"$f":"IF('FULL TRUSTEE LIST'!B2546=\"\",\"\",'FULL TRUSTEE LIST'!B2546&\" \"&'FULL TRUSTEE LIST'!C2546)","v":""}]
[{"$f":"IF('FULL TRUSTEE LIST'!B2547=\"\",\"\",'FULL TRUSTEE LIST'!B2547&\" \"&'FULL TRUSTEE LIST'!C2547)","v":""}]
[{"$f":"IF('FULL TRUSTEE LIST'!B2548=\"\",\"\",'FULL TRUSTEE LIST'!B2548&\" \"&'FULL TRUSTEE LIST'!C2548)","v":""}]
[{"$f":"IF('FULL TRUSTEE LIST'!B2549=\"\",\"\",'FULL TRUSTEE LIST'!B2549&\" \"&'FULL TRUSTEE LIST'!C2549)","v":""}]
[{"$f":"IF('FULL TRUSTEE LIST'!B2550=\"\",\"\",'FULL TRUSTEE LIST'!B2550&\" \"&'FULL TRUSTEE LIST'!C2550)","v":""}]
[{"$f":"IF('FULL TRUSTEE LIST'!B2551=\"\",\"\",'FULL TRUSTEE LIST'!B2551&\" \"&'FULL TRUSTEE LIST'!C2551)","v":""}]
[{"$f":"IF('FULL TRUSTEE LIST'!B2552=\"\",\"\",'FULL TRUSTEE LIST'!B2552&\" \"&'FULL TRUSTEE LIST'!C2552)","v":""}]
[{"$f":"IF('FULL TRUSTEE LIST'!B2553=\"\",\"\",'FULL TRUSTEE LIST'!B2553&\" \"&'FULL TRUSTEE LIST'!C2553)","v":""}]
[{"$f":"IF('FULL TRUSTEE LIST'!B2554=\"\",\"\",'FULL TRUSTEE LIST'!B2554&\" \"&'FULL TRUSTEE LIST'!C2554)","v":""}]
[{"$f":"IF('FULL TRUSTEE LIST'!B2555=\"\",\"\",'FULL TRUSTEE LIST'!B2555&\" \"&'FULL TRUSTEE LIST'!C2555)","v":""}]
[{"$f":"IF('FULL TRUSTEE LIST'!B2556=\"\",\"\",'FULL TRUSTEE LIST'!B2556&\" \"&'FULL TRUSTEE LIST'!C2556)","v":""}]
[{"$f":"IF('FULL TRUSTEE LIST'!B2557=\"\",\"\",'FULL TRUSTEE LIST'!B2557&\" \"&'FULL TRUSTEE LIST'!C2557)","v":""}]
[{"$f":"IF('FULL TRUSTEE LIST'!B2558=\"\",\"\",'FULL TRUSTEE LIST'!B2558&\" \"&'FULL TRUSTEE LIST'!C2558)","v":""}]
[{"$f":"IF('FULL TRUSTEE LIST'!B2559=\"\",\"\",'FULL TRUSTEE LIST'!B2559&\" \"&'FULL TRUSTEE LIST'!C2559)","v":""}]
[{"$f":"IF('FULL TRUSTEE LIST'!B2560=\"\",\"\",'FULL TRUSTEE LIST'!B2560&\" \"&'FULL TRUSTEE LIST'!C2560)","v":""}]
[{"$f":"IF('FULL TRUSTEE LIST'!B2561=\"\",\"\",'FULL TRUSTEE LIST'!B2561&\" \"&'FULL TRUSTEE LIST'!C2561)","v":""}]
[{"$f":"IF('FULL TRUSTEE LIST'!B2562=\"\",\"\",'FULL TRUSTEE LIST'!B2562&\" \"&'FULL TRUSTEE LIST'!C2562)","v":""}]
[{"$f":"IF('FULL TRUSTEE LIST'!B2563=\"\",\"\",'FULL TRUSTEE LIST'!B2563&\" \"&'FULL TRUSTEE LIST'!C2563)","v":""}]
[{"$f":"IF('FULL TRUSTEE LIST'!B2564=\"\",\"\",'FULL TRUSTEE LIST'!B2564&\" \"&'FULL TRUSTEE LIST'!C2564)","v":""}]
[{"$f":"IF('FULL TRUSTEE LIST'!B2565=\"\",\"\",'FULL TRUSTEE LIST'!B2565&\" \"&'FULL TRUSTEE LIST'!C2565)","v":""}]
[{"$f":"IF('FULL TRUSTEE LIST'!B2566=\"\",\"\",'FULL TRUSTEE LIST'!B2566&\" \"&'FULL TRUSTEE LIST'!C2566)","v":""}]
[{"$f":"IF('FULL TRUSTEE LIST'!B2567=\"\",\"\",'FULL TRUSTEE LIST'!B2567&\" \"&'FULL TRUSTEE LIST'!C2567)","v":""}]
[{"$f":"IF('FULL TRUSTEE LIST'!B2568=\"\",\"\",'FULL TRUSTEE LIST'!B2568&\" \"&'FULL TRUSTEE LIST'!C2568)","v":""}]
[{"$f":"IF('FULL TRUSTEE LIST'!B2569=\"\",\"\",'FULL TRUSTEE LIST'!B2569&\" \"&'FULL TRUSTEE LIST'!C2569)","v":""}]
[{"$f":"IF('FULL TRUSTEE LIST'!B2570=\"\",\"\",'FULL TRUSTEE LIST'!B2570&\" \"&'FULL TRUSTEE LIST'!C2570)","v":""}]
[{"$f":"IF('FULL TRUSTEE LIST'!B2571=\"\",\"\",'FULL TRUSTEE LIST'!B2571&\" \"&'FULL TRUSTEE LIST'!C2571)","v":""}]
[{"$f":"IF('FULL TRUSTEE LIST'!B2572=\"\",\"\",'FULL TRUSTEE LIST'!B2572&\" \"&'FULL TRUSTEE LIST'!C2572)","v":""}]
[{"$f":"IF('FULL TRUSTEE LIST'!B2573=\"\",\"\",'FULL TRUSTEE LIST'!B2573&\" \"&'FULL TRUSTEE LIST'!C2573)","v":""}]
[{"$f":"IF('FULL TRUSTEE LIST'!B2574=\"\",\"\",'FULL TRUSTEE LIST'!B2574&\" \"&'FULL TRUSTEE LIST'!C2574)","v":""}]
[{"$f":"IF('FULL TRUSTEE LIST'!B2575=\"\",\"\",'FULL TRUSTEE LIST'!B2575&\" \"&'FULL TRUSTEE LIST'!C2575)","v":""}]
[{"$f":"IF('FULL TRUSTEE LIST'!B2576=\"\",\"\",'FULL TRUSTEE LIST'!B2576&\" \"&'FULL TRUSTEE LIST'!C2576)","v":""}]
[{"$f":"IF('FULL TRUSTEE LIST'!B2577=\"\",\"\",'FULL TRUSTEE LIST'!B2577&\" \"&'FULL TRUSTEE LIST'!C2577)","v":""}]
[{"$f":"IF('FULL TRUSTEE LIST'!B2578=\"\",\"\",'FULL TRUSTEE LIST'!B2578&\" \"&'FULL TRUSTEE LIST'!C2578)","v":""}]
[{"$f":"IF('FULL TRUSTEE LIST'!B2579=\"\",\"\",'FULL TRUSTEE LIST'!B2579&\" \"&'FULL TRUSTEE LIST'!C2579)","v":""}]
[{"$f":"IF('FULL TRUSTEE LIST'!B2580=\"\",\"\",'FULL TRUSTEE LIST'!B2580&\" \"&'FULL TRUSTEE LIST'!C2580)","v":""}]
[{"$f":"IF('FULL TRUSTEE LIST'!B2581=\"\",\"\",'FULL TRUSTEE LIST'!B2581&\" \"&'FULL TRUSTEE LIST'!C2581)","v":""}]
[{"$f":"IF('FULL TRUSTEE LIST'!B2582=\"\",\"\",'FULL TRUSTEE LIST'!B2582&\" \"&'FULL TRUSTEE LIST'!C2582)","v":""}]
[{"$f":"IF('FULL TRUSTEE LIST'!B2583=\"\",\"\",'FULL TRUSTEE LIST'!B2583&\" \"&'FULL TRUSTEE LIST'!C2583)","v":""}]
[{"$f":"IF('FULL TRUSTEE LIST'!B2584=\"\",\"\",'FULL TRUSTEE LIST'!B2584&\" \"&'FULL TRUSTEE LIST'!C2584)","v":""}]
[{"$f":"IF('FULL TRUSTEE LIST'!B2585=\"\",\"\",'FULL TRUSTEE LIST'!B2585&\" \"&'FULL TRUSTEE LIST'!C2585)","v":""}]
[{"$f":"IF('FULL TRUSTEE LIST'!B2586=\"\",\"\",'FULL TRUSTEE LIST'!B2586&\" \"&'FULL TRUSTEE LIST'!C2586)","v":""}]
[{"$f":"IF('FULL TRUSTEE LIST'!B2587=\"\",\"\",'FULL TRUSTEE LIST'!B2587&\" \"&'FULL TRUSTEE LIST'!C2587)","v":""}]
[{"$f":"IF('FULL TRUSTEE LIST'!B2588=\"\",\"\",'FULL TRUSTEE LIST'!B2588&\" \"&'FULL TRUSTEE LIST'!C2588)","v":""}]
[{"$f":"IF('FULL TRUSTEE LIST'!B2589=\"\",\"\",'FULL TRUSTEE LIST'!B2589&\" \"&'FULL TRUSTEE LIST'!C2589)","v":""}]
[{"$f":"IF('FULL TRUSTEE LIST'!B2590=\"\",\"\",'FULL TRUSTEE LIST'!B2590&\" \"&'FULL TRUSTEE LIST'!C2590)","v":""}]
[{"$f":"IF('FULL TRUSTEE LIST'!B2591=\"\",\"\",'FULL TRUSTEE LIST'!B2591&\" \"&'FULL TRUSTEE LIST'!C2591)","v":""}]
[{"$f":"IF('FULL TRUSTEE LIST'!B2592=\"\",\"\",'FULL TRUSTEE LIST'!B2592&\" \"&'FULL TRUSTEE LIST'!C2592)","v":""}]
[{"$f":"IF('FULL TRUSTEE LIST'!B2593=\"\",\"\",'FULL TRUSTEE LIST'!B2593&\" \"&'FULL TRUSTEE LIST'!C2593)","v":""}]
[{"$f":"IF('FULL TRUSTEE LIST'!B2594=\"\",\"\",'FULL TRUSTEE LIST'!B2594&\" \"&'FULL TRUSTEE LIST'!C2594)","v":""}]
[{"$f":"IF('FULL TRUSTEE LIST'!B2595=\"\",\"\",'FULL TRUSTEE LIST'!B2595&\" \"&'FULL TRUSTEE LIST'!C2595)","v":""}]
[{"$f":"IF('FULL TRUSTEE LIST'!B2596=\"\",\"\",'FULL TRUSTEE LIST'!B2596&\" \"&'FULL TRUSTEE LIST'!C2596)","v":""}]
[{"$f":"IF('FULL TRUSTEE LIST'!B2597=\"\",\"\",'FULL TRUSTEE LIST'!B2597&\" \"&'FULL TRUSTEE LIST'!C2597)","v":""}]
[{"$f":"IF('FULL TRUSTEE LIST'!B2598=\"\",\"\",'FULL TRUSTEE LIST'!B2598&\" \"&'FULL TRUSTEE LIST'!C2598)","v":""}]
[{"$f":"IF('FULL TRUSTEE LIST'!B2599=\"\",\"\",'FULL TRUSTEE LIST'!B2599&\" \"&'FULL TRUSTEE LIST'!C2599)","v":""}]
[{"$f":"IF('FULL TRUSTEE LIST'!B2600=\"\",\"\",'FULL TRUSTEE LIST'!B2600&\" \"&'FULL TRUSTEE LIST'!C2600)","v":""}]
[{"$f":"IF('FULL TRUSTEE LIST'!B2601=\"\",\"\",'FULL TRUSTEE LIST'!B2601&\" \"&'FULL TRUSTEE LIST'!C2601)","v":""}]
[{"$f":"IF('FULL TRUSTEE LIST'!B2602=\"\",\"\",'FULL TRUSTEE LIST'!B2602&\" \"&'FULL TRUSTEE LIST'!C2602)","v":""}]
[{"$f":"IF('FULL TRUSTEE LIST'!B2603=\"\",\"\",'FULL TRUSTEE LIST'!B2603&\" \"&'FULL TRUSTEE LIST'!C2603)","v":""}]
[{"$f":"IF('FULL TRUSTEE LIST'!B2604=\"\",\"\",'FULL TRUSTEE LIST'!B2604&\" \"&'FULL TRUSTEE LIST'!C2604)","v":""}]
[{"$f":"IF('FULL TRUSTEE LIST'!B2605=\"\",\"\",'FULL TRUSTEE LIST'!B2605&\" \"&'FULL TRUSTEE LIST'!C2605)","v":""}]
[{"$f":"IF('FULL TRUSTEE LIST'!B2606=\"\",\"\",'FULL TRUSTEE LIST'!B2606&\" \"&'FULL TRUSTEE LIST'!C2606)","v":""}]
[{"$f":"IF('FULL TRUSTEE LIST'!B2607=\"\",\"\",'FULL TRUSTEE LIST'!B2607&\" \"&'FULL TRUSTEE LIST'!C2607)","v":""}]
[{"$f":"IF('FULL TRUSTEE LIST'!B2608=\"\",\"\",'FULL TRUSTEE LIST'!B2608&\" \"&'FULL TRUSTEE LIST'!C2608)","v":""}]
[{"$f":"IF('FULL TRUSTEE LIST'!B2609=\"\",\"\",'FULL TRUSTEE LIST'!B2609&\" \"&'FULL TRUSTEE LIST'!C2609)","v":""}]
[{"$f":"IF('FULL TRUSTEE LIST'!B2610=\"\",\"\",'FULL TRUSTEE LIST'!B2610&\" \"&'FULL TRUSTEE LIST'!C2610)","v":""}]
[{"$f":"IF('FULL TRUSTEE LIST'!B2611=\"\",\"\",'FULL TRUSTEE LIST'!B2611&\" \"&'FULL TRUSTEE LIST'!C2611)","v":""}]
[{"$f":"IF('FULL TRUSTEE LIST'!B2612=\"\",\"\",'FULL TRUSTEE LIST'!B2612&\" \"&'FULL TRUSTEE LIST'!C2612)","v":""}]
[{"$f":"IF('FULL TRUSTEE LIST'!B2613=\"\",\"\",'FULL TRUSTEE LIST'!B2613&\" \"&'FULL TRUSTEE LIST'!C2613)","v":""}]
[{"$f":"IF('FULL TRUSTEE LIST'!B2614=\"\",\"\",'FULL TRUSTEE LIST'!B2614&\" \"&'FULL TRUSTEE LIST'!C2614)","v":""}]
[{"$f":"IF('FULL TRUSTEE LIST'!B2615=\"\",\"\",'FULL TRUSTEE LIST'!B2615&\" \"&'FULL TRUSTEE LIST'!C2615)","v":""}]
[{"$f":"IF('FULL TRUSTEE LIST'!B2616=\"\",\"\",'FULL TRUSTEE LIST'!B2616&\" \"&'FULL TRUSTEE LIST'!C2616)","v":""}]
[{"$f":"IF('FULL TRUSTEE LIST'!B2617=\"\",\"\",'FULL TRUSTEE LIST'!B2617&\" \"&'FULL TRUSTEE LIST'!C2617)","v":""}]
[{"$f":"IF('FULL TRUSTEE LIST'!B2618=\"\",\"\",'FULL TRUSTEE LIST'!B2618&\" \"&'FULL TRUSTEE LIST'!C2618)","v":""}]
[{"$f":"IF('FULL TRUSTEE LIST'!B2619=\"\",\"\",'FULL TRUSTEE LIST'!B2619&\" \"&'FULL TRUSTEE LIST'!C2619)","v":""}]
[{"$f":"IF('FULL TRUSTEE LIST'!B2620=\"\",\"\",'FULL TRUSTEE LIST'!B2620&\" \"&'FULL TRUSTEE LIST'!C2620)","v":""}]
[{"$f":"IF('FULL TRUSTEE LIST'!B2621=\"\",\"\",'FULL TRUSTEE LIST'!B2621&\" \"&'FULL TRUSTEE LIST'!C2621)","v":""}]
[{"$f":"IF('FULL TRUSTEE LIST'!B2622=\"\",\"\",'FULL TRUSTEE LIST'!B2622&\" \"&'FULL TRUSTEE LIST'!C2622)","v":""}]
[{"$f":"IF('FULL TRUSTEE LIST'!B2623=\"\",\"\",'FULL TRUSTEE LIST'!B2623&\" \"&'FULL TRUSTEE LIST'!C2623)","v":""}]
[{"$f":"IF('FULL TRUSTEE LIST'!B2624=\"\",\"\",'FULL TRUSTEE LIST'!B2624&\" \"&'FULL TRUSTEE LIST'!C2624)","v":""}]
[{"$f":"IF('FULL TRUSTEE LIST'!B2625=\"\",\"\",'FULL TRUSTEE LIST'!B2625&\" \"&'FULL TRUSTEE LIST'!C2625)","v":""}]
[{"$f":"IF('FULL TRUSTEE LIST'!B2626=\"\",\"\",'FULL TRUSTEE LIST'!B2626&\" \"&'FULL TRUSTEE LIST'!C2626)","v":""}]
[{"$f":"IF('FULL TRUSTEE LIST'!B2627=\"\",\"\",'FULL TRUSTEE LIST'!B2627&\" \"&'FULL TRUSTEE LIST'!C2627)","v":""}]
[{"$f":"IF('FULL TRUSTEE LIST'!B2628=\"\",\"\",'FULL TRUSTEE LIST'!B2628&\" \"&'FULL TRUSTEE LIST'!C2628)","v":""}]
[{"$f":"IF('FULL TRUSTEE LIST'!B2629=\"\",\"\",'FULL TRUSTEE LIST'!B2629&\" \"&'FULL TRUSTEE LIST'!C2629)","v":""}]
[{"$f":"IF('FULL TRUSTEE LIST'!B2630=\"\",\"\",'FULL TRUSTEE LIST'!B2630&\" \"&'FULL TRUSTEE LIST'!C2630)","v":""}]
[{"$f":"IF('FULL TRUSTEE LIST'!B2631=\"\",\"\",'FULL TRUSTEE LIST'!B2631&\" \"&'FULL TRUSTEE LIST'!C2631)","v":""}]
[{"$f":"IF('FULL TRUSTEE LIST'!B2632=\"\",\"\",'FULL TRUSTEE LIST'!B2632&\" \"&'FULL TRUSTEE LIST'!C2632)","v":""}]
[{"$f":"IF('FULL TRUSTEE LIST'!B2633=\"\",\"\",'FULL TRUSTEE LIST'!B2633&\" \"&'FULL TRUSTEE LIST'!C2633)","v":""}]
[{"$f":"IF('FULL TRUSTEE LIST'!B2634=\"\",\"\",'FULL TRUSTEE LIST'!B2634&\" \"&'FULL TRUSTEE LIST'!C2634)","v":""}]
[{"$f":"IF('FULL TRUSTEE LIST'!B2635=\"\",\"\",'FULL TRUSTEE LIST'!B2635&\" \"&'FULL TRUSTEE LIST'!C2635)","v":""}]
[{"$f":"IF('FULL TRUSTEE LIST'!B2636=\"\",\"\",'FULL TRUSTEE LIST'!B2636&\" \"&'FULL TRUSTEE LIST'!C2636)","v":""}]
[{"$f":"IF('FULL TRUSTEE LIST'!B2637=\"\",\"\",'FULL TRUSTEE LIST'!B2637&\" \"&'FULL TRUSTEE LIST'!C2637)","v":""}]
[{"$f":"IF('FULL TRUSTEE LIST'!B2638=\"\",\"\",'FULL TRUSTEE LIST'!B2638&\" \"&'FULL TRUSTEE LIST'!C2638)","v":""}]
[{"$f":"IF('FULL TRUSTEE LIST'!B2639=\"\",\"\",'FULL TRUSTEE LIST'!B2639&\" \"&'FULL TRUSTEE LIST'!C2639)","v":""}]
[{"$f":"IF('FULL TRUSTEE LIST'!B2640=\"\",\"\",'FULL TRUSTEE LIST'!B2640&\" \"&'FULL TRUSTEE LIST'!C2640)","v":""}]
[{"$f":"IF('FULL TRUSTEE LIST'!B2641=\"\",\"\",'FULL TRUSTEE LIST'!B2641&\" \"&'FULL TRUSTEE LIST'!C2641)","v":""}]
[{"$f":"IF('FULL TRUSTEE LIST'!B2642=\"\",\"\",'FULL TRUSTEE LIST'!B2642&\" \"&'FULL TRUSTEE LIST'!C2642)","v":""}]
[{"$f":"IF('FULL TRUSTEE LIST'!B2643=\"\",\"\",'FULL TRUSTEE LIST'!B2643&\" \"&'FULL TRUSTEE LIST'!C2643)","v":""}]
[{"$f":"IF('FULL TRUSTEE LIST'!B2644=\"\",\"\",'FULL TRUSTEE LIST'!B2644&\" \"&'FULL TRUSTEE LIST'!C2644)","v":""}]
[{"$f":"IF('FULL TRUSTEE LIST'!B2645=\"\",\"\",'FULL TRUSTEE LIST'!B2645&\" \"&'FULL TRUSTEE LIST'!C2645)","v":""}]
[{"$f":"IF('FULL TRUSTEE LIST'!B2646=\"\",\"\",'FULL TRUSTEE LIST'!B2646&\" \"&'FULL TRUSTEE LIST'!C2646)","v":""}]
[{"$f":"IF('FULL TRUSTEE LIST'!B2647=\"\",\"\",'FULL TRUSTEE LIST'!B2647&\" \"&'FULL TRUSTEE LIST'!C2647)","v":""}]
[{"$f":"IF('FULL TRUSTEE LIST'!B2648=\"\",\"\",'FULL TRUSTEE LIST'!B2648&\" \"&'FULL TRUSTEE LIST'!C2648)","v":""}]
[{"$f":"IF('FULL TRUSTEE LIST'!B2649=\"\",\"\",'FULL TRUSTEE LIST'!B2649&\" \"&'FULL TRUSTEE LIST'!C2649)","v":""}]
[{"$f":"IF('FULL TRUSTEE LIST'!B2650=\"\",\"\",'FULL TRUSTEE LIST'!B2650&\" \"&'FULL TRUSTEE LIST'!C2650)","v":""}]
[{"$f":"IF('FULL TRUSTEE LIST'!B2651=\"\",\"\",'FULL TRUSTEE LIST'!B2651&\" \"&'FULL TRUSTEE LIST'!C2651)","v":""}]
[{"$f":"IF('FULL TRUSTEE LIST'!B2652=\"\",\"\",'FULL TRUSTEE LIST'!B2652&\" \"&'FULL TRUSTEE LIST'!C2652)","v":""}]
[{"$f":"IF('FULL TRUSTEE LIST'!B2653=\"\",\"\",'FULL TRUSTEE LIST'!B2653&\" \"&'FULL TRUSTEE LIST'!C2653)","v":""}]
[{"$f":"IF('FULL TRUSTEE LIST'!B2654=\"\",\"\",'FULL TRUSTEE LIST'!B2654&\" \"&'FULL TRUSTEE LIST'!C2654)","v":""}]
[{"$f":"IF('FULL TRUSTEE LIST'!B2655=\"\",\"\",'FULL TRUSTEE LIST'!B2655&\" \"&'FULL TRUSTEE LIST'!C2655)","v":""}]
[{"$f":"IF('FULL TRUSTEE LIST'!B2656=\"\",\"\",'FULL TRUSTEE LIST'!B2656&\" \"&'FULL TRUSTEE LIST'!C2656)","v":""}]
[{"$f":"IF('FULL TRUSTEE LIST'!B2657=\"\",\"\",'FULL TRUSTEE LIST'!B2657&\" \"&'FULL TRUSTEE LIST'!C2657)","v":""}]
[{"$f":"IF('FULL TRUSTEE LIST'!B2658=\"\",\"\",'FULL TRUSTEE LIST'!B2658&\" \"&'FULL TRUSTEE LIST'!C2658)","v":""}]
[{"$f":"IF('FULL TRUSTEE LIST'!B2659=\"\",\"\",'FULL TRUSTEE LIST'!B2659&\" \"&'FULL TRUSTEE LIST'!C2659)","v":""}]
[{"$f":"IF('FULL TRUSTEE LIST'!B2660=\"\",\"\",'FULL TRUSTEE LIST'!B2660&\" \"&'FULL TRUSTEE LIST'!C2660)","v":""}]
[{"$f":"IF('FULL TRUSTEE LIST'!B2661=\"\",\"\",'FULL TRUSTEE LIST'!B2661&\" \"&'FULL TRUSTEE LIST'!C2661)","v":""}]
[{"$f":"IF('FULL TRUSTEE LIST'!B2662=\"\",\"\",'FULL TRUSTEE LIST'!B2662&\" \"&'FULL TRUSTEE LIST'!C2662)","v":""}]
[{"$f":"IF('FULL TRUSTEE LIST'!B2663=\"\",\"\",'FULL TRUSTEE LIST'!B2663&\" \"&'FULL TRUSTEE LIST'!C2663)","v":""}]
[{"$f":"IF('FULL TRUSTEE LIST'!B2664=\"\",\"\",'FULL TRUSTEE LIST'!B2664&\" \"&'FULL TRUSTEE LIST'!C2664)","v":""}]
[{"$f":"IF('FULL TRUSTEE LIST'!B2665=\"\",\"\",'FULL TRUSTEE LIST'!B2665&\" \"&'FULL TRUSTEE LIST'!C2665)","v":""}]
[{"$f":"IF('FULL TRUSTEE LIST'!B2666=\"\",\"\",'FULL TRUSTEE LIST'!B2666&\" \"&'FULL TRUSTEE LIST'!C2666)","v":""}]
[{"$f":"IF('FULL TRUSTEE LIST'!B2667=\"\",\"\",'FULL TRUSTEE LIST'!B2667&\" \"&'FULL TRUSTEE LIST'!C2667)","v":""}]
[{"$f":"IF('FULL TRUSTEE LIST'!B2668=\"\",\"\",'FULL TRUSTEE LIST'!B2668&\" \"&'FULL TRUSTEE LIST'!C2668)","v":""}]
[{"$f":"IF('FULL TRUSTEE LIST'!B2669=\"\",\"\",'FULL TRUSTEE LIST'!B2669&\" \"&'FULL TRUSTEE LIST'!C2669)","v":""}]
[{"$f":"IF('FULL TRUSTEE LIST'!B2670=\"\",\"\",'FULL TRUSTEE LIST'!B2670&\" \"&'FULL TRUSTEE LIST'!C2670)","v":""}]
[{"$f":"IF('FULL TRUSTEE LIST'!B2671=\"\",\"\",'FULL TRUSTEE LIST'!B2671&\" \"&'FULL TRUSTEE LIST'!C2671)","v":""}]
[{"$f":"IF('FULL TRUSTEE LIST'!B2672=\"\",\"\",'FULL TRUSTEE LIST'!B2672&\" \"&'FULL TRUSTEE LIST'!C2672)","v":""}]
[{"$f":"IF('FULL TRUSTEE LIST'!B2673=\"\",\"\",'FULL TRUSTEE LIST'!B2673&\" \"&'FULL TRUSTEE LIST'!C2673)","v":""}]
[{"$f":"IF('FULL TRUSTEE LIST'!B2674=\"\",\"\",'FULL TRUSTEE LIST'!B2674&\" \"&'FULL TRUSTEE LIST'!C2674)","v":""}]
[{"$f":"IF('FULL TRUSTEE LIST'!B2675=\"\",\"\",'FULL TRUSTEE LIST'!B2675&\" \"&'FULL TRUSTEE LIST'!C2675)","v":""}]
[{"$f":"IF('FULL TRUSTEE LIST'!B2676=\"\",\"\",'FULL TRUSTEE LIST'!B2676&\" \"&'FULL TRUSTEE LIST'!C2676)","v":""}]
[{"$f":"IF('FULL TRUSTEE LIST'!B2677=\"\",\"\",'FULL TRUSTEE LIST'!B2677&\" \"&'FULL TRUSTEE LIST'!C2677)","v":""}]
[{"$f":"IF('FULL TRUSTEE LIST'!B2678=\"\",\"\",'FULL TRUSTEE LIST'!B2678&\" \"&'FULL TRUSTEE LIST'!C2678)","v":""}]
[{"$f":"IF('FULL TRUSTEE LIST'!B2679=\"\",\"\",'FULL TRUSTEE LIST'!B2679&\" \"&'FULL TRUSTEE LIST'!C2679)","v":""}]
[{"$f":"IF('FULL TRUSTEE LIST'!B2680=\"\",\"\",'FULL TRUSTEE LIST'!B2680&\" \"&'FULL TRUSTEE LIST'!C2680)","v":""}]
[{"$f":"IF('FULL TRUSTEE LIST'!B2681=\"\",\"\",'FULL TRUSTEE LIST'!B2681&\" \"&'FULL TRUSTEE LIST'!C2681)","v":""}]
[{"$f":"IF('FULL TRUSTEE LIST'!B2682=\"\",\"\",'FULL TRUSTEE LIST'!B2682&\" \"&'FULL TRUSTEE LIST'!C2682)","v":""}]
[{"$f":"IF('FULL TRUSTEE LIST'!B2683=\"\",\"\",'FULL TRUSTEE LIST'!B2683&\" \"&'FULL TRUSTEE LIST'!C2683)","v":""}]
[{"$f":"IF('FULL TRUSTEE LIST'!B2684=\"\",\"\",'FULL TRUSTEE LIST'!B2684&\" \"&'FULL TRUSTEE LIST'!C2684)","v":""}]
[{"$f":"IF('FULL TRUSTEE LIST'!B2685=\"\",\"\",'FULL TRUSTEE LIST'!B2685&\" \"&'FULL TRUSTEE LIST'!C2685)","v":""}]
[{"$f":"IF('FULL TRUSTEE LIST'!B2686=\"\",\"\",'FULL TRUSTEE LIST'!B2686&\" \"&'FULL TRUSTEE LIST'!C2686)","v":""}]
[{"$f":"IF('FULL TRUSTEE LIST'!B2687=\"\",\"\",'FULL TRUSTEE LIST'!B2687&\" \"&'FULL TRUSTEE LIST'!C2687)","v":""}]
[{"$f":"IF('FULL TRUSTEE LIST'!B2688=\"\",\"\",'FULL TRUSTEE LIST'!B2688&\" \"&'FULL TRUSTEE LIST'!C2688)","v":""}]
[{"$f":"IF('FULL TRUSTEE LIST'!B2689=\"\",\"\",'FULL TRUSTEE LIST'!B2689&\" \"&'FULL TRUSTEE LIST'!C2689)","v":""}]
[{"$f":"IF('FULL TRUSTEE LIST'!B2690=\"\",\"\",'FULL TRUSTEE LIST'!B2690&\" \"&'FULL TRUSTEE LIST'!C2690)","v":""}]
[{"$f":"IF('FULL TRUSTEE LIST'!B2691=\"\",\"\",'FULL TRUSTEE LIST'!B2691&\" \"&'FULL TRUSTEE LIST'!C2691)","v":""}]
[{"$f":"IF('FULL TRUSTEE LIST'!B2692=\"\",\"\",'FULL TRUSTEE LIST'!B2692&\" \"&'FULL TRUSTEE LIST'!C2692)","v":""}]
[{"$f":"IF('FULL TRUSTEE LIST'!B2693=\"\",\"\",'FULL TRUSTEE LIST'!B2693&\" \"&'FULL TRUSTEE LIST'!C2693)","v":""}]
[{"$f":"IF('FULL TRUSTEE LIST'!B2694=\"\",\"\",'FULL TRUSTEE LIST'!B2694&\" \"&'FULL TRUSTEE LIST'!C2694)","v":""}]
[{"$f":"IF('FULL TRUSTEE LIST'!B2695=\"\",\"\",'FULL TRUSTEE LIST'!B2695&\" \"&'FULL TRUSTEE LIST'!C2695)","v":""}]
[{"$f":"IF('FULL TRUSTEE LIST'!B2696=\"\",\"\",'FULL TRUSTEE LIST'!B2696&\" \"&'FULL TRUSTEE LIST'!C2696)","v":""}]
[{"$f":"IF('FULL TRUSTEE LIST'!B2697=\"\",\"\",'FULL TRUSTEE LIST'!B2697&\" \"&'FULL TRUSTEE LIST'!C2697)","v":""}]
[{"$f":"IF('FULL TRUSTEE LIST'!B2698=\"\",\"\",'FULL TRUSTEE LIST'!B2698&\" \"&'FULL TRUSTEE LIST'!C2698)","v":""}]
[{"$f":"IF('FULL TRUSTEE LIST'!B2699=\"\",\"\",'FULL TRUSTEE LIST'!B2699&\" \"&'FULL TRUSTEE LIST'!C2699)","v":""}]
[{"$f":"IF('FULL TRUSTEE LIST'!B2700=\"\",\"\",'FULL TRUSTEE LIST'!B2700&\" \"&'FULL TRUSTEE LIST'!C2700)","v":""}]
[{"$f":"IF('FULL TRUSTEE LIST'!B2701=\"\",\"\",'FULL TRUSTEE LIST'!B2701&\" \"&'FULL TRUSTEE LIST'!C2701)","v":""}]
[{"$f":"IF('FULL TRUSTEE LIST'!B2702=\"\",\"\",'FULL TRUSTEE LIST'!B2702&\" \"&'FULL TRUSTEE LIST'!C2702)","v":""}]
[{"$f":"IF('FULL TRUSTEE LIST'!B2703=\"\",\"\",'FULL TRUSTEE LIST'!B2703&\" \"&'FULL TRUSTEE LIST'!C2703)","v":""}]
[{"$f":"IF('FULL TRUSTEE LIST'!B2704=\"\",\"\",'FULL TRUSTEE LIST'!B2704&\" \"&'FULL TRUSTEE LIST'!C2704)","v":""}]
[{"$f":"IF('FULL TRUSTEE LIST'!B2705=\"\",\"\",'FULL TRUSTEE LIST'!B2705&\" \"&'FULL TRUSTEE LIST'!C2705)","v":""}]
[{"$f":"IF('FULL TRUSTEE LIST'!B2706=\"\",\"\",'FULL TRUSTEE LIST'!B2706&\" \"&'FULL TRUSTEE LIST'!C2706)","v":""}]
[{"$f":"IF('FULL TRUSTEE LIST'!B2707=\"\",\"\",'FULL TRUSTEE LIST'!B2707&\" \"&'FULL TRUSTEE LIST'!C2707)","v":""}]
[{"$f":"IF('FULL TRUSTEE LIST'!B2708=\"\",\"\",'FULL TRUSTEE LIST'!B2708&\" \"&'FULL TRUSTEE LIST'!C2708)","v":""}]
[{"$f":"IF('FULL TRUSTEE LIST'!B2709=\"\",\"\",'FULL TRUSTEE LIST'!B2709&\" \"&'FULL TRUSTEE LIST'!C2709)","v":""}]
[{"$f":"IF('FULL TRUSTEE LIST'!B2710=\"\",\"\",'FULL TRUSTEE LIST'!B2710&\" \"&'FULL TRUSTEE LIST'!C2710)","v":""}]
[{"$f":"IF('FULL TRUSTEE LIST'!B2711=\"\",\"\",'FULL TRUSTEE LIST'!B2711&\" \"&'FULL TRUSTEE LIST'!C2711)","v":""}]
[{"$f":"IF('FULL TRUSTEE LIST'!B2712=\"\",\"\",'FULL TRUSTEE LIST'!B2712&\" \"&'FULL TRUSTEE LIST'!C2712)","v":""}]
[{"$f":"IF('FULL TRUSTEE LIST'!B2713=\"\",\"\",'FULL TRUSTEE LIST'!B2713&\" \"&'FULL TRUSTEE LIST'!C2713)","v":""}]
[{"$f":"IF('FULL TRUSTEE LIST'!B2714=\"\",\"\",'FULL TRUSTEE LIST'!B2714&\" \"&'FULL TRUSTEE LIST'!C2714)","v":""}]
[{"$f":"IF('FULL TRUSTEE LIST'!B2715=\"\",\"\",'FULL TRUSTEE LIST'!B2715&\" \"&'FULL TRUSTEE LIST'!C2715)","v":""}]
[{"$f":"IF('FULL TRUSTEE LIST'!B2716=\"\",\"\",'FULL TRUSTEE LIST'!B2716&\" \"&'FULL TRUSTEE LIST'!C2716)","v":""}]
[{"$f":"IF('FULL TRUSTEE LIST'!B2717=\"\",\"\",'FULL TRUSTEE LIST'!B2717&\" \"&'FULL TRUSTEE LIST'!C2717)","v":""}]
[{"$f":"IF('FULL TRUSTEE LIST'!B2718=\"\",\"\",'FULL TRUSTEE LIST'!B2718&\" \"&'FULL TRUSTEE LIST'!C2718)","v":""}]
[{"$f":"IF('FULL TRUSTEE LIST'!B2719=\"\",\"\",'FULL TRUSTEE LIST'!B2719&\" \"&'FULL TRUSTEE LIST'!C2719)","v":""}]
[{"$f":"IF('FULL TRUSTEE LIST'!B2720=\"\",\"\",'FULL TRUSTEE LIST'!B2720&\" \"&'FULL TRUSTEE LIST'!C2720)","v":""}]
[{"$f":"IF('FULL TRUSTEE LIST'!B2721=\"\",\"\",'FULL TRUSTEE LIST'!B2721&\" \"&'FULL TRUSTEE LIST'!C2721)","v":""}]
[{"$f":"IF('FULL TRUSTEE LIST'!B2722=\"\",\"\",'FULL TRUSTEE LIST'!B2722&\" \"&'FULL TRUSTEE LIST'!C2722)","v":""}]
[{"$f":"IF('FULL TRUSTEE LIST'!B2723=\"\",\"\",'FULL TRUSTEE LIST'!B2723&\" \"&'FULL TRUSTEE LIST'!C2723)","v":""}]
[{"$f":"IF('FULL TRUSTEE LIST'!B2724=\"\",\"\",'FULL TRUSTEE LIST'!B2724&\" \"&'FULL TRUSTEE LIST'!C2724)","v":""}]
[{"$f":"IF('FULL TRUSTEE LIST'!B2725=\"\",\"\",'FULL TRUSTEE LIST'!B2725&\" \"&'FULL TRUSTEE LIST'!C2725)","v":""}]
[{"$f":"IF('FULL TRUSTEE LIST'!B2726=\"\",\"\",'FULL TRUSTEE LIST'!B2726&\" \"&'FULL TRUSTEE LIST'!C2726)","v":""}]
[{"$f":"IF('FULL TRUSTEE LIST'!B2727=\"\",\"\",'FULL TRUSTEE LIST'!B2727&\" \"&'FULL TRUSTEE LIST'!C2727)","v":""}]
[{"$f":"IF('FULL TRUSTEE LIST'!B2728=\"\",\"\",'FULL TRUSTEE LIST'!B2728&\" \"&'FULL TRUSTEE LIST'!C2728)","v":""}]
[{"$f":"IF('FULL TRUSTEE LIST'!B2729=\"\",\"\",'FULL TRUSTEE LIST'!B2729&\" \"&'FULL TRUSTEE LIST'!C2729)","v":""}]
[{"$f":"IF('FULL TRUSTEE LIST'!B2730=\"\",\"\",'FULL TRUSTEE LIST'!B2730&\" \"&'FULL TRUSTEE LIST'!C2730)","v":""}]
[{"$f":"IF('FULL TRUSTEE LIST'!B2731=\"\",\"\",'FULL TRUSTEE LIST'!B2731&\" \"&'FULL TRUSTEE LIST'!C2731)","v":""}]
[{"$f":"IF('FULL TRUSTEE LIST'!B2732=\"\",\"\",'FULL TRUSTEE LIST'!B2732&\" \"&'FULL TRUSTEE LIST'!C2732)","v":""}]
[{"$f":"IF('FULL TRUSTEE LIST'!B2733=\"\",\"\",'FULL TRUSTEE LIST'!B2733&\" \"&'FULL TRUSTEE LIST'!C2733)","v":""}]
[{"$f":"IF('FULL TRUSTEE LIST'!B2734=\"\",\"\",'FULL TRUSTEE LIST'!B2734&\" \"&'FULL TRUSTEE LIST'!C2734)","v":""}]
[{"$f":"IF('FULL TRUSTEE LIST'!B2735=\"\",\"\",'FULL TRUSTEE LIST'!B2735&\" \"&'FULL TRUSTEE LIST'!C2735)","v":""}]
[{"$f":"IF('FULL TRUSTEE LIST'!B2736=\"\",\"\",'FULL TRUSTEE LIST'!B2736&\" \"&'FULL TRUSTEE LIST'!C2736)","v":""}]
[{"$f":"IF('FULL TRUSTEE LIST'!B2737=\"\",\"\",'FULL TRUSTEE LIST'!B2737&\" \"&'FULL TRUSTEE LIST'!C2737)","v":""}]
[{"$f":"IF('FULL TRUSTEE LIST'!B2738=\"\",\"\",'FULL TRUSTEE LIST'!B2738&\" \"&'FULL TRUSTEE LIST'!C2738)","v":""}]
[{"$f":"IF('FULL TRUSTEE LIST'!B2739=\"\",\"\",'FULL TRUSTEE LIST'!B2739&\" \"&'FULL TRUSTEE LIST'!C2739)","v":""}]
[{"$f":"IF('FULL TRUSTEE LIST'!B2740=\"\",\"\",'FULL TRUSTEE LIST'!B2740&\" \"&'FULL TRUSTEE LIST'!C2740)","v":""}]
[{"$f":"IF('FULL TRUSTEE LIST'!B2741=\"\",\"\",'FULL TRUSTEE LIST'!B2741&\" \"&'FULL TRUSTEE LIST'!C2741)","v":""}]
[{"$f":"IF('FULL TRUSTEE LIST'!B2742=\"\",\"\",'FULL TRUSTEE LIST'!B2742&\" \"&'FULL TRUSTEE LIST'!C2742)","v":""}]
[{"$f":"IF('FULL TRUSTEE LIST'!B2743=\"\",\"\",'FULL TRUSTEE LIST'!B2743&\" \"&'FULL TRUSTEE LIST'!C2743)","v":""}]
[{"$f":"IF('FULL TRUSTEE LIST'!B2744=\"\",\"\",'FULL TRUSTEE LIST'!B2744&\" \"&'FULL TRUSTEE LIST'!C2744)","v":""}]
[{"$f":"IF('FULL TRUSTEE LIST'!B2745=\"\",\"\",'FULL TRUSTEE LIST'!B2745&\" \"&'FULL TRUSTEE LIST'!C2745)","v":""}]
[{"$f":"IF('FULL TRUSTEE LIST'!B2746=\"\",\"\",'FULL TRUSTEE LIST'!B2746&\" \"&'FULL TRUSTEE LIST'!C2746)","v":""}]
[{"$f":"IF('FULL TRUSTEE LIST'!B2747=\"\",\"\",'FULL TRUSTEE LIST'!B2747&\" \"&'FULL TRUSTEE LIST'!C2747)","v":""}]
[{"$f":"IF('FULL TRUSTEE LIST'!B2748=\"\",\"\",'FULL TRUSTEE LIST'!B2748&\" \"&'FULL TRUSTEE LIST'!C2748)","v":""}]
[{"$f":"IF('FULL TRUSTEE LIST'!B2749=\"\",\"\",'FULL TRUSTEE LIST'!B2749&\" \"&'FULL TRUSTEE LIST'!C2749)","v":""}]
[{"$f":"IF('FULL TRUSTEE LIST'!B2750=\"\",\"\",'FULL TRUSTEE LIST'!B2750&\" \"&'FULL TRUSTEE LIST'!C2750)","v":""}]
[{"$f":"IF('FULL TRUSTEE LIST'!B2751=\"\",\"\",'FULL TRUSTEE LIST'!B2751&\" \"&'FULL TRUSTEE LIST'!C2751)","v":""}]
[{"$f":"IF('FULL TRUSTEE LIST'!B2752=\"\",\"\",'FULL TRUSTEE LIST'!B2752&\" \"&'FULL TRUSTEE LIST'!C2752)","v":""}]
[{"$f":"IF('FULL TRUSTEE LIST'!B2753=\"\",\"\",'FULL TRUSTEE LIST'!B2753&\" \"&'FULL TRUSTEE LIST'!C2753)","v":""}]
[{"$f":"IF('FULL TRUSTEE LIST'!B2754=\"\",\"\",'FULL TRUSTEE LIST'!B2754&\" \"&'FULL TRUSTEE LIST'!C2754)","v":""}]
[{"$f":"IF('FULL TRUSTEE LIST'!B2755=\"\",\"\",'FULL TRUSTEE LIST'!B2755&\" \"&'FULL TRUSTEE LIST'!C2755)","v":""}]
[{"$f":"IF('FULL TRUSTEE LIST'!B2756=\"\",\"\",'FULL TRUSTEE LIST'!B2756&\" \"&'FULL TRUSTEE LIST'!C2756)","v":""}]
[{"$f":"IF('FULL TRUSTEE LIST'!B2757=\"\",\"\",'FULL TRUSTEE LIST'!B2757&\" \"&'FULL TRUSTEE LIST'!C2757)","v":""}]
[{"$f":"IF('FULL TRUSTEE LIST'!B2758=\"\",\"\",'FULL TRUSTEE LIST'!B2758&\" \"&'FULL TRUSTEE LIST'!C2758)","v":""}]
[{"$f":"IF('FULL TRUSTEE LIST'!B2759=\"\",\"\",'FULL TRUSTEE LIST'!B2759&\" \"&'FULL TRUSTEE LIST'!C2759)","v":""}]
[{"$f":"IF('FULL TRUSTEE LIST'!B2760=\"\",\"\",'FULL TRUSTEE LIST'!B2760&\" \"&'FULL TRUSTEE LIST'!C2760)","v":""}]
[{"$f":"IF('FULL TRUSTEE LIST'!B2761=\"\",\"\",'FULL TRUSTEE LIST'!B2761&\" \"&'FULL TRUSTEE LIST'!C2761)","v":""}]
[{"$f":"IF('FULL TRUSTEE LIST'!B2762=\"\",\"\",'FULL TRUSTEE LIST'!B2762&\" \"&'FULL TRUSTEE LIST'!C2762)","v":""}]
[{"$f":"IF('FULL TRUSTEE LIST'!B2763=\"\",\"\",'FULL TRUSTEE LIST'!B2763&\" \"&'FULL TRUSTEE LIST'!C2763)","v":""}]
[{"$f":"IF('FULL TRUSTEE LIST'!B2764=\"\",\"\",'FULL TRUSTEE LIST'!B2764&\" \"&'FULL TRUSTEE LIST'!C2764)","v":""}]
[{"$f":"IF('FULL TRUSTEE LIST'!B2765=\"\",\"\",'FULL TRUSTEE LIST'!B2765&\" \"&'FULL TRUSTEE LIST'!C2765)","v":""}]
[{"$f":"IF('FULL TRUSTEE LIST'!B2766=\"\",\"\",'FULL TRUSTEE LIST'!B2766&\" \"&'FULL TRUSTEE LIST'!C2766)","v":""}]
[{"$f":"IF('FULL TRUSTEE LIST'!B2767=\"\",\"\",'FULL TRUSTEE LIST'!B2767&\" \"&'FULL TRUSTEE LIST'!C2767)","v":""}]
[{"$f":"IF('FULL TRUSTEE LIST'!B2768=\"\",\"\",'FULL TRUSTEE LIST'!B2768&\" \"&'FULL TRUSTEE LIST'!C2768)","v":""}]
[{"$f":"IF('FULL TRUSTEE LIST'!B2769=\"\",\"\",'FULL TRUSTEE LIST'!B2769&\" \"&'FULL TRUSTEE LIST'!C2769)","v":""}]
[{"$f":"IF('FULL TRUSTEE LIST'!B2770=\"\",\"\",'FULL TRUSTEE LIST'!B2770&\" \"&'FULL TRUSTEE LIST'!C2770)","v":""}]
[{"$f":"IF('FULL TRUSTEE LIST'!B2771=\"\",\"\",'FULL TRUSTEE LIST'!B2771&\" \"&'FULL TRUSTEE LIST'!C2771)","v":""}]
[{"$f":"IF('FULL TRUSTEE LIST'!B2772=\"\",\"\",'FULL TRUSTEE LIST'!B2772&\" \"&'FULL TRUSTEE LIST'!C2772)","v":""}]
[{"$f":"IF('FULL TRUSTEE LIST'!B2773=\"\",\"\",'FULL TRUSTEE LIST'!B2773&\" \"&'FULL TRUSTEE LIST'!C2773)","v":""}]
[{"$f":"IF('FULL TRUSTEE LIST'!B2774=\"\",\"\",'FULL TRUSTEE LIST'!B2774&\" \"&'FULL TRUSTEE LIST'!C2774)","v":""}]
[{"$f":"IF('FULL TRUSTEE LIST'!B2775=\"\",\"\",'FULL TRUSTEE LIST'!B2775&\" \"&'FULL TRUSTEE LIST'!C2775)","v":""}]
[{"$f":"IF('FULL TRUSTEE LIST'!B2776=\"\",\"\",'FULL TRUSTEE LIST'!B2776&\" \"&'FULL TRUSTEE LIST'!C2776)","v":""}]
[{"$f":"IF('FULL TRUSTEE LIST'!B2777=\"\",\"\",'FULL TRUSTEE LIST'!B2777&\" \"&'FULL TRUSTEE LIST'!C2777)","v":""}]
[{"$f":"IF('FULL TRUSTEE LIST'!B2778=\"\",\"\",'FULL TRUSTEE LIST'!B2778&\" \"&'FULL TRUSTEE LIST'!C2778)","v":""}]
[{"$f":"IF('FULL TRUSTEE LIST'!B2779=\"\",\"\",'FULL TRUSTEE LIST'!B2779&\" \"&'FULL TRUSTEE LIST'!C2779)","v":""}]
[{"$f":"IF('FULL TRUSTEE LIST'!B2780=\"\",\"\",'FULL TRUSTEE LIST'!B2780&\" \"&'FULL TRUSTEE LIST'!C2780)","v":""}]
[{"$f":"IF('FULL TRUSTEE LIST'!B2781=\"\",\"\",'FULL TRUSTEE LIST'!B2781&\" \"&'FULL TRUSTEE LIST'!C2781)","v":""}]
[{"$f":"IF('FULL TRUSTEE LIST'!B2782=\"\",\"\",'FULL TRUSTEE LIST'!B2782&\" \"&'FULL TRUSTEE LIST'!C2782)","v":""}]
[{"$f":"IF('FULL TRUSTEE LIST'!B2783=\"\",\"\",'FULL TRUSTEE LIST'!B2783&\" \"&'FULL TRUSTEE LIST'!C2783)","v":""}]
[{"$f":"IF('FULL TRUSTEE LIST'!B2784=\"\",\"\",'FULL TRUSTEE LIST'!B2784&\" \"&'FULL TRUSTEE LIST'!C2784)","v":""}]
[{"$f":"IF('FULL TRUSTEE LIST'!B2785=\"\",\"\",'FULL TRUSTEE LIST'!B2785&\" \"&'FULL TRUSTEE LIST'!C2785)","v":""}]
[{"$f":"IF('FULL TRUSTEE LIST'!B2786=\"\",\"\",'FULL TRUSTEE LIST'!B2786&\" \"&'FULL TRUSTEE LIST'!C2786)","v":""}]
[{"$f":"IF('FULL TRUSTEE LIST'!B2787=\"\",\"\",'FULL TRUSTEE LIST'!B2787&\" \"&'FULL TRUSTEE LIST'!C2787)","v":""}]
[{"$f":"IF('FULL TRUSTEE LIST'!B2788=\"\",\"\",'FULL TRUSTEE LIST'!B2788&\" \"&'FULL TRUSTEE LIST'!C2788)","v":""}]
[{"$f":"IF('FULL TRUSTEE LIST'!B2789=\"\",\"\",'FULL TRUSTEE LIST'!B2789&\" \"&'FULL TRUSTEE LIST'!C2789)","v":""}]
[{"$f":"IF('FULL TRUSTEE LIST'!B2790=\"\",\"\",'FULL TRUSTEE LIST'!B2790&\" \"&'FULL TRUSTEE LIST'!C2790)","v":""}]
[{"$f":"IF('FULL TRUSTEE LIST'!B2791=\"\",\"\",'FULL TRUSTEE LIST'!B2791&\" \"&'FULL TRUSTEE LIST'!C2791)","v":""}]
[{"$f":"IF('FULL TRUSTEE LIST'!B2792=\"\",\"\",'FULL TRUSTEE LIST'!B2792&\" \"&'FULL TRUSTEE LIST'!C2792)","v":""}]
[{"$f":"IF('FULL TRUSTEE LIST'!B2793=\"\",\"\",'FULL TRUSTEE LIST'!B2793&\" \"&'FULL TRUSTEE LIST'!C2793)","v":""}]
[{"$f":"IF('FULL TRUSTEE LIST'!B2794=\"\",\"\",'FULL TRUSTEE LIST'!B2794&\" \"&'FULL TRUSTEE LIST'!C2794)","v":""}]
[{"$f":"IF('FULL TRUSTEE LIST'!B2795=\"\",\"\",'FULL TRUSTEE LIST'!B2795&\" \"&'FULL TRUSTEE LIST'!C2795)","v":""}]
[{"$f":"IF('FULL TRUSTEE LIST'!B2796=\"\",\"\",'FULL TRUSTEE LIST'!B2796&\" \"&'FULL TRUSTEE LIST'!C2796)","v":""}]
[{"$f":"IF('FULL TRUSTEE LIST'!B2797=\"\",\"\",'FULL TRUSTEE LIST'!B2797&\" \"&'FULL TRUSTEE LIST'!C2797)","v":""}]
[{"$f":"IF('FULL TRUSTEE LIST'!B2798=\"\",\"\",'FULL TRUSTEE LIST'!B2798&\" \"&'FULL TRUSTEE LIST'!C2798)","v":""}]
[{"$f":"IF('FULL TRUSTEE LIST'!B2799=\"\",\"\",'FULL TRUSTEE LIST'!B2799&\" \"&'FULL TRUSTEE LIST'!C2799)","v":""}]
[{"$f":"IF('FULL TRUSTEE LIST'!B2800=\"\",\"\",'FULL TRUSTEE LIST'!B2800&\" \"&'FULL TRUSTEE LIST'!C2800)","v":""}]
[{"$f":"IF('FULL TRUSTEE LIST'!B2801=\"\",\"\",'FULL TRUSTEE LIST'!B2801&\" \"&'FULL TRUSTEE LIST'!C2801)","v":""}]
[{"$f":"IF('FULL TRUSTEE LIST'!B2802=\"\",\"\",'FULL TRUSTEE LIST'!B2802&\" \"&'FULL TRUSTEE LIST'!C2802)","v":""}]
[{"$f":"IF('FULL TRUSTEE LIST'!B2803=\"\",\"\",'FULL TRUSTEE LIST'!B2803&\" \"&'FULL TRUSTEE LIST'!C2803)","v":""}]
[{"$f":"IF('FULL TRUSTEE LIST'!B2804=\"\",\"\",'FULL TRUSTEE LIST'!B2804&\" \"&'FULL TRUSTEE LIST'!C2804)","v":""}]
[{"$f":"IF('FULL TRUSTEE LIST'!B2805=\"\",\"\",'FULL TRUSTEE LIST'!B2805&\" \"&'FULL TRUSTEE LIST'!C2805)","v":""}]
[{"$f":"IF('FULL TRUSTEE LIST'!B2806=\"\",\"\",'FULL TRUSTEE LIST'!B2806&\" \"&'FULL TRUSTEE LIST'!C2806)","v":""}]
[{"$f":"IF('FULL TRUSTEE LIST'!B2807=\"\",\"\",'FULL TRUSTEE LIST'!B2807&\" \"&'FULL TRUSTEE LIST'!C2807)","v":""}]
[{"$f":"IF('FULL TRUSTEE LIST'!B2808=\"\",\"\",'FULL TRUSTEE LIST'!B2808&\" \"&'FULL TRUSTEE LIST'!C2808)","v":""}]
[{"$f":"IF('FULL TRUSTEE LIST'!B2809=\"\",\"\",'FULL TRUSTEE LIST'!B2809&\" \"&'FULL TRUSTEE LIST'!C2809)","v":""}]
[{"$f":"IF('FULL TRUSTEE LIST'!B2810=\"\",\"\",'FULL TRUSTEE LIST'!B2810&\" \"&'FULL TRUSTEE LIST'!C2810)","v":""}]
[{"$f":"IF('FULL TRUSTEE LIST'!B2811=\"\",\"\",'FULL TRUSTEE LIST'!B2811&\" \"&'FULL TRUSTEE LIST'!C2811)","v":""}]
[{"$f":"IF('FULL TRUSTEE LIST'!B2812=\"\",\"\",'FULL TRUSTEE LIST'!B2812&\" \"&'FULL TRUSTEE LIST'!C2812)","v":""}]
[{"$f":"IF('FULL TRUSTEE LIST'!B2813=\"\",\"\",'FULL TRUSTEE LIST'!B2813&\" \"&'FULL TRUSTEE LIST'!C2813)","v":""}]
[{"$f":"IF('FULL TRUSTEE LIST'!B2814=\"\",\"\",'FULL TRUSTEE LIST'!B2814&\" \"&'FULL TRUSTEE LIST'!C2814)","v":""}]
[{"$f":"IF('FULL TRUSTEE LIST'!B2815=\"\",\"\",'FULL TRUSTEE LIST'!B2815&\" \"&'FULL TRUSTEE LIST'!C2815)","v":""}]
[{"$f":"IF('FULL TRUSTEE LIST'!B2816=\"\",\"\",'FULL TRUSTEE LIST'!B2816&\" \"&'FULL TRUSTEE LIST'!C2816)","v":""}]
[{"$f":"IF('FULL TRUSTEE LIST'!B2817=\"\",\"\",'FULL TRUSTEE LIST'!B2817&\" \"&'FULL TRUSTEE LIST'!C2817)","v":""}]
[{"$f":"IF('FULL TRUSTEE LIST'!B2818=\"\",\"\",'FULL TRUSTEE LIST'!B2818&\" \"&'FULL TRUSTEE LIST'!C2818)","v":""}]
[{"$f":"IF('FULL TRUSTEE LIST'!B2819=\"\",\"\",'FULL TRUSTEE LIST'!B2819&\" \"&'FULL TRUSTEE LIST'!C2819)","v":""}]
[{"$f":"IF('FULL TRUSTEE LIST'!B2820=\"\",\"\",'FULL TRUSTEE LIST'!B2820&\" \"&'FULL TRUSTEE LIST'!C2820)","v":""}]
[{"$f":"IF('FULL TRUSTEE LIST'!B2821=\"\",\"\",'FULL TRUSTEE LIST'!B2821&\" \"&'FULL TRUSTEE LIST'!C2821)","v":""}]
[{"$f":"IF('FULL TRUSTEE LIST'!B2822=\"\",\"\",'FULL TRUSTEE LIST'!B2822&\" \"&'FULL TRUSTEE LIST'!C2822)","v":""}]
[{"$f":"IF('FULL TRUSTEE LIST'!B2823=\"\",\"\",'FULL TRUSTEE LIST'!B2823&\" \"&'FULL TRUSTEE LIST'!C2823)","v":""}]
[{"$f":"IF('FULL TRUSTEE LIST'!B2824=\"\",\"\",'FULL TRUSTEE LIST'!B2824&\" \"&'FULL TRUSTEE LIST'!C2824)","v":""}]
[{"$f":"IF('FULL TRUSTEE LIST'!B2825=\"\",\"\",'FULL TRUSTEE LIST'!B2825&\" \"&'FULL TRUSTEE LIST'!C2825)","v":""}]
[{"$f":"IF('FULL TRUSTEE LIST'!B2826=\"\",\"\",'FULL TRUSTEE LIST'!B2826&\" \"&'FULL TRUSTEE LIST'!C2826)","v":""}]
[{"$f":"IF('FULL TRUSTEE LIST'!B2827=\"\",\"\",'FULL TRUSTEE LIST'!B2827&\" \"&'FULL TRUSTEE LIST'!C2827)","v":""}]
[{"$f":"IF('FULL TRUSTEE LIST'!B2828=\"\",\"\",'FULL TRUSTEE LIST'!B2828&\" \"&'FULL TRUSTEE LIST'!C2828)","v":""}]
[{"$f":"IF('FULL TRUSTEE LIST'!B2829=\"\",\"\",'FULL TRUSTEE LIST'!B2829&\" \"&'FULL TRUSTEE LIST'!C2829)","v":""}]
[{"$f":"IF('FULL TRUSTEE LIST'!B2830=\"\",\"\",'FULL TRUSTEE LIST'!B2830&\" \"&'FULL TRUSTEE LIST'!C2830)","v":""}]
[{"$f":"IF('FULL TRUSTEE LIST'!B2831=\"\",\"\",'FULL TRUSTEE LIST'!B2831&\" \"&'FULL TRUSTEE LIST'!C2831)","v":""}]
[{"$f":"IF('FULL TRUSTEE LIST'!B2832=\"\",\"\",'FULL TRUSTEE LIST'!B2832&\" \"&'FULL TRUSTEE LIST'!C2832)","v":""}]
[{"$f":"IF('FULL TRUSTEE LIST'!B2833=\"\",\"\",'FULL TRUSTEE LIST'!B2833&\" \"&'FULL TRUSTEE LIST'!C2833)","v":""}]
[{"$f":"IF('FULL TRUSTEE LIST'!B2834=\"\",\"\",'FULL TRUSTEE LIST'!B2834&\" \"&'FULL TRUSTEE LIST'!C2834)","v":""}]
[{"$f":"IF('FULL TRUSTEE LIST'!B2835=\"\",\"\",'FULL TRUSTEE LIST'!B2835&\" \"&'FULL TRUSTEE LIST'!C2835)","v":""}]
[{"$f":"IF('FULL TRUSTEE LIST'!B2836=\"\",\"\",'FULL TRUSTEE LIST'!B2836&\" \"&'FULL TRUSTEE LIST'!C2836)","v":""}]
[{"$f":"IF('FULL TRUSTEE LIST'!B2837=\"\",\"\",'FULL TRUSTEE LIST'!B2837&\" \"&'FULL TRUSTEE LIST'!C2837)","v":""}]
[{"$f":"IF('FULL TRUSTEE LIST'!B2838=\"\",\"\",'FULL TRUSTEE LIST'!B2838&\" \"&'FULL TRUSTEE LIST'!C2838)","v":""}]
[{"$f":"IF('FULL TRUSTEE LIST'!B2839=\"\",\"\",'FULL TRUSTEE LIST'!B2839&\" \"&'FULL TRUSTEE LIST'!C2839)","v":""}]
[{"$f":"IF('FULL TRUSTEE LIST'!B2840=\"\",\"\",'FULL TRUSTEE LIST'!B2840&\" \"&'FULL TRUSTEE LIST'!C2840)","v":""}]
[{"$f":"IF('FULL TRUSTEE LIST'!B2841=\"\",\"\",'FULL TRUSTEE LIST'!B2841&\" \"&'FULL TRUSTEE LIST'!C2841)","v":""}]
[{"$f":"IF('FULL TRUSTEE LIST'!B2842=\"\",\"\",'FULL TRUSTEE LIST'!B2842&\" \"&'FULL TRUSTEE LIST'!C2842)","v":""}]
[{"$f":"IF('FULL TRUSTEE LIST'!B2843=\"\",\"\",'FULL TRUSTEE LIST'!B2843&\" \"&'FULL TRUSTEE LIST'!C2843)","v":""}]
[{"$f":"IF('FULL TRUSTEE LIST'!B2844=\"\",\"\",'FULL TRUSTEE LIST'!B2844&\" \"&'FULL TRUSTEE LIST'!C2844)","v":""}]
[{"$f":"IF('FULL TRUSTEE LIST'!B2845=\"\",\"\",'FULL TRUSTEE LIST'!B2845&\" \"&'FULL TRUSTEE LIST'!C2845)","v":""}]
[{"$f":"IF('FULL TRUSTEE LIST'!B2846=\"\",\"\",'FULL TRUSTEE LIST'!B2846&\" \"&'FULL TRUSTEE LIST'!C2846)","v":""}]
[{"$f":"IF('FULL TRUSTEE LIST'!B2847=\"\",\"\",'FULL TRUSTEE LIST'!B2847&\" \"&'FULL TRUSTEE LIST'!C2847)","v":""}]
[{"$f":"IF('FULL TRUSTEE LIST'!B2848=\"\",\"\",'FULL TRUSTEE LIST'!B2848&\" \"&'FULL TRUSTEE LIST'!C2848)","v":""}]
[{"$f":"IF('FULL TRUSTEE LIST'!B2849=\"\",\"\",'FULL TRUSTEE LIST'!B2849&\" \"&'FULL TRUSTEE LIST'!C2849)","v":""}]
[{"$f":"IF('FULL TRUSTEE LIST'!B2850=\"\",\"\",'FULL TRUSTEE LIST'!B2850&\" \"&'FULL TRUSTEE LIST'!C2850)","v":""}]
[{"$f":"IF('FULL TRUSTEE LIST'!B2851=\"\",\"\",'FULL TRUSTEE LIST'!B2851&\" \"&'FULL TRUSTEE LIST'!C2851)","v":""}]
[{"$f":"IF('FULL TRUSTEE LIST'!B2852=\"\",\"\",'FULL TRUSTEE LIST'!B2852&\" \"&'FULL TRUSTEE LIST'!C2852)","v":""}]
[{"$f":"IF('FULL TRUSTEE LIST'!B2853=\"\",\"\",'FULL TRUSTEE LIST'!B2853&\" \"&'FULL TRUSTEE LIST'!C2853)","v":""}]
[{"$f":"IF('FULL TRUSTEE LIST'!B2854=\"\",\"\",'FULL TRUSTEE LIST'!B2854&\" \"&'FULL TRUSTEE LIST'!C2854)","v":""}]
[{"$f":"IF('FULL TRUSTEE LIST'!B2855=\"\",\"\",'FULL TRUSTEE LIST'!B2855&\" \"&'FULL TRUSTEE LIST'!C2855)","v":""}]
[{"$f":"IF('FULL TRUSTEE LIST'!B2856=\"\",\"\",'FULL TRUSTEE LIST'!B2856&\" \"&'FULL TRUSTEE LIST'!C2856)","v":""}]
[{"$f":"IF('FULL TRUSTEE LIST'!B2857=\"\",\"\",'FULL TRUSTEE LIST'!B2857&\" \"&'FULL TRUSTEE LIST'!C2857)","v":""}]
[{"$f":"IF('FULL TRUSTEE LIST'!B2858=\"\",\"\",'FULL TRUSTEE LIST'!B2858&\" \"&'FULL TRUSTEE LIST'!C2858)","v":""}]
[{"$f":"IF('FULL TRUSTEE LIST'!B2859=\"\",\"\",'FULL TRUSTEE LIST'!B2859&\" \"&'FULL TRUSTEE LIST'!C2859)","v":""}]
[{"$f":"IF('FULL TRUSTEE LIST'!B2860=\"\",\"\",'FULL TRUSTEE LIST'!B2860&\" \"&'FULL TRUSTEE LIST'!C2860)","v":""}]
[{"$f":"IF('FULL TRUSTEE LIST'!B2861=\"\",\"\",'FULL TRUSTEE LIST'!B2861&\" \"&'FULL TRUSTEE LIST'!C2861)","v":""}]
[{"$f":"IF('FULL TRUSTEE LIST'!B2862=\"\",\"\",'FULL TRUSTEE LIST'!B2862&\" \"&'FULL TRUSTEE LIST'!C2862)","v":""}]
[{"$f":"IF('FULL TRUSTEE LIST'!B2863=\"\",\"\",'FULL TRUSTEE LIST'!B2863&\" \"&'FULL TRUSTEE LIST'!C2863)","v":""}]
[{"$f":"IF('FULL TRUSTEE LIST'!B2864=\"\",\"\",'FULL TRUSTEE LIST'!B2864&\" \"&'FULL TRUSTEE LIST'!C2864)","v":""}]
[{"$f":"IF('FULL TRUSTEE LIST'!B2865=\"\",\"\",'FULL TRUSTEE LIST'!B2865&\" \"&'FULL TRUSTEE LIST'!C2865)","v":""}]
[{"$f":"IF('FULL TRUSTEE LIST'!B2866=\"\",\"\",'FULL TRUSTEE LIST'!B2866&\" \"&'FULL TRUSTEE LIST'!C2866)","v":""}]
[{"$f":"IF('FULL TRUSTEE LIST'!B2867=\"\",\"\",'FULL TRUSTEE LIST'!B2867&\" \"&'FULL TRUSTEE LIST'!C2867)","v":""}]
[{"$f":"IF('FULL TRUSTEE LIST'!B2868=\"\",\"\",'FULL TRUSTEE LIST'!B2868&\" \"&'FULL TRUSTEE LIST'!C2868)","v":""}]
[{"$f":"IF('FULL TRUSTEE LIST'!B2869=\"\",\"\",'FULL TRUSTEE LIST'!B2869&\" \"&'FULL TRUSTEE LIST'!C2869)","v":""}]
[{"$f":"IF('FULL TRUSTEE LIST'!B2870=\"\",\"\",'FULL TRUSTEE LIST'!B2870&\" \"&'FULL TRUSTEE LIST'!C2870)","v":""}]
[{"$f":"IF('FULL TRUSTEE LIST'!B2871=\"\",\"\",'FULL TRUSTEE LIST'!B2871&\" \"&'FULL TRUSTEE LIST'!C2871)","v":""}]
[{"$f":"IF('FULL TRUSTEE LIST'!B2872=\"\",\"\",'FULL TRUSTEE LIST'!B2872&\" \"&'FULL TRUSTEE LIST'!C2872)","v":""}]
[{"$f":"IF('FULL TRUSTEE LIST'!B2873=\"\",\"\",'FULL TRUSTEE LIST'!B2873&\" \"&'FULL TRUSTEE LIST'!C2873)","v":""}]
[{"$f":"IF('FULL TRUSTEE LIST'!B2874=\"\",\"\",'FULL TRUSTEE LIST'!B2874&\" \"&'FULL TRUSTEE LIST'!C2874)","v":""}]
[{"$f":"IF('FULL TRUSTEE LIST'!B2875=\"\",\"\",'FULL TRUSTEE LIST'!B2875&\" \"&'FULL TRUSTEE LIST'!C2875)","v":""}]
[{"$f":"IF('FULL TRUSTEE LIST'!B2876=\"\",\"\",'FULL TRUSTEE LIST'!B2876&\" \"&'FULL TRUSTEE LIST'!C2876)","v":""}]
[{"$f":"IF('FULL TRUSTEE LIST'!B2877=\"\",\"\",'FULL TRUSTEE LIST'!B2877&\" \"&'FULL TRUSTEE LIST'!C2877)","v":""}]
[{"$f":"IF('FULL TRUSTEE LIST'!B2878=\"\",\"\",'FULL TRUSTEE LIST'!B2878&\" \"&'FULL TRUSTEE LIST'!C2878)","v":""}]
[{"$f":"IF('FULL TRUSTEE LIST'!B2879=\"\",\"\",'FULL TRUSTEE LIST'!B2879&\" \"&'FULL TRUSTEE LIST'!C2879)","v":""}]
[{"$f":"IF('FULL TRUSTEE LIST'!B2880=\"\",\"\",'FULL TRUSTEE LIST'!B2880&\" \"&'FULL TRUSTEE LIST'!C2880)","v":""}]
[{"$f":"IF('FULL TRUSTEE LIST'!B2881=\"\",\"\",'FULL TRUSTEE LIST'!B2881&\" \"&'FULL TRUSTEE LIST'!C2881)","v":""}]
[{"$f":"IF('FULL TRUSTEE LIST'!B2882=\"\",\"\",'FULL TRUSTEE LIST'!B2882&\" \"&'FULL TRUSTEE LIST'!C2882)","v":""}]
[{"$f":"IF('FULL TRUSTEE LIST'!B2883=\"\",\"\",'FULL TRUSTEE LIST'!B2883&\" \"&'FULL TRUSTEE LIST'!C2883)","v":""}]
[{"$f":"IF('FULL TRUSTEE LIST'!B2884=\"\",\"\",'FULL TRUSTEE LIST'!B2884&\" \"&'FULL TRUSTEE LIST'!C2884)","v":""}]
[{"$f":"IF('FULL TRUSTEE LIST'!B2885=\"\",\"\",'FULL TRUSTEE LIST'!B2885&\" \"&'FULL TRUSTEE LIST'!C2885)","v":""}]
[{"$f":"IF('FULL TRUSTEE LIST'!B2886=\"\",\"\",'FULL TRUSTEE LIST'!B2886&\" \"&'FULL TRUSTEE LIST'!C2886)","v":""}]
[{"$f":"IF('FULL TRUSTEE LIST'!B2887=\"\",\"\",'FULL TRUSTEE LIST'!B2887&\" \"&'FULL TRUSTEE LIST'!C2887)","v":""}]
[{"$f":"IF('FULL TRUSTEE LIST'!B2888=\"\",\"\",'FULL TRUSTEE LIST'!B2888&\" \"&'FULL TRUSTEE LIST'!C2888)","v":""}]
[{"$f":"IF('FULL TRUSTEE LIST'!B2889=\"\",\"\",'FULL TRUSTEE LIST'!B2889&\" \"&'FULL TRUSTEE LIST'!C2889)","v":""}]
[{"$f":"IF('FULL TRUSTEE LIST'!B2890=\"\",\"\",'FULL TRUSTEE LIST'!B2890&\" \"&'FULL TRUSTEE LIST'!C2890)","v":""}]
[{"$f":"IF('FULL TRUSTEE LIST'!B2891=\"\",\"\",'FULL TRUSTEE LIST'!B2891&\" \"&'FULL TRUSTEE LIST'!C2891)","v":""}]
[{"$f":"IF('FULL TRUSTEE LIST'!B2892=\"\",\"\",'FULL TRUSTEE LIST'!B2892&\" \"&'FULL TRUSTEE LIST'!C2892)","v":""}]
[{"$f":"IF('FULL TRUSTEE LIST'!B2893=\"\",\"\",'FULL TRUSTEE LIST'!B2893&\" \"&'FULL TRUSTEE LIST'!C2893)","v":""}]
[{"$f":"IF('FULL TRUSTEE LIST'!B2894=\"\",\"\",'FULL TRUSTEE LIST'!B2894&\" \"&'FULL TRUSTEE LIST'!C2894)","v":""}]
[{"$f":"IF('FULL TRUSTEE LIST'!B2895=\"\",\"\",'FULL TRUSTEE LIST'!B2895&\" \"&'FULL TRUSTEE LIST'!C2895)","v":""}]
[{"$f":"IF('FULL TRUSTEE LIST'!B2896=\"\",\"\",'FULL TRUSTEE LIST'!B2896&\" \"&'FULL TRUSTEE LIST'!C2896)","v":""}]
[{"$f":"IF('FULL TRUSTEE LIST'!B2897=\"\",\"\",'FULL TRUSTEE LIST'!B2897&\" \"&'FULL TRUSTEE LIST'!C2897)","v":""}]
[{"$f":"IF('FULL TRUSTEE LIST'!B2898=\"\",\"\",'FULL TRUSTEE LIST'!B2898&\" \"&'FULL TRUSTEE LIST'!C2898)","v":""}]
[{"$f":"IF('FULL TRUSTEE LIST'!B2899=\"\",\"\",'FULL TRUSTEE LIST'!B2899&\" \"&'FULL TRUSTEE LIST'!C2899)","v":""}]
[{"$f":"IF('FULL TRUSTEE LIST'!B2900=\"\",\"\",'FULL TRUSTEE LIST'!B2900&\" \"&'FULL TRUSTEE LIST'!C2900)","v":""}]
[{"$f":"IF('FULL TRUSTEE LIST'!B2901=\"\",\"\",'FULL TRUSTEE LIST'!B2901&\" \"&'FULL TRUSTEE LIST'!C2901)","v":""}]
[{"$f":"IF('FULL TRUSTEE LIST'!B2902=\"\",\"\",'FULL TRUSTEE LIST'!B2902&\" \"&'FULL TRUSTEE LIST'!C2902)","v":""}]
[{"$f":"IF('FULL TRUSTEE LIST'!B2903=\"\",\"\",'FULL TRUSTEE LIST'!B2903&\" \"&'FULL TRUSTEE LIST'!C2903)","v":""}]
[{"$f":"IF('FULL TRUSTEE LIST'!B2904=\"\",\"\",'FULL TRUSTEE LIST'!B2904&\" \"&'FULL TRUSTEE LIST'!C2904)","v":""}]
[{"$f":"IF('FULL TRUSTEE LIST'!B2905=\"\",\"\",'FULL TRUSTEE LIST'!B2905&\" \"&'FULL TRUSTEE LIST'!C2905)","v":""}]
[{"$f":"IF('FULL TRUSTEE LIST'!B2906=\"\",\"\",'FULL TRUSTEE LIST'!B2906&\" \"&'FULL TRUSTEE LIST'!C2906)","v":""}]
[{"$f":"IF('FULL TRUSTEE LIST'!B2907=\"\",\"\",'FULL TRUSTEE LIST'!B2907&\" \"&'FULL TRUSTEE LIST'!C2907)","v":""}]
[{"$f":"IF('FULL TRUSTEE LIST'!B2908=\"\",\"\",'FULL TRUSTEE LIST'!B2908&\" \"&'FULL TRUSTEE LIST'!C2908)","v":""}]
[{"$f":"IF('FULL TRUSTEE LIST'!B2909=\"\",\"\",'FULL TRUSTEE LIST'!B2909&\" \"&'FULL TRUSTEE LIST'!C2909)","v":""}]
[{"$f":"IF('FULL TRUSTEE LIST'!B2910=\"\",\"\",'FULL TRUSTEE LIST'!B2910&\" \"&'FULL TRUSTEE LIST'!C2910)","v":""}]
[{"$f":"IF('FULL TRUSTEE LIST'!B2911=\"\",\"\",'FULL TRUSTEE LIST'!B2911&\" \"&'FULL TRUSTEE LIST'!C2911)","v":""}]
[{"$f":"IF('FULL TRUSTEE LIST'!B2912=\"\",\"\",'FULL TRUSTEE LIST'!B2912&\" \"&'FULL TRUSTEE LIST'!C2912)","v":""}]
[{"$f":"IF('FULL TRUSTEE LIST'!B2913=\"\",\"\",'FULL TRUSTEE LIST'!B2913&\" \"&'FULL TRUSTEE LIST'!C2913)","v":""}]
[{"$f":"IF('FULL TRUSTEE LIST'!B2914=\"\",\"\",'FULL TRUSTEE LIST'!B2914&\" \"&'FULL TRUSTEE LIST'!C2914)","v":""}]
[{"$f":"IF('FULL TRUSTEE LIST'!B2915=\"\",\"\",'FULL TRUSTEE LIST'!B2915&\" \"&'FULL TRUSTEE LIST'!C2915)","v":""}]
[{"$f":"IF('FULL TRUSTEE LIST'!B2916=\"\",\"\",'FULL TRUSTEE LIST'!B2916&\" \"&'FULL TRUSTEE LIST'!C2916)","v":""}]
[{"$f":"IF('FULL TRUSTEE LIST'!B2917=\"\",\"\",'FULL TRUSTEE LIST'!B2917&\" \"&'FULL TRUSTEE LIST'!C2917)","v":""}]
[{"$f":"IF('FULL TRUSTEE LIST'!B2918=\"\",\"\",'FULL TRUSTEE LIST'!B2918&\" \"&'FULL TRUSTEE LIST'!C2918)","v":""}]
[{"$f":"IF('FULL TRUSTEE LIST'!B2919=\"\",\"\",'FULL TRUSTEE LIST'!B2919&\" \"&'FULL TRUSTEE LIST'!C2919)","v":""}]
[{"$f":"IF('FULL TRUSTEE LIST'!B2920=\"\",\"\",'FULL TRUSTEE LIST'!B2920&\" \"&'FULL TRUSTEE LIST'!C2920)","v":""}]
[{"$f":"IF('FULL TRUSTEE LIST'!B2921=\"\",\"\",'FULL TRUSTEE LIST'!B2921&\" \"&'FULL TRUSTEE LIST'!C2921)","v":""}]
[{"$f":"IF('FULL TRUSTEE LIST'!B2922=\"\",\"\",'FULL TRUSTEE LIST'!B2922&\" \"&'FULL TRUSTEE LIST'!C2922)","v":""}]
[{"$f":"IF('FULL TRUSTEE LIST'!B2923=\"\",\"\",'FULL TRUSTEE LIST'!B2923&\" \"&'FULL TRUSTEE LIST'!C2923)","v":""}]
[{"$f":"IF('FULL TRUSTEE LIST'!B2924=\"\",\"\",'FULL TRUSTEE LIST'!B2924&\" \"&'FULL TRUSTEE LIST'!C2924)","v":""}]
[{"$f":"IF('FULL TRUSTEE LIST'!B2925=\"\",\"\",'FULL TRUSTEE LIST'!B2925&\" \"&'FULL TRUSTEE LIST'!C2925)","v":""}]
[{"$f":"IF('FULL TRUSTEE LIST'!B2926=\"\",\"\",'FULL TRUSTEE LIST'!B2926&\" \"&'FULL TRUSTEE LIST'!C2926)","v":""}]
[{"$f":"IF('FULL TRUSTEE LIST'!B2927=\"\",\"\",'FULL TRUSTEE LIST'!B2927&\" \"&'FULL TRUSTEE LIST'!C2927)","v":""}]
[{"$f":"IF('FULL TRUSTEE LIST'!B2928=\"\",\"\",'FULL TRUSTEE LIST'!B2928&\" \"&'FULL TRUSTEE LIST'!C2928)","v":""}]
[{"$f":"IF('FULL TRUSTEE LIST'!B2929=\"\",\"\",'FULL TRUSTEE LIST'!B2929&\" \"&'FULL TRUSTEE LIST'!C2929)","v":""}]
[{"$f":"IF('FULL TRUSTEE LIST'!B2930=\"\",\"\",'FULL TRUSTEE LIST'!B2930&\" \"&'FULL TRUSTEE LIST'!C2930)","v":""}]
[{"$f":"IF('FULL TRUSTEE LIST'!B2931=\"\",\"\",'FULL TRUSTEE LIST'!B2931&\" \"&'FULL TRUSTEE LIST'!C2931)","v":""}]
[{"$f":"IF('FULL TRUSTEE LIST'!B2932=\"\",\"\",'FULL TRUSTEE LIST'!B2932&\" \"&'FULL TRUSTEE LIST'!C2932)","v":""}]
[{"$f":"IF('FULL TRUSTEE LIST'!B2933=\"\",\"\",'FULL TRUSTEE LIST'!B2933&\" \"&'FULL TRUSTEE LIST'!C2933)","v":""}]
[{"$f":"IF('FULL TRUSTEE LIST'!B2934=\"\",\"\",'FULL TRUSTEE LIST'!B2934&\" \"&'FULL TRUSTEE LIST'!C2934)","v":""}]
[{"$f":"IF('FULL TRUSTEE LIST'!B2935=\"\",\"\",'FULL TRUSTEE LIST'!B2935&\" \"&'FULL TRUSTEE LIST'!C2935)","v":""}]
[{"$f":"IF('FULL TRUSTEE LIST'!B2936=\"\",\"\",'FULL TRUSTEE LIST'!B2936&\" \"&'FULL TRUSTEE LIST'!C2936)","v":""}]
[{"$f":"IF('FULL TRUSTEE LIST'!B2937=\"\",\"\",'FULL TRUSTEE LIST'!B2937&\" \"&'FULL TRUSTEE LIST'!C2937)","v":""}]
[{"$f":"IF('FULL TRUSTEE LIST'!B2938=\"\",\"\",'FULL TRUSTEE LIST'!B2938&\" \"&'FULL TRUSTEE LIST'!C2938)","v":""}]
[{"$f":"IF('FULL TRUSTEE LIST'!B2939=\"\",\"\",'FULL TRUSTEE LIST'!B2939&\" \"&'FULL TRUSTEE LIST'!C2939)","v":""}]
[{"$f":"IF('FULL TRUSTEE LIST'!B2940=\"\",\"\",'FULL TRUSTEE LIST'!B2940&\" \"&'FULL TRUSTEE LIST'!C2940)","v":""}]
[{"$f":"IF('FULL TRUSTEE LIST'!B2941=\"\",\"\",'FULL TRUSTEE LIST'!B2941&\" \"&'FULL TRUSTEE LIST'!C2941)","v":""}]
[{"$f":"IF('FULL TRUSTEE LIST'!B2942=\"\",\"\",'FULL TRUSTEE LIST'!B2942&\" \"&'FULL TRUSTEE LIST'!C2942)","v":""}]
[{"$f":"IF('FULL TRUSTEE LIST'!B2943=\"\",\"\",'FULL TRUSTEE LIST'!B2943&\" \"&'FULL TRUSTEE LIST'!C2943)","v":""}]
[{"$f":"IF('FULL TRUSTEE LIST'!B2944=\"\",\"\",'FULL TRUSTEE LIST'!B2944&\" \"&'FULL TRUSTEE LIST'!C2944)","v":""}]
[{"$f":"IF('FULL TRUSTEE LIST'!B2945=\"\",\"\",'FULL TRUSTEE LIST'!B2945&\" \"&'FULL TRUSTEE LIST'!C2945)","v":""}]
[{"$f":"IF('FULL TRUSTEE LIST'!B2946=\"\",\"\",'FULL TRUSTEE LIST'!B2946&\" \"&'FULL TRUSTEE LIST'!C2946)","v":""}]
[{"$f":"IF('FULL TRUSTEE LIST'!B2947=\"\",\"\",'FULL TRUSTEE LIST'!B2947&\" \"&'FULL TRUSTEE LIST'!C2947)","v":""}]
[{"$f":"IF('FULL TRUSTEE LIST'!B2948=\"\",\"\",'FULL TRUSTEE LIST'!B2948&\" \"&'FULL TRUSTEE LIST'!C2948)","v":""}]
[{"$f":"IF('FULL TRUSTEE LIST'!B2949=\"\",\"\",'FULL TRUSTEE LIST'!B2949&\" \"&'FULL TRUSTEE LIST'!C2949)","v":""}]
[{"$f":"IF('FULL TRUSTEE LIST'!B2950=\"\",\"\",'FULL TRUSTEE LIST'!B2950&\" \"&'FULL TRUSTEE LIST'!C2950)","v":""}]
[{"$f":"IF('FULL TRUSTEE LIST'!B2951=\"\",\"\",'FULL TRUSTEE LIST'!B2951&\" \"&'FULL TRUSTEE LIST'!C2951)","v":""}]
[{"$f":"IF('FULL TRUSTEE LIST'!B2952=\"\",\"\",'FULL TRUSTEE LIST'!B2952&\" \"&'FULL TRUSTEE LIST'!C2952)","v":""}]
[{"$f":"IF('FULL TRUSTEE LIST'!B2953=\"\",\"\",'FULL TRUSTEE LIST'!B2953&\" \"&'FULL TRUSTEE LIST'!C2953)","v":""}]
[{"$f":"IF('FULL TRUSTEE LIST'!B2954=\"\",\"\",'FULL TRUSTEE LIST'!B2954&\" \"&'FULL TRUSTEE LIST'!C2954)","v":""}]
[{"$f":"IF('FULL TRUSTEE LIST'!B2955=\"\",\"\",'FULL TRUSTEE LIST'!B2955&\" \"&'FULL TRUSTEE LIST'!C2955)","v":""}]
[{"$f":"IF('FULL TRUSTEE LIST'!B2956=\"\",\"\",'FULL TRUSTEE LIST'!B2956&\" \"&'FULL TRUSTEE LIST'!C2956)","v":""}]
[{"$f":"IF('FULL TRUSTEE LIST'!B2957=\"\",\"\",'FULL TRUSTEE LIST'!B2957&\" \"&'FULL TRUSTEE LIST'!C2957)","v":""}]
[{"$f":"IF('FULL TRUSTEE LIST'!B2958=\"\",\"\",'FULL TRUSTEE LIST'!B2958&\" \"&'FULL TRUSTEE LIST'!C2958)","v":""}]
[{"$f":"IF('FULL TRUSTEE LIST'!B2959=\"\",\"\",'FULL TRUSTEE LIST'!B2959&\" \"&'FULL TRUSTEE LIST'!C2959)","v":""}]
[{"$f":"IF('FULL TRUSTEE LIST'!B2960=\"\",\"\",'FULL TRUSTEE LIST'!B2960&\" \"&'FULL TRUSTEE LIST'!C2960)","v":""}]
[{"$f":"IF('FULL TRUSTEE LIST'!B2961=\"\",\"\",'FULL TRUSTEE LIST'!B2961&\" \"&'FULL TRUSTEE LIST'!C2961)","v":""}]
[{"$f":"IF('FULL TRUSTEE LIST'!B2962=\"\",\"\",'FULL TRUSTEE LIST'!B2962&\" \"&'FULL TRUSTEE LIST'!C2962)","v":""}]
[{"$f":"IF('FULL TRUSTEE LIST'!B2963=\"\",\"\",'FULL TRUSTEE LIST'!B2963&\" \"&'FULL TRUSTEE LIST'!C2963)","v":""}]
[{"$f":"IF('FULL TRUSTEE LIST'!B2964=\"\",\"\",'FULL TRUSTEE LIST'!B2964&\" \"&'FULL TRUSTEE LIST'!C2964)","v":""}]
[{"$f":"IF('FULL TRUSTEE LIST'!B2965=\"\",\"\",'FULL TRUSTEE LIST'!B2965&\" \"&'FULL TRUSTEE LIST'!C2965)","v":""}]
[{"$f":"IF('FULL TRUSTEE LIST'!B2966=\"\",\"\",'FULL TRUSTEE LIST'!B2966&\" \"&'FULL TRUSTEE LIST'!C2966)","v":""}]
[{"$f":"IF('FULL TRUSTEE LIST'!B2967=\"\",\"\",'FULL TRUSTEE LIST'!B2967&\" \"&'FULL TRUSTEE LIST'!C2967)","v":""}]
[{"$f":"IF('FULL TRUSTEE LIST'!B2968=\"\",\"\",'FULL TRUSTEE LIST'!B2968&\" \"&'FULL TRUSTEE LIST'!C2968)","v":""}]
[{"$f":"IF('FULL TRUSTEE LIST'!B2969=\"\",\"\",'FULL TRUSTEE LIST'!B2969&\" \"&'FULL TRUSTEE LIST'!C2969)","v":""}]
[{"$f":"IF('FULL TRUSTEE LIST'!B2970=\"\",\"\",'FULL TRUSTEE LIST'!B2970&\" \"&'FULL TRUSTEE LIST'!C2970)","v":""}]
[{"$f":"IF('FULL TRUSTEE LIST'!B2971=\"\",\"\",'FULL TRUSTEE LIST'!B2971&\" \"&'FULL TRUSTEE LIST'!C2971)","v":""}]
[{"$f":"IF('FULL TRUSTEE LIST'!B2972=\"\",\"\",'FULL TRUSTEE LIST'!B2972&\" \"&'FULL TRUSTEE LIST'!C2972)","v":""}]
[{"$f":"IF('FULL TRUSTEE LIST'!B2973=\"\",\"\",'FULL TRUSTEE LIST'!B2973&\" \"&'FULL TRUSTEE LIST'!C2973)","v":""}]
[{"$f":"IF('FULL TRUSTEE LIST'!B2974=\"\",\"\",'FULL TRUSTEE LIST'!B2974&\" \"&'FULL TRUSTEE LIST'!C2974)","v":""}]
[{"$f":"IF('FULL TRUSTEE LIST'!B2975=\"\",\"\",'FULL TRUSTEE LIST'!B2975&\" \"&'FULL TRUSTEE LIST'!C2975)","v":""}]
[{"$f":"IF('FULL TRUSTEE LIST'!B2976=\"\",\"\",'FULL TRUSTEE LIST'!B2976&\" \"&'FULL TRUSTEE LIST'!C2976)","v":""}]
[{"$f":"IF('FULL TRUSTEE LIST'!B2977=\"\",\"\",'FULL TRUSTEE LIST'!B2977&\" \"&'FULL TRUSTEE LIST'!C2977)","v":""}]
[{"$f":"IF('FULL TRUSTEE LIST'!B2978=\"\",\"\",'FULL TRUSTEE LIST'!B2978&\" \"&'FULL TRUSTEE LIST'!C2978)","v":""}]
[{"$f":"IF('FULL TRUSTEE LIST'!B2979=\"\",\"\",'FULL TRUSTEE LIST'!B2979&\" \"&'FULL TRUSTEE LIST'!C2979)","v":""}]
[{"$f":"IF('FULL TRUSTEE LIST'!B2980=\"\",\"\",'FULL TRUSTEE LIST'!B2980&\" \"&'FULL TRUSTEE LIST'!C2980)","v":""}]
[{"$f":"IF('FULL TRUSTEE LIST'!B2981=\"\",\"\",'FULL TRUSTEE LIST'!B2981&\" \"&'FULL TRUSTEE LIST'!C2981)","v":""}]
[{"$f":"IF('FULL TRUSTEE LIST'!B2982=\"\",\"\",'FULL TRUSTEE LIST'!B2982&\" \"&'FULL TRUSTEE LIST'!C2982)","v":""}]
[{"$f":"IF('FULL TRUSTEE LIST'!B2983=\"\",\"\",'FULL TRUSTEE LIST'!B2983&\" \"&'FULL TRUSTEE LIST'!C2983)","v":""}]
[{"$f":"IF('FULL TRUSTEE LIST'!B2984=\"\",\"\",'FULL TRUSTEE LIST'!B2984&\" \"&'FULL TRUSTEE LIST'!C2984)","v":""}]
[{"$f":"IF('FULL TRUSTEE LIST'!B2985=\"\",\"\",'FULL TRUSTEE LIST'!B2985&\" \"&'FULL TRUSTEE LIST'!C2985)","v":""}]
[{"$f":"IF('FULL TRUSTEE LIST'!B2986=\"\",\"\",'FULL TRUSTEE LIST'!B2986&\" \"&'FULL TRUSTEE LIST'!C2986)","v":""}]
[{"$f":"IF('FULL TRUSTEE LIST'!B2987=\"\",\"\",'FULL TRUSTEE LIST'!B2987&\" \"&'FULL TRUSTEE LIST'!C2987)","v":""}]
[{"$f":"IF('FULL TRUSTEE LIST'!B2988=\"\",\"\",'FULL TRUSTEE LIST'!B2988&\" \"&'FULL TRUSTEE LIST'!C2988)","v":""}]
[{"$f":"IF('FULL TRUSTEE LIST'!B2989=\"\",\"\",'FULL TRUSTEE LIST'!B2989&\" \"&'FULL TRUSTEE LIST'!C2989)","v":""}]
[{"$f":"IF('FULL TRUSTEE LIST'!B2990=\"\",\"\",'FULL TRUSTEE LIST'!B2990&\" \"&'FULL TRUSTEE LIST'!C2990)","v":""}]
[{"$f":"IF('FULL TRUSTEE LIST'!B2991=\"\",\"\",'FULL TRUSTEE LIST'!B2991&\" \"&'FULL TRUSTEE LIST'!C2991)","v":""}]
[{"$f":"IF('FULL TRUSTEE LIST'!B2992=\"\",\"\",'FULL TRUSTEE LIST'!B2992&\" \"&'FULL TRUSTEE LIST'!C2992)","v":""}]
[{"$f":"IF('FULL TRUSTEE LIST'!B2993=\"\",\"\",'FULL TRUSTEE LIST'!B2993&\" \"&'FULL TRUSTEE LIST'!C2993)","v":""}]
[{"$f":"IF('FULL TRUSTEE LIST'!B2994=\"\",\"\",'FULL TRUSTEE LIST'!B2994&\" \"&'FULL TRUSTEE LIST'!C2994)","v":""}]
[{"$f":"IF('FULL TRUSTEE LIST'!B2995=\"\",\"\",'FULL TRUSTEE LIST'!B2995&\" \"&'FULL TRUSTEE LIST'!C2995)","v":""}]
[{"$f":"IF('FULL TRUSTEE LIST'!B2996=\"\",\"\",'FULL TRUSTEE LIST'!B2996&\" \"&'FULL TRUSTEE LIST'!C2996)","v":""}]
[{"$f":"IF('FULL TRUSTEE LIST'!B2997=\"\",\"\",'FULL TRUSTEE LIST'!B2997&\" \"&'FULL TRUSTEE LIST'!C2997)","v":""}]
[{"$f":"IF('FULL TRUSTEE LIST'!B2998=\"\",\"\",'FULL TRUSTEE LIST'!B2998&\" \"&'FULL TRUSTEE LIST'!C2998)","v":""}]
[{"$f":"IF('FULL TRUSTEE LIST'!B2999=\"\",\"\",'FULL TRUSTEE LIST'!B2999&\" \"&'FULL TRUSTEE LIST'!C2999)","v":""}]
[{"$f":"IF('FULL TRUSTEE LIST'!B3000=\"\",\"\",'FULL TRUSTEE LIST'!B3000&\" \"&'FULL TRUSTEE LIST'!C3000)","v":""}]
[{"$f":"IF('FULL TRUSTEE LIST'!B3001=\"\",\"\",'FULL TRUSTEE LIST'!B3001&\" \"&'FULL TRUSTEE LIST'!C3001)","v":""}]
[{"$f":"IF('FULL TRUSTEE LIST'!B3002=\"\",\"\",'FULL TRUSTEE LIST'!B3002&\" \"&'FULL TRUSTEE LIST'!C3002)","v":""}]
[{"$f":"IF('FULL TRUSTEE LIST'!B3003=\"\",\"\",'FULL TRUSTEE LIST'!B3003&\" \"&'FULL TRUSTEE LIST'!C3003)","v":""}]
[{"$f":"IF('FULL TRUSTEE LIST'!B3004=\"\",\"\",'FULL TRUSTEE LIST'!B3004&\" \"&'FULL TRUSTEE LIST'!C3004)","v":""}]
[{"$f":"IF('FULL TRUSTEE LIST'!B3005=\"\",\"\",'FULL TRUSTEE LIST'!B3005&\" \"&'FULL TRUSTEE LIST'!C3005)","v":""}]
[{"$f":"IF('FULL TRUSTEE LIST'!B3006=\"\",\"\",'FULL TRUSTEE LIST'!B3006&\" \"&'FULL TRUSTEE LIST'!C3006)","v":""}]
[{"$f":"IF('FULL TRUSTEE LIST'!B3007=\"\",\"\",'FULL TRUSTEE LIST'!B3007&\" \"&'FULL TRUSTEE LIST'!C3007)","v":""}]
[{"$f":"IF('FULL TRUSTEE LIST'!B3008=\"\",\"\",'FULL TRUSTEE LIST'!B3008&\" \"&'FULL TRUSTEE LIST'!C3008)","v":""}]
[{"$f":"IF('FULL TRUSTEE LIST'!B3009=\"\",\"\",'FULL TRUSTEE LIST'!B3009&\" \"&'FULL TRUSTEE LIST'!C3009)","v":""}]
[{"$f":"IF('FULL TRUSTEE LIST'!B3010=\"\",\"\",'FULL TRUSTEE LIST'!B3010&\" \"&'FULL TRUSTEE LIST'!C3010)","v":""}]
[{"$f":"IF('FULL TRUSTEE LIST'!B3011=\"\",\"\",'FULL TRUSTEE LIST'!B3011&\" \"&'FULL TRUSTEE LIST'!C3011)","v":""}]
[{"$f":"IF('FULL TRUSTEE LIST'!B3012=\"\",\"\",'FULL TRUSTEE LIST'!B3012&\" \"&'FULL TRUSTEE LIST'!C3012)","v":""}]
[{"$f":"IF('FULL TRUSTEE LIST'!B3013=\"\",\"\",'FULL TRUSTEE LIST'!B3013&\" \"&'FULL TRUSTEE LIST'!C3013)","v":""}]
[{"$f":"IF('FULL TRUSTEE LIST'!B3014=\"\",\"\",'FULL TRUSTEE LIST'!B3014&\" \"&'FULL TRUSTEE LIST'!C3014)","v":""}]
[{"$f":"IF('FULL TRUSTEE LIST'!B3015=\"\",\"\",'FULL TRUSTEE LIST'!B3015&\" \"&'FULL TRUSTEE LIST'!C3015)","v":""}]
[{"$f":"IF('FULL TRUSTEE LIST'!B3016=\"\",\"\",'FULL TRUSTEE LIST'!B3016&\" \"&'FULL TRUSTEE LIST'!C3016)","v":""}]
[{"$f":"IF('FULL TRUSTEE LIST'!B3017=\"\",\"\",'FULL TRUSTEE LIST'!B3017&\" \"&'FULL TRUSTEE LIST'!C3017)","v":""}]
[{"$f":"IF('FULL TRUSTEE LIST'!B3018=\"\",\"\",'FULL TRUSTEE LIST'!B3018&\" \"&'FULL TRUSTEE LIST'!C3018)","v":""}]
[{"$f":"IF('FULL TRUSTEE LIST'!B3019=\"\",\"\",'FULL TRUSTEE LIST'!B3019&\" \"&'FULL TRUSTEE LIST'!C3019)","v":""}]
[{"$f":"IF('FULL TRUSTEE LIST'!B3020=\"\",\"\",'FULL TRUSTEE LIST'!B3020&\" \"&'FULL TRUSTEE LIST'!C3020)","v":""}]
[{"$f":"IF('FULL TRUSTEE LIST'!B3021=\"\",\"\",'FULL TRUSTEE LIST'!B3021&\" \"&'FULL TRUSTEE LIST'!C3021)","v":""}]
[{"$f":"IF('FULL TRUSTEE LIST'!B3022=\"\",\"\",'FULL TRUSTEE LIST'!B3022&\" \"&'FULL TRUSTEE LIST'!C3022)","v":""}]
[{"$f":"IF('FULL TRUSTEE LIST'!B3023=\"\",\"\",'FULL TRUSTEE LIST'!B3023&\" \"&'FULL TRUSTEE LIST'!C3023)","v":""}]
[{"$f":"IF('FULL TRUSTEE LIST'!B3024=\"\",\"\",'FULL TRUSTEE LIST'!B3024&\" \"&'FULL TRUSTEE LIST'!C3024)","v":""}]
[{"$f":"IF('FULL TRUSTEE LIST'!B3025=\"\",\"\",'FULL TRUSTEE LIST'!B3025&\" \"&'FULL TRUSTEE LIST'!C3025)","v":""}]
[{"$f":"IF('FULL TRUSTEE LIST'!B3026=\"\",\"\",'FULL TRUSTEE LIST'!B3026&\" \"&'FULL TRUSTEE LIST'!C3026)","v":""}]
[{"$f":"IF('FULL TRUSTEE LIST'!B3027=\"\",\"\",'FULL TRUSTEE LIST'!B3027&\" \"&'FULL TRUSTEE LIST'!C3027)","v":""}]
[{"$f":"IF('FULL TRUSTEE LIST'!B3028=\"\",\"\",'FULL TRUSTEE LIST'!B3028&\" \"&'FULL TRUSTEE LIST'!C3028)","v":""}]
[{"$f":"IF('FULL TRUSTEE LIST'!B3029=\"\",\"\",'FULL TRUSTEE LIST'!B3029&\" \"&'FULL TRUSTEE LIST'!C3029)","v":""}]
[{"$f":"IF('FULL TRUSTEE LIST'!B3030=\"\",\"\",'FULL TRUSTEE LIST'!B3030&\" \"&'FULL TRUSTEE LIST'!C3030)","v":""}]
[{"$f":"IF('FULL TRUSTEE LIST'!B3031=\"\",\"\",'FULL TRUSTEE LIST'!B3031&\" \"&'FULL TRUSTEE LIST'!C3031)","v":""}]
[{"$f":"IF('FULL TRUSTEE LIST'!B3032=\"\",\"\",'FULL TRUSTEE LIST'!B3032&\" \"&'FULL TRUSTEE LIST'!C3032)","v":""}]
[{"$f":"IF('FULL TRUSTEE LIST'!B3033=\"\",\"\",'FULL TRUSTEE LIST'!B3033&\" \"&'FULL TRUSTEE LIST'!C3033)","v":""}]
[{"$f":"IF('FULL TRUSTEE LIST'!B3034=\"\",\"\",'FULL TRUSTEE LIST'!B3034&\" \"&'FULL TRUSTEE LIST'!C3034)","v":""}]
[{"$f":"IF('FULL TRUSTEE LIST'!B3035=\"\",\"\",'FULL TRUSTEE LIST'!B3035&\" \"&'FULL TRUSTEE LIST'!C3035)","v":""}]
[{"$f":"IF('FULL TRUSTEE LIST'!B3036=\"\",\"\",'FULL TRUSTEE LIST'!B3036&\" \"&'FULL TRUSTEE LIST'!C3036)","v":""}]
[{"$f":"IF('FULL TRUSTEE LIST'!B3037=\"\",\"\",'FULL TRUSTEE LIST'!B3037&\" \"&'FULL TRUSTEE LIST'!C3037)","v":""}]
[{"$f":"IF('FULL TRUSTEE LIST'!B3038=\"\",\"\",'FULL TRUSTEE LIST'!B3038&\" \"&'FULL TRUSTEE LIST'!C3038)","v":""}]
[{"$f":"IF('FULL TRUSTEE LIST'!B3039=\"\",\"\",'FULL TRUSTEE LIST'!B3039&\" \"&'FULL TRUSTEE LIST'!C3039)","v":""}]
[{"$f":"IF('FULL TRUSTEE LIST'!B3040=\"\",\"\",'FULL TRUSTEE LIST'!B3040&\" \"&'FULL TRUSTEE LIST'!C3040)","v":""}]
[{"$f":"IF('FULL TRUSTEE LIST'!B3041=\"\",\"\",'FULL TRUSTEE LIST'!B3041&\" \"&'FULL TRUSTEE LIST'!C3041)","v":""}]
[{"$f":"IF('FULL TRUSTEE LIST'!B3042=\"\",\"\",'FULL TRUSTEE LIST'!B3042&\" \"&'FULL TRUSTEE LIST'!C3042)","v":""}]
[{"$f":"IF('FULL TRUSTEE LIST'!B3043=\"\",\"\",'FULL TRUSTEE LIST'!B3043&\" \"&'FULL TRUSTEE LIST'!C3043)","v":""}]
[{"$f":"IF('FULL TRUSTEE LIST'!B3044=\"\",\"\",'FULL TRUSTEE LIST'!B3044&\" \"&'FULL TRUSTEE LIST'!C3044)","v":""}]
[{"$f":"IF('FULL TRUSTEE LIST'!B3045=\"\",\"\",'FULL TRUSTEE LIST'!B3045&\" \"&'FULL TRUSTEE LIST'!C3045)","v":""}]
[{"$f":"IF('FULL TRUSTEE LIST'!B3046=\"\",\"\",'FULL TRUSTEE LIST'!B3046&\" \"&'FULL TRUSTEE LIST'!C3046)","v":""}]
[{"$f":"IF('FULL TRUSTEE LIST'!B3047=\"\",\"\",'FULL TRUSTEE LIST'!B3047&\" \"&'FULL TRUSTEE LIST'!C3047)","v":""}]
[{"$f":"IF('FULL TRUSTEE LIST'!B3048=\"\",\"\",'FULL TRUSTEE LIST'!B3048&\" \"&'FULL TRUSTEE LIST'!C3048)","v":""}]
[{"$f":"IF('FULL TRUSTEE LIST'!B3049=\"\",\"\",'FULL TRUSTEE LIST'!B3049&\" \"&'FULL TRUSTEE LIST'!C3049)","v":""}]
[{"$f":"IF('FULL TRUSTEE LIST'!B3050=\"\",\"\",'FULL TRUSTEE LIST'!B3050&\" \"&'FULL TRUSTEE LIST'!C3050)","v":""}]
[{"$f":"IF('FULL TRUSTEE LIST'!B3051=\"\",\"\",'FULL TRUSTEE LIST'!B3051&\" \"&'FULL TRUSTEE LIST'!C3051)","v":""}]
[{"$f":"IF('FULL TRUSTEE LIST'!B3052=\"\",\"\",'FULL TRUSTEE LIST'!B3052&\" \"&'FULL TRUSTEE LIST'!C3052)","v":""}]
[{"$f":"IF('FULL TRUSTEE LIST'!B3053=\"\",\"\",'FULL TRUSTEE LIST'!B3053&\" \"&'FULL TRUSTEE LIST'!C3053)","v":""}]
[{"$f":"IF('FULL TRUSTEE LIST'!B3054=\"\",\"\",'FULL TRUSTEE LIST'!B3054&\" \"&'FULL TRUSTEE LIST'!C3054)","v":""}]
[{"$f":"IF('FULL TRUSTEE LIST'!B3055=\"\",\"\",'FULL TRUSTEE LIST'!B3055&\" \"&'FULL TRUSTEE LIST'!C3055)","v":""}]
[{"$f":"IF('FULL TRUSTEE LIST'!B3056=\"\",\"\",'FULL TRUSTEE LIST'!B3056&\" \"&'FULL TRUSTEE LIST'!C3056)","v":""}]
[{"$f":"IF('FULL TRUSTEE LIST'!B3057=\"\",\"\",'FULL TRUSTEE LIST'!B3057&\" \"&'FULL TRUSTEE LIST'!C3057)","v":""}]
[{"$f":"IF('FULL TRUSTEE LIST'!B3058=\"\",\"\",'FULL TRUSTEE LIST'!B3058&\" \"&'FULL TRUSTEE LIST'!C3058)","v":""}]
[{"$f":"IF('FULL TRUSTEE LIST'!B3059=\"\",\"\",'FULL TRUSTEE LIST'!B3059&\" \"&'FULL TRUSTEE LIST'!C3059)","v":""}]
[{"$f":"IF('FULL TRUSTEE LIST'!B3060=\"\",\"\",'FULL TRUSTEE LIST'!B3060&\" \"&'FULL TRUSTEE LIST'!C3060)","v":""}]
[{"$f":"IF('FULL TRUSTEE LIST'!B3061=\"\",\"\",'FULL TRUSTEE LIST'!B3061&\" \"&'FULL TRUSTEE LIST'!C3061)","v":""}]
[{"$f":"IF('FULL TRUSTEE LIST'!B3062=\"\",\"\",'FULL TRUSTEE LIST'!B3062&\" \"&'FULL TRUSTEE LIST'!C3062)","v":""}]
[{"$f":"IF('FULL TRUSTEE LIST'!B3063=\"\",\"\",'FULL TRUSTEE LIST'!B3063&\" \"&'FULL TRUSTEE LIST'!C3063)","v":""}]
[{"$f":"IF('FULL TRUSTEE LIST'!B3064=\"\",\"\",'FULL TRUSTEE LIST'!B3064&\" \"&'FULL TRUSTEE LIST'!C3064)","v":""}]
[{"$f":"IF('FULL TRUSTEE LIST'!B3065=\"\",\"\",'FULL TRUSTEE LIST'!B3065&\" \"&'FULL TRUSTEE LIST'!C3065)","v":""}]
[{"$f":"IF('FULL TRUSTEE LIST'!B3066=\"\",\"\",'FULL TRUSTEE LIST'!B3066&\" \"&'FULL TRUSTEE LIST'!C3066)","v":""}]
[{"$f":"IF('FULL TRUSTEE LIST'!B3067=\"\",\"\",'FULL TRUSTEE LIST'!B3067&\" \"&'FULL TRUSTEE LIST'!C3067)","v":""}]
[{"$f":"IF('FULL TRUSTEE LIST'!B3068=\"\",\"\",'FULL TRUSTEE LIST'!B3068&\" \"&'FULL TRUSTEE LIST'!C3068)","v":""}]
[{"$f":"IF('FULL TRUSTEE LIST'!B3069=\"\",\"\",'FULL TRUSTEE LIST'!B3069&\" \"&'FULL TRUSTEE LIST'!C3069)","v":""}]
[{"$f":"IF('FULL TRUSTEE LIST'!B3070=\"\",\"\",'FULL TRUSTEE LIST'!B3070&\" \"&'FULL TRUSTEE LIST'!C3070)","v":""}]
[{"$f":"IF('FULL TRUSTEE LIST'!B3071=\"\",\"\",'FULL TRUSTEE LIST'!B3071&\" \"&'FULL TRUSTEE LIST'!C3071)","v":""}]
[{"$f":"IF('FULL TRUSTEE LIST'!B3072=\"\",\"\",'FULL TRUSTEE LIST'!B3072&\" \"&'FULL TRUSTEE LIST'!C3072)","v":""}]
[{"$f":"IF('FULL TRUSTEE LIST'!B3073=\"\",\"\",'FULL TRUSTEE LIST'!B3073&\" \"&'FULL TRUSTEE LIST'!C3073)","v":""}]
[{"$f":"IF('FULL TRUSTEE LIST'!B3074=\"\",\"\",'FULL TRUSTEE LIST'!B3074&\" \"&'FULL TRUSTEE LIST'!C3074)","v":""}]
[{"$f":"IF('FULL TRUSTEE LIST'!B3075=\"\",\"\",'FULL TRUSTEE LIST'!B3075&\" \"&'FULL TRUSTEE LIST'!C3075)","v":""}]
[{"$f":"IF('FULL TRUSTEE LIST'!B3076=\"\",\"\",'FULL TRUSTEE LIST'!B3076&\" \"&'FULL TRUSTEE LIST'!C3076)","v":""}]
[{"$f":"IF('FULL TRUSTEE LIST'!B3077=\"\",\"\",'FULL TRUSTEE LIST'!B3077&\" \"&'FULL TRUSTEE LIST'!C3077)","v":""}]
[{"$f":"IF('FULL TRUSTEE LIST'!B3078=\"\",\"\",'FULL TRUSTEE LIST'!B3078&\" \"&'FULL TRUSTEE LIST'!C3078)","v":""}]
[{"$f":"IF('FULL TRUSTEE LIST'!B3079=\"\",\"\",'FULL TRUSTEE LIST'!B3079&\" \"&'FULL TRUSTEE LIST'!C3079)","v":""}]
[{"$f":"IF('FULL TRUSTEE LIST'!B3080=\"\",\"\",'FULL TRUSTEE LIST'!B3080&\" \"&'FULL TRUSTEE LIST'!C3080)","v":""}]
[{"$f":"IF('FULL TRUSTEE LIST'!B3081=\"\",\"\",'FULL TRUSTEE LIST'!B3081&\" \"&'FULL TRUSTEE LIST'!C3081)","v":""}]
[{"$f":"IF('FULL TRUSTEE LIST'!B3082=\"\",\"\",'FULL TRUSTEE LIST'!B3082&\" \"&'FULL TRUSTEE LIST'!C3082)","v":""}]
[{"$f":"IF('FULL TRUSTEE LIST'!B3083=\"\",\"\",'FULL TRUSTEE LIST'!B3083&\" \"&'FULL TRUSTEE LIST'!C3083)","v":""}]
[{"$f":"IF('FULL TRUSTEE LIST'!B3084=\"\",\"\",'FULL TRUSTEE LIST'!B3084&\" \"&'FULL TRUSTEE LIST'!C3084)","v":""}]
[{"$f":"IF('FULL TRUSTEE LIST'!B3085=\"\",\"\",'FULL TRUSTEE LIST'!B3085&\" \"&'FULL TRUSTEE LIST'!C3085)","v":""}]
[{"$f":"IF('FULL TRUSTEE LIST'!B3086=\"\",\"\",'FULL TRUSTEE LIST'!B3086&\" \"&'FULL TRUSTEE LIST'!C3086)","v":""}]
[{"$f":"IF('FULL TRUSTEE LIST'!B3087=\"\",\"\",'FULL TRUSTEE LIST'!B3087&\" \"&'FULL TRUSTEE LIST'!C3087)","v":""}]
[{"$f":"IF('FULL TRUSTEE LIST'!B3088=\"\",\"\",'FULL TRUSTEE LIST'!B3088&\" \"&'FULL TRUSTEE LIST'!C3088)","v":""}]
[{"$f":"IF('FULL TRUSTEE LIST'!B3089=\"\",\"\",'FULL TRUSTEE LIST'!B3089&\" \"&'FULL TRUSTEE LIST'!C3089)","v":""}]
[{"$f":"IF('FULL TRUSTEE LIST'!B3090=\"\",\"\",'FULL TRUSTEE LIST'!B3090&\" \"&'FULL TRUSTEE LIST'!C3090)","v":""}]
[{"$f":"IF('FULL TRUSTEE LIST'!B3091=\"\",\"\",'FULL TRUSTEE LIST'!B3091&\" \"&'FULL TRUSTEE LIST'!C3091)","v":""}]
[{"$f":"IF('FULL TRUSTEE LIST'!B3092=\"\",\"\",'FULL TRUSTEE LIST'!B3092&\" \"&'FULL TRUSTEE LIST'!C3092)","v":""}]
[{"$f":"IF('FULL TRUSTEE LIST'!B3093=\"\",\"\",'FULL TRUSTEE LIST'!B3093&\" \"&'FULL TRUSTEE LIST'!C3093)","v":""}]
[{"$f":"IF('FULL TRUSTEE LIST'!B3094=\"\",\"\",'FULL TRUSTEE LIST'!B3094&\" \"&'FULL TRUSTEE LIST'!C3094)","v":""}]
[{"$f":"IF('FULL TRUSTEE LIST'!B3095=\"\",\"\",'FULL TRUSTEE LIST'!B3095&\" \"&'FULL TRUSTEE LIST'!C3095)","v":""}]
[{"$f":"IF('FULL TRUSTEE LIST'!B3096=\"\",\"\",'FULL TRUSTEE LIST'!B3096&\" \"&'FULL TRUSTEE LIST'!C3096)","v":""}]
[{"$f":"IF('FULL TRUSTEE LIST'!B3097=\"\",\"\",'FULL TRUSTEE LIST'!B3097&\" \"&'FULL TRUSTEE LIST'!C3097)","v":""}]
[{"$f":"IF('FULL TRUSTEE LIST'!B3098=\"\",\"\",'FULL TRUSTEE LIST'!B3098&\" \"&'FULL TRUSTEE LIST'!C3098)","v":""}]
[{"$f":"IF('FULL TRUSTEE LIST'!B3099=\"\",\"\",'FULL TRUSTEE LIST'!B3099&\" \"&'FULL TRUSTEE LIST'!C3099)","v":""}]
[{"$f":"IF('FULL TRUSTEE LIST'!B3100=\"\",\"\",'FULL TRUSTEE LIST'!B3100&\" \"&'FULL TRUSTEE LIST'!C3100)","v":""}]
[{"$f":"IF('FULL TRUSTEE LIST'!B3101=\"\",\"\",'FULL TRUSTEE LIST'!B3101&\" \"&'FULL TRUSTEE LIST'!C3101)","v":""}]
[{"$f":"IF('FULL TRUSTEE LIST'!B3102=\"\",\"\",'FULL TRUSTEE LIST'!B3102&\" \"&'FULL TRUSTEE LIST'!C3102)","v":""}]
[{"$f":"IF('FULL TRUSTEE LIST'!B3103=\"\",\"\",'FULL TRUSTEE LIST'!B3103&\" \"&'FULL TRUSTEE LIST'!C3103)","v":""}]
[{"$f":"IF('FULL TRUSTEE LIST'!B3104=\"\",\"\",'FULL TRUSTEE LIST'!B3104&\" \"&'FULL TRUSTEE LIST'!C3104)","v":""}]
[{"$f":"IF('FULL TRUSTEE LIST'!B3105=\"\",\"\",'FULL TRUSTEE LIST'!B3105&\" \"&'FULL TRUSTEE LIST'!C3105)","v":""}]
[{"$f":"IF('FULL TRUSTEE LIST'!B3106=\"\",\"\",'FULL TRUSTEE LIST'!B3106&\" \"&'FULL TRUSTEE LIST'!C3106)","v":""}]
[{"$f":"IF('FULL TRUSTEE LIST'!B3107=\"\",\"\",'FULL TRUSTEE LIST'!B3107&\" \"&'FULL TRUSTEE LIST'!C3107)","v":""}]
[{"$f":"IF('FULL TRUSTEE LIST'!B3108=\"\",\"\",'FULL TRUSTEE LIST'!B3108&\" \"&'FULL TRUSTEE LIST'!C3108)","v":""}]
[{"$f":"IF('FULL TRUSTEE LIST'!B3109=\"\",\"\",'FULL TRUSTEE LIST'!B3109&\" \"&'FULL TRUSTEE LIST'!C3109)","v":""}]
[{"$f":"IF('FULL TRUSTEE LIST'!B3110=\"\",\"\",'FULL TRUSTEE LIST'!B3110&\" \"&'FULL TRUSTEE LIST'!C3110)","v":""}]
[{"$f":"IF('FULL TRUSTEE LIST'!B3111=\"\",\"\",'FULL TRUSTEE LIST'!B3111&\" \"&'FULL TRUSTEE LIST'!C3111)","v":""}]
[{"$f":"IF('FULL TRUSTEE LIST'!B3112=\"\",\"\",'FULL TRUSTEE LIST'!B3112&\" \"&'FULL TRUSTEE LIST'!C3112)","v":""}]
[{"$f":"IF('FULL TRUSTEE LIST'!B3113=\"\",\"\",'FULL TRUSTEE LIST'!B3113&\" \"&'FULL TRUSTEE LIST'!C3113)","v":""}]
[{"$f":"IF('FULL TRUSTEE LIST'!B3114=\"\",\"\",'FULL TRUSTEE LIST'!B3114&\" \"&'FULL TRUSTEE LIST'!C3114)","v":""}]
[{"$f":"IF('FULL TRUSTEE LIST'!B3115=\"\",\"\",'FULL TRUSTEE LIST'!B3115&\" \"&'FULL TRUSTEE LIST'!C3115)","v":""}]
[{"$f":"IF('FULL TRUSTEE LIST'!B3116=\"\",\"\",'FULL TRUSTEE LIST'!B3116&\" \"&'FULL TRUSTEE LIST'!C3116)","v":""}]
[{"$f":"IF('FULL TRUSTEE LIST'!B3117=\"\",\"\",'FULL TRUSTEE LIST'!B3117&\" \"&'FULL TRUSTEE LIST'!C3117)","v":""}]
[{"$f":"IF('FULL TRUSTEE LIST'!B3118=\"\",\"\",'FULL TRUSTEE LIST'!B3118&\" \"&'FULL TRUSTEE LIST'!C3118)","v":""}]
[{"$f":"IF('FULL TRUSTEE LIST'!B3119=\"\",\"\",'FULL TRUSTEE LIST'!B3119&\" \"&'FULL TRUSTEE LIST'!C3119)","v":""}]
[{"$f":"IF('FULL TRUSTEE LIST'!B3120=\"\",\"\",'FULL TRUSTEE LIST'!B3120&\" \"&'FULL TRUSTEE LIST'!C3120)","v":""}]
[{"$f":"IF('FULL TRUSTEE LIST'!B3121=\"\",\"\",'FULL TRUSTEE LIST'!B3121&\" \"&'FULL TRUSTEE LIST'!C3121)","v":""}]
[{"$f":"IF('FULL TRUSTEE LIST'!B3122=\"\",\"\",'FULL TRUSTEE LIST'!B3122&\" \"&'FULL TRUSTEE LIST'!C3122)","v":""}]
[{"$f":"IF('FULL TRUSTEE LIST'!B3123=\"\",\"\",'FULL TRUSTEE LIST'!B3123&\" \"&'FULL TRUSTEE LIST'!C3123)","v":""}]
[{"$f":"IF('FULL TRUSTEE LIST'!B3124=\"\",\"\",'FULL TRUSTEE LIST'!B3124&\" \"&'FULL TRUSTEE LIST'!C3124)","v":""}]
[{"$f":"IF('FULL TRUSTEE LIST'!B3125=\"\",\"\",'FULL TRUSTEE LIST'!B3125&\" \"&'FULL TRUSTEE LIST'!C3125)","v":""}]
[{"$f":"IF('FULL TRUSTEE LIST'!B3126=\"\",\"\",'FULL TRUSTEE LIST'!B3126&\" \"&'FULL TRUSTEE LIST'!C3126)","v":""}]
[{"$f":"IF('FULL TRUSTEE LIST'!B3127=\"\",\"\",'FULL TRUSTEE LIST'!B3127&\" \"&'FULL TRUSTEE LIST'!C3127)","v":""}]
[{"$f":"IF('FULL TRUSTEE LIST'!B3128=\"\",\"\",'FULL TRUSTEE LIST'!B3128&\" \"&'FULL TRUSTEE LIST'!C3128)","v":""}]
[{"$f":"IF('FULL TRUSTEE LIST'!B3129=\"\",\"\",'FULL TRUSTEE LIST'!B3129&\" \"&'FULL TRUSTEE LIST'!C3129)","v":""}]
[{"$f":"IF('FULL TRUSTEE LIST'!B3130=\"\",\"\",'FULL TRUSTEE LIST'!B3130&\" \"&'FULL TRUSTEE LIST'!C3130)","v":""}]
[{"$f":"IF('FULL TRUSTEE LIST'!B3131=\"\",\"\",'FULL TRUSTEE LIST'!B3131&\" \"&'FULL TRUSTEE LIST'!C3131)","v":""}]
[{"$f":"IF('FULL TRUSTEE LIST'!B3132=\"\",\"\",'FULL TRUSTEE LIST'!B3132&\" \"&'FULL TRUSTEE LIST'!C3132)","v":""}]
[{"$f":"IF('FULL TRUSTEE LIST'!B3133=\"\",\"\",'FULL TRUSTEE LIST'!B3133&\" \"&'FULL TRUSTEE LIST'!C3133)","v":""}]
[{"$f":"IF('FULL TRUSTEE LIST'!B3134=\"\",\"\",'FULL TRUSTEE LIST'!B3134&\" \"&'FULL TRUSTEE LIST'!C3134)","v":""}]
[{"$f":"IF('FULL TRUSTEE LIST'!B3135=\"\",\"\",'FULL TRUSTEE LIST'!B3135&\" \"&'FULL TRUSTEE LIST'!C3135)","v":""}]
[{"$f":"IF('FULL TRUSTEE LIST'!B3136=\"\",\"\",'FULL TRUSTEE LIST'!B3136&\" \"&'FULL TRUSTEE LIST'!C3136)","v":""}]
[{"$f":"IF('FULL TRUSTEE LIST'!B3137=\"\",\"\",'FULL TRUSTEE LIST'!B3137&\" \"&'FULL TRUSTEE LIST'!C3137)","v":""}]
[{"$f":"IF('FULL TRUSTEE LIST'!B3138=\"\",\"\",'FULL TRUSTEE LIST'!B3138&\" \"&'FULL TRUSTEE LIST'!C3138)","v":""}]
[{"$f":"IF('FULL TRUSTEE LIST'!B3139=\"\",\"\",'FULL TRUSTEE LIST'!B3139&\" \"&'FULL TRUSTEE LIST'!C3139)","v":""}]
[{"$f":"IF('FULL TRUSTEE LIST'!B3140=\"\",\"\",'FULL TRUSTEE LIST'!B3140&\" \"&'FULL TRUSTEE LIST'!C3140)","v":""}]
[{"$f":"IF('FULL TRUSTEE LIST'!B3141=\"\",\"\",'FULL TRUSTEE LIST'!B3141&\" \"&'FULL TRUSTEE LIST'!C3141)","v":""}]
[{"$f":"IF('FULL TRUSTEE LIST'!B3142=\"\",\"\",'FULL TRUSTEE LIST'!B3142&\" \"&'FULL TRUSTEE LIST'!C3142)","v":""}]
[{"$f":"IF('FULL TRUSTEE LIST'!B3143=\"\",\"\",'FULL TRUSTEE LIST'!B3143&\" \"&'FULL TRUSTEE LIST'!C3143)","v":""}]
[{"$f":"IF('FULL TRUSTEE LIST'!B3144=\"\",\"\",'FULL TRUSTEE LIST'!B3144&\" \"&'FULL TRUSTEE LIST'!C3144)","v":""}]
[{"$f":"IF('FULL TRUSTEE LIST'!B3145=\"\",\"\",'FULL TRUSTEE LIST'!B3145&\" \"&'FULL TRUSTEE LIST'!C3145)","v":""}]
[{"$f":"IF('FULL TRUSTEE LIST'!B3146=\"\",\"\",'FULL TRUSTEE LIST'!B3146&\" \"&'FULL TRUSTEE LIST'!C3146)","v":""}]
[{"$f":"IF('FULL TRUSTEE LIST'!B3147=\"\",\"\",'FULL TRUSTEE LIST'!B3147&\" \"&'FULL TRUSTEE LIST'!C3147)","v":""}]
[{"$f":"IF('FULL TRUSTEE LIST'!B3148=\"\",\"\",'FULL TRUSTEE LIST'!B3148&\" \"&'FULL TRUSTEE LIST'!C3148)","v":""}]
[{"$f":"IF('FULL TRUSTEE LIST'!B3149=\"\",\"\",'FULL TRUSTEE LIST'!B3149&\" \"&'FULL TRUSTEE LIST'!C3149)","v":""}]
[{"$f":"IF('FULL TRUSTEE LIST'!B3150=\"\",\"\",'FULL TRUSTEE LIST'!B3150&\" \"&'FULL TRUSTEE LIST'!C3150)","v":""}]
[{"$f":"IF('FULL TRUSTEE LIST'!B3151=\"\",\"\",'FULL TRUSTEE LIST'!B3151&\" \"&'FULL TRUSTEE LIST'!C3151)","v":""}]
[{"$f":"IF('FULL TRUSTEE LIST'!B3152=\"\",\"\",'FULL TRUSTEE LIST'!B3152&\" \"&'FULL TRUSTEE LIST'!C3152)","v":""}]
[{"$f":"IF('FULL TRUSTEE LIST'!B3153=\"\",\"\",'FULL TRUSTEE LIST'!B3153&\" \"&'FULL TRUSTEE LIST'!C3153)","v":""}]
[{"$f":"IF('FULL TRUSTEE LIST'!B3154=\"\",\"\",'FULL TRUSTEE LIST'!B3154&\" \"&'FULL TRUSTEE LIST'!C3154)","v":""}]
[{"$f":"IF('FULL TRUSTEE LIST'!B3155=\"\",\"\",'FULL TRUSTEE LIST'!B3155&\" \"&'FULL TRUSTEE LIST'!C3155)","v":""}]
[{"$f":"IF('FULL TRUSTEE LIST'!B3156=\"\",\"\",'FULL TRUSTEE LIST'!B3156&\" \"&'FULL TRUSTEE LIST'!C3156)","v":""}]
[{"$f":"IF('FULL TRUSTEE LIST'!B3157=\"\",\"\",'FULL TRUSTEE LIST'!B3157&\" \"&'FULL TRUSTEE LIST'!C3157)","v":""}]
[{"$f":"IF('FULL TRUSTEE LIST'!B3158=\"\",\"\",'FULL TRUSTEE LIST'!B3158&\" \"&'FULL TRUSTEE LIST'!C3158)","v":""}]
[{"$f":"IF('FULL TRUSTEE LIST'!B3159=\"\",\"\",'FULL TRUSTEE LIST'!B3159&\" \"&'FULL TRUSTEE LIST'!C3159)","v":""}]
[{"$f":"IF('FULL TRUSTEE LIST'!B3160=\"\",\"\",'FULL TRUSTEE LIST'!B3160&\" \"&'FULL TRUSTEE LIST'!C3160)","v":""}]
[{"$f":"IF('FULL TRUSTEE LIST'!B3161=\"\",\"\",'FULL TRUSTEE LIST'!B3161&\" \"&'FULL TRUSTEE LIST'!C3161)","v":""}]
[{"$f":"IF('FULL TRUSTEE LIST'!B3162=\"\",\"\",'FULL TRUSTEE LIST'!B3162&\" \"&'FULL TRUSTEE LIST'!C3162)","v":""}]
[{"$f":"IF('FULL TRUSTEE LIST'!B3163=\"\",\"\",'FULL TRUSTEE LIST'!B3163&\" \"&'FULL TRUSTEE LIST'!C3163)","v":""}]
[{"$f":"IF('FULL TRUSTEE LIST'!B3164=\"\",\"\",'FULL TRUSTEE LIST'!B3164&\" \"&'FULL TRUSTEE LIST'!C3164)","v":""}]
[{"$f":"IF('FULL TRUSTEE LIST'!B3165=\"\",\"\",'FULL TRUSTEE LIST'!B3165&\" \"&'FULL TRUSTEE LIST'!C3165)","v":""}]
[{"$f":"IF('FULL TRUSTEE LIST'!B3166=\"\",\"\",'FULL TRUSTEE LIST'!B3166&\" \"&'FULL TRUSTEE LIST'!C3166)","v":""}]
[{"$f":"IF('FULL TRUSTEE LIST'!B3167=\"\",\"\",'FULL TRUSTEE LIST'!B3167&\" \"&'FULL TRUSTEE LIST'!C3167)","v":""}]
[{"$f":"IF('FULL TRUSTEE LIST'!B3168=\"\",\"\",'FULL TRUSTEE LIST'!B3168&\" \"&'FULL TRUSTEE LIST'!C3168)","v":""}]
[{"$f":"IF('FULL TRUSTEE LIST'!B3169=\"\",\"\",'FULL TRUSTEE LIST'!B3169&\" \"&'FULL TRUSTEE LIST'!C3169)","v":""}]
[{"$f":"IF('FULL TRUSTEE LIST'!B3170=\"\",\"\",'FULL TRUSTEE LIST'!B3170&\" \"&'FULL TRUSTEE LIST'!C3170)","v":""}]
[{"$f":"IF('FULL TRUSTEE LIST'!B3171=\"\",\"\",'FULL TRUSTEE LIST'!B3171&\" \"&'FULL TRUSTEE LIST'!C3171)","v":""}]
[{"$f":"IF('FULL TRUSTEE LIST'!B3172=\"\",\"\",'FULL TRUSTEE LIST'!B3172&\" \"&'FULL TRUSTEE LIST'!C3172)","v":""}]
[{"$f":"IF('FULL TRUSTEE LIST'!B3173=\"\",\"\",'FULL TRUSTEE LIST'!B3173&\" \"&'FULL TRUSTEE LIST'!C3173)","v":""}]
[{"$f":"IF('FULL TRUSTEE LIST'!B3174=\"\",\"\",'FULL TRUSTEE LIST'!B3174&\" \"&'FULL TRUSTEE LIST'!C3174)","v":""}]
[{"$f":"IF('FULL TRUSTEE LIST'!B3175=\"\",\"\",'FULL TRUSTEE LIST'!B3175&\" \"&'FULL TRUSTEE LIST'!C3175)","v":""}]
[{"$f":"IF('FULL TRUSTEE LIST'!B3176=\"\",\"\",'FULL TRUSTEE LIST'!B3176&\" \"&'FULL TRUSTEE LIST'!C3176)","v":""}]
[{"$f":"IF('FULL TRUSTEE LIST'!B3177=\"\",\"\",'FULL TRUSTEE LIST'!B3177&\" \"&'FULL TRUSTEE LIST'!C3177)","v":""}]
[{"$f":"IF('FULL TRUSTEE LIST'!B3178=\"\",\"\",'FULL TRUSTEE LIST'!B3178&\" \"&'FULL TRUSTEE LIST'!C3178)","v":""}]
[{"$f":"IF('FULL TRUSTEE LIST'!B3179=\"\",\"\",'FULL TRUSTEE LIST'!B3179&\" \"&'FULL TRUSTEE LIST'!C3179)","v":""}]
[{"$f":"IF('FULL TRUSTEE LIST'!B3180=\"\",\"\",'FULL TRUSTEE LIST'!B3180&\" \"&'FULL TRUSTEE LIST'!C3180)","v":""}]
[{"$f":"IF('FULL TRUSTEE LIST'!B3181=\"\",\"\",'FULL TRUSTEE LIST'!B3181&\" \"&'FULL TRUSTEE LIST'!C3181)","v":""}]
[{"$f":"IF('FULL TRUSTEE LIST'!B3182=\"\",\"\",'FULL TRUSTEE LIST'!B3182&\" \"&'FULL TRUSTEE LIST'!C3182)","v":""}]
[{"$f":"IF('FULL TRUSTEE LIST'!B3183=\"\",\"\",'FULL TRUSTEE LIST'!B3183&\" \"&'FULL TRUSTEE LIST'!C3183)","v":""}]
[{"$f":"IF('FULL TRUSTEE LIST'!B3184=\"\",\"\",'FULL TRUSTEE LIST'!B3184&\" \"&'FULL TRUSTEE LIST'!C3184)","v":""}]
[{"$f":"IF('FULL TRUSTEE LIST'!B3185=\"\",\"\",'FULL TRUSTEE LIST'!B3185&\" \"&'FULL TRUSTEE LIST'!C3185)","v":""}]
[{"$f":"IF('FULL TRUSTEE LIST'!B3186=\"\",\"\",'FULL TRUSTEE LIST'!B3186&\" \"&'FULL TRUSTEE LIST'!C3186)","v":""}]
[{"$f":"IF('FULL TRUSTEE LIST'!B3187=\"\",\"\",'FULL TRUSTEE LIST'!B3187&\" \"&'FULL TRUSTEE LIST'!C3187)","v":""}]
[{"$f":"IF('FULL TRUSTEE LIST'!B3188=\"\",\"\",'FULL TRUSTEE LIST'!B3188&\" \"&'FULL TRUSTEE LIST'!C3188)","v":""}]
[{"$f":"IF('FULL TRUSTEE LIST'!B3189=\"\",\"\",'FULL TRUSTEE LIST'!B3189&\" \"&'FULL TRUSTEE LIST'!C3189)","v":""}]
[{"$f":"IF('FULL TRUSTEE LIST'!B3190=\"\",\"\",'FULL TRUSTEE LIST'!B3190&\" \"&'FULL TRUSTEE LIST'!C3190)","v":""}]
[{"$f":"IF('FULL TRUSTEE LIST'!B3191=\"\",\"\",'FULL TRUSTEE LIST'!B3191&\" \"&'FULL TRUSTEE LIST'!C3191)","v":""}]
[{"$f":"IF('FULL TRUSTEE LIST'!B3192=\"\",\"\",'FULL TRUSTEE LIST'!B3192&\" \"&'FULL TRUSTEE LIST'!C3192)","v":""}]
[{"$f":"IF('FULL TRUSTEE LIST'!B3193=\"\",\"\",'FULL TRUSTEE LIST'!B3193&\" \"&'FULL TRUSTEE LIST'!C3193)","v":""}]
[{"$f":"IF('FULL TRUSTEE LIST'!B3194=\"\",\"\",'FULL TRUSTEE LIST'!B3194&\" \"&'FULL TRUSTEE LIST'!C3194)","v":""}]
[{"$f":"IF('FULL TRUSTEE LIST'!B3195=\"\",\"\",'FULL TRUSTEE LIST'!B3195&\" \"&'FULL TRUSTEE LIST'!C3195)","v":""}]
[{"$f":"IF('FULL TRUSTEE LIST'!B3196=\"\",\"\",'FULL TRUSTEE LIST'!B3196&\" \"&'FULL TRUSTEE LIST'!C3196)","v":""}]
[{"$f":"IF('FULL TRUSTEE LIST'!B3197=\"\",\"\",'FULL TRUSTEE LIST'!B3197&\" \"&'FULL TRUSTEE LIST'!C3197)","v":""}]
[{"$f":"IF('FULL TRUSTEE LIST'!B3198=\"\",\"\",'FULL TRUSTEE LIST'!B3198&\" \"&'FULL TRUSTEE LIST'!C3198)","v":""}]
[{"$f":"IF('FULL TRUSTEE LIST'!B3199=\"\",\"\",'FULL TRUSTEE LIST'!B3199&\" \"&'FULL TRUSTEE LIST'!C3199)","v":""}]
[{"$f":"IF('FULL TRUSTEE LIST'!B3200=\"\",\"\",'FULL TRUSTEE LIST'!B3200&\" \"&'FULL TRUSTEE LIST'!C3200)","v":""}]
[{"$f":"IF('FULL TRUSTEE LIST'!B3201=\"\",\"\",'FULL TRUSTEE LIST'!B3201&\" \"&'FULL TRUSTEE LIST'!C3201)","v":""}]
[{"$f":"IF('FULL TRUSTEE LIST'!B3202=\"\",\"\",'FULL TRUSTEE LIST'!B3202&\" \"&'FULL TRUSTEE LIST'!C3202)","v":""}]
[{"$f":"IF('FULL TRUSTEE LIST'!B3203=\"\",\"\",'FULL TRUSTEE LIST'!B3203&\" \"&'FULL TRUSTEE LIST'!C3203)","v":""}]
[{"$f":"IF('FULL TRUSTEE LIST'!B3204=\"\",\"\",'FULL TRUSTEE LIST'!B3204&\" \"&'FULL TRUSTEE LIST'!C3204)","v":""}]
[{"$f":"IF('FULL TRUSTEE LIST'!B3205=\"\",\"\",'FULL TRUSTEE LIST'!B3205&\" \"&'FULL TRUSTEE LIST'!C3205)","v":""}]
[{"$f":"IF('FULL TRUSTEE LIST'!B3206=\"\",\"\",'FULL TRUSTEE LIST'!B3206&\" \"&'FULL TRUSTEE LIST'!C3206)","v":""}]
[{"$f":"IF('FULL TRUSTEE LIST'!B3207=\"\",\"\",'FULL TRUSTEE LIST'!B3207&\" \"&'FULL TRUSTEE LIST'!C3207)","v":""}]
[{"$f":"IF('FULL TRUSTEE LIST'!B3208=\"\",\"\",'FULL TRUSTEE LIST'!B3208&\" \"&'FULL TRUSTEE LIST'!C3208)","v":""}]
[{"$f":"IF('FULL TRUSTEE LIST'!B3209=\"\",\"\",'FULL TRUSTEE LIST'!B3209&\" \"&'FULL TRUSTEE LIST'!C3209)","v":""}]
[{"$f":"IF('FULL TRUSTEE LIST'!B3210=\"\",\"\",'FULL TRUSTEE LIST'!B3210&\" \"&'FULL TRUSTEE LIST'!C3210)","v":""}]
[{"$f":"IF('FULL TRUSTEE LIST'!B3211=\"\",\"\",'FULL TRUSTEE LIST'!B3211&\" \"&'FULL TRUSTEE LIST'!C3211)","v":""}]
[{"$f":"IF('FULL TRUSTEE LIST'!B3212=\"\",\"\",'FULL TRUSTEE LIST'!B3212&\" \"&'FULL TRUSTEE LIST'!C3212)","v":""}]
[{"$f":"IF('FULL TRUSTEE LIST'!B3213=\"\",\"\",'FULL TRUSTEE LIST'!B3213&\" \"&'FULL TRUSTEE LIST'!C3213)","v":""}]
[{"$f":"IF('FULL TRUSTEE LIST'!B3214=\"\",\"\",'FULL TRUSTEE LIST'!B3214&\" \"&'FULL TRUSTEE LIST'!C3214)","v":""}]
[{"$f":"IF('FULL TRUSTEE LIST'!B3215=\"\",\"\",'FULL TRUSTEE LIST'!B3215&\" \"&'FULL TRUSTEE LIST'!C3215)","v":""}]
[{"$f":"IF('FULL TRUSTEE LIST'!B3216=\"\",\"\",'FULL TRUSTEE LIST'!B3216&\" \"&'FULL TRUSTEE LIST'!C3216)","v":""}]
[{"$f":"IF('FULL TRUSTEE LIST'!B3217=\"\",\"\",'FULL TRUSTEE LIST'!B3217&\" \"&'FULL TRUSTEE LIST'!C3217)","v":""}]
[{"$f":"IF('FULL TRUSTEE LIST'!B3218=\"\",\"\",'FULL TRUSTEE LIST'!B3218&\" \"&'FULL TRUSTEE LIST'!C3218)","v":""}]
[{"$f":"IF('FULL TRUSTEE LIST'!B3219=\"\",\"\",'FULL TRUSTEE LIST'!B3219&\" \"&'FULL TRUSTEE LIST'!C3219)","v":""}]
[{"$f":"IF('FULL TRUSTEE LIST'!B3220=\"\",\"\",'FULL TRUSTEE LIST'!B3220&\" \"&'FULL TRUSTEE LIST'!C3220)","v":""}]
[{"$f":"IF('FULL TRUSTEE LIST'!B3221=\"\",\"\",'FULL TRUSTEE LIST'!B3221&\" \"&'FULL TRUSTEE LIST'!C3221)","v":""}]
[{"$f":"IF('FULL TRUSTEE LIST'!B3222=\"\",\"\",'FULL TRUSTEE LIST'!B3222&\" \"&'FULL TRUSTEE LIST'!C3222)","v":""}]
[{"$f":"IF('FULL TRUSTEE LIST'!B3223=\"\",\"\",'FULL TRUSTEE LIST'!B3223&\" \"&'FULL TRUSTEE LIST'!C3223)","v":""}]
[{"$f":"IF('FULL TRUSTEE LIST'!B3224=\"\",\"\",'FULL TRUSTEE LIST'!B3224&\" \"&'FULL TRUSTEE LIST'!C3224)","v":""}]
[{"$f":"IF('FULL TRUSTEE LIST'!B3225=\"\",\"\",'FULL TRUSTEE LIST'!B3225&\" \"&'FULL TRUSTEE LIST'!C3225)","v":""}]
[{"$f":"IF('FULL TRUSTEE LIST'!B3226=\"\",\"\",'FULL TRUSTEE LIST'!B3226&\" \"&'FULL TRUSTEE LIST'!C3226)","v":""}]
[{"$f":"IF('FULL TRUSTEE LIST'!B3227=\"\",\"\",'FULL TRUSTEE LIST'!B3227&\" \"&'FULL TRUSTEE LIST'!C3227)","v":""}]
[{"$f":"IF('FULL TRUSTEE LIST'!B3228=\"\",\"\",'FULL TRUSTEE LIST'!B3228&\" \"&'FULL TRUSTEE LIST'!C3228)","v":""}]
[{"$f":"IF('FULL TRUSTEE LIST'!B3229=\"\",\"\",'FULL TRUSTEE LIST'!B3229&\" \"&'FULL TRUSTEE LIST'!C3229)","v":""}]
[{"$f":"IF('FULL TRUSTEE LIST'!B3230=\"\",\"\",'FULL TRUSTEE LIST'!B3230&\" \"&'FULL TRUSTEE LIST'!C3230)","v":""}]
[{"$f":"IF('FULL TRUSTEE LIST'!B3231=\"\",\"\",'FULL TRUSTEE LIST'!B3231&\" \"&'FULL TRUSTEE LIST'!C3231)","v":""}]
[{"$f":"IF('FULL TRUSTEE LIST'!B3232=\"\",\"\",'FULL TRUSTEE LIST'!B3232&\" \"&'FULL TRUSTEE LIST'!C3232)","v":""}]
[{"$f":"IF('FULL TRUSTEE LIST'!B3233=\"\",\"\",'FULL TRUSTEE LIST'!B3233&\" \"&'FULL TRUSTEE LIST'!C3233)","v":""}]
[{"$f":"IF('FULL TRUSTEE LIST'!B3234=\"\",\"\",'FULL TRUSTEE LIST'!B3234&\" \"&'FULL TRUSTEE LIST'!C3234)","v":""}]
[{"$f":"IF('FULL TRUSTEE LIST'!B3235=\"\",\"\",'FULL TRUSTEE LIST'!B3235&\" \"&'FULL TRUSTEE LIST'!C3235)","v":""}]
[{"$f":"IF('FULL TRUSTEE LIST'!B3236=\"\",\"\",'FULL TRUSTEE LIST'!B3236&\" \"&'FULL TRUSTEE LIST'!C3236)","v":""}]
[{"$f":"IF('FULL TRUSTEE LIST'!B3237=\"\",\"\",'FULL TRUSTEE LIST'!B3237&\" \"&'FULL TRUSTEE LIST'!C3237)","v":""}]
[{"$f":"IF('FULL TRUSTEE LIST'!B3238=\"\",\"\",'FULL TRUSTEE LIST'!B3238&\" \"&'FULL TRUSTEE LIST'!C3238)","v":""}]
[{"$f":"IF('FULL TRUSTEE LIST'!B3239=\"\",\"\",'FULL TRUSTEE LIST'!B3239&\" \"&'FULL TRUSTEE LIST'!C3239)","v":""}]
[{"$f":"IF('FULL TRUSTEE LIST'!B3240=\"\",\"\",'FULL TRUSTEE LIST'!B3240&\" \"&'FULL TRUSTEE LIST'!C3240)","v":""}]
[{"$f":"IF('FULL TRUSTEE LIST'!B3241=\"\",\"\",'FULL TRUSTEE LIST'!B3241&\" \"&'FULL TRUSTEE LIST'!C3241)","v":""}]
[{"$f":"IF('FULL TRUSTEE LIST'!B3242=\"\",\"\",'FULL TRUSTEE LIST'!B3242&\" \"&'FULL TRUSTEE LIST'!C3242)","v":""}]
[{"$f":"IF('FULL TRUSTEE LIST'!B3243=\"\",\"\",'FULL TRUSTEE LIST'!B3243&\" \"&'FULL TRUSTEE LIST'!C3243)","v":""}]
[{"$f":"IF('FULL TRUSTEE LIST'!B3244=\"\",\"\",'FULL TRUSTEE LIST'!B3244&\" \"&'FULL TRUSTEE LIST'!C3244)","v":""}]
[{"$f":"IF('FULL TRUSTEE LIST'!B3245=\"\",\"\",'FULL TRUSTEE LIST'!B3245&\" \"&'FULL TRUSTEE LIST'!C3245)","v":""}]
[{"$f":"IF('FULL TRUSTEE LIST'!B3246=\"\",\"\",'FULL TRUSTEE LIST'!B3246&\" \"&'FULL TRUSTEE LIST'!C3246)","v":""}]
[{"$f":"IF('FULL TRUSTEE LIST'!B3247=\"\",\"\",'FULL TRUSTEE LIST'!B3247&\" \"&'FULL TRUSTEE LIST'!C3247)","v":""}]
[{"$f":"IF('FULL TRUSTEE LIST'!B3248=\"\",\"\",'FULL TRUSTEE LIST'!B3248&\" \"&'FULL TRUSTEE LIST'!C3248)","v":""}]
[{"$f":"IF('FULL TRUSTEE LIST'!B3249=\"\",\"\",'FULL TRUSTEE LIST'!B3249&\" \"&'FULL TRUSTEE LIST'!C3249)","v":""}]
[{"$f":"IF('FULL TRUSTEE LIST'!B3250=\"\",\"\",'FULL TRUSTEE LIST'!B3250&\" \"&'FULL TRUSTEE LIST'!C3250)","v":""}]
[{"$f":"IF('FULL TRUSTEE LIST'!B3251=\"\",\"\",'FULL TRUSTEE LIST'!B3251&\" \"&'FULL TRUSTEE LIST'!C3251)","v":""}]
[{"$f":"IF('FULL TRUSTEE LIST'!B3252=\"\",\"\",'FULL TRUSTEE LIST'!B3252&\" \"&'FULL TRUSTEE LIST'!C3252)","v":""}]
[{"$f":"IF('FULL TRUSTEE LIST'!B3253=\"\",\"\",'FULL TRUSTEE LIST'!B3253&\" \"&'FULL TRUSTEE LIST'!C3253)","v":""}]
[{"$f":"IF('FULL TRUSTEE LIST'!B3254=\"\",\"\",'FULL TRUSTEE LIST'!B3254&\" \"&'FULL TRUSTEE LIST'!C3254)","v":""}]
[{"$f":"IF('FULL TRUSTEE LIST'!B3255=\"\",\"\",'FULL TRUSTEE LIST'!B3255&\" \"&'FULL TRUSTEE LIST'!C3255)","v":""}]
[{"$f":"IF('FULL TRUSTEE LIST'!B3256=\"\",\"\",'FULL TRUSTEE LIST'!B3256&\" \"&'FULL TRUSTEE LIST'!C3256)","v":""}]
[{"$f":"IF('FULL TRUSTEE LIST'!B3257=\"\",\"\",'FULL TRUSTEE LIST'!B3257&\" \"&'FULL TRUSTEE LIST'!C3257)","v":""}]
[{"$f":"IF('FULL TRUSTEE LIST'!B3258=\"\",\"\",'FULL TRUSTEE LIST'!B3258&\" \"&'FULL TRUSTEE LIST'!C3258)","v":""}]
[{"$f":"IF('FULL TRUSTEE LIST'!B3259=\"\",\"\",'FULL TRUSTEE LIST'!B3259&\" \"&'FULL TRUSTEE LIST'!C3259)","v":""}]
[{"$f":"IF('FULL TRUSTEE LIST'!B3260=\"\",\"\",'FULL TRUSTEE LIST'!B3260&\" \"&'FULL TRUSTEE LIST'!C3260)","v":""}]
[{"$f":"IF('FULL TRUSTEE LIST'!B3261=\"\",\"\",'FULL TRUSTEE LIST'!B3261&\" \"&'FULL TRUSTEE LIST'!C3261)","v":""}]
[{"$f":"IF('FULL TRUSTEE LIST'!B3262=\"\",\"\",'FULL TRUSTEE LIST'!B3262&\" \"&'FULL TRUSTEE LIST'!C3262)","v":""}]
[{"$f":"IF('FULL TRUSTEE LIST'!B3263=\"\",\"\",'FULL TRUSTEE LIST'!B3263&\" \"&'FULL TRUSTEE LIST'!C3263)","v":""}]
[{"$f":"IF('FULL TRUSTEE LIST'!B3264=\"\",\"\",'FULL TRUSTEE LIST'!B3264&\" \"&'FULL TRUSTEE LIST'!C3264)","v":""}]
[{"$f":"IF('FULL TRUSTEE LIST'!B3265=\"\",\"\",'FULL TRUSTEE LIST'!B3265&\" \"&'FULL TRUSTEE LIST'!C3265)","v":""}]
[{"$f":"IF('FULL TRUSTEE LIST'!B3266=\"\",\"\",'FULL TRUSTEE LIST'!B3266&\" \"&'FULL TRUSTEE LIST'!C3266)","v":""}]
[{"$f":"IF('FULL TRUSTEE LIST'!B3267=\"\",\"\",'FULL TRUSTEE LIST'!B3267&\" \"&'FULL TRUSTEE LIST'!C3267)","v":""}]
[{"$f":"IF('FULL TRUSTEE LIST'!B3268=\"\",\"\",'FULL TRUSTEE LIST'!B3268&\" \"&'FULL TRUSTEE LIST'!C3268)","v":""}]
[{"$f":"IF('FULL TRUSTEE LIST'!B3269=\"\",\"\",'FULL TRUSTEE LIST'!B3269&\" \"&'FULL TRUSTEE LIST'!C3269)","v":""}]
[{"$f":"IF('FULL TRUSTEE LIST'!B3270=\"\",\"\",'FULL TRUSTEE LIST'!B3270&\" \"&'FULL TRUSTEE LIST'!C3270)","v":""}]
[{"$f":"IF('FULL TRUSTEE LIST'!B3271=\"\",\"\",'FULL TRUSTEE LIST'!B3271&\" \"&'FULL TRUSTEE LIST'!C3271)","v":""}]
[{"$f":"IF('FULL TRUSTEE LIST'!B3272=\"\",\"\",'FULL TRUSTEE LIST'!B3272&\" \"&'FULL TRUSTEE LIST'!C3272)","v":""}]
[{"$f":"IF('FULL TRUSTEE LIST'!B3273=\"\",\"\",'FULL TRUSTEE LIST'!B3273&\" \"&'FULL TRUSTEE LIST'!C3273)","v":""}]
[{"$f":"IF('FULL TRUSTEE LIST'!B3274=\"\",\"\",'FULL TRUSTEE LIST'!B3274&\" \"&'FULL TRUSTEE LIST'!C3274)","v":""}]
[{"$f":"IF('FULL TRUSTEE LIST'!B3275=\"\",\"\",'FULL TRUSTEE LIST'!B3275&\" \"&'FULL TRUSTEE LIST'!C3275)","v":""}]
[{"$f":"IF('FULL TRUSTEE LIST'!B3276=\"\",\"\",'FULL TRUSTEE LIST'!B3276&\" \"&'FULL TRUSTEE LIST'!C3276)","v":""}]
[{"$f":"IF('FULL TRUSTEE LIST'!B3277=\"\",\"\",'FULL TRUSTEE LIST'!B3277&\" \"&'FULL TRUSTEE LIST'!C3277)","v":""}]
[{"$f":"IF('FULL TRUSTEE LIST'!B3278=\"\",\"\",'FULL TRUSTEE LIST'!B3278&\" \"&'FULL TRUSTEE LIST'!C3278)","v":""}]
[{"$f":"IF('FULL TRUSTEE LIST'!B3279=\"\",\"\",'FULL TRUSTEE LIST'!B3279&\" \"&'FULL TRUSTEE LIST'!C3279)","v":""}]
[{"$f":"IF('FULL TRUSTEE LIST'!B3280=\"\",\"\",'FULL TRUSTEE LIST'!B3280&\" \"&'FULL TRUSTEE LIST'!C3280)","v":""}]
[{"$f":"IF('FULL TRUSTEE LIST'!B3281=\"\",\"\",'FULL TRUSTEE LIST'!B3281&\" \"&'FULL TRUSTEE LIST'!C3281)","v":""}]
[{"$f":"IF('FULL TRUSTEE LIST'!B3282=\"\",\"\",'FULL TRUSTEE LIST'!B3282&\" \"&'FULL TRUSTEE LIST'!C3282)","v":""}]
[{"$f":"IF('FULL TRUSTEE LIST'!B3283=\"\",\"\",'FULL TRUSTEE LIST'!B3283&\" \"&'FULL TRUSTEE LIST'!C3283)","v":""}]
[{"$f":"IF('FULL TRUSTEE LIST'!B3284=\"\",\"\",'FULL TRUSTEE LIST'!B3284&\" \"&'FULL TRUSTEE LIST'!C3284)","v":""}]
[{"$f":"IF('FULL TRUSTEE LIST'!B3285=\"\",\"\",'FULL TRUSTEE LIST'!B3285&\" \"&'FULL TRUSTEE LIST'!C3285)","v":""}]
[{"$f":"IF('FULL TRUSTEE LIST'!B3286=\"\",\"\",'FULL TRUSTEE LIST'!B3286&\" \"&'FULL TRUSTEE LIST'!C3286)","v":""}]
[{"$f":"IF('FULL TRUSTEE LIST'!B3287=\"\",\"\",'FULL TRUSTEE LIST'!B3287&\" \"&'FULL TRUSTEE LIST'!C3287)","v":""}]
[{"$f":"IF('FULL TRUSTEE LIST'!B3288=\"\",\"\",'FULL TRUSTEE LIST'!B3288&\" \"&'FULL TRUSTEE LIST'!C3288)","v":""}]
[{"$f":"IF('FULL TRUSTEE LIST'!B3289=\"\",\"\",'FULL TRUSTEE LIST'!B3289&\" \"&'FULL TRUSTEE LIST'!C3289)","v":""}]
[{"$f":"IF('FULL TRUSTEE LIST'!B3290=\"\",\"\",'FULL TRUSTEE LIST'!B3290&\" \"&'FULL TRUSTEE LIST'!C3290)","v":""}]
[{"$f":"IF('FULL TRUSTEE LIST'!B3291=\"\",\"\",'FULL TRUSTEE LIST'!B3291&\" \"&'FULL TRUSTEE LIST'!C3291)","v":""}]
[{"$f":"IF('FULL TRUSTEE LIST'!B3292=\"\",\"\",'FULL TRUSTEE LIST'!B3292&\" \"&'FULL TRUSTEE LIST'!C3292)","v":""}]
[{"$f":"IF('FULL TRUSTEE LIST'!B3293=\"\",\"\",'FULL TRUSTEE LIST'!B3293&\" \"&'FULL TRUSTEE LIST'!C3293)","v":""}]
[{"$f":"IF('FULL TRUSTEE LIST'!B3294=\"\",\"\",'FULL TRUSTEE LIST'!B3294&\" \"&'FULL TRUSTEE LIST'!C3294)","v":""}]
[{"$f":"IF('FULL TRUSTEE LIST'!B3295=\"\",\"\",'FULL TRUSTEE LIST'!B3295&\" \"&'FULL TRUSTEE LIST'!C3295)","v":""}]
[{"$f":"IF('FULL TRUSTEE LIST'!B3296=\"\",\"\",'FULL TRUSTEE LIST'!B3296&\" \"&'FULL TRUSTEE LIST'!C3296)","v":""}]
[{"$f":"IF('FULL TRUSTEE LIST'!B3297=\"\",\"\",'FULL TRUSTEE LIST'!B3297&\" \"&'FULL TRUSTEE LIST'!C3297)","v":""}]
[{"$f":"IF('FULL TRUSTEE LIST'!B3298=\"\",\"\",'FULL TRUSTEE LIST'!B3298&\" \"&'FULL TRUSTEE LIST'!C3298)","v":""}]
[{"$f":"IF('FULL TRUSTEE LIST'!B3299=\"\",\"\",'FULL TRUSTEE LIST'!B3299&\" \"&'FULL TRUSTEE LIST'!C3299)","v":""}]
[{"$f":"IF('FULL TRUSTEE LIST'!B3300=\"\",\"\",'FULL TRUSTEE LIST'!B3300&\" \"&'FULL TRUSTEE LIST'!C3300)","v":""}]
[{"$f":"IF('FULL TRUSTEE LIST'!B3301=\"\",\"\",'FULL TRUSTEE LIST'!B3301&\" \"&'FULL TRUSTEE LIST'!C3301)","v":""}]
[{"$f":"IF('FULL TRUSTEE LIST'!B3302=\"\",\"\",'FULL TRUSTEE LIST'!B3302&\" \"&'FULL TRUSTEE LIST'!C3302)","v":""}]
[{"$f":"IF('FULL TRUSTEE LIST'!B3303=\"\",\"\",'FULL TRUSTEE LIST'!B3303&\" \"&'FULL TRUSTEE LIST'!C3303)","v":""}]
[{"$f":"IF('FULL TRUSTEE LIST'!B3304=\"\",\"\",'FULL TRUSTEE LIST'!B3304&\" \"&'FULL TRUSTEE LIST'!C3304)","v":""}]
[{"$f":"IF('FULL TRUSTEE LIST'!B3305=\"\",\"\",'FULL TRUSTEE LIST'!B3305&\" \"&'FULL TRUSTEE LIST'!C3305)","v":""}]
[{"$f":"IF('FULL TRUSTEE LIST'!B3306=\"\",\"\",'FULL TRUSTEE LIST'!B3306&\" \"&'FULL TRUSTEE LIST'!C3306)","v":""}]
[{"$f":"IF('FULL TRUSTEE LIST'!B3307=\"\",\"\",'FULL TRUSTEE LIST'!B3307&\" \"&'FULL TRUSTEE LIST'!C3307)","v":""}]
[{"$f":"IF('FULL TRUSTEE LIST'!B3308=\"\",\"\",'FULL TRUSTEE LIST'!B3308&\" \"&'FULL TRUSTEE LIST'!C3308)","v":""}]
[{"$f":"IF('FULL TRUSTEE LIST'!B3309=\"\",\"\",'FULL TRUSTEE LIST'!B3309&\" \"&'FULL TRUSTEE LIST'!C3309)","v":""}]
[{"$f":"IF('FULL TRUSTEE LIST'!B3310=\"\",\"\",'FULL TRUSTEE LIST'!B3310&\" \"&'FULL TRUSTEE LIST'!C3310)","v":""}]
[{"$f":"IF('FULL TRUSTEE LIST'!B3311=\"\",\"\",'FULL TRUSTEE LIST'!B3311&\" \"&'FULL TRUSTEE LIST'!C3311)","v":""}]
[{"$f":"IF('FULL TRUSTEE LIST'!B3312=\"\",\"\",'FULL TRUSTEE LIST'!B3312&\" \"&'FULL TRUSTEE LIST'!C3312)","v":""}]
[{"$f":"IF('FULL TRUSTEE LIST'!B3313=\"\",\"\",'FULL TRUSTEE LIST'!B3313&\" \"&'FULL TRUSTEE LIST'!C3313)","v":""}]
[{"$f":"IF('FULL TRUSTEE LIST'!B3314=\"\",\"\",'FULL TRUSTEE LIST'!B3314&\" \"&'FULL TRUSTEE LIST'!C3314)","v":""}]
[{"$f":"IF('FULL TRUSTEE LIST'!B3315=\"\",\"\",'FULL TRUSTEE LIST'!B3315&\" \"&'FULL TRUSTEE LIST'!C3315)","v":""}]
[{"$f":"IF('FULL TRUSTEE LIST'!B3316=\"\",\"\",'FULL TRUSTEE LIST'!B3316&\" \"&'FULL TRUSTEE LIST'!C3316)","v":""}]
[{"$f":"IF('FULL TRUSTEE LIST'!B3317=\"\",\"\",'FULL TRUSTEE LIST'!B3317&\" \"&'FULL TRUSTEE LIST'!C3317)","v":""}]
[{"$f":"IF('FULL TRUSTEE LIST'!B3318=\"\",\"\",'FULL TRUSTEE LIST'!B3318&\" \"&'FULL TRUSTEE LIST'!C3318)","v":""}]
[{"$f":"IF('FULL TRUSTEE LIST'!B3319=\"\",\"\",'FULL TRUSTEE LIST'!B3319&\" \"&'FULL TRUSTEE LIST'!C3319)","v":""}]
[{"$f":"IF('FULL TRUSTEE LIST'!B3320=\"\",\"\",'FULL TRUSTEE LIST'!B3320&\" \"&'FULL TRUSTEE LIST'!C3320)","v":""}]
[{"$f":"IF('FULL TRUSTEE LIST'!B3321=\"\",\"\",'FULL TRUSTEE LIST'!B3321&\" \"&'FULL TRUSTEE LIST'!C3321)","v":""}]
[{"$f":"IF('FULL TRUSTEE LIST'!B3322=\"\",\"\",'FULL TRUSTEE LIST'!B3322&\" \"&'FULL TRUSTEE LIST'!C3322)","v":""}]
[{"$f":"IF('FULL TRUSTEE LIST'!B3323=\"\",\"\",'FULL TRUSTEE LIST'!B3323&\" \"&'FULL TRUSTEE LIST'!C3323)","v":""}]
[{"$f":"IF('FULL TRUSTEE LIST'!B3324=\"\",\"\",'FULL TRUSTEE LIST'!B3324&\" \"&'FULL TRUSTEE LIST'!C3324)","v":""}]
[{"$f":"IF('FULL TRUSTEE LIST'!B3325=\"\",\"\",'FULL TRUSTEE LIST'!B3325&\" \"&'FULL TRUSTEE LIST'!C3325)","v":""}]
[{"$f":"IF('FULL TRUSTEE LIST'!B3326=\"\",\"\",'FULL TRUSTEE LIST'!B3326&\" \"&'FULL TRUSTEE LIST'!C3326)","v":""}]
[{"$f":"IF('FULL TRUSTEE LIST'!B3327=\"\",\"\",'FULL TRUSTEE LIST'!B3327&\" \"&'FULL TRUSTEE LIST'!C3327)","v":""}]
[{"$f":"IF('FULL TRUSTEE LIST'!B3328=\"\",\"\",'FULL TRUSTEE LIST'!B3328&\" \"&'FULL TRUSTEE LIST'!C3328)","v":""}]
[{"$f":"IF('FULL TRUSTEE LIST'!B3329=\"\",\"\",'FULL TRUSTEE LIST'!B3329&\" \"&'FULL TRUSTEE LIST'!C3329)","v":""}]
[{"$f":"IF('FULL TRUSTEE LIST'!B3330=\"\",\"\",'FULL TRUSTEE LIST'!B3330&\" \"&'FULL TRUSTEE LIST'!C3330)","v":""}]
[{"$f":"IF('FULL TRUSTEE LIST'!B3331=\"\",\"\",'FULL TRUSTEE LIST'!B3331&\" \"&'FULL TRUSTEE LIST'!C3331)","v":""}]
[{"$f":"IF('FULL TRUSTEE LIST'!B3332=\"\",\"\",'FULL TRUSTEE LIST'!B3332&\" \"&'FULL TRUSTEE LIST'!C3332)","v":""}]
[{"$f":"IF('FULL TRUSTEE LIST'!B3333=\"\",\"\",'FULL TRUSTEE LIST'!B3333&\" \"&'FULL TRUSTEE LIST'!C3333)","v":""}]
[{"$f":"IF('FULL TRUSTEE LIST'!B3334=\"\",\"\",'FULL TRUSTEE LIST'!B3334&\" \"&'FULL TRUSTEE LIST'!C3334)","v":""}]
[{"$f":"IF('FULL TRUSTEE LIST'!B3335=\"\",\"\",'FULL TRUSTEE LIST'!B3335&\" \"&'FULL TRUSTEE LIST'!C3335)","v":""}]
[{"$f":"IF('FULL TRUSTEE LIST'!B3336=\"\",\"\",'FULL TRUSTEE LIST'!B3336&\" \"&'FULL TRUSTEE LIST'!C3336)","v":""}]
[{"$f":"IF('FULL TRUSTEE LIST'!B3337=\"\",\"\",'FULL TRUSTEE LIST'!B3337&\" \"&'FULL TRUSTEE LIST'!C3337)","v":""}]
[{"$f":"IF('FULL TRUSTEE LIST'!B3338=\"\",\"\",'FULL TRUSTEE LIST'!B3338&\" \"&'FULL TRUSTEE LIST'!C3338)","v":""}]
[{"$f":"IF('FULL TRUSTEE LIST'!B3339=\"\",\"\",'FULL TRUSTEE LIST'!B3339&\" \"&'FULL TRUSTEE LIST'!C3339)","v":""}]
[{"$f":"IF('FULL TRUSTEE LIST'!B3340=\"\",\"\",'FULL TRUSTEE LIST'!B3340&\" \"&'FULL TRUSTEE LIST'!C3340)","v":""}]
[{"$f":"IF('FULL TRUSTEE LIST'!B3341=\"\",\"\",'FULL TRUSTEE LIST'!B3341&\" \"&'FULL TRUSTEE LIST'!C3341)","v":""}]
[{"$f":"IF('FULL TRUSTEE LIST'!B3342=\"\",\"\",'FULL TRUSTEE LIST'!B3342&\" \"&'FULL TRUSTEE LIST'!C3342)","v":""}]
[{"$f":"IF('FULL TRUSTEE LIST'!B3343=\"\",\"\",'FULL TRUSTEE LIST'!B3343&\" \"&'FULL TRUSTEE LIST'!C3343)","v":""}]
[{"$f":"IF('FULL TRUSTEE LIST'!B3344=\"\",\"\",'FULL TRUSTEE LIST'!B3344&\" \"&'FULL TRUSTEE LIST'!C3344)","v":""}]
[{"$f":"IF('FULL TRUSTEE LIST'!B3345=\"\",\"\",'FULL TRUSTEE LIST'!B3345&\" \"&'FULL TRUSTEE LIST'!C3345)","v":""}]
[{"$f":"IF('FULL TRUSTEE LIST'!B3346=\"\",\"\",'FULL TRUSTEE LIST'!B3346&\" \"&'FULL TRUSTEE LIST'!C3346)","v":""}]
[{"$f":"IF('FULL TRUSTEE LIST'!B3347=\"\",\"\",'FULL TRUSTEE LIST'!B3347&\" \"&'FULL TRUSTEE LIST'!C3347)","v":""}]
[{"$f":"IF('FULL TRUSTEE LIST'!B3348=\"\",\"\",'FULL TRUSTEE LIST'!B3348&\" \"&'FULL TRUSTEE LIST'!C3348)","v":""}]
[{"$f":"IF('FULL TRUSTEE LIST'!B3349=\"\",\"\",'FULL TRUSTEE LIST'!B3349&\" \"&'FULL TRUSTEE LIST'!C3349)","v":""}]
[{"$f":"IF('FULL TRUSTEE LIST'!B3350=\"\",\"\",'FULL TRUSTEE LIST'!B3350&\" \"&'FULL TRUSTEE LIST'!C3350)","v":""}]
[{"$f":"IF('FULL TRUSTEE LIST'!B3351=\"\",\"\",'FULL TRUSTEE LIST'!B3351&\" \"&'FULL TRUSTEE LIST'!C3351)","v":""}]
[{"$f":"IF('FULL TRUSTEE LIST'!B3352=\"\",\"\",'FULL TRUSTEE LIST'!B3352&\" \"&'FULL TRUSTEE LIST'!C3352)","v":""}]
[{"$f":"IF('FULL TRUSTEE LIST'!B3353=\"\",\"\",'FULL TRUSTEE LIST'!B3353&\" \"&'FULL TRUSTEE LIST'!C3353)","v":""}]
[{"$f":"IF('FULL TRUSTEE LIST'!B3354=\"\",\"\",'FULL TRUSTEE LIST'!B3354&\" \"&'FULL TRUSTEE LIST'!C3354)","v":""}]
[{"$f":"IF('FULL TRUSTEE LIST'!B3355=\"\",\"\",'FULL TRUSTEE LIST'!B3355&\" \"&'FULL TRUSTEE LIST'!C3355)","v":""}]
[{"$f":"IF('FULL TRUSTEE LIST'!B3356=\"\",\"\",'FULL TRUSTEE LIST'!B3356&\" \"&'FULL TRUSTEE LIST'!C3356)","v":""}]
[{"$f":"IF('FULL TRUSTEE LIST'!B3357=\"\",\"\",'FULL TRUSTEE LIST'!B3357&\" \"&'FULL TRUSTEE LIST'!C3357)","v":""}]
[{"$f":"IF('FULL TRUSTEE LIST'!B3358=\"\",\"\",'FULL TRUSTEE LIST'!B3358&\" \"&'FULL TRUSTEE LIST'!C3358)","v":""}]
[{"$f":"IF('FULL TRUSTEE LIST'!B3359=\"\",\"\",'FULL TRUSTEE LIST'!B3359&\" \"&'FULL TRUSTEE LIST'!C3359)","v":""}]
[{"$f":"IF('FULL TRUSTEE LIST'!B3360=\"\",\"\",'FULL TRUSTEE LIST'!B3360&\" \"&'FULL TRUSTEE LIST'!C3360)","v":""}]
[{"$f":"IF('FULL TRUSTEE LIST'!B3361=\"\",\"\",'FULL TRUSTEE LIST'!B3361&\" \"&'FULL TRUSTEE LIST'!C3361)","v":""}]
[{"$f":"IF('FULL TRUSTEE LIST'!B3362=\"\",\"\",'FULL TRUSTEE LIST'!B3362&\" \"&'FULL TRUSTEE LIST'!C3362)","v":""}]
[{"$f":"IF('FULL TRUSTEE LIST'!B3363=\"\",\"\",'FULL TRUSTEE LIST'!B3363&\" \"&'FULL TRUSTEE LIST'!C3363)","v":""}]
[{"$f":"IF('FULL TRUSTEE LIST'!B3364=\"\",\"\",'FULL TRUSTEE LIST'!B3364&\" \"&'FULL TRUSTEE LIST'!C3364)","v":""}]
[{"$f":"IF('FULL TRUSTEE LIST'!B3365=\"\",\"\",'FULL TRUSTEE LIST'!B3365&\" \"&'FULL TRUSTEE LIST'!C3365)","v":""}]
[{"$f":"IF('FULL TRUSTEE LIST'!B3366=\"\",\"\",'FULL TRUSTEE LIST'!B3366&\" \"&'FULL TRUSTEE LIST'!C3366)","v":""}]
[{"$f":"IF('FULL TRUSTEE LIST'!B3367=\"\",\"\",'FULL TRUSTEE LIST'!B3367&\" \"&'FULL TRUSTEE LIST'!C3367)","v":""}]
[{"$f":"IF('FULL TRUSTEE LIST'!B3368=\"\",\"\",'FULL TRUSTEE LIST'!B3368&\" \"&'FULL TRUSTEE LIST'!C3368)","v":""}]
[{"$f":"IF('FULL TRUSTEE LIST'!B3369=\"\",\"\",'FULL TRUSTEE LIST'!B3369&\" \"&'FULL TRUSTEE LIST'!C3369)","v":""}]
[{"$f":"IF('FULL TRUSTEE LIST'!B3370=\"\",\"\",'FULL TRUSTEE LIST'!B3370&\" \"&'FULL TRUSTEE LIST'!C3370)","v":""}]
[{"$f":"IF('FULL TRUSTEE LIST'!B3371=\"\",\"\",'FULL TRUSTEE LIST'!B3371&\" \"&'FULL TRUSTEE LIST'!C3371)","v":""}]
[{"$f":"IF('FULL TRUSTEE LIST'!B3372=\"\",\"\",'FULL TRUSTEE LIST'!B3372&\" \"&'FULL TRUSTEE LIST'!C3372)","v":""}]
[{"$f":"IF('FULL TRUSTEE LIST'!B3373=\"\",\"\",'FULL TRUSTEE LIST'!B3373&\" \"&'FULL TRUSTEE LIST'!C3373)","v":""}]
[{"$f":"IF('FULL TRUSTEE LIST'!B3374=\"\",\"\",'FULL TRUSTEE LIST'!B3374&\" \"&'FULL TRUSTEE LIST'!C3374)","v":""}]
[{"$f":"IF('FULL TRUSTEE LIST'!B3375=\"\",\"\",'FULL TRUSTEE LIST'!B3375&\" \"&'FULL TRUSTEE LIST'!C3375)","v":""}]
[{"$f":"IF('FULL TRUSTEE LIST'!B3376=\"\",\"\",'FULL TRUSTEE LIST'!B3376&\" \"&'FULL TRUSTEE LIST'!C3376)","v":""}]
[{"$f":"IF('FULL TRUSTEE LIST'!B3377=\"\",\"\",'FULL TRUSTEE LIST'!B3377&\" \"&'FULL TRUSTEE LIST'!C3377)","v":""}]
[{"$f":"IF('FULL TRUSTEE LIST'!B3378=\"\",\"\",'FULL TRUSTEE LIST'!B3378&\" \"&'FULL TRUSTEE LIST'!C3378)","v":""}]
[{"$f":"IF('FULL TRUSTEE LIST'!B3379=\"\",\"\",'FULL TRUSTEE LIST'!B3379&\" \"&'FULL TRUSTEE LIST'!C3379)","v":""}]
[{"$f":"IF('FULL TRUSTEE LIST'!B3380=\"\",\"\",'FULL TRUSTEE LIST'!B3380&\" \"&'FULL TRUSTEE LIST'!C3380)","v":""}]
[{"$f":"IF('FULL TRUSTEE LIST'!B3381=\"\",\"\",'FULL TRUSTEE LIST'!B3381&\" \"&'FULL TRUSTEE LIST'!C3381)","v":""}]
[{"$f":"IF('FULL TRUSTEE LIST'!B3382=\"\",\"\",'FULL TRUSTEE LIST'!B3382&\" \"&'FULL TRUSTEE LIST'!C3382)","v":""}]
[{"$f":"IF('FULL TRUSTEE LIST'!B3383=\"\",\"\",'FULL TRUSTEE LIST'!B3383&\" \"&'FULL TRUSTEE LIST'!C3383)","v":""}]
[{"$f":"IF('FULL TRUSTEE LIST'!B3384=\"\",\"\",'FULL TRUSTEE LIST'!B3384&\" \"&'FULL TRUSTEE LIST'!C3384)","v":""}]
[{"$f":"IF('FULL TRUSTEE LIST'!B3385=\"\",\"\",'FULL TRUSTEE LIST'!B3385&\" \"&'FULL TRUSTEE LIST'!C3385)","v":""}]
[{"$f":"IF('FULL TRUSTEE LIST'!B3386=\"\",\"\",'FULL TRUSTEE LIST'!B3386&\" \"&'FULL TRUSTEE LIST'!C3386)","v":""}]
[{"$f":"IF('FULL TRUSTEE LIST'!B3387=\"\",\"\",'FULL TRUSTEE LIST'!B3387&\" \"&'FULL TRUSTEE LIST'!C3387)","v":""}]
[{"$f":"IF('FULL TRUSTEE LIST'!B3388=\"\",\"\",'FULL TRUSTEE LIST'!B3388&\" \"&'FULL TRUSTEE LIST'!C3388)","v":""}]
[{"$f":"IF('FULL TRUSTEE LIST'!B3389=\"\",\"\",'FULL TRUSTEE LIST'!B3389&\" \"&'FULL TRUSTEE LIST'!C3389)","v":""}]
[{"$f":"IF('FULL TRUSTEE LIST'!B3390=\"\",\"\",'FULL TRUSTEE LIST'!B3390&\" \"&'FULL TRUSTEE LIST'!C3390)","v":""}]
[{"$f":"IF('FULL TRUSTEE LIST'!B3391=\"\",\"\",'FULL TRUSTEE LIST'!B3391&\" \"&'FULL TRUSTEE LIST'!C3391)","v":""}]
[{"$f":"IF('FULL TRUSTEE LIST'!B3392=\"\",\"\",'FULL TRUSTEE LIST'!B3392&\" \"&'FULL TRUSTEE LIST'!C3392)","v":""}]
[{"$f":"IF('FULL TRUSTEE LIST'!B3393=\"\",\"\",'FULL TRUSTEE LIST'!B3393&\" \"&'FULL TRUSTEE LIST'!C3393)","v":""}]
[{"$f":"IF('FULL TRUSTEE LIST'!B3394=\"\",\"\",'FULL TRUSTEE LIST'!B3394&\" \"&'FULL TRUSTEE LIST'!C3394)","v":""}]
[{"$f":"IF('FULL TRUSTEE LIST'!B3395=\"\",\"\",'FULL TRUSTEE LIST'!B3395&\" \"&'FULL TRUSTEE LIST'!C3395)","v":""}]
[{"$f":"IF('FULL TRUSTEE LIST'!B3396=\"\",\"\",'FULL TRUSTEE LIST'!B3396&\" \"&'FULL TRUSTEE LIST'!C3396)","v":""}]
[{"$f":"IF('FULL TRUSTEE LIST'!B3397=\"\",\"\",'FULL TRUSTEE LIST'!B3397&\" \"&'FULL TRUSTEE LIST'!C3397)","v":""}]
[{"$f":"IF('FULL TRUSTEE LIST'!B3398=\"\",\"\",'FULL TRUSTEE LIST'!B3398&\" \"&'FULL TRUSTEE LIST'!C3398)","v":""}]
[{"$f":"IF('FULL TRUSTEE LIST'!B3399=\"\",\"\",'FULL TRUSTEE LIST'!B3399&\" \"&'FULL TRUSTEE LIST'!C3399)","v":""}]
[{"$f":"IF('FULL TRUSTEE LIST'!B3400=\"\",\"\",'FULL TRUSTEE LIST'!B3400&\" \"&'FULL TRUSTEE LIST'!C3400)","v":""}]
[{"$f":"IF('FULL TRUSTEE LIST'!B3401=\"\",\"\",'FULL TRUSTEE LIST'!B3401&\" \"&'FULL TRUSTEE LIST'!C3401)","v":""}]
[{"$f":"IF('FULL TRUSTEE LIST'!B3402=\"\",\"\",'FULL TRUSTEE LIST'!B3402&\" \"&'FULL TRUSTEE LIST'!C3402)","v":""}]
[{"$f":"IF('FULL TRUSTEE LIST'!B3403=\"\",\"\",'FULL TRUSTEE LIST'!B3403&\" \"&'FULL TRUSTEE LIST'!C3403)","v":""}]
[{"$f":"IF('FULL TRUSTEE LIST'!B3404=\"\",\"\",'FULL TRUSTEE LIST'!B3404&\" \"&'FULL TRUSTEE LIST'!C3404)","v":""}]
[{"$f":"IF('FULL TRUSTEE LIST'!B3405=\"\",\"\",'FULL TRUSTEE LIST'!B3405&\" \"&'FULL TRUSTEE LIST'!C3405)","v":""}]
[{"$f":"IF('FULL TRUSTEE LIST'!B3406=\"\",\"\",'FULL TRUSTEE LIST'!B3406&\" \"&'FULL TRUSTEE LIST'!C3406)","v":""}]
[{"$f":"IF('FULL TRUSTEE LIST'!B3407=\"\",\"\",'FULL TRUSTEE LIST'!B3407&\" \"&'FULL TRUSTEE LIST'!C3407)","v":""}]
[{"$f":"IF('FULL TRUSTEE LIST'!B3408=\"\",\"\",'FULL TRUSTEE LIST'!B3408&\" \"&'FULL TRUSTEE LIST'!C3408)","v":""}]
[{"$f":"IF('FULL TRUSTEE LIST'!B3409=\"\",\"\",'FULL TRUSTEE LIST'!B3409&\" \"&'FULL TRUSTEE LIST'!C3409)","v":""}]
[{"$f":"IF('FULL TRUSTEE LIST'!B3410=\"\",\"\",'FULL TRUSTEE LIST'!B3410&\" \"&'FULL TRUSTEE LIST'!C3410)","v":""}]
[{"$f":"IF('FULL TRUSTEE LIST'!B3411=\"\",\"\",'FULL TRUSTEE LIST'!B3411&\" \"&'FULL TRUSTEE LIST'!C3411)","v":""}]
[{"$f":"IF('FULL TRUSTEE LIST'!B3412=\"\",\"\",'FULL TRUSTEE LIST'!B3412&\" \"&'FULL TRUSTEE LIST'!C3412)","v":""}]
[{"$f":"IF('FULL TRUSTEE LIST'!B3413=\"\",\"\",'FULL TRUSTEE LIST'!B3413&\" \"&'FULL TRUSTEE LIST'!C3413)","v":""}]
[{"$f":"IF('FULL TRUSTEE LIST'!B3414=\"\",\"\",'FULL TRUSTEE LIST'!B3414&\" \"&'FULL TRUSTEE LIST'!C3414)","v":""}]
[{"$f":"IF('FULL TRUSTEE LIST'!B3415=\"\",\"\",'FULL TRUSTEE LIST'!B3415&\" \"&'FULL TRUSTEE LIST'!C3415)","v":""}]
[{"$f":"IF('FULL TRUSTEE LIST'!B3416=\"\",\"\",'FULL TRUSTEE LIST'!B3416&\" \"&'FULL TRUSTEE LIST'!C3416)","v":""}]
[{"$f":"IF('FULL TRUSTEE LIST'!B3417=\"\",\"\",'FULL TRUSTEE LIST'!B3417&\" \"&'FULL TRUSTEE LIST'!C3417)","v":""}]
[{"$f":"IF('FULL TRUSTEE LIST'!B3418=\"\",\"\",'FULL TRUSTEE LIST'!B3418&\" \"&'FULL TRUSTEE LIST'!C3418)","v":""}]
[{"$f":"IF('FULL TRUSTEE LIST'!B3419=\"\",\"\",'FULL TRUSTEE LIST'!B3419&\" \"&'FULL TRUSTEE LIST'!C3419)","v":""}]
[{"$f":"IF('FULL TRUSTEE LIST'!B3420=\"\",\"\",'FULL TRUSTEE LIST'!B3420&\" \"&'FULL TRUSTEE LIST'!C3420)","v":""}]
[{"$f":"IF('FULL TRUSTEE LIST'!B3421=\"\",\"\",'FULL TRUSTEE LIST'!B3421&\" \"&'FULL TRUSTEE LIST'!C3421)","v":""}]
[{"$f":"IF('FULL TRUSTEE LIST'!B3422=\"\",\"\",'FULL TRUSTEE LIST'!B3422&\" \"&'FULL TRUSTEE LIST'!C3422)","v":""}]
[{"$f":"IF('FULL TRUSTEE LIST'!B3423=\"\",\"\",'FULL TRUSTEE LIST'!B3423&\" \"&'FULL TRUSTEE LIST'!C3423)","v":""}]
[{"$f":"IF('FULL TRUSTEE LIST'!B3424=\"\",\"\",'FULL TRUSTEE LIST'!B3424&\" \"&'FULL TRUSTEE LIST'!C3424)","v":""}]
[{"$f":"IF('FULL TRUSTEE LIST'!B3425=\"\",\"\",'FULL TRUSTEE LIST'!B3425&\" \"&'FULL TRUSTEE LIST'!C3425)","v":""}]
[{"$f":"IF('FULL TRUSTEE LIST'!B3426=\"\",\"\",'FULL TRUSTEE LIST'!B3426&\" \"&'FULL TRUSTEE LIST'!C3426)","v":""}]
[{"$f":"IF('FULL TRUSTEE LIST'!B3427=\"\",\"\",'FULL TRUSTEE LIST'!B3427&\" \"&'FULL TRUSTEE LIST'!C3427)","v":""}]
[{"$f":"IF('FULL TRUSTEE LIST'!B3428=\"\",\"\",'FULL TRUSTEE LIST'!B3428&\" \"&'FULL TRUSTEE LIST'!C3428)","v":""}]
[{"$f":"IF('FULL TRUSTEE LIST'!B3429=\"\",\"\",'FULL TRUSTEE LIST'!B3429&\" \"&'FULL TRUSTEE LIST'!C3429)","v":""}]
[{"$f":"IF('FULL TRUSTEE LIST'!B3430=\"\",\"\",'FULL TRUSTEE LIST'!B3430&\" \"&'FULL TRUSTEE LIST'!C3430)","v":""}]
[{"$f":"IF('FULL TRUSTEE LIST'!B3431=\"\",\"\",'FULL TRUSTEE LIST'!B3431&\" \"&'FULL TRUSTEE LIST'!C3431)","v":""}]
[{"$f":"IF('FULL TRUSTEE LIST'!B3432=\"\",\"\",'FULL TRUSTEE LIST'!B3432&\" \"&'FULL TRUSTEE LIST'!C3432)","v":""}]
[{"$f":"IF('FULL TRUSTEE LIST'!B3433=\"\",\"\",'FULL TRUSTEE LIST'!B3433&\" \"&'FULL TRUSTEE LIST'!C3433)","v":""}]
[{"$f":"IF('FULL TRUSTEE LIST'!B3434=\"\",\"\",'FULL TRUSTEE LIST'!B3434&\" \"&'FULL TRUSTEE LIST'!C3434)","v":""}]
[{"$f":"IF('FULL TRUSTEE LIST'!B3435=\"\",\"\",'FULL TRUSTEE LIST'!B3435&\" \"&'FULL TRUSTEE LIST'!C3435)","v":""}]
[{"$f":"IF('FULL TRUSTEE LIST'!B3436=\"\",\"\",'FULL TRUSTEE LIST'!B3436&\" \"&'FULL TRUSTEE LIST'!C3436)","v":""}]
[{"$f":"IF('FULL TRUSTEE LIST'!B3437=\"\",\"\",'FULL TRUSTEE LIST'!B3437&\" \"&'FULL TRUSTEE LIST'!C3437)","v":""}]
[{"$f":"IF('FULL TRUSTEE LIST'!B3438=\"\",\"\",'FULL TRUSTEE LIST'!B3438&\" \"&'FULL TRUSTEE LIST'!C3438)","v":""}]
[{"$f":"IF('FULL TRUSTEE LIST'!B3439=\"\",\"\",'FULL TRUSTEE LIST'!B3439&\" \"&'FULL TRUSTEE LIST'!C3439)","v":""}]
[{"$f":"IF('FULL TRUSTEE LIST'!B3440=\"\",\"\",'FULL TRUSTEE LIST'!B3440&\" \"&'FULL TRUSTEE LIST'!C3440)","v":""}]
[{"$f":"IF('FULL TRUSTEE LIST'!B3441=\"\",\"\",'FULL TRUSTEE LIST'!B3441&\" \"&'FULL TRUSTEE LIST'!C3441)","v":""}]
[{"$f":"IF('FULL TRUSTEE LIST'!B3442=\"\",\"\",'FULL TRUSTEE LIST'!B3442&\" \"&'FULL TRUSTEE LIST'!C3442)","v":""}]
[{"$f":"IF('FULL TRUSTEE LIST'!B3443=\"\",\"\",'FULL TRUSTEE LIST'!B3443&\" \"&'FULL TRUSTEE LIST'!C3443)","v":""}]
[{"$f":"IF('FULL TRUSTEE LIST'!B3444=\"\",\"\",'FULL TRUSTEE LIST'!B3444&\" \"&'FULL TRUSTEE LIST'!C3444)","v":""}]
[{"$f":"IF('FULL TRUSTEE LIST'!B3445=\"\",\"\",'FULL TRUSTEE LIST'!B3445&\" \"&'FULL TRUSTEE LIST'!C3445)","v":""}]
[{"$f":"IF('FULL TRUSTEE LIST'!B3446=\"\",\"\",'FULL TRUSTEE LIST'!B3446&\" \"&'FULL TRUSTEE LIST'!C3446)","v":""}]
[{"$f":"IF('FULL TRUSTEE LIST'!B3447=\"\",\"\",'FULL TRUSTEE LIST'!B3447&\" \"&'FULL TRUSTEE LIST'!C3447)","v":""}]
[{"$f":"IF('FULL TRUSTEE LIST'!B3448=\"\",\"\",'FULL TRUSTEE LIST'!B3448&\" \"&'FULL TRUSTEE LIST'!C3448)","v":""}]
[{"$f":"IF('FULL TRUSTEE LIST'!B3449=\"\",\"\",'FULL TRUSTEE LIST'!B3449&\" \"&'FULL TRUSTEE LIST'!C3449)","v":""}]
[{"$f":"IF('FULL TRUSTEE LIST'!B3450=\"\",\"\",'FULL TRUSTEE LIST'!B3450&\" \"&'FULL TRUSTEE LIST'!C3450)","v":""}]
[{"$f":"IF('FULL TRUSTEE LIST'!B3451=\"\",\"\",'FULL TRUSTEE LIST'!B3451&\" \"&'FULL TRUSTEE LIST'!C3451)","v":""}]
[{"$f":"IF('FULL TRUSTEE LIST'!B3452=\"\",\"\",'FULL TRUSTEE LIST'!B3452&\" \"&'FULL TRUSTEE LIST'!C3452)","v":""}]
[{"$f":"IF('FULL TRUSTEE LIST'!B3453=\"\",\"\",'FULL TRUSTEE LIST'!B3453&\" \"&'FULL TRUSTEE LIST'!C3453)","v":""}]
[{"$f":"IF('FULL TRUSTEE LIST'!B3454=\"\",\"\",'FULL TRUSTEE LIST'!B3454&\" \"&'FULL TRUSTEE LIST'!C3454)","v":""}]
[{"$f":"IF('FULL TRUSTEE LIST'!B3455=\"\",\"\",'FULL TRUSTEE LIST'!B3455&\" \"&'FULL TRUSTEE LIST'!C3455)","v":""}]
[{"$f":"IF('FULL TRUSTEE LIST'!B3456=\"\",\"\",'FULL TRUSTEE LIST'!B3456&\" \"&'FULL TRUSTEE LIST'!C3456)","v":""}]
[{"$f":"IF('FULL TRUSTEE LIST'!B3457=\"\",\"\",'FULL TRUSTEE LIST'!B3457&\" \"&'FULL TRUSTEE LIST'!C3457)","v":""}]
[{"$f":"IF('FULL TRUSTEE LIST'!B3458=\"\",\"\",'FULL TRUSTEE LIST'!B3458&\" \"&'FULL TRUSTEE LIST'!C3458)","v":""}]
[{"$f":"IF('FULL TRUSTEE LIST'!B3459=\"\",\"\",'FULL TRUSTEE LIST'!B3459&\" \"&'FULL TRUSTEE LIST'!C3459)","v":""}]
[{"$f":"IF('FULL TRUSTEE LIST'!B3460=\"\",\"\",'FULL TRUSTEE LIST'!B3460&\" \"&'FULL TRUSTEE LIST'!C3460)","v":""}]
[{"$f":"IF('FULL TRUSTEE LIST'!B3461=\"\",\"\",'FULL TRUSTEE LIST'!B3461&\" \"&'FULL TRUSTEE LIST'!C3461)","v":""}]
[{"$f":"IF('FULL TRUSTEE LIST'!B3462=\"\",\"\",'FULL TRUSTEE LIST'!B3462&\" \"&'FULL TRUSTEE LIST'!C3462)","v":""}]
[{"$f":"IF('FULL TRUSTEE LIST'!B3463=\"\",\"\",'FULL TRUSTEE LIST'!B3463&\" \"&'FULL TRUSTEE LIST'!C3463)","v":""}]
[{"$f":"IF('FULL TRUSTEE LIST'!B3464=\"\",\"\",'FULL TRUSTEE LIST'!B3464&\" \"&'FULL TRUSTEE LIST'!C3464)","v":""}]
[{"$f":"IF('FULL TRUSTEE LIST'!B3465=\"\",\"\",'FULL TRUSTEE LIST'!B3465&\" \"&'FULL TRUSTEE LIST'!C3465)","v":""}]
[{"$f":"IF('FULL TRUSTEE LIST'!B3466=\"\",\"\",'FULL TRUSTEE LIST'!B3466&\" \"&'FULL TRUSTEE LIST'!C3466)","v":""}]
[{"$f":"IF('FULL TRUSTEE LIST'!B3467=\"\",\"\",'FULL TRUSTEE LIST'!B3467&\" \"&'FULL TRUSTEE LIST'!C3467)","v":""}]
[{"$f":"IF('FULL TRUSTEE LIST'!B3468=\"\",\"\",'FULL TRUSTEE LIST'!B3468&\" \"&'FULL TRUSTEE LIST'!C3468)","v":""}]
[{"$f":"IF('FULL TRUSTEE LIST'!B3469=\"\",\"\",'FULL TRUSTEE LIST'!B3469&\" \"&'FULL TRUSTEE LIST'!C3469)","v":""}]
[{"$f":"IF('FULL TRUSTEE LIST'!B3470=\"\",\"\",'FULL TRUSTEE LIST'!B3470&\" \"&'FULL TRUSTEE LIST'!C3470)","v":""}]
[{"$f":"IF('FULL TRUSTEE LIST'!B3471=\"\",\"\",'FULL TRUSTEE LIST'!B3471&\" \"&'FULL TRUSTEE LIST'!C3471)","v":""}]
[{"$f":"IF('FULL TRUSTEE LIST'!B3472=\"\",\"\",'FULL TRUSTEE LIST'!B3472&\" \"&'FULL TRUSTEE LIST'!C3472)","v":""}]
[{"$f":"IF('FULL TRUSTEE LIST'!B3473=\"\",\"\",'FULL TRUSTEE LIST'!B3473&\" \"&'FULL TRUSTEE LIST'!C3473)","v":""}]
[{"$f":"IF('FULL TRUSTEE LIST'!B3474=\"\",\"\",'FULL TRUSTEE LIST'!B3474&\" \"&'FULL TRUSTEE LIST'!C3474)","v":""}]
[{"$f":"IF('FULL TRUSTEE LIST'!B3475=\"\",\"\",'FULL TRUSTEE LIST'!B3475&\" \"&'FULL TRUSTEE LIST'!C3475)","v":""}]
[{"$f":"IF('FULL TRUSTEE LIST'!B3476=\"\",\"\",'FULL TRUSTEE LIST'!B3476&\" \"&'FULL TRUSTEE LIST'!C3476)","v":""}]
[{"$f":"IF('FULL TRUSTEE LIST'!B3477=\"\",\"\",'FULL TRUSTEE LIST'!B3477&\" \"&'FULL TRUSTEE LIST'!C3477)","v":""}]
[{"$f":"IF('FULL TRUSTEE LIST'!B3478=\"\",\"\",'FULL TRUSTEE LIST'!B3478&\" \"&'FULL TRUSTEE LIST'!C3478)","v":""}]
[{"$f":"IF('FULL TRUSTEE LIST'!B3479=\"\",\"\",'FULL TRUSTEE LIST'!B3479&\" \"&'FULL TRUSTEE LIST'!C3479)","v":""}]
[{"$f":"IF('FULL TRUSTEE LIST'!B3480=\"\",\"\",'FULL TRUSTEE LIST'!B3480&\" \"&'FULL TRUSTEE LIST'!C3480)","v":""}]
[{"$f":"IF('FULL TRUSTEE LIST'!B3481=\"\",\"\",'FULL TRUSTEE LIST'!B3481&\" \"&'FULL TRUSTEE LIST'!C3481)","v":""}]
[{"$f":"IF('FULL TRUSTEE LIST'!B3482=\"\",\"\",'FULL TRUSTEE LIST'!B3482&\" \"&'FULL TRUSTEE LIST'!C3482)","v":""}]
[{"$f":"IF('FULL TRUSTEE LIST'!B3483=\"\",\"\",'FULL TRUSTEE LIST'!B3483&\" \"&'FULL TRUSTEE LIST'!C3483)","v":""}]
[{"$f":"IF('FULL TRUSTEE LIST'!B3484=\"\",\"\",'FULL TRUSTEE LIST'!B3484&\" \"&'FULL TRUSTEE LIST'!C3484)","v":""}]
[{"$f":"IF('FULL TRUSTEE LIST'!B3485=\"\",\"\",'FULL TRUSTEE LIST'!B3485&\" \"&'FULL TRUSTEE LIST'!C3485)","v":""}]
[{"$f":"IF('FULL TRUSTEE LIST'!B3486=\"\",\"\",'FULL TRUSTEE LIST'!B3486&\" \"&'FULL TRUSTEE LIST'!C3486)","v":""}]
[{"$f":"IF('FULL TRUSTEE LIST'!B3487=\"\",\"\",'FULL TRUSTEE LIST'!B3487&\" \"&'FULL TRUSTEE LIST'!C3487)","v":""}]
[{"$f":"IF('FULL TRUSTEE LIST'!B3488=\"\",\"\",'FULL TRUSTEE LIST'!B3488&\" \"&'FULL TRUSTEE LIST'!C3488)","v":""}]
[{"$f":"IF('FULL TRUSTEE LIST'!B3489=\"\",\"\",'FULL TRUSTEE LIST'!B3489&\" \"&'FULL TRUSTEE LIST'!C3489)","v":""}]
[{"$f":"IF('FULL TRUSTEE LIST'!B3490=\"\",\"\",'FULL TRUSTEE LIST'!B3490&\" \"&'FULL TRUSTEE LIST'!C3490)","v":""}]
[{"$f":"IF('FULL TRUSTEE LIST'!B3491=\"\",\"\",'FULL TRUSTEE LIST'!B3491&\" \"&'FULL TRUSTEE LIST'!C3491)","v":""}]
[{"$f":"IF('FULL TRUSTEE LIST'!B3492=\"\",\"\",'FULL TRUSTEE LIST'!B3492&\" \"&'FULL TRUSTEE LIST'!C3492)","v":""}]
[{"$f":"IF('FULL TRUSTEE LIST'!B3493=\"\",\"\",'FULL TRUSTEE LIST'!B3493&\" \"&'FULL TRUSTEE LIST'!C3493)","v":""}]
[{"$f":"IF('FULL TRUSTEE LIST'!B3494=\"\",\"\",'FULL TRUSTEE LIST'!B3494&\" \"&'FULL TRUSTEE LIST'!C3494)","v":""}]
[{"$f":"IF('FULL TRUSTEE LIST'!B3495=\"\",\"\",'FULL TRUSTEE LIST'!B3495&\" \"&'FULL TRUSTEE LIST'!C3495)","v":""}]
[{"$f":"IF('FULL TRUSTEE LIST'!B3496=\"\",\"\",'FULL TRUSTEE LIST'!B3496&\" \"&'FULL TRUSTEE LIST'!C3496)","v":""}]
[{"$f":"IF('FULL TRUSTEE LIST'!B3497=\"\",\"\",'FULL TRUSTEE LIST'!B3497&\" \"&'FULL TRUSTEE LIST'!C3497)","v":""}]
[{"$f":"IF('FULL TRUSTEE LIST'!B3498=\"\",\"\",'FULL TRUSTEE LIST'!B3498&\" \"&'FULL TRUSTEE LIST'!C3498)","v":""}]
[{"$f":"IF('FULL TRUSTEE LIST'!B3499=\"\",\"\",'FULL TRUSTEE LIST'!B3499&\" \"&'FULL TRUSTEE LIST'!C3499)","v":""}]
[{"$f":"IF('FULL TRUSTEE LIST'!B3500=\"\",\"\",'FULL TRUSTEE LIST'!B3500&\" \"&'FULL TRUSTEE LIST'!C3500)","v":""}]
[{"$f":"IF('FULL TRUSTEE LIST'!B3501=\"\",\"\",'FULL TRUSTEE LIST'!B3501&\" \"&'FULL TRUSTEE LIST'!C3501)","v":""}]
[{"$f":"IF('FULL TRUSTEE LIST'!B3502=\"\",\"\",'FULL TRUSTEE LIST'!B3502&\" \"&'FULL TRUSTEE LIST'!C3502)","v":""}]
[{"$f":"IF('FULL TRUSTEE LIST'!B3503=\"\",\"\",'FULL TRUSTEE LIST'!B3503&\" \"&'FULL TRUSTEE LIST'!C3503)","v":""}]
[{"$f":"IF('FULL TRUSTEE LIST'!B3504=\"\",\"\",'FULL TRUSTEE LIST'!B3504&\" \"&'FULL TRUSTEE LIST'!C3504)","v":""}]
[{"$f":"IF('FULL TRUSTEE LIST'!B3505=\"\",\"\",'FULL TRUSTEE LIST'!B3505&\" \"&'FULL TRUSTEE LIST'!C3505)","v":""}]
[{"$f":"IF('FULL TRUSTEE LIST'!B3506=\"\",\"\",'FULL TRUSTEE LIST'!B3506&\" \"&'FULL TRUSTEE LIST'!C3506)","v":""}]
[{"$f":"IF('FULL TRUSTEE LIST'!B3507=\"\",\"\",'FULL TRUSTEE LIST'!B3507&\" \"&'FULL TRUSTEE LIST'!C3507)","v":""}]
[{"$f":"IF('FULL TRUSTEE LIST'!B3508=\"\",\"\",'FULL TRUSTEE LIST'!B3508&\" \"&'FULL TRUSTEE LIST'!C3508)","v":""}]
[{"$f":"IF('FULL TRUSTEE LIST'!B3509=\"\",\"\",'FULL TRUSTEE LIST'!B3509&\" \"&'FULL TRUSTEE LIST'!C3509)","v":""}]
[{"$f":"IF('FULL TRUSTEE LIST'!B3510=\"\",\"\",'FULL TRUSTEE LIST'!B3510&\" \"&'FULL TRUSTEE LIST'!C3510)","v":""}]
[{"$f":"IF('FULL TRUSTEE LIST'!B3511=\"\",\"\",'FULL TRUSTEE LIST'!B3511&\" \"&'FULL TRUSTEE LIST'!C3511)","v":""}]
[{"$f":"IF('FULL TRUSTEE LIST'!B3512=\"\",\"\",'FULL TRUSTEE LIST'!B3512&\" \"&'FULL TRUSTEE LIST'!C3512)","v":""}]
[{"$f":"IF('FULL TRUSTEE LIST'!B3513=\"\",\"\",'FULL TRUSTEE LIST'!B3513&\" \"&'FULL TRUSTEE LIST'!C3513)","v":""}]
[{"$f":"IF('FULL TRUSTEE LIST'!B3514=\"\",\"\",'FULL TRUSTEE LIST'!B3514&\" \"&'FULL TRUSTEE LIST'!C3514)","v":""}]
[{"$f":"IF('FULL TRUSTEE LIST'!B3515=\"\",\"\",'FULL TRUSTEE LIST'!B3515&\" \"&'FULL TRUSTEE LIST'!C3515)","v":""}]
[{"$f":"IF('FULL TRUSTEE LIST'!B3516=\"\",\"\",'FULL TRUSTEE LIST'!B3516&\" \"&'FULL TRUSTEE LIST'!C3516)","v":""}]
[{"$f":"IF('FULL TRUSTEE LIST'!B3517=\"\",\"\",'FULL TRUSTEE LIST'!B3517&\" \"&'FULL TRUSTEE LIST'!C3517)","v":""}]
[{"$f":"IF('FULL TRUSTEE LIST'!B3518=\"\",\"\",'FULL TRUSTEE LIST'!B3518&\" \"&'FULL TRUSTEE LIST'!C3518)","v":""}]
[{"$f":"IF('FULL TRUSTEE LIST'!B3519=\"\",\"\",'FULL TRUSTEE LIST'!B3519&\" \"&'FULL TRUSTEE LIST'!C3519)","v":""}]
[{"$f":"IF('FULL TRUSTEE LIST'!B3520=\"\",\"\",'FULL TRUSTEE LIST'!B3520&\" \"&'FULL TRUSTEE LIST'!C3520)","v":""}]
[{"$f":"IF('FULL TRUSTEE LIST'!B3521=\"\",\"\",'FULL TRUSTEE LIST'!B3521&\" \"&'FULL TRUSTEE LIST'!C3521)","v":""}]
[{"$f":"IF('FULL TRUSTEE LIST'!B3522=\"\",\"\",'FULL TRUSTEE LIST'!B3522&\" \"&'FULL TRUSTEE LIST'!C3522)","v":""}]
[{"$f":"IF('FULL TRUSTEE LIST'!B3523=\"\",\"\",'FULL TRUSTEE LIST'!B3523&\" \"&'FULL TRUSTEE LIST'!C3523)","v":""}]
[{"$f":"IF('FULL TRUSTEE LIST'!B3524=\"\",\"\",'FULL TRUSTEE LIST'!B3524&\" \"&'FULL TRUSTEE LIST'!C3524)","v":""}]
[{"$f":"IF('FULL TRUSTEE LIST'!B3525=\"\",\"\",'FULL TRUSTEE LIST'!B3525&\" \"&'FULL TRUSTEE LIST'!C3525)","v":""}]
[{"$f":"IF('FULL TRUSTEE LIST'!B3526=\"\",\"\",'FULL TRUSTEE LIST'!B3526&\" \"&'FULL TRUSTEE LIST'!C3526)","v":""}]
[{"$f":"IF('FULL TRUSTEE LIST'!B3527=\"\",\"\",'FULL TRUSTEE LIST'!B3527&\" \"&'FULL TRUSTEE LIST'!C3527)","v":""}]
[{"$f":"IF('FULL TRUSTEE LIST'!B3528=\"\",\"\",'FULL TRUSTEE LIST'!B3528&\" \"&'FULL TRUSTEE LIST'!C3528)","v":""}]
[{"$f":"IF('FULL TRUSTEE LIST'!B3529=\"\",\"\",'FULL TRUSTEE LIST'!B3529&\" \"&'FULL TRUSTEE LIST'!C3529)","v":""}]
[{"$f":"IF('FULL TRUSTEE LIST'!B3530=\"\",\"\",'FULL TRUSTEE LIST'!B3530&\" \"&'FULL TRUSTEE LIST'!C3530)","v":""}]
[{"$f":"IF('FULL TRUSTEE LIST'!B3531=\"\",\"\",'FULL TRUSTEE LIST'!B3531&\" \"&'FULL TRUSTEE LIST'!C3531)","v":""}]
[{"$f":"IF('FULL TRUSTEE LIST'!B3532=\"\",\"\",'FULL TRUSTEE LIST'!B3532&\" \"&'FULL TRUSTEE LIST'!C3532)","v":""}]
[{"$f":"IF('FULL TRUSTEE LIST'!B3533=\"\",\"\",'FULL TRUSTEE LIST'!B3533&\" \"&'FULL TRUSTEE LIST'!C3533)","v":""}]
[{"$f":"IF('FULL TRUSTEE LIST'!B3534=\"\",\"\",'FULL TRUSTEE LIST'!B3534&\" \"&'FULL TRUSTEE LIST'!C3534)","v":""}]
[{"$f":"IF('FULL TRUSTEE LIST'!B3535=\"\",\"\",'FULL TRUSTEE LIST'!B3535&\" \"&'FULL TRUSTEE LIST'!C3535)","v":""}]
[{"$f":"IF('FULL TRUSTEE LIST'!B3536=\"\",\"\",'FULL TRUSTEE LIST'!B3536&\" \"&'FULL TRUSTEE LIST'!C3536)","v":""}]
[{"$f":"IF('FULL TRUSTEE LIST'!B3537=\"\",\"\",'FULL TRUSTEE LIST'!B3537&\" \"&'FULL TRUSTEE LIST'!C3537)","v":""}]
[{"$f":"IF('FULL TRUSTEE LIST'!B3538=\"\",\"\",'FULL TRUSTEE LIST'!B3538&\" \"&'FULL TRUSTEE LIST'!C3538)","v":""}]
[{"$f":"IF('FULL TRUSTEE LIST'!B3539=\"\",\"\",'FULL TRUSTEE LIST'!B3539&\" \"&'FULL TRUSTEE LIST'!C3539)","v":""}]
[{"$f":"IF('FULL TRUSTEE LIST'!B3540=\"\",\"\",'FULL TRUSTEE LIST'!B3540&\" \"&'FULL TRUSTEE LIST'!C3540)","v":""}]
[{"$f":"IF('FULL TRUSTEE LIST'!B3541=\"\",\"\",'FULL TRUSTEE LIST'!B3541&\" \"&'FULL TRUSTEE LIST'!C3541)","v":""}]
[{"$f":"IF('FULL TRUSTEE LIST'!B3542=\"\",\"\",'FULL TRUSTEE LIST'!B3542&\" \"&'FULL TRUSTEE LIST'!C3542)","v":""}]
[{"$f":"IF('FULL TRUSTEE LIST'!B3543=\"\",\"\",'FULL TRUSTEE LIST'!B3543&\" \"&'FULL TRUSTEE LIST'!C3543)","v":""}]
[{"$f":"IF('FULL TRUSTEE LIST'!B3544=\"\",\"\",'FULL TRUSTEE LIST'!B3544&\" \"&'FULL TRUSTEE LIST'!C3544)","v":""}]
[{"$f":"IF('FULL TRUSTEE LIST'!B3545=\"\",\"\",'FULL TRUSTEE LIST'!B3545&\" \"&'FULL TRUSTEE LIST'!C3545)","v":""}]
[{"$f":"IF('FULL TRUSTEE LIST'!B3546=\"\",\"\",'FULL TRUSTEE LIST'!B3546&\" \"&'FULL TRUSTEE LIST'!C3546)","v":""}]
[{"$f":"IF('FULL TRUSTEE LIST'!B3547=\"\",\"\",'FULL TRUSTEE LIST'!B3547&\" \"&'FULL TRUSTEE LIST'!C3547)","v":""}]
[{"$f":"IF('FULL TRUSTEE LIST'!B3548=\"\",\"\",'FULL TRUSTEE LIST'!B3548&\" \"&'FULL TRUSTEE LIST'!C3548)","v":""}]
[{"$f":"IF('FULL TRUSTEE LIST'!B3549=\"\",\"\",'FULL TRUSTEE LIST'!B3549&\" \"&'FULL TRUSTEE LIST'!C3549)","v":""}]
[{"$f":"IF('FULL TRUSTEE LIST'!B3550=\"\",\"\",'FULL TRUSTEE LIST'!B3550&\" \"&'FULL TRUSTEE LIST'!C3550)","v":""}]
[{"$f":"IF('FULL TRUSTEE LIST'!B3551=\"\",\"\",'FULL TRUSTEE LIST'!B3551&\" \"&'FULL TRUSTEE LIST'!C3551)","v":""}]
[{"$f":"IF('FULL TRUSTEE LIST'!B3552=\"\",\"\",'FULL TRUSTEE LIST'!B3552&\" \"&'FULL TRUSTEE LIST'!C3552)","v":""}]
[{"$f":"IF('FULL TRUSTEE LIST'!B3553=\"\",\"\",'FULL TRUSTEE LIST'!B3553&\" \"&'FULL TRUSTEE LIST'!C3553)","v":""}]
[{"$f":"IF('FULL TRUSTEE LIST'!B3554=\"\",\"\",'FULL TRUSTEE LIST'!B3554&\" \"&'FULL TRUSTEE LIST'!C3554)","v":""}]
[{"$f":"IF('FULL TRUSTEE LIST'!B3555=\"\",\"\",'FULL TRUSTEE LIST'!B3555&\" \"&'FULL TRUSTEE LIST'!C3555)","v":""}]
[{"$f":"IF('FULL TRUSTEE LIST'!B3556=\"\",\"\",'FULL TRUSTEE LIST'!B3556&\" \"&'FULL TRUSTEE LIST'!C3556)","v":""}]
[{"$f":"IF('FULL TRUSTEE LIST'!B3557=\"\",\"\",'FULL TRUSTEE LIST'!B3557&\" \"&'FULL TRUSTEE LIST'!C3557)","v":""}]
[{"$f":"IF('FULL TRUSTEE LIST'!B3558=\"\",\"\",'FULL TRUSTEE LIST'!B3558&\" \"&'FULL TRUSTEE LIST'!C3558)","v":""}]
[{"$f":"IF('FULL TRUSTEE LIST'!B3559=\"\",\"\",'FULL TRUSTEE LIST'!B3559&\" \"&'FULL TRUSTEE LIST'!C3559)","v":""}]
[{"$f":"IF('FULL TRUSTEE LIST'!B3560=\"\",\"\",'FULL TRUSTEE LIST'!B3560&\" \"&'FULL TRUSTEE LIST'!C3560)","v":""}]
[{"$f":"IF('FULL TRUSTEE LIST'!B3561=\"\",\"\",'FULL TRUSTEE LIST'!B3561&\" \"&'FULL TRUSTEE LIST'!C3561)","v":""}]
[{"$f":"IF('FULL TRUSTEE LIST'!B3562=\"\",\"\",'FULL TRUSTEE LIST'!B3562&\" \"&'FULL TRUSTEE LIST'!C3562)","v":""}]
[{"$f":"IF('FULL TRUSTEE LIST'!B3563=\"\",\"\",'FULL TRUSTEE LIST'!B3563&\" \"&'FULL TRUSTEE LIST'!C3563)","v":""}]
[{"$f":"IF('FULL TRUSTEE LIST'!B3564=\"\",\"\",'FULL TRUSTEE LIST'!B3564&\" \"&'FULL TRUSTEE LIST'!C3564)","v":""}]
[{"$f":"IF('FULL TRUSTEE LIST'!B3565=\"\",\"\",'FULL TRUSTEE LIST'!B3565&\" \"&'FULL TRUSTEE LIST'!C3565)","v":""}]
[{"$f":"IF('FULL TRUSTEE LIST'!B3566=\"\",\"\",'FULL TRUSTEE LIST'!B3566&\" \"&'FULL TRUSTEE LIST'!C3566)","v":""}]
[{"$f":"IF('FULL TRUSTEE LIST'!B3567=\"\",\"\",'FULL TRUSTEE LIST'!B3567&\" \"&'FULL TRUSTEE LIST'!C3567)","v":""}]
[{"$f":"IF('FULL TRUSTEE LIST'!B3568=\"\",\"\",'FULL TRUSTEE LIST'!B3568&\" \"&'FULL TRUSTEE LIST'!C3568)","v":""}]
[{"$f":"IF('FULL TRUSTEE LIST'!B3569=\"\",\"\",'FULL TRUSTEE LIST'!B3569&\" \"&'FULL TRUSTEE LIST'!C3569)","v":""}]
[{"$f":"IF('FULL TRUSTEE LIST'!B3570=\"\",\"\",'FULL TRUSTEE LIST'!B3570&\" \"&'FULL TRUSTEE LIST'!C3570)","v":""}]
[{"$f":"IF('FULL TRUSTEE LIST'!B3571=\"\",\"\",'FULL TRUSTEE LIST'!B3571&\" \"&'FULL TRUSTEE LIST'!C3571)","v":""}]
[{"$f":"IF('FULL TRUSTEE LIST'!B3572=\"\",\"\",'FULL TRUSTEE LIST'!B3572&\" \"&'FULL TRUSTEE LIST'!C3572)","v":""}]
[{"$f":"IF('FULL TRUSTEE LIST'!B3573=\"\",\"\",'FULL TRUSTEE LIST'!B3573&\" \"&'FULL TRUSTEE LIST'!C3573)","v":""}]
[{"$f":"IF('FULL TRUSTEE LIST'!B3574=\"\",\"\",'FULL TRUSTEE LIST'!B3574&\" \"&'FULL TRUSTEE LIST'!C3574)","v":""}]
[{"$f":"IF('FULL TRUSTEE LIST'!B3575=\"\",\"\",'FULL TRUSTEE LIST'!B3575&\" \"&'FULL TRUSTEE LIST'!C3575)","v":""}]
[{"$f":"IF('FULL TRUSTEE LIST'!B3576=\"\",\"\",'FULL TRUSTEE LIST'!B3576&\" \"&'FULL TRUSTEE LIST'!C3576)","v":""}]
[{"$f":"IF('FULL TRUSTEE LIST'!B3577=\"\",\"\",'FULL TRUSTEE LIST'!B3577&\" \"&'FULL TRUSTEE LIST'!C3577)","v":""}]
[{"$f":"IF('FULL TRUSTEE LIST'!B3578=\"\",\"\",'FULL TRUSTEE LIST'!B3578&\" \"&'FULL TRUSTEE LIST'!C3578)","v":""}]
[{"$f":"IF('FULL TRUSTEE LIST'!B3579=\"\",\"\",'FULL TRUSTEE LIST'!B3579&\" \"&'FULL TRUSTEE LIST'!C3579)","v":""}]
[{"$f":"IF('FULL TRUSTEE LIST'!B3580=\"\",\"\",'FULL TRUSTEE LIST'!B3580&\" \"&'FULL TRUSTEE LIST'!C3580)","v":""}]
[{"$f":"IF('FULL TRUSTEE LIST'!B3581=\"\",\"\",'FULL TRUSTEE LIST'!B3581&\" \"&'FULL TRUSTEE LIST'!C3581)","v":""}]
[{"$f":"IF('FULL TRUSTEE LIST'!B3582=\"\",\"\",'FULL TRUSTEE LIST'!B3582&\" \"&'FULL TRUSTEE LIST'!C3582)","v":""}]
[{"$f":"IF('FULL TRUSTEE LIST'!B3583=\"\",\"\",'FULL TRUSTEE LIST'!B3583&\" \"&'FULL TRUSTEE LIST'!C3583)","v":""}]
[{"$f":"IF('FULL TRUSTEE LIST'!B3584=\"\",\"\",'FULL TRUSTEE LIST'!B3584&\" \"&'FULL TRUSTEE LIST'!C3584)","v":""}]
[{"$f":"IF('FULL TRUSTEE LIST'!B3585=\"\",\"\",'FULL TRUSTEE LIST'!B3585&\" \"&'FULL TRUSTEE LIST'!C3585)","v":""}]
[{"$f":"IF('FULL TRUSTEE LIST'!B3586=\"\",\"\",'FULL TRUSTEE LIST'!B3586&\" \"&'FULL TRUSTEE LIST'!C3586)","v":""}]
[{"$f":"IF('FULL TRUSTEE LIST'!B3587=\"\",\"\",'FULL TRUSTEE LIST'!B3587&\" \"&'FULL TRUSTEE LIST'!C3587)","v":""}]
[{"$f":"IF('FULL TRUSTEE LIST'!B3588=\"\",\"\",'FULL TRUSTEE LIST'!B3588&\" \"&'FULL TRUSTEE LIST'!C3588)","v":""}]
[{"$f":"IF('FULL TRUSTEE LIST'!B3589=\"\",\"\",'FULL TRUSTEE LIST'!B3589&\" \"&'FULL TRUSTEE LIST'!C3589)","v":""}]
[{"$f":"IF('FULL TRUSTEE LIST'!B3590=\"\",\"\",'FULL TRUSTEE LIST'!B3590&\" \"&'FULL TRUSTEE LIST'!C3590)","v":""}]
[{"$f":"IF('FULL TRUSTEE LIST'!B3591=\"\",\"\",'FULL TRUSTEE LIST'!B3591&\" \"&'FULL TRUSTEE LIST'!C3591)","v":""}]
[{"$f":"IF('FULL TRUSTEE LIST'!B3592=\"\",\"\",'FULL TRUSTEE LIST'!B3592&\" \"&'FULL TRUSTEE LIST'!C3592)","v":""}]
[{"$f":"IF('FULL TRUSTEE LIST'!B3593=\"\",\"\",'FULL TRUSTEE LIST'!B3593&\" \"&'FULL TRUSTEE LIST'!C3593)","v":""}]
[{"$f":"IF('FULL TRUSTEE LIST'!B3594=\"\",\"\",'FULL TRUSTEE LIST'!B3594&\" \"&'FULL TRUSTEE LIST'!C3594)","v":""}]
[{"$f":"IF('FULL TRUSTEE LIST'!B3595=\"\",\"\",'FULL TRUSTEE LIST'!B3595&\" \"&'FULL TRUSTEE LIST'!C3595)","v":""}]
[{"$f":"IF('FULL TRUSTEE LIST'!B3596=\"\",\"\",'FULL TRUSTEE LIST'!B3596&\" \"&'FULL TRUSTEE LIST'!C3596)","v":""}]
[{"$f":"IF('FULL TRUSTEE LIST'!B3597=\"\",\"\",'FULL TRUSTEE LIST'!B3597&\" \"&'FULL TRUSTEE LIST'!C3597)","v":""}]
[{"$f":"IF('FULL TRUSTEE LIST'!B3598=\"\",\"\",'FULL TRUSTEE LIST'!B3598&\" \"&'FULL TRUSTEE LIST'!C3598)","v":""}]
[{"$f":"IF('FULL TRUSTEE LIST'!B3599=\"\",\"\",'FULL TRUSTEE LIST'!B3599&\" \"&'FULL TRUSTEE LIST'!C3599)","v":""}]
[{"$f":"IF('FULL TRUSTEE LIST'!B3600=\"\",\"\",'FULL TRUSTEE LIST'!B3600&\" \"&'FULL TRUSTEE LIST'!C3600)","v":""}]
[{"$f":"IF('FULL TRUSTEE LIST'!B3601=\"\",\"\",'FULL TRUSTEE LIST'!B3601&\" \"&'FULL TRUSTEE LIST'!C3601)","v":""}]
[{"$f":"IF('FULL TRUSTEE LIST'!B3602=\"\",\"\",'FULL TRUSTEE LIST'!B3602&\" \"&'FULL TRUSTEE LIST'!C3602)","v":""}]
[{"$f":"IF('FULL TRUSTEE LIST'!B3603=\"\",\"\",'FULL TRUSTEE LIST'!B3603&\" \"&'FULL TRUSTEE LIST'!C3603)","v":""}]
[{"$f":"IF('FULL TRUSTEE LIST'!B3604=\"\",\"\",'FULL TRUSTEE LIST'!B3604&\" \"&'FULL TRUSTEE LIST'!C3604)","v":""}]
[{"$f":"IF('FULL TRUSTEE LIST'!B3605=\"\",\"\",'FULL TRUSTEE LIST'!B3605&\" \"&'FULL TRUSTEE LIST'!C3605)","v":""}]
[{"$f":"IF('FULL TRUSTEE LIST'!B3606=\"\",\"\",'FULL TRUSTEE LIST'!B3606&\" \"&'FULL TRUSTEE LIST'!C3606)","v":""}]
[{"$f":"IF('FULL TRUSTEE LIST'!B3607=\"\",\"\",'FULL TRUSTEE LIST'!B3607&\" \"&'FULL TRUSTEE LIST'!C3607)","v":""}]
[{"$f":"IF('FULL TRUSTEE LIST'!B3608=\"\",\"\",'FULL TRUSTEE LIST'!B3608&\" \"&'FULL TRUSTEE LIST'!C3608)","v":""}]
[{"$f":"IF('FULL TRUSTEE LIST'!B3609=\"\",\"\",'FULL TRUSTEE LIST'!B3609&\" \"&'FULL TRUSTEE LIST'!C3609)","v":""}]
[{"$f":"IF('FULL TRUSTEE LIST'!B3610=\"\",\"\",'FULL TRUSTEE LIST'!B3610&\" \"&'FULL TRUSTEE LIST'!C3610)","v":""}]
[{"$f":"IF('FULL TRUSTEE LIST'!B3611=\"\",\"\",'FULL TRUSTEE LIST'!B3611&\" \"&'FULL TRUSTEE LIST'!C3611)","v":""}]
[{"$f":"IF('FULL TRUSTEE LIST'!B3612=\"\",\"\",'FULL TRUSTEE LIST'!B3612&\" \"&'FULL TRUSTEE LIST'!C3612)","v":""}]
[{"$f":"IF('FULL TRUSTEE LIST'!B3613=\"\",\"\",'FULL TRUSTEE LIST'!B3613&\" \"&'FULL TRUSTEE LIST'!C3613)","v":""}]
[{"$f":"IF('FULL TRUSTEE LIST'!B3614=\"\",\"\",'FULL TRUSTEE LIST'!B3614&\" \"&'FULL TRUSTEE LIST'!C3614)","v":""}]
[{"$f":"IF('FULL TRUSTEE LIST'!B3615=\"\",\"\",'FULL TRUSTEE LIST'!B3615&\" \"&'FULL TRUSTEE LIST'!C3615)","v":""}]
[{"$f":"IF('FULL TRUSTEE LIST'!B3616=\"\",\"\",'FULL TRUSTEE LIST'!B3616&\" \"&'FULL TRUSTEE LIST'!C3616)","v":""}]
[{"$f":"IF('FULL TRUSTEE LIST'!B3617=\"\",\"\",'FULL TRUSTEE LIST'!B3617&\" \"&'FULL TRUSTEE LIST'!C3617)","v":""}]
[{"$f":"IF('FULL TRUSTEE LIST'!B3618=\"\",\"\",'FULL TRUSTEE LIST'!B3618&\" \"&'FULL TRUSTEE LIST'!C3618)","v":""}]
[{"$f":"IF('FULL TRUSTEE LIST'!B3619=\"\",\"\",'FULL TRUSTEE LIST'!B3619&\" \"&'FULL TRUSTEE LIST'!C3619)","v":""}]
[{"$f":"IF('FULL TRUSTEE LIST'!B3620=\"\",\"\",'FULL TRUSTEE LIST'!B3620&\" \"&'FULL TRUSTEE LIST'!C3620)","v":""}]
[{"$f":"IF('FULL TRUSTEE LIST'!B3621=\"\",\"\",'FULL TRUSTEE LIST'!B3621&\" \"&'FULL TRUSTEE LIST'!C3621)","v":""}]
[{"$f":"IF('FULL TRUSTEE LIST'!B3622=\"\",\"\",'FULL TRUSTEE LIST'!B3622&\" \"&'FULL TRUSTEE LIST'!C3622)","v":""}]
[{"$f":"IF('FULL TRUSTEE LIST'!B3623=\"\",\"\",'FULL TRUSTEE LIST'!B3623&\" \"&'FULL TRUSTEE LIST'!C3623)","v":""}]
[{"$f":"IF('FULL TRUSTEE LIST'!B3624=\"\",\"\",'FULL TRUSTEE LIST'!B3624&\" \"&'FULL TRUSTEE LIST'!C3624)","v":""}]
[{"$f":"IF('FULL TRUSTEE LIST'!B3625=\"\",\"\",'FULL TRUSTEE LIST'!B3625&\" \"&'FULL TRUSTEE LIST'!C3625)","v":""}]
[{"$f":"IF('FULL TRUSTEE LIST'!B3626=\"\",\"\",'FULL TRUSTEE LIST'!B3626&\" \"&'FULL TRUSTEE LIST'!C3626)","v":""}]
[{"$f":"IF('FULL TRUSTEE LIST'!B3627=\"\",\"\",'FULL TRUSTEE LIST'!B3627&\" \"&'FULL TRUSTEE LIST'!C3627)","v":""}]
[{"$f":"IF('FULL TRUSTEE LIST'!B3628=\"\",\"\",'FULL TRUSTEE LIST'!B3628&\" \"&'FULL TRUSTEE LIST'!C3628)","v":""}]
[{"$f":"IF('FULL TRUSTEE LIST'!B3629=\"\",\"\",'FULL TRUSTEE LIST'!B3629&\" \"&'FULL TRUSTEE LIST'!C3629)","v":""}]
[{"$f":"IF('FULL TRUSTEE LIST'!B3630=\"\",\"\",'FULL TRUSTEE LIST'!B3630&\" \"&'FULL TRUSTEE LIST'!C3630)","v":""}]
[{"$f":"IF('FULL TRUSTEE LIST'!B3631=\"\",\"\",'FULL TRUSTEE LIST'!B3631&\" \"&'FULL TRUSTEE LIST'!C3631)","v":""}]
[{"$f":"IF('FULL TRUSTEE LIST'!B3632=\"\",\"\",'FULL TRUSTEE LIST'!B3632&\" \"&'FULL TRUSTEE LIST'!C3632)","v":""}]
[{"$f":"IF('FULL TRUSTEE LIST'!B3633=\"\",\"\",'FULL TRUSTEE LIST'!B3633&\" \"&'FULL TRUSTEE LIST'!C3633)","v":""}]
[{"$f":"IF('FULL TRUSTEE LIST'!B3634=\"\",\"\",'FULL TRUSTEE LIST'!B3634&\" \"&'FULL TRUSTEE LIST'!C3634)","v":""}]
[{"$f":"IF('FULL TRUSTEE LIST'!B3635=\"\",\"\",'FULL TRUSTEE LIST'!B3635&\" \"&'FULL TRUSTEE LIST'!C3635)","v":""}]
[{"$f":"IF('FULL TRUSTEE LIST'!B3636=\"\",\"\",'FULL TRUSTEE LIST'!B3636&\" \"&'FULL TRUSTEE LIST'!C3636)","v":""}]
[{"$f":"IF('FULL TRUSTEE LIST'!B3637=\"\",\"\",'FULL TRUSTEE LIST'!B3637&\" \"&'FULL TRUSTEE LIST'!C3637)","v":""}]
[{"$f":"IF('FULL TRUSTEE LIST'!B3638=\"\",\"\",'FULL TRUSTEE LIST'!B3638&\" \"&'FULL TRUSTEE LIST'!C3638)","v":""}]
[{"$f":"IF('FULL TRUSTEE LIST'!B3639=\"\",\"\",'FULL TRUSTEE LIST'!B3639&\" \"&'FULL TRUSTEE LIST'!C3639)","v":""}]
[{"$f":"IF('FULL TRUSTEE LIST'!B3640=\"\",\"\",'FULL TRUSTEE LIST'!B3640&\" \"&'FULL TRUSTEE LIST'!C3640)","v":""}]
[{"$f":"IF('FULL TRUSTEE LIST'!B3641=\"\",\"\",'FULL TRUSTEE LIST'!B3641&\" \"&'FULL TRUSTEE LIST'!C3641)","v":""}]
[{"$f":"IF('FULL TRUSTEE LIST'!B3642=\"\",\"\",'FULL TRUSTEE LIST'!B3642&\" \"&'FULL TRUSTEE LIST'!C3642)","v":""}]
[{"$f":"IF('FULL TRUSTEE LIST'!B3643=\"\",\"\",'FULL TRUSTEE LIST'!B3643&\" \"&'FULL TRUSTEE LIST'!C3643)","v":""}]
[{"$f":"IF('FULL TRUSTEE LIST'!B3644=\"\",\"\",'FULL TRUSTEE LIST'!B3644&\" \"&'FULL TRUSTEE LIST'!C3644)","v":""}]
[{"$f":"IF('FULL TRUSTEE LIST'!B3645=\"\",\"\",'FULL TRUSTEE LIST'!B3645&\" \"&'FULL TRUSTEE LIST'!C3645)","v":""}]
[{"$f":"IF('FULL TRUSTEE LIST'!B3646=\"\",\"\",'FULL TRUSTEE LIST'!B3646&\" \"&'FULL TRUSTEE LIST'!C3646)","v":""}]
[{"$f":"IF('FULL TRUSTEE LIST'!B3647=\"\",\"\",'FULL TRUSTEE LIST'!B3647&\" \"&'FULL TRUSTEE LIST'!C3647)","v":""}]
[{"$f":"IF('FULL TRUSTEE LIST'!B3648=\"\",\"\",'FULL TRUSTEE LIST'!B3648&\" \"&'FULL TRUSTEE LIST'!C3648)","v":""}]
[{"$f":"IF('FULL TRUSTEE LIST'!B3649=\"\",\"\",'FULL TRUSTEE LIST'!B3649&\" \"&'FULL TRUSTEE LIST'!C3649)","v":""}]
[{"$f":"IF('FULL TRUSTEE LIST'!B3650=\"\",\"\",'FULL TRUSTEE LIST'!B3650&\" \"&'FULL TRUSTEE LIST'!C3650)","v":""}]
[{"$f":"IF('FULL TRUSTEE LIST'!B3651=\"\",\"\",'FULL TRUSTEE LIST'!B3651&\" \"&'FULL TRUSTEE LIST'!C3651)","v":""}]
[{"$f":"IF('FULL TRUSTEE LIST'!B3652=\"\",\"\",'FULL TRUSTEE LIST'!B3652&\" \"&'FULL TRUSTEE LIST'!C3652)","v":""}]
[{"$f":"IF('FULL TRUSTEE LIST'!B3653=\"\",\"\",'FULL TRUSTEE LIST'!B3653&\" \"&'FULL TRUSTEE LIST'!C3653)","v":""}]
[{"$f":"IF('FULL TRUSTEE LIST'!B3654=\"\",\"\",'FULL TRUSTEE LIST'!B3654&\" \"&'FULL TRUSTEE LIST'!C3654)","v":""}]
[{"$f":"IF('FULL TRUSTEE LIST'!B3655=\"\",\"\",'FULL TRUSTEE LIST'!B3655&\" \"&'FULL TRUSTEE LIST'!C3655)","v":""}]
[{"$f":"IF('FULL TRUSTEE LIST'!B3656=\"\",\"\",'FULL TRUSTEE LIST'!B3656&\" \"&'FULL TRUSTEE LIST'!C3656)","v":""}]
[{"$f":"IF('FULL TRUSTEE LIST'!B3657=\"\",\"\",'FULL TRUSTEE LIST'!B3657&\" \"&'FULL TRUSTEE LIST'!C3657)","v":""}]
[{"$f":"IF('FULL TRUSTEE LIST'!B3658=\"\",\"\",'FULL TRUSTEE LIST'!B3658&\" \"&'FULL TRUSTEE LIST'!C3658)","v":""}]
[{"$f":"IF('FULL TRUSTEE LIST'!B3659=\"\",\"\",'FULL TRUSTEE LIST'!B3659&\" \"&'FULL TRUSTEE LIST'!C3659)","v":""}]
[{"$f":"IF('FULL TRUSTEE LIST'!B3660=\"\",\"\",'FULL TRUSTEE LIST'!B3660&\" \"&'FULL TRUSTEE LIST'!C3660)","v":""}]
[{"$f":"IF('FULL TRUSTEE LIST'!B3661=\"\",\"\",'FULL TRUSTEE LIST'!B3661&\" \"&'FULL TRUSTEE LIST'!C3661)","v":""}]
[{"$f":"IF('FULL TRUSTEE LIST'!B3662=\"\",\"\",'FULL TRUSTEE LIST'!B3662&\" \"&'FULL TRUSTEE LIST'!C3662)","v":""}]
[{"$f":"IF('FULL TRUSTEE LIST'!B3663=\"\",\"\",'FULL TRUSTEE LIST'!B3663&\" \"&'FULL TRUSTEE LIST'!C3663)","v":""}]
[{"$f":"IF('FULL TRUSTEE LIST'!B3664=\"\",\"\",'FULL TRUSTEE LIST'!B3664&\" \"&'FULL TRUSTEE LIST'!C3664)","v":""}]
[{"$f":"IF('FULL TRUSTEE LIST'!B3665=\"\",\"\",'FULL TRUSTEE LIST'!B3665&\" \"&'FULL TRUSTEE LIST'!C3665)","v":""}]
[{"$f":"IF('FULL TRUSTEE LIST'!B3666=\"\",\"\",'FULL TRUSTEE LIST'!B3666&\" \"&'FULL TRUSTEE LIST'!C3666)","v":""}]
[{"$f":"IF('FULL TRUSTEE LIST'!B3667=\"\",\"\",'FULL TRUSTEE LIST'!B3667&\" \"&'FULL TRUSTEE LIST'!C3667)","v":""}]
[{"$f":"IF('FULL TRUSTEE LIST'!B3668=\"\",\"\",'FULL TRUSTEE LIST'!B3668&\" \"&'FULL TRUSTEE LIST'!C3668)","v":""}]
[{"$f":"IF('FULL TRUSTEE LIST'!B3669=\"\",\"\",'FULL TRUSTEE LIST'!B3669&\" \"&'FULL TRUSTEE LIST'!C3669)","v":""}]
[{"$f":"IF('FULL TRUSTEE LIST'!B3670=\"\",\"\",'FULL TRUSTEE LIST'!B3670&\" \"&'FULL TRUSTEE LIST'!C3670)","v":""}]
[{"$f":"IF('FULL TRUSTEE LIST'!B3671=\"\",\"\",'FULL TRUSTEE LIST'!B3671&\" \"&'FULL TRUSTEE LIST'!C3671)","v":""}]
[{"$f":"IF('FULL TRUSTEE LIST'!B3672=\"\",\"\",'FULL TRUSTEE LIST'!B3672&\" \"&'FULL TRUSTEE LIST'!C3672)","v":""}]
[{"$f":"IF('FULL TRUSTEE LIST'!B3673=\"\",\"\",'FULL TRUSTEE LIST'!B3673&\" \"&'FULL TRUSTEE LIST'!C3673)","v":""}]
[{"$f":"IF('FULL TRUSTEE LIST'!B3674=\"\",\"\",'FULL TRUSTEE LIST'!B3674&\" \"&'FULL TRUSTEE LIST'!C3674)","v":""}]
[{"$f":"IF('FULL TRUSTEE LIST'!B3675=\"\",\"\",'FULL TRUSTEE LIST'!B3675&\" \"&'FULL TRUSTEE LIST'!C3675)","v":""}]
[{"$f":"IF('FULL TRUSTEE LIST'!B3676=\"\",\"\",'FULL TRUSTEE LIST'!B3676&\" \"&'FULL TRUSTEE LIST'!C3676)","v":""}]
[{"$f":"IF('FULL TRUSTEE LIST'!B3677=\"\",\"\",'FULL TRUSTEE LIST'!B3677&\" \"&'FULL TRUSTEE LIST'!C3677)","v":""}]
[{"$f":"IF('FULL TRUSTEE LIST'!B3678=\"\",\"\",'FULL TRUSTEE LIST'!B3678&\" \"&'FULL TRUSTEE LIST'!C3678)","v":""}]
[{"$f":"IF('FULL TRUSTEE LIST'!B3679=\"\",\"\",'FULL TRUSTEE LIST'!B3679&\" \"&'FULL TRUSTEE LIST'!C3679)","v":""}]
[{"$f":"IF('FULL TRUSTEE LIST'!B3680=\"\",\"\",'FULL TRUSTEE LIST'!B3680&\" \"&'FULL TRUSTEE LIST'!C3680)","v":""}]
[{"$f":"IF('FULL TRUSTEE LIST'!B3681=\"\",\"\",'FULL TRUSTEE LIST'!B3681&\" \"&'FULL TRUSTEE LIST'!C3681)","v":""}]
[{"$f":"IF('FULL TRUSTEE LIST'!B3682=\"\",\"\",'FULL TRUSTEE LIST'!B3682&\" \"&'FULL TRUSTEE LIST'!C3682)","v":""}]
[{"$f":"IF('FULL TRUSTEE LIST'!B3683=\"\",\"\",'FULL TRUSTEE LIST'!B3683&\" \"&'FULL TRUSTEE LIST'!C3683)","v":""}]
[{"$f":"IF('FULL TRUSTEE LIST'!B3684=\"\",\"\",'FULL TRUSTEE LIST'!B3684&\" \"&'FULL TRUSTEE LIST'!C3684)","v":""}]
[{"$f":"IF('FULL TRUSTEE LIST'!B3685=\"\",\"\",'FULL TRUSTEE LIST'!B3685&\" \"&'FULL TRUSTEE LIST'!C3685)","v":""}]
[{"$f":"IF('FULL TRUSTEE LIST'!B3686=\"\",\"\",'FULL TRUSTEE LIST'!B3686&\" \"&'FULL TRUSTEE LIST'!C3686)","v":""}]
[{"$f":"IF('FULL TRUSTEE LIST'!B3687=\"\",\"\",'FULL TRUSTEE LIST'!B3687&\" \"&'FULL TRUSTEE LIST'!C3687)","v":""}]
[{"$f":"IF('FULL TRUSTEE LIST'!B3688=\"\",\"\",'FULL TRUSTEE LIST'!B3688&\" \"&'FULL TRUSTEE LIST'!C3688)","v":""}]
[{"$f":"IF('FULL TRUSTEE LIST'!B3689=\"\",\"\",'FULL TRUSTEE LIST'!B3689&\" \"&'FULL TRUSTEE LIST'!C3689)","v":""}]
[{"$f":"IF('FULL TRUSTEE LIST'!B3690=\"\",\"\",'FULL TRUSTEE LIST'!B3690&\" \"&'FULL TRUSTEE LIST'!C3690)","v":""}]
[{"$f":"IF('FULL TRUSTEE LIST'!B3691=\"\",\"\",'FULL TRUSTEE LIST'!B3691&\" \"&'FULL TRUSTEE LIST'!C3691)","v":""}]
[{"$f":"IF('FULL TRUSTEE LIST'!B3692=\"\",\"\",'FULL TRUSTEE LIST'!B3692&\" \"&'FULL TRUSTEE LIST'!C3692)","v":""}]
[{"$f":"IF('FULL TRUSTEE LIST'!B3693=\"\",\"\",'FULL TRUSTEE LIST'!B3693&\" \"&'FULL TRUSTEE LIST'!C3693)","v":""}]
[{"$f":"IF('FULL TRUSTEE LIST'!B3694=\"\",\"\",'FULL TRUSTEE LIST'!B3694&\" \"&'FULL TRUSTEE LIST'!C3694)","v":""}]
[{"$f":"IF('FULL TRUSTEE LIST'!B3695=\"\",\"\",'FULL TRUSTEE LIST'!B3695&\" \"&'FULL TRUSTEE LIST'!C3695)","v":""}]
[{"$f":"IF('FULL TRUSTEE LIST'!B3696=\"\",\"\",'FULL TRUSTEE LIST'!B3696&\" \"&'FULL TRUSTEE LIST'!C3696)","v":""}]
[{"$f":"IF('FULL TRUSTEE LIST'!B3697=\"\",\"\",'FULL TRUSTEE LIST'!B3697&\" \"&'FULL TRUSTEE LIST'!C3697)","v":""}]
[{"$f":"IF('FULL TRUSTEE LIST'!B3698=\"\",\"\",'FULL TRUSTEE LIST'!B3698&\" \"&'FULL TRUSTEE LIST'!C3698)","v":""}]
[{"$f":"IF('FULL TRUSTEE LIST'!B3699=\"\",\"\",'FULL TRUSTEE LIST'!B3699&\" \"&'FULL TRUSTEE LIST'!C3699)","v":""}]
[{"$f":"IF('FULL TRUSTEE LIST'!B3700=\"\",\"\",'FULL TRUSTEE LIST'!B3700&\" \"&'FULL TRUSTEE LIST'!C3700)","v":""}]
[{"$f":"IF('FULL TRUSTEE LIST'!B3701=\"\",\"\",'FULL TRUSTEE LIST'!B3701&\" \"&'FULL TRUSTEE LIST'!C3701)","v":""}]
[{"$f":"IF('FULL TRUSTEE LIST'!B3702=\"\",\"\",'FULL TRUSTEE LIST'!B3702&\" \"&'FULL TRUSTEE LIST'!C3702)","v":""}]
[{"$f":"IF('FULL TRUSTEE LIST'!B3703=\"\",\"\",'FULL TRUSTEE LIST'!B3703&\" \"&'FULL TRUSTEE LIST'!C3703)","v":""}]
[{"$f":"IF('FULL TRUSTEE LIST'!B3704=\"\",\"\",'FULL TRUSTEE LIST'!B3704&\" \"&'FULL TRUSTEE LIST'!C3704)","v":""}]
[{"$f":"IF('FULL TRUSTEE LIST'!B3705=\"\",\"\",'FULL TRUSTEE LIST'!B3705&\" \"&'FULL TRUSTEE LIST'!C3705)","v":""}]
[{"$f":"IF('FULL TRUSTEE LIST'!B3706=\"\",\"\",'FULL TRUSTEE LIST'!B3706&\" \"&'FULL TRUSTEE LIST'!C3706)","v":""}]
[{"$f":"IF('FULL TRUSTEE LIST'!B3707=\"\",\"\",'FULL TRUSTEE LIST'!B3707&\" \"&'FULL TRUSTEE LIST'!C3707)","v":""}]
[{"$f":"IF('FULL TRUSTEE LIST'!B3708=\"\",\"\",'FULL TRUSTEE LIST'!B3708&\" \"&'FULL TRUSTEE LIST'!C3708)","v":""}]
[{"$f":"IF('FULL TRUSTEE LIST'!B3709=\"\",\"\",'FULL TRUSTEE LIST'!B3709&\" \"&'FULL TRUSTEE LIST'!C3709)","v":""}]
[{"$f":"IF('FULL TRUSTEE LIST'!B3710=\"\",\"\",'FULL TRUSTEE LIST'!B3710&\" \"&'FULL TRUSTEE LIST'!C3710)","v":""}]
[{"$f":"IF('FULL TRUSTEE LIST'!B3711=\"\",\"\",'FULL TRUSTEE LIST'!B3711&\" \"&'FULL TRUSTEE LIST'!C3711)","v":""}]
[{"$f":"IF('FULL TRUSTEE LIST'!B3712=\"\",\"\",'FULL TRUSTEE LIST'!B3712&\" \"&'FULL TRUSTEE LIST'!C3712)","v":""}]
[{"$f":"IF('FULL TRUSTEE LIST'!B3713=\"\",\"\",'FULL TRUSTEE LIST'!B3713&\" \"&'FULL TRUSTEE LIST'!C3713)","v":""}]
[{"$f":"IF('FULL TRUSTEE LIST'!B3714=\"\",\"\",'FULL TRUSTEE LIST'!B3714&\" \"&'FULL TRUSTEE LIST'!C3714)","v":""}]
[{"$f":"IF('FULL TRUSTEE LIST'!B3715=\"\",\"\",'FULL TRUSTEE LIST'!B3715&\" \"&'FULL TRUSTEE LIST'!C3715)","v":""}]
[{"$f":"IF('FULL TRUSTEE LIST'!B3716=\"\",\"\",'FULL TRUSTEE LIST'!B3716&\" \"&'FULL TRUSTEE LIST'!C3716)","v":""}]
[{"$f":"IF('FULL TRUSTEE LIST'!B3717=\"\",\"\",'FULL TRUSTEE LIST'!B3717&\" \"&'FULL TRUSTEE LIST'!C3717)","v":""}]
[{"$f":"IF('FULL TRUSTEE LIST'!B3718=\"\",\"\",'FULL TRUSTEE LIST'!B3718&\" \"&'FULL TRUSTEE LIST'!C3718)","v":""}]
[{"$f":"IF('FULL TRUSTEE LIST'!B3719=\"\",\"\",'FULL TRUSTEE LIST'!B3719&\" \"&'FULL TRUSTEE LIST'!C3719)","v":""}]
[{"$f":"IF('FULL TRUSTEE LIST'!B3720=\"\",\"\",'FULL TRUSTEE LIST'!B3720&\" \"&'FULL TRUSTEE LIST'!C3720)","v":""}]
[{"$f":"IF('FULL TRUSTEE LIST'!B3721=\"\",\"\",'FULL TRUSTEE LIST'!B3721&\" \"&'FULL TRUSTEE LIST'!C3721)","v":""}]
[{"$f":"IF('FULL TRUSTEE LIST'!B3722=\"\",\"\",'FULL TRUSTEE LIST'!B3722&\" \"&'FULL TRUSTEE LIST'!C3722)","v":""}]
[{"$f":"IF('FULL TRUSTEE LIST'!B3723=\"\",\"\",'FULL TRUSTEE LIST'!B3723&\" \"&'FULL TRUSTEE LIST'!C3723)","v":""}]
[{"$f":"IF('FULL TRUSTEE LIST'!B3724=\"\",\"\",'FULL TRUSTEE LIST'!B3724&\" \"&'FULL TRUSTEE LIST'!C3724)","v":""}]
[{"$f":"IF('FULL TRUSTEE LIST'!B3725=\"\",\"\",'FULL TRUSTEE LIST'!B3725&\" \"&'FULL TRUSTEE LIST'!C3725)","v":""}]
[{"$f":"IF('FULL TRUSTEE LIST'!B3726=\"\",\"\",'FULL TRUSTEE LIST'!B3726&\" \"&'FULL TRUSTEE LIST'!C3726)","v":""}]
[{"$f":"IF('FULL TRUSTEE LIST'!B3727=\"\",\"\",'FULL TRUSTEE LIST'!B3727&\" \"&'FULL TRUSTEE LIST'!C3727)","v":""}]
[{"$f":"IF('FULL TRUSTEE LIST'!B3728=\"\",\"\",'FULL TRUSTEE LIST'!B3728&\" \"&'FULL TRUSTEE LIST'!C3728)","v":""}]
[{"$f":"IF('FULL TRUSTEE LIST'!B3729=\"\",\"\",'FULL TRUSTEE LIST'!B3729&\" \"&'FULL TRUSTEE LIST'!C3729)","v":""}]
[{"$f":"IF('FULL TRUSTEE LIST'!B3730=\"\",\"\",'FULL TRUSTEE LIST'!B3730&\" \"&'FULL TRUSTEE LIST'!C3730)","v":""}]
[{"$f":"IF('FULL TRUSTEE LIST'!B3731=\"\",\"\",'FULL TRUSTEE LIST'!B3731&\" \"&'FULL TRUSTEE LIST'!C3731)","v":""}]
[{"$f":"IF('FULL TRUSTEE LIST'!B3732=\"\",\"\",'FULL TRUSTEE LIST'!B3732&\" \"&'FULL TRUSTEE LIST'!C3732)","v":""}]
[{"$f":"IF('FULL TRUSTEE LIST'!B3733=\"\",\"\",'FULL TRUSTEE LIST'!B3733&\" \"&'FULL TRUSTEE LIST'!C3733)","v":""}]
[{"$f":"IF('FULL TRUSTEE LIST'!B3734=\"\",\"\",'FULL TRUSTEE LIST'!B3734&\" \"&'FULL TRUSTEE LIST'!C3734)","v":""}]
[{"$f":"IF('FULL TRUSTEE LIST'!B3735=\"\",\"\",'FULL TRUSTEE LIST'!B3735&\" \"&'FULL TRUSTEE LIST'!C3735)","v":""}]
[{"$f":"IF('FULL TRUSTEE LIST'!B3736=\"\",\"\",'FULL TRUSTEE LIST'!B3736&\" \"&'FULL TRUSTEE LIST'!C3736)","v":""}]
[{"$f":"IF('FULL TRUSTEE LIST'!B3737=\"\",\"\",'FULL TRUSTEE LIST'!B3737&\" \"&'FULL TRUSTEE LIST'!C3737)","v":""}]
[{"$f":"IF('FULL TRUSTEE LIST'!B3738=\"\",\"\",'FULL TRUSTEE LIST'!B3738&\" \"&'FULL TRUSTEE LIST'!C3738)","v":""}]
[{"$f":"IF('FULL TRUSTEE LIST'!B3739=\"\",\"\",'FULL TRUSTEE LIST'!B3739&\" \"&'FULL TRUSTEE LIST'!C3739)","v":""}]
[{"$f":"IF('FULL TRUSTEE LIST'!B3740=\"\",\"\",'FULL TRUSTEE LIST'!B3740&\" \"&'FULL TRUSTEE LIST'!C3740)","v":""}]
[{"$f":"IF('FULL TRUSTEE LIST'!B3741=\"\",\"\",'FULL TRUSTEE LIST'!B3741&\" \"&'FULL TRUSTEE LIST'!C3741)","v":""}]
[{"$f":"IF('FULL TRUSTEE LIST'!B3742=\"\",\"\",'FULL TRUSTEE LIST'!B3742&\" \"&'FULL TRUSTEE LIST'!C3742)","v":""}]
[{"$f":"IF('FULL TRUSTEE LIST'!B3743=\"\",\"\",'FULL TRUSTEE LIST'!B3743&\" \"&'FULL TRUSTEE LIST'!C3743)","v":""}]
[{"$f":"IF('FULL TRUSTEE LIST'!B3744=\"\",\"\",'FULL TRUSTEE LIST'!B3744&\" \"&'FULL TRUSTEE LIST'!C3744)","v":""}]
[{"$f":"IF('FULL TRUSTEE LIST'!B3745=\"\",\"\",'FULL TRUSTEE LIST'!B3745&\" \"&'FULL TRUSTEE LIST'!C3745)","v":""}]
[{"$f":"IF('FULL TRUSTEE LIST'!B3746=\"\",\"\",'FULL TRUSTEE LIST'!B3746&\" \"&'FULL TRUSTEE LIST'!C3746)","v":""}]
[{"$f":"IF('FULL TRUSTEE LIST'!B3747=\"\",\"\",'FULL TRUSTEE LIST'!B3747&\" \"&'FULL TRUSTEE LIST'!C3747)","v":""}]
[{"$f":"IF('FULL TRUSTEE LIST'!B3748=\"\",\"\",'FULL TRUSTEE LIST'!B3748&\" \"&'FULL TRUSTEE LIST'!C3748)","v":""}]
[{"$f":"IF('FULL TRUSTEE LIST'!B3749=\"\",\"\",'FULL TRUSTEE LIST'!B3749&\" \"&'FULL TRUSTEE LIST'!C3749)","v":""}]
[{"$f":"IF('FULL TRUSTEE LIST'!B3750=\"\",\"\",'FULL TRUSTEE LIST'!B3750&\" \"&'FULL TRUSTEE LIST'!C3750)","v":""}]
[{"$f":"IF('FULL TRUSTEE LIST'!B3751=\"\",\"\",'FULL TRUSTEE LIST'!B3751&\" \"&'FULL TRUSTEE LIST'!C3751)","v":""}]
[{"$f":"IF('FULL TRUSTEE LIST'!B3752=\"\",\"\",'FULL TRUSTEE LIST'!B3752&\" \"&'FULL TRUSTEE LIST'!C3752)","v":""}]
[{"$f":"IF('FULL TRUSTEE LIST'!B3753=\"\",\"\",'FULL TRUSTEE LIST'!B3753&\" \"&'FULL TRUSTEE LIST'!C3753)","v":""}]
[{"$f":"IF('FULL TRUSTEE LIST'!B3754=\"\",\"\",'FULL TRUSTEE LIST'!B3754&\" \"&'FULL TRUSTEE LIST'!C3754)","v":""}]
[{"$f":"IF('FULL TRUSTEE LIST'!B3755=\"\",\"\",'FULL TRUSTEE LIST'!B3755&\" \"&'FULL TRUSTEE LIST'!C3755)","v":""}]
[{"$f":"IF('FULL TRUSTEE LIST'!B3756=\"\",\"\",'FULL TRUSTEE LIST'!B3756&\" \"&'FULL TRUSTEE LIST'!C3756)","v":""}]
[{"$f":"IF('FULL TRUSTEE LIST'!B3757=\"\",\"\",'FULL TRUSTEE LIST'!B3757&\" \"&'FULL TRUSTEE LIST'!C3757)","v":""}]
[{"$f":"IF('FULL TRUSTEE LIST'!B3758=\"\",\"\",'FULL TRUSTEE LIST'!B3758&\" \"&'FULL TRUSTEE LIST'!C3758)","v":""}]
[{"$f":"IF('FULL TRUSTEE LIST'!B3759=\"\",\"\",'FULL TRUSTEE LIST'!B3759&\" \"&'FULL TRUSTEE LIST'!C3759)","v":""}]
[{"$f":"IF('FULL TRUSTEE LIST'!B3760=\"\",\"\",'FULL TRUSTEE LIST'!B3760&\" \"&'FULL TRUSTEE LIST'!C3760)","v":""}]
[{"$f":"IF('FULL TRUSTEE LIST'!B3761=\"\",\"\",'FULL TRUSTEE LIST'!B3761&\" \"&'FULL TRUSTEE LIST'!C3761)","v":""}]
[{"$f":"IF('FULL TRUSTEE LIST'!B3762=\"\",\"\",'FULL TRUSTEE LIST'!B3762&\" \"&'FULL TRUSTEE LIST'!C3762)","v":""}]
[{"$f":"IF('FULL TRUSTEE LIST'!B3763=\"\",\"\",'FULL TRUSTEE LIST'!B3763&\" \"&'FULL TRUSTEE LIST'!C3763)","v":""}]
[{"$f":"IF('FULL TRUSTEE LIST'!B3764=\"\",\"\",'FULL TRUSTEE LIST'!B3764&\" \"&'FULL TRUSTEE LIST'!C3764)","v":""}]
[{"$f":"IF('FULL TRUSTEE LIST'!B3765=\"\",\"\",'FULL TRUSTEE LIST'!B3765&\" \"&'FULL TRUSTEE LIST'!C3765)","v":""}]
[{"$f":"IF('FULL TRUSTEE LIST'!B3766=\"\",\"\",'FULL TRUSTEE LIST'!B3766&\" \"&'FULL TRUSTEE LIST'!C3766)","v":""}]
[{"$f":"IF('FULL TRUSTEE LIST'!B3767=\"\",\"\",'FULL TRUSTEE LIST'!B3767&\" \"&'FULL TRUSTEE LIST'!C3767)","v":""}]
[{"$f":"IF('FULL TRUSTEE LIST'!B3768=\"\",\"\",'FULL TRUSTEE LIST'!B3768&\" \"&'FULL TRUSTEE LIST'!C3768)","v":""}]
[{"$f":"IF('FULL TRUSTEE LIST'!B3769=\"\",\"\",'FULL TRUSTEE LIST'!B3769&\" \"&'FULL TRUSTEE LIST'!C3769)","v":""}]
[{"$f":"IF('FULL TRUSTEE LIST'!B3770=\"\",\"\",'FULL TRUSTEE LIST'!B3770&\" \"&'FULL TRUSTEE LIST'!C3770)","v":""}]
[{"$f":"IF('FULL TRUSTEE LIST'!B3771=\"\",\"\",'FULL TRUSTEE LIST'!B3771&\" \"&'FULL TRUSTEE LIST'!C3771)","v":""}]
[{"$f":"IF('FULL TRUSTEE LIST'!B3772=\"\",\"\",'FULL TRUSTEE LIST'!B3772&\" \"&'FULL TRUSTEE LIST'!C3772)","v":""}]
[{"$f":"IF('FULL TRUSTEE LIST'!B3773=\"\",\"\",'FULL TRUSTEE LIST'!B3773&\" \"&'FULL TRUSTEE LIST'!C3773)","v":""}]
[{"$f":"IF('FULL TRUSTEE LIST'!B3774=\"\",\"\",'FULL TRUSTEE LIST'!B3774&\" \"&'FULL TRUSTEE LIST'!C3774)","v":""}]
[{"$f":"IF('FULL TRUSTEE LIST'!B3775=\"\",\"\",'FULL TRUSTEE LIST'!B3775&\" \"&'FULL TRUSTEE LIST'!C3775)","v":""}]
[{"$f":"IF('FULL TRUSTEE LIST'!B3776=\"\",\"\",'FULL TRUSTEE LIST'!B3776&\" \"&'FULL TRUSTEE LIST'!C3776)","v":""}]
[{"$f":"IF('FULL TRUSTEE LIST'!B3777=\"\",\"\",'FULL TRUSTEE LIST'!B3777&\" \"&'FULL TRUSTEE LIST'!C3777)","v":""}]
[{"$f":"IF('FULL TRUSTEE LIST'!B3778=\"\",\"\",'FULL TRUSTEE LIST'!B3778&\" \"&'FULL TRUSTEE LIST'!C3778)","v":""}]
[{"$f":"IF('FULL TRUSTEE LIST'!B3779=\"\",\"\",'FULL TRUSTEE LIST'!B3779&\" \"&'FULL TRUSTEE LIST'!C3779)","v":""}]
[{"$f":"IF('FULL TRUSTEE LIST'!B3780=\"\",\"\",'FULL TRUSTEE LIST'!B3780&\" \"&'FULL TRUSTEE LIST'!C3780)","v":""}]
[{"$f":"IF('FULL TRUSTEE LIST'!B3781=\"\",\"\",'FULL TRUSTEE LIST'!B3781&\" \"&'FULL TRUSTEE LIST'!C3781)","v":""}]
[{"$f":"IF('FULL TRUSTEE LIST'!B3782=\"\",\"\",'FULL TRUSTEE LIST'!B3782&\" \"&'FULL TRUSTEE LIST'!C3782)","v":""}]
[{"$f":"IF('FULL TRUSTEE LIST'!B3783=\"\",\"\",'FULL TRUSTEE LIST'!B3783&\" \"&'FULL TRUSTEE LIST'!C3783)","v":""}]
[{"$f":"IF('FULL TRUSTEE LIST'!B3784=\"\",\"\",'FULL TRUSTEE LIST'!B3784&\" \"&'FULL TRUSTEE LIST'!C3784)","v":""}]
[{"$f":"IF('FULL TRUSTEE LIST'!B3785=\"\",\"\",'FULL TRUSTEE LIST'!B3785&\" \"&'FULL TRUSTEE LIST'!C3785)","v":""}]
[{"$f":"IF('FULL TRUSTEE LIST'!B3786=\"\",\"\",'FULL TRUSTEE LIST'!B3786&\" \"&'FULL TRUSTEE LIST'!C3786)","v":""}]
[{"$f":"IF('FULL TRUSTEE LIST'!B3787=\"\",\"\",'FULL TRUSTEE LIST'!B3787&\" \"&'FULL TRUSTEE LIST'!C3787)","v":""}]
[{"$f":"IF('FULL TRUSTEE LIST'!B3788=\"\",\"\",'FULL TRUSTEE LIST'!B3788&\" \"&'FULL TRUSTEE LIST'!C3788)","v":""}]
[{"$f":"IF('FULL TRUSTEE LIST'!B3789=\"\",\"\",'FULL TRUSTEE LIST'!B3789&\" \"&'FULL TRUSTEE LIST'!C3789)","v":""}]
[{"$f":"IF('FULL TRUSTEE LIST'!B3790=\"\",\"\",'FULL TRUSTEE LIST'!B3790&\" \"&'FULL TRUSTEE LIST'!C3790)","v":""}]
[{"$f":"IF('FULL TRUSTEE LIST'!B3791=\"\",\"\",'FULL TRUSTEE LIST'!B3791&\" \"&'FULL TRUSTEE LIST'!C3791)","v":""}]
[{"$f":"IF('FULL TRUSTEE LIST'!B3792=\"\",\"\",'FULL TRUSTEE LIST'!B3792&\" \"&'FULL TRUSTEE LIST'!C3792)","v":""}]
[{"$f":"IF('FULL TRUSTEE LIST'!B3793=\"\",\"\",'FULL TRUSTEE LIST'!B3793&\" \"&'FULL TRUSTEE LIST'!C3793)","v":""}]
[{"$f":"IF('FULL TRUSTEE LIST'!B3794=\"\",\"\",'FULL TRUSTEE LIST'!B3794&\" \"&'FULL TRUSTEE LIST'!C3794)","v":""}]
[{"$f":"IF('FULL TRUSTEE LIST'!B3795=\"\",\"\",'FULL TRUSTEE LIST'!B3795&\" \"&'FULL TRUSTEE LIST'!C3795)","v":""}]
[{"$f":"IF('FULL TRUSTEE LIST'!B3796=\"\",\"\",'FULL TRUSTEE LIST'!B3796&\" \"&'FULL TRUSTEE LIST'!C3796)","v":""}]
[{"$f":"IF('FULL TRUSTEE LIST'!B3797=\"\",\"\",'FULL TRUSTEE LIST'!B3797&\" \"&'FULL TRUSTEE LIST'!C3797)","v":""}]
[{"$f":"IF('FULL TRUSTEE LIST'!B3798=\"\",\"\",'FULL TRUSTEE LIST'!B3798&\" \"&'FULL TRUSTEE LIST'!C3798)","v":""}]
[{"$f":"IF('FULL TRUSTEE LIST'!B3799=\"\",\"\",'FULL TRUSTEE LIST'!B3799&\" \"&'FULL TRUSTEE LIST'!C3799)","v":""}]
[{"$f":"IF('FULL TRUSTEE LIST'!B3800=\"\",\"\",'FULL TRUSTEE LIST'!B3800&\" \"&'FULL TRUSTEE LIST'!C3800)","v":""}]
[{"$f":"IF('FULL TRUSTEE LIST'!B3801=\"\",\"\",'FULL TRUSTEE LIST'!B3801&\" \"&'FULL TRUSTEE LIST'!C3801)","v":""}]
[{"$f":"IF('FULL TRUSTEE LIST'!B3802=\"\",\"\",'FULL TRUSTEE LIST'!B3802&\" \"&'FULL TRUSTEE LIST'!C3802)","v":""}]
[{"$f":"IF('FULL TRUSTEE LIST'!B3803=\"\",\"\",'FULL TRUSTEE LIST'!B3803&\" \"&'FULL TRUSTEE LIST'!C3803)","v":""}]
[{"$f":"IF('FULL TRUSTEE LIST'!B3804=\"\",\"\",'FULL TRUSTEE LIST'!B3804&\" \"&'FULL TRUSTEE LIST'!C3804)","v":""}]
[{"$f":"IF('FULL TRUSTEE LIST'!B3805=\"\",\"\",'FULL TRUSTEE LIST'!B3805&\" \"&'FULL TRUSTEE LIST'!C3805)","v":""}]
[{"$f":"IF('FULL TRUSTEE LIST'!B3806=\"\",\"\",'FULL TRUSTEE LIST'!B3806&\" \"&'FULL TRUSTEE LIST'!C3806)","v":""}]
[{"$f":"IF('FULL TRUSTEE LIST'!B3807=\"\",\"\",'FULL TRUSTEE LIST'!B3807&\" \"&'FULL TRUSTEE LIST'!C3807)","v":""}]
[{"$f":"IF('FULL TRUSTEE LIST'!B3808=\"\",\"\",'FULL TRUSTEE LIST'!B3808&\" \"&'FULL TRUSTEE LIST'!C3808)","v":""}]
[{"$f":"IF('FULL TRUSTEE LIST'!B3809=\"\",\"\",'FULL TRUSTEE LIST'!B3809&\" \"&'FULL TRUSTEE LIST'!C3809)","v":""}]
[{"$f":"IF('FULL TRUSTEE LIST'!B3810=\"\",\"\",'FULL TRUSTEE LIST'!B3810&\" \"&'FULL TRUSTEE LIST'!C3810)","v":""}]
[{"$f":"IF('FULL TRUSTEE LIST'!B3811=\"\",\"\",'FULL TRUSTEE LIST'!B3811&\" \"&'FULL TRUSTEE LIST'!C3811)","v":""}]
[{"$f":"IF('FULL TRUSTEE LIST'!B3812=\"\",\"\",'FULL TRUSTEE LIST'!B3812&\" \"&'FULL TRUSTEE LIST'!C3812)","v":""}]
[{"$f":"IF('FULL TRUSTEE LIST'!B3813=\"\",\"\",'FULL TRUSTEE LIST'!B3813&\" \"&'FULL TRUSTEE LIST'!C3813)","v":""}]
[{"$f":"IF('FULL TRUSTEE LIST'!B3814=\"\",\"\",'FULL TRUSTEE LIST'!B3814&\" \"&'FULL TRUSTEE LIST'!C3814)","v":""}]
[{"$f":"IF('FULL TRUSTEE LIST'!B3815=\"\",\"\",'FULL TRUSTEE LIST'!B3815&\" \"&'FULL TRUSTEE LIST'!C3815)","v":""}]
[{"$f":"IF('FULL TRUSTEE LIST'!B3816=\"\",\"\",'FULL TRUSTEE LIST'!B3816&\" \"&'FULL TRUSTEE LIST'!C3816)","v":""}]
[{"$f":"IF('FULL TRUSTEE LIST'!B3817=\"\",\"\",'FULL TRUSTEE LIST'!B3817&\" \"&'FULL TRUSTEE LIST'!C3817)","v":""}]
[{"$f":"IF('FULL TRUSTEE LIST'!B3818=\"\",\"\",'FULL TRUSTEE LIST'!B3818&\" \"&'FULL TRUSTEE LIST'!C3818)","v":""}]
[{"$f":"IF('FULL TRUSTEE LIST'!B3819=\"\",\"\",'FULL TRUSTEE LIST'!B3819&\" \"&'FULL TRUSTEE LIST'!C3819)","v":""}]
[{"$f":"IF('FULL TRUSTEE LIST'!B3820=\"\",\"\",'FULL TRUSTEE LIST'!B3820&\" \"&'FULL TRUSTEE LIST'!C3820)","v":""}]
[{"$f":"IF('FULL TRUSTEE LIST'!B3821=\"\",\"\",'FULL TRUSTEE LIST'!B3821&\" \"&'FULL TRUSTEE LIST'!C3821)","v":""}]
[{"$f":"IF('FULL TRUSTEE LIST'!B3822=\"\",\"\",'FULL TRUSTEE LIST'!B3822&\" \"&'FULL TRUSTEE LIST'!C3822)","v":""}]
[{"$f":"IF('FULL TRUSTEE LIST'!B3823=\"\",\"\",'FULL TRUSTEE LIST'!B3823&\" \"&'FULL TRUSTEE LIST'!C3823)","v":""}]
[{"$f":"IF('FULL TRUSTEE LIST'!B3824=\"\",\"\",'FULL TRUSTEE LIST'!B3824&\" \"&'FULL TRUSTEE LIST'!C3824)","v":""}]
[{"$f":"IF('FULL TRUSTEE LIST'!B3825=\"\",\"\",'FULL TRUSTEE LIST'!B3825&\" \"&'FULL TRUSTEE LIST'!C3825)","v":""}]
[{"$f":"IF('FULL TRUSTEE LIST'!B3826=\"\",\"\",'FULL TRUSTEE LIST'!B3826&\" \"&'FULL TRUSTEE LIST'!C3826)","v":""}]
[{"$f":"IF('FULL TRUSTEE LIST'!B3827=\"\",\"\",'FULL TRUSTEE LIST'!B3827&\" \"&'FULL TRUSTEE LIST'!C3827)","v":""}]
[{"$f":"IF('FULL TRUSTEE LIST'!B3828=\"\",\"\",'FULL TRUSTEE LIST'!B3828&\" \"&'FULL TRUSTEE LIST'!C3828)","v":""}]
[{"$f":"IF('FULL TRUSTEE LIST'!B3829=\"\",\"\",'FULL TRUSTEE LIST'!B3829&\" \"&'FULL TRUSTEE LIST'!C3829)","v":""}]
[{"$f":"IF('FULL TRUSTEE LIST'!B3830=\"\",\"\",'FULL TRUSTEE LIST'!B3830&\" \"&'FULL TRUSTEE LIST'!C3830)","v":""}]
[{"$f":"IF('FULL TRUSTEE LIST'!B3831=\"\",\"\",'FULL TRUSTEE LIST'!B3831&\" \"&'FULL TRUSTEE LIST'!C3831)","v":""}]
[{"$f":"IF('FULL TRUSTEE LIST'!B3832=\"\",\"\",'FULL TRUSTEE LIST'!B3832&\" \"&'FULL TRUSTEE LIST'!C3832)","v":""}]
[{"$f":"IF('FULL TRUSTEE LIST'!B3833=\"\",\"\",'FULL TRUSTEE LIST'!B3833&\" \"&'FULL TRUSTEE LIST'!C3833)","v":""}]
[{"$f":"IF('FULL TRUSTEE LIST'!B3834=\"\",\"\",'FULL TRUSTEE LIST'!B3834&\" \"&'FULL TRUSTEE LIST'!C3834)","v":""}]
[{"$f":"IF('FULL TRUSTEE LIST'!B3835=\"\",\"\",'FULL TRUSTEE LIST'!B3835&\" \"&'FULL TRUSTEE LIST'!C3835)","v":""}]
[{"$f":"IF('FULL TRUSTEE LIST'!B3836=\"\",\"\",'FULL TRUSTEE LIST'!B3836&\" \"&'FULL TRUSTEE LIST'!C3836)","v":""}]
[{"$f":"IF('FULL TRUSTEE LIST'!B3837=\"\",\"\",'FULL TRUSTEE LIST'!B3837&\" \"&'FULL TRUSTEE LIST'!C3837)","v":""}]
[{"$f":"IF('FULL TRUSTEE LIST'!B3838=\"\",\"\",'FULL TRUSTEE LIST'!B3838&\" \"&'FULL TRUSTEE LIST'!C3838)","v":""}]
[{"$f":"IF('FULL TRUSTEE LIST'!B3839=\"\",\"\",'FULL TRUSTEE LIST'!B3839&\" \"&'FULL TRUSTEE LIST'!C3839)","v":""}]
[{"$f":"IF('FULL TRUSTEE LIST'!B3840=\"\",\"\",'FULL TRUSTEE LIST'!B3840&\" \"&'FULL TRUSTEE LIST'!C3840)","v":""}]
[{"$f":"IF('FULL TRUSTEE LIST'!B3841=\"\",\"\",'FULL TRUSTEE LIST'!B3841&\" \"&'FULL TRUSTEE LIST'!C3841)","v":""}]
[{"$f":"IF('FULL TRUSTEE LIST'!B3842=\"\",\"\",'FULL TRUSTEE LIST'!B3842&\" \"&'FULL TRUSTEE LIST'!C3842)","v":""}]
[{"$f":"IF('FULL TRUSTEE LIST'!B3843=\"\",\"\",'FULL TRUSTEE LIST'!B3843&\" \"&'FULL TRUSTEE LIST'!C3843)","v":""}]
[{"$f":"IF('FULL TRUSTEE LIST'!B3844=\"\",\"\",'FULL TRUSTEE LIST'!B3844&\" \"&'FULL TRUSTEE LIST'!C3844)","v":""}]
[{"$f":"IF('FULL TRUSTEE LIST'!B3845=\"\",\"\",'FULL TRUSTEE LIST'!B3845&\" \"&'FULL TRUSTEE LIST'!C3845)","v":""}]
[{"$f":"IF('FULL TRUSTEE LIST'!B3846=\"\",\"\",'FULL TRUSTEE LIST'!B3846&\" \"&'FULL TRUSTEE LIST'!C3846)","v":""}]
[{"$f":"IF('FULL TRUSTEE LIST'!B3847=\"\",\"\",'FULL TRUSTEE LIST'!B3847&\" \"&'FULL TRUSTEE LIST'!C3847)","v":""}]
[{"$f":"IF('FULL TRUSTEE LIST'!B3848=\"\",\"\",'FULL TRUSTEE LIST'!B3848&\" \"&'FULL TRUSTEE LIST'!C3848)","v":""}]
[{"$f":"IF('FULL TRUSTEE LIST'!B3849=\"\",\"\",'FULL TRUSTEE LIST'!B3849&\" \"&'FULL TRUSTEE LIST'!C3849)","v":""}]
[{"$f":"IF('FULL TRUSTEE LIST'!B3850=\"\",\"\",'FULL TRUSTEE LIST'!B3850&\" \"&'FULL TRUSTEE LIST'!C3850)","v":""}]
[{"$f":"IF('FULL TRUSTEE LIST'!B3851=\"\",\"\",'FULL TRUSTEE LIST'!B3851&\" \"&'FULL TRUSTEE LIST'!C3851)","v":""}]
[{"$f":"IF('FULL TRUSTEE LIST'!B3852=\"\",\"\",'FULL TRUSTEE LIST'!B3852&\" \"&'FULL TRUSTEE LIST'!C3852)","v":""}]
[{"$f":"IF('FULL TRUSTEE LIST'!B3853=\"\",\"\",'FULL TRUSTEE LIST'!B3853&\" \"&'FULL TRUSTEE LIST'!C3853)","v":""}]
[{"$f":"IF('FULL TRUSTEE LIST'!B3854=\"\",\"\",'FULL TRUSTEE LIST'!B3854&\" \"&'FULL TRUSTEE LIST'!C3854)","v":""}]
[{"$f":"IF('FULL TRUSTEE LIST'!B3855=\"\",\"\",'FULL TRUSTEE LIST'!B3855&\" \"&'FULL TRUSTEE LIST'!C3855)","v":""}]
[{"$f":"IF('FULL TRUSTEE LIST'!B3856=\"\",\"\",'FULL TRUSTEE LIST'!B3856&\" \"&'FULL TRUSTEE LIST'!C3856)","v":""}]
[{"$f":"IF('FULL TRUSTEE LIST'!B3857=\"\",\"\",'FULL TRUSTEE LIST'!B3857&\" \"&'FULL TRUSTEE LIST'!C3857)","v":""}]
[{"$f":"IF('FULL TRUSTEE LIST'!B3858=\"\",\"\",'FULL TRUSTEE LIST'!B3858&\" \"&'FULL TRUSTEE LIST'!C3858)","v":""}]
[{"$f":"IF('FULL TRUSTEE LIST'!B3859=\"\",\"\",'FULL TRUSTEE LIST'!B3859&\" \"&'FULL TRUSTEE LIST'!C3859)","v":""}]
[{"$f":"IF('FULL TRUSTEE LIST'!B3860=\"\",\"\",'FULL TRUSTEE LIST'!B3860&\" \"&'FULL TRUSTEE LIST'!C3860)","v":""}]
[{"$f":"IF('FULL TRUSTEE LIST'!B3861=\"\",\"\",'FULL TRUSTEE LIST'!B3861&\" \"&'FULL TRUSTEE LIST'!C3861)","v":""}]
[{"$f":"IF('FULL TRUSTEE LIST'!B3862=\"\",\"\",'FULL TRUSTEE LIST'!B3862&\" \"&'FULL TRUSTEE LIST'!C3862)","v":""}]
[{"$f":"IF('FULL TRUSTEE LIST'!B3863=\"\",\"\",'FULL TRUSTEE LIST'!B3863&\" \"&'FULL TRUSTEE LIST'!C3863)","v":""}]
[{"$f":"IF('FULL TRUSTEE LIST'!B3864=\"\",\"\",'FULL TRUSTEE LIST'!B3864&\" \"&'FULL TRUSTEE LIST'!C3864)","v":""}]
[{"$f":"IF('FULL TRUSTEE LIST'!B3865=\"\",\"\",'FULL TRUSTEE LIST'!B3865&\" \"&'FULL TRUSTEE LIST'!C3865)","v":""}]
[{"$f":"IF('FULL TRUSTEE LIST'!B3866=\"\",\"\",'FULL TRUSTEE LIST'!B3866&\" \"&'FULL TRUSTEE LIST'!C3866)","v":""}]
[{"$f":"IF('FULL TRUSTEE LIST'!B3867=\"\",\"\",'FULL TRUSTEE LIST'!B3867&\" \"&'FULL TRUSTEE LIST'!C3867)","v":""}]
[{"$f":"IF('FULL TRUSTEE LIST'!B3868=\"\",\"\",'FULL TRUSTEE LIST'!B3868&\" \"&'FULL TRUSTEE LIST'!C3868)","v":""}]
[{"$f":"IF('FULL TRUSTEE LIST'!B3869=\"\",\"\",'FULL TRUSTEE LIST'!B3869&\" \"&'FULL TRUSTEE LIST'!C3869)","v":""}]
[{"$f":"IF('FULL TRUSTEE LIST'!B3870=\"\",\"\",'FULL TRUSTEE LIST'!B3870&\" \"&'FULL TRUSTEE LIST'!C3870)","v":""}]
[{"$f":"IF('FULL TRUSTEE LIST'!B3871=\"\",\"\",'FULL TRUSTEE LIST'!B3871&\" \"&'FULL TRUSTEE LIST'!C3871)","v":""}]
[{"$f":"IF('FULL TRUSTEE LIST'!B3872=\"\",\"\",'FULL TRUSTEE LIST'!B3872&\" \"&'FULL TRUSTEE LIST'!C3872)","v":""}]
[{"$f":"IF('FULL TRUSTEE LIST'!B3873=\"\",\"\",'FULL TRUSTEE LIST'!B3873&\" \"&'FULL TRUSTEE LIST'!C3873)","v":""}]
[{"$f":"IF('FULL TRUSTEE LIST'!B3874=\"\",\"\",'FULL TRUSTEE LIST'!B3874&\" \"&'FULL TRUSTEE LIST'!C3874)","v":""}]
[{"$f":"IF('FULL TRUSTEE LIST'!B3875=\"\",\"\",'FULL TRUSTEE LIST'!B3875&\" \"&'FULL TRUSTEE LIST'!C3875)","v":""}]
[{"$f":"IF('FULL TRUSTEE LIST'!B3876=\"\",\"\",'FULL TRUSTEE LIST'!B3876&\" \"&'FULL TRUSTEE LIST'!C3876)","v":""}]
[{"$f":"IF('FULL TRUSTEE LIST'!B3877=\"\",\"\",'FULL TRUSTEE LIST'!B3877&\" \"&'FULL TRUSTEE LIST'!C3877)","v":""}]
[{"$f":"IF('FULL TRUSTEE LIST'!B3878=\"\",\"\",'FULL TRUSTEE LIST'!B3878&\" \"&'FULL TRUSTEE LIST'!C3878)","v":""}]
[{"$f":"IF('FULL TRUSTEE LIST'!B3879=\"\",\"\",'FULL TRUSTEE LIST'!B3879&\" \"&'FULL TRUSTEE LIST'!C3879)","v":""}]
[{"$f":"IF('FULL TRUSTEE LIST'!B3880=\"\",\"\",'FULL TRUSTEE LIST'!B3880&\" \"&'FULL TRUSTEE LIST'!C3880)","v":""}]
[{"$f":"IF('FULL TRUSTEE LIST'!B3881=\"\",\"\",'FULL TRUSTEE LIST'!B3881&\" \"&'FULL TRUSTEE LIST'!C3881)","v":""}]
[{"$f":"IF('FULL TRUSTEE LIST'!B3882=\"\",\"\",'FULL TRUSTEE LIST'!B3882&\" \"&'FULL TRUSTEE LIST'!C3882)","v":""}]
[{"$f":"IF('FULL TRUSTEE LIST'!B3883=\"\",\"\",'FULL TRUSTEE LIST'!B3883&\" \"&'FULL TRUSTEE LIST'!C3883)","v":""}]
[{"$f":"IF('FULL TRUSTEE LIST'!B3884=\"\",\"\",'FULL TRUSTEE LIST'!B3884&\" \"&'FULL TRUSTEE LIST'!C3884)","v":""}]
[{"$f":"IF('FULL TRUSTEE LIST'!B3885=\"\",\"\",'FULL TRUSTEE LIST'!B3885&\" \"&'FULL TRUSTEE LIST'!C3885)","v":""}]
[{"$f":"IF('FULL TRUSTEE LIST'!B3886=\"\",\"\",'FULL TRUSTEE LIST'!B3886&\" \"&'FULL TRUSTEE LIST'!C3886)","v":""}]
[{"$f":"IF('FULL TRUSTEE LIST'!B3887=\"\",\"\",'FULL TRUSTEE LIST'!B3887&\" \"&'FULL TRUSTEE LIST'!C3887)","v":""}]
[{"$f":"IF('FULL TRUSTEE LIST'!B3888=\"\",\"\",'FULL TRUSTEE LIST'!B3888&\" \"&'FULL TRUSTEE LIST'!C3888)","v":""}]
[{"$f":"IF('FULL TRUSTEE LIST'!B3889=\"\",\"\",'FULL TRUSTEE LIST'!B3889&\" \"&'FULL TRUSTEE LIST'!C3889)","v":""}]
[{"$f":"IF('FULL TRUSTEE LIST'!B3890=\"\",\"\",'FULL TRUSTEE LIST'!B3890&\" \"&'FULL TRUSTEE LIST'!C3890)","v":""}]
[{"$f":"IF('FULL TRUSTEE LIST'!B3891=\"\",\"\",'FULL TRUSTEE LIST'!B3891&\" \"&'FULL TRUSTEE LIST'!C3891)","v":""}]
[{"$f":"IF('FULL TRUSTEE LIST'!B3892=\"\",\"\",'FULL TRUSTEE LIST'!B3892&\" \"&'FULL TRUSTEE LIST'!C3892)","v":""}]
[{"$f":"IF('FULL TRUSTEE LIST'!B3893=\"\",\"\",'FULL TRUSTEE LIST'!B3893&\" \"&'FULL TRUSTEE LIST'!C3893)","v":""}]
[{"$f":"IF('FULL TRUSTEE LIST'!B3894=\"\",\"\",'FULL TRUSTEE LIST'!B3894&\" \"&'FULL TRUSTEE LIST'!C3894)","v":""}]
[{"$f":"IF('FULL TRUSTEE LIST'!B3895=\"\",\"\",'FULL TRUSTEE LIST'!B3895&\" \"&'FULL TRUSTEE LIST'!C3895)","v":""}]
[{"$f":"IF('FULL TRUSTEE LIST'!B3896=\"\",\"\",'FULL TRUSTEE LIST'!B3896&\" \"&'FULL TRUSTEE LIST'!C3896)","v":""}]
[{"$f":"IF('FULL TRUSTEE LIST'!B3897=\"\",\"\",'FULL TRUSTEE LIST'!B3897&\" \"&'FULL TRUSTEE LIST'!C3897)","v":""}]
[{"$f":"IF('FULL TRUSTEE LIST'!B3898=\"\",\"\",'FULL TRUSTEE LIST'!B3898&\" \"&'FULL TRUSTEE LIST'!C3898)","v":""}]
[{"$f":"IF('FULL TRUSTEE LIST'!B3899=\"\",\"\",'FULL TRUSTEE LIST'!B3899&\" \"&'FULL TRUSTEE LIST'!C3899)","v":""}]
[{"$f":"IF('FULL TRUSTEE LIST'!B3900=\"\",\"\",'FULL TRUSTEE LIST'!B3900&\" \"&'FULL TRUSTEE LIST'!C3900)","v":""}]
[{"$f":"IF('FULL TRUSTEE LIST'!B3901=\"\",\"\",'FULL TRUSTEE LIST'!B3901&\" \"&'FULL TRUSTEE LIST'!C3901)","v":""}]
[{"$f":"IF('FULL TRUSTEE LIST'!B3902=\"\",\"\",'FULL TRUSTEE LIST'!B3902&\" \"&'FULL TRUSTEE LIST'!C3902)","v":""}]
[{"$f":"IF('FULL TRUSTEE LIST'!B3903=\"\",\"\",'FULL TRUSTEE LIST'!B3903&\" \"&'FULL TRUSTEE LIST'!C3903)","v":""}]
[{"$f":"IF('FULL TRUSTEE LIST'!B3904=\"\",\"\",'FULL TRUSTEE LIST'!B3904&\" \"&'FULL TRUSTEE LIST'!C3904)","v":""}]
[{"$f":"IF('FULL TRUSTEE LIST'!B3905=\"\",\"\",'FULL TRUSTEE LIST'!B3905&\" \"&'FULL TRUSTEE LIST'!C3905)","v":""}]
[{"$f":"IF('FULL TRUSTEE LIST'!B3906=\"\",\"\",'FULL TRUSTEE LIST'!B3906&\" \"&'FULL TRUSTEE LIST'!C3906)","v":""}]
[{"$f":"IF('FULL TRUSTEE LIST'!B3907=\"\",\"\",'FULL TRUSTEE LIST'!B3907&\" \"&'FULL TRUSTEE LIST'!C3907)","v":""}]
[{"$f":"IF('FULL TRUSTEE LIST'!B3908=\"\",\"\",'FULL TRUSTEE LIST'!B3908&\" \"&'FULL TRUSTEE LIST'!C3908)","v":""}]
[{"$f":"IF('FULL TRUSTEE LIST'!B3909=\"\",\"\",'FULL TRUSTEE LIST'!B3909&\" \"&'FULL TRUSTEE LIST'!C3909)","v":""}]
[{"$f":"IF('FULL TRUSTEE LIST'!B3910=\"\",\"\",'FULL TRUSTEE LIST'!B3910&\" \"&'FULL TRUSTEE LIST'!C3910)","v":""}]
[{"$f":"IF('FULL TRUSTEE LIST'!B3911=\"\",\"\",'FULL TRUSTEE LIST'!B3911&\" \"&'FULL TRUSTEE LIST'!C3911)","v":""}]
[{"$f":"IF('FULL TRUSTEE LIST'!B3912=\"\",\"\",'FULL TRUSTEE LIST'!B3912&\" \"&'FULL TRUSTEE LIST'!C3912)","v":""}]
[{"$f":"IF('FULL TRUSTEE LIST'!B3913=\"\",\"\",'FULL TRUSTEE LIST'!B3913&\" \"&'FULL TRUSTEE LIST'!C3913)","v":""}]
[{"$f":"IF('FULL TRUSTEE LIST'!B3914=\"\",\"\",'FULL TRUSTEE LIST'!B3914&\" \"&'FULL TRUSTEE LIST'!C3914)","v":""}]
[{"$f":"IF('FULL TRUSTEE LIST'!B3915=\"\",\"\",'FULL TRUSTEE LIST'!B3915&\" \"&'FULL TRUSTEE LIST'!C3915)","v":""}]
[{"$f":"IF('FULL TRUSTEE LIST'!B3916=\"\",\"\",'FULL TRUSTEE LIST'!B3916&\" \"&'FULL TRUSTEE LIST'!C3916)","v":""}]
[{"$f":"IF('FULL TRUSTEE LIST'!B3917=\"\",\"\",'FULL TRUSTEE LIST'!B3917&\" \"&'FULL TRUSTEE LIST'!C3917)","v":""}]
[{"$f":"IF('FULL TRUSTEE LIST'!B3918=\"\",\"\",'FULL TRUSTEE LIST'!B3918&\" \"&'FULL TRUSTEE LIST'!C3918)","v":""}]
[{"$f":"IF('FULL TRUSTEE LIST'!B3919=\"\",\"\",'FULL TRUSTEE LIST'!B3919&\" \"&'FULL TRUSTEE LIST'!C3919)","v":""}]
[{"$f":"IF('FULL TRUSTEE LIST'!B3920=\"\",\"\",'FULL TRUSTEE LIST'!B3920&\" \"&'FULL TRUSTEE LIST'!C3920)","v":""}]
[{"$f":"IF('FULL TRUSTEE LIST'!B3921=\"\",\"\",'FULL TRUSTEE LIST'!B3921&\" \"&'FULL TRUSTEE LIST'!C3921)","v":""}]
[{"$f":"IF('FULL TRUSTEE LIST'!B3922=\"\",\"\",'FULL TRUSTEE LIST'!B3922&\" \"&'FULL TRUSTEE LIST'!C3922)","v":""}]
[{"$f":"IF('FULL TRUSTEE LIST'!B3923=\"\",\"\",'FULL TRUSTEE LIST'!B3923&\" \"&'FULL TRUSTEE LIST'!C3923)","v":""}]
[{"$f":"IF('FULL TRUSTEE LIST'!B3924=\"\",\"\",'FULL TRUSTEE LIST'!B3924&\" \"&'FULL TRUSTEE LIST'!C3924)","v":""}]
[{"$f":"IF('FULL TRUSTEE LIST'!B3925=\"\",\"\",'FULL TRUSTEE LIST'!B3925&\" \"&'FULL TRUSTEE LIST'!C3925)","v":""}]
[{"$f":"IF('FULL TRUSTEE LIST'!B3926=\"\",\"\",'FULL TRUSTEE LIST'!B3926&\" \"&'FULL TRUSTEE LIST'!C3926)","v":""}]
[{"$f":"IF('FULL TRUSTEE LIST'!B3927=\"\",\"\",'FULL TRUSTEE LIST'!B3927&\" \"&'FULL TRUSTEE LIST'!C3927)","v":""}]
[{"$f":"IF('FULL TRUSTEE LIST'!B3928=\"\",\"\",'FULL TRUSTEE LIST'!B3928&\" \"&'FULL TRUSTEE LIST'!C3928)","v":""}]
[{"$f":"IF('FULL TRUSTEE LIST'!B3929=\"\",\"\",'FULL TRUSTEE LIST'!B3929&\" \"&'FULL TRUSTEE LIST'!C3929)","v":""}]
[{"$f":"IF('FULL TRUSTEE LIST'!B3930=\"\",\"\",'FULL TRUSTEE LIST'!B3930&\" \"&'FULL TRUSTEE LIST'!C3930)","v":""}]
[{"$f":"IF('FULL TRUSTEE LIST'!B3931=\"\",\"\",'FULL TRUSTEE LIST'!B3931&\" \"&'FULL TRUSTEE LIST'!C3931)","v":""}]
[{"$f":"IF('FULL TRUSTEE LIST'!B3932=\"\",\"\",'FULL TRUSTEE LIST'!B3932&\" \"&'FULL TRUSTEE LIST'!C3932)","v":""}]
[{"$f":"IF('FULL TRUSTEE LIST'!B3933=\"\",\"\",'FULL TRUSTEE LIST'!B3933&\" \"&'FULL TRUSTEE LIST'!C3933)","v":""}]
[{"$f":"IF('FULL TRUSTEE LIST'!B3934=\"\",\"\",'FULL TRUSTEE LIST'!B3934&\" \"&'FULL TRUSTEE LIST'!C3934)","v":""}]
[{"$f":"IF('FULL TRUSTEE LIST'!B3935=\"\",\"\",'FULL TRUSTEE LIST'!B3935&\" \"&'FULL TRUSTEE LIST'!C3935)","v":""}]
[{"$f":"IF('FULL TRUSTEE LIST'!B3936=\"\",\"\",'FULL TRUSTEE LIST'!B3936&\" \"&'FULL TRUSTEE LIST'!C3936)","v":""}]
[{"$f":"IF('FULL TRUSTEE LIST'!B3937=\"\",\"\",'FULL TRUSTEE LIST'!B3937&\" \"&'FULL TRUSTEE LIST'!C3937)","v":""}]
[{"$f":"IF('FULL TRUSTEE LIST'!B3938=\"\",\"\",'FULL TRUSTEE LIST'!B3938&\" \"&'FULL TRUSTEE LIST'!C3938)","v":""}]
[{"$f":"IF('FULL TRUSTEE LIST'!B3939=\"\",\"\",'FULL TRUSTEE LIST'!B3939&\" \"&'FULL TRUSTEE LIST'!C3939)","v":""}]
[{"$f":"IF('FULL TRUSTEE LIST'!B3940=\"\",\"\",'FULL TRUSTEE LIST'!B3940&\" \"&'FULL TRUSTEE LIST'!C3940)","v":""}]
[{"$f":"IF('FULL TRUSTEE LIST'!B3941=\"\",\"\",'FULL TRUSTEE LIST'!B3941&\" \"&'FULL TRUSTEE LIST'!C3941)","v":""}]
[{"$f":"IF('FULL TRUSTEE LIST'!B3942=\"\",\"\",'FULL TRUSTEE LIST'!B3942&\" \"&'FULL TRUSTEE LIST'!C3942)","v":""}]
[{"$f":"IF('FULL TRUSTEE LIST'!B3943=\"\",\"\",'FULL TRUSTEE LIST'!B3943&\" \"&'FULL TRUSTEE LIST'!C3943)","v":""}]
[{"$f":"IF('FULL TRUSTEE LIST'!B3944=\"\",\"\",'FULL TRUSTEE LIST'!B3944&\" \"&'FULL TRUSTEE LIST'!C3944)","v":""}]
[{"$f":"IF('FULL TRUSTEE LIST'!B3945=\"\",\"\",'FULL TRUSTEE LIST'!B3945&\" \"&'FULL TRUSTEE LIST'!C3945)","v":""}]
[{"$f":"IF('FULL TRUSTEE LIST'!B3946=\"\",\"\",'FULL TRUSTEE LIST'!B3946&\" \"&'FULL TRUSTEE LIST'!C3946)","v":""}]
[{"$f":"IF('FULL TRUSTEE LIST'!B3947=\"\",\"\",'FULL TRUSTEE LIST'!B3947&\" \"&'FULL TRUSTEE LIST'!C3947)","v":""}]
[{"$f":"IF('FULL TRUSTEE LIST'!B3948=\"\",\"\",'FULL TRUSTEE LIST'!B3948&\" \"&'FULL TRUSTEE LIST'!C3948)","v":""}]
[{"$f":"IF('FULL TRUSTEE LIST'!B3949=\"\",\"\",'FULL TRUSTEE LIST'!B3949&\" \"&'FULL TRUSTEE LIST'!C3949)","v":""}]
[{"$f":"IF('FULL TRUSTEE LIST'!B3950=\"\",\"\",'FULL TRUSTEE LIST'!B3950&\" \"&'FULL TRUSTEE LIST'!C3950)","v":""}]
[{"$f":"IF('FULL TRUSTEE LIST'!B3951=\"\",\"\",'FULL TRUSTEE LIST'!B3951&\" \"&'FULL TRUSTEE LIST'!C3951)","v":""}]
[{"$f":"IF('FULL TRUSTEE LIST'!B3952=\"\",\"\",'FULL TRUSTEE LIST'!B3952&\" \"&'FULL TRUSTEE LIST'!C3952)","v":""}]
[{"$f":"IF('FULL TRUSTEE LIST'!B3953=\"\",\"\",'FULL TRUSTEE LIST'!B3953&\" \"&'FULL TRUSTEE LIST'!C3953)","v":""}]
[{"$f":"IF('FULL TRUSTEE LIST'!B3954=\"\",\"\",'FULL TRUSTEE LIST'!B3954&\" \"&'FULL TRUSTEE LIST'!C3954)","v":""}]
[{"$f":"IF('FULL TRUSTEE LIST'!B3955=\"\",\"\",'FULL TRUSTEE LIST'!B3955&\" \"&'FULL TRUSTEE LIST'!C3955)","v":""}]
[{"$f":"IF('FULL TRUSTEE LIST'!B3956=\"\",\"\",'FULL TRUSTEE LIST'!B3956&\" \"&'FULL TRUSTEE LIST'!C3956)","v":""}]
[{"$f":"IF('FULL TRUSTEE LIST'!B3957=\"\",\"\",'FULL TRUSTEE LIST'!B3957&\" \"&'FULL TRUSTEE LIST'!C3957)","v":""}]
[{"$f":"IF('FULL TRUSTEE LIST'!B3958=\"\",\"\",'FULL TRUSTEE LIST'!B3958&\" \"&'FULL TRUSTEE LIST'!C3958)","v":""}]
[{"$f":"IF('FULL TRUSTEE LIST'!B3959=\"\",\"\",'FULL TRUSTEE LIST'!B3959&\" \"&'FULL TRUSTEE LIST'!C3959)","v":""}]
[{"$f":"IF('FULL TRUSTEE LIST'!B3960=\"\",\"\",'FULL TRUSTEE LIST'!B3960&\" \"&'FULL TRUSTEE LIST'!C3960)","v":""}]
[{"$f":"IF('FULL TRUSTEE LIST'!B3961=\"\",\"\",'FULL TRUSTEE LIST'!B3961&\" \"&'FULL TRUSTEE LIST'!C3961)","v":""}]
[{"$f":"IF('FULL TRUSTEE LIST'!B3962=\"\",\"\",'FULL TRUSTEE LIST'!B3962&\" \"&'FULL TRUSTEE LIST'!C3962)","v":""}]
[{"$f":"IF('FULL TRUSTEE LIST'!B3963=\"\",\"\",'FULL TRUSTEE LIST'!B3963&\" \"&'FULL TRUSTEE LIST'!C3963)","v":""}]
[{"$f":"IF('FULL TRUSTEE LIST'!B3964=\"\",\"\",'FULL TRUSTEE LIST'!B3964&\" \"&'FULL TRUSTEE LIST'!C3964)","v":""}]
[{"$f":"IF('FULL TRUSTEE LIST'!B3965=\"\",\"\",'FULL TRUSTEE LIST'!B3965&\" \"&'FULL TRUSTEE LIST'!C3965)","v":""}]
[{"$f":"IF('FULL TRUSTEE LIST'!B3966=\"\",\"\",'FULL TRUSTEE LIST'!B3966&\" \"&'FULL TRUSTEE LIST'!C3966)","v":""}]
[{"$f":"IF('FULL TRUSTEE LIST'!B3967=\"\",\"\",'FULL TRUSTEE LIST'!B3967&\" \"&'FULL TRUSTEE LIST'!C3967)","v":""}]
[{"$f":"IF('FULL TRUSTEE LIST'!B3968=\"\",\"\",'FULL TRUSTEE LIST'!B3968&\" \"&'FULL TRUSTEE LIST'!C3968)","v":""}]
[{"$f":"IF('FULL TRUSTEE LIST'!B3969=\"\",\"\",'FULL TRUSTEE LIST'!B3969&\" \"&'FULL TRUSTEE LIST'!C3969)","v":""}]
[{"$f":"IF('FULL TRUSTEE LIST'!B3970=\"\",\"\",'FULL TRUSTEE LIST'!B3970&\" \"&'FULL TRUSTEE LIST'!C3970)","v":""}]
[{"$f":"IF('FULL TRUSTEE LIST'!B3971=\"\",\"\",'FULL TRUSTEE LIST'!B3971&\" \"&'FULL TRUSTEE LIST'!C3971)","v":""}]
[{"$f":"IF('FULL TRUSTEE LIST'!B3972=\"\",\"\",'FULL TRUSTEE LIST'!B3972&\" \"&'FULL TRUSTEE LIST'!C3972)","v":""}]
[{"$f":"IF('FULL TRUSTEE LIST'!B3973=\"\",\"\",'FULL TRUSTEE LIST'!B3973&\" \"&'FULL TRUSTEE LIST'!C3973)","v":""}]
[{"$f":"IF('FULL TRUSTEE LIST'!B3974=\"\",\"\",'FULL TRUSTEE LIST'!B3974&\" \"&'FULL TRUSTEE LIST'!C3974)","v":""}]
[{"$f":"IF('FULL TRUSTEE LIST'!B3975=\"\",\"\",'FULL TRUSTEE LIST'!B3975&\" \"&'FULL TRUSTEE LIST'!C3975)","v":""}]
[{"$f":"IF('FULL TRUSTEE LIST'!B3976=\"\",\"\",'FULL TRUSTEE LIST'!B3976&\" \"&'FULL TRUSTEE LIST'!C3976)","v":""}]
[{"$f":"IF('FULL TRUSTEE LIST'!B3977=\"\",\"\",'FULL TRUSTEE LIST'!B3977&\" \"&'FULL TRUSTEE LIST'!C3977)","v":""}]
[{"$f":"IF('FULL TRUSTEE LIST'!B3978=\"\",\"\",'FULL TRUSTEE LIST'!B3978&\" \"&'FULL TRUSTEE LIST'!C3978)","v":""}]
[{"$f":"IF('FULL TRUSTEE LIST'!B3979=\"\",\"\",'FULL TRUSTEE LIST'!B3979&\" \"&'FULL TRUSTEE LIST'!C3979)","v":""}]
[{"$f":"IF('FULL TRUSTEE LIST'!B3980=\"\",\"\",'FULL TRUSTEE LIST'!B3980&\" \"&'FULL TRUSTEE LIST'!C3980)","v":""}]
[{"$f":"IF('FULL TRUSTEE LIST'!B3981=\"\",\"\",'FULL TRUSTEE LIST'!B3981&\" \"&'FULL TRUSTEE LIST'!C3981)","v":""}]
[{"$f":"IF('FULL TRUSTEE LIST'!B3982=\"\",\"\",'FULL TRUSTEE LIST'!B3982&\" \"&'FULL TRUSTEE LIST'!C3982)","v":""}]
[{"$f":"IF('FULL TRUSTEE LIST'!B3983=\"\",\"\",'FULL TRUSTEE LIST'!B3983&\" \"&'FULL TRUSTEE LIST'!C3983)","v":""}]
[{"$f":"IF('FULL TRUSTEE LIST'!B3984=\"\",\"\",'FULL TRUSTEE LIST'!B3984&\" \"&'FULL TRUSTEE LIST'!C3984)","v":""}]
[{"$f":"IF('FULL TRUSTEE LIST'!B3985=\"\",\"\",'FULL TRUSTEE LIST'!B3985&\" \"&'FULL TRUSTEE LIST'!C3985)","v":""}]
[{"$f":"IF('FULL TRUSTEE LIST'!B3986=\"\",\"\",'FULL TRUSTEE LIST'!B3986&\" \"&'FULL TRUSTEE LIST'!C3986)","v":""}]
[{"$f":"IF('FULL TRUSTEE LIST'!B3987=\"\",\"\",'FULL TRUSTEE LIST'!B3987&\" \"&'FULL TRUSTEE LIST'!C3987)","v":""}]
[{"$f":"IF('FULL TRUSTEE LIST'!B3988=\"\",\"\",'FULL TRUSTEE LIST'!B3988&\" \"&'FULL TRUSTEE LIST'!C3988)","v":""}]
[{"$f":"IF('FULL TRUSTEE LIST'!B3989=\"\",\"\",'FULL TRUSTEE LIST'!B3989&\" \"&'FULL TRUSTEE LIST'!C3989)","v":""}]
[{"$f":"IF('FULL TRUSTEE LIST'!B3990=\"\",\"\",'FULL TRUSTEE LIST'!B3990&\" \"&'FULL TRUSTEE LIST'!C3990)","v":""}]
[{"$f":"IF('FULL TRUSTEE LIST'!B3991=\"\",\"\",'FULL TRUSTEE LIST'!B3991&\" \"&'FULL TRUSTEE LIST'!C3991)","v":""}]
[{"$f":"IF('FULL TRUSTEE LIST'!B3992=\"\",\"\",'FULL TRUSTEE LIST'!B3992&\" \"&'FULL TRUSTEE LIST'!C3992)","v":""}]
[{"$f":"IF('FULL TRUSTEE LIST'!B3993=\"\",\"\",'FULL TRUSTEE LIST'!B3993&\" \"&'FULL TRUSTEE LIST'!C3993)","v":""}]
[{"$f":"IF('FULL TRUSTEE LIST'!B3994=\"\",\"\",'FULL TRUSTEE LIST'!B3994&\" \"&'FULL TRUSTEE LIST'!C3994)","v":""}]
[{"$f":"IF('FULL TRUSTEE LIST'!B3995=\"\",\"\",'FULL TRUSTEE LIST'!B3995&\" \"&'FULL TRUSTEE LIST'!C3995)","v":""}]
[{"$f":"IF('FULL TRUSTEE LIST'!B3996=\"\",\"\",'FULL TRUSTEE LIST'!B3996&\" \"&'FULL TRUSTEE LIST'!C3996)","v":""}]
[{"$f":"IF('FULL TRUSTEE LIST'!B3997=\"\",\"\",'FULL TRUSTEE LIST'!B3997&\" \"&'FULL TRUSTEE LIST'!C3997)","v":""}]
[{"$f":"IF('FULL TRUSTEE LIST'!B3998=\"\",\"\",'FULL TRUSTEE LIST'!B3998&\" \"&'FULL TRUSTEE LIST'!C3998)","v":""}]
[{"$f":"IF('FULL TRUSTEE LIST'!B3999=\"\",\"\",'FULL TRUSTEE LIST'!B3999&\" \"&'FULL TRUSTEE LIST'!C3999)","v":""}]
[{"$f":"IF('FULL TRUSTEE LIST'!B4000=\"\",\"\",'FULL TRUSTEE LIST'!B4000&\" \"&'FULL TRUSTEE LIST'!C4000)","v":""}]
[{"$f":"IF('FULL TRUSTEE LIST'!B4001=\"\",\"\",'FULL TRUSTEE LIST'!B4001&\" \"&'FULL TRUSTEE LIST'!C4001)","v":""}]
[{"$f":"IF('FULL TRUSTEE LIST'!B4002=\"\",\"\",'FULL TRUSTEE LIST'!B4002&\" \"&'FULL TRUSTEE LIST'!C4002)","v":""}]
[{"$f":"IF('FULL TRUSTEE LIST'!B4003=\"\",\"\",'FULL TRUSTEE LIST'!B4003&\" \"&'FULL TRUSTEE LIST'!C4003)","v":""}]
[{"$f":"IF('FULL TRUSTEE LIST'!B4004=\"\",\"\",'FULL TRUSTEE LIST'!B4004&\" \"&'FULL TRUSTEE LIST'!C4004)","v":""}]
[{"$f":"IF('FULL TRUSTEE LIST'!B4005=\"\",\"\",'FULL TRUSTEE LIST'!B4005&\" \"&'FULL TRUSTEE LIST'!C4005)","v":""}]
[{"$f":"IF('FULL TRUSTEE LIST'!B4006=\"\",\"\",'FULL TRUSTEE LIST'!B4006&\" \"&'FULL TRUSTEE LIST'!C4006)","v":""}]
[{"$f":"IF('FULL TRUSTEE LIST'!B4007=\"\",\"\",'FULL TRUSTEE LIST'!B4007&\" \"&'FULL TRUSTEE LIST'!C4007)","v":""}]
[{"$f":"IF('FULL TRUSTEE LIST'!B4008=\"\",\"\",'FULL TRUSTEE LIST'!B4008&\" \"&'FULL TRUSTEE LIST'!C4008)","v":""}]
[{"$f":"IF('FULL TRUSTEE LIST'!B4009=\"\",\"\",'FULL TRUSTEE LIST'!B4009&\" \"&'FULL TRUSTEE LIST'!C4009)","v":""}]
[{"$f":"IF('FULL TRUSTEE LIST'!B4010=\"\",\"\",'FULL TRUSTEE LIST'!B4010&\" \"&'FULL TRUSTEE LIST'!C4010)","v":""}]
[{"$f":"IF('FULL TRUSTEE LIST'!B4011=\"\",\"\",'FULL TRUSTEE LIST'!B4011&\" \"&'FULL TRUSTEE LIST'!C4011)","v":""}]
[{"$f":"IF('FULL TRUSTEE LIST'!B4012=\"\",\"\",'FULL TRUSTEE LIST'!B4012&\" \"&'FULL TRUSTEE LIST'!C4012)","v":""}]
[{"$f":"IF('FULL TRUSTEE LIST'!B4013=\"\",\"\",'FULL TRUSTEE LIST'!B4013&\" \"&'FULL TRUSTEE LIST'!C4013)","v":""}]
[{"$f":"IF('FULL TRUSTEE LIST'!B4014=\"\",\"\",'FULL TRUSTEE LIST'!B4014&\" \"&'FULL TRUSTEE LIST'!C4014)","v":""}]
[{"$f":"IF('FULL TRUSTEE LIST'!B4015=\"\",\"\",'FULL TRUSTEE LIST'!B4015&\" \"&'FULL TRUSTEE LIST'!C4015)","v":""}]
[{"$f":"IF('FULL TRUSTEE LIST'!B4016=\"\",\"\",'FULL TRUSTEE LIST'!B4016&\" \"&'FULL TRUSTEE LIST'!C4016)","v":""}]
[{"$f":"IF('FULL TRUSTEE LIST'!B4017=\"\",\"\",'FULL TRUSTEE LIST'!B4017&\" \"&'FULL TRUSTEE LIST'!C4017)","v":""}]
[{"$f":"IF('FULL TRUSTEE LIST'!B4018=\"\",\"\",'FULL TRUSTEE LIST'!B4018&\" \"&'FULL TRUSTEE LIST'!C4018)","v":""}]
[{"$f":"IF('FULL TRUSTEE LIST'!B4019=\"\",\"\",'FULL TRUSTEE LIST'!B4019&\" \"&'FULL TRUSTEE LIST'!C4019)","v":""}]
[{"$f":"IF('FULL TRUSTEE LIST'!B4020=\"\",\"\",'FULL TRUSTEE LIST'!B4020&\" \"&'FULL TRUSTEE LIST'!C4020)","v":""}]
[{"$f":"IF('FULL TRUSTEE LIST'!B4021=\"\",\"\",'FULL TRUSTEE LIST'!B4021&\" \"&'FULL TRUSTEE LIST'!C4021)","v":""}]
[{"$f":"IF('FULL TRUSTEE LIST'!B4022=\"\",\"\",'FULL TRUSTEE LIST'!B4022&\" \"&'FULL TRUSTEE LIST'!C4022)","v":""}]
[{"$f":"IF('FULL TRUSTEE LIST'!B4023=\"\",\"\",'FULL TRUSTEE LIST'!B4023&\" \"&'FULL TRUSTEE LIST'!C4023)","v":""}]
[{"$f":"IF('FULL TRUSTEE LIST'!B4024=\"\",\"\",'FULL TRUSTEE LIST'!B4024&\" \"&'FULL TRUSTEE LIST'!C4024)","v":""}]
[{"$f":"IF('FULL TRUSTEE LIST'!B4025=\"\",\"\",'FULL TRUSTEE LIST'!B4025&\" \"&'FULL TRUSTEE LIST'!C4025)","v":""}]
[{"$f":"IF('FULL TRUSTEE LIST'!B4026=\"\",\"\",'FULL TRUSTEE LIST'!B4026&\" \"&'FULL TRUSTEE LIST'!C4026)","v":""}]
[{"$f":"IF('FULL TRUSTEE LIST'!B4027=\"\",\"\",'FULL TRUSTEE LIST'!B4027&\" \"&'FULL TRUSTEE LIST'!C4027)","v":""}]
[{"$f":"IF('FULL TRUSTEE LIST'!B4028=\"\",\"\",'FULL TRUSTEE LIST'!B4028&\" \"&'FULL TRUSTEE LIST'!C4028)","v":""}]
[{"$f":"IF('FULL TRUSTEE LIST'!B4029=\"\",\"\",'FULL TRUSTEE LIST'!B4029&\" \"&'FULL TRUSTEE LIST'!C4029)","v":""}]
[{"$f":"IF('FULL TRUSTEE LIST'!B4030=\"\",\"\",'FULL TRUSTEE LIST'!B4030&\" \"&'FULL TRUSTEE LIST'!C4030)","v":""}]
[{"$f":"IF('FULL TRUSTEE LIST'!B4031=\"\",\"\",'FULL TRUSTEE LIST'!B4031&\" \"&'FULL TRUSTEE LIST'!C4031)","v":""}]
[{"$f":"IF('FULL TRUSTEE LIST'!B4032=\"\",\"\",'FULL TRUSTEE LIST'!B4032&\" \"&'FULL TRUSTEE LIST'!C4032)","v":""}]
[{"$f":"IF('FULL TRUSTEE LIST'!B4033=\"\",\"\",'FULL TRUSTEE LIST'!B4033&\" \"&'FULL TRUSTEE LIST'!C4033)","v":""}]
[{"$f":"IF('FULL TRUSTEE LIST'!B4034=\"\",\"\",'FULL TRUSTEE LIST'!B4034&\" \"&'FULL TRUSTEE LIST'!C4034)","v":""}]
[{"$f":"IF('FULL TRUSTEE LIST'!B4035=\"\",\"\",'FULL TRUSTEE LIST'!B4035&\" \"&'FULL TRUSTEE LIST'!C4035)","v":""}]
[{"$f":"IF('FULL TRUSTEE LIST'!B4036=\"\",\"\",'FULL TRUSTEE LIST'!B4036&\" \"&'FULL TRUSTEE LIST'!C4036)","v":""}]
[{"$f":"IF('FULL TRUSTEE LIST'!B4037=\"\",\"\",'FULL TRUSTEE LIST'!B4037&\" \"&'FULL TRUSTEE LIST'!C4037)","v":""}]
[{"$f":"IF('FULL TRUSTEE LIST'!B4038=\"\",\"\",'FULL TRUSTEE LIST'!B4038&\" \"&'FULL TRUSTEE LIST'!C4038)","v":""}]
[{"$f":"IF('FULL TRUSTEE LIST'!B4039=\"\",\"\",'FULL TRUSTEE LIST'!B4039&\" \"&'FULL TRUSTEE LIST'!C4039)","v":""}]
[{"$f":"IF('FULL TRUSTEE LIST'!B4040=\"\",\"\",'FULL TRUSTEE LIST'!B4040&\" \"&'FULL TRUSTEE LIST'!C4040)","v":""}]
[{"$f":"IF('FULL TRUSTEE LIST'!B4041=\"\",\"\",'FULL TRUSTEE LIST'!B4041&\" \"&'FULL TRUSTEE LIST'!C4041)","v":""}]
[{"$f":"IF('FULL TRUSTEE LIST'!B4042=\"\",\"\",'FULL TRUSTEE LIST'!B4042&\" \"&'FULL TRUSTEE LIST'!C4042)","v":""}]
[{"$f":"IF('FULL TRUSTEE LIST'!B4043=\"\",\"\",'FULL TRUSTEE LIST'!B4043&\" \"&'FULL TRUSTEE LIST'!C4043)","v":""}]
[{"$f":"IF('FULL TRUSTEE LIST'!B4044=\"\",\"\",'FULL TRUSTEE LIST'!B4044&\" \"&'FULL TRUSTEE LIST'!C4044)","v":""}]
[{"$f":"IF('FULL TRUSTEE LIST'!B4045=\"\",\"\",'FULL TRUSTEE LIST'!B4045&\" \"&'FULL TRUSTEE LIST'!C4045)","v":""}]
[{"$f":"IF('FULL TRUSTEE LIST'!B4046=\"\",\"\",'FULL TRUSTEE LIST'!B4046&\" \"&'FULL TRUSTEE LIST'!C4046)","v":""}]
[{"$f":"IF('FULL TRUSTEE LIST'!B4047=\"\",\"\",'FULL TRUSTEE LIST'!B4047&\" \"&'FULL TRUSTEE LIST'!C4047)","v":""}]
[{"$f":"IF('FULL TRUSTEE LIST'!B4048=\"\",\"\",'FULL TRUSTEE LIST'!B4048&\" \"&'FULL TRUSTEE LIST'!C4048)","v":""}]
[{"$f":"IF('FULL TRUSTEE LIST'!B4049=\"\",\"\",'FULL TRUSTEE LIST'!B4049&\" \"&'FULL TRUSTEE LIST'!C4049)","v":""}]
[{"$f":"IF('FULL TRUSTEE LIST'!B4050=\"\",\"\",'FULL TRUSTEE LIST'!B4050&\" \"&'FULL TRUSTEE LIST'!C4050)","v":""}]
[{"$f":"IF('FULL TRUSTEE LIST'!B4051=\"\",\"\",'FULL TRUSTEE LIST'!B4051&\" \"&'FULL TRUSTEE LIST'!C4051)","v":""}]
[{"$f":"IF('FULL TRUSTEE LIST'!B4052=\"\",\"\",'FULL TRUSTEE LIST'!B4052&\" \"&'FULL TRUSTEE LIST'!C4052)","v":""}]
[{"$f":"IF('FULL TRUSTEE LIST'!B4053=\"\",\"\",'FULL TRUSTEE LIST'!B4053&\" \"&'FULL TRUSTEE LIST'!C4053)","v":""}]
[{"$f":"IF('FULL TRUSTEE LIST'!B4054=\"\",\"\",'FULL TRUSTEE LIST'!B4054&\" \"&'FULL TRUSTEE LIST'!C4054)","v":""}]
[{"$f":"IF('FULL TRUSTEE LIST'!B4055=\"\",\"\",'FULL TRUSTEE LIST'!B4055&\" \"&'FULL TRUSTEE LIST'!C4055)","v":""}]
[{"$f":"IF('FULL TRUSTEE LIST'!B4056=\"\",\"\",'FULL TRUSTEE LIST'!B4056&\" \"&'FULL TRUSTEE LIST'!C4056)","v":""}]
[{"$f":"IF('FULL TRUSTEE LIST'!B4057=\"\",\"\",'FULL TRUSTEE LIST'!B4057&\" \"&'FULL TRUSTEE LIST'!C4057)","v":""}]
[{"$f":"IF('FULL TRUSTEE LIST'!B4058=\"\",\"\",'FULL TRUSTEE LIST'!B4058&\" \"&'FULL TRUSTEE LIST'!C4058)","v":""}]
[{"$f":"IF('FULL TRUSTEE LIST'!B4059=\"\",\"\",'FULL TRUSTEE LIST'!B4059&\" \"&'FULL TRUSTEE LIST'!C4059)","v":""}]
[{"$f":"IF('FULL TRUSTEE LIST'!B4060=\"\",\"\",'FULL TRUSTEE LIST'!B4060&\" \"&'FULL TRUSTEE LIST'!C4060)","v":""}]
[{"$f":"IF('FULL TRUSTEE LIST'!B4061=\"\",\"\",'FULL TRUSTEE LIST'!B4061&\" \"&'FULL TRUSTEE LIST'!C4061)","v":""}]
[{"$f":"IF('FULL TRUSTEE LIST'!B4062=\"\",\"\",'FULL TRUSTEE LIST'!B4062&\" \"&'FULL TRUSTEE LIST'!C4062)","v":""}]
[{"$f":"IF('FULL TRUSTEE LIST'!B4063=\"\",\"\",'FULL TRUSTEE LIST'!B4063&\" \"&'FULL TRUSTEE LIST'!C4063)","v":""}]
[{"$f":"IF('FULL TRUSTEE LIST'!B4064=\"\",\"\",'FULL TRUSTEE LIST'!B4064&\" \"&'FULL TRUSTEE LIST'!C4064)","v":""}]
[{"$f":"IF('FULL TRUSTEE LIST'!B4065=\"\",\"\",'FULL TRUSTEE LIST'!B4065&\" \"&'FULL TRUSTEE LIST'!C4065)","v":""}]
[{"$f":"IF('FULL TRUSTEE LIST'!B4066=\"\",\"\",'FULL TRUSTEE LIST'!B4066&\" \"&'FULL TRUSTEE LIST'!C4066)","v":""}]
[{"$f":"IF('FULL TRUSTEE LIST'!B4067=\"\",\"\",'FULL TRUSTEE LIST'!B4067&\" \"&'FULL TRUSTEE LIST'!C4067)","v":""}]
[{"$f":"IF('FULL TRUSTEE LIST'!B4068=\"\",\"\",'FULL TRUSTEE LIST'!B4068&\" \"&'FULL TRUSTEE LIST'!C4068)","v":""}]
[{"$f":"IF('FULL TRUSTEE LIST'!B4069=\"\",\"\",'FULL TRUSTEE LIST'!B4069&\" \"&'FULL TRUSTEE LIST'!C4069)","v":""}]
[{"$f":"IF('FULL TRUSTEE LIST'!B4070=\"\",\"\",'FULL TRUSTEE LIST'!B4070&\" \"&'FULL TRUSTEE LIST'!C4070)","v":""}]
[{"$f":"IF('FULL TRUSTEE LIST'!B4071=\"\",\"\",'FULL TRUSTEE LIST'!B4071&\" \"&'FULL TRUSTEE LIST'!C4071)","v":""}]
[{"$f":"IF('FULL TRUSTEE LIST'!B4072=\"\",\"\",'FULL TRUSTEE LIST'!B4072&\" \"&'FULL TRUSTEE LIST'!C4072)","v":""}]
[{"$f":"IF('FULL TRUSTEE LIST'!B4073=\"\",\"\",'FULL TRUSTEE LIST'!B4073&\" \"&'FULL TRUSTEE LIST'!C4073)","v":""}]
[{"$f":"IF('FULL TRUSTEE LIST'!B4074=\"\",\"\",'FULL TRUSTEE LIST'!B4074&\" \"&'FULL TRUSTEE LIST'!C4074)","v":""}]
[{"$f":"IF('FULL TRUSTEE LIST'!B4075=\"\",\"\",'FULL TRUSTEE LIST'!B4075&\" \"&'FULL TRUSTEE LIST'!C4075)","v":""}]
[{"$f":"IF('FULL TRUSTEE LIST'!B4076=\"\",\"\",'FULL TRUSTEE LIST'!B4076&\" \"&'FULL TRUSTEE LIST'!C4076)","v":""}]
[{"$f":"IF('FULL TRUSTEE LIST'!B4077=\"\",\"\",'FULL TRUSTEE LIST'!B4077&\" \"&'FULL TRUSTEE LIST'!C4077)","v":""}]
[{"$f":"IF('FULL TRUSTEE LIST'!B4078=\"\",\"\",'FULL TRUSTEE LIST'!B4078&\" \"&'FULL TRUSTEE LIST'!C4078)","v":""}]
[{"$f":"IF('FULL TRUSTEE LIST'!B4079=\"\",\"\",'FULL TRUSTEE LIST'!B4079&\" \"&'FULL TRUSTEE LIST'!C4079)","v":""}]
[{"$f":"IF('FULL TRUSTEE LIST'!B4080=\"\",\"\",'FULL TRUSTEE LIST'!B4080&\" \"&'FULL TRUSTEE LIST'!C4080)","v":""}]
[{"$f":"IF('FULL TRUSTEE LIST'!B4081=\"\",\"\",'FULL TRUSTEE LIST'!B4081&\" \"&'FULL TRUSTEE LIST'!C4081)","v":""}]
[{"$f":"IF('FULL TRUSTEE LIST'!B4082=\"\",\"\",'FULL TRUSTEE LIST'!B4082&\" \"&'FULL TRUSTEE LIST'!C4082)","v":""}]
[{"$f":"IF('FULL TRUSTEE LIST'!B4083=\"\",\"\",'FULL TRUSTEE LIST'!B4083&\" \"&'FULL TRUSTEE LIST'!C4083)","v":""}]
[{"$f":"IF('FULL TRUSTEE LIST'!B4084=\"\",\"\",'FULL TRUSTEE LIST'!B4084&\" \"&'FULL TRUSTEE LIST'!C4084)","v":""}]
[{"$f":"IF('FULL TRUSTEE LIST'!B4085=\"\",\"\",'FULL TRUSTEE LIST'!B4085&\" \"&'FULL TRUSTEE LIST'!C4085)","v":""}]
[{"$f":"IF('FULL TRUSTEE LIST'!B4086=\"\",\"\",'FULL TRUSTEE LIST'!B4086&\" \"&'FULL TRUSTEE LIST'!C4086)","v":""}]
[{"$f":"IF('FULL TRUSTEE LIST'!B4087=\"\",\"\",'FULL TRUSTEE LIST'!B4087&\" \"&'FULL TRUSTEE LIST'!C4087)","v":""}]
[{"$f":"IF('FULL TRUSTEE LIST'!B4088=\"\",\"\",'FULL TRUSTEE LIST'!B4088&\" \"&'FULL TRUSTEE LIST'!C4088)","v":""}]
[{"$f":"IF('FULL TRUSTEE LIST'!B4089=\"\",\"\",'FULL TRUSTEE LIST'!B4089&\" \"&'FULL TRUSTEE LIST'!C4089)","v":""}]
[{"$f":"IF('FULL TRUSTEE LIST'!B4090=\"\",\"\",'FULL TRUSTEE LIST'!B4090&\" \"&'FULL TRUSTEE LIST'!C4090)","v":""}]
[{"$f":"IF('FULL TRUSTEE LIST'!B4091=\"\",\"\",'FULL TRUSTEE LIST'!B4091&\" \"&'FULL TRUSTEE LIST'!C4091)","v":""}]
[{"$f":"IF('FULL TRUSTEE LIST'!B4092=\"\",\"\",'FULL TRUSTEE LIST'!B4092&\" \"&'FULL TRUSTEE LIST'!C4092)","v":""}]
[{"$f":"IF('FULL TRUSTEE LIST'!B4093=\"\",\"\",'FULL TRUSTEE LIST'!B4093&\" \"&'FULL TRUSTEE LIST'!C4093)","v":""}]
[{"$f":"IF('FULL TRUSTEE LIST'!B4094=\"\",\"\",'FULL TRUSTEE LIST'!B4094&\" \"&'FULL TRUSTEE LIST'!C4094)","v":""}]
[{"$f":"IF('FULL TRUSTEE LIST'!B4095=\"\",\"\",'FULL TRUSTEE LIST'!B4095&\" \"&'FULL TRUSTEE LIST'!C4095)","v":""}]
[{"$f":"IF('FULL TRUSTEE LIST'!B4096=\"\",\"\",'FULL TRUSTEE LIST'!B4096&\" \"&'FULL TRUSTEE LIST'!C4096)","v":""}]
[{"$f":"IF('FULL TRUSTEE LIST'!B4097=\"\",\"\",'FULL TRUSTEE LIST'!B4097&\" \"&'FULL TRUSTEE LIST'!C4097)","v":""}]
[{"$f":"IF('FULL TRUSTEE LIST'!B4098=\"\",\"\",'FULL TRUSTEE LIST'!B4098&\" \"&'FULL TRUSTEE LIST'!C4098)","v":""}]
[{"$f":"IF('FULL TRUSTEE LIST'!B4099=\"\",\"\",'FULL TRUSTEE LIST'!B4099&\" \"&'FULL TRUSTEE LIST'!C4099)","v":""}]
[{"$f":"IF('FULL TRUSTEE LIST'!B4100=\"\",\"\",'FULL TRUSTEE LIST'!B4100&\" \"&'FULL TRUSTEE LIST'!C4100)","v":""}]
[{"$f":"IF('FULL TRUSTEE LIST'!B4101=\"\",\"\",'FULL TRUSTEE LIST'!B4101&\" \"&'FULL TRUSTEE LIST'!C4101)","v":""}]
[{"$f":"IF('FULL TRUSTEE LIST'!B4102=\"\",\"\",'FULL TRUSTEE LIST'!B4102&\" \"&'FULL TRUSTEE LIST'!C4102)","v":""}]
[{"$f":"IF('FULL TRUSTEE LIST'!B4103=\"\",\"\",'FULL TRUSTEE LIST'!B4103&\" \"&'FULL TRUSTEE LIST'!C4103)","v":""}]
[{"$f":"IF('FULL TRUSTEE LIST'!B4104=\"\",\"\",'FULL TRUSTEE LIST'!B4104&\" \"&'FULL TRUSTEE LIST'!C4104)","v":""}]
[{"$f":"IF('FULL TRUSTEE LIST'!B4105=\"\",\"\",'FULL TRUSTEE LIST'!B4105&\" \"&'FULL TRUSTEE LIST'!C4105)","v":""}]
[{"$f":"IF('FULL TRUSTEE LIST'!B4106=\"\",\"\",'FULL TRUSTEE LIST'!B4106&\" \"&'FULL TRUSTEE LIST'!C4106)","v":""}]
[{"$f":"IF('FULL TRUSTEE LIST'!B4107=\"\",\"\",'FULL TRUSTEE LIST'!B4107&\" \"&'FULL TRUSTEE LIST'!C4107)","v":""}]
[{"$f":"IF('FULL TRUSTEE LIST'!B4108=\"\",\"\",'FULL TRUSTEE LIST'!B4108&\" \"&'FULL TRUSTEE LIST'!C4108)","v":""}]
[{"$f":"IF('FULL TRUSTEE LIST'!B4109=\"\",\"\",'FULL TRUSTEE LIST'!B4109&\" \"&'FULL TRUSTEE LIST'!C4109)","v":""}]
[{"$f":"IF('FULL TRUSTEE LIST'!B4110=\"\",\"\",'FULL TRUSTEE LIST'!B4110&\" \"&'FULL TRUSTEE LIST'!C4110)","v":""}]
[{"$f":"IF('FULL TRUSTEE LIST'!B4111=\"\",\"\",'FULL TRUSTEE LIST'!B4111&\" \"&'FULL TRUSTEE LIST'!C4111)","v":""}]
[{"$f":"IF('FULL TRUSTEE LIST'!B4112=\"\",\"\",'FULL TRUSTEE LIST'!B4112&\" \"&'FULL TRUSTEE LIST'!C4112)","v":""}]
[{"$f":"IF('FULL TRUSTEE LIST'!B4113=\"\",\"\",'FULL TRUSTEE LIST'!B4113&\" \"&'FULL TRUSTEE LIST'!C4113)","v":""}]
[{"$f":"IF('FULL TRUSTEE LIST'!B4114=\"\",\"\",'FULL TRUSTEE LIST'!B4114&\" \"&'FULL TRUSTEE LIST'!C4114)","v":""}]
[{"$f":"IF('FULL TRUSTEE LIST'!B4115=\"\",\"\",'FULL TRUSTEE LIST'!B4115&\" \"&'FULL TRUSTEE LIST'!C4115)","v":""}]
[{"$f":"IF('FULL TRUSTEE LIST'!B4116=\"\",\"\",'FULL TRUSTEE LIST'!B4116&\" \"&'FULL TRUSTEE LIST'!C4116)","v":""}]
[{"$f":"IF('FULL TRUSTEE LIST'!B4117=\"\",\"\",'FULL TRUSTEE LIST'!B4117&\" \"&'FULL TRUSTEE LIST'!C4117)","v":""}]
[{"$f":"IF('FULL TRUSTEE LIST'!B4118=\"\",\"\",'FULL TRUSTEE LIST'!B4118&\" \"&'FULL TRUSTEE LIST'!C4118)","v":""}]
[{"$f":"IF('FULL TRUSTEE LIST'!B4119=\"\",\"\",'FULL TRUSTEE LIST'!B4119&\" \"&'FULL TRUSTEE LIST'!C4119)","v":""}]
[{"$f":"IF('FULL TRUSTEE LIST'!B4120=\"\",\"\",'FULL TRUSTEE LIST'!B4120&\" \"&'FULL TRUSTEE LIST'!C4120)","v":""}]
[{"$f":"IF('FULL TRUSTEE LIST'!B4121=\"\",\"\",'FULL TRUSTEE LIST'!B4121&\" \"&'FULL TRUSTEE LIST'!C4121)","v":""}]
[{"$f":"IF('FULL TRUSTEE LIST'!B4122=\"\",\"\",'FULL TRUSTEE LIST'!B4122&\" \"&'FULL TRUSTEE LIST'!C4122)","v":""}]
[{"$f":"IF('FULL TRUSTEE LIST'!B4123=\"\",\"\",'FULL TRUSTEE LIST'!B4123&\" \"&'FULL TRUSTEE LIST'!C4123)","v":""}]
[{"$f":"IF('FULL TRUSTEE LIST'!B4124=\"\",\"\",'FULL TRUSTEE LIST'!B4124&\" \"&'FULL TRUSTEE LIST'!C4124)","v":""}]
[{"$f":"IF('FULL TRUSTEE LIST'!B4125=\"\",\"\",'FULL TRUSTEE LIST'!B4125&\" \"&'FULL TRUSTEE LIST'!C4125)","v":""}]
[{"$f":"IF('FULL TRUSTEE LIST'!B4126=\"\",\"\",'FULL TRUSTEE LIST'!B4126&\" \"&'FULL TRUSTEE LIST'!C4126)","v":""}]
[{"$f":"IF('FULL TRUSTEE LIST'!B4127=\"\",\"\",'FULL TRUSTEE LIST'!B4127&\" \"&'FULL TRUSTEE LIST'!C4127)","v":""}]
[{"$f":"IF('FULL TRUSTEE LIST'!B4128=\"\",\"\",'FULL TRUSTEE LIST'!B4128&\" \"&'FULL TRUSTEE LIST'!C4128)","v":""}]
[{"$f":"IF('FULL TRUSTEE LIST'!B4129=\"\",\"\",'FULL TRUSTEE LIST'!B4129&\" \"&'FULL TRUSTEE LIST'!C4129)","v":""}]
[{"$f":"IF('FULL TRUSTEE LIST'!B4130=\"\",\"\",'FULL TRUSTEE LIST'!B4130&\" \"&'FULL TRUSTEE LIST'!C4130)","v":""}]
[{"$f":"IF('FULL TRUSTEE LIST'!B4131=\"\",\"\",'FULL TRUSTEE LIST'!B4131&\" \"&'FULL TRUSTEE LIST'!C4131)","v":""}]
[{"$f":"IF('FULL TRUSTEE LIST'!B4132=\"\",\"\",'FULL TRUSTEE LIST'!B4132&\" \"&'FULL TRUSTEE LIST'!C4132)","v":""}]
[{"$f":"IF('FULL TRUSTEE LIST'!B4133=\"\",\"\",'FULL TRUSTEE LIST'!B4133&\" \"&'FULL TRUSTEE LIST'!C4133)","v":""}]
[{"$f":"IF('FULL TRUSTEE LIST'!B4134=\"\",\"\",'FULL TRUSTEE LIST'!B4134&\" \"&'FULL TRUSTEE LIST'!C4134)","v":""}]
[{"$f":"IF('FULL TRUSTEE LIST'!B4135=\"\",\"\",'FULL TRUSTEE LIST'!B4135&\" \"&'FULL TRUSTEE LIST'!C4135)","v":""}]
[{"$f":"IF('FULL TRUSTEE LIST'!B4136=\"\",\"\",'FULL TRUSTEE LIST'!B4136&\" \"&'FULL TRUSTEE LIST'!C4136)","v":""}]
[{"$f":"IF('FULL TRUSTEE LIST'!B4137=\"\",\"\",'FULL TRUSTEE LIST'!B4137&\" \"&'FULL TRUSTEE LIST'!C4137)","v":""}]
[{"$f":"IF('FULL TRUSTEE LIST'!B4138=\"\",\"\",'FULL TRUSTEE LIST'!B4138&\" \"&'FULL TRUSTEE LIST'!C4138)","v":""}]
[{"$f":"IF('FULL TRUSTEE LIST'!B4139=\"\",\"\",'FULL TRUSTEE LIST'!B4139&\" \"&'FULL TRUSTEE LIST'!C4139)","v":""}]
[{"$f":"IF('FULL TRUSTEE LIST'!B4140=\"\",\"\",'FULL TRUSTEE LIST'!B4140&\" \"&'FULL TRUSTEE LIST'!C4140)","v":""}]
[{"$f":"IF('FULL TRUSTEE LIST'!B4141=\"\",\"\",'FULL TRUSTEE LIST'!B4141&\" \"&'FULL TRUSTEE LIST'!C4141)","v":""}]
[{"$f":"IF('FULL TRUSTEE LIST'!B4142=\"\",\"\",'FULL TRUSTEE LIST'!B4142&\" \"&'FULL TRUSTEE LIST'!C4142)","v":""}]
[{"$f":"IF('FULL TRUSTEE LIST'!B4143=\"\",\"\",'FULL TRUSTEE LIST'!B4143&\" \"&'FULL TRUSTEE LIST'!C4143)","v":""}]
[{"$f":"IF('FULL TRUSTEE LIST'!B4144=\"\",\"\",'FULL TRUSTEE LIST'!B4144&\" \"&'FULL TRUSTEE LIST'!C4144)","v":""}]
[{"$f":"IF('FULL TRUSTEE LIST'!B4145=\"\",\"\",'FULL TRUSTEE LIST'!B4145&\" \"&'FULL TRUSTEE LIST'!C4145)","v":""}]
[{"$f":"IF('FULL TRUSTEE LIST'!B4146=\"\",\"\",'FULL TRUSTEE LIST'!B4146&\" \"&'FULL TRUSTEE LIST'!C4146)","v":""}]
[{"$f":"IF('FULL TRUSTEE LIST'!B4147=\"\",\"\",'FULL TRUSTEE LIST'!B4147&\" \"&'FULL TRUSTEE LIST'!C4147)","v":""}]
[{"$f":"IF('FULL TRUSTEE LIST'!B4148=\"\",\"\",'FULL TRUSTEE LIST'!B4148&\" \"&'FULL TRUSTEE LIST'!C4148)","v":""}]
[{"$f":"IF('FULL TRUSTEE LIST'!B4149=\"\",\"\",'FULL TRUSTEE LIST'!B4149&\" \"&'FULL TRUSTEE LIST'!C4149)","v":""}]
[{"$f":"IF('FULL TRUSTEE LIST'!B4150=\"\",\"\",'FULL TRUSTEE LIST'!B4150&\" \"&'FULL TRUSTEE LIST'!C4150)","v":""}]
[{"$f":"IF('FULL TRUSTEE LIST'!B4151=\"\",\"\",'FULL TRUSTEE LIST'!B4151&\" \"&'FULL TRUSTEE LIST'!C4151)","v":""}]
[{"$f":"IF('FULL TRUSTEE LIST'!B4152=\"\",\"\",'FULL TRUSTEE LIST'!B4152&\" \"&'FULL TRUSTEE LIST'!C4152)","v":""}]
[{"$f":"IF('FULL TRUSTEE LIST'!B4153=\"\",\"\",'FULL TRUSTEE LIST'!B4153&\" \"&'FULL TRUSTEE LIST'!C4153)","v":""}]
[{"$f":"IF('FULL TRUSTEE LIST'!B4154=\"\",\"\",'FULL TRUSTEE LIST'!B4154&\" \"&'FULL TRUSTEE LIST'!C4154)","v":""}]
[{"$f":"IF('FULL TRUSTEE LIST'!B4155=\"\",\"\",'FULL TRUSTEE LIST'!B4155&\" \"&'FULL TRUSTEE LIST'!C4155)","v":""}]
[{"$f":"IF('FULL TRUSTEE LIST'!B4156=\"\",\"\",'FULL TRUSTEE LIST'!B4156&\" \"&'FULL TRUSTEE LIST'!C4156)","v":""}]
[{"$f":"IF('FULL TRUSTEE LIST'!B4157=\"\",\"\",'FULL TRUSTEE LIST'!B4157&\" \"&'FULL TRUSTEE LIST'!C4157)","v":""}]
[{"$f":"IF('FULL TRUSTEE LIST'!B4158=\"\",\"\",'FULL TRUSTEE LIST'!B4158&\" \"&'FULL TRUSTEE LIST'!C4158)","v":""}]
[{"$f":"IF('FULL TRUSTEE LIST'!B4159=\"\",\"\",'FULL TRUSTEE LIST'!B4159&\" \"&'FULL TRUSTEE LIST'!C4159)","v":""}]
[{"$f":"IF('FULL TRUSTEE LIST'!B4160=\"\",\"\",'FULL TRUSTEE LIST'!B4160&\" \"&'FULL TRUSTEE LIST'!C4160)","v":""}]
[{"$f":"IF('FULL TRUSTEE LIST'!B4161=\"\",\"\",'FULL TRUSTEE LIST'!B4161&\" \"&'FULL TRUSTEE LIST'!C4161)","v":""}]
[{"$f":"IF('FULL TRUSTEE LIST'!B4162=\"\",\"\",'FULL TRUSTEE LIST'!B4162&\" \"&'FULL TRUSTEE LIST'!C4162)","v":""}]
[{"$f":"IF('FULL TRUSTEE LIST'!B4163=\"\",\"\",'FULL TRUSTEE LIST'!B4163&\" \"&'FULL TRUSTEE LIST'!C4163)","v":""}]
[{"$f":"IF('FULL TRUSTEE LIST'!B4164=\"\",\"\",'FULL TRUSTEE LIST'!B4164&\" \"&'FULL TRUSTEE LIST'!C4164)","v":""}]
[{"$f":"IF('FULL TRUSTEE LIST'!B4165=\"\",\"\",'FULL TRUSTEE LIST'!B4165&\" \"&'FULL TRUSTEE LIST'!C4165)","v":""}]
[{"$f":"IF('FULL TRUSTEE LIST'!B4166=\"\",\"\",'FULL TRUSTEE LIST'!B4166&\" \"&'FULL TRUSTEE LIST'!C4166)","v":""}]
[{"$f":"IF('FULL TRUSTEE LIST'!B4167=\"\",\"\",'FULL TRUSTEE LIST'!B4167&\" \"&'FULL TRUSTEE LIST'!C4167)","v":""}]
[{"$f":"IF('FULL TRUSTEE LIST'!B4168=\"\",\"\",'FULL TRUSTEE LIST'!B4168&\" \"&'FULL TRUSTEE LIST'!C4168)","v":""}]
[{"$f":"IF('FULL TRUSTEE LIST'!B4169=\"\",\"\",'FULL TRUSTEE LIST'!B4169&\" \"&'FULL TRUSTEE LIST'!C4169)","v":""}]
[{"$f":"IF('FULL TRUSTEE LIST'!B4170=\"\",\"\",'FULL TRUSTEE LIST'!B4170&\" \"&'FULL TRUSTEE LIST'!C4170)","v":""}]
[{"$f":"IF('FULL TRUSTEE LIST'!B4171=\"\",\"\",'FULL TRUSTEE LIST'!B4171&\" \"&'FULL TRUSTEE LIST'!C4171)","v":""}]
[{"$f":"IF('FULL TRUSTEE LIST'!B4172=\"\",\"\",'FULL TRUSTEE LIST'!B4172&\" \"&'FULL TRUSTEE LIST'!C4172)","v":""}]
[{"$f":"IF('FULL TRUSTEE LIST'!B4173=\"\",\"\",'FULL TRUSTEE LIST'!B4173&\" \"&'FULL TRUSTEE LIST'!C4173)","v":""}]
[{"$f":"IF('FULL TRUSTEE LIST'!B4174=\"\",\"\",'FULL TRUSTEE LIST'!B4174&\" \"&'FULL TRUSTEE LIST'!C4174)","v":""}]
[{"$f":"IF('FULL TRUSTEE LIST'!B4175=\"\",\"\",'FULL TRUSTEE LIST'!B4175&\" \"&'FULL TRUSTEE LIST'!C4175)","v":""}]
[{"$f":"IF('FULL TRUSTEE LIST'!B4176=\"\",\"\",'FULL TRUSTEE LIST'!B4176&\" \"&'FULL TRUSTEE LIST'!C4176)","v":""}]
[{"$f":"IF('FULL TRUSTEE LIST'!B4177=\"\",\"\",'FULL TRUSTEE LIST'!B4177&\" \"&'FULL TRUSTEE LIST'!C4177)","v":""}]
[{"$f":"IF('FULL TRUSTEE LIST'!B4178=\"\",\"\",'FULL TRUSTEE LIST'!B4178&\" \"&'FULL TRUSTEE LIST'!C4178)","v":""}]
[{"$f":"IF('FULL TRUSTEE LIST'!B4179=\"\",\"\",'FULL TRUSTEE LIST'!B4179&\" \"&'FULL TRUSTEE LIST'!C4179)","v":""}]
[{"$f":"IF('FULL TRUSTEE LIST'!B4180=\"\",\"\",'FULL TRUSTEE LIST'!B4180&\" \"&'FULL TRUSTEE LIST'!C4180)","v":""}]
[{"$f":"IF('FULL TRUSTEE LIST'!B4181=\"\",\"\",'FULL TRUSTEE LIST'!B4181&\" \"&'FULL TRUSTEE LIST'!C4181)","v":""}]
[{"$f":"IF('FULL TRUSTEE LIST'!B4182=\"\",\"\",'FULL TRUSTEE LIST'!B4182&\" \"&'FULL TRUSTEE LIST'!C4182)","v":""}]
[{"$f":"IF('FULL TRUSTEE LIST'!B4183=\"\",\"\",'FULL TRUSTEE LIST'!B4183&\" \"&'FULL TRUSTEE LIST'!C4183)","v":""}]
[{"$f":"IF('FULL TRUSTEE LIST'!B4184=\"\",\"\",'FULL TRUSTEE LIST'!B4184&\" \"&'FULL TRUSTEE LIST'!C4184)","v":""}]
[{"$f":"IF('FULL TRUSTEE LIST'!B4185=\"\",\"\",'FULL TRUSTEE LIST'!B4185&\" \"&'FULL TRUSTEE LIST'!C4185)","v":""}]
[{"$f":"IF('FULL TRUSTEE LIST'!B4186=\"\",\"\",'FULL TRUSTEE LIST'!B4186&\" \"&'FULL TRUSTEE LIST'!C4186)","v":""}]
[{"$f":"IF('FULL TRUSTEE LIST'!B4187=\"\",\"\",'FULL TRUSTEE LIST'!B4187&\" \"&'FULL TRUSTEE LIST'!C4187)","v":""}]
[{"$f":"IF('FULL TRUSTEE LIST'!B4188=\"\",\"\",'FULL TRUSTEE LIST'!B4188&\" \"&'FULL TRUSTEE LIST'!C4188)","v":""}]
[{"$f":"IF('FULL TRUSTEE LIST'!B4189=\"\",\"\",'FULL TRUSTEE LIST'!B4189&\" \"&'FULL TRUSTEE LIST'!C4189)","v":""}]
[{"$f":"IF('FULL TRUSTEE LIST'!B4190=\"\",\"\",'FULL TRUSTEE LIST'!B4190&\" \"&'FULL TRUSTEE LIST'!C4190)","v":""}]
[{"$f":"IF('FULL TRUSTEE LIST'!B4191=\"\",\"\",'FULL TRUSTEE LIST'!B4191&\" \"&'FULL TRUSTEE LIST'!C4191)","v":""}]
[{"$f":"IF('FULL TRUSTEE LIST'!B4192=\"\",\"\",'FULL TRUSTEE LIST'!B4192&\" \"&'FULL TRUSTEE LIST'!C4192)","v":""}]
[{"$f":"IF('FULL TRUSTEE LIST'!B4193=\"\",\"\",'FULL TRUSTEE LIST'!B4193&\" \"&'FULL TRUSTEE LIST'!C4193)","v":""}]
[{"$f":"IF('FULL TRUSTEE LIST'!B4194=\"\",\"\",'FULL TRUSTEE LIST'!B4194&\" \"&'FULL TRUSTEE LIST'!C4194)","v":""}]
[{"$f":"IF('FULL TRUSTEE LIST'!B4195=\"\",\"\",'FULL TRUSTEE LIST'!B4195&\" \"&'FULL TRUSTEE LIST'!C4195)","v":""}]
[{"$f":"IF('FULL TRUSTEE LIST'!B4196=\"\",\"\",'FULL TRUSTEE LIST'!B4196&\" \"&'FULL TRUSTEE LIST'!C4196)","v":""}]
[{"$f":"IF('FULL TRUSTEE LIST'!B4197=\"\",\"\",'FULL TRUSTEE LIST'!B4197&\" \"&'FULL TRUSTEE LIST'!C4197)","v":""}]
[{"$f":"IF('FULL TRUSTEE LIST'!B4198=\"\",\"\",'FULL TRUSTEE LIST'!B4198&\" \"&'FULL TRUSTEE LIST'!C4198)","v":""}]
[{"$f":"IF('FULL TRUSTEE LIST'!B4199=\"\",\"\",'FULL TRUSTEE LIST'!B4199&\" \"&'FULL TRUSTEE LIST'!C4199)","v":""}]
[{"$f":"IF('FULL TRUSTEE LIST'!B4200=\"\",\"\",'FULL TRUSTEE LIST'!B4200&\" \"&'FULL TRUSTEE LIST'!C4200)","v":""}]
[{"$f":"IF('FULL TRUSTEE LIST'!B4201=\"\",\"\",'FULL TRUSTEE LIST'!B4201&\" \"&'FULL TRUSTEE LIST'!C4201)","v":""}]
[{"$f":"IF('FULL TRUSTEE LIST'!B4202=\"\",\"\",'FULL TRUSTEE LIST'!B4202&\" \"&'FULL TRUSTEE LIST'!C4202)","v":""}]
[{"$f":"IF('FULL TRUSTEE LIST'!B4203=\"\",\"\",'FULL TRUSTEE LIST'!B4203&\" \"&'FULL TRUSTEE LIST'!C4203)","v":""}]
[{"$f":"IF('FULL TRUSTEE LIST'!B4204=\"\",\"\",'FULL TRUSTEE LIST'!B4204&\" \"&'FULL TRUSTEE LIST'!C4204)","v":""}]
[{"$f":"IF('FULL TRUSTEE LIST'!B4205=\"\",\"\",'FULL TRUSTEE LIST'!B4205&\" \"&'FULL TRUSTEE LIST'!C4205)","v":""}]
[{"$f":"IF('FULL TRUSTEE LIST'!B4206=\"\",\"\",'FULL TRUSTEE LIST'!B4206&\" \"&'FULL TRUSTEE LIST'!C4206)","v":""}]
[{"$f":"IF('FULL TRUSTEE LIST'!B4207=\"\",\"\",'FULL TRUSTEE LIST'!B4207&\" \"&'FULL TRUSTEE LIST'!C4207)","v":""}]
[{"$f":"IF('FULL TRUSTEE LIST'!B4208=\"\",\"\",'FULL TRUSTEE LIST'!B4208&\" \"&'FULL TRUSTEE LIST'!C4208)","v":""}]
[{"$f":"IF('FULL TRUSTEE LIST'!B4209=\"\",\"\",'FULL TRUSTEE LIST'!B4209&\" \"&'FULL TRUSTEE LIST'!C4209)","v":""}]
[{"$f":"IF('FULL TRUSTEE LIST'!B4210=\"\",\"\",'FULL TRUSTEE LIST'!B4210&\" \"&'FULL TRUSTEE LIST'!C4210)","v":""}]
[{"$f":"IF('FULL TRUSTEE LIST'!B4211=\"\",\"\",'FULL TRUSTEE LIST'!B4211&\" \"&'FULL TRUSTEE LIST'!C4211)","v":""}]
[{"$f":"IF('FULL TRUSTEE LIST'!B4212=\"\",\"\",'FULL TRUSTEE LIST'!B4212&\" \"&'FULL TRUSTEE LIST'!C4212)","v":""}]
[{"$f":"IF('FULL TRUSTEE LIST'!B4213=\"\",\"\",'FULL TRUSTEE LIST'!B4213&\" \"&'FULL TRUSTEE LIST'!C4213)","v":""}]
[{"$f":"IF('FULL TRUSTEE LIST'!B4214=\"\",\"\",'FULL TRUSTEE LIST'!B4214&\" \"&'FULL TRUSTEE LIST'!C4214)","v":""}]
[{"$f":"IF('FULL TRUSTEE LIST'!B4215=\"\",\"\",'FULL TRUSTEE LIST'!B4215&\" \"&'FULL TRUSTEE LIST'!C4215)","v":""}]
[{"$f":"IF('FULL TRUSTEE LIST'!B4216=\"\",\"\",'FULL TRUSTEE LIST'!B4216&\" \"&'FULL TRUSTEE LIST'!C4216)","v":""}]
[{"$f":"IF('FULL TRUSTEE LIST'!B4217=\"\",\"\",'FULL TRUSTEE LIST'!B4217&\" \"&'FULL TRUSTEE LIST'!C4217)","v":""}]
[{"$f":"IF('FULL TRUSTEE LIST'!B4218=\"\",\"\",'FULL TRUSTEE LIST'!B4218&\" \"&'FULL TRUSTEE LIST'!C4218)","v":""}]
[{"$f":"IF('FULL TRUSTEE LIST'!B4219=\"\",\"\",'FULL TRUSTEE LIST'!B4219&\" \"&'FULL TRUSTEE LIST'!C4219)","v":""}]
[{"$f":"IF('FULL TRUSTEE LIST'!B4220=\"\",\"\",'FULL TRUSTEE LIST'!B4220&\" \"&'FULL TRUSTEE LIST'!C4220)","v":""}]
[{"$f":"IF('FULL TRUSTEE LIST'!B4221=\"\",\"\",'FULL TRUSTEE LIST'!B4221&\" \"&'FULL TRUSTEE LIST'!C4221)","v":""}]
[{"$f":"IF('FULL TRUSTEE LIST'!B4222=\"\",\"\",'FULL TRUSTEE LIST'!B4222&\" \"&'FULL TRUSTEE LIST'!C4222)","v":""}]
[{"$f":"IF('FULL TRUSTEE LIST'!B4223=\"\",\"\",'FULL TRUSTEE LIST'!B4223&\" \"&'FULL TRUSTEE LIST'!C4223)","v":""}]
[{"$f":"IF('FULL TRUSTEE LIST'!B4224=\"\",\"\",'FULL TRUSTEE LIST'!B4224&\" \"&'FULL TRUSTEE LIST'!C4224)","v":""}]
[{"$f":"IF('FULL TRUSTEE LIST'!B4225=\"\",\"\",'FULL TRUSTEE LIST'!B4225&\" \"&'FULL TRUSTEE LIST'!C4225)","v":""}]
[{"$f":"IF('FULL TRUSTEE LIST'!B4226=\"\",\"\",'FULL TRUSTEE LIST'!B4226&\" \"&'FULL TRUSTEE LIST'!C4226)","v":""}]
[{"$f":"IF('FULL TRUSTEE LIST'!B4227=\"\",\"\",'FULL TRUSTEE LIST'!B4227&\" \"&'FULL TRUSTEE LIST'!C4227)","v":""}]
[{"$f":"IF('FULL TRUSTEE LIST'!B4228=\"\",\"\",'FULL TRUSTEE LIST'!B4228&\" \"&'FULL TRUSTEE LIST'!C4228)","v":""}]
[{"$f":"IF('FULL TRUSTEE LIST'!B4229=\"\",\"\",'FULL TRUSTEE LIST'!B4229&\" \"&'FULL TRUSTEE LIST'!C4229)","v":""}]
[{"$f":"IF('FULL TRUSTEE LIST'!B4230=\"\",\"\",'FULL TRUSTEE LIST'!B4230&\" \"&'FULL TRUSTEE LIST'!C4230)","v":""}]
[{"$f":"IF('FULL TRUSTEE LIST'!B4231=\"\",\"\",'FULL TRUSTEE LIST'!B4231&\" \"&'FULL TRUSTEE LIST'!C4231)","v":""}]
[{"$f":"IF('FULL TRUSTEE LIST'!B4232=\"\",\"\",'FULL TRUSTEE LIST'!B4232&\" \"&'FULL TRUSTEE LIST'!C4232)","v":""}]
[{"$f":"IF('FULL TRUSTEE LIST'!B4233=\"\",\"\",'FULL TRUSTEE LIST'!B4233&\" \"&'FULL TRUSTEE LIST'!C4233)","v":""}]
[{"$f":"IF('FULL TRUSTEE LIST'!B4234=\"\",\"\",'FULL TRUSTEE LIST'!B4234&\" \"&'FULL TRUSTEE LIST'!C4234)","v":""}]
[{"$f":"IF('FULL TRUSTEE LIST'!B4235=\"\",\"\",'FULL TRUSTEE LIST'!B4235&\" \"&'FULL TRUSTEE LIST'!C4235)","v":""}]
[{"$f":"IF('FULL TRUSTEE LIST'!B4236=\"\",\"\",'FULL TRUSTEE LIST'!B4236&\" \"&'FULL TRUSTEE LIST'!C4236)","v":""}]
[{"$f":"IF('FULL TRUSTEE LIST'!B4237=\"\",\"\",'FULL TRUSTEE LIST'!B4237&\" \"&'FULL TRUSTEE LIST'!C4237)","v":""}]
[{"$f":"IF('FULL TRUSTEE LIST'!B4238=\"\",\"\",'FULL TRUSTEE LIST'!B4238&\" \"&'FULL TRUSTEE LIST'!C4238)","v":""}]
[{"$f":"IF('FULL TRUSTEE LIST'!B4239=\"\",\"\",'FULL TRUSTEE LIST'!B4239&\" \"&'FULL TRUSTEE LIST'!C4239)","v":""}]
[{"$f":"IF('FULL TRUSTEE LIST'!B4240=\"\",\"\",'FULL TRUSTEE LIST'!B4240&\" \"&'FULL TRUSTEE LIST'!C4240)","v":""}]
[{"$f":"IF('FULL TRUSTEE LIST'!B4241=\"\",\"\",'FULL TRUSTEE LIST'!B4241&\" \"&'FULL TRUSTEE LIST'!C4241)","v":""}]
[{"$f":"IF('FULL TRUSTEE LIST'!B4242=\"\",\"\",'FULL TRUSTEE LIST'!B4242&\" \"&'FULL TRUSTEE LIST'!C4242)","v":""}]
[{"$f":"IF('FULL TRUSTEE LIST'!B4243=\"\",\"\",'FULL TRUSTEE LIST'!B4243&\" \"&'FULL TRUSTEE LIST'!C4243)","v":""}]
[{"$f":"IF('FULL TRUSTEE LIST'!B4244=\"\",\"\",'FULL TRUSTEE LIST'!B4244&\" \"&'FULL TRUSTEE LIST'!C4244)","v":""}]
[{"$f":"IF('FULL TRUSTEE LIST'!B4245=\"\",\"\",'FULL TRUSTEE LIST'!B4245&\" \"&'FULL TRUSTEE LIST'!C4245)","v":""}]
[{"$f":"IF('FULL TRUSTEE LIST'!B4246=\"\",\"\",'FULL TRUSTEE LIST'!B4246&\" \"&'FULL TRUSTEE LIST'!C4246)","v":""}]
[{"$f":"IF('FULL TRUSTEE LIST'!B4247=\"\",\"\",'FULL TRUSTEE LIST'!B4247&\" \"&'FULL TRUSTEE LIST'!C4247)","v":""}]
[{"$f":"IF('FULL TRUSTEE LIST'!B4248=\"\",\"\",'FULL TRUSTEE LIST'!B4248&\" \"&'FULL TRUSTEE LIST'!C4248)","v":""}]
[{"$f":"IF('FULL TRUSTEE LIST'!B4249=\"\",\"\",'FULL TRUSTEE LIST'!B4249&\" \"&'FULL TRUSTEE LIST'!C4249)","v":""}]
[{"$f":"IF('FULL TRUSTEE LIST'!B4250=\"\",\"\",'FULL TRUSTEE LIST'!B4250&\" \"&'FULL TRUSTEE LIST'!C4250)","v":""}]
[{"$f":"IF('FULL TRUSTEE LIST'!B4251=\"\",\"\",'FULL TRUSTEE LIST'!B4251&\" \"&'FULL TRUSTEE LIST'!C4251)","v":""}]
[{"$f":"IF('FULL TRUSTEE LIST'!B4252=\"\",\"\",'FULL TRUSTEE LIST'!B4252&\" \"&'FULL TRUSTEE LIST'!C4252)","v":""}]
[{"$f":"IF('FULL TRUSTEE LIST'!B4253=\"\",\"\",'FULL TRUSTEE LIST'!B4253&\" \"&'FULL TRUSTEE LIST'!C4253)","v":""}]
[{"$f":"IF('FULL TRUSTEE LIST'!B4254=\"\",\"\",'FULL TRUSTEE LIST'!B4254&\" \"&'FULL TRUSTEE LIST'!C4254)","v":""}]
[{"$f":"IF('FULL TRUSTEE LIST'!B4255=\"\",\"\",'FULL TRUSTEE LIST'!B4255&\" \"&'FULL TRUSTEE LIST'!C4255)","v":""}]
[{"$f":"IF('FULL TRUSTEE LIST'!B4256=\"\",\"\",'FULL TRUSTEE LIST'!B4256&\" \"&'FULL TRUSTEE LIST'!C4256)","v":""}]
[{"$f":"IF('FULL TRUSTEE LIST'!B4257=\"\",\"\",'FULL TRUSTEE LIST'!B4257&\" \"&'FULL TRUSTEE LIST'!C4257)","v":""}]
[{"$f":"IF('FULL TRUSTEE LIST'!B4258=\"\",\"\",'FULL TRUSTEE LIST'!B4258&\" \"&'FULL TRUSTEE LIST'!C4258)","v":""}]
[{"$f":"IF('FULL TRUSTEE LIST'!B4259=\"\",\"\",'FULL TRUSTEE LIST'!B4259&\" \"&'FULL TRUSTEE LIST'!C4259)","v":""}]
[{"$f":"IF('FULL TRUSTEE LIST'!B4260=\"\",\"\",'FULL TRUSTEE LIST'!B4260&\" \"&'FULL TRUSTEE LIST'!C4260)","v":""}]
[{"$f":"IF('FULL TRUSTEE LIST'!B4261=\"\",\"\",'FULL TRUSTEE LIST'!B4261&\" \"&'FULL TRUSTEE LIST'!C4261)","v":""}]
[{"$f":"IF('FULL TRUSTEE LIST'!B4262=\"\",\"\",'FULL TRUSTEE LIST'!B4262&\" \"&'FULL TRUSTEE LIST'!C4262)","v":""}]
[{"$f":"IF('FULL TRUSTEE LIST'!B4263=\"\",\"\",'FULL TRUSTEE LIST'!B4263&\" \"&'FULL TRUSTEE LIST'!C4263)","v":""}]
[{"$f":"IF('FULL TRUSTEE LIST'!B4264=\"\",\"\",'FULL TRUSTEE LIST'!B4264&\" \"&'FULL TRUSTEE LIST'!C4264)","v":""}]
[{"$f":"IF('FULL TRUSTEE LIST'!B4265=\"\",\"\",'FULL TRUSTEE LIST'!B4265&\" \"&'FULL TRUSTEE LIST'!C4265)","v":""}]
[{"$f":"IF('FULL TRUSTEE LIST'!B4266=\"\",\"\",'FULL TRUSTEE LIST'!B4266&\" \"&'FULL TRUSTEE LIST'!C4266)","v":""}]
[{"$f":"IF('FULL TRUSTEE LIST'!B4267=\"\",\"\",'FULL TRUSTEE LIST'!B4267&\" \"&'FULL TRUSTEE LIST'!C4267)","v":""}]
[{"$f":"IF('FULL TRUSTEE LIST'!B4268=\"\",\"\",'FULL TRUSTEE LIST'!B4268&\" \"&'FULL TRUSTEE LIST'!C4268)","v":""}]
[{"$f":"IF('FULL TRUSTEE LIST'!B4269=\"\",\"\",'FULL TRUSTEE LIST'!B4269&\" \"&'FULL TRUSTEE LIST'!C4269)","v":""}]
[{"$f":"IF('FULL TRUSTEE LIST'!B4270=\"\",\"\",'FULL TRUSTEE LIST'!B4270&\" \"&'FULL TRUSTEE LIST'!C4270)","v":""}]
[{"$f":"IF('FULL TRUSTEE LIST'!B4271=\"\",\"\",'FULL TRUSTEE LIST'!B4271&\" \"&'FULL TRUSTEE LIST'!C4271)","v":""}]
[{"$f":"IF('FULL TRUSTEE LIST'!B4272=\"\",\"\",'FULL TRUSTEE LIST'!B4272&\" \"&'FULL TRUSTEE LIST'!C4272)","v":""}]
[{"$f":"IF('FULL TRUSTEE LIST'!B4273=\"\",\"\",'FULL TRUSTEE LIST'!B4273&\" \"&'FULL TRUSTEE LIST'!C4273)","v":""}]
[{"$f":"IF('FULL TRUSTEE LIST'!B4274=\"\",\"\",'FULL TRUSTEE LIST'!B4274&\" \"&'FULL TRUSTEE LIST'!C4274)","v":""}]
[{"$f":"IF('FULL TRUSTEE LIST'!B4275=\"\",\"\",'FULL TRUSTEE LIST'!B4275&\" \"&'FULL TRUSTEE LIST'!C4275)","v":""}]
[{"$f":"IF('FULL TRUSTEE LIST'!B4276=\"\",\"\",'FULL TRUSTEE LIST'!B4276&\" \"&'FULL TRUSTEE LIST'!C4276)","v":""}]
[{"$f":"IF('FULL TRUSTEE LIST'!B4277=\"\",\"\",'FULL TRUSTEE LIST'!B4277&\" \"&'FULL TRUSTEE LIST'!C4277)","v":""}]
[{"$f":"IF('FULL TRUSTEE LIST'!B4278=\"\",\"\",'FULL TRUSTEE LIST'!B4278&\" \"&'FULL TRUSTEE LIST'!C4278)","v":""}]
[{"$f":"IF('FULL TRUSTEE LIST'!B4279=\"\",\"\",'FULL TRUSTEE LIST'!B4279&\" \"&'FULL TRUSTEE LIST'!C4279)","v":""}]
[{"$f":"IF('FULL TRUSTEE LIST'!B4280=\"\",\"\",'FULL TRUSTEE LIST'!B4280&\" \"&'FULL TRUSTEE LIST'!C4280)","v":""}]
[{"$f":"IF('FULL TRUSTEE LIST'!B4281=\"\",\"\",'FULL TRUSTEE LIST'!B4281&\" \"&'FULL TRUSTEE LIST'!C4281)","v":""}]
[{"$f":"IF('FULL TRUSTEE LIST'!B4282=\"\",\"\",'FULL TRUSTEE LIST'!B4282&\" \"&'FULL TRUSTEE LIST'!C4282)","v":""}]
[{"$f":"IF('FULL TRUSTEE LIST'!B4283=\"\",\"\",'FULL TRUSTEE LIST'!B4283&\" \"&'FULL TRUSTEE LIST'!C4283)","v":""}]
[{"$f":"IF('FULL TRUSTEE LIST'!B4284=\"\",\"\",'FULL TRUSTEE LIST'!B4284&\" \"&'FULL TRUSTEE LIST'!C4284)","v":""}]
[{"$f":"IF('FULL TRUSTEE LIST'!B4285=\"\",\"\",'FULL TRUSTEE LIST'!B4285&\" \"&'FULL TRUSTEE LIST'!C4285)","v":""}]
[{"$f":"IF('FULL TRUSTEE LIST'!B4286=\"\",\"\",'FULL TRUSTEE LIST'!B4286&\" \"&'FULL TRUSTEE LIST'!C4286)","v":""}]
[{"$f":"IF('FULL TRUSTEE LIST'!B4287=\"\",\"\",'FULL TRUSTEE LIST'!B4287&\" \"&'FULL TRUSTEE LIST'!C4287)","v":""}]
[{"$f":"IF('FULL TRUSTEE LIST'!B4288=\"\",\"\",'FULL TRUSTEE LIST'!B4288&\" \"&'FULL TRUSTEE LIST'!C4288)","v":""}]
[{"$f":"IF('FULL TRUSTEE LIST'!B4289=\"\",\"\",'FULL TRUSTEE LIST'!B4289&\" \"&'FULL TRUSTEE LIST'!C4289)","v":""}]
[{"$f":"IF('FULL TRUSTEE LIST'!B4290=\"\",\"\",'FULL TRUSTEE LIST'!B4290&\" \"&'FULL TRUSTEE LIST'!C4290)","v":""}]
[{"$f":"IF('FULL TRUSTEE LIST'!B4291=\"\",\"\",'FULL TRUSTEE LIST'!B4291&\" \"&'FULL TRUSTEE LIST'!C4291)","v":""}]
[{"$f":"IF('FULL TRUSTEE LIST'!B4292=\"\",\"\",'FULL TRUSTEE LIST'!B4292&\" \"&'FULL TRUSTEE LIST'!C4292)","v":""}]
[{"$f":"IF('FULL TRUSTEE LIST'!B4293=\"\",\"\",'FULL TRUSTEE LIST'!B4293&\" \"&'FULL TRUSTEE LIST'!C4293)","v":""}]
[{"$f":"IF('FULL TRUSTEE LIST'!B4294=\"\",\"\",'FULL TRUSTEE LIST'!B4294&\" \"&'FULL TRUSTEE LIST'!C4294)","v":""}]
[{"$f":"IF('FULL TRUSTEE LIST'!B4295=\"\",\"\",'FULL TRUSTEE LIST'!B4295&\" \"&'FULL TRUSTEE LIST'!C4295)","v":""}]
[{"$f":"IF('FULL TRUSTEE LIST'!B4296=\"\",\"\",'FULL TRUSTEE LIST'!B4296&\" \"&'FULL TRUSTEE LIST'!C4296)","v":""}]
[{"$f":"IF('FULL TRUSTEE LIST'!B4297=\"\",\"\",'FULL TRUSTEE LIST'!B4297&\" \"&'FULL TRUSTEE LIST'!C4297)","v":""}]
[{"$f":"IF('FULL TRUSTEE LIST'!B4298=\"\",\"\",'FULL TRUSTEE LIST'!B4298&\" \"&'FULL TRUSTEE LIST'!C4298)","v":""}]
[{"$f":"IF('FULL TRUSTEE LIST'!B4299=\"\",\"\",'FULL TRUSTEE LIST'!B4299&\" \"&'FULL TRUSTEE LIST'!C4299)","v":""}]
[{"$f":"IF('FULL TRUSTEE LIST'!B4300=\"\",\"\",'FULL TRUSTEE LIST'!B4300&\" \"&'FULL TRUSTEE LIST'!C4300)","v":""}]
[{"$f":"IF('FULL TRUSTEE LIST'!B4301=\"\",\"\",'FULL TRUSTEE LIST'!B4301&\" \"&'FULL TRUSTEE LIST'!C4301)","v":""}]
[{"$f":"IF('FULL TRUSTEE LIST'!B4302=\"\",\"\",'FULL TRUSTEE LIST'!B4302&\" \"&'FULL TRUSTEE LIST'!C4302)","v":""}]
[{"$f":"IF('FULL TRUSTEE LIST'!B4303=\"\",\"\",'FULL TRUSTEE LIST'!B4303&\" \"&'FULL TRUSTEE LIST'!C4303)","v":""}]
[{"$f":"IF('FULL TRUSTEE LIST'!B4304=\"\",\"\",'FULL TRUSTEE LIST'!B4304&\" \"&'FULL TRUSTEE LIST'!C4304)","v":""}]
[{"$f":"IF('FULL TRUSTEE LIST'!B4305=\"\",\"\",'FULL TRUSTEE LIST'!B4305&\" \"&'FULL TRUSTEE LIST'!C4305)","v":""}]
[{"$f":"IF('FULL TRUSTEE LIST'!B4306=\"\",\"\",'FULL TRUSTEE LIST'!B4306&\" \"&'FULL TRUSTEE LIST'!C4306)","v":""}]
[{"$f":"IF('FULL TRUSTEE LIST'!B4307=\"\",\"\",'FULL TRUSTEE LIST'!B4307&\" \"&'FULL TRUSTEE LIST'!C4307)","v":""}]
[{"$f":"IF('FULL TRUSTEE LIST'!B4308=\"\",\"\",'FULL TRUSTEE LIST'!B4308&\" \"&'FULL TRUSTEE LIST'!C4308)","v":""}]
[{"$f":"IF('FULL TRUSTEE LIST'!B4309=\"\",\"\",'FULL TRUSTEE LIST'!B4309&\" \"&'FULL TRUSTEE LIST'!C4309)","v":""}]
[{"$f":"IF('FULL TRUSTEE LIST'!B4310=\"\",\"\",'FULL TRUSTEE LIST'!B4310&\" \"&'FULL TRUSTEE LIST'!C4310)","v":""}]
[{"$f":"IF('FULL TRUSTEE LIST'!B4311=\"\",\"\",'FULL TRUSTEE LIST'!B4311&\" \"&'FULL TRUSTEE LIST'!C4311)","v":""}]
[{"$f":"IF('FULL TRUSTEE LIST'!B4312=\"\",\"\",'FULL TRUSTEE LIST'!B4312&\" \"&'FULL TRUSTEE LIST'!C4312)","v":""}]
[{"$f":"IF('FULL TRUSTEE LIST'!B4313=\"\",\"\",'FULL TRUSTEE LIST'!B4313&\" \"&'FULL TRUSTEE LIST'!C4313)","v":""}]
[{"$f":"IF('FULL TRUSTEE LIST'!B4314=\"\",\"\",'FULL TRUSTEE LIST'!B4314&\" \"&'FULL TRUSTEE LIST'!C4314)","v":""}]
[{"$f":"IF('FULL TRUSTEE LIST'!B4315=\"\",\"\",'FULL TRUSTEE LIST'!B4315&\" \"&'FULL TRUSTEE LIST'!C4315)","v":""}]
[{"$f":"IF('FULL TRUSTEE LIST'!B4316=\"\",\"\",'FULL TRUSTEE LIST'!B4316&\" \"&'FULL TRUSTEE LIST'!C4316)","v":""}]
[{"$f":"IF('FULL TRUSTEE LIST'!B4317=\"\",\"\",'FULL TRUSTEE LIST'!B4317&\" \"&'FULL TRUSTEE LIST'!C4317)","v":""}]
[{"$f":"IF('FULL TRUSTEE LIST'!B4318=\"\",\"\",'FULL TRUSTEE LIST'!B4318&\" \"&'FULL TRUSTEE LIST'!C4318)","v":""}]
[{"$f":"IF('FULL TRUSTEE LIST'!B4319=\"\",\"\",'FULL TRUSTEE LIST'!B4319&\" \"&'FULL TRUSTEE LIST'!C4319)","v":""}]
[{"$f":"IF('FULL TRUSTEE LIST'!B4320=\"\",\"\",'FULL TRUSTEE LIST'!B4320&\" \"&'FULL TRUSTEE LIST'!C4320)","v":""}]
[{"$f":"IF('FULL TRUSTEE LIST'!B4321=\"\",\"\",'FULL TRUSTEE LIST'!B4321&\" \"&'FULL TRUSTEE LIST'!C4321)","v":""}]
[{"$f":"IF('FULL TRUSTEE LIST'!B4322=\"\",\"\",'FULL TRUSTEE LIST'!B4322&\" \"&'FULL TRUSTEE LIST'!C4322)","v":""}]
[{"$f":"IF('FULL TRUSTEE LIST'!B4323=\"\",\"\",'FULL TRUSTEE LIST'!B4323&\" \"&'FULL TRUSTEE LIST'!C4323)","v":""}]
[{"$f":"IF('FULL TRUSTEE LIST'!B4324=\"\",\"\",'FULL TRUSTEE LIST'!B4324&\" \"&'FULL TRUSTEE LIST'!C4324)","v":""}]
[{"$f":"IF('FULL TRUSTEE LIST'!B4325=\"\",\"\",'FULL TRUSTEE LIST'!B4325&\" \"&'FULL TRUSTEE LIST'!C4325)","v":""}]
[{"$f":"IF('FULL TRUSTEE LIST'!B4326=\"\",\"\",'FULL TRUSTEE LIST'!B4326&\" \"&'FULL TRUSTEE LIST'!C4326)","v":""}]
[{"$f":"IF('FULL TRUSTEE LIST'!B4327=\"\",\"\",'FULL TRUSTEE LIST'!B4327&\" \"&'FULL TRUSTEE LIST'!C4327)","v":""}]
[{"$f":"IF('FULL TRUSTEE LIST'!B4328=\"\",\"\",'FULL TRUSTEE LIST'!B4328&\" \"&'FULL TRUSTEE LIST'!C4328)","v":""}]
[{"$f":"IF('FULL TRUSTEE LIST'!B4329=\"\",\"\",'FULL TRUSTEE LIST'!B4329&\" \"&'FULL TRUSTEE LIST'!C4329)","v":""}]
[{"$f":"IF('FULL TRUSTEE LIST'!B4330=\"\",\"\",'FULL TRUSTEE LIST'!B4330&\" \"&'FULL TRUSTEE LIST'!C4330)","v":""}]
[{"$f":"IF('FULL TRUSTEE LIST'!B4331=\"\",\"\",'FULL TRUSTEE LIST'!B4331&\" \"&'FULL TRUSTEE LIST'!C4331)","v":""}]
[{"$f":"IF('FULL TRUSTEE LIST'!B4332=\"\",\"\",'FULL TRUSTEE LIST'!B4332&\" \"&'FULL TRUSTEE LIST'!C4332)","v":""}]
[{"$f":"IF('FULL TRUSTEE LIST'!B4333=\"\",\"\",'FULL TRUSTEE LIST'!B4333&\" \"&'FULL TRUSTEE LIST'!C4333)","v":""}]
[{"$f":"IF('FULL TRUSTEE LIST'!B4334=\"\",\"\",'FULL TRUSTEE LIST'!B4334&\" \"&'FULL TRUSTEE LIST'!C4334)","v":""}]
[{"$f":"IF('FULL TRUSTEE LIST'!B4335=\"\",\"\",'FULL TRUSTEE LIST'!B4335&\" \"&'FULL TRUSTEE LIST'!C4335)","v":""}]
[{"$f":"IF('FULL TRUSTEE LIST'!B4336=\"\",\"\",'FULL TRUSTEE LIST'!B4336&\" \"&'FULL TRUSTEE LIST'!C4336)","v":""}]
[{"$f":"IF('FULL TRUSTEE LIST'!B4337=\"\",\"\",'FULL TRUSTEE LIST'!B4337&\" \"&'FULL TRUSTEE LIST'!C4337)","v":""}]
[{"$f":"IF('FULL TRUSTEE LIST'!B4338=\"\",\"\",'FULL TRUSTEE LIST'!B4338&\" \"&'FULL TRUSTEE LIST'!C4338)","v":""}]
[{"$f":"IF('FULL TRUSTEE LIST'!B4339=\"\",\"\",'FULL TRUSTEE LIST'!B4339&\" \"&'FULL TRUSTEE LIST'!C4339)","v":""}]
[{"$f":"IF('FULL TRUSTEE LIST'!B4340=\"\",\"\",'FULL TRUSTEE LIST'!B4340&\" \"&'FULL TRUSTEE LIST'!C4340)","v":""}]
[{"$f":"IF('FULL TRUSTEE LIST'!B4341=\"\",\"\",'FULL TRUSTEE LIST'!B4341&\" \"&'FULL TRUSTEE LIST'!C4341)","v":""}]
[{"$f":"IF('FULL TRUSTEE LIST'!B4342=\"\",\"\",'FULL TRUSTEE LIST'!B4342&\" \"&'FULL TRUSTEE LIST'!C4342)","v":""}]
[{"$f":"IF('FULL TRUSTEE LIST'!B4343=\"\",\"\",'FULL TRUSTEE LIST'!B4343&\" \"&'FULL TRUSTEE LIST'!C4343)","v":""}]
[{"$f":"IF('FULL TRUSTEE LIST'!B4344=\"\",\"\",'FULL TRUSTEE LIST'!B4344&\" \"&'FULL TRUSTEE LIST'!C4344)","v":""}]
[{"$f":"IF('FULL TRUSTEE LIST'!B4345=\"\",\"\",'FULL TRUSTEE LIST'!B4345&\" \"&'FULL TRUSTEE LIST'!C4345)","v":""}]
[{"$f":"IF('FULL TRUSTEE LIST'!B4346=\"\",\"\",'FULL TRUSTEE LIST'!B4346&\" \"&'FULL TRUSTEE LIST'!C4346)","v":""}]
[{"$f":"IF('FULL TRUSTEE LIST'!B4347=\"\",\"\",'FULL TRUSTEE LIST'!B4347&\" \"&'FULL TRUSTEE LIST'!C4347)","v":""}]
[{"$f":"IF('FULL TRUSTEE LIST'!B4348=\"\",\"\",'FULL TRUSTEE LIST'!B4348&\" \"&'FULL TRUSTEE LIST'!C4348)","v":""}]
[{"$f":"IF('FULL TRUSTEE LIST'!B4349=\"\",\"\",'FULL TRUSTEE LIST'!B4349&\" \"&'FULL TRUSTEE LIST'!C4349)","v":""}]
[{"$f":"IF('FULL TRUSTEE LIST'!B4350=\"\",\"\",'FULL TRUSTEE LIST'!B4350&\" \"&'FULL TRUSTEE LIST'!C4350)","v":""}]
[{"$f":"IF('FULL TRUSTEE LIST'!B4351=\"\",\"\",'FULL TRUSTEE LIST'!B4351&\" \"&'FULL TRUSTEE LIST'!C4351)","v":""}]
[{"$f":"IF('FULL TRUSTEE LIST'!B4352=\"\",\"\",'FULL TRUSTEE LIST'!B4352&\" \"&'FULL TRUSTEE LIST'!C4352)","v":""}]
[{"$f":"IF('FULL TRUSTEE LIST'!B4353=\"\",\"\",'FULL TRUSTEE LIST'!B4353&\" \"&'FULL TRUSTEE LIST'!C4353)","v":""}]
[{"$f":"IF('FULL TRUSTEE LIST'!B4354=\"\",\"\",'FULL TRUSTEE LIST'!B4354&\" \"&'FULL TRUSTEE LIST'!C4354)","v":""}]
[{"$f":"IF('FULL TRUSTEE LIST'!B4355=\"\",\"\",'FULL TRUSTEE LIST'!B4355&\" \"&'FULL TRUSTEE LIST'!C4355)","v":""}]
[{"$f":"IF('FULL TRUSTEE LIST'!B4356=\"\",\"\",'FULL TRUSTEE LIST'!B4356&\" \"&'FULL TRUSTEE LIST'!C4356)","v":""}]
[{"$f":"IF('FULL TRUSTEE LIST'!B4357=\"\",\"\",'FULL TRUSTEE LIST'!B4357&\" \"&'FULL TRUSTEE LIST'!C4357)","v":""}]
[{"$f":"IF('FULL TRUSTEE LIST'!B4358=\"\",\"\",'FULL TRUSTEE LIST'!B4358&\" \"&'FULL TRUSTEE LIST'!C4358)","v":""}]
[{"$f":"IF('FULL TRUSTEE LIST'!B4359=\"\",\"\",'FULL TRUSTEE LIST'!B4359&\" \"&'FULL TRUSTEE LIST'!C4359)","v":""}]
[{"$f":"IF('FULL TRUSTEE LIST'!B4360=\"\",\"\",'FULL TRUSTEE LIST'!B4360&\" \"&'FULL TRUSTEE LIST'!C4360)","v":""}]
[{"$f":"IF('FULL TRUSTEE LIST'!B4361=\"\",\"\",'FULL TRUSTEE LIST'!B4361&\" \"&'FULL TRUSTEE LIST'!C4361)","v":""}]
[{"$f":"IF('FULL TRUSTEE LIST'!B4362=\"\",\"\",'FULL TRUSTEE LIST'!B4362&\" \"&'FULL TRUSTEE LIST'!C4362)","v":""}]
[{"$f":"IF('FULL TRUSTEE LIST'!B4363=\"\",\"\",'FULL TRUSTEE LIST'!B4363&\" \"&'FULL TRUSTEE LIST'!C4363)","v":""}]
[{"$f":"IF('FULL TRUSTEE LIST'!B4364=\"\",\"\",'FULL TRUSTEE LIST'!B4364&\" \"&'FULL TRUSTEE LIST'!C4364)","v":""}]
[{"$f":"IF('FULL TRUSTEE LIST'!B4365=\"\",\"\",'FULL TRUSTEE LIST'!B4365&\" \"&'FULL TRUSTEE LIST'!C4365)","v":""}]
[{"$f":"IF('FULL TRUSTEE LIST'!B4366=\"\",\"\",'FULL TRUSTEE LIST'!B4366&\" \"&'FULL TRUSTEE LIST'!C4366)","v":""}]
[{"$f":"IF('FULL TRUSTEE LIST'!B4367=\"\",\"\",'FULL TRUSTEE LIST'!B4367&\" \"&'FULL TRUSTEE LIST'!C4367)","v":""}]
[{"$f":"IF('FULL TRUSTEE LIST'!B4368=\"\",\"\",'FULL TRUSTEE LIST'!B4368&\" \"&'FULL TRUSTEE LIST'!C4368)","v":""}]
[{"$f":"IF('FULL TRUSTEE LIST'!B4369=\"\",\"\",'FULL TRUSTEE LIST'!B4369&\" \"&'FULL TRUSTEE LIST'!C4369)","v":""}]
[{"$f":"IF('FULL TRUSTEE LIST'!B4370=\"\",\"\",'FULL TRUSTEE LIST'!B4370&\" \"&'FULL TRUSTEE LIST'!C4370)","v":""}]
[{"$f":"IF('FULL TRUSTEE LIST'!B4371=\"\",\"\",'FULL TRUSTEE LIST'!B4371&\" \"&'FULL TRUSTEE LIST'!C4371)","v":""}]
[{"$f":"IF('FULL TRUSTEE LIST'!B4372=\"\",\"\",'FULL TRUSTEE LIST'!B4372&\" \"&'FULL TRUSTEE LIST'!C4372)","v":""}]
[{"$f":"IF('FULL TRUSTEE LIST'!B4373=\"\",\"\",'FULL TRUSTEE LIST'!B4373&\" \"&'FULL TRUSTEE LIST'!C4373)","v":""}]
[{"$f":"IF('FULL TRUSTEE LIST'!B4374=\"\",\"\",'FULL TRUSTEE LIST'!B4374&\" \"&'FULL TRUSTEE LIST'!C4374)","v":""}]
[{"$f":"IF('FULL TRUSTEE LIST'!B4375=\"\",\"\",'FULL TRUSTEE LIST'!B4375&\" \"&'FULL TRUSTEE LIST'!C4375)","v":""}]
[{"$f":"IF('FULL TRUSTEE LIST'!B4376=\"\",\"\",'FULL TRUSTEE LIST'!B4376&\" \"&'FULL TRUSTEE LIST'!C4376)","v":""}]
[{"$f":"IF('FULL TRUSTEE LIST'!B4377=\"\",\"\",'FULL TRUSTEE LIST'!B4377&\" \"&'FULL TRUSTEE LIST'!C4377)","v":""}]
[{"$f":"IF('FULL TRUSTEE LIST'!B4378=\"\",\"\",'FULL TRUSTEE LIST'!B4378&\" \"&'FULL TRUSTEE LIST'!C4378)","v":""}]
[{"$f":"IF('FULL TRUSTEE LIST'!B4379=\"\",\"\",'FULL TRUSTEE LIST'!B4379&\" \"&'FULL TRUSTEE LIST'!C4379)","v":""}]
[{"$f":"IF('FULL TRUSTEE LIST'!B4380=\"\",\"\",'FULL TRUSTEE LIST'!B4380&\" \"&'FULL TRUSTEE LIST'!C4380)","v":""}]
[{"$f":"IF('FULL TRUSTEE LIST'!B4381=\"\",\"\",'FULL TRUSTEE LIST'!B4381&\" \"&'FULL TRUSTEE LIST'!C4381)","v":""}]
[{"$f":"IF('FULL TRUSTEE LIST'!B4382=\"\",\"\",'FULL TRUSTEE LIST'!B4382&\" \"&'FULL TRUSTEE LIST'!C4382)","v":""}]
[{"$f":"IF('FULL TRUSTEE LIST'!B4383=\"\",\"\",'FULL TRUSTEE LIST'!B4383&\" \"&'FULL TRUSTEE LIST'!C4383)","v":""}]
[{"$f":"IF('FULL TRUSTEE LIST'!B4384=\"\",\"\",'FULL TRUSTEE LIST'!B4384&\" \"&'FULL TRUSTEE LIST'!C4384)","v":""}]
[{"$f":"IF('FULL TRUSTEE LIST'!B4385=\"\",\"\",'FULL TRUSTEE LIST'!B4385&\" \"&'FULL TRUSTEE LIST'!C4385)","v":""}]
[{"$f":"IF('FULL TRUSTEE LIST'!B4386=\"\",\"\",'FULL TRUSTEE LIST'!B4386&\" \"&'FULL TRUSTEE LIST'!C4386)","v":""}]
[{"$f":"IF('FULL TRUSTEE LIST'!B4387=\"\",\"\",'FULL TRUSTEE LIST'!B4387&\" \"&'FULL TRUSTEE LIST'!C4387)","v":""}]
[{"$f":"IF('FULL TRUSTEE LIST'!B4388=\"\",\"\",'FULL TRUSTEE LIST'!B4388&\" \"&'FULL TRUSTEE LIST'!C4388)","v":""}]
[{"$f":"IF('FULL TRUSTEE LIST'!B4389=\"\",\"\",'FULL TRUSTEE LIST'!B4389&\" \"&'FULL TRUSTEE LIST'!C4389)","v":""}]
[{"$f":"IF('FULL TRUSTEE LIST'!B4390=\"\",\"\",'FULL TRUSTEE LIST'!B4390&\" \"&'FULL TRUSTEE LIST'!C4390)","v":""}]
[{"$f":"IF('FULL TRUSTEE LIST'!B4391=\"\",\"\",'FULL TRUSTEE LIST'!B4391&\" \"&'FULL TRUSTEE LIST'!C4391)","v":""}]
[{"$f":"IF('FULL TRUSTEE LIST'!B4392=\"\",\"\",'FULL TRUSTEE LIST'!B4392&\" \"&'FULL TRUSTEE LIST'!C4392)","v":""}]
[{"$f":"IF('FULL TRUSTEE LIST'!B4393=\"\",\"\",'FULL TRUSTEE LIST'!B4393&\" \"&'FULL TRUSTEE LIST'!C4393)","v":""}]
[{"$f":"IF('FULL TRUSTEE LIST'!B4394=\"\",\"\",'FULL TRUSTEE LIST'!B4394&\" \"&'FULL TRUSTEE LIST'!C4394)","v":""}]
[{"$f":"IF('FULL TRUSTEE LIST'!B4395=\"\",\"\",'FULL TRUSTEE LIST'!B4395&\" \"&'FULL TRUSTEE LIST'!C4395)","v":""}]
[{"$f":"IF('FULL TRUSTEE LIST'!B4396=\"\",\"\",'FULL TRUSTEE LIST'!B4396&\" \"&'FULL TRUSTEE LIST'!C4396)","v":""}]
[{"$f":"IF('FULL TRUSTEE LIST'!B4397=\"\",\"\",'FULL TRUSTEE LIST'!B4397&\" \"&'FULL TRUSTEE LIST'!C4397)","v":""}]
[{"$f":"IF('FULL TRUSTEE LIST'!B4398=\"\",\"\",'FULL TRUSTEE LIST'!B4398&\" \"&'FULL TRUSTEE LIST'!C4398)","v":""}]
[{"$f":"IF('FULL TRUSTEE LIST'!B4399=\"\",\"\",'FULL TRUSTEE LIST'!B4399&\" \"&'FULL TRUSTEE LIST'!C4399)","v":""}]
[{"$f":"IF('FULL TRUSTEE LIST'!B4400=\"\",\"\",'FULL TRUSTEE LIST'!B4400&\" \"&'FULL TRUSTEE LIST'!C4400)","v":""}]
[{"$f":"IF('FULL TRUSTEE LIST'!B4401=\"\",\"\",'FULL TRUSTEE LIST'!B4401&\" \"&'FULL TRUSTEE LIST'!C4401)","v":""}]
[{"$f":"IF('FULL TRUSTEE LIST'!B4402=\"\",\"\",'FULL TRUSTEE LIST'!B4402&\" \"&'FULL TRUSTEE LIST'!C4402)","v":""}]
[{"$f":"IF('FULL TRUSTEE LIST'!B4403=\"\",\"\",'FULL TRUSTEE LIST'!B4403&\" \"&'FULL TRUSTEE LIST'!C4403)","v":""}]
[{"$f":"IF('FULL TRUSTEE LIST'!B4404=\"\",\"\",'FULL TRUSTEE LIST'!B4404&\" \"&'FULL TRUSTEE LIST'!C4404)","v":""}]
[{"$f":"IF('FULL TRUSTEE LIST'!B4405=\"\",\"\",'FULL TRUSTEE LIST'!B4405&\" \"&'FULL TRUSTEE LIST'!C4405)","v":""}]
[{"$f":"IF('FULL TRUSTEE LIST'!B4406=\"\",\"\",'FULL TRUSTEE LIST'!B4406&\" \"&'FULL TRUSTEE LIST'!C4406)","v":""}]
[{"$f":"IF('FULL TRUSTEE LIST'!B4407=\"\",\"\",'FULL TRUSTEE LIST'!B4407&\" \"&'FULL TRUSTEE LIST'!C4407)","v":""}]
[{"$f":"IF('FULL TRUSTEE LIST'!B4408=\"\",\"\",'FULL TRUSTEE LIST'!B4408&\" \"&'FULL TRUSTEE LIST'!C4408)","v":""}]
[{"$f":"IF('FULL TRUSTEE LIST'!B4409=\"\",\"\",'FULL TRUSTEE LIST'!B4409&\" \"&'FULL TRUSTEE LIST'!C4409)","v":""}]
[{"$f":"IF('FULL TRUSTEE LIST'!B4410=\"\",\"\",'FULL TRUSTEE LIST'!B4410&\" \"&'FULL TRUSTEE LIST'!C4410)","v":""}]
[{"$f":"IF('FULL TRUSTEE LIST'!B4411=\"\",\"\",'FULL TRUSTEE LIST'!B4411&\" \"&'FULL TRUSTEE LIST'!C4411)","v":""}]
[{"$f":"IF('FULL TRUSTEE LIST'!B4412=\"\",\"\",'FULL TRUSTEE LIST'!B4412&\" \"&'FULL TRUSTEE LIST'!C4412)","v":""}]
[{"$f":"IF('FULL TRUSTEE LIST'!B4413=\"\",\"\",'FULL TRUSTEE LIST'!B4413&\" \"&'FULL TRUSTEE LIST'!C4413)","v":""}]
[{"$f":"IF('FULL TRUSTEE LIST'!B4414=\"\",\"\",'FULL TRUSTEE LIST'!B4414&\" \"&'FULL TRUSTEE LIST'!C4414)","v":""}]
[{"$f":"IF('FULL TRUSTEE LIST'!B4415=\"\",\"\",'FULL TRUSTEE LIST'!B4415&\" \"&'FULL TRUSTEE LIST'!C4415)","v":""}]
[{"$f":"IF('FULL TRUSTEE LIST'!B4416=\"\",\"\",'FULL TRUSTEE LIST'!B4416&\" \"&'FULL TRUSTEE LIST'!C4416)","v":""}]
[{"$f":"IF('FULL TRUSTEE LIST'!B4417=\"\",\"\",'FULL TRUSTEE LIST'!B4417&\" \"&'FULL TRUSTEE LIST'!C4417)","v":""}]
[{"$f":"IF('FULL TRUSTEE LIST'!B4418=\"\",\"\",'FULL TRUSTEE LIST'!B4418&\" \"&'FULL TRUSTEE LIST'!C4418)","v":""}]
[{"$f":"IF('FULL TRUSTEE LIST'!B4419=\"\",\"\",'FULL TRUSTEE LIST'!B4419&\" \"&'FULL TRUSTEE LIST'!C4419)","v":""}]
[{"$f":"IF('FULL TRUSTEE LIST'!B4420=\"\",\"\",'FULL TRUSTEE LIST'!B4420&\" \"&'FULL TRUSTEE LIST'!C4420)","v":""}]
[{"$f":"IF('FULL TRUSTEE LIST'!B4421=\"\",\"\",'FULL TRUSTEE LIST'!B4421&\" \"&'FULL TRUSTEE LIST'!C4421)","v":""}]
[{"$f":"IF('FULL TRUSTEE LIST'!B4422=\"\",\"\",'FULL TRUSTEE LIST'!B4422&\" \"&'FULL TRUSTEE LIST'!C4422)","v":""}]
[{"$f":"IF('FULL TRUSTEE LIST'!B4423=\"\",\"\",'FULL TRUSTEE LIST'!B4423&\" \"&'FULL TRUSTEE LIST'!C4423)","v":""}]
[{"$f":"IF('FULL TRUSTEE LIST'!B4424=\"\",\"\",'FULL TRUSTEE LIST'!B4424&\" \"&'FULL TRUSTEE LIST'!C4424)","v":""}]
[{"$f":"IF('FULL TRUSTEE LIST'!B4425=\"\",\"\",'FULL TRUSTEE LIST'!B4425&\" \"&'FULL TRUSTEE LIST'!C4425)","v":""}]
[{"$f":"IF('FULL TRUSTEE LIST'!B4426=\"\",\"\",'FULL TRUSTEE LIST'!B4426&\" \"&'FULL TRUSTEE LIST'!C4426)","v":""}]
[{"$f":"IF('FULL TRUSTEE LIST'!B4427=\"\",\"\",'FULL TRUSTEE LIST'!B4427&\" \"&'FULL TRUSTEE LIST'!C4427)","v":""}]
[{"$f":"IF('FULL TRUSTEE LIST'!B4428=\"\",\"\",'FULL TRUSTEE LIST'!B4428&\" \"&'FULL TRUSTEE LIST'!C4428)","v":""}]
[{"$f":"IF('FULL TRUSTEE LIST'!B4429=\"\",\"\",'FULL TRUSTEE LIST'!B4429&\" \"&'FULL TRUSTEE LIST'!C4429)","v":""}]
[{"$f":"IF('FULL TRUSTEE LIST'!B4430=\"\",\"\",'FULL TRUSTEE LIST'!B4430&\" \"&'FULL TRUSTEE LIST'!C4430)","v":""}]
[{"$f":"IF('FULL TRUSTEE LIST'!B4431=\"\",\"\",'FULL TRUSTEE LIST'!B4431&\" \"&'FULL TRUSTEE LIST'!C4431)","v":""}]
[{"$f":"IF('FULL TRUSTEE LIST'!B4432=\"\",\"\",'FULL TRUSTEE LIST'!B4432&\" \"&'FULL TRUSTEE LIST'!C4432)","v":""}]
[{"$f":"IF('FULL TRUSTEE LIST'!B4433=\"\",\"\",'FULL TRUSTEE LIST'!B4433&\" \"&'FULL TRUSTEE LIST'!C4433)","v":""}]
[{"$f":"IF('FULL TRUSTEE LIST'!B4434=\"\",\"\",'FULL TRUSTEE LIST'!B4434&\" \"&'FULL TRUSTEE LIST'!C4434)","v":""}]
[{"$f":"IF('FULL TRUSTEE LIST'!B4435=\"\",\"\",'FULL TRUSTEE LIST'!B4435&\" \"&'FULL TRUSTEE LIST'!C4435)","v":""}]
[{"$f":"IF('FULL TRUSTEE LIST'!B4436=\"\",\"\",'FULL TRUSTEE LIST'!B4436&\" \"&'FULL TRUSTEE LIST'!C4436)","v":""}]
[{"$f":"IF('FULL TRUSTEE LIST'!B4437=\"\",\"\",'FULL TRUSTEE LIST'!B4437&\" \"&'FULL TRUSTEE LIST'!C4437)","v":""}]
[{"$f":"IF('FULL TRUSTEE LIST'!B4438=\"\",\"\",'FULL TRUSTEE LIST'!B4438&\" \"&'FULL TRUSTEE LIST'!C4438)","v":""}]
[{"$f":"IF('FULL TRUSTEE LIST'!B4439=\"\",\"\",'FULL TRUSTEE LIST'!B4439&\" \"&'FULL TRUSTEE LIST'!C4439)","v":""}]
[{"$f":"IF('FULL TRUSTEE LIST'!B4440=\"\",\"\",'FULL TRUSTEE LIST'!B4440&\" \"&'FULL TRUSTEE LIST'!C4440)","v":""}]
[{"$f":"IF('FULL TRUSTEE LIST'!B4441=\"\",\"\",'FULL TRUSTEE LIST'!B4441&\" \"&'FULL TRUSTEE LIST'!C4441)","v":""}]
[{"$f":"IF('FULL TRUSTEE LIST'!B4442=\"\",\"\",'FULL TRUSTEE LIST'!B4442&\" \"&'FULL TRUSTEE LIST'!C4442)","v":""}]
[{"$f":"IF('FULL TRUSTEE LIST'!B4443=\"\",\"\",'FULL TRUSTEE LIST'!B4443&\" \"&'FULL TRUSTEE LIST'!C4443)","v":""}]
[{"$f":"IF('FULL TRUSTEE LIST'!B4444=\"\",\"\",'FULL TRUSTEE LIST'!B4444&\" \"&'FULL TRUSTEE LIST'!C4444)","v":""}]
[{"$f":"IF('FULL TRUSTEE LIST'!B4445=\"\",\"\",'FULL TRUSTEE LIST'!B4445&\" \"&'FULL TRUSTEE LIST'!C4445)","v":""}]
[{"$f":"IF('FULL TRUSTEE LIST'!B4446=\"\",\"\",'FULL TRUSTEE LIST'!B4446&\" \"&'FULL TRUSTEE LIST'!C4446)","v":""}]
[{"$f":"IF('FULL TRUSTEE LIST'!B4447=\"\",\"\",'FULL TRUSTEE LIST'!B4447&\" \"&'FULL TRUSTEE LIST'!C4447)","v":""}]
[{"$f":"IF('FULL TRUSTEE LIST'!B4448=\"\",\"\",'FULL TRUSTEE LIST'!B4448&\" \"&'FULL TRUSTEE LIST'!C4448)","v":""}]
[{"$f":"IF('FULL TRUSTEE LIST'!B4449=\"\",\"\",'FULL TRUSTEE LIST'!B4449&\" \"&'FULL TRUSTEE LIST'!C4449)","v":""}]
[{"$f":"IF('FULL TRUSTEE LIST'!B4450=\"\",\"\",'FULL TRUSTEE LIST'!B4450&\" \"&'FULL TRUSTEE LIST'!C4450)","v":""}]
[{"$f":"IF('FULL TRUSTEE LIST'!B4451=\"\",\"\",'FULL TRUSTEE LIST'!B4451&\" \"&'FULL TRUSTEE LIST'!C4451)","v":""}]
[{"$f":"IF('FULL TRUSTEE LIST'!B4452=\"\",\"\",'FULL TRUSTEE LIST'!B4452&\" \"&'FULL TRUSTEE LIST'!C4452)","v":""}]
[{"$f":"IF('FULL TRUSTEE LIST'!B4453=\"\",\"\",'FULL TRUSTEE LIST'!B4453&\" \"&'FULL TRUSTEE LIST'!C4453)","v":""}]
[{"$f":"IF('FULL TRUSTEE LIST'!B4454=\"\",\"\",'FULL TRUSTEE LIST'!B4454&\" \"&'FULL TRUSTEE LIST'!C4454)","v":""}]
[{"$f":"IF('FULL TRUSTEE LIST'!B4455=\"\",\"\",'FULL TRUSTEE LIST'!B4455&\" \"&'FULL TRUSTEE LIST'!C4455)","v":""}]
[{"$f":"IF('FULL TRUSTEE LIST'!B4456=\"\",\"\",'FULL TRUSTEE LIST'!B4456&\" \"&'FULL TRUSTEE LIST'!C4456)","v":""}]
[{"$f":"IF('FULL TRUSTEE LIST'!B4457=\"\",\"\",'FULL TRUSTEE LIST'!B4457&\" \"&'FULL TRUSTEE LIST'!C4457)","v":""}]
[{"$f":"IF('FULL TRUSTEE LIST'!B4458=\"\",\"\",'FULL TRUSTEE LIST'!B4458&\" \"&'FULL TRUSTEE LIST'!C4458)","v":""}]
[{"$f":"IF('FULL TRUSTEE LIST'!B4459=\"\",\"\",'FULL TRUSTEE LIST'!B4459&\" \"&'FULL TRUSTEE LIST'!C4459)","v":""}]
[{"$f":"IF('FULL TRUSTEE LIST'!B4460=\"\",\"\",'FULL TRUSTEE LIST'!B4460&\" \"&'FULL TRUSTEE LIST'!C4460)","v":""}]
[{"$f":"IF('FULL TRUSTEE LIST'!B4461=\"\",\"\",'FULL TRUSTEE LIST'!B4461&\" \"&'FULL TRUSTEE LIST'!C4461)","v":""}]
[{"$f":"IF('FULL TRUSTEE LIST'!B4462=\"\",\"\",'FULL TRUSTEE LIST'!B4462&\" \"&'FULL TRUSTEE LIST'!C4462)","v":""}]
[{"$f":"IF('FULL TRUSTEE LIST'!B4463=\"\",\"\",'FULL TRUSTEE LIST'!B4463&\" \"&'FULL TRUSTEE LIST'!C4463)","v":""}]
[{"$f":"IF('FULL TRUSTEE LIST'!B4464=\"\",\"\",'FULL TRUSTEE LIST'!B4464&\" \"&'FULL TRUSTEE LIST'!C4464)","v":""}]
[{"$f":"IF('FULL TRUSTEE LIST'!B4465=\"\",\"\",'FULL TRUSTEE LIST'!B4465&\" \"&'FULL TRUSTEE LIST'!C4465)","v":""}]
[{"$f":"IF('FULL TRUSTEE LIST'!B4466=\"\",\"\",'FULL TRUSTEE LIST'!B4466&\" \"&'FULL TRUSTEE LIST'!C4466)","v":""}]
[{"$f":"IF('FULL TRUSTEE LIST'!B4467=\"\",\"\",'FULL TRUSTEE LIST'!B4467&\" \"&'FULL TRUSTEE LIST'!C4467)","v":""}]
[{"$f":"IF('FULL TRUSTEE LIST'!B4468=\"\",\"\",'FULL TRUSTEE LIST'!B4468&\" \"&'FULL TRUSTEE LIST'!C4468)","v":""}]
[{"$f":"IF('FULL TRUSTEE LIST'!B4469=\"\",\"\",'FULL TRUSTEE LIST'!B4469&\" \"&'FULL TRUSTEE LIST'!C4469)","v":""}]
[{"$f":"IF('FULL TRUSTEE LIST'!B4470=\"\",\"\",'FULL TRUSTEE LIST'!B4470&\" \"&'FULL TRUSTEE LIST'!C4470)","v":""}]
[{"$f":"IF('FULL TRUSTEE LIST'!B4471=\"\",\"\",'FULL TRUSTEE LIST'!B4471&\" \"&'FULL TRUSTEE LIST'!C4471)","v":""}]
[{"$f":"IF('FULL TRUSTEE LIST'!B4472=\"\",\"\",'FULL TRUSTEE LIST'!B4472&\" \"&'FULL TRUSTEE LIST'!C4472)","v":""}]
[{"$f":"IF('FULL TRUSTEE LIST'!B4473=\"\",\"\",'FULL TRUSTEE LIST'!B4473&\" \"&'FULL TRUSTEE LIST'!C4473)","v":""}]
[{"$f":"IF('FULL TRUSTEE LIST'!B4474=\"\",\"\",'FULL TRUSTEE LIST'!B4474&\" \"&'FULL TRUSTEE LIST'!C4474)","v":""}]
[{"$f":"IF('FULL TRUSTEE LIST'!B4475=\"\",\"\",'FULL TRUSTEE LIST'!B4475&\" \"&'FULL TRUSTEE LIST'!C4475)","v":""}]
[{"$f":"IF('FULL TRUSTEE LIST'!B4476=\"\",\"\",'FULL TRUSTEE LIST'!B4476&\" \"&'FULL TRUSTEE LIST'!C4476)","v":""}]
[{"$f":"IF('FULL TRUSTEE LIST'!B4477=\"\",\"\",'FULL TRUSTEE LIST'!B4477&\" \"&'FULL TRUSTEE LIST'!C4477)","v":""}]
[{"$f":"IF('FULL TRUSTEE LIST'!B4478=\"\",\"\",'FULL TRUSTEE LIST'!B4478&\" \"&'FULL TRUSTEE LIST'!C4478)","v":""}]
[{"$f":"IF('FULL TRUSTEE LIST'!B4479=\"\",\"\",'FULL TRUSTEE LIST'!B4479&\" \"&'FULL TRUSTEE LIST'!C4479)","v":""}]
[{"$f":"IF('FULL TRUSTEE LIST'!B4480=\"\",\"\",'FULL TRUSTEE LIST'!B4480&\" \"&'FULL TRUSTEE LIST'!C4480)","v":""}]
[{"$f":"IF('FULL TRUSTEE LIST'!B4481=\"\",\"\",'FULL TRUSTEE LIST'!B4481&\" \"&'FULL TRUSTEE LIST'!C4481)","v":""}]
[{"$f":"IF('FULL TRUSTEE LIST'!B4482=\"\",\"\",'FULL TRUSTEE LIST'!B4482&\" \"&'FULL TRUSTEE LIST'!C4482)","v":""}]
[{"$f":"IF('FULL TRUSTEE LIST'!B4483=\"\",\"\",'FULL TRUSTEE LIST'!B4483&\" \"&'FULL TRUSTEE LIST'!C4483)","v":""}]
[{"$f":"IF('FULL TRUSTEE LIST'!B4484=\"\",\"\",'FULL TRUSTEE LIST'!B4484&\" \"&'FULL TRUSTEE LIST'!C4484)","v":""}]
[{"$f":"IF('FULL TRUSTEE LIST'!B4485=\"\",\"\",'FULL TRUSTEE LIST'!B4485&\" \"&'FULL TRUSTEE LIST'!C4485)","v":""}]
[{"$f":"IF('FULL TRUSTEE LIST'!B4486=\"\",\"\",'FULL TRUSTEE LIST'!B4486&\" \"&'FULL TRUSTEE LIST'!C4486)","v":""}]
[{"$f":"IF('FULL TRUSTEE LIST'!B4487=\"\",\"\",'FULL TRUSTEE LIST'!B4487&\" \"&'FULL TRUSTEE LIST'!C4487)","v":""}]
[{"$f":"IF('FULL TRUSTEE LIST'!B4488=\"\",\"\",'FULL TRUSTEE LIST'!B4488&\" \"&'FULL TRUSTEE LIST'!C4488)","v":""}]
[{"$f":"IF('FULL TRUSTEE LIST'!B4489=\"\",\"\",'FULL TRUSTEE LIST'!B4489&\" \"&'FULL TRUSTEE LIST'!C4489)","v":""}]
[{"$f":"IF('FULL TRUSTEE LIST'!B4490=\"\",\"\",'FULL TRUSTEE LIST'!B4490&\" \"&'FULL TRUSTEE LIST'!C4490)","v":""}]
[{"$f":"IF('FULL TRUSTEE LIST'!B4491=\"\",\"\",'FULL TRUSTEE LIST'!B4491&\" \"&'FULL TRUSTEE LIST'!C4491)","v":""}]
[{"$f":"IF('FULL TRUSTEE LIST'!B4492=\"\",\"\",'FULL TRUSTEE LIST'!B4492&\" \"&'FULL TRUSTEE LIST'!C4492)","v":""}]
[{"$f":"IF('FULL TRUSTEE LIST'!B4493=\"\",\"\",'FULL TRUSTEE LIST'!B4493&\" \"&'FULL TRUSTEE LIST'!C4493)","v":""}]
[{"$f":"IF('FULL TRUSTEE LIST'!B4494=\"\",\"\",'FULL TRUSTEE LIST'!B4494&\" \"&'FULL TRUSTEE LIST'!C4494)","v":""}]
[{"$f":"IF('FULL TRUSTEE LIST'!B4495=\"\",\"\",'FULL TRUSTEE LIST'!B4495&\" \"&'FULL TRUSTEE LIST'!C4495)","v":""}]
[{"$f":"IF('FULL TRUSTEE LIST'!B4496=\"\",\"\",'FULL TRUSTEE LIST'!B4496&\" \"&'FULL TRUSTEE LIST'!C4496)","v":""}]
[{"$f":"IF('FULL TRUSTEE LIST'!B4497=\"\",\"\",'FULL TRUSTEE LIST'!B4497&\" \"&'FULL TRUSTEE LIST'!C4497)","v":""}]
[{"$f":"IF('FULL TRUSTEE LIST'!B4498=\"\",\"\",'FULL TRUSTEE LIST'!B4498&\" \"&'FULL TRUSTEE LIST'!C4498)","v":""}]
[{"$f":"IF('FULL TRUSTEE LIST'!B4499=\"\",\"\",'FULL TRUSTEE LIST'!B4499&\" \"&'FULL TRUSTEE LIST'!C4499)","v":""}]
[{"$f":"IF('FULL TRUSTEE LIST'!B4500=\"\",\"\",'FULL TRUSTEE LIST'!B4500&\" \"&'FULL TRUSTEE LIST'!C4500)","v":""}]
[{"$f":"IF('FULL TRUSTEE LIST'!B4501=\"\",\"\",'FULL TRUSTEE LIST'!B4501&\" \"&'FULL TRUSTEE LIST'!C4501)","v":""}]
[{"$f":"IF('FULL TRUSTEE LIST'!B4502=\"\",\"\",'FULL TRUSTEE LIST'!B4502&\" \"&'FULL TRUSTEE LIST'!C4502)","v":""}]
[{"$f":"IF('FULL TRUSTEE LIST'!B4503=\"\",\"\",'FULL TRUSTEE LIST'!B4503&\" \"&'FULL TRUSTEE LIST'!C4503)","v":""}]
[{"$f":"IF('FULL TRUSTEE LIST'!B4504=\"\",\"\",'FULL TRUSTEE LIST'!B4504&\" \"&'FULL TRUSTEE LIST'!C4504)","v":""}]
[{"$f":"IF('FULL TRUSTEE LIST'!B4505=\"\",\"\",'FULL TRUSTEE LIST'!B4505&\" \"&'FULL TRUSTEE LIST'!C4505)","v":""}]
[{"$f":"IF('FULL TRUSTEE LIST'!B4506=\"\",\"\",'FULL TRUSTEE LIST'!B4506&\" \"&'FULL TRUSTEE LIST'!C4506)","v":""}]
[{"$f":"IF('FULL TRUSTEE LIST'!B4507=\"\",\"\",'FULL TRUSTEE LIST'!B4507&\" \"&'FULL TRUSTEE LIST'!C4507)","v":""}]
[{"$f":"IF('FULL TRUSTEE LIST'!B4508=\"\",\"\",'FULL TRUSTEE LIST'!B4508&\" \"&'FULL TRUSTEE LIST'!C4508)","v":""}]
[{"$f":"IF('FULL TRUSTEE LIST'!B4509=\"\",\"\",'FULL TRUSTEE LIST'!B4509&\" \"&'FULL TRUSTEE LIST'!C4509)","v":""}]
[{"$f":"IF('FULL TRUSTEE LIST'!B4510=\"\",\"\",'FULL TRUSTEE LIST'!B4510&\" \"&'FULL TRUSTEE LIST'!C4510)","v":""}]
[{"$f":"IF('FULL TRUSTEE LIST'!B4511=\"\",\"\",'FULL TRUSTEE LIST'!B4511&\" \"&'FULL TRUSTEE LIST'!C4511)","v":""}]
[{"$f":"IF('FULL TRUSTEE LIST'!B4512=\"\",\"\",'FULL TRUSTEE LIST'!B4512&\" \"&'FULL TRUSTEE LIST'!C4512)","v":""}]
[{"$f":"IF('FULL TRUSTEE LIST'!B4513=\"\",\"\",'FULL TRUSTEE LIST'!B4513&\" \"&'FULL TRUSTEE LIST'!C4513)","v":""}]
[{"$f":"IF('FULL TRUSTEE LIST'!B4514=\"\",\"\",'FULL TRUSTEE LIST'!B4514&\" \"&'FULL TRUSTEE LIST'!C4514)","v":""}]
[{"$f":"IF('FULL TRUSTEE LIST'!B4515=\"\",\"\",'FULL TRUSTEE LIST'!B4515&\" \"&'FULL TRUSTEE LIST'!C4515)","v":""}]
[{"$f":"IF('FULL TRUSTEE LIST'!B4516=\"\",\"\",'FULL TRUSTEE LIST'!B4516&\" \"&'FULL TRUSTEE LIST'!C4516)","v":""}]
[{"$f":"IF('FULL TRUSTEE LIST'!B4517=\"\",\"\",'FULL TRUSTEE LIST'!B4517&\" \"&'FULL TRUSTEE LIST'!C4517)","v":""}]
[{"$f":"IF('FULL TRUSTEE LIST'!B4518=\"\",\"\",'FULL TRUSTEE LIST'!B4518&\" \"&'FULL TRUSTEE LIST'!C4518)","v":""}]
[{"$f":"IF('FULL TRUSTEE LIST'!B4519=\"\",\"\",'FULL TRUSTEE LIST'!B4519&\" \"&'FULL TRUSTEE LIST'!C4519)","v":""}]
[{"$f":"IF('FULL TRUSTEE LIST'!B4520=\"\",\"\",'FULL TRUSTEE LIST'!B4520&\" \"&'FULL TRUSTEE LIST'!C4520)","v":""}]
[{"$f":"IF('FULL TRUSTEE LIST'!B4521=\"\",\"\",'FULL TRUSTEE LIST'!B4521&\" \"&'FULL TRUSTEE LIST'!C4521)","v":""}]
[{"$f":"IF('FULL TRUSTEE LIST'!B4522=\"\",\"\",'FULL TRUSTEE LIST'!B4522&\" \"&'FULL TRUSTEE LIST'!C4522)","v":""}]
[{"$f":"IF('FULL TRUSTEE LIST'!B4523=\"\",\"\",'FULL TRUSTEE LIST'!B4523&\" \"&'FULL TRUSTEE LIST'!C4523)","v":""}]
[{"$f":"IF('FULL TRUSTEE LIST'!B4524=\"\",\"\",'FULL TRUSTEE LIST'!B4524&\" \"&'FULL TRUSTEE LIST'!C4524)","v":""}]
[{"$f":"IF('FULL TRUSTEE LIST'!B4525=\"\",\"\",'FULL TRUSTEE LIST'!B4525&\" \"&'FULL TRUSTEE LIST'!C4525)","v":""}]
[{"$f":"IF('FULL TRUSTEE LIST'!B4526=\"\",\"\",'FULL TRUSTEE LIST'!B4526&\" \"&'FULL TRUSTEE LIST'!C4526)","v":""}]
[{"$f":"IF('FULL TRUSTEE LIST'!B4527=\"\",\"\",'FULL TRUSTEE LIST'!B4527&\" \"&'FULL TRUSTEE LIST'!C4527)","v":""}]
[{"$f":"IF('FULL TRUSTEE LIST'!B4528=\"\",\"\",'FULL TRUSTEE LIST'!B4528&\" \"&'FULL TRUSTEE LIST'!C4528)","v":""}]
[{"$f":"IF('FULL TRUSTEE LIST'!B4529=\"\",\"\",'FULL TRUSTEE LIST'!B4529&\" \"&'FULL TRUSTEE LIST'!C4529)","v":""}]
[{"$f":"IF('FULL TRUSTEE LIST'!B4530=\"\",\"\",'FULL TRUSTEE LIST'!B4530&\" \"&'FULL TRUSTEE LIST'!C4530)","v":""}]
[{"$f":"IF('FULL TRUSTEE LIST'!B4531=\"\",\"\",'FULL TRUSTEE LIST'!B4531&\" \"&'FULL TRUSTEE LIST'!C4531)","v":""}]
[{"$f":"IF('FULL TRUSTEE LIST'!B4532=\"\",\"\",'FULL TRUSTEE LIST'!B4532&\" \"&'FULL TRUSTEE LIST'!C4532)","v":""}]
[{"$f":"IF('FULL TRUSTEE LIST'!B4533=\"\",\"\",'FULL TRUSTEE LIST'!B4533&\" \"&'FULL TRUSTEE LIST'!C4533)","v":""}]
[{"$f":"IF('FULL TRUSTEE LIST'!B4534=\"\",\"\",'FULL TRUSTEE LIST'!B4534&\" \"&'FULL TRUSTEE LIST'!C4534)","v":""}]
[{"$f":"IF('FULL TRUSTEE LIST'!B4535=\"\",\"\",'FULL TRUSTEE LIST'!B4535&\" \"&'FULL TRUSTEE LIST'!C4535)","v":""}]
[{"$f":"IF('FULL TRUSTEE LIST'!B4536=\"\",\"\",'FULL TRUSTEE LIST'!B4536&\" \"&'FULL TRUSTEE LIST'!C4536)","v":""}]
[{"$f":"IF('FULL TRUSTEE LIST'!B4537=\"\",\"\",'FULL TRUSTEE LIST'!B4537&\" \"&'FULL TRUSTEE LIST'!C4537)","v":""}]
[{"$f":"IF('FULL TRUSTEE LIST'!B4538=\"\",\"\",'FULL TRUSTEE LIST'!B4538&\" \"&'FULL TRUSTEE LIST'!C4538)","v":""}]
[{"$f":"IF('FULL TRUSTEE LIST'!B4539=\"\",\"\",'FULL TRUSTEE LIST'!B4539&\" \"&'FULL TRUSTEE LIST'!C4539)","v":""}]
[{"$f":"IF('FULL TRUSTEE LIST'!B4540=\"\",\"\",'FULL TRUSTEE LIST'!B4540&\" \"&'FULL TRUSTEE LIST'!C4540)","v":""}]
[{"$f":"IF('FULL TRUSTEE LIST'!B4541=\"\",\"\",'FULL TRUSTEE LIST'!B4541&\" \"&'FULL TRUSTEE LIST'!C4541)","v":""}]
[{"$f":"IF('FULL TRUSTEE LIST'!B4542=\"\",\"\",'FULL TRUSTEE LIST'!B4542&\" \"&'FULL TRUSTEE LIST'!C4542)","v":""}]
[{"$f":"IF('FULL TRUSTEE LIST'!B4543=\"\",\"\",'FULL TRUSTEE LIST'!B4543&\" \"&'FULL TRUSTEE LIST'!C4543)","v":""}]
[{"$f":"IF('FULL TRUSTEE LIST'!B4544=\"\",\"\",'FULL TRUSTEE LIST'!B4544&\" \"&'FULL TRUSTEE LIST'!C4544)","v":""}]
[{"$f":"IF('FULL TRUSTEE LIST'!B4545=\"\",\"\",'FULL TRUSTEE LIST'!B4545&\" \"&'FULL TRUSTEE LIST'!C4545)","v":""}]
[{"$f":"IF('FULL TRUSTEE LIST'!B4546=\"\",\"\",'FULL TRUSTEE LIST'!B4546&\" \"&'FULL TRUSTEE LIST'!C4546)","v":""}]
[{"$f":"IF('FULL TRUSTEE LIST'!B4547=\"\",\"\",'FULL TRUSTEE LIST'!B4547&\" \"&'FULL TRUSTEE LIST'!C4547)","v":""}]
[{"$f":"IF('FULL TRUSTEE LIST'!B4548=\"\",\"\",'FULL TRUSTEE LIST'!B4548&\" \"&'FULL TRUSTEE LIST'!C4548)","v":""}]
[{"$f":"IF('FULL TRUSTEE LIST'!B4549=\"\",\"\",'FULL TRUSTEE LIST'!B4549&\" \"&'FULL TRUSTEE LIST'!C4549)","v":""}]
[{"$f":"IF('FULL TRUSTEE LIST'!B4550=\"\",\"\",'FULL TRUSTEE LIST'!B4550&\" \"&'FULL TRUSTEE LIST'!C4550)","v":""}]
[{"$f":"IF('FULL TRUSTEE LIST'!B4551=\"\",\"\",'FULL TRUSTEE LIST'!B4551&\" \"&'FULL TRUSTEE LIST'!C4551)","v":""}]
[{"$f":"IF('FULL TRUSTEE LIST'!B4552=\"\",\"\",'FULL TRUSTEE LIST'!B4552&\" \"&'FULL TRUSTEE LIST'!C4552)","v":""}]
[{"$f":"IF('FULL TRUSTEE LIST'!B4553=\"\",\"\",'FULL TRUSTEE LIST'!B4553&\" \"&'FULL TRUSTEE LIST'!C4553)","v":""}]
[{"$f":"IF('FULL TRUSTEE LIST'!B4554=\"\",\"\",'FULL TRUSTEE LIST'!B4554&\" \"&'FULL TRUSTEE LIST'!C4554)","v":""}]
[{"$f":"IF('FULL TRUSTEE LIST'!B4555=\"\",\"\",'FULL TRUSTEE LIST'!B4555&\" \"&'FULL TRUSTEE LIST'!C4555)","v":""}]
[{"$f":"IF('FULL TRUSTEE LIST'!B4556=\"\",\"\",'FULL TRUSTEE LIST'!B4556&\" \"&'FULL TRUSTEE LIST'!C4556)","v":""}]
[{"$f":"IF('FULL TRUSTEE LIST'!B4557=\"\",\"\",'FULL TRUSTEE LIST'!B4557&\" \"&'FULL TRUSTEE LIST'!C4557)","v":""}]
[{"$f":"IF('FULL TRUSTEE LIST'!B4558=\"\",\"\",'FULL TRUSTEE LIST'!B4558&\" \"&'FULL TRUSTEE LIST'!C4558)","v":""}]
[{"$f":"IF('FULL TRUSTEE LIST'!B4559=\"\",\"\",'FULL TRUSTEE LIST'!B4559&\" \"&'FULL TRUSTEE LIST'!C4559)","v":""}]
[{"$f":"IF('FULL TRUSTEE LIST'!B4560=\"\",\"\",'FULL TRUSTEE LIST'!B4560&\" \"&'FULL TRUSTEE LIST'!C4560)","v":""}]
[{"$f":"IF('FULL TRUSTEE LIST'!B4561=\"\",\"\",'FULL TRUSTEE LIST'!B4561&\" \"&'FULL TRUSTEE LIST'!C4561)","v":""}]
[{"$f":"IF('FULL TRUSTEE LIST'!B4562=\"\",\"\",'FULL TRUSTEE LIST'!B4562&\" \"&'FULL TRUSTEE LIST'!C4562)","v":""}]
[{"$f":"IF('FULL TRUSTEE LIST'!B4563=\"\",\"\",'FULL TRUSTEE LIST'!B4563&\" \"&'FULL TRUSTEE LIST'!C4563)","v":""}]
[{"$f":"IF('FULL TRUSTEE LIST'!B4564=\"\",\"\",'FULL TRUSTEE LIST'!B4564&\" \"&'FULL TRUSTEE LIST'!C4564)","v":""}]
[{"$f":"IF('FULL TRUSTEE LIST'!B4565=\"\",\"\",'FULL TRUSTEE LIST'!B4565&\" \"&'FULL TRUSTEE LIST'!C4565)","v":""}]
[{"$f":"IF('FULL TRUSTEE LIST'!B4566=\"\",\"\",'FULL TRUSTEE LIST'!B4566&\" \"&'FULL TRUSTEE LIST'!C4566)","v":""}]
[{"$f":"IF('FULL TRUSTEE LIST'!B4567=\"\",\"\",'FULL TRUSTEE LIST'!B4567&\" \"&'FULL TRUSTEE LIST'!C4567)","v":""}]
[{"$f":"IF('FULL TRUSTEE LIST'!B4568=\"\",\"\",'FULL TRUSTEE LIST'!B4568&\" \"&'FULL TRUSTEE LIST'!C4568)","v":""}]
[{"$f":"IF('FULL TRUSTEE LIST'!B4569=\"\",\"\",'FULL TRUSTEE LIST'!B4569&\" \"&'FULL TRUSTEE LIST'!C4569)","v":""}]
[{"$f":"IF('FULL TRUSTEE LIST'!B4570=\"\",\"\",'FULL TRUSTEE LIST'!B4570&\" \"&'FULL TRUSTEE LIST'!C4570)","v":""}]
[{"$f":"IF('FULL TRUSTEE LIST'!B4571=\"\",\"\",'FULL TRUSTEE LIST'!B4571&\" \"&'FULL TRUSTEE LIST'!C4571)","v":""}]
[{"$f":"IF('FULL TRUSTEE LIST'!B4572=\"\",\"\",'FULL TRUSTEE LIST'!B4572&\" \"&'FULL TRUSTEE LIST'!C4572)","v":""}]
[{"$f":"IF('FULL TRUSTEE LIST'!B4573=\"\",\"\",'FULL TRUSTEE LIST'!B4573&\" \"&'FULL TRUSTEE LIST'!C4573)","v":""}]
[{"$f":"IF('FULL TRUSTEE LIST'!B4574=\"\",\"\",'FULL TRUSTEE LIST'!B4574&\" \"&'FULL TRUSTEE LIST'!C4574)","v":""}]
[{"$f":"IF('FULL TRUSTEE LIST'!B4575=\"\",\"\",'FULL TRUSTEE LIST'!B4575&\" \"&'FULL TRUSTEE LIST'!C4575)","v":""}]
[{"$f":"IF('FULL TRUSTEE LIST'!B4576=\"\",\"\",'FULL TRUSTEE LIST'!B4576&\" \"&'FULL TRUSTEE LIST'!C4576)","v":""}]
[{"$f":"IF('FULL TRUSTEE LIST'!B4577=\"\",\"\",'FULL TRUSTEE LIST'!B4577&\" \"&'FULL TRUSTEE LIST'!C4577)","v":""}]
[{"$f":"IF('FULL TRUSTEE LIST'!B4578=\"\",\"\",'FULL TRUSTEE LIST'!B4578&\" \"&'FULL TRUSTEE LIST'!C4578)","v":""}]
[{"$f":"IF('FULL TRUSTEE LIST'!B4579=\"\",\"\",'FULL TRUSTEE LIST'!B4579&\" \"&'FULL TRUSTEE LIST'!C4579)","v":""}]
[{"$f":"IF('FULL TRUSTEE LIST'!B4580=\"\",\"\",'FULL TRUSTEE LIST'!B4580&\" \"&'FULL TRUSTEE LIST'!C4580)","v":""}]
[{"$f":"IF('FULL TRUSTEE LIST'!B4581=\"\",\"\",'FULL TRUSTEE LIST'!B4581&\" \"&'FULL TRUSTEE LIST'!C4581)","v":""}]
[{"$f":"IF('FULL TRUSTEE LIST'!B4582=\"\",\"\",'FULL TRUSTEE LIST'!B4582&\" \"&'FULL TRUSTEE LIST'!C4582)","v":""}]
[{"$f":"IF('FULL TRUSTEE LIST'!B4583=\"\",\"\",'FULL TRUSTEE LIST'!B4583&\" \"&'FULL TRUSTEE LIST'!C4583)","v":""}]
[{"$f":"IF('FULL TRUSTEE LIST'!B4584=\"\",\"\",'FULL TRUSTEE LIST'!B4584&\" \"&'FULL TRUSTEE LIST'!C4584)","v":""}]
[{"$f":"IF('FULL TRUSTEE LIST'!B4585=\"\",\"\",'FULL TRUSTEE LIST'!B4585&\" \"&'FULL TRUSTEE LIST'!C4585)","v":""}]
[{"$f":"IF('FULL TRUSTEE LIST'!B4586=\"\",\"\",'FULL TRUSTEE LIST'!B4586&\" \"&'FULL TRUSTEE LIST'!C4586)","v":""}]
[{"$f":"IF('FULL TRUSTEE LIST'!B4587=\"\",\"\",'FULL TRUSTEE LIST'!B4587&\" \"&'FULL TRUSTEE LIST'!C4587)","v":""}]
[{"$f":"IF('FULL TRUSTEE LIST'!B4588=\"\",\"\",'FULL TRUSTEE LIST'!B4588&\" \"&'FULL TRUSTEE LIST'!C4588)","v":""}]
[{"$f":"IF('FULL TRUSTEE LIST'!B4589=\"\",\"\",'FULL TRUSTEE LIST'!B4589&\" \"&'FULL TRUSTEE LIST'!C4589)","v":""}]
[{"$f":"IF('FULL TRUSTEE LIST'!B4590=\"\",\"\",'FULL TRUSTEE LIST'!B4590&\" \"&'FULL TRUSTEE LIST'!C4590)","v":""}]
[{"$f":"IF('FULL TRUSTEE LIST'!B4591=\"\",\"\",'FULL TRUSTEE LIST'!B4591&\" \"&'FULL TRUSTEE LIST'!C4591)","v":""}]
[{"$f":"IF('FULL TRUSTEE LIST'!B4592=\"\",\"\",'FULL TRUSTEE LIST'!B4592&\" \"&'FULL TRUSTEE LIST'!C4592)","v":""}]
[{"$f":"IF('FULL TRUSTEE LIST'!B4593=\"\",\"\",'FULL TRUSTEE LIST'!B4593&\" \"&'FULL TRUSTEE LIST'!C4593)","v":""}]
[{"$f":"IF('FULL TRUSTEE LIST'!B4594=\"\",\"\",'FULL TRUSTEE LIST'!B4594&\" \"&'FULL TRUSTEE LIST'!C4594)","v":""}]
[{"$f":"IF('FULL TRUSTEE LIST'!B4595=\"\",\"\",'FULL TRUSTEE LIST'!B4595&\" \"&'FULL TRUSTEE LIST'!C4595)","v":""}]
[{"$f":"IF('FULL TRUSTEE LIST'!B4596=\"\",\"\",'FULL TRUSTEE LIST'!B4596&\" \"&'FULL TRUSTEE LIST'!C4596)","v":""}]
[{"$f":"IF('FULL TRUSTEE LIST'!B4597=\"\",\"\",'FULL TRUSTEE LIST'!B4597&\" \"&'FULL TRUSTEE LIST'!C4597)","v":""}]
[{"$f":"IF('FULL TRUSTEE LIST'!B4598=\"\",\"\",'FULL TRUSTEE LIST'!B4598&\" \"&'FULL TRUSTEE LIST'!C4598)","v":""}]
[{"$f":"IF('FULL TRUSTEE LIST'!B4599=\"\",\"\",'FULL TRUSTEE LIST'!B4599&\" \"&'FULL TRUSTEE LIST'!C4599)","v":""}]
[{"$f":"IF('FULL TRUSTEE LIST'!B4600=\"\",\"\",'FULL TRUSTEE LIST'!B4600&\" \"&'FULL TRUSTEE LIST'!C4600)","v":""}]
[{"$f":"IF('FULL TRUSTEE LIST'!B4601=\"\",\"\",'FULL TRUSTEE LIST'!B4601&\" \"&'FULL TRUSTEE LIST'!C4601)","v":""}]
[{"$f":"IF('FULL TRUSTEE LIST'!B4602=\"\",\"\",'FULL TRUSTEE LIST'!B4602&\" \"&'FULL TRUSTEE LIST'!C4602)","v":""}]
[{"$f":"IF('FULL TRUSTEE LIST'!B4603=\"\",\"\",'FULL TRUSTEE LIST'!B4603&\" \"&'FULL TRUSTEE LIST'!C4603)","v":""}]
[{"$f":"IF('FULL TRUSTEE LIST'!B4604=\"\",\"\",'FULL TRUSTEE LIST'!B4604&\" \"&'FULL TRUSTEE LIST'!C4604)","v":""}]
[{"$f":"IF('FULL TRUSTEE LIST'!B4605=\"\",\"\",'FULL TRUSTEE LIST'!B4605&\" \"&'FULL TRUSTEE LIST'!C4605)","v":""}]
[{"$f":"IF('FULL TRUSTEE LIST'!B4606=\"\",\"\",'FULL TRUSTEE LIST'!B4606&\" \"&'FULL TRUSTEE LIST'!C4606)","v":""}]
[{"$f":"IF('FULL TRUSTEE LIST'!B4607=\"\",\"\",'FULL TRUSTEE LIST'!B4607&\" \"&'FULL TRUSTEE LIST'!C4607)","v":""}]
[{"$f":"IF('FULL TRUSTEE LIST'!B4608=\"\",\"\",'FULL TRUSTEE LIST'!B4608&\" \"&'FULL TRUSTEE LIST'!C4608)","v":""}]
[{"$f":"IF('FULL TRUSTEE LIST'!B4609=\"\",\"\",'FULL TRUSTEE LIST'!B4609&\" \"&'FULL TRUSTEE LIST'!C4609)","v":""}]
[{"$f":"IF('FULL TRUSTEE LIST'!B4610=\"\",\"\",'FULL TRUSTEE LIST'!B4610&\" \"&'FULL TRUSTEE LIST'!C4610)","v":""}]
[{"$f":"IF('FULL TRUSTEE LIST'!B4611=\"\",\"\",'FULL TRUSTEE LIST'!B4611&\" \"&'FULL TRUSTEE LIST'!C4611)","v":""}]
[{"$f":"IF('FULL TRUSTEE LIST'!B4612=\"\",\"\",'FULL TRUSTEE LIST'!B4612&\" \"&'FULL TRUSTEE LIST'!C4612)","v":""}]
[{"$f":"IF('FULL TRUSTEE LIST'!B4613=\"\",\"\",'FULL TRUSTEE LIST'!B4613&\" \"&'FULL TRUSTEE LIST'!C4613)","v":""}]
[{"$f":"IF('FULL TRUSTEE LIST'!B4614=\"\",\"\",'FULL TRUSTEE LIST'!B4614&\" \"&'FULL TRUSTEE LIST'!C4614)","v":""}]
[{"$f":"IF('FULL TRUSTEE LIST'!B4615=\"\",\"\",'FULL TRUSTEE LIST'!B4615&\" \"&'FULL TRUSTEE LIST'!C4615)","v":""}]
[{"$f":"IF('FULL TRUSTEE LIST'!B4616=\"\",\"\",'FULL TRUSTEE LIST'!B4616&\" \"&'FULL TRUSTEE LIST'!C4616)","v":""}]
[{"$f":"IF('FULL TRUSTEE LIST'!B4617=\"\",\"\",'FULL TRUSTEE LIST'!B4617&\" \"&'FULL TRUSTEE LIST'!C4617)","v":""}]
[{"$f":"IF('FULL TRUSTEE LIST'!B4618=\"\",\"\",'FULL TRUSTEE LIST'!B4618&\" \"&'FULL TRUSTEE LIST'!C4618)","v":""}]
[{"$f":"IF('FULL TRUSTEE LIST'!B4619=\"\",\"\",'FULL TRUSTEE LIST'!B4619&\" \"&'FULL TRUSTEE LIST'!C4619)","v":""}]
[{"$f":"IF('FULL TRUSTEE LIST'!B4620=\"\",\"\",'FULL TRUSTEE LIST'!B4620&\" \"&'FULL TRUSTEE LIST'!C4620)","v":""}]
[{"$f":"IF('FULL TRUSTEE LIST'!B4621=\"\",\"\",'FULL TRUSTEE LIST'!B4621&\" \"&'FULL TRUSTEE LIST'!C4621)","v":""}]
[{"$f":"IF('FULL TRUSTEE LIST'!B4622=\"\",\"\",'FULL TRUSTEE LIST'!B4622&\" \"&'FULL TRUSTEE LIST'!C4622)","v":""}]
[{"$f":"IF('FULL TRUSTEE LIST'!B4623=\"\",\"\",'FULL TRUSTEE LIST'!B4623&\" \"&'FULL TRUSTEE LIST'!C4623)","v":""}]
[{"$f":"IF('FULL TRUSTEE LIST'!B4624=\"\",\"\",'FULL TRUSTEE LIST'!B4624&\" \"&'FULL TRUSTEE LIST'!C4624)","v":""}]
[{"$f":"IF('FULL TRUSTEE LIST'!B4625=\"\",\"\",'FULL TRUSTEE LIST'!B4625&\" \"&'FULL TRUSTEE LIST'!C4625)","v":""}]
[{"$f":"IF('FULL TRUSTEE LIST'!B4626=\"\",\"\",'FULL TRUSTEE LIST'!B4626&\" \"&'FULL TRUSTEE LIST'!C4626)","v":""}]
[{"$f":"IF('FULL TRUSTEE LIST'!B4627=\"\",\"\",'FULL TRUSTEE LIST'!B4627&\" \"&'FULL TRUSTEE LIST'!C4627)","v":""}]
[{"$f":"IF('FULL TRUSTEE LIST'!B4628=\"\",\"\",'FULL TRUSTEE LIST'!B4628&\" \"&'FULL TRUSTEE LIST'!C4628)","v":""}]
[{"$f":"IF('FULL TRUSTEE LIST'!B4629=\"\",\"\",'FULL TRUSTEE LIST'!B4629&\" \"&'FULL TRUSTEE LIST'!C4629)","v":""}]
[{"$f":"IF('FULL TRUSTEE LIST'!B4630=\"\",\"\",'FULL TRUSTEE LIST'!B4630&\" \"&'FULL TRUSTEE LIST'!C4630)","v":""}]
[{"$f":"IF('FULL TRUSTEE LIST'!B4631=\"\",\"\",'FULL TRUSTEE LIST'!B4631&\" \"&'FULL TRUSTEE LIST'!C4631)","v":""}]
[{"$f":"IF('FULL TRUSTEE LIST'!B4632=\"\",\"\",'FULL TRUSTEE LIST'!B4632&\" \"&'FULL TRUSTEE LIST'!C4632)","v":""}]
[{"$f":"IF('FULL TRUSTEE LIST'!B4633=\"\",\"\",'FULL TRUSTEE LIST'!B4633&\" \"&'FULL TRUSTEE LIST'!C4633)","v":""}]
[{"$f":"IF('FULL TRUSTEE LIST'!B4634=\"\",\"\",'FULL TRUSTEE LIST'!B4634&\" \"&'FULL TRUSTEE LIST'!C4634)","v":""}]
[{"$f":"IF('FULL TRUSTEE LIST'!B4635=\"\",\"\",'FULL TRUSTEE LIST'!B4635&\" \"&'FULL TRUSTEE LIST'!C4635)","v":""}]
[{"$f":"IF('FULL TRUSTEE LIST'!B4636=\"\",\"\",'FULL TRUSTEE LIST'!B4636&\" \"&'FULL TRUSTEE LIST'!C4636)","v":""}]
[{"$f":"IF('FULL TRUSTEE LIST'!B4637=\"\",\"\",'FULL TRUSTEE LIST'!B4637&\" \"&'FULL TRUSTEE LIST'!C4637)","v":""}]
[{"$f":"IF('FULL TRUSTEE LIST'!B4638=\"\",\"\",'FULL TRUSTEE LIST'!B4638&\" \"&'FULL TRUSTEE LIST'!C4638)","v":""}]
[{"$f":"IF('FULL TRUSTEE LIST'!B4639=\"\",\"\",'FULL TRUSTEE LIST'!B4639&\" \"&'FULL TRUSTEE LIST'!C4639)","v":""}]
[{"$f":"IF('FULL TRUSTEE LIST'!B4640=\"\",\"\",'FULL TRUSTEE LIST'!B4640&\" \"&'FULL TRUSTEE LIST'!C4640)","v":""}]
[{"$f":"IF('FULL TRUSTEE LIST'!B4641=\"\",\"\",'FULL TRUSTEE LIST'!B4641&\" \"&'FULL TRUSTEE LIST'!C4641)","v":""}]
[{"$f":"IF('FULL TRUSTEE LIST'!B4642=\"\",\"\",'FULL TRUSTEE LIST'!B4642&\" \"&'FULL TRUSTEE LIST'!C4642)","v":""}]
[{"$f":"IF('FULL TRUSTEE LIST'!B4643=\"\",\"\",'FULL TRUSTEE LIST'!B4643&\" \"&'FULL TRUSTEE LIST'!C4643)","v":""}]
[{"$f":"IF('FULL TRUSTEE LIST'!B4644=\"\",\"\",'FULL TRUSTEE LIST'!B4644&\" \"&'FULL TRUSTEE LIST'!C4644)","v":""}]
[{"$f":"IF('FULL TRUSTEE LIST'!B4645=\"\",\"\",'FULL TRUSTEE LIST'!B4645&\" \"&'FULL TRUSTEE LIST'!C4645)","v":""}]
[{"$f":"IF('FULL TRUSTEE LIST'!B4646=\"\",\"\",'FULL TRUSTEE LIST'!B4646&\" \"&'FULL TRUSTEE LIST'!C4646)","v":""}]
[{"$f":"IF('FULL TRUSTEE LIST'!B4647=\"\",\"\",'FULL TRUSTEE LIST'!B4647&\" \"&'FULL TRUSTEE LIST'!C4647)","v":""}]
[{"$f":"IF('FULL TRUSTEE LIST'!B4648=\"\",\"\",'FULL TRUSTEE LIST'!B4648&\" \"&'FULL TRUSTEE LIST'!C4648)","v":""}]
[{"$f":"IF('FULL TRUSTEE LIST'!B4649=\"\",\"\",'FULL TRUSTEE LIST'!B4649&\" \"&'FULL TRUSTEE LIST'!C4649)","v":""}]
[{"$f":"IF('FULL TRUSTEE LIST'!B4650=\"\",\"\",'FULL TRUSTEE LIST'!B4650&\" \"&'FULL TRUSTEE LIST'!C4650)","v":""}]
[{"$f":"IF('FULL TRUSTEE LIST'!B4651=\"\",\"\",'FULL TRUSTEE LIST'!B4651&\" \"&'FULL TRUSTEE LIST'!C4651)","v":""}]
[{"$f":"IF('FULL TRUSTEE LIST'!B4652=\"\",\"\",'FULL TRUSTEE LIST'!B4652&\" \"&'FULL TRUSTEE LIST'!C4652)","v":""}]
[{"$f":"IF('FULL TRUSTEE LIST'!B4653=\"\",\"\",'FULL TRUSTEE LIST'!B4653&\" \"&'FULL TRUSTEE LIST'!C4653)","v":""}]
[{"$f":"IF('FULL TRUSTEE LIST'!B4654=\"\",\"\",'FULL TRUSTEE LIST'!B4654&\" \"&'FULL TRUSTEE LIST'!C4654)","v":""}]
[{"$f":"IF('FULL TRUSTEE LIST'!B4655=\"\",\"\",'FULL TRUSTEE LIST'!B4655&\" \"&'FULL TRUSTEE LIST'!C4655)","v":""}]
[{"$f":"IF('FULL TRUSTEE LIST'!B4656=\"\",\"\",'FULL TRUSTEE LIST'!B4656&\" \"&'FULL TRUSTEE LIST'!C4656)","v":""}]
[{"$f":"IF('FULL TRUSTEE LIST'!B4657=\"\",\"\",'FULL TRUSTEE LIST'!B4657&\" \"&'FULL TRUSTEE LIST'!C4657)","v":""}]
[{"$f":"IF('FULL TRUSTEE LIST'!B4658=\"\",\"\",'FULL TRUSTEE LIST'!B4658&\" \"&'FULL TRUSTEE LIST'!C4658)","v":""}]
[{"$f":"IF('FULL TRUSTEE LIST'!B4659=\"\",\"\",'FULL TRUSTEE LIST'!B4659&\" \"&'FULL TRUSTEE LIST'!C4659)","v":""}]
[{"$f":"IF('FULL TRUSTEE LIST'!B4660=\"\",\"\",'FULL TRUSTEE LIST'!B4660&\" \"&'FULL TRUSTEE LIST'!C4660)","v":""}]
[{"$f":"IF('FULL TRUSTEE LIST'!B4661=\"\",\"\",'FULL TRUSTEE LIST'!B4661&\" \"&'FULL TRUSTEE LIST'!C4661)","v":""}]
[{"$f":"IF('FULL TRUSTEE LIST'!B4662=\"\",\"\",'FULL TRUSTEE LIST'!B4662&\" \"&'FULL TRUSTEE LIST'!C4662)","v":""}]
[{"$f":"IF('FULL TRUSTEE LIST'!B4663=\"\",\"\",'FULL TRUSTEE LIST'!B4663&\" \"&'FULL TRUSTEE LIST'!C4663)","v":""}]
[{"$f":"IF('FULL TRUSTEE LIST'!B4664=\"\",\"\",'FULL TRUSTEE LIST'!B4664&\" \"&'FULL TRUSTEE LIST'!C4664)","v":""}]
[{"$f":"IF('FULL TRUSTEE LIST'!B4665=\"\",\"\",'FULL TRUSTEE LIST'!B4665&\" \"&'FULL TRUSTEE LIST'!C4665)","v":""}]
[{"$f":"IF('FULL TRUSTEE LIST'!B4666=\"\",\"\",'FULL TRUSTEE LIST'!B4666&\" \"&'FULL TRUSTEE LIST'!C4666)","v":""}]
[{"$f":"IF('FULL TRUSTEE LIST'!B4667=\"\",\"\",'FULL TRUSTEE LIST'!B4667&\" \"&'FULL TRUSTEE LIST'!C4667)","v":""}]
[{"$f":"IF('FULL TRUSTEE LIST'!B4668=\"\",\"\",'FULL TRUSTEE LIST'!B4668&\" \"&'FULL TRUSTEE LIST'!C4668)","v":""}]
[{"$f":"IF('FULL TRUSTEE LIST'!B4669=\"\",\"\",'FULL TRUSTEE LIST'!B4669&\" \"&'FULL TRUSTEE LIST'!C4669)","v":""}]
[{"$f":"IF('FULL TRUSTEE LIST'!B4670=\"\",\"\",'FULL TRUSTEE LIST'!B4670&\" \"&'FULL TRUSTEE LIST'!C4670)","v":""}]
[{"$f":"IF('FULL TRUSTEE LIST'!B4671=\"\",\"\",'FULL TRUSTEE LIST'!B4671&\" \"&'FULL TRUSTEE LIST'!C4671)","v":""}]
[{"$f":"IF('FULL TRUSTEE LIST'!B4672=\"\",\"\",'FULL TRUSTEE LIST'!B4672&\" \"&'FULL TRUSTEE LIST'!C4672)","v":""}]
[{"$f":"IF('FULL TRUSTEE LIST'!B4673=\"\",\"\",'FULL TRUSTEE LIST'!B4673&\" \"&'FULL TRUSTEE LIST'!C4673)","v":""}]
[{"$f":"IF('FULL TRUSTEE LIST'!B4674=\"\",\"\",'FULL TRUSTEE LIST'!B4674&\" \"&'FULL TRUSTEE LIST'!C4674)","v":""}]
[{"$f":"IF('FULL TRUSTEE LIST'!B4675=\"\",\"\",'FULL TRUSTEE LIST'!B4675&\" \"&'FULL TRUSTEE LIST'!C4675)","v":""}]
[{"$f":"IF('FULL TRUSTEE LIST'!B4676=\"\",\"\",'FULL TRUSTEE LIST'!B4676&\" \"&'FULL TRUSTEE LIST'!C4676)","v":""}]
[{"$f":"IF('FULL TRUSTEE LIST'!B4677=\"\",\"\",'FULL TRUSTEE LIST'!B4677&\" \"&'FULL TRUSTEE LIST'!C4677)","v":""}]
[{"$f":"IF('FULL TRUSTEE LIST'!B4678=\"\",\"\",'FULL TRUSTEE LIST'!B4678&\" \"&'FULL TRUSTEE LIST'!C4678)","v":""}]
[{"$f":"IF('FULL TRUSTEE LIST'!B4679=\"\",\"\",'FULL TRUSTEE LIST'!B4679&\" \"&'FULL TRUSTEE LIST'!C4679)","v":""}]
[{"$f":"IF('FULL TRUSTEE LIST'!B4680=\"\",\"\",'FULL TRUSTEE LIST'!B4680&\" \"&'FULL TRUSTEE LIST'!C4680)","v":""}]
[{"$f":"IF('FULL TRUSTEE LIST'!B4681=\"\",\"\",'FULL TRUSTEE LIST'!B4681&\" \"&'FULL TRUSTEE LIST'!C4681)","v":""}]
[{"$f":"IF('FULL TRUSTEE LIST'!B4682=\"\",\"\",'FULL TRUSTEE LIST'!B4682&\" \"&'FULL TRUSTEE LIST'!C4682)","v":""}]
[{"$f":"IF('FULL TRUSTEE LIST'!B4683=\"\",\"\",'FULL TRUSTEE LIST'!B4683&\" \"&'FULL TRUSTEE LIST'!C4683)","v":""}]
[{"$f":"IF('FULL TRUSTEE LIST'!B4684=\"\",\"\",'FULL TRUSTEE LIST'!B4684&\" \"&'FULL TRUSTEE LIST'!C4684)","v":""}]
[{"$f":"IF('FULL TRUSTEE LIST'!B4685=\"\",\"\",'FULL TRUSTEE LIST'!B4685&\" \"&'FULL TRUSTEE LIST'!C4685)","v":""}]
[{"$f":"IF('FULL TRUSTEE LIST'!B4686=\"\",\"\",'FULL TRUSTEE LIST'!B4686&\" \"&'FULL TRUSTEE LIST'!C4686)","v":""}]
[{"$f":"IF('FULL TRUSTEE LIST'!B4687=\"\",\"\",'FULL TRUSTEE LIST'!B4687&\" \"&'FULL TRUSTEE LIST'!C4687)","v":""}]
[{"$f":"IF('FULL TRUSTEE LIST'!B4688=\"\",\"\",'FULL TRUSTEE LIST'!B4688&\" \"&'FULL TRUSTEE LIST'!C4688)","v":""}]
[{"$f":"IF('FULL TRUSTEE LIST'!B4689=\"\",\"\",'FULL TRUSTEE LIST'!B4689&\" \"&'FULL TRUSTEE LIST'!C4689)","v":""}]
[{"$f":"IF('FULL TRUSTEE LIST'!B4690=\"\",\"\",'FULL TRUSTEE LIST'!B4690&\" \"&'FULL TRUSTEE LIST'!C4690)","v":""}]
[{"$f":"IF('FULL TRUSTEE LIST'!B4691=\"\",\"\",'FULL TRUSTEE LIST'!B4691&\" \"&'FULL TRUSTEE LIST'!C4691)","v":""}]
[{"$f":"IF('FULL TRUSTEE LIST'!B4692=\"\",\"\",'FULL TRUSTEE LIST'!B4692&\" \"&'FULL TRUSTEE LIST'!C4692)","v":""}]
[{"$f":"IF('FULL TRUSTEE LIST'!B4693=\"\",\"\",'FULL TRUSTEE LIST'!B4693&\" \"&'FULL TRUSTEE LIST'!C4693)","v":""}]
[{"$f":"IF('FULL TRUSTEE LIST'!B4694=\"\",\"\",'FULL TRUSTEE LIST'!B4694&\" \"&'FULL TRUSTEE LIST'!C4694)","v":""}]
[{"$f":"IF('FULL TRUSTEE LIST'!B4695=\"\",\"\",'FULL TRUSTEE LIST'!B4695&\" \"&'FULL TRUSTEE LIST'!C4695)","v":""}]
[{"$f":"IF('FULL TRUSTEE LIST'!B4696=\"\",\"\",'FULL TRUSTEE LIST'!B4696&\" \"&'FULL TRUSTEE LIST'!C4696)","v":""}]
[{"$f":"IF('FULL TRUSTEE LIST'!B4697=\"\",\"\",'FULL TRUSTEE LIST'!B4697&\" \"&'FULL TRUSTEE LIST'!C4697)","v":""}]
[{"$f":"IF('FULL TRUSTEE LIST'!B4698=\"\",\"\",'FULL TRUSTEE LIST'!B4698&\" \"&'FULL TRUSTEE LIST'!C4698)","v":""}]
[{"$f":"IF('FULL TRUSTEE LIST'!B4699=\"\",\"\",'FULL TRUSTEE LIST'!B4699&\" \"&'FULL TRUSTEE LIST'!C4699)","v":""}]
[{"$f":"IF('FULL TRUSTEE LIST'!B4700=\"\",\"\",'FULL TRUSTEE LIST'!B4700&\" \"&'FULL TRUSTEE LIST'!C4700)","v":""}]
[{"$f":"IF('FULL TRUSTEE LIST'!B4701=\"\",\"\",'FULL TRUSTEE LIST'!B4701&\" \"&'FULL TRUSTEE LIST'!C4701)","v":""}]
[{"$f":"IF('FULL TRUSTEE LIST'!B4702=\"\",\"\",'FULL TRUSTEE LIST'!B4702&\" \"&'FULL TRUSTEE LIST'!C4702)","v":""}]
[{"$f":"IF('FULL TRUSTEE LIST'!B4703=\"\",\"\",'FULL TRUSTEE LIST'!B4703&\" \"&'FULL TRUSTEE LIST'!C4703)","v":""}]
[{"$f":"IF('FULL TRUSTEE LIST'!B4704=\"\",\"\",'FULL TRUSTEE LIST'!B4704&\" \"&'FULL TRUSTEE LIST'!C4704)","v":""}]
[{"$f":"IF('FULL TRUSTEE LIST'!B4705=\"\",\"\",'FULL TRUSTEE LIST'!B4705&\" \"&'FULL TRUSTEE LIST'!C4705)","v":""}]
[{"$f":"IF('FULL TRUSTEE LIST'!B4706=\"\",\"\",'FULL TRUSTEE LIST'!B4706&\" \"&'FULL TRUSTEE LIST'!C4706)","v":""}]
[{"$f":"IF('FULL TRUSTEE LIST'!B4707=\"\",\"\",'FULL TRUSTEE LIST'!B4707&\" \"&'FULL TRUSTEE LIST'!C4707)","v":""}]
[{"$f":"IF('FULL TRUSTEE LIST'!B4708=\"\",\"\",'FULL TRUSTEE LIST'!B4708&\" \"&'FULL TRUSTEE LIST'!C4708)","v":""}]
[{"$f":"IF('FULL TRUSTEE LIST'!B4709=\"\",\"\",'FULL TRUSTEE LIST'!B4709&\" \"&'FULL TRUSTEE LIST'!C4709)","v":""}]
[{"$f":"IF('FULL TRUSTEE LIST'!B4710=\"\",\"\",'FULL TRUSTEE LIST'!B4710&\" \"&'FULL TRUSTEE LIST'!C4710)","v":""}]
[{"$f":"IF('FULL TRUSTEE LIST'!B4711=\"\",\"\",'FULL TRUSTEE LIST'!B4711&\" \"&'FULL TRUSTEE LIST'!C4711)","v":""}]
[{"$f":"IF('FULL TRUSTEE LIST'!B4712=\"\",\"\",'FULL TRUSTEE LIST'!B4712&\" \"&'FULL TRUSTEE LIST'!C4712)","v":""}]
[{"$f":"IF('FULL TRUSTEE LIST'!B4713=\"\",\"\",'FULL TRUSTEE LIST'!B4713&\" \"&'FULL TRUSTEE LIST'!C4713)","v":""}]
[{"$f":"IF('FULL TRUSTEE LIST'!B4714=\"\",\"\",'FULL TRUSTEE LIST'!B4714&\" \"&'FULL TRUSTEE LIST'!C4714)","v":""}]
[{"$f":"IF('FULL TRUSTEE LIST'!B4715=\"\",\"\",'FULL TRUSTEE LIST'!B4715&\" \"&'FULL TRUSTEE LIST'!C4715)","v":""}]
[{"$f":"IF('FULL TRUSTEE LIST'!B4716=\"\",\"\",'FULL TRUSTEE LIST'!B4716&\" \"&'FULL TRUSTEE LIST'!C4716)","v":""}]
[{"$f":"IF('FULL TRUSTEE LIST'!B4717=\"\",\"\",'FULL TRUSTEE LIST'!B4717&\" \"&'FULL TRUSTEE LIST'!C4717)","v":""}]
[{"$f":"IF('FULL TRUSTEE LIST'!B4718=\"\",\"\",'FULL TRUSTEE LIST'!B4718&\" \"&'FULL TRUSTEE LIST'!C4718)","v":""}]
[{"$f":"IF('FULL TRUSTEE LIST'!B4719=\"\",\"\",'FULL TRUSTEE LIST'!B4719&\" \"&'FULL TRUSTEE LIST'!C4719)","v":""}]
[{"$f":"IF('FULL TRUSTEE LIST'!B4720=\"\",\"\",'FULL TRUSTEE LIST'!B4720&\" \"&'FULL TRUSTEE LIST'!C4720)","v":""}]
[{"$f":"IF('FULL TRUSTEE LIST'!B4721=\"\",\"\",'FULL TRUSTEE LIST'!B4721&\" \"&'FULL TRUSTEE LIST'!C4721)","v":""}]
[{"$f":"IF('FULL TRUSTEE LIST'!B4722=\"\",\"\",'FULL TRUSTEE LIST'!B4722&\" \"&'FULL TRUSTEE LIST'!C4722)","v":""}]
[{"$f":"IF('FULL TRUSTEE LIST'!B4723=\"\",\"\",'FULL TRUSTEE LIST'!B4723&\" \"&'FULL TRUSTEE LIST'!C4723)","v":""}]
[{"$f":"IF('FULL TRUSTEE LIST'!B4724=\"\",\"\",'FULL TRUSTEE LIST'!B4724&\" \"&'FULL TRUSTEE LIST'!C4724)","v":""}]
[{"$f":"IF('FULL TRUSTEE LIST'!B4725=\"\",\"\",'FULL TRUSTEE LIST'!B4725&\" \"&'FULL TRUSTEE LIST'!C4725)","v":""}]
[{"$f":"IF('FULL TRUSTEE LIST'!B4726=\"\",\"\",'FULL TRUSTEE LIST'!B4726&\" \"&'FULL TRUSTEE LIST'!C4726)","v":""}]
[{"$f":"IF('FULL TRUSTEE LIST'!B4727=\"\",\"\",'FULL TRUSTEE LIST'!B4727&\" \"&'FULL TRUSTEE LIST'!C4727)","v":""}]
[{"$f":"IF('FULL TRUSTEE LIST'!B4728=\"\",\"\",'FULL TRUSTEE LIST'!B4728&\" \"&'FULL TRUSTEE LIST'!C4728)","v":""}]
[{"$f":"IF('FULL TRUSTEE LIST'!B4729=\"\",\"\",'FULL TRUSTEE LIST'!B4729&\" \"&'FULL TRUSTEE LIST'!C4729)","v":""}]
[{"$f":"IF('FULL TRUSTEE LIST'!B4730=\"\",\"\",'FULL TRUSTEE LIST'!B4730&\" \"&'FULL TRUSTEE LIST'!C4730)","v":""}]
[{"$f":"IF('FULL TRUSTEE LIST'!B4731=\"\",\"\",'FULL TRUSTEE LIST'!B4731&\" \"&'FULL TRUSTEE LIST'!C4731)","v":""}]
[{"$f":"IF('FULL TRUSTEE LIST'!B4732=\"\",\"\",'FULL TRUSTEE LIST'!B4732&\" \"&'FULL TRUSTEE LIST'!C4732)","v":""}]
[{"$f":"IF('FULL TRUSTEE LIST'!B4733=\"\",\"\",'FULL TRUSTEE LIST'!B4733&\" \"&'FULL TRUSTEE LIST'!C4733)","v":""}]
[{"$f":"IF('FULL TRUSTEE LIST'!B4734=\"\",\"\",'FULL TRUSTEE LIST'!B4734&\" \"&'FULL TRUSTEE LIST'!C4734)","v":""}]
[{"$f":"IF('FULL TRUSTEE LIST'!B4735=\"\",\"\",'FULL TRUSTEE LIST'!B4735&\" \"&'FULL TRUSTEE LIST'!C4735)","v":""}]
[{"$f":"IF('FULL TRUSTEE LIST'!B4736=\"\",\"\",'FULL TRUSTEE LIST'!B4736&\" \"&'FULL TRUSTEE LIST'!C4736)","v":""}]
[{"$f":"IF('FULL TRUSTEE LIST'!B4737=\"\",\"\",'FULL TRUSTEE LIST'!B4737&\" \"&'FULL TRUSTEE LIST'!C4737)","v":""}]
[{"$f":"IF('FULL TRUSTEE LIST'!B4738=\"\",\"\",'FULL TRUSTEE LIST'!B4738&\" \"&'FULL TRUSTEE LIST'!C4738)","v":""}]
[{"$f":"IF('FULL TRUSTEE LIST'!B4739=\"\",\"\",'FULL TRUSTEE LIST'!B4739&\" \"&'FULL TRUSTEE LIST'!C4739)","v":""}]
[{"$f":"IF('FULL TRUSTEE LIST'!B4740=\"\",\"\",'FULL TRUSTEE LIST'!B4740&\" \"&'FULL TRUSTEE LIST'!C4740)","v":""}]
[{"$f":"IF('FULL TRUSTEE LIST'!B4741=\"\",\"\",'FULL TRUSTEE LIST'!B4741&\" \"&'FULL TRUSTEE LIST'!C4741)","v":""}]
[{"$f":"IF('FULL TRUSTEE LIST'!B4742=\"\",\"\",'FULL TRUSTEE LIST'!B4742&\" \"&'FULL TRUSTEE LIST'!C4742)","v":""}]
[{"$f":"IF('FULL TRUSTEE LIST'!B4743=\"\",\"\",'FULL TRUSTEE LIST'!B4743&\" \"&'FULL TRUSTEE LIST'!C4743)","v":""}]
[{"$f":"IF('FULL TRUSTEE LIST'!B4744=\"\",\"\",'FULL TRUSTEE LIST'!B4744&\" \"&'FULL TRUSTEE LIST'!C4744)","v":""}]
[{"$f":"IF('FULL TRUSTEE LIST'!B4745=\"\",\"\",'FULL TRUSTEE LIST'!B4745&\" \"&'FULL TRUSTEE LIST'!C4745)","v":""}]
[{"$f":"IF('FULL TRUSTEE LIST'!B4746=\"\",\"\",'FULL TRUSTEE LIST'!B4746&\" \"&'FULL TRUSTEE LIST'!C4746)","v":""}]
[{"$f":"IF('FULL TRUSTEE LIST'!B4747=\"\",\"\",'FULL TRUSTEE LIST'!B4747&\" \"&'FULL TRUSTEE LIST'!C4747)","v":""}]
[{"$f":"IF('FULL TRUSTEE LIST'!B4748=\"\",\"\",'FULL TRUSTEE LIST'!B4748&\" \"&'FULL TRUSTEE LIST'!C4748)","v":""}]
[{"$f":"IF('FULL TRUSTEE LIST'!B4749=\"\",\"\",'FULL TRUSTEE LIST'!B4749&\" \"&'FULL TRUSTEE LIST'!C4749)","v":""}]
[{"$f":"IF('FULL TRUSTEE LIST'!B4750=\"\",\"\",'FULL TRUSTEE LIST'!B4750&\" \"&'FULL TRUSTEE LIST'!C4750)","v":""}]
[{"$f":"IF('FULL TRUSTEE LIST'!B4751=\"\",\"\",'FULL TRUSTEE LIST'!B4751&\" \"&'FULL TRUSTEE LIST'!C4751)","v":""}]
[{"$f":"IF('FULL TRUSTEE LIST'!B4752=\"\",\"\",'FULL TRUSTEE LIST'!B4752&\" \"&'FULL TRUSTEE LIST'!C4752)","v":""}]
[{"$f":"IF('FULL TRUSTEE LIST'!B4753=\"\",\"\",'FULL TRUSTEE LIST'!B4753&\" \"&'FULL TRUSTEE LIST'!C4753)","v":""}]
[{"$f":"IF('FULL TRUSTEE LIST'!B4754=\"\",\"\",'FULL TRUSTEE LIST'!B4754&\" \"&'FULL TRUSTEE LIST'!C4754)","v":""}]
[{"$f":"IF('FULL TRUSTEE LIST'!B4755=\"\",\"\",'FULL TRUSTEE LIST'!B4755&\" \"&'FULL TRUSTEE LIST'!C4755)","v":""}]
[{"$f":"IF('FULL TRUSTEE LIST'!B4756=\"\",\"\",'FULL TRUSTEE LIST'!B4756&\" \"&'FULL TRUSTEE LIST'!C4756)","v":""}]
[{"$f":"IF('FULL TRUSTEE LIST'!B4757=\"\",\"\",'FULL TRUSTEE LIST'!B4757&\" \"&'FULL TRUSTEE LIST'!C4757)","v":""}]
[{"$f":"IF('FULL TRUSTEE LIST'!B4758=\"\",\"\",'FULL TRUSTEE LIST'!B4758&\" \"&'FULL TRUSTEE LIST'!C4758)","v":""}]
[{"$f":"IF('FULL TRUSTEE LIST'!B4759=\"\",\"\",'FULL TRUSTEE LIST'!B4759&\" \"&'FULL TRUSTEE LIST'!C4759)","v":""}]
[{"$f":"IF('FULL TRUSTEE LIST'!B4760=\"\",\"\",'FULL TRUSTEE LIST'!B4760&\" \"&'FULL TRUSTEE LIST'!C4760)","v":""}]
[{"$f":"IF('FULL TRUSTEE LIST'!B4761=\"\",\"\",'FULL TRUSTEE LIST'!B4761&\" \"&'FULL TRUSTEE LIST'!C4761)","v":""}]
[{"$f":"IF('FULL TRUSTEE LIST'!B4762=\"\",\"\",'FULL TRUSTEE LIST'!B4762&\" \"&'FULL TRUSTEE LIST'!C4762)","v":""}]
[{"$f":"IF('FULL TRUSTEE LIST'!B4763=\"\",\"\",'FULL TRUSTEE LIST'!B4763&\" \"&'FULL TRUSTEE LIST'!C4763)","v":""}]
[{"$f":"IF('FULL TRUSTEE LIST'!B4764=\"\",\"\",'FULL TRUSTEE LIST'!B4764&\" \"&'FULL TRUSTEE LIST'!C4764)","v":""}]
[{"$f":"IF('FULL TRUSTEE LIST'!B4765=\"\",\"\",'FULL TRUSTEE LIST'!B4765&\" \"&'FULL TRUSTEE LIST'!C4765)","v":""}]
[{"$f":"IF('FULL TRUSTEE LIST'!B4766=\"\",\"\",'FULL TRUSTEE LIST'!B4766&\" \"&'FULL TRUSTEE LIST'!C4766)","v":""}]
[{"$f":"IF('FULL TRUSTEE LIST'!B4767=\"\",\"\",'FULL TRUSTEE LIST'!B4767&\" \"&'FULL TRUSTEE LIST'!C4767)","v":""}]
[{"$f":"IF('FULL TRUSTEE LIST'!B4768=\"\",\"\",'FULL TRUSTEE LIST'!B4768&\" \"&'FULL TRUSTEE LIST'!C4768)","v":""}]
[{"$f":"IF('FULL TRUSTEE LIST'!B4769=\"\",\"\",'FULL TRUSTEE LIST'!B4769&\" \"&'FULL TRUSTEE LIST'!C4769)","v":""}]
[{"$f":"IF('FULL TRUSTEE LIST'!B4770=\"\",\"\",'FULL TRUSTEE LIST'!B4770&\" \"&'FULL TRUSTEE LIST'!C4770)","v":""}]
[{"$f":"IF('FULL TRUSTEE LIST'!B4771=\"\",\"\",'FULL TRUSTEE LIST'!B4771&\" \"&'FULL TRUSTEE LIST'!C4771)","v":""}]
[{"$f":"IF('FULL TRUSTEE LIST'!B4772=\"\",\"\",'FULL TRUSTEE LIST'!B4772&\" \"&'FULL TRUSTEE LIST'!C4772)","v":""}]
[{"$f":"IF('FULL TRUSTEE LIST'!B4773=\"\",\"\",'FULL TRUSTEE LIST'!B4773&\" \"&'FULL TRUSTEE LIST'!C4773)","v":""}]
[{"$f":"IF('FULL TRUSTEE LIST'!B4774=\"\",\"\",'FULL TRUSTEE LIST'!B4774&\" \"&'FULL TRUSTEE LIST'!C4774)","v":""}]
[{"$f":"IF('FULL TRUSTEE LIST'!B4775=\"\",\"\",'FULL TRUSTEE LIST'!B4775&\" \"&'FULL TRUSTEE LIST'!C4775)","v":""}]
[{"$f":"IF('FULL TRUSTEE LIST'!B4776=\"\",\"\",'FULL TRUSTEE LIST'!B4776&\" \"&'FULL TRUSTEE LIST'!C4776)","v":""}]
[{"$f":"IF('FULL TRUSTEE LIST'!B4777=\"\",\"\",'FULL TRUSTEE LIST'!B4777&\" \"&'FULL TRUSTEE LIST'!C4777)","v":""}]
[{"$f":"IF('FULL TRUSTEE LIST'!B4778=\"\",\"\",'FULL TRUSTEE LIST'!B4778&\" \"&'FULL TRUSTEE LIST'!C4778)","v":""}]
[{"$f":"IF('FULL TRUSTEE LIST'!B4779=\"\",\"\",'FULL TRUSTEE LIST'!B4779&\" \"&'FULL TRUSTEE LIST'!C4779)","v":""}]
[{"$f":"IF('FULL TRUSTEE LIST'!B4780=\"\",\"\",'FULL TRUSTEE LIST'!B4780&\" \"&'FULL TRUSTEE LIST'!C4780)","v":""}]
[{"$f":"IF('FULL TRUSTEE LIST'!B4781=\"\",\"\",'FULL TRUSTEE LIST'!B4781&\" \"&'FULL TRUSTEE LIST'!C4781)","v":""}]
[{"$f":"IF('FULL TRUSTEE LIST'!B4782=\"\",\"\",'FULL TRUSTEE LIST'!B4782&\" \"&'FULL TRUSTEE LIST'!C4782)","v":""}]
[{"$f":"IF('FULL TRUSTEE LIST'!B4783=\"\",\"\",'FULL TRUSTEE LIST'!B4783&\" \"&'FULL TRUSTEE LIST'!C4783)","v":""}]
[{"$f":"IF('FULL TRUSTEE LIST'!B4784=\"\",\"\",'FULL TRUSTEE LIST'!B4784&\" \"&'FULL TRUSTEE LIST'!C4784)","v":""}]
[{"$f":"IF('FULL TRUSTEE LIST'!B4785=\"\",\"\",'FULL TRUSTEE LIST'!B4785&\" \"&'FULL TRUSTEE LIST'!C4785)","v":""}]
[{"$f":"IF('FULL TRUSTEE LIST'!B4786=\"\",\"\",'FULL TRUSTEE LIST'!B4786&\" \"&'FULL TRUSTEE LIST'!C4786)","v":""}]
[{"$f":"IF('FULL TRUSTEE LIST'!B4787=\"\",\"\",'FULL TRUSTEE LIST'!B4787&\" \"&'FULL TRUSTEE LIST'!C4787)","v":""}]
[{"$f":"IF('FULL TRUSTEE LIST'!B4788=\"\",\"\",'FULL TRUSTEE LIST'!B4788&\" \"&'FULL TRUSTEE LIST'!C4788)","v":""}]
[{"$f":"IF('FULL TRUSTEE LIST'!B4789=\"\",\"\",'FULL TRUSTEE LIST'!B4789&\" \"&'FULL TRUSTEE LIST'!C4789)","v":""}]
[{"$f":"IF('FULL TRUSTEE LIST'!B4790=\"\",\"\",'FULL TRUSTEE LIST'!B4790&\" \"&'FULL TRUSTEE LIST'!C4790)","v":""}]
[{"$f":"IF('FULL TRUSTEE LIST'!B4791=\"\",\"\",'FULL TRUSTEE LIST'!B4791&\" \"&'FULL TRUSTEE LIST'!C4791)","v":""}]
[{"$f":"IF('FULL TRUSTEE LIST'!B4792=\"\",\"\",'FULL TRUSTEE LIST'!B4792&\" \"&'FULL TRUSTEE LIST'!C4792)","v":""}]
[{"$f":"IF('FULL TRUSTEE LIST'!B4793=\"\",\"\",'FULL TRUSTEE LIST'!B4793&\" \"&'FULL TRUSTEE LIST'!C4793)","v":""}]
[{"$f":"IF('FULL TRUSTEE LIST'!B4794=\"\",\"\",'FULL TRUSTEE LIST'!B4794&\" \"&'FULL TRUSTEE LIST'!C4794)","v":""}]
[{"$f":"IF('FULL TRUSTEE LIST'!B4795=\"\",\"\",'FULL TRUSTEE LIST'!B4795&\" \"&'FULL TRUSTEE LIST'!C4795)","v":""}]
[{"$f":"IF('FULL TRUSTEE LIST'!B4796=\"\",\"\",'FULL TRUSTEE LIST'!B4796&\" \"&'FULL TRUSTEE LIST'!C4796)","v":""}]
[{"$f":"IF('FULL TRUSTEE LIST'!B4797=\"\",\"\",'FULL TRUSTEE LIST'!B4797&\" \"&'FULL TRUSTEE LIST'!C4797)","v":""}]
[{"$f":"IF('FULL TRUSTEE LIST'!B4798=\"\",\"\",'FULL TRUSTEE LIST'!B4798&\" \"&'FULL TRUSTEE LIST'!C4798)","v":""}]
[{"$f":"IF('FULL TRUSTEE LIST'!B4799=\"\",\"\",'FULL TRUSTEE LIST'!B4799&\" \"&'FULL TRUSTEE LIST'!C4799)","v":""}]
[{"$f":"IF('FULL TRUSTEE LIST'!B4800=\"\",\"\",'FULL TRUSTEE LIST'!B4800&\" \"&'FULL TRUSTEE LIST'!C4800)","v":""}]
[{"$f":"IF('FULL TRUSTEE LIST'!B4801=\"\",\"\",'FULL TRUSTEE LIST'!B4801&\" \"&'FULL TRUSTEE LIST'!C4801)","v":""}]
[{"$f":"IF('FULL TRUSTEE LIST'!B4802=\"\",\"\",'FULL TRUSTEE LIST'!B4802&\" \"&'FULL TRUSTEE LIST'!C4802)","v":""}]
[{"$f":"IF('FULL TRUSTEE LIST'!B4803=\"\",\"\",'FULL TRUSTEE LIST'!B4803&\" \"&'FULL TRUSTEE LIST'!C4803)","v":""}]
[{"$f":"IF('FULL TRUSTEE LIST'!B4804=\"\",\"\",'FULL TRUSTEE LIST'!B4804&\" \"&'FULL TRUSTEE LIST'!C4804)","v":""}]
[{"$f":"IF('FULL TRUSTEE LIST'!B4805=\"\",\"\",'FULL TRUSTEE LIST'!B4805&\" \"&'FULL TRUSTEE LIST'!C4805)","v":""}]
[{"$f":"IF('FULL TRUSTEE LIST'!B4806=\"\",\"\",'FULL TRUSTEE LIST'!B4806&\" \"&'FULL TRUSTEE LIST'!C4806)","v":""}]
[{"$f":"IF('FULL TRUSTEE LIST'!B4807=\"\",\"\",'FULL TRUSTEE LIST'!B4807&\" \"&'FULL TRUSTEE LIST'!C4807)","v":""}]
[{"$f":"IF('FULL TRUSTEE LIST'!B4808=\"\",\"\",'FULL TRUSTEE LIST'!B4808&\" \"&'FULL TRUSTEE LIST'!C4808)","v":""}]
[{"$f":"IF('FULL TRUSTEE LIST'!B4809=\"\",\"\",'FULL TRUSTEE LIST'!B4809&\" \"&'FULL TRUSTEE LIST'!C4809)","v":""}]
[{"$f":"IF('FULL TRUSTEE LIST'!B4810=\"\",\"\",'FULL TRUSTEE LIST'!B4810&\" \"&'FULL TRUSTEE LIST'!C4810)","v":""}]
[{"$f":"IF('FULL TRUSTEE LIST'!B4811=\"\",\"\",'FULL TRUSTEE LIST'!B4811&\" \"&'FULL TRUSTEE LIST'!C4811)","v":""}]
[{"$f":"IF('FULL TRUSTEE LIST'!B4812=\"\",\"\",'FULL TRUSTEE LIST'!B4812&\" \"&'FULL TRUSTEE LIST'!C4812)","v":""}]
[{"$f":"IF('FULL TRUSTEE LIST'!B4813=\"\",\"\",'FULL TRUSTEE LIST'!B4813&\" \"&'FULL TRUSTEE LIST'!C4813)","v":""}]
[{"$f":"IF('FULL TRUSTEE LIST'!B4814=\"\",\"\",'FULL TRUSTEE LIST'!B4814&\" \"&'FULL TRUSTEE LIST'!C4814)","v":""}]
[{"$f":"IF('FULL TRUSTEE LIST'!B4815=\"\",\"\",'FULL TRUSTEE LIST'!B4815&\" \"&'FULL TRUSTEE LIST'!C4815)","v":""}]
[{"$f":"IF('FULL TRUSTEE LIST'!B4816=\"\",\"\",'FULL TRUSTEE LIST'!B4816&\" \"&'FULL TRUSTEE LIST'!C4816)","v":""}]
[{"$f":"IF('FULL TRUSTEE LIST'!B4817=\"\",\"\",'FULL TRUSTEE LIST'!B4817&\" \"&'FULL TRUSTEE LIST'!C4817)","v":""}]
[{"$f":"IF('FULL TRUSTEE LIST'!B4818=\"\",\"\",'FULL TRUSTEE LIST'!B4818&\" \"&'FULL TRUSTEE LIST'!C4818)","v":""}]
[{"$f":"IF('FULL TRUSTEE LIST'!B4819=\"\",\"\",'FULL TRUSTEE LIST'!B4819&\" \"&'FULL TRUSTEE LIST'!C4819)","v":""}]
[{"$f":"IF('FULL TRUSTEE LIST'!B4820=\"\",\"\",'FULL TRUSTEE LIST'!B4820&\" \"&'FULL TRUSTEE LIST'!C4820)","v":""}]
[{"$f":"IF('FULL TRUSTEE LIST'!B4821=\"\",\"\",'FULL TRUSTEE LIST'!B4821&\" \"&'FULL TRUSTEE LIST'!C4821)","v":""}]
[{"$f":"IF('FULL TRUSTEE LIST'!B4822=\"\",\"\",'FULL TRUSTEE LIST'!B4822&\" \"&'FULL TRUSTEE LIST'!C4822)","v":""}]
[{"$f":"IF('FULL TRUSTEE LIST'!B4823=\"\",\"\",'FULL TRUSTEE LIST'!B4823&\" \"&'FULL TRUSTEE LIST'!C4823)","v":""}]
[{"$f":"IF('FULL TRUSTEE LIST'!B4824=\"\",\"\",'FULL TRUSTEE LIST'!B4824&\" \"&'FULL TRUSTEE LIST'!C4824)","v":""}]
[{"$f":"IF('FULL TRUSTEE LIST'!B4825=\"\",\"\",'FULL TRUSTEE LIST'!B4825&\" \"&'FULL TRUSTEE LIST'!C4825)","v":""}]
[{"$f":"IF('FULL TRUSTEE LIST'!B4826=\"\",\"\",'FULL TRUSTEE LIST'!B4826&\" \"&'FULL TRUSTEE LIST'!C4826)","v":""}]
[{"$f":"IF('FULL TRUSTEE LIST'!B4827=\"\",\"\",'FULL TRUSTEE LIST'!B4827&\" \"&'FULL TRUSTEE LIST'!C4827)","v":""}]
[{"$f":"IF('FULL TRUSTEE LIST'!B4828=\"\",\"\",'FULL TRUSTEE LIST'!B4828&\" \"&'FULL TRUSTEE LIST'!C4828)","v":""}]
[{"$f":"IF('FULL TRUSTEE LIST'!B4829=\"\",\"\",'FULL TRUSTEE LIST'!B4829&\" \"&'FULL TRUSTEE LIST'!C4829)","v":""}]
[{"$f":"IF('FULL TRUSTEE LIST'!B4830=\"\",\"\",'FULL TRUSTEE LIST'!B4830&\" \"&'FULL TRUSTEE LIST'!C4830)","v":""}]
[{"$f":"IF('FULL TRUSTEE LIST'!B4831=\"\",\"\",'FULL TRUSTEE LIST'!B4831&\" \"&'FULL TRUSTEE LIST'!C4831)","v":""}]
[{"$f":"IF('FULL TRUSTEE LIST'!B4832=\"\",\"\",'FULL TRUSTEE LIST'!B4832&\" \"&'FULL TRUSTEE LIST'!C4832)","v":""}]
[{"$f":"IF('FULL TRUSTEE LIST'!B4833=\"\",\"\",'FULL TRUSTEE LIST'!B4833&\" \"&'FULL TRUSTEE LIST'!C4833)","v":""}]
[{"$f":"IF('FULL TRUSTEE LIST'!B4834=\"\",\"\",'FULL TRUSTEE LIST'!B4834&\" \"&'FULL TRUSTEE LIST'!C4834)","v":""}]
[{"$f":"IF('FULL TRUSTEE LIST'!B4835=\"\",\"\",'FULL TRUSTEE LIST'!B4835&\" \"&'FULL TRUSTEE LIST'!C4835)","v":""}]
[{"$f":"IF('FULL TRUSTEE LIST'!B4836=\"\",\"\",'FULL TRUSTEE LIST'!B4836&\" \"&'FULL TRUSTEE LIST'!C4836)","v":""}]
[{"$f":"IF('FULL TRUSTEE LIST'!B4837=\"\",\"\",'FULL TRUSTEE LIST'!B4837&\" \"&'FULL TRUSTEE LIST'!C4837)","v":""}]
[{"$f":"IF('FULL TRUSTEE LIST'!B4838=\"\",\"\",'FULL TRUSTEE LIST'!B4838&\" \"&'FULL TRUSTEE LIST'!C4838)","v":""}]
[{"$f":"IF('FULL TRUSTEE LIST'!B4839=\"\",\"\",'FULL TRUSTEE LIST'!B4839&\" \"&'FULL TRUSTEE LIST'!C4839)","v":""}]
[{"$f":"IF('FULL TRUSTEE LIST'!B4840=\"\",\"\",'FULL TRUSTEE LIST'!B4840&\" \"&'FULL TRUSTEE LIST'!C4840)","v":""}]
[{"$f":"IF('FULL TRUSTEE LIST'!B4841=\"\",\"\",'FULL TRUSTEE LIST'!B4841&\" \"&'FULL TRUSTEE LIST'!C4841)","v":""}]
[{"$f":"IF('FULL TRUSTEE LIST'!B4842=\"\",\"\",'FULL TRUSTEE LIST'!B4842&\" \"&'FULL TRUSTEE LIST'!C4842)","v":""}]
[{"$f":"IF('FULL TRUSTEE LIST'!B4843=\"\",\"\",'FULL TRUSTEE LIST'!B4843&\" \"&'FULL TRUSTEE LIST'!C4843)","v":""}]
[{"$f":"IF('FULL TRUSTEE LIST'!B4844=\"\",\"\",'FULL TRUSTEE LIST'!B4844&\" \"&'FULL TRUSTEE LIST'!C4844)","v":""}]
[{"$f":"IF('FULL TRUSTEE LIST'!B4845=\"\",\"\",'FULL TRUSTEE LIST'!B4845&\" \"&'FULL TRUSTEE LIST'!C4845)","v":""}]
[{"$f":"IF('FULL TRUSTEE LIST'!B4846=\"\",\"\",'FULL TRUSTEE LIST'!B4846&\" \"&'FULL TRUSTEE LIST'!C4846)","v":""}]
[{"$f":"IF('FULL TRUSTEE LIST'!B4847=\"\",\"\",'FULL TRUSTEE LIST'!B4847&\" \"&'FULL TRUSTEE LIST'!C4847)","v":""}]
[{"$f":"IF('FULL TRUSTEE LIST'!B4848=\"\",\"\",'FULL TRUSTEE LIST'!B4848&\" \"&'FULL TRUSTEE LIST'!C4848)","v":""}]
[{"$f":"IF('FULL TRUSTEE LIST'!B4849=\"\",\"\",'FULL TRUSTEE LIST'!B4849&\" \"&'FULL TRUSTEE LIST'!C4849)","v":""}]
[{"$f":"IF('FULL TRUSTEE LIST'!B4850=\"\",\"\",'FULL TRUSTEE LIST'!B4850&\" \"&'FULL TRUSTEE LIST'!C4850)","v":""}]
[{"$f":"IF('FULL TRUSTEE LIST'!B4851=\"\",\"\",'FULL TRUSTEE LIST'!B4851&\" \"&'FULL TRUSTEE LIST'!C4851)","v":""}]
[{"$f":"IF('FULL TRUSTEE LIST'!B4852=\"\",\"\",'FULL TRUSTEE LIST'!B4852&\" \"&'FULL TRUSTEE LIST'!C4852)","v":""}]
[{"$f":"IF('FULL TRUSTEE LIST'!B4853=\"\",\"\",'FULL TRUSTEE LIST'!B4853&\" \"&'FULL TRUSTEE LIST'!C4853)","v":""}]
[{"$f":"IF('FULL TRUSTEE LIST'!B4854=\"\",\"\",'FULL TRUSTEE LIST'!B4854&\" \"&'FULL TRUSTEE LIST'!C4854)","v":""}]
[{"$f":"IF('FULL TRUSTEE LIST'!B4855=\"\",\"\",'FULL TRUSTEE LIST'!B4855&\" \"&'FULL TRUSTEE LIST'!C4855)","v":""}]
[{"$f":"IF('FULL TRUSTEE LIST'!B4856=\"\",\"\",'FULL TRUSTEE LIST'!B4856&\" \"&'FULL TRUSTEE LIST'!C4856)","v":""}]
[{"$f":"IF('FULL TRUSTEE LIST'!B4857=\"\",\"\",'FULL TRUSTEE LIST'!B4857&\" \"&'FULL TRUSTEE LIST'!C4857)","v":""}]
[{"$f":"IF('FULL TRUSTEE LIST'!B4858=\"\",\"\",'FULL TRUSTEE LIST'!B4858&\" \"&'FULL TRUSTEE LIST'!C4858)","v":""}]
[{"$f":"IF('FULL TRUSTEE LIST'!B4859=\"\",\"\",'FULL TRUSTEE LIST'!B4859&\" \"&'FULL TRUSTEE LIST'!C4859)","v":""}]
[{"$f":"IF('FULL TRUSTEE LIST'!B4860=\"\",\"\",'FULL TRUSTEE LIST'!B4860&\" \"&'FULL TRUSTEE LIST'!C4860)","v":""}]
[{"$f":"IF('FULL TRUSTEE LIST'!B4861=\"\",\"\",'FULL TRUSTEE LIST'!B4861&\" \"&'FULL TRUSTEE LIST'!C4861)","v":""}]
[{"$f":"IF('FULL TRUSTEE LIST'!B4862=\"\",\"\",'FULL TRUSTEE LIST'!B4862&\" \"&'FULL TRUSTEE LIST'!C4862)","v":""}]
[{"$f":"IF('FULL TRUSTEE LIST'!B4863=\"\",\"\",'FULL TRUSTEE LIST'!B4863&\" \"&'FULL TRUSTEE LIST'!C4863)","v":""}]
[{"$f":"IF('FULL TRUSTEE LIST'!B4864=\"\",\"\",'FULL TRUSTEE LIST'!B4864&\" \"&'FULL TRUSTEE LIST'!C4864)","v":""}]
[{"$f":"IF('FULL TRUSTEE LIST'!B4865=\"\",\"\",'FULL TRUSTEE LIST'!B4865&\" \"&'FULL TRUSTEE LIST'!C4865)","v":""}]
[{"$f":"IF('FULL TRUSTEE LIST'!B4866=\"\",\"\",'FULL TRUSTEE LIST'!B4866&\" \"&'FULL TRUSTEE LIST'!C4866)","v":""}]
[{"$f":"IF('FULL TRUSTEE LIST'!B4867=\"\",\"\",'FULL TRUSTEE LIST'!B4867&\" \"&'FULL TRUSTEE LIST'!C4867)","v":""}]
[{"$f":"IF('FULL TRUSTEE LIST'!B4868=\"\",\"\",'FULL TRUSTEE LIST'!B4868&\" \"&'FULL TRUSTEE LIST'!C4868)","v":""}]
[{"$f":"IF('FULL TRUSTEE LIST'!B4869=\"\",\"\",'FULL TRUSTEE LIST'!B4869&\" \"&'FULL TRUSTEE LIST'!C4869)","v":""}]
[{"$f":"IF('FULL TRUSTEE LIST'!B4870=\"\",\"\",'FULL TRUSTEE LIST'!B4870&\" \"&'FULL TRUSTEE LIST'!C4870)","v":""}]
[{"$f":"IF('FULL TRUSTEE LIST'!B4871=\"\",\"\",'FULL TRUSTEE LIST'!B4871&\" \"&'FULL TRUSTEE LIST'!C4871)","v":""}]
[{"$f":"IF('FULL TRUSTEE LIST'!B4872=\"\",\"\",'FULL TRUSTEE LIST'!B4872&\" \"&'FULL TRUSTEE LIST'!C4872)","v":""}]
[{"$f":"IF('FULL TRUSTEE LIST'!B4873=\"\",\"\",'FULL TRUSTEE LIST'!B4873&\" \"&'FULL TRUSTEE LIST'!C4873)","v":""}]
[{"$f":"IF('FULL TRUSTEE LIST'!B4874=\"\",\"\",'FULL TRUSTEE LIST'!B4874&\" \"&'FULL TRUSTEE LIST'!C4874)","v":""}]
[{"$f":"IF('FULL TRUSTEE LIST'!B4875=\"\",\"\",'FULL TRUSTEE LIST'!B4875&\" \"&'FULL TRUSTEE LIST'!C4875)","v":""}]
[{"$f":"IF('FULL TRUSTEE LIST'!B4876=\"\",\"\",'FULL TRUSTEE LIST'!B4876&\" \"&'FULL TRUSTEE LIST'!C4876)","v":""}]
[{"$f":"IF('FULL TRUSTEE LIST'!B4877=\"\",\"\",'FULL TRUSTEE LIST'!B4877&\" \"&'FULL TRUSTEE LIST'!C4877)","v":""}]
[{"$f":"IF('FULL TRUSTEE LIST'!B4878=\"\",\"\",'FULL TRUSTEE LIST'!B4878&\" \"&'FULL TRUSTEE LIST'!C4878)","v":""}]
[{"$f":"IF('FULL TRUSTEE LIST'!B4879=\"\",\"\",'FULL TRUSTEE LIST'!B4879&\" \"&'FULL TRUSTEE LIST'!C4879)","v":""}]
[{"$f":"IF('FULL TRUSTEE LIST'!B4880=\"\",\"\",'FULL TRUSTEE LIST'!B4880&\" \"&'FULL TRUSTEE LIST'!C4880)","v":""}]
[{"$f":"IF('FULL TRUSTEE LIST'!B4881=\"\",\"\",'FULL TRUSTEE LIST'!B4881&\" \"&'FULL TRUSTEE LIST'!C4881)","v":""}]
[{"$f":"IF('FULL TRUSTEE LIST'!B4882=\"\",\"\",'FULL TRUSTEE LIST'!B4882&\" \"&'FULL TRUSTEE LIST'!C4882)","v":""}]
[{"$f":"IF('FULL TRUSTEE LIST'!B4883=\"\",\"\",'FULL TRUSTEE LIST'!B4883&\" \"&'FULL TRUSTEE LIST'!C4883)","v":""}]
[{"$f":"IF('FULL TRUSTEE LIST'!B4884=\"\",\"\",'FULL TRUSTEE LIST'!B4884&\" \"&'FULL TRUSTEE LIST'!C4884)","v":""}]
[{"$f":"IF('FULL TRUSTEE LIST'!B4885=\"\",\"\",'FULL TRUSTEE LIST'!B4885&\" \"&'FULL TRUSTEE LIST'!C4885)","v":""}]
[{"$f":"IF('FULL TRUSTEE LIST'!B4886=\"\",\"\",'FULL TRUSTEE LIST'!B4886&\" \"&'FULL TRUSTEE LIST'!C4886)","v":""}]
[{"$f":"IF('FULL TRUSTEE LIST'!B4887=\"\",\"\",'FULL TRUSTEE LIST'!B4887&\" \"&'FULL TRUSTEE LIST'!C4887)","v":""}]
[{"$f":"IF('FULL TRUSTEE LIST'!B4888=\"\",\"\",'FULL TRUSTEE LIST'!B4888&\" \"&'FULL TRUSTEE LIST'!C4888)","v":""}]
[{"$f":"IF('FULL TRUSTEE LIST'!B4889=\"\",\"\",'FULL TRUSTEE LIST'!B4889&\" \"&'FULL TRUSTEE LIST'!C4889)","v":""}]
[{"$f":"IF('FULL TRUSTEE LIST'!B4890=\"\",\"\",'FULL TRUSTEE LIST'!B4890&\" \"&'FULL TRUSTEE LIST'!C4890)","v":""}]
[{"$f":"IF('FULL TRUSTEE LIST'!B4891=\"\",\"\",'FULL TRUSTEE LIST'!B4891&\" \"&'FULL TRUSTEE LIST'!C4891)","v":""}]
[{"$f":"IF('FULL TRUSTEE LIST'!B4892=\"\",\"\",'FULL TRUSTEE LIST'!B4892&\" \"&'FULL TRUSTEE LIST'!C4892)","v":""}]
[{"$f":"IF('FULL TRUSTEE LIST'!B4893=\"\",\"\",'FULL TRUSTEE LIST'!B4893&\" \"&'FULL TRUSTEE LIST'!C4893)","v":""}]
[{"$f":"IF('FULL TRUSTEE LIST'!B4894=\"\",\"\",'FULL TRUSTEE LIST'!B4894&\" \"&'FULL TRUSTEE LIST'!C4894)","v":""}]
[{"$f":"IF('FULL TRUSTEE LIST'!B4895=\"\",\"\",'FULL TRUSTEE LIST'!B4895&\" \"&'FULL TRUSTEE LIST'!C4895)","v":""}]
[{"$f":"IF('FULL TRUSTEE LIST'!B4896=\"\",\"\",'FULL TRUSTEE LIST'!B4896&\" \"&'FULL TRUSTEE LIST'!C4896)","v":""}]
[{"$f":"IF('FULL TRUSTEE LIST'!B4897=\"\",\"\",'FULL TRUSTEE LIST'!B4897&\" \"&'FULL TRUSTEE LIST'!C4897)","v":""}]
[{"$f":"IF('FULL TRUSTEE LIST'!B4898=\"\",\"\",'FULL TRUSTEE LIST'!B4898&\" \"&'FULL TRUSTEE LIST'!C4898)","v":""}]